{"text_format":"1","workbook":"xlsx","n_sheets":15,"sheets":["HM","WPP","KSP","FSP","PS","LP","BPBPS","SSGP","Sammler","D","Ergebnisse","Ergebnisse Preis","Schnüre","Info","Kasse"],"not_rendered":{"charts":0,"images":40,"macros":1,"external_links":0,"defined_names":11,"comments":0,"pivot_tables":0},"unopened":[],"bounds":{"document_bytes":16777216,"sheet_cells":100000,"rows_first":2000,"rows_last":500,"rows_between":2000,"halvings":0,"cell_chars":16384,"cell_head_chars":4096},"cells_cut":0,"cells_raw":0,"read":"whole","date_system":"1900"}

{"sheet":"HM","index":0,"n_rows":253,"n_cols":19,"rows_kept":253,"cut":false,"hidden":false,"merged":[[4,4,6,13],[0,0,0,1],[247,3,247,4],[246,3,246,4],[239,3,239,4],[240,3,240,4],[216,3,216,4],[217,3,217,6],[212,5,212,6],[214,3,214,4],[213,5,213,6],[214,5,214,6],[215,3,215,4],[215,5,215,6],[211,3,211,4],[211,5,211,6],[211,7,211,8],[212,3,212,4],[213,3,213,4],[216,5,216,6],[233,1,233,4],[254,3,254,4],[235,3,235,4],[236,3,236,4],[237,3,237,4],[238,3,238,4],[248,3,248,4],[249,3,249,4],[243,3,243,4],[244,3,244,4],[245,3,245,4],[251,3,251,4],[250,3,250,4],[252,3,252,4],[253,3,253,4],[241,3,241,4],[242,3,242,4]]}
["© 2010 - Rolf Marquardt"]
[]
[]
[]
[null,null,null,null,{"$f":"CONCATENATE(\"Abschießen\",\" \",TEXT(TODAY(),\"JJJJ\"))","v":"Abschießen 2018"}]
[]
[]
[]
["Lfd.\nNr.:","Vor- und Nachname:",null,"Munition \"RWS\"","Munition \"2. Wahl\"","Wittkowskipokal","Peperpokal","Königspokal (Jugend bis 18 Jahre)","Schülerpokal (bis 14 Jahre) = Frei","Freihandpokal (ab 16 Jahre)","Schimmelpfennigpokal (16 bis 21 Jahre)","Luftpistole","Preisschießen KK","Preisschießen KK (nachgelöst)","Preisschießen LG bis 18 Jahre (Satzweise)","Sauenschießen","Sauenschießen (nachgelöst)","Glückspreisschießen (ohne Limit)","    Summe"]
[1,null,null,null,null,null,null,null,null,null,null,null,null,null,null,null,null,null,{"$f":"IF(B10=\"\",\"\",SUM(D10*$D$236)+SUM(E10*$D$237)+SUM(F10*$D$238)+SUM(G10*$D$239)+SUM(H10*$D$240)+SUM(I10*$D$241)+SUM(J10*$D$242)+SUM(K10*$D$243)+SUM(L10*$D$244)+SUM(M10*$D$247)+SUM(N10*$D$248)+SUM(O10*$D$249)+SUM(P10*$D$251)+SUM(Q10*$D$252)+SUM(R10*$D$253))","v":""}]
[2,null,null,null,null,null,null,null,null,null,null,null,null,null,null,null,null,null,{"$f":"IF(B11=\"\",\"\",SUM(D11*$D$236)+SUM(E11*$D$237)+SUM(F11*$D$238)+SUM(G11*$D$239)+SUM(H11*$D$240)+SUM(I11*$D$241)+SUM(J11*$D$242)+SUM(K11*$D$243)+SUM(L11*$D$244)+SUM(M11*$D$247)+SUM(N11*$D$248)+SUM(O11*$D$249)+SUM(P11*$D$251)+SUM(Q11*$D$252)+SUM(R11*$D$253))","v":""}]
[3,null,null,null,null,null,null,null,null,null,null,null,null,null,null,null,null,null,""]
[4,null,null,null,null,null,null,null,null,null,null,null,null,null,null,null,null,null,""]
[5,null,null,null,null,null,null,null,null,null,null,null,null,null,null,null,null,null,""]
[6,null,null,null,null,null,null,null,null,null,null,null,null,null,null,null,null,null,""]
[7,null,null,null,null,null,null,null,null,null,null,null,null,null,null,null,null,null,""]
[8,null,null,null,null,null,null,null,null,null,null,null,null,null,null,null,null,null,""]
[9,null,null,null,null,null,null,null,null,null,null,null,null,null,null,null,null,null,""]
[10,null,null,null,null,null,null,null,null,null,null,null,null,null,null,null,null,null,""]
[11,null,null,null,null,null,null,null,null,null,null,null,null,null,null,null,null,null,""]
[12,null,null,null,null,null,null,null,null,null,null,null,null,null,null,null,null,null,""]
[13,null,null,null,null,null,null,null,null,null,null,null,null,null,null,null,null,null,""]
[14,null,null,null,null,null,null,null,null,null,null,null,null,null,null,null,null,null,""]
[15,null,null,null,null,null,null,null,null,null,null,null,null,null,null,null,null,null,""]
[16,null,null,null,null,null,null,null,null,null,null,null,null,null,null,null,null,null,""]
[17,null,null,null,null,null,null,null,null,null,null,null,null,null,null,null,null,null,""]
[18,null,null,null,null,null,null,null,null,null,null,null,null,null,null,null,null,null,""]
[19,null,null,null,null,null,null,null,null,null,null,null,null,null,null,null,null,null,""]
[20,null,null,null,null,null,null,null,null,null,null,null,null,null,null,null,null,null,""]
[21,null,null,null,null,null,null,null,null,null,null,null,null,null,null,null,null,null,""]
[22,null,null,null,null,null,null,null,null,null,null,null,null,null,null,null,null,null,""]
[23,null,null,null,null,null,null,null,null,null,null,null,null,null,null,null,null,null,""]
[24,null,null,null,null,null,null,null,null,null,null,null,null,null,null,null,null,null,""]
[25,null,null,null,null,null,null,null,null,null,null,null,null,null,null,null,null,null,""]
[26,null,null,null,null,null,null,null,null,null,null,null,null,null,null,null,null,null,""]
[27,null,null,null,null,null,null,null,null,null,null,null,null,null,null,null,null,null,""]
[28,null,null,null,null,null,null,null,null,null,null,null,null,null,null,null,null,null,""]
[29,null,null,null,null,null,null,null,null,null,null,null,null,null,null,null,null,null,""]
[30,null,null,null,null,null,null,null,null,null,null,null,null,null,null,null,null,null,""]
[31,null,null,null,null,null,null,null,null,null,null,null,null,null,null,null,null,null,""]
[32,null,null,null,null,null,null,null,null,null,null,null,null,null,null,null,null,null,""]
[33,null,null,null,null,null,null,null,null,null,null,null,null,null,null,null,null,null,""]
[34,null,null,null,null,null,null,null,null,null,null,null,null,null,null,null,null,null,""]
[35,null,null,null,null,null,null,null,null,null,null,null,null,null,null,null,null,null,""]
[36,null,null,null,null,null,null,null,null,null,null,null,null,null,null,null,null,null,""]
[37,null,null,null,null,null,null,null,null,null,null,null,null,null,null,null,null,null,""]
[38,null,null,null,null,null,null,null,null,null,null,null,null,null,null,null,null,null,""]
[39,null,null,null,null,null,null,null,null,null,null,null,null,null,null,null,null,null,""]
[40,null,null,null,null,null,null,null,null,null,null,null,null,null,null,null,null,null,""]
[41,null,null,null,null,null,null,null,null,null,null,null,null,null,null,null,null,null,""]
[42,null,null,null,null,null,null,null,null,null,null,null,null,null,null,null,null,null,""]
[43,null,null,null,null,null,null,null,null,null,null,null,null,null,null,null,null,null,""]
[44,null,null,null,null,null,null,null,null,null,null,null,null,null,null,null,null,null,""]
[45,null,null,null,null,null,null,null,null,null,null,null,null,null,null,null,null,null,""]
[46,null,null,null,null,null,null,null,null,null,null,null,null,null,null,null,null,null,""]
[47,null,null,null,null,null,null,null,null,null,null,null,null,null,null,null,null,null,""]
[48,null,null,null,null,null,null,null,null,null,null,null,null,null,null,null,null,null,""]
[49,null,null,null,null,null,null,null,null,null,null,null,null,null,null,null,null,null,""]
[50,null,null,null,null,null,null,null,null,null,null,null,null,null,null,null,null,null,""]
[51,null,null,null,null,null,null,null,null,null,null,null,null,null,null,null,null,null,""]
[52,null,null,null,null,null,null,null,null,null,null,null,null,null,null,null,null,null,""]
[53,null,null,null,null,null,null,null,null,null,null,null,null,null,null,null,null,null,""]
[54,null,null,null,null,null,null,null,null,null,null,null,null,null,null,null,null,null,""]
[55,null,null,null,null,null,null,null,null,null,null,null,null,null,null,null,null,null,""]
[56,null,null,null,null,null,null,null,null,null,null,null,null,null,null,null,null,null,""]
[57,null,null,null,null,null,null,null,null,null,null,null,null,null,null,null,null,null,""]
[58,null,null,null,null,null,null,null,null,null,null,null,null,null,null,null,null,null,""]
[59,null,null,null,null,null,null,null,null,null,null,null,null,null,null,null,null,null,""]
[60,null,null,null,null,null,null,null,null,null,null,null,null,null,null,null,null,null,""]
[61,null,null,null,null,null,null,null,null,null,null,null,null,null,null,null,null,null,""]
[62,null,null,null,null,null,null,null,null,null,null,null,null,null,null,null,null,null,""]
[63,null,null,null,null,null,null,null,null,null,null,null,null,null,null,null,null,null,""]
[64,null,null,null,null,null,null,null,null,null,null,null,null,null,null,null,null,null,""]
[65,null,null,null,null,null,null,null,null,null,null,null,null,null,null,null,null,null,""]
[66,null,null,null,null,null,null,null,null,null,null,null,null,null,null,null,null,null,{"$f":"IF(B75=\"\",\"\",SUM(D75*$D$236)+SUM(E75*$D$237)+SUM(F75*$D$238)+SUM(G75*$D$239)+SUM(H75*$D$240)+SUM(I75*$D$241)+SUM(J75*$D$242)+SUM(K75*$D$243)+SUM(L75*$D$244)+SUM(M75*$D$247)+SUM(N75*$D$248)+SUM(O75*$D$249)+SUM(P75*$D$251)+SUM(Q75*$D$252)+SUM(R75*$D$253))","v":""}]
[67,null,null,null,null,null,null,null,null,null,null,null,null,null,null,null,null,null,""]
[68,null,null,null,null,null,null,null,null,null,null,null,null,null,null,null,null,null,""]
[69,null,null,null,null,null,null,null,null,null,null,null,null,null,null,null,null,null,""]
[70,null,null,null,null,null,null,null,null,null,null,null,null,null,null,null,null,null,""]
[71,null,null,null,null,null,null,null,null,null,null,null,null,null,null,null,null,null,""]
[72,null,null,null,null,null,null,null,null,null,null,null,null,null,null,null,null,null,""]
[73,null,null,null,null,null,null,null,null,null,null,null,null,null,null,null,null,null,""]
[74,null,null,null,null,null,null,null,null,null,null,null,null,null,null,null,null,null,""]
[75,null,null,null,null,null,null,null,null,null,null,null,null,null,null,null,null,null,""]
[76,null,null,null,null,null,null,null,null,null,null,null,null,null,null,null,null,null,""]
[77,null,null,null,null,null,null,null,null,null,null,null,null,null,null,null,null,null,""]
[78,null,null,null,null,null,null,null,null,null,null,null,null,null,null,null,null,null,""]
[79,null,null,null,null,null,null,null,null,null,null,null,null,null,null,null,null,null,""]
[80,null,null,null,null,null,null,null,null,null,null,null,null,null,null,null,null,null,""]
[81,null,null,null,null,null,null,null,null,null,null,null,null,null,null,null,null,null,""]
[82,null,null,null,null,null,null,null,null,null,null,null,null,null,null,null,null,null,""]
[83,null,null,null,null,null,null,null,null,null,null,null,null,null,null,null,null,null,""]
[84,null,null,null,null,null,null,null,null,null,null,null,null,null,null,null,null,null,""]
[85,null,null,null,null,null,null,null,null,null,null,null,null,null,null,null,null,null,""]
[86,null,null,null,null,null,null,null,null,null,null,null,null,null,null,null,null,null,""]
[87,null,null,null,null,null,null,null,null,null,null,null,null,null,null,null,null,null,""]
[88,null,null,null,null,null,null,null,null,null,null,null,null,null,null,null,null,null,""]
[89,null,null,null,null,null,null,null,null,null,null,null,null,null,null,null,null,null,""]
[90,null,null,null,null,null,null,null,null,null,null,null,null,null,null,null,null,null,""]
[91,null,null,null,null,null,null,null,null,null,null,null,null,null,null,null,null,null,""]
[92,null,null,null,null,null,null,null,null,null,null,null,null,null,null,null,null,null,""]
[93,null,null,null,null,null,null,null,null,null,null,null,null,null,null,null,null,null,""]
[94,null,null,null,null,null,null,null,null,null,null,null,null,null,null,null,null,null,""]
[95,null,null,null,null,null,null,null,null,null,null,null,null,null,null,null,null,null,""]
[96,null,null,null,null,null,null,null,null,null,null,null,null,null,null,null,null,null,""]
[97,null,null,null,null,null,null,null,null,null,null,null,null,null,null,null,null,null,""]
[98,null,null,null,null,null,null,null,null,null,null,null,null,null,null,null,null,null,""]
[99,null,null,null,null,null,null,null,null,null,null,null,null,null,null,null,null,null,""]
[100,null,null,null,null,null,null,null,null,null,null,null,null,null,null,null,null,null,""]
[101,null,null,null,null,null,null,null,null,null,null,null,null,null,null,null,null,null,""]
[102,null,null,null,null,null,null,null,null,null,null,null,null,null,null,null,null,null,""]
[103,null,null,null,null,null,null,null,null,null,null,null,null,null,null,null,null,null,""]
[104,null,null,null,null,null,null,null,null,null,null,null,null,null,null,null,null,null,""]
[105,null,null,null,null,null,null,null,null,null,null,null,null,null,null,null,null,null,""]
[106,null,null,null,null,null,null,null,null,null,null,null,null,null,null,null,null,null,""]
[107,null,null,null,null,null,null,null,null,null,null,null,null,null,null,null,null,null,""]
[108,null,null,null,null,null,null,null,null,null,null,null,null,null,null,null,null,null,""]
[109,null,null,null,null,null,null,null,null,null,null,null,null,null,null,null,null,null,""]
[110,null,null,null,null,null,null,null,null,null,null,null,null,null,null,null,null,null,""]
[111,null,null,null,null,null,null,null,null,null,null,null,null,null,null,null,null,null,""]
[112,null,null,null,null,null,null,null,null,null,null,null,null,null,null,null,null,null,""]
[113,null,null,null,null,null,null,null,null,null,null,null,null,null,null,null,null,null,""]
[114,null,null,null,null,null,null,null,null,null,null,null,null,null,null,null,null,null,""]
[115,null,null,null,null,null,null,null,null,null,null,null,null,null,null,null,null,null,""]
[116,null,null,null,null,null,null,null,null,null,null,null,null,null,null,null,null,null,""]
[117,null,null,null,null,null,null,null,null,null,null,null,null,null,null,null,null,null,""]
[118,null,null,null,null,null,null,null,null,null,null,null,null,null,null,null,null,null,""]
[119,null,null,null,null,null,null,null,null,null,null,null,null,null,null,null,null,null,""]
[120,null,null,null,null,null,null,null,null,null,null,null,null,null,null,null,null,null,""]
[121,null,null,null,null,null,null,null,null,null,null,null,null,null,null,null,null,null,""]
[122,null,null,null,null,null,null,null,null,null,null,null,null,null,null,null,null,null,""]
[123,null,null,null,null,null,null,null,null,null,null,null,null,null,null,null,null,null,""]
[124,null,null,null,null,null,null,null,null,null,null,null,null,null,null,null,null,null,""]
[125,null,null,null,null,null,null,null,null,null,null,null,null,null,null,null,null,null,""]
[126,null,null,null,null,null,null,null,null,null,null,null,null,null,null,null,null,null,""]
[127,null,null,null,null,null,null,null,null,null,null,null,null,null,null,null,null,null,""]
[128,null,null,null,null,null,null,null,null,null,null,null,null,null,null,null,null,null,""]
[129,null,null,null,null,null,null,null,null,null,null,null,null,null,null,null,null,null,""]
[130,null,null,null,null,null,null,null,null,null,null,null,null,null,null,null,null,null,{"$f":"IF(B139=\"\",\"\",SUM(D139*$D$236)+SUM(E139*$D$237)+SUM(F139*$D$238)+SUM(G139*$D$239)+SUM(H139*$D$240)+SUM(I139*$D$241)+SUM(J139*$D$242)+SUM(K139*$D$243)+SUM(L139*$D$244)+SUM(M139*$D$247)+SUM(N139*$D$248)+SUM(O139*$D$249)+SUM(P139*$D$251)+SUM(Q139*$D$252)+SUM(R139*$D$253))","v":""}]
[131,null,null,null,null,null,null,null,null,null,null,null,null,null,null,null,null,null,""]
[132,null,null,null,null,null,null,null,null,null,null,null,null,null,null,null,null,null,""]
[133,null,null,null,null,null,null,null,null,null,null,null,null,null,null,null,null,null,""]
[134,null,null,null,null,null,null,null,null,null,null,null,null,null,null,null,null,null,""]
[135,null,null,null,null,null,null,null,null,null,null,null,null,null,null,null,null,null,""]
[136,null,null,null,null,null,null,null,null,null,null,null,null,null,null,null,null,null,""]
[137,null,null,null,null,null,null,null,null,null,null,null,null,null,null,null,null,null,""]
[138,null,null,null,null,null,null,null,null,null,null,null,null,null,null,null,null,null,""]
[139,null,null,null,null,null,null,null,null,null,null,null,null,null,null,null,null,null,""]
[140,null,null,null,null,null,null,null,null,null,null,null,null,null,null,null,null,null,""]
[141,null,null,null,null,null,null,null,null,null,null,null,null,null,null,null,null,null,""]
[142,null,null,null,null,null,null,null,null,null,null,null,null,null,null,null,null,null,""]
[143,null,null,null,null,null,null,null,null,null,null,null,null,null,null,null,null,null,""]
[144,null,null,null,null,null,null,null,null,null,null,null,null,null,null,null,null,null,""]
[145,null,null,null,null,null,null,null,null,null,null,null,null,null,null,null,null,null,""]
[146,null,null,null,null,null,null,null,null,null,null,null,null,null,null,null,null,null,""]
[147,null,null,null,null,null,null,null,null,null,null,null,null,null,null,null,null,null,""]
[148,null,null,null,null,null,null,null,null,null,null,null,null,null,null,null,null,null,""]
[149,null,null,null,null,null,null,null,null,null,null,null,null,null,null,null,null,null,""]
[150,null,null,null,null,null,null,null,null,null,null,null,null,null,null,null,null,null,""]
[151,null,null,null,null,null,null,null,null,null,null,null,null,null,null,null,null,null,""]
[152,null,null,null,null,null,null,null,null,null,null,null,null,null,null,null,null,null,""]
[153,null,null,null,null,null,null,null,null,null,null,null,null,null,null,null,null,null,""]
[154,null,null,null,null,null,null,null,null,null,null,null,null,null,null,null,null,null,""]
[155,null,null,null,null,null,null,null,null,null,null,null,null,null,null,null,null,null,""]
[156,null,null,null,null,null,null,null,null,null,null,null,null,null,null,null,null,null,""]
[157,null,null,null,null,null,null,null,null,null,null,null,null,null,null,null,null,null,""]
[158,null,null,null,null,null,null,null,null,null,null,null,null,null,null,null,null,null,""]
[159,null,null,null,null,null,null,null,null,null,null,null,null,null,null,null,null,null,""]
[160,null,null,null,null,null,null,null,null,null,null,null,null,null,null,null,null,null,""]
[161,null,null,null,null,null,null,null,null,null,null,null,null,null,null,null,null,null,""]
[162,null,null,null,null,null,null,null,null,null,null,null,null,null,null,null,null,null,""]
[163,null,null,null,null,null,null,null,null,null,null,null,null,null,null,null,null,null,""]
[164,null,null,null,null,null,null,null,null,null,null,null,null,null,null,null,null,null,""]
[165,null,null,null,null,null,null,null,null,null,null,null,null,null,null,null,null,null,""]
[166,null,null,null,null,null,null,null,null,null,null,null,null,null,null,null,null,null,""]
[167,null,null,null,null,null,null,null,null,null,null,null,null,null,null,null,null,null,""]
[168,null,null,null,null,null,null,null,null,null,null,null,null,null,null,null,null,null,""]
[169,null,null,null,null,null,null,null,null,null,null,null,null,null,null,null,null,null,""]
[170,null,null,null,null,null,null,null,null,null,null,null,null,null,null,null,null,null,""]
[171,null,null,null,null,null,null,null,null,null,null,null,null,null,null,null,null,null,""]
[172,null,null,null,null,null,null,null,null,null,null,null,null,null,null,null,null,null,""]
[173,null,null,null,null,null,null,null,null,null,null,null,null,null,null,null,null,null,""]
[174,null,null,null,null,null,null,null,null,null,null,null,null,null,null,null,null,null,""]
[175,null,null,null,null,null,null,null,null,null,null,null,null,null,null,null,null,null,""]
[176,null,null,null,null,null,null,null,null,null,null,null,null,null,null,null,null,null,""]
[177,null,null,null,null,null,null,null,null,null,null,null,null,null,null,null,null,null,""]
[178,null,null,null,null,null,null,null,null,null,null,null,null,null,null,null,null,null,""]
[179,null,null,null,null,null,null,null,null,null,null,null,null,null,null,null,null,null,""]
[180,null,null,null,null,null,null,null,null,null,null,null,null,null,null,null,null,null,""]
[181,null,null,null,null,null,null,null,null,null,null,null,null,null,null,null,null,null,""]
[182,null,null,null,null,null,null,null,null,null,null,null,null,null,null,null,null,null,""]
[183,null,null,null,null,null,null,null,null,null,null,null,null,null,null,null,null,null,""]
[184,null,null,null,null,null,null,null,null,null,null,null,null,null,null,null,null,null,""]
[185,null,null,null,null,null,null,null,null,null,null,null,null,null,null,null,null,null,""]
[186,null,null,null,null,null,null,null,null,null,null,null,null,null,null,null,null,null,""]
[187,null,null,null,null,null,null,null,null,null,null,null,null,null,null,null,null,null,""]
[188,null,null,null,null,null,null,null,null,null,null,null,null,null,null,null,null,null,""]
[189,null,null,null,null,null,null,null,null,null,null,null,null,null,null,null,null,null,""]
[190,null,null,null,null,null,null,null,null,null,null,null,null,null,null,null,null,null,""]
[191,null,null,null,null,null,null,null,null,null,null,null,null,null,null,null,null,null,""]
[192,null,null,null,null,null,null,null,null,null,null,null,null,null,null,null,null,null,""]
[193,null,null,null,null,null,null,null,null,null,null,null,null,null,null,null,null,null,""]
[194,null,null,null,null,null,null,null,null,null,null,null,null,null,null,null,null,null,{"$f":"IF(B203=\"\",\"\",SUM(D203*$D$236)+SUM(E203*$D$237)+SUM(F203*$D$238)+SUM(G203*$D$239)+SUM(H203*$D$240)+SUM(I203*$D$241)+SUM(J203*$D$242)+SUM(K203*$D$243)+SUM(L203*$D$244)+SUM(M203*$D$247)+SUM(N203*$D$248)+SUM(O203*$D$249)+SUM(P203*$D$251)+SUM(Q203*$D$252)+SUM(R203*$D$253))","v":""}]
[195,null,null,null,null,null,null,null,null,null,null,null,null,null,null,null,null,null,""]
[196,null,null,null,null,null,null,null,null,null,null,null,null,null,null,null,null,null,""]
[197,null,null,null,null,null,null,null,null,null,null,null,null,null,null,null,null,null,""]
[198,null,null,null,null,null,null,null,null,null,null,null,null,null,null,null,null,null,""]
[199,null,null,null,null,null,null,null,null,null,null,null,null,null,null,null,null,null,""]
[200,null,null,null,null,null,null,null,null,null,null,null,null,null,null,null,null,null,""]
[]
[null,"Summen:",null,{"$f":"SUM(D10:D209)","v":0},{"$f":"SUM(E10:E209)","v":0},0,0,0,0,0,0,0,0,0,0,0,0,{"$f":"SUM(R10:R209)","v":0}]
[]
[null,"Einnahmen Munition",null,{"$f":"SUM(D211*$D$236)+SUM(E211*$D$237)","v":0},null,60]
[null,"Einnahmen Preisschießen KK",null,{"$f":"SUM(M211*$D$247)+SUM(N211*$D$248)","v":0},null,{"$f":"D214*$F$213/100","v":0}]
[null,"Einnahmen Preisschießen LG",null,{"$f":"SUM(O211*$D$249)","v":0},null,{"$f":"D215*$F$213/100","v":0}]
[null,"Einnahmen Sauenschießen",null,{"$f":"SUM(P211*$D$251)+SUM(Q211*$D$252)","v":0},null,{"$f":"D216*$F$213/100","v":0}]
[null,"Einnahmen Glückspreisschießen",null,{"$f":"SUM(R211*$D$253)","v":0},null,{"$f":"D217*$F$213/100","v":0}]
[null,"Einnahmen gesamt",null,{"$f":"SUM(S10:S209)","v":0}]
[]
[]
[]
[]
[]
[]
[]
[]
[]
[]
[]
[]
[]
[]
[]
[null,"Preise"]
[null,{"$f":"TODAY()","v":"2018-10-23"}]
[null,"Munition \"RWS\"",null,6]
[null,"Munition \"2. Wahl\"",null,6]
[null,"Wittkowskipokal",null,2]
[null,"Peperpokal",null,2]
[null,"Königspokal",null,1.5]
[null,"Schülerpokal",null,0]
[null,"Freihandpokal",null,2]
[null,"Schimmelpfennigpokal",null,2]
[null,"Luftpistole",null,2]
[]
[]
[null,"Preisschießen KK",null,8]
[null,"Preisschießen KK nachgelöst",null,1]
[null,"Preisschießen LG",null,3]
[]
[null,"Sauenschießen",null,5]
[null,"Sauenschießen nachgelöst",null,1]
[null,"Glückspreisschießen",null,1]

{"sheet":"WPP","index":1,"n_rows":202,"n_cols":10,"rows_kept":202,"cut":false,"hidden":false,"merged":[[0,1,0,4],[0,6,0,9]]}
[null,"Wittkowskipokal",null,null,null,null,"Peperpokal"]
[null,"Lfd.\nNr.:","Vor- und Nachname:","Ringe:","schlechtester\nEinzelschuss",null,"Lfd.\nNr.:","Vor- und Nachname:","Ringe:","schlechtester\nEinzelschuss"]
[null,null,{"$f":"IF(B3=\"\",\"\",VLOOKUP(B3,HM!$A$10:$B$209,2))","v":""},null,null,1,null,{"$f":"IF(G3=\"\",\"\",VLOOKUP(G3,HM!$A$10:$B$209,2))","v":""}]
[null,null,{"$f":"IF(B4=\"\",\"\",VLOOKUP(B4,HM!$A$10:$B$209,2))","v":""},null,null,2,null,{"$f":"IF(G4=\"\",\"\",VLOOKUP(G4,HM!$A$10:$B$209,2))","v":""}]
[null,null,{"$f":"IF(B5=\"\",\"\",VLOOKUP(B5,HM!$A$10:$B$209,2))","v":""},null,null,3,null,{"$f":"IF(G5=\"\",\"\",VLOOKUP(G5,HM!$A$10:$B$209,2))","v":""}]
[null,null,{"$f":"IF(B6=\"\",\"\",VLOOKUP(B6,HM!$A$10:$B$209,2))","v":""},null,null,4,null,{"$f":"IF(G6=\"\",\"\",VLOOKUP(G6,HM!$A$10:$B$209,2))","v":""}]
[null,null,{"$f":"IF(B7=\"\",\"\",VLOOKUP(B7,HM!$A$10:$B$209,2))","v":""},null,null,5,null,{"$f":"IF(G7=\"\",\"\",VLOOKUP(G7,HM!$A$10:$B$209,2))","v":""}]
[null,null,{"$f":"IF(B8=\"\",\"\",VLOOKUP(B8,HM!$A$10:$B$209,2))","v":""},null,null,6,null,{"$f":"IF(G8=\"\",\"\",VLOOKUP(G8,HM!$A$10:$B$209,2))","v":""}]
[null,null,{"$f":"IF(B9=\"\",\"\",VLOOKUP(B9,HM!$A$10:$B$209,2))","v":""},null,null,7,null,{"$f":"IF(G9=\"\",\"\",VLOOKUP(G9,HM!$A$10:$B$209,2))","v":""}]
[null,null,{"$f":"IF(B10=\"\",\"\",VLOOKUP(B10,HM!$A$10:$B$209,2))","v":""},null,null,8,null,{"$f":"IF(G10=\"\",\"\",VLOOKUP(G10,HM!$A$10:$B$209,2))","v":""}]
[null,null,{"$f":"IF(B11=\"\",\"\",VLOOKUP(B11,HM!$A$10:$B$209,2))","v":""},null,null,9,null,{"$f":"IF(G11=\"\",\"\",VLOOKUP(G11,HM!$A$10:$B$209,2))","v":""}]
[null,null,{"$f":"IF(B12=\"\",\"\",VLOOKUP(B12,HM!$A$10:$B$209,2))","v":""},null,null,10,null,{"$f":"IF(G12=\"\",\"\",VLOOKUP(G12,HM!$A$10:$B$209,2))","v":""}]
[null,null,{"$f":"IF(B13=\"\",\"\",VLOOKUP(B13,HM!$A$10:$B$209,2))","v":""},null,null,11,null,{"$f":"IF(G13=\"\",\"\",VLOOKUP(G13,HM!$A$10:$B$209,2))","v":""}]
[null,null,{"$f":"IF(B14=\"\",\"\",VLOOKUP(B14,HM!$A$10:$B$209,2))","v":""},null,null,12,null,{"$f":"IF(G14=\"\",\"\",VLOOKUP(G14,HM!$A$10:$B$209,2))","v":""}]
[null,null,{"$f":"IF(B15=\"\",\"\",VLOOKUP(B15,HM!$A$10:$B$209,2))","v":""},null,null,13,null,{"$f":"IF(G15=\"\",\"\",VLOOKUP(G15,HM!$A$10:$B$209,2))","v":""}]
[null,null,{"$f":"IF(B16=\"\",\"\",VLOOKUP(B16,HM!$A$10:$B$209,2))","v":""},null,null,14,null,{"$f":"IF(G16=\"\",\"\",VLOOKUP(G16,HM!$A$10:$B$209,2))","v":""}]
[null,null,{"$f":"IF(B17=\"\",\"\",VLOOKUP(B17,HM!$A$10:$B$209,2))","v":""},null,null,15,null,{"$f":"IF(G17=\"\",\"\",VLOOKUP(G17,HM!$A$10:$B$209,2))","v":""}]
[null,null,{"$f":"IF(B18=\"\",\"\",VLOOKUP(B18,HM!$A$10:$B$209,2))","v":""},null,null,16,null,{"$f":"IF(G18=\"\",\"\",VLOOKUP(G18,HM!$A$10:$B$209,2))","v":""}]
[null,null,{"$f":"IF(B19=\"\",\"\",VLOOKUP(B19,HM!$A$10:$B$209,2))","v":""},null,null,17,null,{"$f":"IF(G19=\"\",\"\",VLOOKUP(G19,HM!$A$10:$B$209,2))","v":""}]
[null,null,{"$f":"IF(B20=\"\",\"\",VLOOKUP(B20,HM!$A$10:$B$209,2))","v":""},null,null,18,null,{"$f":"IF(G20=\"\",\"\",VLOOKUP(G20,HM!$A$10:$B$209,2))","v":""}]
[null,null,{"$f":"IF(B21=\"\",\"\",VLOOKUP(B21,HM!$A$10:$B$209,2))","v":""},null,null,19,null,{"$f":"IF(G21=\"\",\"\",VLOOKUP(G21,HM!$A$10:$B$209,2))","v":""}]
[null,null,{"$f":"IF(B22=\"\",\"\",VLOOKUP(B22,HM!$A$10:$B$209,2))","v":""},null,null,20,null,{"$f":"IF(G22=\"\",\"\",VLOOKUP(G22,HM!$A$10:$B$209,2))","v":""}]
[null,null,{"$f":"IF(B23=\"\",\"\",VLOOKUP(B23,HM!$A$10:$B$209,2))","v":""},null,null,21,null,{"$f":"IF(G23=\"\",\"\",VLOOKUP(G23,HM!$A$10:$B$209,2))","v":""}]
[null,null,{"$f":"IF(B24=\"\",\"\",VLOOKUP(B24,HM!$A$10:$B$209,2))","v":""},null,null,22,null,{"$f":"IF(G24=\"\",\"\",VLOOKUP(G24,HM!$A$10:$B$209,2))","v":""}]
[null,null,{"$f":"IF(B25=\"\",\"\",VLOOKUP(B25,HM!$A$10:$B$209,2))","v":""},null,null,23,null,{"$f":"IF(G25=\"\",\"\",VLOOKUP(G25,HM!$A$10:$B$209,2))","v":""}]
[null,null,{"$f":"IF(B26=\"\",\"\",VLOOKUP(B26,HM!$A$10:$B$209,2))","v":""},null,null,24,null,{"$f":"IF(G26=\"\",\"\",VLOOKUP(G26,HM!$A$10:$B$209,2))","v":""}]
[null,null,{"$f":"IF(B27=\"\",\"\",VLOOKUP(B27,HM!$A$10:$B$209,2))","v":""},null,null,25,null,{"$f":"IF(G27=\"\",\"\",VLOOKUP(G27,HM!$A$10:$B$209,2))","v":""}]
[null,null,{"$f":"IF(B28=\"\",\"\",VLOOKUP(B28,HM!$A$10:$B$209,2))","v":""},null,null,26,null,{"$f":"IF(G28=\"\",\"\",VLOOKUP(G28,HM!$A$10:$B$209,2))","v":""}]
[null,null,{"$f":"IF(B29=\"\",\"\",VLOOKUP(B29,HM!$A$10:$B$209,2))","v":""},null,null,27,null,{"$f":"IF(G29=\"\",\"\",VLOOKUP(G29,HM!$A$10:$B$209,2))","v":""}]
[null,null,{"$f":"IF(B30=\"\",\"\",VLOOKUP(B30,HM!$A$10:$B$209,2))","v":""},null,null,28,null,{"$f":"IF(G30=\"\",\"\",VLOOKUP(G30,HM!$A$10:$B$209,2))","v":""}]
[null,null,{"$f":"IF(B31=\"\",\"\",VLOOKUP(B31,HM!$A$10:$B$209,2))","v":""},null,null,29,null,{"$f":"IF(G31=\"\",\"\",VLOOKUP(G31,HM!$A$10:$B$209,2))","v":""}]
[null,null,{"$f":"IF(B32=\"\",\"\",VLOOKUP(B32,HM!$A$10:$B$209,2))","v":""},null,null,30,null,{"$f":"IF(G32=\"\",\"\",VLOOKUP(G32,HM!$A$10:$B$209,2))","v":""}]
[null,null,{"$f":"IF(B33=\"\",\"\",VLOOKUP(B33,HM!$A$10:$B$209,2))","v":""},null,null,31,null,{"$f":"IF(G33=\"\",\"\",VLOOKUP(G33,HM!$A$10:$B$209,2))","v":""}]
[null,null,{"$f":"IF(B34=\"\",\"\",VLOOKUP(B34,HM!$A$10:$B$209,2))","v":""},null,null,32,null,{"$f":"IF(G34=\"\",\"\",VLOOKUP(G34,HM!$A$10:$B$209,2))","v":""}]
[null,null,{"$f":"IF(B35=\"\",\"\",VLOOKUP(B35,HM!$A$10:$B$209,2))","v":""},null,null,33,null,{"$f":"IF(G35=\"\",\"\",VLOOKUP(G35,HM!$A$10:$B$209,2))","v":""}]
[null,null,{"$f":"IF(B36=\"\",\"\",VLOOKUP(B36,HM!$A$10:$B$209,2))","v":""},null,null,34,null,{"$f":"IF(G36=\"\",\"\",VLOOKUP(G36,HM!$A$10:$B$209,2))","v":""}]
[null,null,{"$f":"IF(B37=\"\",\"\",VLOOKUP(B37,HM!$A$10:$B$209,2))","v":""},null,null,35,null,{"$f":"IF(G37=\"\",\"\",VLOOKUP(G37,HM!$A$10:$B$209,2))","v":""}]
[null,null,{"$f":"IF(B38=\"\",\"\",VLOOKUP(B38,HM!$A$10:$B$209,2))","v":""},null,null,36,null,{"$f":"IF(G38=\"\",\"\",VLOOKUP(G38,HM!$A$10:$B$209,2))","v":""}]
[null,null,{"$f":"IF(B39=\"\",\"\",VLOOKUP(B39,HM!$A$10:$B$209,2))","v":""},null,null,37,null,{"$f":"IF(G39=\"\",\"\",VLOOKUP(G39,HM!$A$10:$B$209,2))","v":""}]
[null,null,{"$f":"IF(B40=\"\",\"\",VLOOKUP(B40,HM!$A$10:$B$209,2))","v":""},null,null,38,null,{"$f":"IF(G40=\"\",\"\",VLOOKUP(G40,HM!$A$10:$B$209,2))","v":""}]
[null,null,{"$f":"IF(B41=\"\",\"\",VLOOKUP(B41,HM!$A$10:$B$209,2))","v":""},null,null,39,null,{"$f":"IF(G41=\"\",\"\",VLOOKUP(G41,HM!$A$10:$B$209,2))","v":""}]
[null,null,{"$f":"IF(B42=\"\",\"\",VLOOKUP(B42,HM!$A$10:$B$209,2))","v":""},null,null,40,null,{"$f":"IF(G42=\"\",\"\",VLOOKUP(G42,HM!$A$10:$B$209,2))","v":""}]
[null,null,{"$f":"IF(B43=\"\",\"\",VLOOKUP(B43,HM!$A$10:$B$209,2))","v":""},null,null,41,null,{"$f":"IF(G43=\"\",\"\",VLOOKUP(G43,HM!$A$10:$B$209,2))","v":""}]
[null,null,{"$f":"IF(B44=\"\",\"\",VLOOKUP(B44,HM!$A$10:$B$209,2))","v":""},null,null,42,null,{"$f":"IF(G44=\"\",\"\",VLOOKUP(G44,HM!$A$10:$B$209,2))","v":""}]
[null,null,{"$f":"IF(B45=\"\",\"\",VLOOKUP(B45,HM!$A$10:$B$209,2))","v":""},null,null,43,null,{"$f":"IF(G45=\"\",\"\",VLOOKUP(G45,HM!$A$10:$B$209,2))","v":""}]
[null,null,{"$f":"IF(B46=\"\",\"\",VLOOKUP(B46,HM!$A$10:$B$209,2))","v":""},null,null,44,null,{"$f":"IF(G46=\"\",\"\",VLOOKUP(G46,HM!$A$10:$B$209,2))","v":""}]
[null,null,{"$f":"IF(B47=\"\",\"\",VLOOKUP(B47,HM!$A$10:$B$209,2))","v":""},null,null,45,null,{"$f":"IF(G47=\"\",\"\",VLOOKUP(G47,HM!$A$10:$B$209,2))","v":""}]
[null,null,{"$f":"IF(B48=\"\",\"\",VLOOKUP(B48,HM!$A$10:$B$209,2))","v":""},null,null,46,null,{"$f":"IF(G48=\"\",\"\",VLOOKUP(G48,HM!$A$10:$B$209,2))","v":""}]
[null,null,{"$f":"IF(B49=\"\",\"\",VLOOKUP(B49,HM!$A$10:$B$209,2))","v":""},null,null,47,null,{"$f":"IF(G49=\"\",\"\",VLOOKUP(G49,HM!$A$10:$B$209,2))","v":""}]
[null,null,{"$f":"IF(B50=\"\",\"\",VLOOKUP(B50,HM!$A$10:$B$209,2))","v":""},null,null,48,null,{"$f":"IF(G50=\"\",\"\",VLOOKUP(G50,HM!$A$10:$B$209,2))","v":""}]
[null,null,{"$f":"IF(B51=\"\",\"\",VLOOKUP(B51,HM!$A$10:$B$209,2))","v":""},null,null,49,null,{"$f":"IF(G51=\"\",\"\",VLOOKUP(G51,HM!$A$10:$B$209,2))","v":""}]
[null,null,{"$f":"IF(B52=\"\",\"\",VLOOKUP(B52,HM!$A$10:$B$209,2))","v":""},null,null,50,null,{"$f":"IF(G52=\"\",\"\",VLOOKUP(G52,HM!$A$10:$B$209,2))","v":""}]
[null,null,{"$f":"IF(B53=\"\",\"\",VLOOKUP(B53,HM!$A$10:$B$209,2))","v":""},null,null,51,null,{"$f":"IF(G53=\"\",\"\",VLOOKUP(G53,HM!$A$10:$B$209,2))","v":""}]
[null,null,{"$f":"IF(B54=\"\",\"\",VLOOKUP(B54,HM!$A$10:$B$209,2))","v":""},null,null,52,null,{"$f":"IF(G54=\"\",\"\",VLOOKUP(G54,HM!$A$10:$B$209,2))","v":""}]
[null,null,{"$f":"IF(B55=\"\",\"\",VLOOKUP(B55,HM!$A$10:$B$209,2))","v":""},null,null,53,null,{"$f":"IF(G55=\"\",\"\",VLOOKUP(G55,HM!$A$10:$B$209,2))","v":""}]
[null,null,{"$f":"IF(B56=\"\",\"\",VLOOKUP(B56,HM!$A$10:$B$209,2))","v":""},null,null,54,null,{"$f":"IF(G56=\"\",\"\",VLOOKUP(G56,HM!$A$10:$B$209,2))","v":""}]
[null,null,{"$f":"IF(B57=\"\",\"\",VLOOKUP(B57,HM!$A$10:$B$209,2))","v":""},null,null,55,null,{"$f":"IF(G57=\"\",\"\",VLOOKUP(G57,HM!$A$10:$B$209,2))","v":""}]
[null,null,{"$f":"IF(B58=\"\",\"\",VLOOKUP(B58,HM!$A$10:$B$209,2))","v":""},null,null,56,null,{"$f":"IF(G58=\"\",\"\",VLOOKUP(G58,HM!$A$10:$B$209,2))","v":""}]
[null,null,{"$f":"IF(B59=\"\",\"\",VLOOKUP(B59,HM!$A$10:$B$209,2))","v":""},null,null,57,null,{"$f":"IF(G59=\"\",\"\",VLOOKUP(G59,HM!$A$10:$B$209,2))","v":""}]
[null,null,{"$f":"IF(B60=\"\",\"\",VLOOKUP(B60,HM!$A$10:$B$209,2))","v":""},null,null,58,null,{"$f":"IF(G60=\"\",\"\",VLOOKUP(G60,HM!$A$10:$B$209,2))","v":""}]
[null,null,{"$f":"IF(B61=\"\",\"\",VLOOKUP(B61,HM!$A$10:$B$209,2))","v":""},null,null,59,null,{"$f":"IF(G61=\"\",\"\",VLOOKUP(G61,HM!$A$10:$B$209,2))","v":""}]
[null,null,{"$f":"IF(B62=\"\",\"\",VLOOKUP(B62,HM!$A$10:$B$209,2))","v":""},null,null,60,null,{"$f":"IF(G62=\"\",\"\",VLOOKUP(G62,HM!$A$10:$B$209,2))","v":""}]
[null,null,{"$f":"IF(B63=\"\",\"\",VLOOKUP(B63,HM!$A$10:$B$209,2))","v":""},null,null,61,null,{"$f":"IF(G63=\"\",\"\",VLOOKUP(G63,HM!$A$10:$B$209,2))","v":""}]
[null,null,{"$f":"IF(B64=\"\",\"\",VLOOKUP(B64,HM!$A$10:$B$209,2))","v":""},null,null,62,null,{"$f":"IF(G64=\"\",\"\",VLOOKUP(G64,HM!$A$10:$B$209,2))","v":""}]
[null,null,{"$f":"IF(B65=\"\",\"\",VLOOKUP(B65,HM!$A$10:$B$209,2))","v":""},null,null,63,null,{"$f":"IF(G65=\"\",\"\",VLOOKUP(G65,HM!$A$10:$B$209,2))","v":""}]
[null,null,{"$f":"IF(B66=\"\",\"\",VLOOKUP(B66,HM!$A$10:$B$209,2))","v":""},null,null,64,null,{"$f":"IF(G66=\"\",\"\",VLOOKUP(G66,HM!$A$10:$B$209,2))","v":""}]
[null,null,{"$f":"IF(B67=\"\",\"\",VLOOKUP(B67,HM!$A$10:$B$209,2))","v":""},null,null,65,null,{"$f":"IF(G67=\"\",\"\",VLOOKUP(G67,HM!$A$10:$B$209,2))","v":""}]
[null,null,{"$f":"IF(B68=\"\",\"\",VLOOKUP(B68,HM!$A$10:$B$209,2))","v":""},null,null,66,null,{"$f":"IF(G68=\"\",\"\",VLOOKUP(G68,HM!$A$10:$B$209,2))","v":""}]
[null,null,{"$f":"IF(B69=\"\",\"\",VLOOKUP(B69,HM!$A$10:$B$209,2))","v":""},null,null,67,null,{"$f":"IF(G69=\"\",\"\",VLOOKUP(G69,HM!$A$10:$B$209,2))","v":""}]
[null,null,{"$f":"IF(B70=\"\",\"\",VLOOKUP(B70,HM!$A$10:$B$209,2))","v":""},null,null,68,null,{"$f":"IF(G70=\"\",\"\",VLOOKUP(G70,HM!$A$10:$B$209,2))","v":""}]
[null,null,{"$f":"IF(B71=\"\",\"\",VLOOKUP(B71,HM!$A$10:$B$209,2))","v":""},null,null,69,null,{"$f":"IF(G71=\"\",\"\",VLOOKUP(G71,HM!$A$10:$B$209,2))","v":""}]
[null,null,{"$f":"IF(B72=\"\",\"\",VLOOKUP(B72,HM!$A$10:$B$209,2))","v":""},null,null,70,null,{"$f":"IF(G72=\"\",\"\",VLOOKUP(G72,HM!$A$10:$B$209,2))","v":""}]
[null,null,{"$f":"IF(B73=\"\",\"\",VLOOKUP(B73,HM!$A$10:$B$209,2))","v":""},null,null,71,null,{"$f":"IF(G73=\"\",\"\",VLOOKUP(G73,HM!$A$10:$B$209,2))","v":""}]
[null,null,{"$f":"IF(B74=\"\",\"\",VLOOKUP(B74,HM!$A$10:$B$209,2))","v":""},null,null,72,null,{"$f":"IF(G74=\"\",\"\",VLOOKUP(G74,HM!$A$10:$B$209,2))","v":""}]
[null,null,{"$f":"IF(B75=\"\",\"\",VLOOKUP(B75,HM!$A$10:$B$209,2))","v":""},null,null,73,null,{"$f":"IF(G75=\"\",\"\",VLOOKUP(G75,HM!$A$10:$B$209,2))","v":""}]
[null,null,{"$f":"IF(B76=\"\",\"\",VLOOKUP(B76,HM!$A$10:$B$209,2))","v":""},null,null,74,null,{"$f":"IF(G76=\"\",\"\",VLOOKUP(G76,HM!$A$10:$B$209,2))","v":""}]
[null,null,{"$f":"IF(B77=\"\",\"\",VLOOKUP(B77,HM!$A$10:$B$209,2))","v":""},null,null,75,null,{"$f":"IF(G77=\"\",\"\",VLOOKUP(G77,HM!$A$10:$B$209,2))","v":""}]
[null,null,{"$f":"IF(B78=\"\",\"\",VLOOKUP(B78,HM!$A$10:$B$209,2))","v":""},null,null,76,null,{"$f":"IF(G78=\"\",\"\",VLOOKUP(G78,HM!$A$10:$B$209,2))","v":""}]
[null,null,{"$f":"IF(B79=\"\",\"\",VLOOKUP(B79,HM!$A$10:$B$209,2))","v":""},null,null,77,null,{"$f":"IF(G79=\"\",\"\",VLOOKUP(G79,HM!$A$10:$B$209,2))","v":""}]
[null,null,{"$f":"IF(B80=\"\",\"\",VLOOKUP(B80,HM!$A$10:$B$209,2))","v":""},null,null,78,null,{"$f":"IF(G80=\"\",\"\",VLOOKUP(G80,HM!$A$10:$B$209,2))","v":""}]
[null,null,{"$f":"IF(B81=\"\",\"\",VLOOKUP(B81,HM!$A$10:$B$209,2))","v":""},null,null,79,null,{"$f":"IF(G81=\"\",\"\",VLOOKUP(G81,HM!$A$10:$B$209,2))","v":""}]
[null,null,{"$f":"IF(B82=\"\",\"\",VLOOKUP(B82,HM!$A$10:$B$209,2))","v":""},null,null,80,null,{"$f":"IF(G82=\"\",\"\",VLOOKUP(G82,HM!$A$10:$B$209,2))","v":""}]
[null,null,{"$f":"IF(B83=\"\",\"\",VLOOKUP(B83,HM!$A$10:$B$209,2))","v":""},null,null,81,null,{"$f":"IF(G83=\"\",\"\",VLOOKUP(G83,HM!$A$10:$B$209,2))","v":""}]
[null,null,{"$f":"IF(B84=\"\",\"\",VLOOKUP(B84,HM!$A$10:$B$209,2))","v":""},null,null,82,null,{"$f":"IF(G84=\"\",\"\",VLOOKUP(G84,HM!$A$10:$B$209,2))","v":""}]
[null,null,{"$f":"IF(B85=\"\",\"\",VLOOKUP(B85,HM!$A$10:$B$209,2))","v":""},null,null,83,null,{"$f":"IF(G85=\"\",\"\",VLOOKUP(G85,HM!$A$10:$B$209,2))","v":""}]
[null,null,{"$f":"IF(B86=\"\",\"\",VLOOKUP(B86,HM!$A$10:$B$209,2))","v":""},null,null,84,null,{"$f":"IF(G86=\"\",\"\",VLOOKUP(G86,HM!$A$10:$B$209,2))","v":""}]
[null,null,{"$f":"IF(B87=\"\",\"\",VLOOKUP(B87,HM!$A$10:$B$209,2))","v":""},null,null,85,null,{"$f":"IF(G87=\"\",\"\",VLOOKUP(G87,HM!$A$10:$B$209,2))","v":""}]
[null,null,{"$f":"IF(B88=\"\",\"\",VLOOKUP(B88,HM!$A$10:$B$209,2))","v":""},null,null,86,null,{"$f":"IF(G88=\"\",\"\",VLOOKUP(G88,HM!$A$10:$B$209,2))","v":""}]
[null,null,{"$f":"IF(B89=\"\",\"\",VLOOKUP(B89,HM!$A$10:$B$209,2))","v":""},null,null,87,null,{"$f":"IF(G89=\"\",\"\",VLOOKUP(G89,HM!$A$10:$B$209,2))","v":""}]
[null,null,{"$f":"IF(B90=\"\",\"\",VLOOKUP(B90,HM!$A$10:$B$209,2))","v":""},null,null,88,null,{"$f":"IF(G90=\"\",\"\",VLOOKUP(G90,HM!$A$10:$B$209,2))","v":""}]
[null,null,{"$f":"IF(B91=\"\",\"\",VLOOKUP(B91,HM!$A$10:$B$209,2))","v":""},null,null,89,null,{"$f":"IF(G91=\"\",\"\",VLOOKUP(G91,HM!$A$10:$B$209,2))","v":""}]
[null,null,{"$f":"IF(B92=\"\",\"\",VLOOKUP(B92,HM!$A$10:$B$209,2))","v":""},null,null,90,null,{"$f":"IF(G92=\"\",\"\",VLOOKUP(G92,HM!$A$10:$B$209,2))","v":""}]
[null,null,{"$f":"IF(B93=\"\",\"\",VLOOKUP(B93,HM!$A$10:$B$209,2))","v":""},null,null,91,null,{"$f":"IF(G93=\"\",\"\",VLOOKUP(G93,HM!$A$10:$B$209,2))","v":""}]
[null,null,{"$f":"IF(B94=\"\",\"\",VLOOKUP(B94,HM!$A$10:$B$209,2))","v":""},null,null,92,null,{"$f":"IF(G94=\"\",\"\",VLOOKUP(G94,HM!$A$10:$B$209,2))","v":""}]
[null,null,{"$f":"IF(B95=\"\",\"\",VLOOKUP(B95,HM!$A$10:$B$209,2))","v":""},null,null,93,null,{"$f":"IF(G95=\"\",\"\",VLOOKUP(G95,HM!$A$10:$B$209,2))","v":""}]
[null,null,{"$f":"IF(B96=\"\",\"\",VLOOKUP(B96,HM!$A$10:$B$209,2))","v":""},null,null,94,null,{"$f":"IF(G96=\"\",\"\",VLOOKUP(G96,HM!$A$10:$B$209,2))","v":""}]
[null,null,{"$f":"IF(B97=\"\",\"\",VLOOKUP(B97,HM!$A$10:$B$209,2))","v":""},null,null,95,null,{"$f":"IF(G97=\"\",\"\",VLOOKUP(G97,HM!$A$10:$B$209,2))","v":""}]
[null,null,{"$f":"IF(B98=\"\",\"\",VLOOKUP(B98,HM!$A$10:$B$209,2))","v":""},null,null,96,null,{"$f":"IF(G98=\"\",\"\",VLOOKUP(G98,HM!$A$10:$B$209,2))","v":""}]
[null,null,{"$f":"IF(B99=\"\",\"\",VLOOKUP(B99,HM!$A$10:$B$209,2))","v":""},null,null,97,null,{"$f":"IF(G99=\"\",\"\",VLOOKUP(G99,HM!$A$10:$B$209,2))","v":""}]
[null,null,{"$f":"IF(B100=\"\",\"\",VLOOKUP(B100,HM!$A$10:$B$209,2))","v":""},null,null,98,null,{"$f":"IF(G100=\"\",\"\",VLOOKUP(G100,HM!$A$10:$B$209,2))","v":""}]
[null,null,{"$f":"IF(B101=\"\",\"\",VLOOKUP(B101,HM!$A$10:$B$209,2))","v":""},null,null,99,null,{"$f":"IF(G101=\"\",\"\",VLOOKUP(G101,HM!$A$10:$B$209,2))","v":""}]
[null,null,{"$f":"IF(B102=\"\",\"\",VLOOKUP(B102,HM!$A$10:$B$209,2))","v":""},null,null,100,null,{"$f":"IF(G102=\"\",\"\",VLOOKUP(G102,HM!$A$10:$B$209,2))","v":""}]
[null,null,{"$f":"IF(B103=\"\",\"\",VLOOKUP(B103,HM!$A$10:$B$209,2))","v":""},null,null,101,null,{"$f":"IF(G103=\"\",\"\",VLOOKUP(G103,HM!$A$10:$B$209,2))","v":""}]
[null,null,{"$f":"IF(B104=\"\",\"\",VLOOKUP(B104,HM!$A$10:$B$209,2))","v":""},null,null,102,null,{"$f":"IF(G104=\"\",\"\",VLOOKUP(G104,HM!$A$10:$B$209,2))","v":""}]
[null,null,{"$f":"IF(B105=\"\",\"\",VLOOKUP(B105,HM!$A$10:$B$209,2))","v":""},null,null,103,null,{"$f":"IF(G105=\"\",\"\",VLOOKUP(G105,HM!$A$10:$B$209,2))","v":""}]
[null,null,{"$f":"IF(B106=\"\",\"\",VLOOKUP(B106,HM!$A$10:$B$209,2))","v":""},null,null,104,null,{"$f":"IF(G106=\"\",\"\",VLOOKUP(G106,HM!$A$10:$B$209,2))","v":""}]
[null,null,{"$f":"IF(B107=\"\",\"\",VLOOKUP(B107,HM!$A$10:$B$209,2))","v":""},null,null,105,null,{"$f":"IF(G107=\"\",\"\",VLOOKUP(G107,HM!$A$10:$B$209,2))","v":""}]
[null,null,{"$f":"IF(B108=\"\",\"\",VLOOKUP(B108,HM!$A$10:$B$209,2))","v":""},null,null,106,null,{"$f":"IF(G108=\"\",\"\",VLOOKUP(G108,HM!$A$10:$B$209,2))","v":""}]
[null,null,{"$f":"IF(B109=\"\",\"\",VLOOKUP(B109,HM!$A$10:$B$209,2))","v":""},null,null,107,null,{"$f":"IF(G109=\"\",\"\",VLOOKUP(G109,HM!$A$10:$B$209,2))","v":""}]
[null,null,{"$f":"IF(B110=\"\",\"\",VLOOKUP(B110,HM!$A$10:$B$209,2))","v":""},null,null,108,null,{"$f":"IF(G110=\"\",\"\",VLOOKUP(G110,HM!$A$10:$B$209,2))","v":""}]
[null,null,{"$f":"IF(B111=\"\",\"\",VLOOKUP(B111,HM!$A$10:$B$209,2))","v":""},null,null,109,null,{"$f":"IF(G111=\"\",\"\",VLOOKUP(G111,HM!$A$10:$B$209,2))","v":""}]
[null,null,{"$f":"IF(B112=\"\",\"\",VLOOKUP(B112,HM!$A$10:$B$209,2))","v":""},null,null,110,null,{"$f":"IF(G112=\"\",\"\",VLOOKUP(G112,HM!$A$10:$B$209,2))","v":""}]
[null,null,{"$f":"IF(B113=\"\",\"\",VLOOKUP(B113,HM!$A$10:$B$209,2))","v":""},null,null,111,null,{"$f":"IF(G113=\"\",\"\",VLOOKUP(G113,HM!$A$10:$B$209,2))","v":""}]
[null,null,{"$f":"IF(B114=\"\",\"\",VLOOKUP(B114,HM!$A$10:$B$209,2))","v":""},null,null,112,null,{"$f":"IF(G114=\"\",\"\",VLOOKUP(G114,HM!$A$10:$B$209,2))","v":""}]
[null,null,{"$f":"IF(B115=\"\",\"\",VLOOKUP(B115,HM!$A$10:$B$209,2))","v":""},null,null,113,null,{"$f":"IF(G115=\"\",\"\",VLOOKUP(G115,HM!$A$10:$B$209,2))","v":""}]
[null,null,{"$f":"IF(B116=\"\",\"\",VLOOKUP(B116,HM!$A$10:$B$209,2))","v":""},null,null,114,null,{"$f":"IF(G116=\"\",\"\",VLOOKUP(G116,HM!$A$10:$B$209,2))","v":""}]
[null,null,{"$f":"IF(B117=\"\",\"\",VLOOKUP(B117,HM!$A$10:$B$209,2))","v":""},null,null,115,null,{"$f":"IF(G117=\"\",\"\",VLOOKUP(G117,HM!$A$10:$B$209,2))","v":""}]
[null,null,{"$f":"IF(B118=\"\",\"\",VLOOKUP(B118,HM!$A$10:$B$209,2))","v":""},null,null,116,null,{"$f":"IF(G118=\"\",\"\",VLOOKUP(G118,HM!$A$10:$B$209,2))","v":""}]
[null,null,{"$f":"IF(B119=\"\",\"\",VLOOKUP(B119,HM!$A$10:$B$209,2))","v":""},null,null,117,null,{"$f":"IF(G119=\"\",\"\",VLOOKUP(G119,HM!$A$10:$B$209,2))","v":""}]
[null,null,{"$f":"IF(B120=\"\",\"\",VLOOKUP(B120,HM!$A$10:$B$209,2))","v":""},null,null,118,null,{"$f":"IF(G120=\"\",\"\",VLOOKUP(G120,HM!$A$10:$B$209,2))","v":""}]
[null,null,{"$f":"IF(B121=\"\",\"\",VLOOKUP(B121,HM!$A$10:$B$209,2))","v":""},null,null,119,null,{"$f":"IF(G121=\"\",\"\",VLOOKUP(G121,HM!$A$10:$B$209,2))","v":""}]
[null,null,{"$f":"IF(B122=\"\",\"\",VLOOKUP(B122,HM!$A$10:$B$209,2))","v":""},null,null,120,null,{"$f":"IF(G122=\"\",\"\",VLOOKUP(G122,HM!$A$10:$B$209,2))","v":""}]
[null,null,{"$f":"IF(B123=\"\",\"\",VLOOKUP(B123,HM!$A$10:$B$209,2))","v":""},null,null,121,null,{"$f":"IF(G123=\"\",\"\",VLOOKUP(G123,HM!$A$10:$B$209,2))","v":""}]
[null,null,{"$f":"IF(B124=\"\",\"\",VLOOKUP(B124,HM!$A$10:$B$209,2))","v":""},null,null,122,null,{"$f":"IF(G124=\"\",\"\",VLOOKUP(G124,HM!$A$10:$B$209,2))","v":""}]
[null,null,{"$f":"IF(B125=\"\",\"\",VLOOKUP(B125,HM!$A$10:$B$209,2))","v":""},null,null,123,null,{"$f":"IF(G125=\"\",\"\",VLOOKUP(G125,HM!$A$10:$B$209,2))","v":""}]
[null,null,{"$f":"IF(B126=\"\",\"\",VLOOKUP(B126,HM!$A$10:$B$209,2))","v":""},null,null,124,null,{"$f":"IF(G126=\"\",\"\",VLOOKUP(G126,HM!$A$10:$B$209,2))","v":""}]
[null,null,{"$f":"IF(B127=\"\",\"\",VLOOKUP(B127,HM!$A$10:$B$209,2))","v":""},null,null,125,null,{"$f":"IF(G127=\"\",\"\",VLOOKUP(G127,HM!$A$10:$B$209,2))","v":""}]
[null,null,{"$f":"IF(B128=\"\",\"\",VLOOKUP(B128,HM!$A$10:$B$209,2))","v":""},null,null,126,null,{"$f":"IF(G128=\"\",\"\",VLOOKUP(G128,HM!$A$10:$B$209,2))","v":""}]
[null,null,{"$f":"IF(B129=\"\",\"\",VLOOKUP(B129,HM!$A$10:$B$209,2))","v":""},null,null,127,null,{"$f":"IF(G129=\"\",\"\",VLOOKUP(G129,HM!$A$10:$B$209,2))","v":""}]
[null,null,{"$f":"IF(B130=\"\",\"\",VLOOKUP(B130,HM!$A$10:$B$209,2))","v":""},null,null,128,null,{"$f":"IF(G130=\"\",\"\",VLOOKUP(G130,HM!$A$10:$B$209,2))","v":""}]
[null,null,{"$f":"IF(B131=\"\",\"\",VLOOKUP(B131,HM!$A$10:$B$209,2))","v":""},null,null,129,null,{"$f":"IF(G131=\"\",\"\",VLOOKUP(G131,HM!$A$10:$B$209,2))","v":""}]
[null,null,{"$f":"IF(B132=\"\",\"\",VLOOKUP(B132,HM!$A$10:$B$209,2))","v":""},null,null,130,null,{"$f":"IF(G132=\"\",\"\",VLOOKUP(G132,HM!$A$10:$B$209,2))","v":""}]
[null,null,{"$f":"IF(B133=\"\",\"\",VLOOKUP(B133,HM!$A$10:$B$209,2))","v":""},null,null,131,null,{"$f":"IF(G133=\"\",\"\",VLOOKUP(G133,HM!$A$10:$B$209,2))","v":""}]
[null,null,{"$f":"IF(B134=\"\",\"\",VLOOKUP(B134,HM!$A$10:$B$209,2))","v":""},null,null,132,null,{"$f":"IF(G134=\"\",\"\",VLOOKUP(G134,HM!$A$10:$B$209,2))","v":""}]
[null,null,{"$f":"IF(B135=\"\",\"\",VLOOKUP(B135,HM!$A$10:$B$209,2))","v":""},null,null,133,null,{"$f":"IF(G135=\"\",\"\",VLOOKUP(G135,HM!$A$10:$B$209,2))","v":""}]
[null,null,{"$f":"IF(B136=\"\",\"\",VLOOKUP(B136,HM!$A$10:$B$209,2))","v":""},null,null,134,null,{"$f":"IF(G136=\"\",\"\",VLOOKUP(G136,HM!$A$10:$B$209,2))","v":""}]
[null,null,{"$f":"IF(B137=\"\",\"\",VLOOKUP(B137,HM!$A$10:$B$209,2))","v":""},null,null,135,null,{"$f":"IF(G137=\"\",\"\",VLOOKUP(G137,HM!$A$10:$B$209,2))","v":""}]
[null,null,{"$f":"IF(B138=\"\",\"\",VLOOKUP(B138,HM!$A$10:$B$209,2))","v":""},null,null,136,null,{"$f":"IF(G138=\"\",\"\",VLOOKUP(G138,HM!$A$10:$B$209,2))","v":""}]
[null,null,{"$f":"IF(B139=\"\",\"\",VLOOKUP(B139,HM!$A$10:$B$209,2))","v":""},null,null,137,null,{"$f":"IF(G139=\"\",\"\",VLOOKUP(G139,HM!$A$10:$B$209,2))","v":""}]
[null,null,{"$f":"IF(B140=\"\",\"\",VLOOKUP(B140,HM!$A$10:$B$209,2))","v":""},null,null,138,null,{"$f":"IF(G140=\"\",\"\",VLOOKUP(G140,HM!$A$10:$B$209,2))","v":""}]
[null,null,{"$f":"IF(B141=\"\",\"\",VLOOKUP(B141,HM!$A$10:$B$209,2))","v":""},null,null,139,null,{"$f":"IF(G141=\"\",\"\",VLOOKUP(G141,HM!$A$10:$B$209,2))","v":""}]
[null,null,{"$f":"IF(B142=\"\",\"\",VLOOKUP(B142,HM!$A$10:$B$209,2))","v":""},null,null,140,null,{"$f":"IF(G142=\"\",\"\",VLOOKUP(G142,HM!$A$10:$B$209,2))","v":""}]
[null,null,{"$f":"IF(B143=\"\",\"\",VLOOKUP(B143,HM!$A$10:$B$209,2))","v":""},null,null,141,null,{"$f":"IF(G143=\"\",\"\",VLOOKUP(G143,HM!$A$10:$B$209,2))","v":""}]
[null,null,{"$f":"IF(B144=\"\",\"\",VLOOKUP(B144,HM!$A$10:$B$209,2))","v":""},null,null,142,null,{"$f":"IF(G144=\"\",\"\",VLOOKUP(G144,HM!$A$10:$B$209,2))","v":""}]
[null,null,{"$f":"IF(B145=\"\",\"\",VLOOKUP(B145,HM!$A$10:$B$209,2))","v":""},null,null,143,null,{"$f":"IF(G145=\"\",\"\",VLOOKUP(G145,HM!$A$10:$B$209,2))","v":""}]
[null,null,{"$f":"IF(B146=\"\",\"\",VLOOKUP(B146,HM!$A$10:$B$209,2))","v":""},null,null,144,null,{"$f":"IF(G146=\"\",\"\",VLOOKUP(G146,HM!$A$10:$B$209,2))","v":""}]
[null,null,{"$f":"IF(B147=\"\",\"\",VLOOKUP(B147,HM!$A$10:$B$209,2))","v":""},null,null,145,null,{"$f":"IF(G147=\"\",\"\",VLOOKUP(G147,HM!$A$10:$B$209,2))","v":""}]
[null,null,{"$f":"IF(B148=\"\",\"\",VLOOKUP(B148,HM!$A$10:$B$209,2))","v":""},null,null,146,null,{"$f":"IF(G148=\"\",\"\",VLOOKUP(G148,HM!$A$10:$B$209,2))","v":""}]
[null,null,{"$f":"IF(B149=\"\",\"\",VLOOKUP(B149,HM!$A$10:$B$209,2))","v":""},null,null,147,null,{"$f":"IF(G149=\"\",\"\",VLOOKUP(G149,HM!$A$10:$B$209,2))","v":""}]
[null,null,{"$f":"IF(B150=\"\",\"\",VLOOKUP(B150,HM!$A$10:$B$209,2))","v":""},null,null,148,null,{"$f":"IF(G150=\"\",\"\",VLOOKUP(G150,HM!$A$10:$B$209,2))","v":""}]
[null,null,{"$f":"IF(B151=\"\",\"\",VLOOKUP(B151,HM!$A$10:$B$209,2))","v":""},null,null,149,null,{"$f":"IF(G151=\"\",\"\",VLOOKUP(G151,HM!$A$10:$B$209,2))","v":""}]
[null,null,{"$f":"IF(B152=\"\",\"\",VLOOKUP(B152,HM!$A$10:$B$209,2))","v":""},null,null,150,null,{"$f":"IF(G152=\"\",\"\",VLOOKUP(G152,HM!$A$10:$B$209,2))","v":""}]
[null,null,{"$f":"IF(B153=\"\",\"\",VLOOKUP(B153,HM!$A$10:$B$209,2))","v":""},null,null,151,null,{"$f":"IF(G153=\"\",\"\",VLOOKUP(G153,HM!$A$10:$B$209,2))","v":""}]
[null,null,{"$f":"IF(B154=\"\",\"\",VLOOKUP(B154,HM!$A$10:$B$209,2))","v":""},null,null,152,null,{"$f":"IF(G154=\"\",\"\",VLOOKUP(G154,HM!$A$10:$B$209,2))","v":""}]
[null,null,{"$f":"IF(B155=\"\",\"\",VLOOKUP(B155,HM!$A$10:$B$209,2))","v":""},null,null,153,null,{"$f":"IF(G155=\"\",\"\",VLOOKUP(G155,HM!$A$10:$B$209,2))","v":""}]
[null,null,{"$f":"IF(B156=\"\",\"\",VLOOKUP(B156,HM!$A$10:$B$209,2))","v":""},null,null,154,null,{"$f":"IF(G156=\"\",\"\",VLOOKUP(G156,HM!$A$10:$B$209,2))","v":""}]
[null,null,{"$f":"IF(B157=\"\",\"\",VLOOKUP(B157,HM!$A$10:$B$209,2))","v":""},null,null,155,null,{"$f":"IF(G157=\"\",\"\",VLOOKUP(G157,HM!$A$10:$B$209,2))","v":""}]
[null,null,{"$f":"IF(B158=\"\",\"\",VLOOKUP(B158,HM!$A$10:$B$209,2))","v":""},null,null,156,null,{"$f":"IF(G158=\"\",\"\",VLOOKUP(G158,HM!$A$10:$B$209,2))","v":""}]
[null,null,{"$f":"IF(B159=\"\",\"\",VLOOKUP(B159,HM!$A$10:$B$209,2))","v":""},null,null,157,null,{"$f":"IF(G159=\"\",\"\",VLOOKUP(G159,HM!$A$10:$B$209,2))","v":""}]
[null,null,{"$f":"IF(B160=\"\",\"\",VLOOKUP(B160,HM!$A$10:$B$209,2))","v":""},null,null,158,null,{"$f":"IF(G160=\"\",\"\",VLOOKUP(G160,HM!$A$10:$B$209,2))","v":""}]
[null,null,{"$f":"IF(B161=\"\",\"\",VLOOKUP(B161,HM!$A$10:$B$209,2))","v":""},null,null,159,null,{"$f":"IF(G161=\"\",\"\",VLOOKUP(G161,HM!$A$10:$B$209,2))","v":""}]
[null,null,{"$f":"IF(B162=\"\",\"\",VLOOKUP(B162,HM!$A$10:$B$209,2))","v":""},null,null,160,null,{"$f":"IF(G162=\"\",\"\",VLOOKUP(G162,HM!$A$10:$B$209,2))","v":""}]
[null,null,{"$f":"IF(B163=\"\",\"\",VLOOKUP(B163,HM!$A$10:$B$209,2))","v":""},null,null,161,null,{"$f":"IF(G163=\"\",\"\",VLOOKUP(G163,HM!$A$10:$B$209,2))","v":""}]
[null,null,{"$f":"IF(B164=\"\",\"\",VLOOKUP(B164,HM!$A$10:$B$209,2))","v":""},null,null,162,null,{"$f":"IF(G164=\"\",\"\",VLOOKUP(G164,HM!$A$10:$B$209,2))","v":""}]
[null,null,{"$f":"IF(B165=\"\",\"\",VLOOKUP(B165,HM!$A$10:$B$209,2))","v":""},null,null,163,null,{"$f":"IF(G165=\"\",\"\",VLOOKUP(G165,HM!$A$10:$B$209,2))","v":""}]
[null,null,{"$f":"IF(B166=\"\",\"\",VLOOKUP(B166,HM!$A$10:$B$209,2))","v":""},null,null,164,null,{"$f":"IF(G166=\"\",\"\",VLOOKUP(G166,HM!$A$10:$B$209,2))","v":""}]
[null,null,{"$f":"IF(B167=\"\",\"\",VLOOKUP(B167,HM!$A$10:$B$209,2))","v":""},null,null,165,null,{"$f":"IF(G167=\"\",\"\",VLOOKUP(G167,HM!$A$10:$B$209,2))","v":""}]
[null,null,{"$f":"IF(B168=\"\",\"\",VLOOKUP(B168,HM!$A$10:$B$209,2))","v":""},null,null,166,null,{"$f":"IF(G168=\"\",\"\",VLOOKUP(G168,HM!$A$10:$B$209,2))","v":""}]
[null,null,{"$f":"IF(B169=\"\",\"\",VLOOKUP(B169,HM!$A$10:$B$209,2))","v":""},null,null,167,null,{"$f":"IF(G169=\"\",\"\",VLOOKUP(G169,HM!$A$10:$B$209,2))","v":""}]
[null,null,{"$f":"IF(B170=\"\",\"\",VLOOKUP(B170,HM!$A$10:$B$209,2))","v":""},null,null,168,null,{"$f":"IF(G170=\"\",\"\",VLOOKUP(G170,HM!$A$10:$B$209,2))","v":""}]
[null,null,{"$f":"IF(B171=\"\",\"\",VLOOKUP(B171,HM!$A$10:$B$209,2))","v":""},null,null,169,null,{"$f":"IF(G171=\"\",\"\",VLOOKUP(G171,HM!$A$10:$B$209,2))","v":""}]
[null,null,{"$f":"IF(B172=\"\",\"\",VLOOKUP(B172,HM!$A$10:$B$209,2))","v":""},null,null,170,null,{"$f":"IF(G172=\"\",\"\",VLOOKUP(G172,HM!$A$10:$B$209,2))","v":""}]
[null,null,{"$f":"IF(B173=\"\",\"\",VLOOKUP(B173,HM!$A$10:$B$209,2))","v":""},null,null,171,null,{"$f":"IF(G173=\"\",\"\",VLOOKUP(G173,HM!$A$10:$B$209,2))","v":""}]
[null,null,{"$f":"IF(B174=\"\",\"\",VLOOKUP(B174,HM!$A$10:$B$209,2))","v":""},null,null,172,null,{"$f":"IF(G174=\"\",\"\",VLOOKUP(G174,HM!$A$10:$B$209,2))","v":""}]
[null,null,{"$f":"IF(B175=\"\",\"\",VLOOKUP(B175,HM!$A$10:$B$209,2))","v":""},null,null,173,null,{"$f":"IF(G175=\"\",\"\",VLOOKUP(G175,HM!$A$10:$B$209,2))","v":""}]
[null,null,{"$f":"IF(B176=\"\",\"\",VLOOKUP(B176,HM!$A$10:$B$209,2))","v":""},null,null,174,null,{"$f":"IF(G176=\"\",\"\",VLOOKUP(G176,HM!$A$10:$B$209,2))","v":""}]
[null,null,{"$f":"IF(B177=\"\",\"\",VLOOKUP(B177,HM!$A$10:$B$209,2))","v":""},null,null,175,null,{"$f":"IF(G177=\"\",\"\",VLOOKUP(G177,HM!$A$10:$B$209,2))","v":""}]
[null,null,{"$f":"IF(B178=\"\",\"\",VLOOKUP(B178,HM!$A$10:$B$209,2))","v":""},null,null,176,null,{"$f":"IF(G178=\"\",\"\",VLOOKUP(G178,HM!$A$10:$B$209,2))","v":""}]
[null,null,{"$f":"IF(B179=\"\",\"\",VLOOKUP(B179,HM!$A$10:$B$209,2))","v":""},null,null,177,null,{"$f":"IF(G179=\"\",\"\",VLOOKUP(G179,HM!$A$10:$B$209,2))","v":""}]
[null,null,{"$f":"IF(B180=\"\",\"\",VLOOKUP(B180,HM!$A$10:$B$209,2))","v":""},null,null,178,null,{"$f":"IF(G180=\"\",\"\",VLOOKUP(G180,HM!$A$10:$B$209,2))","v":""}]
[null,null,{"$f":"IF(B181=\"\",\"\",VLOOKUP(B181,HM!$A$10:$B$209,2))","v":""},null,null,179,null,{"$f":"IF(G181=\"\",\"\",VLOOKUP(G181,HM!$A$10:$B$209,2))","v":""}]
[null,null,{"$f":"IF(B182=\"\",\"\",VLOOKUP(B182,HM!$A$10:$B$209,2))","v":""},null,null,180,null,{"$f":"IF(G182=\"\",\"\",VLOOKUP(G182,HM!$A$10:$B$209,2))","v":""}]
[null,null,{"$f":"IF(B183=\"\",\"\",VLOOKUP(B183,HM!$A$10:$B$209,2))","v":""},null,null,181,null,{"$f":"IF(G183=\"\",\"\",VLOOKUP(G183,HM!$A$10:$B$209,2))","v":""}]
[null,null,{"$f":"IF(B184=\"\",\"\",VLOOKUP(B184,HM!$A$10:$B$209,2))","v":""},null,null,182,null,{"$f":"IF(G184=\"\",\"\",VLOOKUP(G184,HM!$A$10:$B$209,2))","v":""}]
[null,null,{"$f":"IF(B185=\"\",\"\",VLOOKUP(B185,HM!$A$10:$B$209,2))","v":""},null,null,183,null,{"$f":"IF(G185=\"\",\"\",VLOOKUP(G185,HM!$A$10:$B$209,2))","v":""}]
[null,null,{"$f":"IF(B186=\"\",\"\",VLOOKUP(B186,HM!$A$10:$B$209,2))","v":""},null,null,184,null,{"$f":"IF(G186=\"\",\"\",VLOOKUP(G186,HM!$A$10:$B$209,2))","v":""}]
[null,null,{"$f":"IF(B187=\"\",\"\",VLOOKUP(B187,HM!$A$10:$B$209,2))","v":""},null,null,185,null,{"$f":"IF(G187=\"\",\"\",VLOOKUP(G187,HM!$A$10:$B$209,2))","v":""}]
[null,null,{"$f":"IF(B188=\"\",\"\",VLOOKUP(B188,HM!$A$10:$B$209,2))","v":""},null,null,186,null,{"$f":"IF(G188=\"\",\"\",VLOOKUP(G188,HM!$A$10:$B$209,2))","v":""}]
[null,null,{"$f":"IF(B189=\"\",\"\",VLOOKUP(B189,HM!$A$10:$B$209,2))","v":""},null,null,187,null,{"$f":"IF(G189=\"\",\"\",VLOOKUP(G189,HM!$A$10:$B$209,2))","v":""}]
[null,null,{"$f":"IF(B190=\"\",\"\",VLOOKUP(B190,HM!$A$10:$B$209,2))","v":""},null,null,188,null,{"$f":"IF(G190=\"\",\"\",VLOOKUP(G190,HM!$A$10:$B$209,2))","v":""}]
[null,null,{"$f":"IF(B191=\"\",\"\",VLOOKUP(B191,HM!$A$10:$B$209,2))","v":""},null,null,189,null,{"$f":"IF(G191=\"\",\"\",VLOOKUP(G191,HM!$A$10:$B$209,2))","v":""}]
[null,null,{"$f":"IF(B192=\"\",\"\",VLOOKUP(B192,HM!$A$10:$B$209,2))","v":""},null,null,190,null,{"$f":"IF(G192=\"\",\"\",VLOOKUP(G192,HM!$A$10:$B$209,2))","v":""}]
[null,null,{"$f":"IF(B193=\"\",\"\",VLOOKUP(B193,HM!$A$10:$B$209,2))","v":""},null,null,191,null,{"$f":"IF(G193=\"\",\"\",VLOOKUP(G193,HM!$A$10:$B$209,2))","v":""}]
[null,null,{"$f":"IF(B194=\"\",\"\",VLOOKUP(B194,HM!$A$10:$B$209,2))","v":""},null,null,192,null,{"$f":"IF(G194=\"\",\"\",VLOOKUP(G194,HM!$A$10:$B$209,2))","v":""}]
[null,null,{"$f":"IF(B195=\"\",\"\",VLOOKUP(B195,HM!$A$10:$B$209,2))","v":""},null,null,193,null,{"$f":"IF(G195=\"\",\"\",VLOOKUP(G195,HM!$A$10:$B$209,2))","v":""}]
[null,null,{"$f":"IF(B196=\"\",\"\",VLOOKUP(B196,HM!$A$10:$B$209,2))","v":""},null,null,194,null,{"$f":"IF(G196=\"\",\"\",VLOOKUP(G196,HM!$A$10:$B$209,2))","v":""}]
[null,null,{"$f":"IF(B197=\"\",\"\",VLOOKUP(B197,HM!$A$10:$B$209,2))","v":""},null,null,195,null,{"$f":"IF(G197=\"\",\"\",VLOOKUP(G197,HM!$A$10:$B$209,2))","v":""}]
[null,null,{"$f":"IF(B198=\"\",\"\",VLOOKUP(B198,HM!$A$10:$B$209,2))","v":""},null,null,196,null,{"$f":"IF(G198=\"\",\"\",VLOOKUP(G198,HM!$A$10:$B$209,2))","v":""}]
[null,null,{"$f":"IF(B199=\"\",\"\",VLOOKUP(B199,HM!$A$10:$B$209,2))","v":""},null,null,197,null,{"$f":"IF(G199=\"\",\"\",VLOOKUP(G199,HM!$A$10:$B$209,2))","v":""}]
[null,null,{"$f":"IF(B200=\"\",\"\",VLOOKUP(B200,HM!$A$10:$B$209,2))","v":""},null,null,198,null,{"$f":"IF(G200=\"\",\"\",VLOOKUP(G200,HM!$A$10:$B$209,2))","v":""}]
[null,null,{"$f":"IF(B201=\"\",\"\",VLOOKUP(B201,HM!$A$10:$B$209,2))","v":""},null,null,199,null,{"$f":"IF(G201=\"\",\"\",VLOOKUP(G201,HM!$A$10:$B$209,2))","v":""}]
[null,null,{"$f":"IF(B202=\"\",\"\",VLOOKUP(B202,HM!$A$10:$B$209,2))","v":""},null,null,200,null,{"$f":"IF(G202=\"\",\"\",VLOOKUP(G202,HM!$A$10:$B$209,2))","v":""}]

{"sheet":"KSP","index":2,"n_rows":202,"n_cols":10,"rows_kept":202,"cut":false,"hidden":false,"merged":[[0,1,0,4],[0,6,0,9]]}
[null,"Königspokal",null,null,null,null,"Schülerpokal"]
[null,"Lfd.\nNr.:","Vor- und Nachname:","Ringe:","schlechtester\nEinzelschuss",null,"Lfd.\nNr.:","Vor- und Nachname:","Ringe:","schlechtester\nEinzelschuss"]
[null,null,{"$f":"IF(B3=\"\",\"\",VLOOKUP(B3,HM!$A$10:$B$209,2))","v":""},null,null,1,null,{"$f":"IF(G3=\"\",\"\",VLOOKUP(G3,HM!$A$10:$B$209,2))","v":""}]
[null,null,{"$f":"IF(B4=\"\",\"\",VLOOKUP(B4,HM!$A$10:$B$209,2))","v":""},null,null,2,null,{"$f":"IF(G4=\"\",\"\",VLOOKUP(G4,HM!$A$10:$B$209,2))","v":""}]
[null,null,{"$f":"IF(B5=\"\",\"\",VLOOKUP(B5,HM!$A$10:$B$209,2))","v":""},null,null,3,null,{"$f":"IF(G5=\"\",\"\",VLOOKUP(G5,HM!$A$10:$B$209,2))","v":""}]
[null,null,{"$f":"IF(B6=\"\",\"\",VLOOKUP(B6,HM!$A$10:$B$209,2))","v":""},null,null,4,null,{"$f":"IF(G6=\"\",\"\",VLOOKUP(G6,HM!$A$10:$B$209,2))","v":""}]
[null,null,{"$f":"IF(B7=\"\",\"\",VLOOKUP(B7,HM!$A$10:$B$209,2))","v":""},null,null,5,null,{"$f":"IF(G7=\"\",\"\",VLOOKUP(G7,HM!$A$10:$B$209,2))","v":""}]
[null,null,{"$f":"IF(B8=\"\",\"\",VLOOKUP(B8,HM!$A$10:$B$209,2))","v":""},null,null,6,null,{"$f":"IF(G8=\"\",\"\",VLOOKUP(G8,HM!$A$10:$B$209,2))","v":""}]
[null,null,{"$f":"IF(B9=\"\",\"\",VLOOKUP(B9,HM!$A$10:$B$209,2))","v":""},null,null,7,null,{"$f":"IF(G9=\"\",\"\",VLOOKUP(G9,HM!$A$10:$B$209,2))","v":""}]
[null,null,{"$f":"IF(B10=\"\",\"\",VLOOKUP(B10,HM!$A$10:$B$209,2))","v":""},null,null,8,null,{"$f":"IF(G10=\"\",\"\",VLOOKUP(G10,HM!$A$10:$B$209,2))","v":""}]
[null,null,{"$f":"IF(B11=\"\",\"\",VLOOKUP(B11,HM!$A$10:$B$209,2))","v":""},null,null,9,null,{"$f":"IF(G11=\"\",\"\",VLOOKUP(G11,HM!$A$10:$B$209,2))","v":""}]
[null,null,{"$f":"IF(B12=\"\",\"\",VLOOKUP(B12,HM!$A$10:$B$209,2))","v":""},null,null,10,null,{"$f":"IF(G12=\"\",\"\",VLOOKUP(G12,HM!$A$10:$B$209,2))","v":""}]
[null,null,{"$f":"IF(B13=\"\",\"\",VLOOKUP(B13,HM!$A$10:$B$209,2))","v":""},null,null,11,null,{"$f":"IF(G13=\"\",\"\",VLOOKUP(G13,HM!$A$10:$B$209,2))","v":""}]
[null,null,{"$f":"IF(B14=\"\",\"\",VLOOKUP(B14,HM!$A$10:$B$209,2))","v":""},null,null,12,null,{"$f":"IF(G14=\"\",\"\",VLOOKUP(G14,HM!$A$10:$B$209,2))","v":""}]
[null,null,{"$f":"IF(B15=\"\",\"\",VLOOKUP(B15,HM!$A$10:$B$209,2))","v":""},null,null,13,null,{"$f":"IF(G15=\"\",\"\",VLOOKUP(G15,HM!$A$10:$B$209,2))","v":""}]
[null,null,{"$f":"IF(B16=\"\",\"\",VLOOKUP(B16,HM!$A$10:$B$209,2))","v":""},null,null,14,null,{"$f":"IF(G16=\"\",\"\",VLOOKUP(G16,HM!$A$10:$B$209,2))","v":""}]
[null,null,{"$f":"IF(B17=\"\",\"\",VLOOKUP(B17,HM!$A$10:$B$209,2))","v":""},null,null,15,null,{"$f":"IF(G17=\"\",\"\",VLOOKUP(G17,HM!$A$10:$B$209,2))","v":""}]
[null,null,{"$f":"IF(B18=\"\",\"\",VLOOKUP(B18,HM!$A$10:$B$209,2))","v":""},null,null,16,null,{"$f":"IF(G18=\"\",\"\",VLOOKUP(G18,HM!$A$10:$B$209,2))","v":""}]
[null,null,{"$f":"IF(B19=\"\",\"\",VLOOKUP(B19,HM!$A$10:$B$209,2))","v":""},null,null,17,null,{"$f":"IF(G19=\"\",\"\",VLOOKUP(G19,HM!$A$10:$B$209,2))","v":""}]
[null,null,{"$f":"IF(B20=\"\",\"\",VLOOKUP(B20,HM!$A$10:$B$209,2))","v":""},null,null,18,null,{"$f":"IF(G20=\"\",\"\",VLOOKUP(G20,HM!$A$10:$B$209,2))","v":""}]
[null,null,{"$f":"IF(B21=\"\",\"\",VLOOKUP(B21,HM!$A$10:$B$209,2))","v":""},null,null,19,null,{"$f":"IF(G21=\"\",\"\",VLOOKUP(G21,HM!$A$10:$B$209,2))","v":""}]
[null,null,{"$f":"IF(B22=\"\",\"\",VLOOKUP(B22,HM!$A$10:$B$209,2))","v":""},null,null,20,null,{"$f":"IF(G22=\"\",\"\",VLOOKUP(G22,HM!$A$10:$B$209,2))","v":""}]
[null,null,{"$f":"IF(B23=\"\",\"\",VLOOKUP(B23,HM!$A$10:$B$209,2))","v":""},null,null,21,null,{"$f":"IF(G23=\"\",\"\",VLOOKUP(G23,HM!$A$10:$B$209,2))","v":""}]
[null,null,{"$f":"IF(B24=\"\",\"\",VLOOKUP(B24,HM!$A$10:$B$209,2))","v":""},null,null,22,null,{"$f":"IF(G24=\"\",\"\",VLOOKUP(G24,HM!$A$10:$B$209,2))","v":""}]
[null,null,{"$f":"IF(B25=\"\",\"\",VLOOKUP(B25,HM!$A$10:$B$209,2))","v":""},null,null,23,null,{"$f":"IF(G25=\"\",\"\",VLOOKUP(G25,HM!$A$10:$B$209,2))","v":""}]
[null,null,{"$f":"IF(B26=\"\",\"\",VLOOKUP(B26,HM!$A$10:$B$209,2))","v":""},null,null,24,null,{"$f":"IF(G26=\"\",\"\",VLOOKUP(G26,HM!$A$10:$B$209,2))","v":""}]
[null,null,{"$f":"IF(B27=\"\",\"\",VLOOKUP(B27,HM!$A$10:$B$209,2))","v":""},null,null,25,null,{"$f":"IF(G27=\"\",\"\",VLOOKUP(G27,HM!$A$10:$B$209,2))","v":""}]
[null,null,{"$f":"IF(B28=\"\",\"\",VLOOKUP(B28,HM!$A$10:$B$209,2))","v":""},null,null,26,null,{"$f":"IF(G28=\"\",\"\",VLOOKUP(G28,HM!$A$10:$B$209,2))","v":""}]
[null,null,{"$f":"IF(B29=\"\",\"\",VLOOKUP(B29,HM!$A$10:$B$209,2))","v":""},null,null,27,null,{"$f":"IF(G29=\"\",\"\",VLOOKUP(G29,HM!$A$10:$B$209,2))","v":""}]
[null,null,{"$f":"IF(B30=\"\",\"\",VLOOKUP(B30,HM!$A$10:$B$209,2))","v":""},null,null,28,null,{"$f":"IF(G30=\"\",\"\",VLOOKUP(G30,HM!$A$10:$B$209,2))","v":""}]
[null,null,{"$f":"IF(B31=\"\",\"\",VLOOKUP(B31,HM!$A$10:$B$209,2))","v":""},null,null,29,null,{"$f":"IF(G31=\"\",\"\",VLOOKUP(G31,HM!$A$10:$B$209,2))","v":""}]
[null,null,{"$f":"IF(B32=\"\",\"\",VLOOKUP(B32,HM!$A$10:$B$209,2))","v":""},null,null,30,null,{"$f":"IF(G32=\"\",\"\",VLOOKUP(G32,HM!$A$10:$B$209,2))","v":""}]
[null,null,{"$f":"IF(B33=\"\",\"\",VLOOKUP(B33,HM!$A$10:$B$209,2))","v":""},null,null,31,null,{"$f":"IF(G33=\"\",\"\",VLOOKUP(G33,HM!$A$10:$B$209,2))","v":""}]
[null,null,{"$f":"IF(B34=\"\",\"\",VLOOKUP(B34,HM!$A$10:$B$209,2))","v":""},null,null,32,null,{"$f":"IF(G34=\"\",\"\",VLOOKUP(G34,HM!$A$10:$B$209,2))","v":""}]
[null,null,{"$f":"IF(B35=\"\",\"\",VLOOKUP(B35,HM!$A$10:$B$209,2))","v":""},null,null,33,null,{"$f":"IF(G35=\"\",\"\",VLOOKUP(G35,HM!$A$10:$B$209,2))","v":""}]
[null,null,{"$f":"IF(B36=\"\",\"\",VLOOKUP(B36,HM!$A$10:$B$209,2))","v":""},null,null,34,null,{"$f":"IF(G36=\"\",\"\",VLOOKUP(G36,HM!$A$10:$B$209,2))","v":""}]
[null,null,{"$f":"IF(B37=\"\",\"\",VLOOKUP(B37,HM!$A$10:$B$209,2))","v":""},null,null,35,null,{"$f":"IF(G37=\"\",\"\",VLOOKUP(G37,HM!$A$10:$B$209,2))","v":""}]
[null,null,{"$f":"IF(B38=\"\",\"\",VLOOKUP(B38,HM!$A$10:$B$209,2))","v":""},null,null,36,null,{"$f":"IF(G38=\"\",\"\",VLOOKUP(G38,HM!$A$10:$B$209,2))","v":""}]
[null,null,{"$f":"IF(B39=\"\",\"\",VLOOKUP(B39,HM!$A$10:$B$209,2))","v":""},null,null,37,null,{"$f":"IF(G39=\"\",\"\",VLOOKUP(G39,HM!$A$10:$B$209,2))","v":""}]
[null,null,{"$f":"IF(B40=\"\",\"\",VLOOKUP(B40,HM!$A$10:$B$209,2))","v":""},null,null,38,null,{"$f":"IF(G40=\"\",\"\",VLOOKUP(G40,HM!$A$10:$B$209,2))","v":""}]
[null,null,{"$f":"IF(B41=\"\",\"\",VLOOKUP(B41,HM!$A$10:$B$209,2))","v":""},null,null,39,null,{"$f":"IF(G41=\"\",\"\",VLOOKUP(G41,HM!$A$10:$B$209,2))","v":""}]
[null,null,{"$f":"IF(B42=\"\",\"\",VLOOKUP(B42,HM!$A$10:$B$209,2))","v":""},null,null,40,null,{"$f":"IF(G42=\"\",\"\",VLOOKUP(G42,HM!$A$10:$B$209,2))","v":""}]
[null,null,{"$f":"IF(B43=\"\",\"\",VLOOKUP(B43,HM!$A$10:$B$209,2))","v":""},null,null,41,null,{"$f":"IF(G43=\"\",\"\",VLOOKUP(G43,HM!$A$10:$B$209,2))","v":""}]
[null,null,{"$f":"IF(B44=\"\",\"\",VLOOKUP(B44,HM!$A$10:$B$209,2))","v":""},null,null,42,null,{"$f":"IF(G44=\"\",\"\",VLOOKUP(G44,HM!$A$10:$B$209,2))","v":""}]
[null,null,{"$f":"IF(B45=\"\",\"\",VLOOKUP(B45,HM!$A$10:$B$209,2))","v":""},null,null,43,null,{"$f":"IF(G45=\"\",\"\",VLOOKUP(G45,HM!$A$10:$B$209,2))","v":""}]
[null,null,{"$f":"IF(B46=\"\",\"\",VLOOKUP(B46,HM!$A$10:$B$209,2))","v":""},null,null,44,null,{"$f":"IF(G46=\"\",\"\",VLOOKUP(G46,HM!$A$10:$B$209,2))","v":""}]
[null,null,{"$f":"IF(B47=\"\",\"\",VLOOKUP(B47,HM!$A$10:$B$209,2))","v":""},null,null,45,null,{"$f":"IF(G47=\"\",\"\",VLOOKUP(G47,HM!$A$10:$B$209,2))","v":""}]
[null,null,{"$f":"IF(B48=\"\",\"\",VLOOKUP(B48,HM!$A$10:$B$209,2))","v":""},null,null,46,null,{"$f":"IF(G48=\"\",\"\",VLOOKUP(G48,HM!$A$10:$B$209,2))","v":""}]
[null,null,{"$f":"IF(B49=\"\",\"\",VLOOKUP(B49,HM!$A$10:$B$209,2))","v":""},null,null,47,null,{"$f":"IF(G49=\"\",\"\",VLOOKUP(G49,HM!$A$10:$B$209,2))","v":""}]
[null,null,{"$f":"IF(B50=\"\",\"\",VLOOKUP(B50,HM!$A$10:$B$209,2))","v":""},null,null,48,null,{"$f":"IF(G50=\"\",\"\",VLOOKUP(G50,HM!$A$10:$B$209,2))","v":""}]
[null,null,{"$f":"IF(B51=\"\",\"\",VLOOKUP(B51,HM!$A$10:$B$209,2))","v":""},null,null,49,null,{"$f":"IF(G51=\"\",\"\",VLOOKUP(G51,HM!$A$10:$B$209,2))","v":""}]
[null,null,{"$f":"IF(B52=\"\",\"\",VLOOKUP(B52,HM!$A$10:$B$209,2))","v":""},null,null,50,null,{"$f":"IF(G52=\"\",\"\",VLOOKUP(G52,HM!$A$10:$B$209,2))","v":""}]
[null,null,{"$f":"IF(B53=\"\",\"\",VLOOKUP(B53,HM!$A$10:$B$209,2))","v":""},null,null,51,null,{"$f":"IF(G53=\"\",\"\",VLOOKUP(G53,HM!$A$10:$B$209,2))","v":""}]
[null,null,{"$f":"IF(B54=\"\",\"\",VLOOKUP(B54,HM!$A$10:$B$209,2))","v":""},null,null,52,null,{"$f":"IF(G54=\"\",\"\",VLOOKUP(G54,HM!$A$10:$B$209,2))","v":""}]
[null,null,{"$f":"IF(B55=\"\",\"\",VLOOKUP(B55,HM!$A$10:$B$209,2))","v":""},null,null,53,null,{"$f":"IF(G55=\"\",\"\",VLOOKUP(G55,HM!$A$10:$B$209,2))","v":""}]
[null,null,{"$f":"IF(B56=\"\",\"\",VLOOKUP(B56,HM!$A$10:$B$209,2))","v":""},null,null,54,null,{"$f":"IF(G56=\"\",\"\",VLOOKUP(G56,HM!$A$10:$B$209,2))","v":""}]
[null,null,{"$f":"IF(B57=\"\",\"\",VLOOKUP(B57,HM!$A$10:$B$209,2))","v":""},null,null,55,null,{"$f":"IF(G57=\"\",\"\",VLOOKUP(G57,HM!$A$10:$B$209,2))","v":""}]
[null,null,{"$f":"IF(B58=\"\",\"\",VLOOKUP(B58,HM!$A$10:$B$209,2))","v":""},null,null,56,null,{"$f":"IF(G58=\"\",\"\",VLOOKUP(G58,HM!$A$10:$B$209,2))","v":""}]
[null,null,{"$f":"IF(B59=\"\",\"\",VLOOKUP(B59,HM!$A$10:$B$209,2))","v":""},null,null,57,null,{"$f":"IF(G59=\"\",\"\",VLOOKUP(G59,HM!$A$10:$B$209,2))","v":""}]
[null,null,{"$f":"IF(B60=\"\",\"\",VLOOKUP(B60,HM!$A$10:$B$209,2))","v":""},null,null,58,null,{"$f":"IF(G60=\"\",\"\",VLOOKUP(G60,HM!$A$10:$B$209,2))","v":""}]
[null,null,{"$f":"IF(B61=\"\",\"\",VLOOKUP(B61,HM!$A$10:$B$209,2))","v":""},null,null,59,null,{"$f":"IF(G61=\"\",\"\",VLOOKUP(G61,HM!$A$10:$B$209,2))","v":""}]
[null,null,{"$f":"IF(B62=\"\",\"\",VLOOKUP(B62,HM!$A$10:$B$209,2))","v":""},null,null,60,null,{"$f":"IF(G62=\"\",\"\",VLOOKUP(G62,HM!$A$10:$B$209,2))","v":""}]
[null,null,{"$f":"IF(B63=\"\",\"\",VLOOKUP(B63,HM!$A$10:$B$209,2))","v":""},null,null,61,null,{"$f":"IF(G63=\"\",\"\",VLOOKUP(G63,HM!$A$10:$B$209,2))","v":""}]
[null,null,{"$f":"IF(B64=\"\",\"\",VLOOKUP(B64,HM!$A$10:$B$209,2))","v":""},null,null,62,null,{"$f":"IF(G64=\"\",\"\",VLOOKUP(G64,HM!$A$10:$B$209,2))","v":""}]
[null,null,{"$f":"IF(B65=\"\",\"\",VLOOKUP(B65,HM!$A$10:$B$209,2))","v":""},null,null,63,null,{"$f":"IF(G65=\"\",\"\",VLOOKUP(G65,HM!$A$10:$B$209,2))","v":""}]
[null,null,{"$f":"IF(B66=\"\",\"\",VLOOKUP(B66,HM!$A$10:$B$209,2))","v":""},null,null,64,null,{"$f":"IF(G66=\"\",\"\",VLOOKUP(G66,HM!$A$10:$B$209,2))","v":""}]
[null,null,{"$f":"IF(B67=\"\",\"\",VLOOKUP(B67,HM!$A$10:$B$209,2))","v":""},null,null,65,null,{"$f":"IF(G67=\"\",\"\",VLOOKUP(G67,HM!$A$10:$B$209,2))","v":""}]
[null,null,{"$f":"IF(B68=\"\",\"\",VLOOKUP(B68,HM!$A$10:$B$209,2))","v":""},null,null,66,null,{"$f":"IF(G68=\"\",\"\",VLOOKUP(G68,HM!$A$10:$B$209,2))","v":""}]
[null,null,{"$f":"IF(B69=\"\",\"\",VLOOKUP(B69,HM!$A$10:$B$209,2))","v":""},null,null,67,null,{"$f":"IF(G69=\"\",\"\",VLOOKUP(G69,HM!$A$10:$B$209,2))","v":""}]
[null,null,{"$f":"IF(B70=\"\",\"\",VLOOKUP(B70,HM!$A$10:$B$209,2))","v":""},null,null,68,null,{"$f":"IF(G70=\"\",\"\",VLOOKUP(G70,HM!$A$10:$B$209,2))","v":""}]
[null,null,{"$f":"IF(B71=\"\",\"\",VLOOKUP(B71,HM!$A$10:$B$209,2))","v":""},null,null,69,null,{"$f":"IF(G71=\"\",\"\",VLOOKUP(G71,HM!$A$10:$B$209,2))","v":""}]
[null,null,{"$f":"IF(B72=\"\",\"\",VLOOKUP(B72,HM!$A$10:$B$209,2))","v":""},null,null,70,null,{"$f":"IF(G72=\"\",\"\",VLOOKUP(G72,HM!$A$10:$B$209,2))","v":""}]
[null,null,{"$f":"IF(B73=\"\",\"\",VLOOKUP(B73,HM!$A$10:$B$209,2))","v":""},null,null,71,null,{"$f":"IF(G73=\"\",\"\",VLOOKUP(G73,HM!$A$10:$B$209,2))","v":""}]
[null,null,{"$f":"IF(B74=\"\",\"\",VLOOKUP(B74,HM!$A$10:$B$209,2))","v":""},null,null,72,null,{"$f":"IF(G74=\"\",\"\",VLOOKUP(G74,HM!$A$10:$B$209,2))","v":""}]
[null,null,{"$f":"IF(B75=\"\",\"\",VLOOKUP(B75,HM!$A$10:$B$209,2))","v":""},null,null,73,null,{"$f":"IF(G75=\"\",\"\",VLOOKUP(G75,HM!$A$10:$B$209,2))","v":""}]
[null,null,{"$f":"IF(B76=\"\",\"\",VLOOKUP(B76,HM!$A$10:$B$209,2))","v":""},null,null,74,null,{"$f":"IF(G76=\"\",\"\",VLOOKUP(G76,HM!$A$10:$B$209,2))","v":""}]
[null,null,{"$f":"IF(B77=\"\",\"\",VLOOKUP(B77,HM!$A$10:$B$209,2))","v":""},null,null,75,null,{"$f":"IF(G77=\"\",\"\",VLOOKUP(G77,HM!$A$10:$B$209,2))","v":""}]
[null,null,{"$f":"IF(B78=\"\",\"\",VLOOKUP(B78,HM!$A$10:$B$209,2))","v":""},null,null,76,null,{"$f":"IF(G78=\"\",\"\",VLOOKUP(G78,HM!$A$10:$B$209,2))","v":""}]
[null,null,{"$f":"IF(B79=\"\",\"\",VLOOKUP(B79,HM!$A$10:$B$209,2))","v":""},null,null,77,null,{"$f":"IF(G79=\"\",\"\",VLOOKUP(G79,HM!$A$10:$B$209,2))","v":""}]
[null,null,{"$f":"IF(B80=\"\",\"\",VLOOKUP(B80,HM!$A$10:$B$209,2))","v":""},null,null,78,null,{"$f":"IF(G80=\"\",\"\",VLOOKUP(G80,HM!$A$10:$B$209,2))","v":""}]
[null,null,{"$f":"IF(B81=\"\",\"\",VLOOKUP(B81,HM!$A$10:$B$209,2))","v":""},null,null,79,null,{"$f":"IF(G81=\"\",\"\",VLOOKUP(G81,HM!$A$10:$B$209,2))","v":""}]
[null,null,{"$f":"IF(B82=\"\",\"\",VLOOKUP(B82,HM!$A$10:$B$209,2))","v":""},null,null,80,null,{"$f":"IF(G82=\"\",\"\",VLOOKUP(G82,HM!$A$10:$B$209,2))","v":""}]
[null,null,{"$f":"IF(B83=\"\",\"\",VLOOKUP(B83,HM!$A$10:$B$209,2))","v":""},null,null,81,null,{"$f":"IF(G83=\"\",\"\",VLOOKUP(G83,HM!$A$10:$B$209,2))","v":""}]
[null,null,{"$f":"IF(B84=\"\",\"\",VLOOKUP(B84,HM!$A$10:$B$209,2))","v":""},null,null,82,null,{"$f":"IF(G84=\"\",\"\",VLOOKUP(G84,HM!$A$10:$B$209,2))","v":""}]
[null,null,{"$f":"IF(B85=\"\",\"\",VLOOKUP(B85,HM!$A$10:$B$209,2))","v":""},null,null,83,null,{"$f":"IF(G85=\"\",\"\",VLOOKUP(G85,HM!$A$10:$B$209,2))","v":""}]
[null,null,{"$f":"IF(B86=\"\",\"\",VLOOKUP(B86,HM!$A$10:$B$209,2))","v":""},null,null,84,null,{"$f":"IF(G86=\"\",\"\",VLOOKUP(G86,HM!$A$10:$B$209,2))","v":""}]
[null,null,{"$f":"IF(B87=\"\",\"\",VLOOKUP(B87,HM!$A$10:$B$209,2))","v":""},null,null,85,null,{"$f":"IF(G87=\"\",\"\",VLOOKUP(G87,HM!$A$10:$B$209,2))","v":""}]
[null,null,{"$f":"IF(B88=\"\",\"\",VLOOKUP(B88,HM!$A$10:$B$209,2))","v":""},null,null,86,null,{"$f":"IF(G88=\"\",\"\",VLOOKUP(G88,HM!$A$10:$B$209,2))","v":""}]
[null,null,{"$f":"IF(B89=\"\",\"\",VLOOKUP(B89,HM!$A$10:$B$209,2))","v":""},null,null,87,null,{"$f":"IF(G89=\"\",\"\",VLOOKUP(G89,HM!$A$10:$B$209,2))","v":""}]
[null,null,{"$f":"IF(B90=\"\",\"\",VLOOKUP(B90,HM!$A$10:$B$209,2))","v":""},null,null,88,null,{"$f":"IF(G90=\"\",\"\",VLOOKUP(G90,HM!$A$10:$B$209,2))","v":""}]
[null,null,{"$f":"IF(B91=\"\",\"\",VLOOKUP(B91,HM!$A$10:$B$209,2))","v":""},null,null,89,null,{"$f":"IF(G91=\"\",\"\",VLOOKUP(G91,HM!$A$10:$B$209,2))","v":""}]
[null,null,{"$f":"IF(B92=\"\",\"\",VLOOKUP(B92,HM!$A$10:$B$209,2))","v":""},null,null,90,null,{"$f":"IF(G92=\"\",\"\",VLOOKUP(G92,HM!$A$10:$B$209,2))","v":""}]
[null,null,{"$f":"IF(B93=\"\",\"\",VLOOKUP(B93,HM!$A$10:$B$209,2))","v":""},null,null,91,null,{"$f":"IF(G93=\"\",\"\",VLOOKUP(G93,HM!$A$10:$B$209,2))","v":""}]
[null,null,{"$f":"IF(B94=\"\",\"\",VLOOKUP(B94,HM!$A$10:$B$209,2))","v":""},null,null,92,null,{"$f":"IF(G94=\"\",\"\",VLOOKUP(G94,HM!$A$10:$B$209,2))","v":""}]
[null,null,{"$f":"IF(B95=\"\",\"\",VLOOKUP(B95,HM!$A$10:$B$209,2))","v":""},null,null,93,null,{"$f":"IF(G95=\"\",\"\",VLOOKUP(G95,HM!$A$10:$B$209,2))","v":""}]
[null,null,{"$f":"IF(B96=\"\",\"\",VLOOKUP(B96,HM!$A$10:$B$209,2))","v":""},null,null,94,null,{"$f":"IF(G96=\"\",\"\",VLOOKUP(G96,HM!$A$10:$B$209,2))","v":""}]
[null,null,{"$f":"IF(B97=\"\",\"\",VLOOKUP(B97,HM!$A$10:$B$209,2))","v":""},null,null,95,null,{"$f":"IF(G97=\"\",\"\",VLOOKUP(G97,HM!$A$10:$B$209,2))","v":""}]
[null,null,{"$f":"IF(B98=\"\",\"\",VLOOKUP(B98,HM!$A$10:$B$209,2))","v":""},null,null,96,null,{"$f":"IF(G98=\"\",\"\",VLOOKUP(G98,HM!$A$10:$B$209,2))","v":""}]
[null,null,{"$f":"IF(B99=\"\",\"\",VLOOKUP(B99,HM!$A$10:$B$209,2))","v":""},null,null,97,null,{"$f":"IF(G99=\"\",\"\",VLOOKUP(G99,HM!$A$10:$B$209,2))","v":""}]
[null,null,{"$f":"IF(B100=\"\",\"\",VLOOKUP(B100,HM!$A$10:$B$209,2))","v":""},null,null,98,null,{"$f":"IF(G100=\"\",\"\",VLOOKUP(G100,HM!$A$10:$B$209,2))","v":""}]
[null,null,{"$f":"IF(B101=\"\",\"\",VLOOKUP(B101,HM!$A$10:$B$209,2))","v":""},null,null,99,null,{"$f":"IF(G101=\"\",\"\",VLOOKUP(G101,HM!$A$10:$B$209,2))","v":""}]
[null,null,{"$f":"IF(B102=\"\",\"\",VLOOKUP(B102,HM!$A$10:$B$209,2))","v":""},null,null,100,null,{"$f":"IF(G102=\"\",\"\",VLOOKUP(G102,HM!$A$10:$B$209,2))","v":""}]
[null,null,{"$f":"IF(B103=\"\",\"\",VLOOKUP(B103,HM!$A$10:$B$209,2))","v":""},null,null,101,null,{"$f":"IF(G103=\"\",\"\",VLOOKUP(G103,HM!$A$10:$B$209,2))","v":""}]
[null,null,{"$f":"IF(B104=\"\",\"\",VLOOKUP(B104,HM!$A$10:$B$209,2))","v":""},null,null,102,null,{"$f":"IF(G104=\"\",\"\",VLOOKUP(G104,HM!$A$10:$B$209,2))","v":""}]
[null,null,{"$f":"IF(B105=\"\",\"\",VLOOKUP(B105,HM!$A$10:$B$209,2))","v":""},null,null,103,null,{"$f":"IF(G105=\"\",\"\",VLOOKUP(G105,HM!$A$10:$B$209,2))","v":""}]
[null,null,{"$f":"IF(B106=\"\",\"\",VLOOKUP(B106,HM!$A$10:$B$209,2))","v":""},null,null,104,null,{"$f":"IF(G106=\"\",\"\",VLOOKUP(G106,HM!$A$10:$B$209,2))","v":""}]
[null,null,{"$f":"IF(B107=\"\",\"\",VLOOKUP(B107,HM!$A$10:$B$209,2))","v":""},null,null,105,null,{"$f":"IF(G107=\"\",\"\",VLOOKUP(G107,HM!$A$10:$B$209,2))","v":""}]
[null,null,{"$f":"IF(B108=\"\",\"\",VLOOKUP(B108,HM!$A$10:$B$209,2))","v":""},null,null,106,null,{"$f":"IF(G108=\"\",\"\",VLOOKUP(G108,HM!$A$10:$B$209,2))","v":""}]
[null,null,{"$f":"IF(B109=\"\",\"\",VLOOKUP(B109,HM!$A$10:$B$209,2))","v":""},null,null,107,null,{"$f":"IF(G109=\"\",\"\",VLOOKUP(G109,HM!$A$10:$B$209,2))","v":""}]
[null,null,{"$f":"IF(B110=\"\",\"\",VLOOKUP(B110,HM!$A$10:$B$209,2))","v":""},null,null,108,null,{"$f":"IF(G110=\"\",\"\",VLOOKUP(G110,HM!$A$10:$B$209,2))","v":""}]
[null,null,{"$f":"IF(B111=\"\",\"\",VLOOKUP(B111,HM!$A$10:$B$209,2))","v":""},null,null,109,null,{"$f":"IF(G111=\"\",\"\",VLOOKUP(G111,HM!$A$10:$B$209,2))","v":""}]
[null,null,{"$f":"IF(B112=\"\",\"\",VLOOKUP(B112,HM!$A$10:$B$209,2))","v":""},null,null,110,null,{"$f":"IF(G112=\"\",\"\",VLOOKUP(G112,HM!$A$10:$B$209,2))","v":""}]
[null,null,{"$f":"IF(B113=\"\",\"\",VLOOKUP(B113,HM!$A$10:$B$209,2))","v":""},null,null,111,null,{"$f":"IF(G113=\"\",\"\",VLOOKUP(G113,HM!$A$10:$B$209,2))","v":""}]
[null,null,{"$f":"IF(B114=\"\",\"\",VLOOKUP(B114,HM!$A$10:$B$209,2))","v":""},null,null,112,null,{"$f":"IF(G114=\"\",\"\",VLOOKUP(G114,HM!$A$10:$B$209,2))","v":""}]
[null,null,{"$f":"IF(B115=\"\",\"\",VLOOKUP(B115,HM!$A$10:$B$209,2))","v":""},null,null,113,null,{"$f":"IF(G115=\"\",\"\",VLOOKUP(G115,HM!$A$10:$B$209,2))","v":""}]
[null,null,{"$f":"IF(B116=\"\",\"\",VLOOKUP(B116,HM!$A$10:$B$209,2))","v":""},null,null,114,null,{"$f":"IF(G116=\"\",\"\",VLOOKUP(G116,HM!$A$10:$B$209,2))","v":""}]
[null,null,{"$f":"IF(B117=\"\",\"\",VLOOKUP(B117,HM!$A$10:$B$209,2))","v":""},null,null,115,null,{"$f":"IF(G117=\"\",\"\",VLOOKUP(G117,HM!$A$10:$B$209,2))","v":""}]
[null,null,{"$f":"IF(B118=\"\",\"\",VLOOKUP(B118,HM!$A$10:$B$209,2))","v":""},null,null,116,null,{"$f":"IF(G118=\"\",\"\",VLOOKUP(G118,HM!$A$10:$B$209,2))","v":""}]
[null,null,{"$f":"IF(B119=\"\",\"\",VLOOKUP(B119,HM!$A$10:$B$209,2))","v":""},null,null,117,null,{"$f":"IF(G119=\"\",\"\",VLOOKUP(G119,HM!$A$10:$B$209,2))","v":""}]
[null,null,{"$f":"IF(B120=\"\",\"\",VLOOKUP(B120,HM!$A$10:$B$209,2))","v":""},null,null,118,null,{"$f":"IF(G120=\"\",\"\",VLOOKUP(G120,HM!$A$10:$B$209,2))","v":""}]
[null,null,{"$f":"IF(B121=\"\",\"\",VLOOKUP(B121,HM!$A$10:$B$209,2))","v":""},null,null,119,null,{"$f":"IF(G121=\"\",\"\",VLOOKUP(G121,HM!$A$10:$B$209,2))","v":""}]
[null,null,{"$f":"IF(B122=\"\",\"\",VLOOKUP(B122,HM!$A$10:$B$209,2))","v":""},null,null,120,null,{"$f":"IF(G122=\"\",\"\",VLOOKUP(G122,HM!$A$10:$B$209,2))","v":""}]
[null,null,{"$f":"IF(B123=\"\",\"\",VLOOKUP(B123,HM!$A$10:$B$209,2))","v":""},null,null,121,null,{"$f":"IF(G123=\"\",\"\",VLOOKUP(G123,HM!$A$10:$B$209,2))","v":""}]
[null,null,{"$f":"IF(B124=\"\",\"\",VLOOKUP(B124,HM!$A$10:$B$209,2))","v":""},null,null,122,null,{"$f":"IF(G124=\"\",\"\",VLOOKUP(G124,HM!$A$10:$B$209,2))","v":""}]
[null,null,{"$f":"IF(B125=\"\",\"\",VLOOKUP(B125,HM!$A$10:$B$209,2))","v":""},null,null,123,null,{"$f":"IF(G125=\"\",\"\",VLOOKUP(G125,HM!$A$10:$B$209,2))","v":""}]
[null,null,{"$f":"IF(B126=\"\",\"\",VLOOKUP(B126,HM!$A$10:$B$209,2))","v":""},null,null,124,null,{"$f":"IF(G126=\"\",\"\",VLOOKUP(G126,HM!$A$10:$B$209,2))","v":""}]
[null,null,{"$f":"IF(B127=\"\",\"\",VLOOKUP(B127,HM!$A$10:$B$209,2))","v":""},null,null,125,null,{"$f":"IF(G127=\"\",\"\",VLOOKUP(G127,HM!$A$10:$B$209,2))","v":""}]
[null,null,{"$f":"IF(B128=\"\",\"\",VLOOKUP(B128,HM!$A$10:$B$209,2))","v":""},null,null,126,null,{"$f":"IF(G128=\"\",\"\",VLOOKUP(G128,HM!$A$10:$B$209,2))","v":""}]
[null,null,{"$f":"IF(B129=\"\",\"\",VLOOKUP(B129,HM!$A$10:$B$209,2))","v":""},null,null,127,null,{"$f":"IF(G129=\"\",\"\",VLOOKUP(G129,HM!$A$10:$B$209,2))","v":""}]
[null,null,{"$f":"IF(B130=\"\",\"\",VLOOKUP(B130,HM!$A$10:$B$209,2))","v":""},null,null,128,null,{"$f":"IF(G130=\"\",\"\",VLOOKUP(G130,HM!$A$10:$B$209,2))","v":""}]
[null,null,{"$f":"IF(B131=\"\",\"\",VLOOKUP(B131,HM!$A$10:$B$209,2))","v":""},null,null,129,null,{"$f":"IF(G131=\"\",\"\",VLOOKUP(G131,HM!$A$10:$B$209,2))","v":""}]
[null,null,{"$f":"IF(B132=\"\",\"\",VLOOKUP(B132,HM!$A$10:$B$209,2))","v":""},null,null,130,null,{"$f":"IF(G132=\"\",\"\",VLOOKUP(G132,HM!$A$10:$B$209,2))","v":""}]
[null,null,{"$f":"IF(B133=\"\",\"\",VLOOKUP(B133,HM!$A$10:$B$209,2))","v":""},null,null,131,null,{"$f":"IF(G133=\"\",\"\",VLOOKUP(G133,HM!$A$10:$B$209,2))","v":""}]
[null,null,{"$f":"IF(B134=\"\",\"\",VLOOKUP(B134,HM!$A$10:$B$209,2))","v":""},null,null,132,null,{"$f":"IF(G134=\"\",\"\",VLOOKUP(G134,HM!$A$10:$B$209,2))","v":""}]
[null,null,{"$f":"IF(B135=\"\",\"\",VLOOKUP(B135,HM!$A$10:$B$209,2))","v":""},null,null,133,null,{"$f":"IF(G135=\"\",\"\",VLOOKUP(G135,HM!$A$10:$B$209,2))","v":""}]
[null,null,{"$f":"IF(B136=\"\",\"\",VLOOKUP(B136,HM!$A$10:$B$209,2))","v":""},null,null,134,null,{"$f":"IF(G136=\"\",\"\",VLOOKUP(G136,HM!$A$10:$B$209,2))","v":""}]
[null,null,{"$f":"IF(B137=\"\",\"\",VLOOKUP(B137,HM!$A$10:$B$209,2))","v":""},null,null,135,null,{"$f":"IF(G137=\"\",\"\",VLOOKUP(G137,HM!$A$10:$B$209,2))","v":""}]
[null,null,{"$f":"IF(B138=\"\",\"\",VLOOKUP(B138,HM!$A$10:$B$209,2))","v":""},null,null,136,null,{"$f":"IF(G138=\"\",\"\",VLOOKUP(G138,HM!$A$10:$B$209,2))","v":""}]
[null,null,{"$f":"IF(B139=\"\",\"\",VLOOKUP(B139,HM!$A$10:$B$209,2))","v":""},null,null,137,null,{"$f":"IF(G139=\"\",\"\",VLOOKUP(G139,HM!$A$10:$B$209,2))","v":""}]
[null,null,{"$f":"IF(B140=\"\",\"\",VLOOKUP(B140,HM!$A$10:$B$209,2))","v":""},null,null,138,null,{"$f":"IF(G140=\"\",\"\",VLOOKUP(G140,HM!$A$10:$B$209,2))","v":""}]
[null,null,{"$f":"IF(B141=\"\",\"\",VLOOKUP(B141,HM!$A$10:$B$209,2))","v":""},null,null,139,null,{"$f":"IF(G141=\"\",\"\",VLOOKUP(G141,HM!$A$10:$B$209,2))","v":""}]
[null,null,{"$f":"IF(B142=\"\",\"\",VLOOKUP(B142,HM!$A$10:$B$209,2))","v":""},null,null,140,null,{"$f":"IF(G142=\"\",\"\",VLOOKUP(G142,HM!$A$10:$B$209,2))","v":""}]
[null,null,{"$f":"IF(B143=\"\",\"\",VLOOKUP(B143,HM!$A$10:$B$209,2))","v":""},null,null,141,null,{"$f":"IF(G143=\"\",\"\",VLOOKUP(G143,HM!$A$10:$B$209,2))","v":""}]
[null,null,{"$f":"IF(B144=\"\",\"\",VLOOKUP(B144,HM!$A$10:$B$209,2))","v":""},null,null,142,null,{"$f":"IF(G144=\"\",\"\",VLOOKUP(G144,HM!$A$10:$B$209,2))","v":""}]
[null,null,{"$f":"IF(B145=\"\",\"\",VLOOKUP(B145,HM!$A$10:$B$209,2))","v":""},null,null,143,null,{"$f":"IF(G145=\"\",\"\",VLOOKUP(G145,HM!$A$10:$B$209,2))","v":""}]
[null,null,{"$f":"IF(B146=\"\",\"\",VLOOKUP(B146,HM!$A$10:$B$209,2))","v":""},null,null,144,null,{"$f":"IF(G146=\"\",\"\",VLOOKUP(G146,HM!$A$10:$B$209,2))","v":""}]
[null,null,{"$f":"IF(B147=\"\",\"\",VLOOKUP(B147,HM!$A$10:$B$209,2))","v":""},null,null,145,null,{"$f":"IF(G147=\"\",\"\",VLOOKUP(G147,HM!$A$10:$B$209,2))","v":""}]
[null,null,{"$f":"IF(B148=\"\",\"\",VLOOKUP(B148,HM!$A$10:$B$209,2))","v":""},null,null,146,null,{"$f":"IF(G148=\"\",\"\",VLOOKUP(G148,HM!$A$10:$B$209,2))","v":""}]
[null,null,{"$f":"IF(B149=\"\",\"\",VLOOKUP(B149,HM!$A$10:$B$209,2))","v":""},null,null,147,null,{"$f":"IF(G149=\"\",\"\",VLOOKUP(G149,HM!$A$10:$B$209,2))","v":""}]
[null,null,{"$f":"IF(B150=\"\",\"\",VLOOKUP(B150,HM!$A$10:$B$209,2))","v":""},null,null,148,null,{"$f":"IF(G150=\"\",\"\",VLOOKUP(G150,HM!$A$10:$B$209,2))","v":""}]
[null,null,{"$f":"IF(B151=\"\",\"\",VLOOKUP(B151,HM!$A$10:$B$209,2))","v":""},null,null,149,null,{"$f":"IF(G151=\"\",\"\",VLOOKUP(G151,HM!$A$10:$B$209,2))","v":""}]
[null,null,{"$f":"IF(B152=\"\",\"\",VLOOKUP(B152,HM!$A$10:$B$209,2))","v":""},null,null,150,null,{"$f":"IF(G152=\"\",\"\",VLOOKUP(G152,HM!$A$10:$B$209,2))","v":""}]
[null,null,{"$f":"IF(B153=\"\",\"\",VLOOKUP(B153,HM!$A$10:$B$209,2))","v":""},null,null,151,null,{"$f":"IF(G153=\"\",\"\",VLOOKUP(G153,HM!$A$10:$B$209,2))","v":""}]
[null,null,{"$f":"IF(B154=\"\",\"\",VLOOKUP(B154,HM!$A$10:$B$209,2))","v":""},null,null,152,null,{"$f":"IF(G154=\"\",\"\",VLOOKUP(G154,HM!$A$10:$B$209,2))","v":""}]
[null,null,{"$f":"IF(B155=\"\",\"\",VLOOKUP(B155,HM!$A$10:$B$209,2))","v":""},null,null,153,null,{"$f":"IF(G155=\"\",\"\",VLOOKUP(G155,HM!$A$10:$B$209,2))","v":""}]
[null,null,{"$f":"IF(B156=\"\",\"\",VLOOKUP(B156,HM!$A$10:$B$209,2))","v":""},null,null,154,null,{"$f":"IF(G156=\"\",\"\",VLOOKUP(G156,HM!$A$10:$B$209,2))","v":""}]
[null,null,{"$f":"IF(B157=\"\",\"\",VLOOKUP(B157,HM!$A$10:$B$209,2))","v":""},null,null,155,null,{"$f":"IF(G157=\"\",\"\",VLOOKUP(G157,HM!$A$10:$B$209,2))","v":""}]
[null,null,{"$f":"IF(B158=\"\",\"\",VLOOKUP(B158,HM!$A$10:$B$209,2))","v":""},null,null,156,null,{"$f":"IF(G158=\"\",\"\",VLOOKUP(G158,HM!$A$10:$B$209,2))","v":""}]
[null,null,{"$f":"IF(B159=\"\",\"\",VLOOKUP(B159,HM!$A$10:$B$209,2))","v":""},null,null,157,null,{"$f":"IF(G159=\"\",\"\",VLOOKUP(G159,HM!$A$10:$B$209,2))","v":""}]
[null,null,{"$f":"IF(B160=\"\",\"\",VLOOKUP(B160,HM!$A$10:$B$209,2))","v":""},null,null,158,null,{"$f":"IF(G160=\"\",\"\",VLOOKUP(G160,HM!$A$10:$B$209,2))","v":""}]
[null,null,{"$f":"IF(B161=\"\",\"\",VLOOKUP(B161,HM!$A$10:$B$209,2))","v":""},null,null,159,null,{"$f":"IF(G161=\"\",\"\",VLOOKUP(G161,HM!$A$10:$B$209,2))","v":""}]
[null,null,{"$f":"IF(B162=\"\",\"\",VLOOKUP(B162,HM!$A$10:$B$209,2))","v":""},null,null,160,null,{"$f":"IF(G162=\"\",\"\",VLOOKUP(G162,HM!$A$10:$B$209,2))","v":""}]
[null,null,{"$f":"IF(B163=\"\",\"\",VLOOKUP(B163,HM!$A$10:$B$209,2))","v":""},null,null,161,null,{"$f":"IF(G163=\"\",\"\",VLOOKUP(G163,HM!$A$10:$B$209,2))","v":""}]
[null,null,{"$f":"IF(B164=\"\",\"\",VLOOKUP(B164,HM!$A$10:$B$209,2))","v":""},null,null,162,null,{"$f":"IF(G164=\"\",\"\",VLOOKUP(G164,HM!$A$10:$B$209,2))","v":""}]
[null,null,{"$f":"IF(B165=\"\",\"\",VLOOKUP(B165,HM!$A$10:$B$209,2))","v":""},null,null,163,null,{"$f":"IF(G165=\"\",\"\",VLOOKUP(G165,HM!$A$10:$B$209,2))","v":""}]
[null,null,{"$f":"IF(B166=\"\",\"\",VLOOKUP(B166,HM!$A$10:$B$209,2))","v":""},null,null,164,null,{"$f":"IF(G166=\"\",\"\",VLOOKUP(G166,HM!$A$10:$B$209,2))","v":""}]
[null,null,{"$f":"IF(B167=\"\",\"\",VLOOKUP(B167,HM!$A$10:$B$209,2))","v":""},null,null,165,null,{"$f":"IF(G167=\"\",\"\",VLOOKUP(G167,HM!$A$10:$B$209,2))","v":""}]
[null,null,{"$f":"IF(B168=\"\",\"\",VLOOKUP(B168,HM!$A$10:$B$209,2))","v":""},null,null,166,null,{"$f":"IF(G168=\"\",\"\",VLOOKUP(G168,HM!$A$10:$B$209,2))","v":""}]
[null,null,{"$f":"IF(B169=\"\",\"\",VLOOKUP(B169,HM!$A$10:$B$209,2))","v":""},null,null,167,null,{"$f":"IF(G169=\"\",\"\",VLOOKUP(G169,HM!$A$10:$B$209,2))","v":""}]
[null,null,{"$f":"IF(B170=\"\",\"\",VLOOKUP(B170,HM!$A$10:$B$209,2))","v":""},null,null,168,null,{"$f":"IF(G170=\"\",\"\",VLOOKUP(G170,HM!$A$10:$B$209,2))","v":""}]
[null,null,{"$f":"IF(B171=\"\",\"\",VLOOKUP(B171,HM!$A$10:$B$209,2))","v":""},null,null,169,null,{"$f":"IF(G171=\"\",\"\",VLOOKUP(G171,HM!$A$10:$B$209,2))","v":""}]
[null,null,{"$f":"IF(B172=\"\",\"\",VLOOKUP(B172,HM!$A$10:$B$209,2))","v":""},null,null,170,null,{"$f":"IF(G172=\"\",\"\",VLOOKUP(G172,HM!$A$10:$B$209,2))","v":""}]
[null,null,{"$f":"IF(B173=\"\",\"\",VLOOKUP(B173,HM!$A$10:$B$209,2))","v":""},null,null,171,null,{"$f":"IF(G173=\"\",\"\",VLOOKUP(G173,HM!$A$10:$B$209,2))","v":""}]
[null,null,{"$f":"IF(B174=\"\",\"\",VLOOKUP(B174,HM!$A$10:$B$209,2))","v":""},null,null,172,null,{"$f":"IF(G174=\"\",\"\",VLOOKUP(G174,HM!$A$10:$B$209,2))","v":""}]
[null,null,{"$f":"IF(B175=\"\",\"\",VLOOKUP(B175,HM!$A$10:$B$209,2))","v":""},null,null,173,null,{"$f":"IF(G175=\"\",\"\",VLOOKUP(G175,HM!$A$10:$B$209,2))","v":""}]
[null,null,{"$f":"IF(B176=\"\",\"\",VLOOKUP(B176,HM!$A$10:$B$209,2))","v":""},null,null,174,null,{"$f":"IF(G176=\"\",\"\",VLOOKUP(G176,HM!$A$10:$B$209,2))","v":""}]
[null,null,{"$f":"IF(B177=\"\",\"\",VLOOKUP(B177,HM!$A$10:$B$209,2))","v":""},null,null,175,null,{"$f":"IF(G177=\"\",\"\",VLOOKUP(G177,HM!$A$10:$B$209,2))","v":""}]
[null,null,{"$f":"IF(B178=\"\",\"\",VLOOKUP(B178,HM!$A$10:$B$209,2))","v":""},null,null,176,null,{"$f":"IF(G178=\"\",\"\",VLOOKUP(G178,HM!$A$10:$B$209,2))","v":""}]
[null,null,{"$f":"IF(B179=\"\",\"\",VLOOKUP(B179,HM!$A$10:$B$209,2))","v":""},null,null,177,null,{"$f":"IF(G179=\"\",\"\",VLOOKUP(G179,HM!$A$10:$B$209,2))","v":""}]
[null,null,{"$f":"IF(B180=\"\",\"\",VLOOKUP(B180,HM!$A$10:$B$209,2))","v":""},null,null,178,null,{"$f":"IF(G180=\"\",\"\",VLOOKUP(G180,HM!$A$10:$B$209,2))","v":""}]
[null,null,{"$f":"IF(B181=\"\",\"\",VLOOKUP(B181,HM!$A$10:$B$209,2))","v":""},null,null,179,null,{"$f":"IF(G181=\"\",\"\",VLOOKUP(G181,HM!$A$10:$B$209,2))","v":""}]
[null,null,{"$f":"IF(B182=\"\",\"\",VLOOKUP(B182,HM!$A$10:$B$209,2))","v":""},null,null,180,null,{"$f":"IF(G182=\"\",\"\",VLOOKUP(G182,HM!$A$10:$B$209,2))","v":""}]
[null,null,{"$f":"IF(B183=\"\",\"\",VLOOKUP(B183,HM!$A$10:$B$209,2))","v":""},null,null,181,null,{"$f":"IF(G183=\"\",\"\",VLOOKUP(G183,HM!$A$10:$B$209,2))","v":""}]
[null,null,{"$f":"IF(B184=\"\",\"\",VLOOKUP(B184,HM!$A$10:$B$209,2))","v":""},null,null,182,null,{"$f":"IF(G184=\"\",\"\",VLOOKUP(G184,HM!$A$10:$B$209,2))","v":""}]
[null,null,{"$f":"IF(B185=\"\",\"\",VLOOKUP(B185,HM!$A$10:$B$209,2))","v":""},null,null,183,null,{"$f":"IF(G185=\"\",\"\",VLOOKUP(G185,HM!$A$10:$B$209,2))","v":""}]
[null,null,{"$f":"IF(B186=\"\",\"\",VLOOKUP(B186,HM!$A$10:$B$209,2))","v":""},null,null,184,null,{"$f":"IF(G186=\"\",\"\",VLOOKUP(G186,HM!$A$10:$B$209,2))","v":""}]
[null,null,{"$f":"IF(B187=\"\",\"\",VLOOKUP(B187,HM!$A$10:$B$209,2))","v":""},null,null,185,null,{"$f":"IF(G187=\"\",\"\",VLOOKUP(G187,HM!$A$10:$B$209,2))","v":""}]
[null,null,{"$f":"IF(B188=\"\",\"\",VLOOKUP(B188,HM!$A$10:$B$209,2))","v":""},null,null,186,null,{"$f":"IF(G188=\"\",\"\",VLOOKUP(G188,HM!$A$10:$B$209,2))","v":""}]
[null,null,{"$f":"IF(B189=\"\",\"\",VLOOKUP(B189,HM!$A$10:$B$209,2))","v":""},null,null,187,null,{"$f":"IF(G189=\"\",\"\",VLOOKUP(G189,HM!$A$10:$B$209,2))","v":""}]
[null,null,{"$f":"IF(B190=\"\",\"\",VLOOKUP(B190,HM!$A$10:$B$209,2))","v":""},null,null,188,null,{"$f":"IF(G190=\"\",\"\",VLOOKUP(G190,HM!$A$10:$B$209,2))","v":""}]
[null,null,{"$f":"IF(B191=\"\",\"\",VLOOKUP(B191,HM!$A$10:$B$209,2))","v":""},null,null,189,null,{"$f":"IF(G191=\"\",\"\",VLOOKUP(G191,HM!$A$10:$B$209,2))","v":""}]
[null,null,{"$f":"IF(B192=\"\",\"\",VLOOKUP(B192,HM!$A$10:$B$209,2))","v":""},null,null,190,null,{"$f":"IF(G192=\"\",\"\",VLOOKUP(G192,HM!$A$10:$B$209,2))","v":""}]
[null,null,{"$f":"IF(B193=\"\",\"\",VLOOKUP(B193,HM!$A$10:$B$209,2))","v":""},null,null,191,null,{"$f":"IF(G193=\"\",\"\",VLOOKUP(G193,HM!$A$10:$B$209,2))","v":""}]
[null,null,{"$f":"IF(B194=\"\",\"\",VLOOKUP(B194,HM!$A$10:$B$209,2))","v":""},null,null,192,null,{"$f":"IF(G194=\"\",\"\",VLOOKUP(G194,HM!$A$10:$B$209,2))","v":""}]
[null,null,{"$f":"IF(B195=\"\",\"\",VLOOKUP(B195,HM!$A$10:$B$209,2))","v":""},null,null,193,null,{"$f":"IF(G195=\"\",\"\",VLOOKUP(G195,HM!$A$10:$B$209,2))","v":""}]
[null,null,{"$f":"IF(B196=\"\",\"\",VLOOKUP(B196,HM!$A$10:$B$209,2))","v":""},null,null,194,null,{"$f":"IF(G196=\"\",\"\",VLOOKUP(G196,HM!$A$10:$B$209,2))","v":""}]
[null,null,{"$f":"IF(B197=\"\",\"\",VLOOKUP(B197,HM!$A$10:$B$209,2))","v":""},null,null,195,null,{"$f":"IF(G197=\"\",\"\",VLOOKUP(G197,HM!$A$10:$B$209,2))","v":""}]
[null,null,{"$f":"IF(B198=\"\",\"\",VLOOKUP(B198,HM!$A$10:$B$209,2))","v":""},null,null,196,null,{"$f":"IF(G198=\"\",\"\",VLOOKUP(G198,HM!$A$10:$B$209,2))","v":""}]
[null,null,{"$f":"IF(B199=\"\",\"\",VLOOKUP(B199,HM!$A$10:$B$209,2))","v":""},null,null,197,null,{"$f":"IF(G199=\"\",\"\",VLOOKUP(G199,HM!$A$10:$B$209,2))","v":""}]
[null,null,{"$f":"IF(B200=\"\",\"\",VLOOKUP(B200,HM!$A$10:$B$209,2))","v":""},null,null,198,null,{"$f":"IF(G200=\"\",\"\",VLOOKUP(G200,HM!$A$10:$B$209,2))","v":""}]
[null,null,{"$f":"IF(B201=\"\",\"\",VLOOKUP(B201,HM!$A$10:$B$209,2))","v":""},null,null,199,null,{"$f":"IF(G201=\"\",\"\",VLOOKUP(G201,HM!$A$10:$B$209,2))","v":""}]
[null,null,{"$f":"IF(B202=\"\",\"\",VLOOKUP(B202,HM!$A$10:$B$209,2))","v":""},null,null,200,null,{"$f":"IF(G202=\"\",\"\",VLOOKUP(G202,HM!$A$10:$B$209,2))","v":""}]

{"sheet":"FSP","index":3,"n_rows":202,"n_cols":9,"rows_kept":202,"cut":false,"hidden":false,"merged":[[0,1,0,4],[0,6,0,8]]}
[null,"Schimmelpfennig\nPokal",null,null,null,null,"Freihandpokal"]
[null,"Lfd.\nNr.:","Vor- und Nachname:","Ringe:","schlechtester\nEinzelschuss",null,"Lfd.\nNr.:","Vor- und Nachname:","Ringe:"]
[null,null,{"$f":"IF(B3=\"\",\"\",VLOOKUP(B3,HM!$A$10:$B$209,2))","v":""},null,null,1,null,{"$f":"IF(G3=\"\",\"\",VLOOKUP(G3,HM!$A$10:$B$209,2))","v":""}]
[null,null,{"$f":"IF(B4=\"\",\"\",VLOOKUP(B4,HM!$A$10:$B$209,2))","v":""},null,null,2,null,{"$f":"IF(G4=\"\",\"\",VLOOKUP(G4,HM!$A$10:$B$209,2))","v":""}]
[null,null,{"$f":"IF(B5=\"\",\"\",VLOOKUP(B5,HM!$A$10:$B$209,2))","v":""},null,null,3,null,{"$f":"IF(G5=\"\",\"\",VLOOKUP(G5,HM!$A$10:$B$209,2))","v":""}]
[null,null,{"$f":"IF(B6=\"\",\"\",VLOOKUP(B6,HM!$A$10:$B$209,2))","v":""},null,null,4,null,{"$f":"IF(G6=\"\",\"\",VLOOKUP(G6,HM!$A$10:$B$209,2))","v":""}]
[null,null,{"$f":"IF(B7=\"\",\"\",VLOOKUP(B7,HM!$A$10:$B$209,2))","v":""},null,null,5,null,{"$f":"IF(G7=\"\",\"\",VLOOKUP(G7,HM!$A$10:$B$209,2))","v":""}]
[null,null,{"$f":"IF(B8=\"\",\"\",VLOOKUP(B8,HM!$A$10:$B$209,2))","v":""},null,null,6,null,{"$f":"IF(G8=\"\",\"\",VLOOKUP(G8,HM!$A$10:$B$209,2))","v":""}]
[null,null,{"$f":"IF(B9=\"\",\"\",VLOOKUP(B9,HM!$A$10:$B$209,2))","v":""},null,null,7,null,{"$f":"IF(G9=\"\",\"\",VLOOKUP(G9,HM!$A$10:$B$209,2))","v":""}]
[null,null,{"$f":"IF(B10=\"\",\"\",VLOOKUP(B10,HM!$A$10:$B$209,2))","v":""},null,null,8,null,{"$f":"IF(G10=\"\",\"\",VLOOKUP(G10,HM!$A$10:$B$209,2))","v":""}]
[null,null,{"$f":"IF(B11=\"\",\"\",VLOOKUP(B11,HM!$A$10:$B$209,2))","v":""},null,null,9,null,{"$f":"IF(G11=\"\",\"\",VLOOKUP(G11,HM!$A$10:$B$209,2))","v":""}]
[null,null,{"$f":"IF(B12=\"\",\"\",VLOOKUP(B12,HM!$A$10:$B$209,2))","v":""},null,null,10,null,{"$f":"IF(G12=\"\",\"\",VLOOKUP(G12,HM!$A$10:$B$209,2))","v":""}]
[null,null,{"$f":"IF(B13=\"\",\"\",VLOOKUP(B13,HM!$A$10:$B$209,2))","v":""},null,null,11,null,{"$f":"IF(G13=\"\",\"\",VLOOKUP(G13,HM!$A$10:$B$209,2))","v":""}]
[null,null,{"$f":"IF(B14=\"\",\"\",VLOOKUP(B14,HM!$A$10:$B$209,2))","v":""},null,null,12,null,{"$f":"IF(G14=\"\",\"\",VLOOKUP(G14,HM!$A$10:$B$209,2))","v":""}]
[null,null,{"$f":"IF(B15=\"\",\"\",VLOOKUP(B15,HM!$A$10:$B$209,2))","v":""},null,null,13,null,{"$f":"IF(G15=\"\",\"\",VLOOKUP(G15,HM!$A$10:$B$209,2))","v":""}]
[null,null,{"$f":"IF(B16=\"\",\"\",VLOOKUP(B16,HM!$A$10:$B$209,2))","v":""},null,null,14,null,{"$f":"IF(G16=\"\",\"\",VLOOKUP(G16,HM!$A$10:$B$209,2))","v":""}]
[null,null,{"$f":"IF(B17=\"\",\"\",VLOOKUP(B17,HM!$A$10:$B$209,2))","v":""},null,null,15,null,{"$f":"IF(G17=\"\",\"\",VLOOKUP(G17,HM!$A$10:$B$209,2))","v":""}]
[null,null,{"$f":"IF(B18=\"\",\"\",VLOOKUP(B18,HM!$A$10:$B$209,2))","v":""},null,null,16,null,{"$f":"IF(G18=\"\",\"\",VLOOKUP(G18,HM!$A$10:$B$209,2))","v":""}]
[null,null,{"$f":"IF(B19=\"\",\"\",VLOOKUP(B19,HM!$A$10:$B$209,2))","v":""},null,null,17,null,{"$f":"IF(G19=\"\",\"\",VLOOKUP(G19,HM!$A$10:$B$209,2))","v":""}]
[null,null,{"$f":"IF(B20=\"\",\"\",VLOOKUP(B20,HM!$A$10:$B$209,2))","v":""},null,null,18,null,{"$f":"IF(G20=\"\",\"\",VLOOKUP(G20,HM!$A$10:$B$209,2))","v":""}]
[null,null,{"$f":"IF(B21=\"\",\"\",VLOOKUP(B21,HM!$A$10:$B$209,2))","v":""},null,null,19,null,{"$f":"IF(G21=\"\",\"\",VLOOKUP(G21,HM!$A$10:$B$209,2))","v":""}]
[null,null,{"$f":"IF(B22=\"\",\"\",VLOOKUP(B22,HM!$A$10:$B$209,2))","v":""},null,null,20,null,{"$f":"IF(G22=\"\",\"\",VLOOKUP(G22,HM!$A$10:$B$209,2))","v":""}]
[null,null,{"$f":"IF(B23=\"\",\"\",VLOOKUP(B23,HM!$A$10:$B$209,2))","v":""},null,null,21,null,{"$f":"IF(G23=\"\",\"\",VLOOKUP(G23,HM!$A$10:$B$209,2))","v":""}]
[null,null,{"$f":"IF(B24=\"\",\"\",VLOOKUP(B24,HM!$A$10:$B$209,2))","v":""},null,null,22,null,{"$f":"IF(G24=\"\",\"\",VLOOKUP(G24,HM!$A$10:$B$209,2))","v":""}]
[null,null,{"$f":"IF(B25=\"\",\"\",VLOOKUP(B25,HM!$A$10:$B$209,2))","v":""},null,null,23,null,{"$f":"IF(G25=\"\",\"\",VLOOKUP(G25,HM!$A$10:$B$209,2))","v":""}]
[null,null,{"$f":"IF(B26=\"\",\"\",VLOOKUP(B26,HM!$A$10:$B$209,2))","v":""},null,null,24,null,{"$f":"IF(G26=\"\",\"\",VLOOKUP(G26,HM!$A$10:$B$209,2))","v":""}]
[null,null,{"$f":"IF(B27=\"\",\"\",VLOOKUP(B27,HM!$A$10:$B$209,2))","v":""},null,null,25,null,{"$f":"IF(G27=\"\",\"\",VLOOKUP(G27,HM!$A$10:$B$209,2))","v":""}]
[null,null,{"$f":"IF(B28=\"\",\"\",VLOOKUP(B28,HM!$A$10:$B$209,2))","v":""},null,null,26,null,{"$f":"IF(G28=\"\",\"\",VLOOKUP(G28,HM!$A$10:$B$209,2))","v":""}]
[null,null,{"$f":"IF(B29=\"\",\"\",VLOOKUP(B29,HM!$A$10:$B$209,2))","v":""},null,null,27,null,{"$f":"IF(G29=\"\",\"\",VLOOKUP(G29,HM!$A$10:$B$209,2))","v":""}]
[null,null,{"$f":"IF(B30=\"\",\"\",VLOOKUP(B30,HM!$A$10:$B$209,2))","v":""},null,null,28,null,{"$f":"IF(G30=\"\",\"\",VLOOKUP(G30,HM!$A$10:$B$209,2))","v":""}]
[null,null,{"$f":"IF(B31=\"\",\"\",VLOOKUP(B31,HM!$A$10:$B$209,2))","v":""},null,null,29,null,{"$f":"IF(G31=\"\",\"\",VLOOKUP(G31,HM!$A$10:$B$209,2))","v":""}]
[null,null,{"$f":"IF(B32=\"\",\"\",VLOOKUP(B32,HM!$A$10:$B$209,2))","v":""},null,null,30,null,{"$f":"IF(G32=\"\",\"\",VLOOKUP(G32,HM!$A$10:$B$209,2))","v":""}]
[null,null,{"$f":"IF(B33=\"\",\"\",VLOOKUP(B33,HM!$A$10:$B$209,2))","v":""},null,null,31,null,{"$f":"IF(G33=\"\",\"\",VLOOKUP(G33,HM!$A$10:$B$209,2))","v":""}]
[null,null,{"$f":"IF(B34=\"\",\"\",VLOOKUP(B34,HM!$A$10:$B$209,2))","v":""},null,null,32,null,{"$f":"IF(G34=\"\",\"\",VLOOKUP(G34,HM!$A$10:$B$209,2))","v":""}]
[null,null,{"$f":"IF(B35=\"\",\"\",VLOOKUP(B35,HM!$A$10:$B$209,2))","v":""},null,null,33,null,{"$f":"IF(G35=\"\",\"\",VLOOKUP(G35,HM!$A$10:$B$209,2))","v":""}]
[null,null,{"$f":"IF(B36=\"\",\"\",VLOOKUP(B36,HM!$A$10:$B$209,2))","v":""},null,null,34,null,{"$f":"IF(G36=\"\",\"\",VLOOKUP(G36,HM!$A$10:$B$209,2))","v":""}]
[null,null,{"$f":"IF(B37=\"\",\"\",VLOOKUP(B37,HM!$A$10:$B$209,2))","v":""},null,null,35,null,{"$f":"IF(G37=\"\",\"\",VLOOKUP(G37,HM!$A$10:$B$209,2))","v":""}]
[null,null,{"$f":"IF(B38=\"\",\"\",VLOOKUP(B38,HM!$A$10:$B$209,2))","v":""},null,null,36,null,{"$f":"IF(G38=\"\",\"\",VLOOKUP(G38,HM!$A$10:$B$209,2))","v":""}]
[null,null,{"$f":"IF(B39=\"\",\"\",VLOOKUP(B39,HM!$A$10:$B$209,2))","v":""},null,null,37,null,{"$f":"IF(G39=\"\",\"\",VLOOKUP(G39,HM!$A$10:$B$209,2))","v":""}]
[null,null,{"$f":"IF(B40=\"\",\"\",VLOOKUP(B40,HM!$A$10:$B$209,2))","v":""},null,null,38,null,{"$f":"IF(G40=\"\",\"\",VLOOKUP(G40,HM!$A$10:$B$209,2))","v":""}]
[null,null,{"$f":"IF(B41=\"\",\"\",VLOOKUP(B41,HM!$A$10:$B$209,2))","v":""},null,null,39,null,{"$f":"IF(G41=\"\",\"\",VLOOKUP(G41,HM!$A$10:$B$209,2))","v":""}]
[null,null,{"$f":"IF(B42=\"\",\"\",VLOOKUP(B42,HM!$A$10:$B$209,2))","v":""},null,null,40,null,{"$f":"IF(G42=\"\",\"\",VLOOKUP(G42,HM!$A$10:$B$209,2))","v":""}]
[null,null,{"$f":"IF(B43=\"\",\"\",VLOOKUP(B43,HM!$A$10:$B$209,2))","v":""},null,null,41,null,{"$f":"IF(G43=\"\",\"\",VLOOKUP(G43,HM!$A$10:$B$209,2))","v":""}]
[null,null,{"$f":"IF(B44=\"\",\"\",VLOOKUP(B44,HM!$A$10:$B$209,2))","v":""},null,null,42,null,{"$f":"IF(G44=\"\",\"\",VLOOKUP(G44,HM!$A$10:$B$209,2))","v":""}]
[null,null,{"$f":"IF(B45=\"\",\"\",VLOOKUP(B45,HM!$A$10:$B$209,2))","v":""},null,null,43,null,{"$f":"IF(G45=\"\",\"\",VLOOKUP(G45,HM!$A$10:$B$209,2))","v":""}]
[null,null,{"$f":"IF(B46=\"\",\"\",VLOOKUP(B46,HM!$A$10:$B$209,2))","v":""},null,null,44,null,{"$f":"IF(G46=\"\",\"\",VLOOKUP(G46,HM!$A$10:$B$209,2))","v":""}]
[null,null,{"$f":"IF(B47=\"\",\"\",VLOOKUP(B47,HM!$A$10:$B$209,2))","v":""},null,null,45,null,{"$f":"IF(G47=\"\",\"\",VLOOKUP(G47,HM!$A$10:$B$209,2))","v":""}]
[null,null,{"$f":"IF(B48=\"\",\"\",VLOOKUP(B48,HM!$A$10:$B$209,2))","v":""},null,null,46,null,{"$f":"IF(G48=\"\",\"\",VLOOKUP(G48,HM!$A$10:$B$209,2))","v":""}]
[null,null,{"$f":"IF(B49=\"\",\"\",VLOOKUP(B49,HM!$A$10:$B$209,2))","v":""},null,null,47,null,{"$f":"IF(G49=\"\",\"\",VLOOKUP(G49,HM!$A$10:$B$209,2))","v":""}]
[null,null,{"$f":"IF(B50=\"\",\"\",VLOOKUP(B50,HM!$A$10:$B$209,2))","v":""},null,null,48,null,{"$f":"IF(G50=\"\",\"\",VLOOKUP(G50,HM!$A$10:$B$209,2))","v":""}]
[null,null,{"$f":"IF(B51=\"\",\"\",VLOOKUP(B51,HM!$A$10:$B$209,2))","v":""},null,null,49,null,{"$f":"IF(G51=\"\",\"\",VLOOKUP(G51,HM!$A$10:$B$209,2))","v":""}]
[null,null,{"$f":"IF(B52=\"\",\"\",VLOOKUP(B52,HM!$A$10:$B$209,2))","v":""},null,null,50,null,{"$f":"IF(G52=\"\",\"\",VLOOKUP(G52,HM!$A$10:$B$209,2))","v":""}]
[null,null,{"$f":"IF(B53=\"\",\"\",VLOOKUP(B53,HM!$A$10:$B$209,2))","v":""},null,null,51,null,{"$f":"IF(G53=\"\",\"\",VLOOKUP(G53,HM!$A$10:$B$209,2))","v":""}]
[null,null,{"$f":"IF(B54=\"\",\"\",VLOOKUP(B54,HM!$A$10:$B$209,2))","v":""},null,null,52,null,{"$f":"IF(G54=\"\",\"\",VLOOKUP(G54,HM!$A$10:$B$209,2))","v":""}]
[null,null,{"$f":"IF(B55=\"\",\"\",VLOOKUP(B55,HM!$A$10:$B$209,2))","v":""},null,null,53,null,{"$f":"IF(G55=\"\",\"\",VLOOKUP(G55,HM!$A$10:$B$209,2))","v":""}]
[null,null,{"$f":"IF(B56=\"\",\"\",VLOOKUP(B56,HM!$A$10:$B$209,2))","v":""},null,null,54,null,{"$f":"IF(G56=\"\",\"\",VLOOKUP(G56,HM!$A$10:$B$209,2))","v":""}]
[null,null,{"$f":"IF(B57=\"\",\"\",VLOOKUP(B57,HM!$A$10:$B$209,2))","v":""},null,null,55,null,{"$f":"IF(G57=\"\",\"\",VLOOKUP(G57,HM!$A$10:$B$209,2))","v":""}]
[null,null,{"$f":"IF(B58=\"\",\"\",VLOOKUP(B58,HM!$A$10:$B$209,2))","v":""},null,null,56,null,{"$f":"IF(G58=\"\",\"\",VLOOKUP(G58,HM!$A$10:$B$209,2))","v":""}]
[null,null,{"$f":"IF(B59=\"\",\"\",VLOOKUP(B59,HM!$A$10:$B$209,2))","v":""},null,null,57,null,{"$f":"IF(G59=\"\",\"\",VLOOKUP(G59,HM!$A$10:$B$209,2))","v":""}]
[null,null,{"$f":"IF(B60=\"\",\"\",VLOOKUP(B60,HM!$A$10:$B$209,2))","v":""},null,null,58,null,{"$f":"IF(G60=\"\",\"\",VLOOKUP(G60,HM!$A$10:$B$209,2))","v":""}]
[null,null,{"$f":"IF(B61=\"\",\"\",VLOOKUP(B61,HM!$A$10:$B$209,2))","v":""},null,null,59,null,{"$f":"IF(G61=\"\",\"\",VLOOKUP(G61,HM!$A$10:$B$209,2))","v":""}]
[null,null,{"$f":"IF(B62=\"\",\"\",VLOOKUP(B62,HM!$A$10:$B$209,2))","v":""},null,null,60,null,{"$f":"IF(G62=\"\",\"\",VLOOKUP(G62,HM!$A$10:$B$209,2))","v":""}]
[null,null,{"$f":"IF(B63=\"\",\"\",VLOOKUP(B63,HM!$A$10:$B$209,2))","v":""},null,null,61,null,{"$f":"IF(G63=\"\",\"\",VLOOKUP(G63,HM!$A$10:$B$209,2))","v":""}]
[null,null,{"$f":"IF(B64=\"\",\"\",VLOOKUP(B64,HM!$A$10:$B$209,2))","v":""},null,null,62,null,{"$f":"IF(G64=\"\",\"\",VLOOKUP(G64,HM!$A$10:$B$209,2))","v":""}]
[null,null,{"$f":"IF(B65=\"\",\"\",VLOOKUP(B65,HM!$A$10:$B$209,2))","v":""},null,null,63,null,{"$f":"IF(G65=\"\",\"\",VLOOKUP(G65,HM!$A$10:$B$209,2))","v":""}]
[null,null,{"$f":"IF(B66=\"\",\"\",VLOOKUP(B66,HM!$A$10:$B$209,2))","v":""},null,null,64,null,{"$f":"IF(G66=\"\",\"\",VLOOKUP(G66,HM!$A$10:$B$209,2))","v":""}]
[null,null,{"$f":"IF(B67=\"\",\"\",VLOOKUP(B67,HM!$A$10:$B$209,2))","v":""},null,null,65,null,{"$f":"IF(G67=\"\",\"\",VLOOKUP(G67,HM!$A$10:$B$209,2))","v":""}]
[null,null,{"$f":"IF(B68=\"\",\"\",VLOOKUP(B68,HM!$A$10:$B$209,2))","v":""},null,null,66,null,{"$f":"IF(G68=\"\",\"\",VLOOKUP(G68,HM!$A$10:$B$209,2))","v":""}]
[null,null,{"$f":"IF(B69=\"\",\"\",VLOOKUP(B69,HM!$A$10:$B$209,2))","v":""},null,null,67,null,{"$f":"IF(G69=\"\",\"\",VLOOKUP(G69,HM!$A$10:$B$209,2))","v":""}]
[null,null,{"$f":"IF(B70=\"\",\"\",VLOOKUP(B70,HM!$A$10:$B$209,2))","v":""},null,null,68,null,{"$f":"IF(G70=\"\",\"\",VLOOKUP(G70,HM!$A$10:$B$209,2))","v":""}]
[null,null,{"$f":"IF(B71=\"\",\"\",VLOOKUP(B71,HM!$A$10:$B$209,2))","v":""},null,null,69,null,{"$f":"IF(G71=\"\",\"\",VLOOKUP(G71,HM!$A$10:$B$209,2))","v":""}]
[null,null,{"$f":"IF(B72=\"\",\"\",VLOOKUP(B72,HM!$A$10:$B$209,2))","v":""},null,null,70,null,{"$f":"IF(G72=\"\",\"\",VLOOKUP(G72,HM!$A$10:$B$209,2))","v":""}]
[null,null,{"$f":"IF(B73=\"\",\"\",VLOOKUP(B73,HM!$A$10:$B$209,2))","v":""},null,null,71,null,{"$f":"IF(G73=\"\",\"\",VLOOKUP(G73,HM!$A$10:$B$209,2))","v":""}]
[null,null,{"$f":"IF(B74=\"\",\"\",VLOOKUP(B74,HM!$A$10:$B$209,2))","v":""},null,null,72,null,{"$f":"IF(G74=\"\",\"\",VLOOKUP(G74,HM!$A$10:$B$209,2))","v":""}]
[null,null,{"$f":"IF(B75=\"\",\"\",VLOOKUP(B75,HM!$A$10:$B$209,2))","v":""},null,null,73,null,{"$f":"IF(G75=\"\",\"\",VLOOKUP(G75,HM!$A$10:$B$209,2))","v":""}]
[null,null,{"$f":"IF(B76=\"\",\"\",VLOOKUP(B76,HM!$A$10:$B$209,2))","v":""},null,null,74,null,{"$f":"IF(G76=\"\",\"\",VLOOKUP(G76,HM!$A$10:$B$209,2))","v":""}]
[null,null,{"$f":"IF(B77=\"\",\"\",VLOOKUP(B77,HM!$A$10:$B$209,2))","v":""},null,null,75,null,{"$f":"IF(G77=\"\",\"\",VLOOKUP(G77,HM!$A$10:$B$209,2))","v":""}]
[null,null,{"$f":"IF(B78=\"\",\"\",VLOOKUP(B78,HM!$A$10:$B$209,2))","v":""},null,null,76,null,{"$f":"IF(G78=\"\",\"\",VLOOKUP(G78,HM!$A$10:$B$209,2))","v":""}]
[null,null,{"$f":"IF(B79=\"\",\"\",VLOOKUP(B79,HM!$A$10:$B$209,2))","v":""},null,null,77,null,{"$f":"IF(G79=\"\",\"\",VLOOKUP(G79,HM!$A$10:$B$209,2))","v":""}]
[null,null,{"$f":"IF(B80=\"\",\"\",VLOOKUP(B80,HM!$A$10:$B$209,2))","v":""},null,null,78,null,{"$f":"IF(G80=\"\",\"\",VLOOKUP(G80,HM!$A$10:$B$209,2))","v":""}]
[null,null,{"$f":"IF(B81=\"\",\"\",VLOOKUP(B81,HM!$A$10:$B$209,2))","v":""},null,null,79,null,{"$f":"IF(G81=\"\",\"\",VLOOKUP(G81,HM!$A$10:$B$209,2))","v":""}]
[null,null,{"$f":"IF(B82=\"\",\"\",VLOOKUP(B82,HM!$A$10:$B$209,2))","v":""},null,null,80,null,{"$f":"IF(G82=\"\",\"\",VLOOKUP(G82,HM!$A$10:$B$209,2))","v":""}]
[null,null,{"$f":"IF(B83=\"\",\"\",VLOOKUP(B83,HM!$A$10:$B$209,2))","v":""},null,null,81,null,{"$f":"IF(G83=\"\",\"\",VLOOKUP(G83,HM!$A$10:$B$209,2))","v":""}]
[null,null,{"$f":"IF(B84=\"\",\"\",VLOOKUP(B84,HM!$A$10:$B$209,2))","v":""},null,null,82,null,{"$f":"IF(G84=\"\",\"\",VLOOKUP(G84,HM!$A$10:$B$209,2))","v":""}]
[null,null,{"$f":"IF(B85=\"\",\"\",VLOOKUP(B85,HM!$A$10:$B$209,2))","v":""},null,null,83,null,{"$f":"IF(G85=\"\",\"\",VLOOKUP(G85,HM!$A$10:$B$209,2))","v":""}]
[null,null,{"$f":"IF(B86=\"\",\"\",VLOOKUP(B86,HM!$A$10:$B$209,2))","v":""},null,null,84,null,{"$f":"IF(G86=\"\",\"\",VLOOKUP(G86,HM!$A$10:$B$209,2))","v":""}]
[null,null,{"$f":"IF(B87=\"\",\"\",VLOOKUP(B87,HM!$A$10:$B$209,2))","v":""},null,null,85,null,{"$f":"IF(G87=\"\",\"\",VLOOKUP(G87,HM!$A$10:$B$209,2))","v":""}]
[null,null,{"$f":"IF(B88=\"\",\"\",VLOOKUP(B88,HM!$A$10:$B$209,2))","v":""},null,null,86,null,{"$f":"IF(G88=\"\",\"\",VLOOKUP(G88,HM!$A$10:$B$209,2))","v":""}]
[null,null,{"$f":"IF(B89=\"\",\"\",VLOOKUP(B89,HM!$A$10:$B$209,2))","v":""},null,null,87,null,{"$f":"IF(G89=\"\",\"\",VLOOKUP(G89,HM!$A$10:$B$209,2))","v":""}]
[null,null,{"$f":"IF(B90=\"\",\"\",VLOOKUP(B90,HM!$A$10:$B$209,2))","v":""},null,null,88,null,{"$f":"IF(G90=\"\",\"\",VLOOKUP(G90,HM!$A$10:$B$209,2))","v":""}]
[null,null,{"$f":"IF(B91=\"\",\"\",VLOOKUP(B91,HM!$A$10:$B$209,2))","v":""},null,null,89,null,{"$f":"IF(G91=\"\",\"\",VLOOKUP(G91,HM!$A$10:$B$209,2))","v":""}]
[null,null,{"$f":"IF(B92=\"\",\"\",VLOOKUP(B92,HM!$A$10:$B$209,2))","v":""},null,null,90,null,{"$f":"IF(G92=\"\",\"\",VLOOKUP(G92,HM!$A$10:$B$209,2))","v":""}]
[null,null,{"$f":"IF(B93=\"\",\"\",VLOOKUP(B93,HM!$A$10:$B$209,2))","v":""},null,null,91,null,{"$f":"IF(G93=\"\",\"\",VLOOKUP(G93,HM!$A$10:$B$209,2))","v":""}]
[null,null,{"$f":"IF(B94=\"\",\"\",VLOOKUP(B94,HM!$A$10:$B$209,2))","v":""},null,null,92,null,{"$f":"IF(G94=\"\",\"\",VLOOKUP(G94,HM!$A$10:$B$209,2))","v":""}]
[null,null,{"$f":"IF(B95=\"\",\"\",VLOOKUP(B95,HM!$A$10:$B$209,2))","v":""},null,null,93,null,{"$f":"IF(G95=\"\",\"\",VLOOKUP(G95,HM!$A$10:$B$209,2))","v":""}]
[null,null,{"$f":"IF(B96=\"\",\"\",VLOOKUP(B96,HM!$A$10:$B$209,2))","v":""},null,null,94,null,{"$f":"IF(G96=\"\",\"\",VLOOKUP(G96,HM!$A$10:$B$209,2))","v":""}]
[null,null,{"$f":"IF(B97=\"\",\"\",VLOOKUP(B97,HM!$A$10:$B$209,2))","v":""},null,null,95,null,{"$f":"IF(G97=\"\",\"\",VLOOKUP(G97,HM!$A$10:$B$209,2))","v":""}]
[null,null,{"$f":"IF(B98=\"\",\"\",VLOOKUP(B98,HM!$A$10:$B$209,2))","v":""},null,null,96,null,{"$f":"IF(G98=\"\",\"\",VLOOKUP(G98,HM!$A$10:$B$209,2))","v":""}]
[null,null,{"$f":"IF(B99=\"\",\"\",VLOOKUP(B99,HM!$A$10:$B$209,2))","v":""},null,null,97,null,{"$f":"IF(G99=\"\",\"\",VLOOKUP(G99,HM!$A$10:$B$209,2))","v":""}]
[null,null,{"$f":"IF(B100=\"\",\"\",VLOOKUP(B100,HM!$A$10:$B$209,2))","v":""},null,null,98,null,{"$f":"IF(G100=\"\",\"\",VLOOKUP(G100,HM!$A$10:$B$209,2))","v":""}]
[null,null,{"$f":"IF(B101=\"\",\"\",VLOOKUP(B101,HM!$A$10:$B$209,2))","v":""},null,null,99,null,{"$f":"IF(G101=\"\",\"\",VLOOKUP(G101,HM!$A$10:$B$209,2))","v":""}]
[null,null,{"$f":"IF(B102=\"\",\"\",VLOOKUP(B102,HM!$A$10:$B$209,2))","v":""},null,null,100,null,{"$f":"IF(G102=\"\",\"\",VLOOKUP(G102,HM!$A$10:$B$209,2))","v":""}]
[null,null,{"$f":"IF(B103=\"\",\"\",VLOOKUP(B103,HM!$A$10:$B$209,2))","v":""},null,null,101,null,{"$f":"IF(G103=\"\",\"\",VLOOKUP(G103,HM!$A$10:$B$209,2))","v":""}]
[null,null,{"$f":"IF(B104=\"\",\"\",VLOOKUP(B104,HM!$A$10:$B$209,2))","v":""},null,null,102,null,{"$f":"IF(G104=\"\",\"\",VLOOKUP(G104,HM!$A$10:$B$209,2))","v":""}]
[null,null,{"$f":"IF(B105=\"\",\"\",VLOOKUP(B105,HM!$A$10:$B$209,2))","v":""},null,null,103,null,{"$f":"IF(G105=\"\",\"\",VLOOKUP(G105,HM!$A$10:$B$209,2))","v":""}]
[null,null,{"$f":"IF(B106=\"\",\"\",VLOOKUP(B106,HM!$A$10:$B$209,2))","v":""},null,null,104,null,{"$f":"IF(G106=\"\",\"\",VLOOKUP(G106,HM!$A$10:$B$209,2))","v":""}]
[null,null,{"$f":"IF(B107=\"\",\"\",VLOOKUP(B107,HM!$A$10:$B$209,2))","v":""},null,null,105,null,{"$f":"IF(G107=\"\",\"\",VLOOKUP(G107,HM!$A$10:$B$209,2))","v":""}]
[null,null,{"$f":"IF(B108=\"\",\"\",VLOOKUP(B108,HM!$A$10:$B$209,2))","v":""},null,null,106,null,{"$f":"IF(G108=\"\",\"\",VLOOKUP(G108,HM!$A$10:$B$209,2))","v":""}]
[null,null,{"$f":"IF(B109=\"\",\"\",VLOOKUP(B109,HM!$A$10:$B$209,2))","v":""},null,null,107,null,{"$f":"IF(G109=\"\",\"\",VLOOKUP(G109,HM!$A$10:$B$209,2))","v":""}]
[null,null,{"$f":"IF(B110=\"\",\"\",VLOOKUP(B110,HM!$A$10:$B$209,2))","v":""},null,null,108,null,{"$f":"IF(G110=\"\",\"\",VLOOKUP(G110,HM!$A$10:$B$209,2))","v":""}]
[null,null,{"$f":"IF(B111=\"\",\"\",VLOOKUP(B111,HM!$A$10:$B$209,2))","v":""},null,null,109,null,{"$f":"IF(G111=\"\",\"\",VLOOKUP(G111,HM!$A$10:$B$209,2))","v":""}]
[null,null,{"$f":"IF(B112=\"\",\"\",VLOOKUP(B112,HM!$A$10:$B$209,2))","v":""},null,null,110,null,{"$f":"IF(G112=\"\",\"\",VLOOKUP(G112,HM!$A$10:$B$209,2))","v":""}]
[null,null,{"$f":"IF(B113=\"\",\"\",VLOOKUP(B113,HM!$A$10:$B$209,2))","v":""},null,null,111,null,{"$f":"IF(G113=\"\",\"\",VLOOKUP(G113,HM!$A$10:$B$209,2))","v":""}]
[null,null,{"$f":"IF(B114=\"\",\"\",VLOOKUP(B114,HM!$A$10:$B$209,2))","v":""},null,null,112,null,{"$f":"IF(G114=\"\",\"\",VLOOKUP(G114,HM!$A$10:$B$209,2))","v":""}]
[null,null,{"$f":"IF(B115=\"\",\"\",VLOOKUP(B115,HM!$A$10:$B$209,2))","v":""},null,null,113,null,{"$f":"IF(G115=\"\",\"\",VLOOKUP(G115,HM!$A$10:$B$209,2))","v":""}]
[null,null,{"$f":"IF(B116=\"\",\"\",VLOOKUP(B116,HM!$A$10:$B$209,2))","v":""},null,null,114,null,{"$f":"IF(G116=\"\",\"\",VLOOKUP(G116,HM!$A$10:$B$209,2))","v":""}]
[null,null,{"$f":"IF(B117=\"\",\"\",VLOOKUP(B117,HM!$A$10:$B$209,2))","v":""},null,null,115,null,{"$f":"IF(G117=\"\",\"\",VLOOKUP(G117,HM!$A$10:$B$209,2))","v":""}]
[null,null,{"$f":"IF(B118=\"\",\"\",VLOOKUP(B118,HM!$A$10:$B$209,2))","v":""},null,null,116,null,{"$f":"IF(G118=\"\",\"\",VLOOKUP(G118,HM!$A$10:$B$209,2))","v":""}]
[null,null,{"$f":"IF(B119=\"\",\"\",VLOOKUP(B119,HM!$A$10:$B$209,2))","v":""},null,null,117,null,{"$f":"IF(G119=\"\",\"\",VLOOKUP(G119,HM!$A$10:$B$209,2))","v":""}]
[null,null,{"$f":"IF(B120=\"\",\"\",VLOOKUP(B120,HM!$A$10:$B$209,2))","v":""},null,null,118,null,{"$f":"IF(G120=\"\",\"\",VLOOKUP(G120,HM!$A$10:$B$209,2))","v":""}]
[null,null,{"$f":"IF(B121=\"\",\"\",VLOOKUP(B121,HM!$A$10:$B$209,2))","v":""},null,null,119,null,{"$f":"IF(G121=\"\",\"\",VLOOKUP(G121,HM!$A$10:$B$209,2))","v":""}]
[null,null,{"$f":"IF(B122=\"\",\"\",VLOOKUP(B122,HM!$A$10:$B$209,2))","v":""},null,null,120,null,{"$f":"IF(G122=\"\",\"\",VLOOKUP(G122,HM!$A$10:$B$209,2))","v":""}]
[null,null,{"$f":"IF(B123=\"\",\"\",VLOOKUP(B123,HM!$A$10:$B$209,2))","v":""},null,null,121,null,{"$f":"IF(G123=\"\",\"\",VLOOKUP(G123,HM!$A$10:$B$209,2))","v":""}]
[null,null,{"$f":"IF(B124=\"\",\"\",VLOOKUP(B124,HM!$A$10:$B$209,2))","v":""},null,null,122,null,{"$f":"IF(G124=\"\",\"\",VLOOKUP(G124,HM!$A$10:$B$209,2))","v":""}]
[null,null,{"$f":"IF(B125=\"\",\"\",VLOOKUP(B125,HM!$A$10:$B$209,2))","v":""},null,null,123,null,{"$f":"IF(G125=\"\",\"\",VLOOKUP(G125,HM!$A$10:$B$209,2))","v":""}]
[null,null,{"$f":"IF(B126=\"\",\"\",VLOOKUP(B126,HM!$A$10:$B$209,2))","v":""},null,null,124,null,{"$f":"IF(G126=\"\",\"\",VLOOKUP(G126,HM!$A$10:$B$209,2))","v":""}]
[null,null,{"$f":"IF(B127=\"\",\"\",VLOOKUP(B127,HM!$A$10:$B$209,2))","v":""},null,null,125,null,{"$f":"IF(G127=\"\",\"\",VLOOKUP(G127,HM!$A$10:$B$209,2))","v":""}]
[null,null,{"$f":"IF(B128=\"\",\"\",VLOOKUP(B128,HM!$A$10:$B$209,2))","v":""},null,null,126,null,{"$f":"IF(G128=\"\",\"\",VLOOKUP(G128,HM!$A$10:$B$209,2))","v":""}]
[null,null,{"$f":"IF(B129=\"\",\"\",VLOOKUP(B129,HM!$A$10:$B$209,2))","v":""},null,null,127,null,{"$f":"IF(G129=\"\",\"\",VLOOKUP(G129,HM!$A$10:$B$209,2))","v":""}]
[null,null,{"$f":"IF(B130=\"\",\"\",VLOOKUP(B130,HM!$A$10:$B$209,2))","v":""},null,null,128,null,{"$f":"IF(G130=\"\",\"\",VLOOKUP(G130,HM!$A$10:$B$209,2))","v":""}]
[null,null,{"$f":"IF(B131=\"\",\"\",VLOOKUP(B131,HM!$A$10:$B$209,2))","v":""},null,null,129,null,{"$f":"IF(G131=\"\",\"\",VLOOKUP(G131,HM!$A$10:$B$209,2))","v":""}]
[null,null,{"$f":"IF(B132=\"\",\"\",VLOOKUP(B132,HM!$A$10:$B$209,2))","v":""},null,null,130,null,{"$f":"IF(G132=\"\",\"\",VLOOKUP(G132,HM!$A$10:$B$209,2))","v":""}]
[null,null,{"$f":"IF(B133=\"\",\"\",VLOOKUP(B133,HM!$A$10:$B$209,2))","v":""},null,null,131,null,{"$f":"IF(G133=\"\",\"\",VLOOKUP(G133,HM!$A$10:$B$209,2))","v":""}]
[null,null,{"$f":"IF(B134=\"\",\"\",VLOOKUP(B134,HM!$A$10:$B$209,2))","v":""},null,null,132,null,{"$f":"IF(G134=\"\",\"\",VLOOKUP(G134,HM!$A$10:$B$209,2))","v":""}]
[null,null,{"$f":"IF(B135=\"\",\"\",VLOOKUP(B135,HM!$A$10:$B$209,2))","v":""},null,null,133,null,{"$f":"IF(G135=\"\",\"\",VLOOKUP(G135,HM!$A$10:$B$209,2))","v":""}]
[null,null,{"$f":"IF(B136=\"\",\"\",VLOOKUP(B136,HM!$A$10:$B$209,2))","v":""},null,null,134,null,{"$f":"IF(G136=\"\",\"\",VLOOKUP(G136,HM!$A$10:$B$209,2))","v":""}]
[null,null,{"$f":"IF(B137=\"\",\"\",VLOOKUP(B137,HM!$A$10:$B$209,2))","v":""},null,null,135,null,{"$f":"IF(G137=\"\",\"\",VLOOKUP(G137,HM!$A$10:$B$209,2))","v":""}]
[null,null,{"$f":"IF(B138=\"\",\"\",VLOOKUP(B138,HM!$A$10:$B$209,2))","v":""},null,null,136,null,{"$f":"IF(G138=\"\",\"\",VLOOKUP(G138,HM!$A$10:$B$209,2))","v":""}]
[null,null,{"$f":"IF(B139=\"\",\"\",VLOOKUP(B139,HM!$A$10:$B$209,2))","v":""},null,null,137,null,{"$f":"IF(G139=\"\",\"\",VLOOKUP(G139,HM!$A$10:$B$209,2))","v":""}]
[null,null,{"$f":"IF(B140=\"\",\"\",VLOOKUP(B140,HM!$A$10:$B$209,2))","v":""},null,null,138,null,{"$f":"IF(G140=\"\",\"\",VLOOKUP(G140,HM!$A$10:$B$209,2))","v":""}]
[null,null,{"$f":"IF(B141=\"\",\"\",VLOOKUP(B141,HM!$A$10:$B$209,2))","v":""},null,null,139,null,{"$f":"IF(G141=\"\",\"\",VLOOKUP(G141,HM!$A$10:$B$209,2))","v":""}]
[null,null,{"$f":"IF(B142=\"\",\"\",VLOOKUP(B142,HM!$A$10:$B$209,2))","v":""},null,null,140,null,{"$f":"IF(G142=\"\",\"\",VLOOKUP(G142,HM!$A$10:$B$209,2))","v":""}]
[null,null,{"$f":"IF(B143=\"\",\"\",VLOOKUP(B143,HM!$A$10:$B$209,2))","v":""},null,null,141,null,{"$f":"IF(G143=\"\",\"\",VLOOKUP(G143,HM!$A$10:$B$209,2))","v":""}]
[null,null,{"$f":"IF(B144=\"\",\"\",VLOOKUP(B144,HM!$A$10:$B$209,2))","v":""},null,null,142,null,{"$f":"IF(G144=\"\",\"\",VLOOKUP(G144,HM!$A$10:$B$209,2))","v":""}]
[null,null,{"$f":"IF(B145=\"\",\"\",VLOOKUP(B145,HM!$A$10:$B$209,2))","v":""},null,null,143,null,{"$f":"IF(G145=\"\",\"\",VLOOKUP(G145,HM!$A$10:$B$209,2))","v":""}]
[null,null,{"$f":"IF(B146=\"\",\"\",VLOOKUP(B146,HM!$A$10:$B$209,2))","v":""},null,null,144,null,{"$f":"IF(G146=\"\",\"\",VLOOKUP(G146,HM!$A$10:$B$209,2))","v":""}]
[null,null,{"$f":"IF(B147=\"\",\"\",VLOOKUP(B147,HM!$A$10:$B$209,2))","v":""},null,null,145,null,{"$f":"IF(G147=\"\",\"\",VLOOKUP(G147,HM!$A$10:$B$209,2))","v":""}]
[null,null,{"$f":"IF(B148=\"\",\"\",VLOOKUP(B148,HM!$A$10:$B$209,2))","v":""},null,null,146,null,{"$f":"IF(G148=\"\",\"\",VLOOKUP(G148,HM!$A$10:$B$209,2))","v":""}]
[null,null,{"$f":"IF(B149=\"\",\"\",VLOOKUP(B149,HM!$A$10:$B$209,2))","v":""},null,null,147,null,{"$f":"IF(G149=\"\",\"\",VLOOKUP(G149,HM!$A$10:$B$209,2))","v":""}]
[null,null,{"$f":"IF(B150=\"\",\"\",VLOOKUP(B150,HM!$A$10:$B$209,2))","v":""},null,null,148,null,{"$f":"IF(G150=\"\",\"\",VLOOKUP(G150,HM!$A$10:$B$209,2))","v":""}]
[null,null,{"$f":"IF(B151=\"\",\"\",VLOOKUP(B151,HM!$A$10:$B$209,2))","v":""},null,null,149,null,{"$f":"IF(G151=\"\",\"\",VLOOKUP(G151,HM!$A$10:$B$209,2))","v":""}]
[null,null,{"$f":"IF(B152=\"\",\"\",VLOOKUP(B152,HM!$A$10:$B$209,2))","v":""},null,null,150,null,{"$f":"IF(G152=\"\",\"\",VLOOKUP(G152,HM!$A$10:$B$209,2))","v":""}]
[null,null,{"$f":"IF(B153=\"\",\"\",VLOOKUP(B153,HM!$A$10:$B$209,2))","v":""},null,null,151,null,{"$f":"IF(G153=\"\",\"\",VLOOKUP(G153,HM!$A$10:$B$209,2))","v":""}]
[null,null,{"$f":"IF(B154=\"\",\"\",VLOOKUP(B154,HM!$A$10:$B$209,2))","v":""},null,null,152,null,{"$f":"IF(G154=\"\",\"\",VLOOKUP(G154,HM!$A$10:$B$209,2))","v":""}]
[null,null,{"$f":"IF(B155=\"\",\"\",VLOOKUP(B155,HM!$A$10:$B$209,2))","v":""},null,null,153,null,{"$f":"IF(G155=\"\",\"\",VLOOKUP(G155,HM!$A$10:$B$209,2))","v":""}]
[null,null,{"$f":"IF(B156=\"\",\"\",VLOOKUP(B156,HM!$A$10:$B$209,2))","v":""},null,null,154,null,{"$f":"IF(G156=\"\",\"\",VLOOKUP(G156,HM!$A$10:$B$209,2))","v":""}]
[null,null,{"$f":"IF(B157=\"\",\"\",VLOOKUP(B157,HM!$A$10:$B$209,2))","v":""},null,null,155,null,{"$f":"IF(G157=\"\",\"\",VLOOKUP(G157,HM!$A$10:$B$209,2))","v":""}]
[null,null,{"$f":"IF(B158=\"\",\"\",VLOOKUP(B158,HM!$A$10:$B$209,2))","v":""},null,null,156,null,{"$f":"IF(G158=\"\",\"\",VLOOKUP(G158,HM!$A$10:$B$209,2))","v":""}]
[null,null,{"$f":"IF(B159=\"\",\"\",VLOOKUP(B159,HM!$A$10:$B$209,2))","v":""},null,null,157,null,{"$f":"IF(G159=\"\",\"\",VLOOKUP(G159,HM!$A$10:$B$209,2))","v":""}]
[null,null,{"$f":"IF(B160=\"\",\"\",VLOOKUP(B160,HM!$A$10:$B$209,2))","v":""},null,null,158,null,{"$f":"IF(G160=\"\",\"\",VLOOKUP(G160,HM!$A$10:$B$209,2))","v":""}]
[null,null,{"$f":"IF(B161=\"\",\"\",VLOOKUP(B161,HM!$A$10:$B$209,2))","v":""},null,null,159,null,{"$f":"IF(G161=\"\",\"\",VLOOKUP(G161,HM!$A$10:$B$209,2))","v":""}]
[null,null,{"$f":"IF(B162=\"\",\"\",VLOOKUP(B162,HM!$A$10:$B$209,2))","v":""},null,null,160,null,{"$f":"IF(G162=\"\",\"\",VLOOKUP(G162,HM!$A$10:$B$209,2))","v":""}]
[null,null,{"$f":"IF(B163=\"\",\"\",VLOOKUP(B163,HM!$A$10:$B$209,2))","v":""},null,null,161,null,{"$f":"IF(G163=\"\",\"\",VLOOKUP(G163,HM!$A$10:$B$209,2))","v":""}]
[null,null,{"$f":"IF(B164=\"\",\"\",VLOOKUP(B164,HM!$A$10:$B$209,2))","v":""},null,null,162,null,{"$f":"IF(G164=\"\",\"\",VLOOKUP(G164,HM!$A$10:$B$209,2))","v":""}]
[null,null,{"$f":"IF(B165=\"\",\"\",VLOOKUP(B165,HM!$A$10:$B$209,2))","v":""},null,null,163,null,{"$f":"IF(G165=\"\",\"\",VLOOKUP(G165,HM!$A$10:$B$209,2))","v":""}]
[null,null,{"$f":"IF(B166=\"\",\"\",VLOOKUP(B166,HM!$A$10:$B$209,2))","v":""},null,null,164,null,{"$f":"IF(G166=\"\",\"\",VLOOKUP(G166,HM!$A$10:$B$209,2))","v":""}]
[null,null,{"$f":"IF(B167=\"\",\"\",VLOOKUP(B167,HM!$A$10:$B$209,2))","v":""},null,null,165,null,{"$f":"IF(G167=\"\",\"\",VLOOKUP(G167,HM!$A$10:$B$209,2))","v":""}]
[null,null,{"$f":"IF(B168=\"\",\"\",VLOOKUP(B168,HM!$A$10:$B$209,2))","v":""},null,null,166,null,{"$f":"IF(G168=\"\",\"\",VLOOKUP(G168,HM!$A$10:$B$209,2))","v":""}]
[null,null,{"$f":"IF(B169=\"\",\"\",VLOOKUP(B169,HM!$A$10:$B$209,2))","v":""},null,null,167,null,{"$f":"IF(G169=\"\",\"\",VLOOKUP(G169,HM!$A$10:$B$209,2))","v":""}]
[null,null,{"$f":"IF(B170=\"\",\"\",VLOOKUP(B170,HM!$A$10:$B$209,2))","v":""},null,null,168,null,{"$f":"IF(G170=\"\",\"\",VLOOKUP(G170,HM!$A$10:$B$209,2))","v":""}]
[null,null,{"$f":"IF(B171=\"\",\"\",VLOOKUP(B171,HM!$A$10:$B$209,2))","v":""},null,null,169,null,{"$f":"IF(G171=\"\",\"\",VLOOKUP(G171,HM!$A$10:$B$209,2))","v":""}]
[null,null,{"$f":"IF(B172=\"\",\"\",VLOOKUP(B172,HM!$A$10:$B$209,2))","v":""},null,null,170,null,{"$f":"IF(G172=\"\",\"\",VLOOKUP(G172,HM!$A$10:$B$209,2))","v":""}]
[null,null,{"$f":"IF(B173=\"\",\"\",VLOOKUP(B173,HM!$A$10:$B$209,2))","v":""},null,null,171,null,{"$f":"IF(G173=\"\",\"\",VLOOKUP(G173,HM!$A$10:$B$209,2))","v":""}]
[null,null,{"$f":"IF(B174=\"\",\"\",VLOOKUP(B174,HM!$A$10:$B$209,2))","v":""},null,null,172,null,{"$f":"IF(G174=\"\",\"\",VLOOKUP(G174,HM!$A$10:$B$209,2))","v":""}]
[null,null,{"$f":"IF(B175=\"\",\"\",VLOOKUP(B175,HM!$A$10:$B$209,2))","v":""},null,null,173,null,{"$f":"IF(G175=\"\",\"\",VLOOKUP(G175,HM!$A$10:$B$209,2))","v":""}]
[null,null,{"$f":"IF(B176=\"\",\"\",VLOOKUP(B176,HM!$A$10:$B$209,2))","v":""},null,null,174,null,{"$f":"IF(G176=\"\",\"\",VLOOKUP(G176,HM!$A$10:$B$209,2))","v":""}]
[null,null,{"$f":"IF(B177=\"\",\"\",VLOOKUP(B177,HM!$A$10:$B$209,2))","v":""},null,null,175,null,{"$f":"IF(G177=\"\",\"\",VLOOKUP(G177,HM!$A$10:$B$209,2))","v":""}]
[null,null,{"$f":"IF(B178=\"\",\"\",VLOOKUP(B178,HM!$A$10:$B$209,2))","v":""},null,null,176,null,{"$f":"IF(G178=\"\",\"\",VLOOKUP(G178,HM!$A$10:$B$209,2))","v":""}]
[null,null,{"$f":"IF(B179=\"\",\"\",VLOOKUP(B179,HM!$A$10:$B$209,2))","v":""},null,null,177,null,{"$f":"IF(G179=\"\",\"\",VLOOKUP(G179,HM!$A$10:$B$209,2))","v":""}]
[null,null,{"$f":"IF(B180=\"\",\"\",VLOOKUP(B180,HM!$A$10:$B$209,2))","v":""},null,null,178,null,{"$f":"IF(G180=\"\",\"\",VLOOKUP(G180,HM!$A$10:$B$209,2))","v":""}]
[null,null,{"$f":"IF(B181=\"\",\"\",VLOOKUP(B181,HM!$A$10:$B$209,2))","v":""},null,null,179,null,{"$f":"IF(G181=\"\",\"\",VLOOKUP(G181,HM!$A$10:$B$209,2))","v":""}]
[null,null,{"$f":"IF(B182=\"\",\"\",VLOOKUP(B182,HM!$A$10:$B$209,2))","v":""},null,null,180,null,{"$f":"IF(G182=\"\",\"\",VLOOKUP(G182,HM!$A$10:$B$209,2))","v":""}]
[null,null,{"$f":"IF(B183=\"\",\"\",VLOOKUP(B183,HM!$A$10:$B$209,2))","v":""},null,null,181,null,{"$f":"IF(G183=\"\",\"\",VLOOKUP(G183,HM!$A$10:$B$209,2))","v":""}]
[null,null,{"$f":"IF(B184=\"\",\"\",VLOOKUP(B184,HM!$A$10:$B$209,2))","v":""},null,null,182,null,{"$f":"IF(G184=\"\",\"\",VLOOKUP(G184,HM!$A$10:$B$209,2))","v":""}]
[null,null,{"$f":"IF(B185=\"\",\"\",VLOOKUP(B185,HM!$A$10:$B$209,2))","v":""},null,null,183,null,{"$f":"IF(G185=\"\",\"\",VLOOKUP(G185,HM!$A$10:$B$209,2))","v":""}]
[null,null,{"$f":"IF(B186=\"\",\"\",VLOOKUP(B186,HM!$A$10:$B$209,2))","v":""},null,null,184,null,{"$f":"IF(G186=\"\",\"\",VLOOKUP(G186,HM!$A$10:$B$209,2))","v":""}]
[null,null,{"$f":"IF(B187=\"\",\"\",VLOOKUP(B187,HM!$A$10:$B$209,2))","v":""},null,null,185,null,{"$f":"IF(G187=\"\",\"\",VLOOKUP(G187,HM!$A$10:$B$209,2))","v":""}]
[null,null,{"$f":"IF(B188=\"\",\"\",VLOOKUP(B188,HM!$A$10:$B$209,2))","v":""},null,null,186,null,{"$f":"IF(G188=\"\",\"\",VLOOKUP(G188,HM!$A$10:$B$209,2))","v":""}]
[null,null,{"$f":"IF(B189=\"\",\"\",VLOOKUP(B189,HM!$A$10:$B$209,2))","v":""},null,null,187,null,{"$f":"IF(G189=\"\",\"\",VLOOKUP(G189,HM!$A$10:$B$209,2))","v":""}]
[null,null,{"$f":"IF(B190=\"\",\"\",VLOOKUP(B190,HM!$A$10:$B$209,2))","v":""},null,null,188,null,{"$f":"IF(G190=\"\",\"\",VLOOKUP(G190,HM!$A$10:$B$209,2))","v":""}]
[null,null,{"$f":"IF(B191=\"\",\"\",VLOOKUP(B191,HM!$A$10:$B$209,2))","v":""},null,null,189,null,{"$f":"IF(G191=\"\",\"\",VLOOKUP(G191,HM!$A$10:$B$209,2))","v":""}]
[null,null,{"$f":"IF(B192=\"\",\"\",VLOOKUP(B192,HM!$A$10:$B$209,2))","v":""},null,null,190,null,{"$f":"IF(G192=\"\",\"\",VLOOKUP(G192,HM!$A$10:$B$209,2))","v":""}]
[null,null,{"$f":"IF(B193=\"\",\"\",VLOOKUP(B193,HM!$A$10:$B$209,2))","v":""},null,null,191,null,{"$f":"IF(G193=\"\",\"\",VLOOKUP(G193,HM!$A$10:$B$209,2))","v":""}]
[null,null,{"$f":"IF(B194=\"\",\"\",VLOOKUP(B194,HM!$A$10:$B$209,2))","v":""},null,null,192,null,{"$f":"IF(G194=\"\",\"\",VLOOKUP(G194,HM!$A$10:$B$209,2))","v":""}]
[null,null,{"$f":"IF(B195=\"\",\"\",VLOOKUP(B195,HM!$A$10:$B$209,2))","v":""},null,null,193,null,{"$f":"IF(G195=\"\",\"\",VLOOKUP(G195,HM!$A$10:$B$209,2))","v":""}]
[null,null,{"$f":"IF(B196=\"\",\"\",VLOOKUP(B196,HM!$A$10:$B$209,2))","v":""},null,null,194,null,{"$f":"IF(G196=\"\",\"\",VLOOKUP(G196,HM!$A$10:$B$209,2))","v":""}]
[null,null,{"$f":"IF(B197=\"\",\"\",VLOOKUP(B197,HM!$A$10:$B$209,2))","v":""},null,null,195,null,{"$f":"IF(G197=\"\",\"\",VLOOKUP(G197,HM!$A$10:$B$209,2))","v":""}]
[null,null,{"$f":"IF(B198=\"\",\"\",VLOOKUP(B198,HM!$A$10:$B$209,2))","v":""},null,null,196,null,{"$f":"IF(G198=\"\",\"\",VLOOKUP(G198,HM!$A$10:$B$209,2))","v":""}]
[null,null,{"$f":"IF(B199=\"\",\"\",VLOOKUP(B199,HM!$A$10:$B$209,2))","v":""},null,null,197,null,{"$f":"IF(G199=\"\",\"\",VLOOKUP(G199,HM!$A$10:$B$209,2))","v":""}]
[null,null,{"$f":"IF(B200=\"\",\"\",VLOOKUP(B200,HM!$A$10:$B$209,2))","v":""},null,null,198,null,{"$f":"IF(G200=\"\",\"\",VLOOKUP(G200,HM!$A$10:$B$209,2))","v":""}]
[null,null,{"$f":"IF(B201=\"\",\"\",VLOOKUP(B201,HM!$A$10:$B$209,2))","v":""},null,null,199,null,{"$f":"IF(G201=\"\",\"\",VLOOKUP(G201,HM!$A$10:$B$209,2))","v":""}]
[null,null,{"$f":"IF(B202=\"\",\"\",VLOOKUP(B202,HM!$A$10:$B$209,2))","v":""},null,null,200,null,{"$f":"IF(G202=\"\",\"\",VLOOKUP(G202,HM!$A$10:$B$209,2))","v":""}]

{"sheet":"PS","index":4,"n_rows":204,"n_cols":8,"rows_kept":204,"cut":false,"hidden":false,"merged":[[2,1,2,3],[2,5,2,7]]}
[]
[]
[null,"KK",null,null,null,"LG"]
[null,"Lfd. Nr.:","Vor- und Nachname:","Teiler:",null,"Lfd. Nr.:","Vor- und Nachname:","Teiler:"]
[null,null,{"$f":"IF(B5=\"\",\"\",VLOOKUP(B5,HM!$A$10:$B$209,2))","v":""},null,1,null,{"$f":"IF(F5=\"\",\"\",VLOOKUP(F5,HM!$A$10:$B$209,2))","v":""}]
[null,null,{"$f":"IF(B6=\"\",\"\",VLOOKUP(B6,HM!$A$10:$B$209,2))","v":""},null,2,null,{"$f":"IF(F6=\"\",\"\",VLOOKUP(F6,HM!$A$10:$B$209,2))","v":""}]
[null,null,{"$f":"IF(B7=\"\",\"\",VLOOKUP(B7,HM!$A$10:$B$209,2))","v":""},null,3,null,{"$f":"IF(F7=\"\",\"\",VLOOKUP(F7,HM!$A$10:$B$209,2))","v":""}]
[null,null,{"$f":"IF(B8=\"\",\"\",VLOOKUP(B8,HM!$A$10:$B$209,2))","v":""},null,4,null,{"$f":"IF(F8=\"\",\"\",VLOOKUP(F8,HM!$A$10:$B$209,2))","v":""}]
[null,null,{"$f":"IF(B9=\"\",\"\",VLOOKUP(B9,HM!$A$10:$B$209,2))","v":""},null,5,null,{"$f":"IF(F9=\"\",\"\",VLOOKUP(F9,HM!$A$10:$B$209,2))","v":""}]
[null,null,{"$f":"IF(B10=\"\",\"\",VLOOKUP(B10,HM!$A$10:$B$209,2))","v":""},null,6,null,{"$f":"IF(F10=\"\",\"\",VLOOKUP(F10,HM!$A$10:$B$209,2))","v":""}]
[null,null,{"$f":"IF(B11=\"\",\"\",VLOOKUP(B11,HM!$A$10:$B$209,2))","v":""},null,7,null,{"$f":"IF(F11=\"\",\"\",VLOOKUP(F11,HM!$A$10:$B$209,2))","v":""}]
[null,null,{"$f":"IF(B12=\"\",\"\",VLOOKUP(B12,HM!$A$10:$B$209,2))","v":""},null,8,null,{"$f":"IF(F12=\"\",\"\",VLOOKUP(F12,HM!$A$10:$B$209,2))","v":""}]
[null,null,{"$f":"IF(B13=\"\",\"\",VLOOKUP(B13,HM!$A$10:$B$209,2))","v":""},null,9,null,{"$f":"IF(F13=\"\",\"\",VLOOKUP(F13,HM!$A$10:$B$209,2))","v":""}]
[null,null,{"$f":"IF(B14=\"\",\"\",VLOOKUP(B14,HM!$A$10:$B$209,2))","v":""},null,10,null,{"$f":"IF(F14=\"\",\"\",VLOOKUP(F14,HM!$A$10:$B$209,2))","v":""}]
[null,null,{"$f":"IF(B15=\"\",\"\",VLOOKUP(B15,HM!$A$10:$B$209,2))","v":""},null,11,null,{"$f":"IF(F15=\"\",\"\",VLOOKUP(F15,HM!$A$10:$B$209,2))","v":""}]
[null,null,{"$f":"IF(B16=\"\",\"\",VLOOKUP(B16,HM!$A$10:$B$209,2))","v":""},null,12,null,{"$f":"IF(F16=\"\",\"\",VLOOKUP(F16,HM!$A$10:$B$209,2))","v":""}]
[null,null,{"$f":"IF(B17=\"\",\"\",VLOOKUP(B17,HM!$A$10:$B$209,2))","v":""},null,13,null,{"$f":"IF(F17=\"\",\"\",VLOOKUP(F17,HM!$A$10:$B$209,2))","v":""}]
[null,null,{"$f":"IF(B18=\"\",\"\",VLOOKUP(B18,HM!$A$10:$B$209,2))","v":""},null,14,null,{"$f":"IF(F18=\"\",\"\",VLOOKUP(F18,HM!$A$10:$B$209,2))","v":""}]
[null,null,{"$f":"IF(B19=\"\",\"\",VLOOKUP(B19,HM!$A$10:$B$209,2))","v":""},null,15,null,{"$f":"IF(F19=\"\",\"\",VLOOKUP(F19,HM!$A$10:$B$209,2))","v":""}]
[null,null,{"$f":"IF(B20=\"\",\"\",VLOOKUP(B20,HM!$A$10:$B$209,2))","v":""},null,16,null,{"$f":"IF(F20=\"\",\"\",VLOOKUP(F20,HM!$A$10:$B$209,2))","v":""}]
[null,null,{"$f":"IF(B21=\"\",\"\",VLOOKUP(B21,HM!$A$10:$B$209,2))","v":""},null,17,null,{"$f":"IF(F21=\"\",\"\",VLOOKUP(F21,HM!$A$10:$B$209,2))","v":""}]
[null,null,{"$f":"IF(B22=\"\",\"\",VLOOKUP(B22,HM!$A$10:$B$209,2))","v":""},null,18,null,{"$f":"IF(F22=\"\",\"\",VLOOKUP(F22,HM!$A$10:$B$209,2))","v":""}]
[null,null,{"$f":"IF(B23=\"\",\"\",VLOOKUP(B23,HM!$A$10:$B$209,2))","v":""},null,19,null,{"$f":"IF(F23=\"\",\"\",VLOOKUP(F23,HM!$A$10:$B$209,2))","v":""}]
[null,null,{"$f":"IF(B24=\"\",\"\",VLOOKUP(B24,HM!$A$10:$B$209,2))","v":""},null,20,null,{"$f":"IF(F24=\"\",\"\",VLOOKUP(F24,HM!$A$10:$B$209,2))","v":""}]
[null,null,{"$f":"IF(B25=\"\",\"\",VLOOKUP(B25,HM!$A$10:$B$209,2))","v":""},null,21,null,{"$f":"IF(F25=\"\",\"\",VLOOKUP(F25,HM!$A$10:$B$209,2))","v":""}]
[null,null,{"$f":"IF(B26=\"\",\"\",VLOOKUP(B26,HM!$A$10:$B$209,2))","v":""},null,22,null,{"$f":"IF(F26=\"\",\"\",VLOOKUP(F26,HM!$A$10:$B$209,2))","v":""}]
[null,null,{"$f":"IF(B27=\"\",\"\",VLOOKUP(B27,HM!$A$10:$B$209,2))","v":""},null,23,null,{"$f":"IF(F27=\"\",\"\",VLOOKUP(F27,HM!$A$10:$B$209,2))","v":""}]
[null,null,{"$f":"IF(B28=\"\",\"\",VLOOKUP(B28,HM!$A$10:$B$209,2))","v":""},null,24,null,{"$f":"IF(F28=\"\",\"\",VLOOKUP(F28,HM!$A$10:$B$209,2))","v":""}]
[null,null,{"$f":"IF(B29=\"\",\"\",VLOOKUP(B29,HM!$A$10:$B$209,2))","v":""},null,25,null,{"$f":"IF(F29=\"\",\"\",VLOOKUP(F29,HM!$A$10:$B$209,2))","v":""}]
[null,null,{"$f":"IF(B30=\"\",\"\",VLOOKUP(B30,HM!$A$10:$B$209,2))","v":""},null,26,null,{"$f":"IF(F30=\"\",\"\",VLOOKUP(F30,HM!$A$10:$B$209,2))","v":""}]
[null,null,{"$f":"IF(B31=\"\",\"\",VLOOKUP(B31,HM!$A$10:$B$209,2))","v":""},null,27,null,{"$f":"IF(F31=\"\",\"\",VLOOKUP(F31,HM!$A$10:$B$209,2))","v":""}]
[null,null,{"$f":"IF(B32=\"\",\"\",VLOOKUP(B32,HM!$A$10:$B$209,2))","v":""},null,28,null,{"$f":"IF(F32=\"\",\"\",VLOOKUP(F32,HM!$A$10:$B$209,2))","v":""}]
[null,null,{"$f":"IF(B33=\"\",\"\",VLOOKUP(B33,HM!$A$10:$B$209,2))","v":""},null,29,null,{"$f":"IF(F33=\"\",\"\",VLOOKUP(F33,HM!$A$10:$B$209,2))","v":""}]
[null,null,{"$f":"IF(B34=\"\",\"\",VLOOKUP(B34,HM!$A$10:$B$209,2))","v":""},null,30,null,{"$f":"IF(F34=\"\",\"\",VLOOKUP(F34,HM!$A$10:$B$209,2))","v":""}]
[null,null,{"$f":"IF(B35=\"\",\"\",VLOOKUP(B35,HM!$A$10:$B$209,2))","v":""},null,31,null,{"$f":"IF(F35=\"\",\"\",VLOOKUP(F35,HM!$A$10:$B$209,2))","v":""}]
[null,null,{"$f":"IF(B36=\"\",\"\",VLOOKUP(B36,HM!$A$10:$B$209,2))","v":""},null,32,null,{"$f":"IF(F36=\"\",\"\",VLOOKUP(F36,HM!$A$10:$B$209,2))","v":""}]
[null,null,{"$f":"IF(B37=\"\",\"\",VLOOKUP(B37,HM!$A$10:$B$209,2))","v":""},null,33,null,{"$f":"IF(F37=\"\",\"\",VLOOKUP(F37,HM!$A$10:$B$209,2))","v":""}]
[null,null,{"$f":"IF(B38=\"\",\"\",VLOOKUP(B38,HM!$A$10:$B$209,2))","v":""},null,34,null,{"$f":"IF(F38=\"\",\"\",VLOOKUP(F38,HM!$A$10:$B$209,2))","v":""}]
[null,null,{"$f":"IF(B39=\"\",\"\",VLOOKUP(B39,HM!$A$10:$B$209,2))","v":""},null,35,null,{"$f":"IF(F39=\"\",\"\",VLOOKUP(F39,HM!$A$10:$B$209,2))","v":""}]
[null,null,{"$f":"IF(B40=\"\",\"\",VLOOKUP(B40,HM!$A$10:$B$209,2))","v":""},null,36,null,{"$f":"IF(F40=\"\",\"\",VLOOKUP(F40,HM!$A$10:$B$209,2))","v":""}]
[null,null,{"$f":"IF(B41=\"\",\"\",VLOOKUP(B41,HM!$A$10:$B$209,2))","v":""},null,37,null,{"$f":"IF(F41=\"\",\"\",VLOOKUP(F41,HM!$A$10:$B$209,2))","v":""}]
[null,null,{"$f":"IF(B42=\"\",\"\",VLOOKUP(B42,HM!$A$10:$B$209,2))","v":""},null,38,null,{"$f":"IF(F42=\"\",\"\",VLOOKUP(F42,HM!$A$10:$B$209,2))","v":""}]
[null,null,{"$f":"IF(B43=\"\",\"\",VLOOKUP(B43,HM!$A$10:$B$209,2))","v":""},null,39,null,{"$f":"IF(F43=\"\",\"\",VLOOKUP(F43,HM!$A$10:$B$209,2))","v":""}]
[null,null,{"$f":"IF(B44=\"\",\"\",VLOOKUP(B44,HM!$A$10:$B$209,2))","v":""},null,40,null,{"$f":"IF(F44=\"\",\"\",VLOOKUP(F44,HM!$A$10:$B$209,2))","v":""}]
[null,null,{"$f":"IF(B45=\"\",\"\",VLOOKUP(B45,HM!$A$10:$B$209,2))","v":""},null,41,null,{"$f":"IF(F45=\"\",\"\",VLOOKUP(F45,HM!$A$10:$B$209,2))","v":""}]
[null,null,{"$f":"IF(B46=\"\",\"\",VLOOKUP(B46,HM!$A$10:$B$209,2))","v":""},null,42,null,{"$f":"IF(F46=\"\",\"\",VLOOKUP(F46,HM!$A$10:$B$209,2))","v":""}]
[null,null,{"$f":"IF(B47=\"\",\"\",VLOOKUP(B47,HM!$A$10:$B$209,2))","v":""},null,43,null,{"$f":"IF(F47=\"\",\"\",VLOOKUP(F47,HM!$A$10:$B$209,2))","v":""}]
[null,null,{"$f":"IF(B48=\"\",\"\",VLOOKUP(B48,HM!$A$10:$B$209,2))","v":""},null,44,null,{"$f":"IF(F48=\"\",\"\",VLOOKUP(F48,HM!$A$10:$B$209,2))","v":""}]
[null,null,{"$f":"IF(B49=\"\",\"\",VLOOKUP(B49,HM!$A$10:$B$209,2))","v":""},null,45,null,{"$f":"IF(F49=\"\",\"\",VLOOKUP(F49,HM!$A$10:$B$209,2))","v":""}]
[null,null,{"$f":"IF(B50=\"\",\"\",VLOOKUP(B50,HM!$A$10:$B$209,2))","v":""},null,46,null,{"$f":"IF(F50=\"\",\"\",VLOOKUP(F50,HM!$A$10:$B$209,2))","v":""}]
[null,null,{"$f":"IF(B51=\"\",\"\",VLOOKUP(B51,HM!$A$10:$B$209,2))","v":""},null,47,null,{"$f":"IF(F51=\"\",\"\",VLOOKUP(F51,HM!$A$10:$B$209,2))","v":""}]
[null,null,{"$f":"IF(B52=\"\",\"\",VLOOKUP(B52,HM!$A$10:$B$209,2))","v":""},null,48,null,{"$f":"IF(F52=\"\",\"\",VLOOKUP(F52,HM!$A$10:$B$209,2))","v":""}]
[null,null,{"$f":"IF(B53=\"\",\"\",VLOOKUP(B53,HM!$A$10:$B$209,2))","v":""},null,49,null,{"$f":"IF(F53=\"\",\"\",VLOOKUP(F53,HM!$A$10:$B$209,2))","v":""}]
[null,null,{"$f":"IF(B54=\"\",\"\",VLOOKUP(B54,HM!$A$10:$B$209,2))","v":""},null,50,null,{"$f":"IF(F54=\"\",\"\",VLOOKUP(F54,HM!$A$10:$B$209,2))","v":""}]
[null,null,{"$f":"IF(B55=\"\",\"\",VLOOKUP(B55,HM!$A$10:$B$209,2))","v":""},null,51,null,{"$f":"IF(F55=\"\",\"\",VLOOKUP(F55,HM!$A$10:$B$209,2))","v":""}]
[null,null,{"$f":"IF(B56=\"\",\"\",VLOOKUP(B56,HM!$A$10:$B$209,2))","v":""},null,52,null,{"$f":"IF(F56=\"\",\"\",VLOOKUP(F56,HM!$A$10:$B$209,2))","v":""}]
[null,null,{"$f":"IF(B57=\"\",\"\",VLOOKUP(B57,HM!$A$10:$B$209,2))","v":""},null,53,null,{"$f":"IF(F57=\"\",\"\",VLOOKUP(F57,HM!$A$10:$B$209,2))","v":""}]
[null,null,{"$f":"IF(B58=\"\",\"\",VLOOKUP(B58,HM!$A$10:$B$209,2))","v":""},null,54,null,{"$f":"IF(F58=\"\",\"\",VLOOKUP(F58,HM!$A$10:$B$209,2))","v":""}]
[null,null,{"$f":"IF(B59=\"\",\"\",VLOOKUP(B59,HM!$A$10:$B$209,2))","v":""},null,55,null,{"$f":"IF(F59=\"\",\"\",VLOOKUP(F59,HM!$A$10:$B$209,2))","v":""}]
[null,null,{"$f":"IF(B60=\"\",\"\",VLOOKUP(B60,HM!$A$10:$B$209,2))","v":""},null,56,null,{"$f":"IF(F60=\"\",\"\",VLOOKUP(F60,HM!$A$10:$B$209,2))","v":""}]
[null,null,{"$f":"IF(B61=\"\",\"\",VLOOKUP(B61,HM!$A$10:$B$209,2))","v":""},null,57,null,{"$f":"IF(F61=\"\",\"\",VLOOKUP(F61,HM!$A$10:$B$209,2))","v":""}]
[null,null,{"$f":"IF(B62=\"\",\"\",VLOOKUP(B62,HM!$A$10:$B$209,2))","v":""},null,58,null,{"$f":"IF(F62=\"\",\"\",VLOOKUP(F62,HM!$A$10:$B$209,2))","v":""}]
[null,null,{"$f":"IF(B63=\"\",\"\",VLOOKUP(B63,HM!$A$10:$B$209,2))","v":""},null,59,null,{"$f":"IF(F63=\"\",\"\",VLOOKUP(F63,HM!$A$10:$B$209,2))","v":""}]
[null,null,{"$f":"IF(B64=\"\",\"\",VLOOKUP(B64,HM!$A$10:$B$209,2))","v":""},null,60,null,{"$f":"IF(F64=\"\",\"\",VLOOKUP(F64,HM!$A$10:$B$209,2))","v":""}]
[null,null,{"$f":"IF(B65=\"\",\"\",VLOOKUP(B65,HM!$A$10:$B$209,2))","v":""},null,61,null,{"$f":"IF(F65=\"\",\"\",VLOOKUP(F65,HM!$A$10:$B$209,2))","v":""}]
[null,null,{"$f":"IF(B66=\"\",\"\",VLOOKUP(B66,HM!$A$10:$B$209,2))","v":""},null,62,null,{"$f":"IF(F66=\"\",\"\",VLOOKUP(F66,HM!$A$10:$B$209,2))","v":""}]
[null,null,{"$f":"IF(B67=\"\",\"\",VLOOKUP(B67,HM!$A$10:$B$209,2))","v":""},null,63,null,{"$f":"IF(F67=\"\",\"\",VLOOKUP(F67,HM!$A$10:$B$209,2))","v":""}]
[null,null,{"$f":"IF(B68=\"\",\"\",VLOOKUP(B68,HM!$A$10:$B$209,2))","v":""},null,64,null,{"$f":"IF(F68=\"\",\"\",VLOOKUP(F68,HM!$A$10:$B$209,2))","v":""}]
[null,null,{"$f":"IF(B69=\"\",\"\",VLOOKUP(B69,HM!$A$10:$B$209,2))","v":""},null,65,null,{"$f":"IF(F69=\"\",\"\",VLOOKUP(F69,HM!$A$10:$B$209,2))","v":""}]
[null,null,{"$f":"IF(B70=\"\",\"\",VLOOKUP(B70,HM!$A$10:$B$209,2))","v":""},null,66,null,{"$f":"IF(F70=\"\",\"\",VLOOKUP(F70,HM!$A$10:$B$209,2))","v":""}]
[null,null,{"$f":"IF(B71=\"\",\"\",VLOOKUP(B71,HM!$A$10:$B$209,2))","v":""},null,67,null,{"$f":"IF(F71=\"\",\"\",VLOOKUP(F71,HM!$A$10:$B$209,2))","v":""}]
[null,null,{"$f":"IF(B72=\"\",\"\",VLOOKUP(B72,HM!$A$10:$B$209,2))","v":""},null,68,null,{"$f":"IF(F72=\"\",\"\",VLOOKUP(F72,HM!$A$10:$B$209,2))","v":""}]
[null,null,{"$f":"IF(B73=\"\",\"\",VLOOKUP(B73,HM!$A$10:$B$209,2))","v":""},null,69,null,{"$f":"IF(F73=\"\",\"\",VLOOKUP(F73,HM!$A$10:$B$209,2))","v":""}]
[null,null,{"$f":"IF(B74=\"\",\"\",VLOOKUP(B74,HM!$A$10:$B$209,2))","v":""},null,70,null,{"$f":"IF(F74=\"\",\"\",VLOOKUP(F74,HM!$A$10:$B$209,2))","v":""}]
[null,null,{"$f":"IF(B75=\"\",\"\",VLOOKUP(B75,HM!$A$10:$B$209,2))","v":""},null,71,null,{"$f":"IF(F75=\"\",\"\",VLOOKUP(F75,HM!$A$10:$B$209,2))","v":""}]
[null,null,{"$f":"IF(B76=\"\",\"\",VLOOKUP(B76,HM!$A$10:$B$209,2))","v":""},null,72,null,{"$f":"IF(F76=\"\",\"\",VLOOKUP(F76,HM!$A$10:$B$209,2))","v":""}]
[null,null,{"$f":"IF(B77=\"\",\"\",VLOOKUP(B77,HM!$A$10:$B$209,2))","v":""},null,73,null,{"$f":"IF(F77=\"\",\"\",VLOOKUP(F77,HM!$A$10:$B$209,2))","v":""}]
[null,null,{"$f":"IF(B78=\"\",\"\",VLOOKUP(B78,HM!$A$10:$B$209,2))","v":""},null,74,null,{"$f":"IF(F78=\"\",\"\",VLOOKUP(F78,HM!$A$10:$B$209,2))","v":""}]
[null,null,{"$f":"IF(B79=\"\",\"\",VLOOKUP(B79,HM!$A$10:$B$209,2))","v":""},null,75,null,{"$f":"IF(F79=\"\",\"\",VLOOKUP(F79,HM!$A$10:$B$209,2))","v":""}]
[null,null,{"$f":"IF(B80=\"\",\"\",VLOOKUP(B80,HM!$A$10:$B$209,2))","v":""},null,76,null,{"$f":"IF(F80=\"\",\"\",VLOOKUP(F80,HM!$A$10:$B$209,2))","v":""}]
[null,null,{"$f":"IF(B81=\"\",\"\",VLOOKUP(B81,HM!$A$10:$B$209,2))","v":""},null,77,null,{"$f":"IF(F81=\"\",\"\",VLOOKUP(F81,HM!$A$10:$B$209,2))","v":""}]
[null,null,{"$f":"IF(B82=\"\",\"\",VLOOKUP(B82,HM!$A$10:$B$209,2))","v":""},null,78,null,{"$f":"IF(F82=\"\",\"\",VLOOKUP(F82,HM!$A$10:$B$209,2))","v":""}]
[null,null,{"$f":"IF(B83=\"\",\"\",VLOOKUP(B83,HM!$A$10:$B$209,2))","v":""},null,79,null,{"$f":"IF(F83=\"\",\"\",VLOOKUP(F83,HM!$A$10:$B$209,2))","v":""}]
[null,null,{"$f":"IF(B84=\"\",\"\",VLOOKUP(B84,HM!$A$10:$B$209,2))","v":""},null,80,null,{"$f":"IF(F84=\"\",\"\",VLOOKUP(F84,HM!$A$10:$B$209,2))","v":""}]
[null,null,{"$f":"IF(B85=\"\",\"\",VLOOKUP(B85,HM!$A$10:$B$209,2))","v":""},null,81,null,{"$f":"IF(F85=\"\",\"\",VLOOKUP(F85,HM!$A$10:$B$209,2))","v":""}]
[null,null,{"$f":"IF(B86=\"\",\"\",VLOOKUP(B86,HM!$A$10:$B$209,2))","v":""},null,82,null,{"$f":"IF(F86=\"\",\"\",VLOOKUP(F86,HM!$A$10:$B$209,2))","v":""}]
[null,null,{"$f":"IF(B87=\"\",\"\",VLOOKUP(B87,HM!$A$10:$B$209,2))","v":""},null,83,null,{"$f":"IF(F87=\"\",\"\",VLOOKUP(F87,HM!$A$10:$B$209,2))","v":""}]
[null,null,{"$f":"IF(B88=\"\",\"\",VLOOKUP(B88,HM!$A$10:$B$209,2))","v":""},null,84,null,{"$f":"IF(F88=\"\",\"\",VLOOKUP(F88,HM!$A$10:$B$209,2))","v":""}]
[null,null,{"$f":"IF(B89=\"\",\"\",VLOOKUP(B89,HM!$A$10:$B$209,2))","v":""},null,85,null,{"$f":"IF(F89=\"\",\"\",VLOOKUP(F89,HM!$A$10:$B$209,2))","v":""}]
[null,null,{"$f":"IF(B90=\"\",\"\",VLOOKUP(B90,HM!$A$10:$B$209,2))","v":""},null,86,null,{"$f":"IF(F90=\"\",\"\",VLOOKUP(F90,HM!$A$10:$B$209,2))","v":""}]
[null,null,{"$f":"IF(B91=\"\",\"\",VLOOKUP(B91,HM!$A$10:$B$209,2))","v":""},null,87,null,{"$f":"IF(F91=\"\",\"\",VLOOKUP(F91,HM!$A$10:$B$209,2))","v":""}]
[null,null,{"$f":"IF(B92=\"\",\"\",VLOOKUP(B92,HM!$A$10:$B$209,2))","v":""},null,88,null,{"$f":"IF(F92=\"\",\"\",VLOOKUP(F92,HM!$A$10:$B$209,2))","v":""}]
[null,null,{"$f":"IF(B93=\"\",\"\",VLOOKUP(B93,HM!$A$10:$B$209,2))","v":""},null,89,null,{"$f":"IF(F93=\"\",\"\",VLOOKUP(F93,HM!$A$10:$B$209,2))","v":""}]
[null,null,{"$f":"IF(B94=\"\",\"\",VLOOKUP(B94,HM!$A$10:$B$209,2))","v":""},null,90,null,{"$f":"IF(F94=\"\",\"\",VLOOKUP(F94,HM!$A$10:$B$209,2))","v":""}]
[null,null,{"$f":"IF(B95=\"\",\"\",VLOOKUP(B95,HM!$A$10:$B$209,2))","v":""},null,91,null,{"$f":"IF(F95=\"\",\"\",VLOOKUP(F95,HM!$A$10:$B$209,2))","v":""}]
[null,null,{"$f":"IF(B96=\"\",\"\",VLOOKUP(B96,HM!$A$10:$B$209,2))","v":""},null,92,null,{"$f":"IF(F96=\"\",\"\",VLOOKUP(F96,HM!$A$10:$B$209,2))","v":""}]
[null,null,{"$f":"IF(B97=\"\",\"\",VLOOKUP(B97,HM!$A$10:$B$209,2))","v":""},null,93,null,{"$f":"IF(F97=\"\",\"\",VLOOKUP(F97,HM!$A$10:$B$209,2))","v":""}]
[null,null,{"$f":"IF(B98=\"\",\"\",VLOOKUP(B98,HM!$A$10:$B$209,2))","v":""},null,94,null,{"$f":"IF(F98=\"\",\"\",VLOOKUP(F98,HM!$A$10:$B$209,2))","v":""}]
[null,null,{"$f":"IF(B99=\"\",\"\",VLOOKUP(B99,HM!$A$10:$B$209,2))","v":""},null,95,null,{"$f":"IF(F99=\"\",\"\",VLOOKUP(F99,HM!$A$10:$B$209,2))","v":""}]
[null,null,{"$f":"IF(B100=\"\",\"\",VLOOKUP(B100,HM!$A$10:$B$209,2))","v":""},null,96,null,{"$f":"IF(F100=\"\",\"\",VLOOKUP(F100,HM!$A$10:$B$209,2))","v":""}]
[null,null,{"$f":"IF(B101=\"\",\"\",VLOOKUP(B101,HM!$A$10:$B$209,2))","v":""},null,97,null,{"$f":"IF(F101=\"\",\"\",VLOOKUP(F101,HM!$A$10:$B$209,2))","v":""}]
[null,null,{"$f":"IF(B102=\"\",\"\",VLOOKUP(B102,HM!$A$10:$B$209,2))","v":""},null,98,null,{"$f":"IF(F102=\"\",\"\",VLOOKUP(F102,HM!$A$10:$B$209,2))","v":""}]
[null,null,{"$f":"IF(B103=\"\",\"\",VLOOKUP(B103,HM!$A$10:$B$209,2))","v":""},null,99,null,{"$f":"IF(F103=\"\",\"\",VLOOKUP(F103,HM!$A$10:$B$209,2))","v":""}]
[null,null,{"$f":"IF(B104=\"\",\"\",VLOOKUP(B104,HM!$A$10:$B$209,2))","v":""},null,100,null,{"$f":"IF(F104=\"\",\"\",VLOOKUP(F104,HM!$A$10:$B$209,2))","v":""}]
[null,null,{"$f":"IF(B105=\"\",\"\",VLOOKUP(B105,HM!$A$10:$B$209,2))","v":""},null,101,null,{"$f":"IF(F105=\"\",\"\",VLOOKUP(F105,HM!$A$10:$B$209,2))","v":""}]
[null,null,{"$f":"IF(B106=\"\",\"\",VLOOKUP(B106,HM!$A$10:$B$209,2))","v":""},null,102,null,{"$f":"IF(F106=\"\",\"\",VLOOKUP(F106,HM!$A$10:$B$209,2))","v":""}]
[null,null,{"$f":"IF(B107=\"\",\"\",VLOOKUP(B107,HM!$A$10:$B$209,2))","v":""},null,103,null,{"$f":"IF(F107=\"\",\"\",VLOOKUP(F107,HM!$A$10:$B$209,2))","v":""}]
[null,null,{"$f":"IF(B108=\"\",\"\",VLOOKUP(B108,HM!$A$10:$B$209,2))","v":""},null,104,null,{"$f":"IF(F108=\"\",\"\",VLOOKUP(F108,HM!$A$10:$B$209,2))","v":""}]
[null,null,{"$f":"IF(B109=\"\",\"\",VLOOKUP(B109,HM!$A$10:$B$209,2))","v":""},null,105,null,{"$f":"IF(F109=\"\",\"\",VLOOKUP(F109,HM!$A$10:$B$209,2))","v":""}]
[null,null,{"$f":"IF(B110=\"\",\"\",VLOOKUP(B110,HM!$A$10:$B$209,2))","v":""},null,106,null,{"$f":"IF(F110=\"\",\"\",VLOOKUP(F110,HM!$A$10:$B$209,2))","v":""}]
[null,null,{"$f":"IF(B111=\"\",\"\",VLOOKUP(B111,HM!$A$10:$B$209,2))","v":""},null,107,null,{"$f":"IF(F111=\"\",\"\",VLOOKUP(F111,HM!$A$10:$B$209,2))","v":""}]
[null,null,{"$f":"IF(B112=\"\",\"\",VLOOKUP(B112,HM!$A$10:$B$209,2))","v":""},null,108,null,{"$f":"IF(F112=\"\",\"\",VLOOKUP(F112,HM!$A$10:$B$209,2))","v":""}]
[null,null,{"$f":"IF(B113=\"\",\"\",VLOOKUP(B113,HM!$A$10:$B$209,2))","v":""},null,109,null,{"$f":"IF(F113=\"\",\"\",VLOOKUP(F113,HM!$A$10:$B$209,2))","v":""}]
[null,null,{"$f":"IF(B114=\"\",\"\",VLOOKUP(B114,HM!$A$10:$B$209,2))","v":""},null,110,null,{"$f":"IF(F114=\"\",\"\",VLOOKUP(F114,HM!$A$10:$B$209,2))","v":""}]
[null,null,{"$f":"IF(B115=\"\",\"\",VLOOKUP(B115,HM!$A$10:$B$209,2))","v":""},null,111,null,{"$f":"IF(F115=\"\",\"\",VLOOKUP(F115,HM!$A$10:$B$209,2))","v":""}]
[null,null,{"$f":"IF(B116=\"\",\"\",VLOOKUP(B116,HM!$A$10:$B$209,2))","v":""},null,112,null,{"$f":"IF(F116=\"\",\"\",VLOOKUP(F116,HM!$A$10:$B$209,2))","v":""}]
[null,null,{"$f":"IF(B117=\"\",\"\",VLOOKUP(B117,HM!$A$10:$B$209,2))","v":""},null,113,null,{"$f":"IF(F117=\"\",\"\",VLOOKUP(F117,HM!$A$10:$B$209,2))","v":""}]
[null,null,{"$f":"IF(B118=\"\",\"\",VLOOKUP(B118,HM!$A$10:$B$209,2))","v":""},null,114,null,{"$f":"IF(F118=\"\",\"\",VLOOKUP(F118,HM!$A$10:$B$209,2))","v":""}]
[null,null,{"$f":"IF(B119=\"\",\"\",VLOOKUP(B119,HM!$A$10:$B$209,2))","v":""},null,115,null,{"$f":"IF(F119=\"\",\"\",VLOOKUP(F119,HM!$A$10:$B$209,2))","v":""}]
[null,null,{"$f":"IF(B120=\"\",\"\",VLOOKUP(B120,HM!$A$10:$B$209,2))","v":""},null,116,null,{"$f":"IF(F120=\"\",\"\",VLOOKUP(F120,HM!$A$10:$B$209,2))","v":""}]
[null,null,{"$f":"IF(B121=\"\",\"\",VLOOKUP(B121,HM!$A$10:$B$209,2))","v":""},null,117,null,{"$f":"IF(F121=\"\",\"\",VLOOKUP(F121,HM!$A$10:$B$209,2))","v":""}]
[null,null,{"$f":"IF(B122=\"\",\"\",VLOOKUP(B122,HM!$A$10:$B$209,2))","v":""},null,118,null,{"$f":"IF(F122=\"\",\"\",VLOOKUP(F122,HM!$A$10:$B$209,2))","v":""}]
[null,null,{"$f":"IF(B123=\"\",\"\",VLOOKUP(B123,HM!$A$10:$B$209,2))","v":""},null,119,null,{"$f":"IF(F123=\"\",\"\",VLOOKUP(F123,HM!$A$10:$B$209,2))","v":""}]
[null,null,{"$f":"IF(B124=\"\",\"\",VLOOKUP(B124,HM!$A$10:$B$209,2))","v":""},null,120,null,{"$f":"IF(F124=\"\",\"\",VLOOKUP(F124,HM!$A$10:$B$209,2))","v":""}]
[null,null,{"$f":"IF(B125=\"\",\"\",VLOOKUP(B125,HM!$A$10:$B$209,2))","v":""},null,121,null,{"$f":"IF(F125=\"\",\"\",VLOOKUP(F125,HM!$A$10:$B$209,2))","v":""}]
[null,null,{"$f":"IF(B126=\"\",\"\",VLOOKUP(B126,HM!$A$10:$B$209,2))","v":""},null,122,null,{"$f":"IF(F126=\"\",\"\",VLOOKUP(F126,HM!$A$10:$B$209,2))","v":""}]
[null,null,{"$f":"IF(B127=\"\",\"\",VLOOKUP(B127,HM!$A$10:$B$209,2))","v":""},null,123,null,{"$f":"IF(F127=\"\",\"\",VLOOKUP(F127,HM!$A$10:$B$209,2))","v":""}]
[null,null,{"$f":"IF(B128=\"\",\"\",VLOOKUP(B128,HM!$A$10:$B$209,2))","v":""},null,124,null,{"$f":"IF(F128=\"\",\"\",VLOOKUP(F128,HM!$A$10:$B$209,2))","v":""}]
[null,null,{"$f":"IF(B129=\"\",\"\",VLOOKUP(B129,HM!$A$10:$B$209,2))","v":""},null,125,null,{"$f":"IF(F129=\"\",\"\",VLOOKUP(F129,HM!$A$10:$B$209,2))","v":""}]
[null,null,{"$f":"IF(B130=\"\",\"\",VLOOKUP(B130,HM!$A$10:$B$209,2))","v":""},null,126,null,{"$f":"IF(F130=\"\",\"\",VLOOKUP(F130,HM!$A$10:$B$209,2))","v":""}]
[null,null,{"$f":"IF(B131=\"\",\"\",VLOOKUP(B131,HM!$A$10:$B$209,2))","v":""},null,127,null,{"$f":"IF(F131=\"\",\"\",VLOOKUP(F131,HM!$A$10:$B$209,2))","v":""}]
[null,null,{"$f":"IF(B132=\"\",\"\",VLOOKUP(B132,HM!$A$10:$B$209,2))","v":""},null,128,null,{"$f":"IF(F132=\"\",\"\",VLOOKUP(F132,HM!$A$10:$B$209,2))","v":""}]
[null,null,{"$f":"IF(B133=\"\",\"\",VLOOKUP(B133,HM!$A$10:$B$209,2))","v":""},null,129,null,{"$f":"IF(F133=\"\",\"\",VLOOKUP(F133,HM!$A$10:$B$209,2))","v":""}]
[null,null,{"$f":"IF(B134=\"\",\"\",VLOOKUP(B134,HM!$A$10:$B$209,2))","v":""},null,130,null,{"$f":"IF(F134=\"\",\"\",VLOOKUP(F134,HM!$A$10:$B$209,2))","v":""}]
[null,null,{"$f":"IF(B135=\"\",\"\",VLOOKUP(B135,HM!$A$10:$B$209,2))","v":""},null,131,null,{"$f":"IF(F135=\"\",\"\",VLOOKUP(F135,HM!$A$10:$B$209,2))","v":""}]
[null,null,{"$f":"IF(B136=\"\",\"\",VLOOKUP(B136,HM!$A$10:$B$209,2))","v":""},null,132,null,{"$f":"IF(F136=\"\",\"\",VLOOKUP(F136,HM!$A$10:$B$209,2))","v":""}]
[null,null,{"$f":"IF(B137=\"\",\"\",VLOOKUP(B137,HM!$A$10:$B$209,2))","v":""},null,133,null,{"$f":"IF(F137=\"\",\"\",VLOOKUP(F137,HM!$A$10:$B$209,2))","v":""}]
[null,null,{"$f":"IF(B138=\"\",\"\",VLOOKUP(B138,HM!$A$10:$B$209,2))","v":""},null,134,null,{"$f":"IF(F138=\"\",\"\",VLOOKUP(F138,HM!$A$10:$B$209,2))","v":""}]
[null,null,{"$f":"IF(B139=\"\",\"\",VLOOKUP(B139,HM!$A$10:$B$209,2))","v":""},null,135,null,{"$f":"IF(F139=\"\",\"\",VLOOKUP(F139,HM!$A$10:$B$209,2))","v":""}]
[null,null,{"$f":"IF(B140=\"\",\"\",VLOOKUP(B140,HM!$A$10:$B$209,2))","v":""},null,136,null,{"$f":"IF(F140=\"\",\"\",VLOOKUP(F140,HM!$A$10:$B$209,2))","v":""}]
[null,null,{"$f":"IF(B141=\"\",\"\",VLOOKUP(B141,HM!$A$10:$B$209,2))","v":""},null,137,null,{"$f":"IF(F141=\"\",\"\",VLOOKUP(F141,HM!$A$10:$B$209,2))","v":""}]
[null,null,{"$f":"IF(B142=\"\",\"\",VLOOKUP(B142,HM!$A$10:$B$209,2))","v":""},null,138,null,{"$f":"IF(F142=\"\",\"\",VLOOKUP(F142,HM!$A$10:$B$209,2))","v":""}]
[null,null,{"$f":"IF(B143=\"\",\"\",VLOOKUP(B143,HM!$A$10:$B$209,2))","v":""},null,139,null,{"$f":"IF(F143=\"\",\"\",VLOOKUP(F143,HM!$A$10:$B$209,2))","v":""}]
[null,null,{"$f":"IF(B144=\"\",\"\",VLOOKUP(B144,HM!$A$10:$B$209,2))","v":""},null,140,null,{"$f":"IF(F144=\"\",\"\",VLOOKUP(F144,HM!$A$10:$B$209,2))","v":""}]
[null,null,{"$f":"IF(B145=\"\",\"\",VLOOKUP(B145,HM!$A$10:$B$209,2))","v":""},null,141,null,{"$f":"IF(F145=\"\",\"\",VLOOKUP(F145,HM!$A$10:$B$209,2))","v":""}]
[null,null,{"$f":"IF(B146=\"\",\"\",VLOOKUP(B146,HM!$A$10:$B$209,2))","v":""},null,142,null,{"$f":"IF(F146=\"\",\"\",VLOOKUP(F146,HM!$A$10:$B$209,2))","v":""}]
[null,null,{"$f":"IF(B147=\"\",\"\",VLOOKUP(B147,HM!$A$10:$B$209,2))","v":""},null,143,null,{"$f":"IF(F147=\"\",\"\",VLOOKUP(F147,HM!$A$10:$B$209,2))","v":""}]
[null,null,{"$f":"IF(B148=\"\",\"\",VLOOKUP(B148,HM!$A$10:$B$209,2))","v":""},null,144,null,{"$f":"IF(F148=\"\",\"\",VLOOKUP(F148,HM!$A$10:$B$209,2))","v":""}]
[null,null,{"$f":"IF(B149=\"\",\"\",VLOOKUP(B149,HM!$A$10:$B$209,2))","v":""},null,145,null,{"$f":"IF(F149=\"\",\"\",VLOOKUP(F149,HM!$A$10:$B$209,2))","v":""}]
[null,null,{"$f":"IF(B150=\"\",\"\",VLOOKUP(B150,HM!$A$10:$B$209,2))","v":""},null,146,null,{"$f":"IF(F150=\"\",\"\",VLOOKUP(F150,HM!$A$10:$B$209,2))","v":""}]
[null,null,{"$f":"IF(B151=\"\",\"\",VLOOKUP(B151,HM!$A$10:$B$209,2))","v":""},null,147,null,{"$f":"IF(F151=\"\",\"\",VLOOKUP(F151,HM!$A$10:$B$209,2))","v":""}]
[null,null,{"$f":"IF(B152=\"\",\"\",VLOOKUP(B152,HM!$A$10:$B$209,2))","v":""},null,148,null,{"$f":"IF(F152=\"\",\"\",VLOOKUP(F152,HM!$A$10:$B$209,2))","v":""}]
[null,null,{"$f":"IF(B153=\"\",\"\",VLOOKUP(B153,HM!$A$10:$B$209,2))","v":""},null,149,null,{"$f":"IF(F153=\"\",\"\",VLOOKUP(F153,HM!$A$10:$B$209,2))","v":""}]
[null,null,{"$f":"IF(B154=\"\",\"\",VLOOKUP(B154,HM!$A$10:$B$209,2))","v":""},null,150,null,{"$f":"IF(F154=\"\",\"\",VLOOKUP(F154,HM!$A$10:$B$209,2))","v":""}]
[null,null,{"$f":"IF(B155=\"\",\"\",VLOOKUP(B155,HM!$A$10:$B$209,2))","v":""},null,151,null,{"$f":"IF(F155=\"\",\"\",VLOOKUP(F155,HM!$A$10:$B$209,2))","v":""}]
[null,null,{"$f":"IF(B156=\"\",\"\",VLOOKUP(B156,HM!$A$10:$B$209,2))","v":""},null,152,null,{"$f":"IF(F156=\"\",\"\",VLOOKUP(F156,HM!$A$10:$B$209,2))","v":""}]
[null,null,{"$f":"IF(B157=\"\",\"\",VLOOKUP(B157,HM!$A$10:$B$209,2))","v":""},null,153,null,{"$f":"IF(F157=\"\",\"\",VLOOKUP(F157,HM!$A$10:$B$209,2))","v":""}]
[null,null,{"$f":"IF(B158=\"\",\"\",VLOOKUP(B158,HM!$A$10:$B$209,2))","v":""},null,154,null,{"$f":"IF(F158=\"\",\"\",VLOOKUP(F158,HM!$A$10:$B$209,2))","v":""}]
[null,null,{"$f":"IF(B159=\"\",\"\",VLOOKUP(B159,HM!$A$10:$B$209,2))","v":""},null,155,null,{"$f":"IF(F159=\"\",\"\",VLOOKUP(F159,HM!$A$10:$B$209,2))","v":""}]
[null,null,{"$f":"IF(B160=\"\",\"\",VLOOKUP(B160,HM!$A$10:$B$209,2))","v":""},null,156,null,{"$f":"IF(F160=\"\",\"\",VLOOKUP(F160,HM!$A$10:$B$209,2))","v":""}]
[null,null,{"$f":"IF(B161=\"\",\"\",VLOOKUP(B161,HM!$A$10:$B$209,2))","v":""},null,157,null,{"$f":"IF(F161=\"\",\"\",VLOOKUP(F161,HM!$A$10:$B$209,2))","v":""}]
[null,null,{"$f":"IF(B162=\"\",\"\",VLOOKUP(B162,HM!$A$10:$B$209,2))","v":""},null,158,null,{"$f":"IF(F162=\"\",\"\",VLOOKUP(F162,HM!$A$10:$B$209,2))","v":""}]
[null,null,{"$f":"IF(B163=\"\",\"\",VLOOKUP(B163,HM!$A$10:$B$209,2))","v":""},null,159,null,{"$f":"IF(F163=\"\",\"\",VLOOKUP(F163,HM!$A$10:$B$209,2))","v":""}]
[null,null,{"$f":"IF(B164=\"\",\"\",VLOOKUP(B164,HM!$A$10:$B$209,2))","v":""},null,160,null,{"$f":"IF(F164=\"\",\"\",VLOOKUP(F164,HM!$A$10:$B$209,2))","v":""}]
[null,null,{"$f":"IF(B165=\"\",\"\",VLOOKUP(B165,HM!$A$10:$B$209,2))","v":""},null,161,null,{"$f":"IF(F165=\"\",\"\",VLOOKUP(F165,HM!$A$10:$B$209,2))","v":""}]
[null,null,{"$f":"IF(B166=\"\",\"\",VLOOKUP(B166,HM!$A$10:$B$209,2))","v":""},null,162,null,{"$f":"IF(F166=\"\",\"\",VLOOKUP(F166,HM!$A$10:$B$209,2))","v":""}]
[null,null,{"$f":"IF(B167=\"\",\"\",VLOOKUP(B167,HM!$A$10:$B$209,2))","v":""},null,163,null,{"$f":"IF(F167=\"\",\"\",VLOOKUP(F167,HM!$A$10:$B$209,2))","v":""}]
[null,null,{"$f":"IF(B168=\"\",\"\",VLOOKUP(B168,HM!$A$10:$B$209,2))","v":""},null,164,null,{"$f":"IF(F168=\"\",\"\",VLOOKUP(F168,HM!$A$10:$B$209,2))","v":""}]
[null,null,{"$f":"IF(B169=\"\",\"\",VLOOKUP(B169,HM!$A$10:$B$209,2))","v":""},null,165,null,{"$f":"IF(F169=\"\",\"\",VLOOKUP(F169,HM!$A$10:$B$209,2))","v":""}]
[null,null,{"$f":"IF(B170=\"\",\"\",VLOOKUP(B170,HM!$A$10:$B$209,2))","v":""},null,166,null,{"$f":"IF(F170=\"\",\"\",VLOOKUP(F170,HM!$A$10:$B$209,2))","v":""}]
[null,null,{"$f":"IF(B171=\"\",\"\",VLOOKUP(B171,HM!$A$10:$B$209,2))","v":""},null,167,null,{"$f":"IF(F171=\"\",\"\",VLOOKUP(F171,HM!$A$10:$B$209,2))","v":""}]
[null,null,{"$f":"IF(B172=\"\",\"\",VLOOKUP(B172,HM!$A$10:$B$209,2))","v":""},null,168,null,{"$f":"IF(F172=\"\",\"\",VLOOKUP(F172,HM!$A$10:$B$209,2))","v":""}]
[null,null,{"$f":"IF(B173=\"\",\"\",VLOOKUP(B173,HM!$A$10:$B$209,2))","v":""},null,169,null,{"$f":"IF(F173=\"\",\"\",VLOOKUP(F173,HM!$A$10:$B$209,2))","v":""}]
[null,null,{"$f":"IF(B174=\"\",\"\",VLOOKUP(B174,HM!$A$10:$B$209,2))","v":""},null,170,null,{"$f":"IF(F174=\"\",\"\",VLOOKUP(F174,HM!$A$10:$B$209,2))","v":""}]
[null,null,{"$f":"IF(B175=\"\",\"\",VLOOKUP(B175,HM!$A$10:$B$209,2))","v":""},null,171,null,{"$f":"IF(F175=\"\",\"\",VLOOKUP(F175,HM!$A$10:$B$209,2))","v":""}]
[null,null,{"$f":"IF(B176=\"\",\"\",VLOOKUP(B176,HM!$A$10:$B$209,2))","v":""},null,172,null,{"$f":"IF(F176=\"\",\"\",VLOOKUP(F176,HM!$A$10:$B$209,2))","v":""}]
[null,null,{"$f":"IF(B177=\"\",\"\",VLOOKUP(B177,HM!$A$10:$B$209,2))","v":""},null,173,null,{"$f":"IF(F177=\"\",\"\",VLOOKUP(F177,HM!$A$10:$B$209,2))","v":""}]
[null,null,{"$f":"IF(B178=\"\",\"\",VLOOKUP(B178,HM!$A$10:$B$209,2))","v":""},null,174,null,{"$f":"IF(F178=\"\",\"\",VLOOKUP(F178,HM!$A$10:$B$209,2))","v":""}]
[null,null,{"$f":"IF(B179=\"\",\"\",VLOOKUP(B179,HM!$A$10:$B$209,2))","v":""},null,175,null,{"$f":"IF(F179=\"\",\"\",VLOOKUP(F179,HM!$A$10:$B$209,2))","v":""}]
[null,null,{"$f":"IF(B180=\"\",\"\",VLOOKUP(B180,HM!$A$10:$B$209,2))","v":""},null,176,null,{"$f":"IF(F180=\"\",\"\",VLOOKUP(F180,HM!$A$10:$B$209,2))","v":""}]
[null,null,{"$f":"IF(B181=\"\",\"\",VLOOKUP(B181,HM!$A$10:$B$209,2))","v":""},null,177,null,{"$f":"IF(F181=\"\",\"\",VLOOKUP(F181,HM!$A$10:$B$209,2))","v":""}]
[null,null,{"$f":"IF(B182=\"\",\"\",VLOOKUP(B182,HM!$A$10:$B$209,2))","v":""},null,178,null,{"$f":"IF(F182=\"\",\"\",VLOOKUP(F182,HM!$A$10:$B$209,2))","v":""}]
[null,null,{"$f":"IF(B183=\"\",\"\",VLOOKUP(B183,HM!$A$10:$B$209,2))","v":""},null,179,null,{"$f":"IF(F183=\"\",\"\",VLOOKUP(F183,HM!$A$10:$B$209,2))","v":""}]
[null,null,{"$f":"IF(B184=\"\",\"\",VLOOKUP(B184,HM!$A$10:$B$209,2))","v":""},null,180,null,{"$f":"IF(F184=\"\",\"\",VLOOKUP(F184,HM!$A$10:$B$209,2))","v":""}]
[null,null,{"$f":"IF(B185=\"\",\"\",VLOOKUP(B185,HM!$A$10:$B$209,2))","v":""},null,181,null,{"$f":"IF(F185=\"\",\"\",VLOOKUP(F185,HM!$A$10:$B$209,2))","v":""}]
[null,null,{"$f":"IF(B186=\"\",\"\",VLOOKUP(B186,HM!$A$10:$B$209,2))","v":""},null,182,null,{"$f":"IF(F186=\"\",\"\",VLOOKUP(F186,HM!$A$10:$B$209,2))","v":""}]
[null,null,{"$f":"IF(B187=\"\",\"\",VLOOKUP(B187,HM!$A$10:$B$209,2))","v":""},null,183,null,{"$f":"IF(F187=\"\",\"\",VLOOKUP(F187,HM!$A$10:$B$209,2))","v":""}]
[null,null,{"$f":"IF(B188=\"\",\"\",VLOOKUP(B188,HM!$A$10:$B$209,2))","v":""},null,184,null,{"$f":"IF(F188=\"\",\"\",VLOOKUP(F188,HM!$A$10:$B$209,2))","v":""}]
[null,null,{"$f":"IF(B189=\"\",\"\",VLOOKUP(B189,HM!$A$10:$B$209,2))","v":""},null,185,null,{"$f":"IF(F189=\"\",\"\",VLOOKUP(F189,HM!$A$10:$B$209,2))","v":""}]
[null,null,{"$f":"IF(B190=\"\",\"\",VLOOKUP(B190,HM!$A$10:$B$209,2))","v":""},null,186,null,{"$f":"IF(F190=\"\",\"\",VLOOKUP(F190,HM!$A$10:$B$209,2))","v":""}]
[null,null,{"$f":"IF(B191=\"\",\"\",VLOOKUP(B191,HM!$A$10:$B$209,2))","v":""},null,187,null,{"$f":"IF(F191=\"\",\"\",VLOOKUP(F191,HM!$A$10:$B$209,2))","v":""}]
[null,null,{"$f":"IF(B192=\"\",\"\",VLOOKUP(B192,HM!$A$10:$B$209,2))","v":""},null,188,null,{"$f":"IF(F192=\"\",\"\",VLOOKUP(F192,HM!$A$10:$B$209,2))","v":""}]
[null,null,{"$f":"IF(B193=\"\",\"\",VLOOKUP(B193,HM!$A$10:$B$209,2))","v":""},null,189,null,{"$f":"IF(F193=\"\",\"\",VLOOKUP(F193,HM!$A$10:$B$209,2))","v":""}]
[null,null,{"$f":"IF(B194=\"\",\"\",VLOOKUP(B194,HM!$A$10:$B$209,2))","v":""},null,190,null,{"$f":"IF(F194=\"\",\"\",VLOOKUP(F194,HM!$A$10:$B$209,2))","v":""}]
[null,null,{"$f":"IF(B195=\"\",\"\",VLOOKUP(B195,HM!$A$10:$B$209,2))","v":""},null,191,null,{"$f":"IF(F195=\"\",\"\",VLOOKUP(F195,HM!$A$10:$B$209,2))","v":""}]
[null,null,{"$f":"IF(B196=\"\",\"\",VLOOKUP(B196,HM!$A$10:$B$209,2))","v":""},null,192,null,{"$f":"IF(F196=\"\",\"\",VLOOKUP(F196,HM!$A$10:$B$209,2))","v":""}]
[null,null,{"$f":"IF(B197=\"\",\"\",VLOOKUP(B197,HM!$A$10:$B$209,2))","v":""},null,193,null,{"$f":"IF(F197=\"\",\"\",VLOOKUP(F197,HM!$A$10:$B$209,2))","v":""}]
[null,null,{"$f":"IF(B198=\"\",\"\",VLOOKUP(B198,HM!$A$10:$B$209,2))","v":""},null,194,null,{"$f":"IF(F198=\"\",\"\",VLOOKUP(F198,HM!$A$10:$B$209,2))","v":""}]
[null,null,{"$f":"IF(B199=\"\",\"\",VLOOKUP(B199,HM!$A$10:$B$209,2))","v":""},null,195,null,{"$f":"IF(F199=\"\",\"\",VLOOKUP(F199,HM!$A$10:$B$209,2))","v":""}]
[null,null,{"$f":"IF(B200=\"\",\"\",VLOOKUP(B200,HM!$A$10:$B$209,2))","v":""},null,196,null,{"$f":"IF(F200=\"\",\"\",VLOOKUP(F200,HM!$A$10:$B$209,2))","v":""}]
[null,null,{"$f":"IF(B201=\"\",\"\",VLOOKUP(B201,HM!$A$10:$B$209,2))","v":""},null,197,null,{"$f":"IF(F201=\"\",\"\",VLOOKUP(F201,HM!$A$10:$B$209,2))","v":""}]
[null,null,{"$f":"IF(B202=\"\",\"\",VLOOKUP(B202,HM!$A$10:$B$209,2))","v":""},null,198,null,{"$f":"IF(F202=\"\",\"\",VLOOKUP(F202,HM!$A$10:$B$209,2))","v":""}]
[null,null,{"$f":"IF(B203=\"\",\"\",VLOOKUP(B203,HM!$A$10:$B$209,2))","v":""},null,199,null,{"$f":"IF(F203=\"\",\"\",VLOOKUP(F203,HM!$A$10:$B$209,2))","v":""}]
[null,null,{"$f":"IF(B204=\"\",\"\",VLOOKUP(B204,HM!$A$10:$B$209,2))","v":""},null,200,null,{"$f":"IF(F204=\"\",\"\",VLOOKUP(F204,HM!$A$10:$B$209,2))","v":""}]

{"sheet":"LP","index":5,"n_rows":202,"n_cols":11,"rows_kept":202,"cut":false,"hidden":false,"merged":[[0,0,0,2],[0,4,0,6],[0,8,0,10]]}
["Luftpistole \nJugend",null,null,null,"Luftpistole \nSchützen",null,null,null,"Luftpistole\nDamen"]
["Lfd. \nNr.:","Vor- und Nachname:","Ringe",null,"Lfd. \nNr.:","Vor- und Nachname:","Ringe",null,"Lfd. Nr.:","Vor- und Nachname:","Ringe"]
[null,{"$f":"IF(A3=\"\",\"\",VLOOKUP(A3,HM!$A$10:$B$209,2))","v":""},null,1,null,{"$f":"IF(E3=\"\",\"\",VLOOKUP(E3,HM!$A$10:$B$209,2))","v":""},null,1,null,{"$f":"IF(I3=\"\",\"\",VLOOKUP(I3,HM!$A$10:$B$209,2))","v":""}]
[null,{"$f":"IF(A4=\"\",\"\",VLOOKUP(A4,HM!$A$10:$B$209,2))","v":""},null,2,null,{"$f":"IF(E4=\"\",\"\",VLOOKUP(E4,HM!$A$10:$B$209,2))","v":""},null,2,null,{"$f":"IF(I4=\"\",\"\",VLOOKUP(I4,HM!$A$10:$B$209,2))","v":""}]
[null,{"$f":"IF(A5=\"\",\"\",VLOOKUP(A5,HM!$A$10:$B$209,2))","v":""},null,3,null,{"$f":"IF(E5=\"\",\"\",VLOOKUP(E5,HM!$A$10:$B$209,2))","v":""},null,3,null,{"$f":"IF(I5=\"\",\"\",VLOOKUP(I5,HM!$A$10:$B$209,2))","v":""}]
[null,{"$f":"IF(A6=\"\",\"\",VLOOKUP(A6,HM!$A$10:$B$209,2))","v":""},null,4,null,{"$f":"IF(E6=\"\",\"\",VLOOKUP(E6,HM!$A$10:$B$209,2))","v":""},null,4,null,{"$f":"IF(I6=\"\",\"\",VLOOKUP(I6,HM!$A$10:$B$209,2))","v":""}]
[null,{"$f":"IF(A7=\"\",\"\",VLOOKUP(A7,HM!$A$10:$B$209,2))","v":""},null,5,null,{"$f":"IF(E7=\"\",\"\",VLOOKUP(E7,HM!$A$10:$B$209,2))","v":""},null,5,null,{"$f":"IF(I7=\"\",\"\",VLOOKUP(I7,HM!$A$10:$B$209,2))","v":""}]
[null,{"$f":"IF(A8=\"\",\"\",VLOOKUP(A8,HM!$A$10:$B$209,2))","v":""},null,6,null,{"$f":"IF(E8=\"\",\"\",VLOOKUP(E8,HM!$A$10:$B$209,2))","v":""},null,6,null,{"$f":"IF(I8=\"\",\"\",VLOOKUP(I8,HM!$A$10:$B$209,2))","v":""}]
[null,{"$f":"IF(A9=\"\",\"\",VLOOKUP(A9,HM!$A$10:$B$209,2))","v":""},null,7,null,{"$f":"IF(E9=\"\",\"\",VLOOKUP(E9,HM!$A$10:$B$209,2))","v":""},null,7,null,{"$f":"IF(I9=\"\",\"\",VLOOKUP(I9,HM!$A$10:$B$209,2))","v":""}]
[null,{"$f":"IF(A10=\"\",\"\",VLOOKUP(A10,HM!$A$10:$B$209,2))","v":""},null,8,null,{"$f":"IF(E10=\"\",\"\",VLOOKUP(E10,HM!$A$10:$B$209,2))","v":""},null,8,null,{"$f":"IF(I10=\"\",\"\",VLOOKUP(I10,HM!$A$10:$B$209,2))","v":""}]
[null,{"$f":"IF(A11=\"\",\"\",VLOOKUP(A11,HM!$A$10:$B$209,2))","v":""},null,9,null,{"$f":"IF(E11=\"\",\"\",VLOOKUP(E11,HM!$A$10:$B$209,2))","v":""},null,9,null,{"$f":"IF(I11=\"\",\"\",VLOOKUP(I11,HM!$A$10:$B$209,2))","v":""}]
[null,{"$f":"IF(A12=\"\",\"\",VLOOKUP(A12,HM!$A$10:$B$209,2))","v":""},null,10,null,{"$f":"IF(E12=\"\",\"\",VLOOKUP(E12,HM!$A$10:$B$209,2))","v":""},null,10,null,{"$f":"IF(I12=\"\",\"\",VLOOKUP(I12,HM!$A$10:$B$209,2))","v":""}]
[null,{"$f":"IF(A13=\"\",\"\",VLOOKUP(A13,HM!$A$10:$B$209,2))","v":""},null,11,null,{"$f":"IF(E13=\"\",\"\",VLOOKUP(E13,HM!$A$10:$B$209,2))","v":""},null,11,null,{"$f":"IF(I13=\"\",\"\",VLOOKUP(I13,HM!$A$10:$B$209,2))","v":""}]
[null,{"$f":"IF(A14=\"\",\"\",VLOOKUP(A14,HM!$A$10:$B$209,2))","v":""},null,12,null,{"$f":"IF(E14=\"\",\"\",VLOOKUP(E14,HM!$A$10:$B$209,2))","v":""},null,12,null,{"$f":"IF(I14=\"\",\"\",VLOOKUP(I14,HM!$A$10:$B$209,2))","v":""}]
[null,{"$f":"IF(A15=\"\",\"\",VLOOKUP(A15,HM!$A$10:$B$209,2))","v":""},null,13,null,{"$f":"IF(E15=\"\",\"\",VLOOKUP(E15,HM!$A$10:$B$209,2))","v":""},null,13,null,{"$f":"IF(I15=\"\",\"\",VLOOKUP(I15,HM!$A$10:$B$209,2))","v":""}]
[null,{"$f":"IF(A16=\"\",\"\",VLOOKUP(A16,HM!$A$10:$B$209,2))","v":""},null,14,null,{"$f":"IF(E16=\"\",\"\",VLOOKUP(E16,HM!$A$10:$B$209,2))","v":""},null,14,null,{"$f":"IF(I16=\"\",\"\",VLOOKUP(I16,HM!$A$10:$B$209,2))","v":""}]
[null,{"$f":"IF(A17=\"\",\"\",VLOOKUP(A17,HM!$A$10:$B$209,2))","v":""},null,15,null,{"$f":"IF(E17=\"\",\"\",VLOOKUP(E17,HM!$A$10:$B$209,2))","v":""},null,15,null,{"$f":"IF(I17=\"\",\"\",VLOOKUP(I17,HM!$A$10:$B$209,2))","v":""}]
[null,{"$f":"IF(A18=\"\",\"\",VLOOKUP(A18,HM!$A$10:$B$209,2))","v":""},null,16,null,{"$f":"IF(E18=\"\",\"\",VLOOKUP(E18,HM!$A$10:$B$209,2))","v":""},null,16,null,{"$f":"IF(I18=\"\",\"\",VLOOKUP(I18,HM!$A$10:$B$209,2))","v":""}]
[null,{"$f":"IF(A19=\"\",\"\",VLOOKUP(A19,HM!$A$10:$B$209,2))","v":""},null,17,null,{"$f":"IF(E19=\"\",\"\",VLOOKUP(E19,HM!$A$10:$B$209,2))","v":""},null,17,null,{"$f":"IF(I19=\"\",\"\",VLOOKUP(I19,HM!$A$10:$B$209,2))","v":""}]
[null,{"$f":"IF(A20=\"\",\"\",VLOOKUP(A20,HM!$A$10:$B$209,2))","v":""},null,18,null,{"$f":"IF(E20=\"\",\"\",VLOOKUP(E20,HM!$A$10:$B$209,2))","v":""},null,18,null,{"$f":"IF(I20=\"\",\"\",VLOOKUP(I20,HM!$A$10:$B$209,2))","v":""}]
[null,{"$f":"IF(A21=\"\",\"\",VLOOKUP(A21,HM!$A$10:$B$209,2))","v":""},null,19,null,{"$f":"IF(E21=\"\",\"\",VLOOKUP(E21,HM!$A$10:$B$209,2))","v":""},null,19,null,{"$f":"IF(I21=\"\",\"\",VLOOKUP(I21,HM!$A$10:$B$209,2))","v":""}]
[null,{"$f":"IF(A22=\"\",\"\",VLOOKUP(A22,HM!$A$10:$B$209,2))","v":""},null,20,null,{"$f":"IF(E22=\"\",\"\",VLOOKUP(E22,HM!$A$10:$B$209,2))","v":""},null,20,null,{"$f":"IF(I22=\"\",\"\",VLOOKUP(I22,HM!$A$10:$B$209,2))","v":""}]
[null,{"$f":"IF(A23=\"\",\"\",VLOOKUP(A23,HM!$A$10:$B$209,2))","v":""},null,21,null,{"$f":"IF(E23=\"\",\"\",VLOOKUP(E23,HM!$A$10:$B$209,2))","v":""},null,21,null,{"$f":"IF(I23=\"\",\"\",VLOOKUP(I23,HM!$A$10:$B$209,2))","v":""}]
[null,{"$f":"IF(A24=\"\",\"\",VLOOKUP(A24,HM!$A$10:$B$209,2))","v":""},null,22,null,{"$f":"IF(E24=\"\",\"\",VLOOKUP(E24,HM!$A$10:$B$209,2))","v":""},null,22,null,{"$f":"IF(I24=\"\",\"\",VLOOKUP(I24,HM!$A$10:$B$209,2))","v":""}]
[null,{"$f":"IF(A25=\"\",\"\",VLOOKUP(A25,HM!$A$10:$B$209,2))","v":""},null,23,null,{"$f":"IF(E25=\"\",\"\",VLOOKUP(E25,HM!$A$10:$B$209,2))","v":""},null,23,null,{"$f":"IF(I25=\"\",\"\",VLOOKUP(I25,HM!$A$10:$B$209,2))","v":""}]
[null,{"$f":"IF(A26=\"\",\"\",VLOOKUP(A26,HM!$A$10:$B$209,2))","v":""},null,24,null,{"$f":"IF(E26=\"\",\"\",VLOOKUP(E26,HM!$A$10:$B$209,2))","v":""},null,24,null,{"$f":"IF(I26=\"\",\"\",VLOOKUP(I26,HM!$A$10:$B$209,2))","v":""}]
[null,{"$f":"IF(A27=\"\",\"\",VLOOKUP(A27,HM!$A$10:$B$209,2))","v":""},null,25,null,{"$f":"IF(E27=\"\",\"\",VLOOKUP(E27,HM!$A$10:$B$209,2))","v":""},null,25,null,{"$f":"IF(I27=\"\",\"\",VLOOKUP(I27,HM!$A$10:$B$209,2))","v":""}]
[null,{"$f":"IF(A28=\"\",\"\",VLOOKUP(A28,HM!$A$10:$B$209,2))","v":""},null,26,null,{"$f":"IF(E28=\"\",\"\",VLOOKUP(E28,HM!$A$10:$B$209,2))","v":""},null,26,null,{"$f":"IF(I28=\"\",\"\",VLOOKUP(I28,HM!$A$10:$B$209,2))","v":""}]
[null,{"$f":"IF(A29=\"\",\"\",VLOOKUP(A29,HM!$A$10:$B$209,2))","v":""},null,27,null,{"$f":"IF(E29=\"\",\"\",VLOOKUP(E29,HM!$A$10:$B$209,2))","v":""},null,27,null,{"$f":"IF(I29=\"\",\"\",VLOOKUP(I29,HM!$A$10:$B$209,2))","v":""}]
[null,{"$f":"IF(A30=\"\",\"\",VLOOKUP(A30,HM!$A$10:$B$209,2))","v":""},null,28,null,{"$f":"IF(E30=\"\",\"\",VLOOKUP(E30,HM!$A$10:$B$209,2))","v":""},null,28,null,{"$f":"IF(I30=\"\",\"\",VLOOKUP(I30,HM!$A$10:$B$209,2))","v":""}]
[null,{"$f":"IF(A31=\"\",\"\",VLOOKUP(A31,HM!$A$10:$B$209,2))","v":""},null,29,null,{"$f":"IF(E31=\"\",\"\",VLOOKUP(E31,HM!$A$10:$B$209,2))","v":""},null,29,null,{"$f":"IF(I31=\"\",\"\",VLOOKUP(I31,HM!$A$10:$B$209,2))","v":""}]
[null,{"$f":"IF(A32=\"\",\"\",VLOOKUP(A32,HM!$A$10:$B$209,2))","v":""},null,30,null,{"$f":"IF(E32=\"\",\"\",VLOOKUP(E32,HM!$A$10:$B$209,2))","v":""},null,30,null,{"$f":"IF(I32=\"\",\"\",VLOOKUP(I32,HM!$A$10:$B$209,2))","v":""}]
[null,{"$f":"IF(A33=\"\",\"\",VLOOKUP(A33,HM!$A$10:$B$209,2))","v":""},null,31,null,{"$f":"IF(E33=\"\",\"\",VLOOKUP(E33,HM!$A$10:$B$209,2))","v":""},null,31,null,{"$f":"IF(I33=\"\",\"\",VLOOKUP(I33,HM!$A$10:$B$209,2))","v":""}]
[null,{"$f":"IF(A34=\"\",\"\",VLOOKUP(A34,HM!$A$10:$B$209,2))","v":""},null,32,null,{"$f":"IF(E34=\"\",\"\",VLOOKUP(E34,HM!$A$10:$B$209,2))","v":""},null,32,null,{"$f":"IF(I34=\"\",\"\",VLOOKUP(I34,HM!$A$10:$B$209,2))","v":""}]
[null,{"$f":"IF(A35=\"\",\"\",VLOOKUP(A35,HM!$A$10:$B$209,2))","v":""},null,33,null,{"$f":"IF(E35=\"\",\"\",VLOOKUP(E35,HM!$A$10:$B$209,2))","v":""},null,33,null,{"$f":"IF(I35=\"\",\"\",VLOOKUP(I35,HM!$A$10:$B$209,2))","v":""}]
[null,{"$f":"IF(A36=\"\",\"\",VLOOKUP(A36,HM!$A$10:$B$209,2))","v":""},null,34,null,{"$f":"IF(E36=\"\",\"\",VLOOKUP(E36,HM!$A$10:$B$209,2))","v":""},null,34,null,{"$f":"IF(I36=\"\",\"\",VLOOKUP(I36,HM!$A$10:$B$209,2))","v":""}]
[null,{"$f":"IF(A37=\"\",\"\",VLOOKUP(A37,HM!$A$10:$B$209,2))","v":""},null,35,null,{"$f":"IF(E37=\"\",\"\",VLOOKUP(E37,HM!$A$10:$B$209,2))","v":""},null,35,null,{"$f":"IF(I37=\"\",\"\",VLOOKUP(I37,HM!$A$10:$B$209,2))","v":""}]
[null,{"$f":"IF(A38=\"\",\"\",VLOOKUP(A38,HM!$A$10:$B$209,2))","v":""},null,36,null,{"$f":"IF(E38=\"\",\"\",VLOOKUP(E38,HM!$A$10:$B$209,2))","v":""},null,36,null,{"$f":"IF(I38=\"\",\"\",VLOOKUP(I38,HM!$A$10:$B$209,2))","v":""}]
[null,{"$f":"IF(A39=\"\",\"\",VLOOKUP(A39,HM!$A$10:$B$209,2))","v":""},null,37,null,{"$f":"IF(E39=\"\",\"\",VLOOKUP(E39,HM!$A$10:$B$209,2))","v":""},null,37,null,{"$f":"IF(I39=\"\",\"\",VLOOKUP(I39,HM!$A$10:$B$209,2))","v":""}]
[null,{"$f":"IF(A40=\"\",\"\",VLOOKUP(A40,HM!$A$10:$B$209,2))","v":""},null,38,null,{"$f":"IF(E40=\"\",\"\",VLOOKUP(E40,HM!$A$10:$B$209,2))","v":""},null,38,null,{"$f":"IF(I40=\"\",\"\",VLOOKUP(I40,HM!$A$10:$B$209,2))","v":""}]
[null,{"$f":"IF(A41=\"\",\"\",VLOOKUP(A41,HM!$A$10:$B$209,2))","v":""},null,39,null,{"$f":"IF(E41=\"\",\"\",VLOOKUP(E41,HM!$A$10:$B$209,2))","v":""},null,39,null,{"$f":"IF(I41=\"\",\"\",VLOOKUP(I41,HM!$A$10:$B$209,2))","v":""}]
[null,{"$f":"IF(A42=\"\",\"\",VLOOKUP(A42,HM!$A$10:$B$209,2))","v":""},null,40,null,{"$f":"IF(E42=\"\",\"\",VLOOKUP(E42,HM!$A$10:$B$209,2))","v":""},null,40,null,{"$f":"IF(I42=\"\",\"\",VLOOKUP(I42,HM!$A$10:$B$209,2))","v":""}]
[null,{"$f":"IF(A43=\"\",\"\",VLOOKUP(A43,HM!$A$10:$B$209,2))","v":""},null,41,null,{"$f":"IF(E43=\"\",\"\",VLOOKUP(E43,HM!$A$10:$B$209,2))","v":""},null,41,null,{"$f":"IF(I43=\"\",\"\",VLOOKUP(I43,HM!$A$10:$B$209,2))","v":""}]
[null,{"$f":"IF(A44=\"\",\"\",VLOOKUP(A44,HM!$A$10:$B$209,2))","v":""},null,42,null,{"$f":"IF(E44=\"\",\"\",VLOOKUP(E44,HM!$A$10:$B$209,2))","v":""},null,42,null,{"$f":"IF(I44=\"\",\"\",VLOOKUP(I44,HM!$A$10:$B$209,2))","v":""}]
[null,{"$f":"IF(A45=\"\",\"\",VLOOKUP(A45,HM!$A$10:$B$209,2))","v":""},null,43,null,{"$f":"IF(E45=\"\",\"\",VLOOKUP(E45,HM!$A$10:$B$209,2))","v":""},null,43,null,{"$f":"IF(I45=\"\",\"\",VLOOKUP(I45,HM!$A$10:$B$209,2))","v":""}]
[null,{"$f":"IF(A46=\"\",\"\",VLOOKUP(A46,HM!$A$10:$B$209,2))","v":""},null,44,null,{"$f":"IF(E46=\"\",\"\",VLOOKUP(E46,HM!$A$10:$B$209,2))","v":""},null,44,null,{"$f":"IF(I46=\"\",\"\",VLOOKUP(I46,HM!$A$10:$B$209,2))","v":""}]
[null,{"$f":"IF(A47=\"\",\"\",VLOOKUP(A47,HM!$A$10:$B$209,2))","v":""},null,45,null,{"$f":"IF(E47=\"\",\"\",VLOOKUP(E47,HM!$A$10:$B$209,2))","v":""},null,45,null,{"$f":"IF(I47=\"\",\"\",VLOOKUP(I47,HM!$A$10:$B$209,2))","v":""}]
[null,{"$f":"IF(A48=\"\",\"\",VLOOKUP(A48,HM!$A$10:$B$209,2))","v":""},null,46,null,{"$f":"IF(E48=\"\",\"\",VLOOKUP(E48,HM!$A$10:$B$209,2))","v":""},null,46,null,{"$f":"IF(I48=\"\",\"\",VLOOKUP(I48,HM!$A$10:$B$209,2))","v":""}]
[null,{"$f":"IF(A49=\"\",\"\",VLOOKUP(A49,HM!$A$10:$B$209,2))","v":""},null,47,null,{"$f":"IF(E49=\"\",\"\",VLOOKUP(E49,HM!$A$10:$B$209,2))","v":""},null,47,null,{"$f":"IF(I49=\"\",\"\",VLOOKUP(I49,HM!$A$10:$B$209,2))","v":""}]
[null,{"$f":"IF(A50=\"\",\"\",VLOOKUP(A50,HM!$A$10:$B$209,2))","v":""},null,48,null,{"$f":"IF(E50=\"\",\"\",VLOOKUP(E50,HM!$A$10:$B$209,2))","v":""},null,48,null,{"$f":"IF(I50=\"\",\"\",VLOOKUP(I50,HM!$A$10:$B$209,2))","v":""}]
[null,{"$f":"IF(A51=\"\",\"\",VLOOKUP(A51,HM!$A$10:$B$209,2))","v":""},null,49,null,{"$f":"IF(E51=\"\",\"\",VLOOKUP(E51,HM!$A$10:$B$209,2))","v":""},null,49,null,{"$f":"IF(I51=\"\",\"\",VLOOKUP(I51,HM!$A$10:$B$209,2))","v":""}]
[null,{"$f":"IF(A52=\"\",\"\",VLOOKUP(A52,HM!$A$10:$B$209,2))","v":""},null,50,null,{"$f":"IF(E52=\"\",\"\",VLOOKUP(E52,HM!$A$10:$B$209,2))","v":""},null,50,null,{"$f":"IF(I52=\"\",\"\",VLOOKUP(I52,HM!$A$10:$B$209,2))","v":""}]
[null,{"$f":"IF(A53=\"\",\"\",VLOOKUP(A53,HM!$A$10:$B$209,2))","v":""},null,51,null,{"$f":"IF(E53=\"\",\"\",VLOOKUP(E53,HM!$A$10:$B$209,2))","v":""},null,51,null,{"$f":"IF(I53=\"\",\"\",VLOOKUP(I53,HM!$A$10:$B$209,2))","v":""}]
[null,{"$f":"IF(A54=\"\",\"\",VLOOKUP(A54,HM!$A$10:$B$209,2))","v":""},null,52,null,{"$f":"IF(E54=\"\",\"\",VLOOKUP(E54,HM!$A$10:$B$209,2))","v":""},null,52,null,{"$f":"IF(I54=\"\",\"\",VLOOKUP(I54,HM!$A$10:$B$209,2))","v":""}]
[null,{"$f":"IF(A55=\"\",\"\",VLOOKUP(A55,HM!$A$10:$B$209,2))","v":""},null,53,null,{"$f":"IF(E55=\"\",\"\",VLOOKUP(E55,HM!$A$10:$B$209,2))","v":""},null,53,null,{"$f":"IF(I55=\"\",\"\",VLOOKUP(I55,HM!$A$10:$B$209,2))","v":""}]
[null,{"$f":"IF(A56=\"\",\"\",VLOOKUP(A56,HM!$A$10:$B$209,2))","v":""},null,54,null,{"$f":"IF(E56=\"\",\"\",VLOOKUP(E56,HM!$A$10:$B$209,2))","v":""},null,54,null,{"$f":"IF(I56=\"\",\"\",VLOOKUP(I56,HM!$A$10:$B$209,2))","v":""}]
[null,{"$f":"IF(A57=\"\",\"\",VLOOKUP(A57,HM!$A$10:$B$209,2))","v":""},null,55,null,{"$f":"IF(E57=\"\",\"\",VLOOKUP(E57,HM!$A$10:$B$209,2))","v":""},null,55,null,{"$f":"IF(I57=\"\",\"\",VLOOKUP(I57,HM!$A$10:$B$209,2))","v":""}]
[null,{"$f":"IF(A58=\"\",\"\",VLOOKUP(A58,HM!$A$10:$B$209,2))","v":""},null,56,null,{"$f":"IF(E58=\"\",\"\",VLOOKUP(E58,HM!$A$10:$B$209,2))","v":""},null,56,null,{"$f":"IF(I58=\"\",\"\",VLOOKUP(I58,HM!$A$10:$B$209,2))","v":""}]
[null,{"$f":"IF(A59=\"\",\"\",VLOOKUP(A59,HM!$A$10:$B$209,2))","v":""},null,57,null,{"$f":"IF(E59=\"\",\"\",VLOOKUP(E59,HM!$A$10:$B$209,2))","v":""},null,57,null,{"$f":"IF(I59=\"\",\"\",VLOOKUP(I59,HM!$A$10:$B$209,2))","v":""}]
[null,{"$f":"IF(A60=\"\",\"\",VLOOKUP(A60,HM!$A$10:$B$209,2))","v":""},null,58,null,{"$f":"IF(E60=\"\",\"\",VLOOKUP(E60,HM!$A$10:$B$209,2))","v":""},null,58,null,{"$f":"IF(I60=\"\",\"\",VLOOKUP(I60,HM!$A$10:$B$209,2))","v":""}]
[null,{"$f":"IF(A61=\"\",\"\",VLOOKUP(A61,HM!$A$10:$B$209,2))","v":""},null,59,null,{"$f":"IF(E61=\"\",\"\",VLOOKUP(E61,HM!$A$10:$B$209,2))","v":""},null,59,null,{"$f":"IF(I61=\"\",\"\",VLOOKUP(I61,HM!$A$10:$B$209,2))","v":""}]
[null,{"$f":"IF(A62=\"\",\"\",VLOOKUP(A62,HM!$A$10:$B$209,2))","v":""},null,60,null,{"$f":"IF(E62=\"\",\"\",VLOOKUP(E62,HM!$A$10:$B$209,2))","v":""},null,60,null,{"$f":"IF(I62=\"\",\"\",VLOOKUP(I62,HM!$A$10:$B$209,2))","v":""}]
[null,{"$f":"IF(A63=\"\",\"\",VLOOKUP(A63,HM!$A$10:$B$209,2))","v":""},null,61,null,{"$f":"IF(E63=\"\",\"\",VLOOKUP(E63,HM!$A$10:$B$209,2))","v":""},null,61,null,{"$f":"IF(I63=\"\",\"\",VLOOKUP(I63,HM!$A$10:$B$209,2))","v":""}]
[null,{"$f":"IF(A64=\"\",\"\",VLOOKUP(A64,HM!$A$10:$B$209,2))","v":""},null,62,null,{"$f":"IF(E64=\"\",\"\",VLOOKUP(E64,HM!$A$10:$B$209,2))","v":""},null,62,null,{"$f":"IF(I64=\"\",\"\",VLOOKUP(I64,HM!$A$10:$B$209,2))","v":""}]
[null,{"$f":"IF(A65=\"\",\"\",VLOOKUP(A65,HM!$A$10:$B$209,2))","v":""},null,63,null,{"$f":"IF(E65=\"\",\"\",VLOOKUP(E65,HM!$A$10:$B$209,2))","v":""},null,63,null,{"$f":"IF(I65=\"\",\"\",VLOOKUP(I65,HM!$A$10:$B$209,2))","v":""}]
[null,{"$f":"IF(A66=\"\",\"\",VLOOKUP(A66,HM!$A$10:$B$209,2))","v":""},null,64,null,{"$f":"IF(E66=\"\",\"\",VLOOKUP(E66,HM!$A$10:$B$209,2))","v":""},null,64,null,{"$f":"IF(I66=\"\",\"\",VLOOKUP(I66,HM!$A$10:$B$209,2))","v":""}]
[null,{"$f":"IF(A67=\"\",\"\",VLOOKUP(A67,HM!$A$10:$B$209,2))","v":""},null,65,null,{"$f":"IF(E67=\"\",\"\",VLOOKUP(E67,HM!$A$10:$B$209,2))","v":""},null,65,null,{"$f":"IF(I67=\"\",\"\",VLOOKUP(I67,HM!$A$10:$B$209,2))","v":""}]
[null,{"$f":"IF(A68=\"\",\"\",VLOOKUP(A68,HM!$A$10:$B$209,2))","v":""},null,66,null,{"$f":"IF(E68=\"\",\"\",VLOOKUP(E68,HM!$A$10:$B$209,2))","v":""},null,66,null,{"$f":"IF(I68=\"\",\"\",VLOOKUP(I68,HM!$A$10:$B$209,2))","v":""}]
[null,{"$f":"IF(A69=\"\",\"\",VLOOKUP(A69,HM!$A$10:$B$209,2))","v":""},null,67,null,{"$f":"IF(E69=\"\",\"\",VLOOKUP(E69,HM!$A$10:$B$209,2))","v":""},null,67,null,{"$f":"IF(I69=\"\",\"\",VLOOKUP(I69,HM!$A$10:$B$209,2))","v":""}]
[null,{"$f":"IF(A70=\"\",\"\",VLOOKUP(A70,HM!$A$10:$B$209,2))","v":""},null,68,null,{"$f":"IF(E70=\"\",\"\",VLOOKUP(E70,HM!$A$10:$B$209,2))","v":""},null,68,null,{"$f":"IF(I70=\"\",\"\",VLOOKUP(I70,HM!$A$10:$B$209,2))","v":""}]
[null,{"$f":"IF(A71=\"\",\"\",VLOOKUP(A71,HM!$A$10:$B$209,2))","v":""},null,69,null,{"$f":"IF(E71=\"\",\"\",VLOOKUP(E71,HM!$A$10:$B$209,2))","v":""},null,69,null,{"$f":"IF(I71=\"\",\"\",VLOOKUP(I71,HM!$A$10:$B$209,2))","v":""}]
[null,{"$f":"IF(A72=\"\",\"\",VLOOKUP(A72,HM!$A$10:$B$209,2))","v":""},null,70,null,{"$f":"IF(E72=\"\",\"\",VLOOKUP(E72,HM!$A$10:$B$209,2))","v":""},null,70,null,{"$f":"IF(I72=\"\",\"\",VLOOKUP(I72,HM!$A$10:$B$209,2))","v":""}]
[null,{"$f":"IF(A73=\"\",\"\",VLOOKUP(A73,HM!$A$10:$B$209,2))","v":""},null,71,null,{"$f":"IF(E73=\"\",\"\",VLOOKUP(E73,HM!$A$10:$B$209,2))","v":""},null,71,null,{"$f":"IF(I73=\"\",\"\",VLOOKUP(I73,HM!$A$10:$B$209,2))","v":""}]
[null,{"$f":"IF(A74=\"\",\"\",VLOOKUP(A74,HM!$A$10:$B$209,2))","v":""},null,72,null,{"$f":"IF(E74=\"\",\"\",VLOOKUP(E74,HM!$A$10:$B$209,2))","v":""},null,72,null,{"$f":"IF(I74=\"\",\"\",VLOOKUP(I74,HM!$A$10:$B$209,2))","v":""}]
[null,{"$f":"IF(A75=\"\",\"\",VLOOKUP(A75,HM!$A$10:$B$209,2))","v":""},null,73,null,{"$f":"IF(E75=\"\",\"\",VLOOKUP(E75,HM!$A$10:$B$209,2))","v":""},null,73,null,{"$f":"IF(I75=\"\",\"\",VLOOKUP(I75,HM!$A$10:$B$209,2))","v":""}]
[null,{"$f":"IF(A76=\"\",\"\",VLOOKUP(A76,HM!$A$10:$B$209,2))","v":""},null,74,null,{"$f":"IF(E76=\"\",\"\",VLOOKUP(E76,HM!$A$10:$B$209,2))","v":""},null,74,null,{"$f":"IF(I76=\"\",\"\",VLOOKUP(I76,HM!$A$10:$B$209,2))","v":""}]
[null,{"$f":"IF(A77=\"\",\"\",VLOOKUP(A77,HM!$A$10:$B$209,2))","v":""},null,75,null,{"$f":"IF(E77=\"\",\"\",VLOOKUP(E77,HM!$A$10:$B$209,2))","v":""},null,75,null,{"$f":"IF(I77=\"\",\"\",VLOOKUP(I77,HM!$A$10:$B$209,2))","v":""}]
[null,{"$f":"IF(A78=\"\",\"\",VLOOKUP(A78,HM!$A$10:$B$209,2))","v":""},null,76,null,{"$f":"IF(E78=\"\",\"\",VLOOKUP(E78,HM!$A$10:$B$209,2))","v":""},null,76,null,{"$f":"IF(I78=\"\",\"\",VLOOKUP(I78,HM!$A$10:$B$209,2))","v":""}]
[null,{"$f":"IF(A79=\"\",\"\",VLOOKUP(A79,HM!$A$10:$B$209,2))","v":""},null,77,null,{"$f":"IF(E79=\"\",\"\",VLOOKUP(E79,HM!$A$10:$B$209,2))","v":""},null,77,null,{"$f":"IF(I79=\"\",\"\",VLOOKUP(I79,HM!$A$10:$B$209,2))","v":""}]
[null,{"$f":"IF(A80=\"\",\"\",VLOOKUP(A80,HM!$A$10:$B$209,2))","v":""},null,78,null,{"$f":"IF(E80=\"\",\"\",VLOOKUP(E80,HM!$A$10:$B$209,2))","v":""},null,78,null,{"$f":"IF(I80=\"\",\"\",VLOOKUP(I80,HM!$A$10:$B$209,2))","v":""}]
[null,{"$f":"IF(A81=\"\",\"\",VLOOKUP(A81,HM!$A$10:$B$209,2))","v":""},null,79,null,{"$f":"IF(E81=\"\",\"\",VLOOKUP(E81,HM!$A$10:$B$209,2))","v":""},null,79,null,{"$f":"IF(I81=\"\",\"\",VLOOKUP(I81,HM!$A$10:$B$209,2))","v":""}]
[null,{"$f":"IF(A82=\"\",\"\",VLOOKUP(A82,HM!$A$10:$B$209,2))","v":""},null,80,null,{"$f":"IF(E82=\"\",\"\",VLOOKUP(E82,HM!$A$10:$B$209,2))","v":""},null,80,null,{"$f":"IF(I82=\"\",\"\",VLOOKUP(I82,HM!$A$10:$B$209,2))","v":""}]
[null,{"$f":"IF(A83=\"\",\"\",VLOOKUP(A83,HM!$A$10:$B$209,2))","v":""},null,81,null,{"$f":"IF(E83=\"\",\"\",VLOOKUP(E83,HM!$A$10:$B$209,2))","v":""},null,81,null,{"$f":"IF(I83=\"\",\"\",VLOOKUP(I83,HM!$A$10:$B$209,2))","v":""}]
[null,{"$f":"IF(A84=\"\",\"\",VLOOKUP(A84,HM!$A$10:$B$209,2))","v":""},null,82,null,{"$f":"IF(E84=\"\",\"\",VLOOKUP(E84,HM!$A$10:$B$209,2))","v":""},null,82,null,{"$f":"IF(I84=\"\",\"\",VLOOKUP(I84,HM!$A$10:$B$209,2))","v":""}]
[null,{"$f":"IF(A85=\"\",\"\",VLOOKUP(A85,HM!$A$10:$B$209,2))","v":""},null,83,null,{"$f":"IF(E85=\"\",\"\",VLOOKUP(E85,HM!$A$10:$B$209,2))","v":""},null,83,null,{"$f":"IF(I85=\"\",\"\",VLOOKUP(I85,HM!$A$10:$B$209,2))","v":""}]
[null,{"$f":"IF(A86=\"\",\"\",VLOOKUP(A86,HM!$A$10:$B$209,2))","v":""},null,84,null,{"$f":"IF(E86=\"\",\"\",VLOOKUP(E86,HM!$A$10:$B$209,2))","v":""},null,84,null,{"$f":"IF(I86=\"\",\"\",VLOOKUP(I86,HM!$A$10:$B$209,2))","v":""}]
[null,{"$f":"IF(A87=\"\",\"\",VLOOKUP(A87,HM!$A$10:$B$209,2))","v":""},null,85,null,{"$f":"IF(E87=\"\",\"\",VLOOKUP(E87,HM!$A$10:$B$209,2))","v":""},null,85,null,{"$f":"IF(I87=\"\",\"\",VLOOKUP(I87,HM!$A$10:$B$209,2))","v":""}]
[null,{"$f":"IF(A88=\"\",\"\",VLOOKUP(A88,HM!$A$10:$B$209,2))","v":""},null,86,null,{"$f":"IF(E88=\"\",\"\",VLOOKUP(E88,HM!$A$10:$B$209,2))","v":""},null,86,null,{"$f":"IF(I88=\"\",\"\",VLOOKUP(I88,HM!$A$10:$B$209,2))","v":""}]
[null,{"$f":"IF(A89=\"\",\"\",VLOOKUP(A89,HM!$A$10:$B$209,2))","v":""},null,87,null,{"$f":"IF(E89=\"\",\"\",VLOOKUP(E89,HM!$A$10:$B$209,2))","v":""},null,87,null,{"$f":"IF(I89=\"\",\"\",VLOOKUP(I89,HM!$A$10:$B$209,2))","v":""}]
[null,{"$f":"IF(A90=\"\",\"\",VLOOKUP(A90,HM!$A$10:$B$209,2))","v":""},null,88,null,{"$f":"IF(E90=\"\",\"\",VLOOKUP(E90,HM!$A$10:$B$209,2))","v":""},null,88,null,{"$f":"IF(I90=\"\",\"\",VLOOKUP(I90,HM!$A$10:$B$209,2))","v":""}]
[null,{"$f":"IF(A91=\"\",\"\",VLOOKUP(A91,HM!$A$10:$B$209,2))","v":""},null,89,null,{"$f":"IF(E91=\"\",\"\",VLOOKUP(E91,HM!$A$10:$B$209,2))","v":""},null,89,null,{"$f":"IF(I91=\"\",\"\",VLOOKUP(I91,HM!$A$10:$B$209,2))","v":""}]
[null,{"$f":"IF(A92=\"\",\"\",VLOOKUP(A92,HM!$A$10:$B$209,2))","v":""},null,90,null,{"$f":"IF(E92=\"\",\"\",VLOOKUP(E92,HM!$A$10:$B$209,2))","v":""},null,90,null,{"$f":"IF(I92=\"\",\"\",VLOOKUP(I92,HM!$A$10:$B$209,2))","v":""}]
[null,{"$f":"IF(A93=\"\",\"\",VLOOKUP(A93,HM!$A$10:$B$209,2))","v":""},null,91,null,{"$f":"IF(E93=\"\",\"\",VLOOKUP(E93,HM!$A$10:$B$209,2))","v":""},null,91,null,{"$f":"IF(I93=\"\",\"\",VLOOKUP(I93,HM!$A$10:$B$209,2))","v":""}]
[null,{"$f":"IF(A94=\"\",\"\",VLOOKUP(A94,HM!$A$10:$B$209,2))","v":""},null,92,null,{"$f":"IF(E94=\"\",\"\",VLOOKUP(E94,HM!$A$10:$B$209,2))","v":""},null,92,null,{"$f":"IF(I94=\"\",\"\",VLOOKUP(I94,HM!$A$10:$B$209,2))","v":""}]
[null,{"$f":"IF(A95=\"\",\"\",VLOOKUP(A95,HM!$A$10:$B$209,2))","v":""},null,93,null,{"$f":"IF(E95=\"\",\"\",VLOOKUP(E95,HM!$A$10:$B$209,2))","v":""},null,93,null,{"$f":"IF(I95=\"\",\"\",VLOOKUP(I95,HM!$A$10:$B$209,2))","v":""}]
[null,{"$f":"IF(A96=\"\",\"\",VLOOKUP(A96,HM!$A$10:$B$209,2))","v":""},null,94,null,{"$f":"IF(E96=\"\",\"\",VLOOKUP(E96,HM!$A$10:$B$209,2))","v":""},null,94,null,{"$f":"IF(I96=\"\",\"\",VLOOKUP(I96,HM!$A$10:$B$209,2))","v":""}]
[null,{"$f":"IF(A97=\"\",\"\",VLOOKUP(A97,HM!$A$10:$B$209,2))","v":""},null,95,null,{"$f":"IF(E97=\"\",\"\",VLOOKUP(E97,HM!$A$10:$B$209,2))","v":""},null,95,null,{"$f":"IF(I97=\"\",\"\",VLOOKUP(I97,HM!$A$10:$B$209,2))","v":""}]
[null,{"$f":"IF(A98=\"\",\"\",VLOOKUP(A98,HM!$A$10:$B$209,2))","v":""},null,96,null,{"$f":"IF(E98=\"\",\"\",VLOOKUP(E98,HM!$A$10:$B$209,2))","v":""},null,96,null,{"$f":"IF(I98=\"\",\"\",VLOOKUP(I98,HM!$A$10:$B$209,2))","v":""}]
[null,{"$f":"IF(A99=\"\",\"\",VLOOKUP(A99,HM!$A$10:$B$209,2))","v":""},null,97,null,{"$f":"IF(E99=\"\",\"\",VLOOKUP(E99,HM!$A$10:$B$209,2))","v":""},null,97,null,{"$f":"IF(I99=\"\",\"\",VLOOKUP(I99,HM!$A$10:$B$209,2))","v":""}]
[null,{"$f":"IF(A100=\"\",\"\",VLOOKUP(A100,HM!$A$10:$B$209,2))","v":""},null,98,null,{"$f":"IF(E100=\"\",\"\",VLOOKUP(E100,HM!$A$10:$B$209,2))","v":""},null,98,null,{"$f":"IF(I100=\"\",\"\",VLOOKUP(I100,HM!$A$10:$B$209,2))","v":""}]
[null,{"$f":"IF(A101=\"\",\"\",VLOOKUP(A101,HM!$A$10:$B$209,2))","v":""},null,99,null,{"$f":"IF(E101=\"\",\"\",VLOOKUP(E101,HM!$A$10:$B$209,2))","v":""},null,99,null,{"$f":"IF(I101=\"\",\"\",VLOOKUP(I101,HM!$A$10:$B$209,2))","v":""}]
[null,{"$f":"IF(A102=\"\",\"\",VLOOKUP(A102,HM!$A$10:$B$209,2))","v":""},null,100,null,{"$f":"IF(E102=\"\",\"\",VLOOKUP(E102,HM!$A$10:$B$209,2))","v":""},null,100,null,{"$f":"IF(I102=\"\",\"\",VLOOKUP(I102,HM!$A$10:$B$209,2))","v":""}]
[null,{"$f":"IF(A103=\"\",\"\",VLOOKUP(A103,HM!$A$10:$B$209,2))","v":""},null,101,null,{"$f":"IF(E103=\"\",\"\",VLOOKUP(E103,HM!$A$10:$B$209,2))","v":""},null,101,null,{"$f":"IF(I103=\"\",\"\",VLOOKUP(I103,HM!$A$10:$B$209,2))","v":""}]
[null,{"$f":"IF(A104=\"\",\"\",VLOOKUP(A104,HM!$A$10:$B$209,2))","v":""},null,102,null,{"$f":"IF(E104=\"\",\"\",VLOOKUP(E104,HM!$A$10:$B$209,2))","v":""},null,102,null,{"$f":"IF(I104=\"\",\"\",VLOOKUP(I104,HM!$A$10:$B$209,2))","v":""}]
[null,{"$f":"IF(A105=\"\",\"\",VLOOKUP(A105,HM!$A$10:$B$209,2))","v":""},null,103,null,{"$f":"IF(E105=\"\",\"\",VLOOKUP(E105,HM!$A$10:$B$209,2))","v":""},null,103,null,{"$f":"IF(I105=\"\",\"\",VLOOKUP(I105,HM!$A$10:$B$209,2))","v":""}]
[null,{"$f":"IF(A106=\"\",\"\",VLOOKUP(A106,HM!$A$10:$B$209,2))","v":""},null,104,null,{"$f":"IF(E106=\"\",\"\",VLOOKUP(E106,HM!$A$10:$B$209,2))","v":""},null,104,null,{"$f":"IF(I106=\"\",\"\",VLOOKUP(I106,HM!$A$10:$B$209,2))","v":""}]
[null,{"$f":"IF(A107=\"\",\"\",VLOOKUP(A107,HM!$A$10:$B$209,2))","v":""},null,105,null,{"$f":"IF(E107=\"\",\"\",VLOOKUP(E107,HM!$A$10:$B$209,2))","v":""},null,105,null,{"$f":"IF(I107=\"\",\"\",VLOOKUP(I107,HM!$A$10:$B$209,2))","v":""}]
[null,{"$f":"IF(A108=\"\",\"\",VLOOKUP(A108,HM!$A$10:$B$209,2))","v":""},null,106,null,{"$f":"IF(E108=\"\",\"\",VLOOKUP(E108,HM!$A$10:$B$209,2))","v":""},null,106,null,{"$f":"IF(I108=\"\",\"\",VLOOKUP(I108,HM!$A$10:$B$209,2))","v":""}]
[null,{"$f":"IF(A109=\"\",\"\",VLOOKUP(A109,HM!$A$10:$B$209,2))","v":""},null,107,null,{"$f":"IF(E109=\"\",\"\",VLOOKUP(E109,HM!$A$10:$B$209,2))","v":""},null,107,null,{"$f":"IF(I109=\"\",\"\",VLOOKUP(I109,HM!$A$10:$B$209,2))","v":""}]
[null,{"$f":"IF(A110=\"\",\"\",VLOOKUP(A110,HM!$A$10:$B$209,2))","v":""},null,108,null,{"$f":"IF(E110=\"\",\"\",VLOOKUP(E110,HM!$A$10:$B$209,2))","v":""},null,108,null,{"$f":"IF(I110=\"\",\"\",VLOOKUP(I110,HM!$A$10:$B$209,2))","v":""}]
[null,{"$f":"IF(A111=\"\",\"\",VLOOKUP(A111,HM!$A$10:$B$209,2))","v":""},null,109,null,{"$f":"IF(E111=\"\",\"\",VLOOKUP(E111,HM!$A$10:$B$209,2))","v":""},null,109,null,{"$f":"IF(I111=\"\",\"\",VLOOKUP(I111,HM!$A$10:$B$209,2))","v":""}]
[null,{"$f":"IF(A112=\"\",\"\",VLOOKUP(A112,HM!$A$10:$B$209,2))","v":""},null,110,null,{"$f":"IF(E112=\"\",\"\",VLOOKUP(E112,HM!$A$10:$B$209,2))","v":""},null,110,null,{"$f":"IF(I112=\"\",\"\",VLOOKUP(I112,HM!$A$10:$B$209,2))","v":""}]
[null,{"$f":"IF(A113=\"\",\"\",VLOOKUP(A113,HM!$A$10:$B$209,2))","v":""},null,111,null,{"$f":"IF(E113=\"\",\"\",VLOOKUP(E113,HM!$A$10:$B$209,2))","v":""},null,111,null,{"$f":"IF(I113=\"\",\"\",VLOOKUP(I113,HM!$A$10:$B$209,2))","v":""}]
[null,{"$f":"IF(A114=\"\",\"\",VLOOKUP(A114,HM!$A$10:$B$209,2))","v":""},null,112,null,{"$f":"IF(E114=\"\",\"\",VLOOKUP(E114,HM!$A$10:$B$209,2))","v":""},null,112,null,{"$f":"IF(I114=\"\",\"\",VLOOKUP(I114,HM!$A$10:$B$209,2))","v":""}]
[null,{"$f":"IF(A115=\"\",\"\",VLOOKUP(A115,HM!$A$10:$B$209,2))","v":""},null,113,null,{"$f":"IF(E115=\"\",\"\",VLOOKUP(E115,HM!$A$10:$B$209,2))","v":""},null,113,null,{"$f":"IF(I115=\"\",\"\",VLOOKUP(I115,HM!$A$10:$B$209,2))","v":""}]
[null,{"$f":"IF(A116=\"\",\"\",VLOOKUP(A116,HM!$A$10:$B$209,2))","v":""},null,114,null,{"$f":"IF(E116=\"\",\"\",VLOOKUP(E116,HM!$A$10:$B$209,2))","v":""},null,114,null,{"$f":"IF(I116=\"\",\"\",VLOOKUP(I116,HM!$A$10:$B$209,2))","v":""}]
[null,{"$f":"IF(A117=\"\",\"\",VLOOKUP(A117,HM!$A$10:$B$209,2))","v":""},null,115,null,{"$f":"IF(E117=\"\",\"\",VLOOKUP(E117,HM!$A$10:$B$209,2))","v":""},null,115,null,{"$f":"IF(I117=\"\",\"\",VLOOKUP(I117,HM!$A$10:$B$209,2))","v":""}]
[null,{"$f":"IF(A118=\"\",\"\",VLOOKUP(A118,HM!$A$10:$B$209,2))","v":""},null,116,null,{"$f":"IF(E118=\"\",\"\",VLOOKUP(E118,HM!$A$10:$B$209,2))","v":""},null,116,null,{"$f":"IF(I118=\"\",\"\",VLOOKUP(I118,HM!$A$10:$B$209,2))","v":""}]
[null,{"$f":"IF(A119=\"\",\"\",VLOOKUP(A119,HM!$A$10:$B$209,2))","v":""},null,117,null,{"$f":"IF(E119=\"\",\"\",VLOOKUP(E119,HM!$A$10:$B$209,2))","v":""},null,117,null,{"$f":"IF(I119=\"\",\"\",VLOOKUP(I119,HM!$A$10:$B$209,2))","v":""}]
[null,{"$f":"IF(A120=\"\",\"\",VLOOKUP(A120,HM!$A$10:$B$209,2))","v":""},null,118,null,{"$f":"IF(E120=\"\",\"\",VLOOKUP(E120,HM!$A$10:$B$209,2))","v":""},null,118,null,{"$f":"IF(I120=\"\",\"\",VLOOKUP(I120,HM!$A$10:$B$209,2))","v":""}]
[null,{"$f":"IF(A121=\"\",\"\",VLOOKUP(A121,HM!$A$10:$B$209,2))","v":""},null,119,null,{"$f":"IF(E121=\"\",\"\",VLOOKUP(E121,HM!$A$10:$B$209,2))","v":""},null,119,null,{"$f":"IF(I121=\"\",\"\",VLOOKUP(I121,HM!$A$10:$B$209,2))","v":""}]
[null,{"$f":"IF(A122=\"\",\"\",VLOOKUP(A122,HM!$A$10:$B$209,2))","v":""},null,120,null,{"$f":"IF(E122=\"\",\"\",VLOOKUP(E122,HM!$A$10:$B$209,2))","v":""},null,120,null,{"$f":"IF(I122=\"\",\"\",VLOOKUP(I122,HM!$A$10:$B$209,2))","v":""}]
[null,{"$f":"IF(A123=\"\",\"\",VLOOKUP(A123,HM!$A$10:$B$209,2))","v":""},null,121,null,{"$f":"IF(E123=\"\",\"\",VLOOKUP(E123,HM!$A$10:$B$209,2))","v":""},null,121,null,{"$f":"IF(I123=\"\",\"\",VLOOKUP(I123,HM!$A$10:$B$209,2))","v":""}]
[null,{"$f":"IF(A124=\"\",\"\",VLOOKUP(A124,HM!$A$10:$B$209,2))","v":""},null,122,null,{"$f":"IF(E124=\"\",\"\",VLOOKUP(E124,HM!$A$10:$B$209,2))","v":""},null,122,null,{"$f":"IF(I124=\"\",\"\",VLOOKUP(I124,HM!$A$10:$B$209,2))","v":""}]
[null,{"$f":"IF(A125=\"\",\"\",VLOOKUP(A125,HM!$A$10:$B$209,2))","v":""},null,123,null,{"$f":"IF(E125=\"\",\"\",VLOOKUP(E125,HM!$A$10:$B$209,2))","v":""},null,123,null,{"$f":"IF(I125=\"\",\"\",VLOOKUP(I125,HM!$A$10:$B$209,2))","v":""}]
[null,{"$f":"IF(A126=\"\",\"\",VLOOKUP(A126,HM!$A$10:$B$209,2))","v":""},null,124,null,{"$f":"IF(E126=\"\",\"\",VLOOKUP(E126,HM!$A$10:$B$209,2))","v":""},null,124,null,{"$f":"IF(I126=\"\",\"\",VLOOKUP(I126,HM!$A$10:$B$209,2))","v":""}]
[null,{"$f":"IF(A127=\"\",\"\",VLOOKUP(A127,HM!$A$10:$B$209,2))","v":""},null,125,null,{"$f":"IF(E127=\"\",\"\",VLOOKUP(E127,HM!$A$10:$B$209,2))","v":""},null,125,null,{"$f":"IF(I127=\"\",\"\",VLOOKUP(I127,HM!$A$10:$B$209,2))","v":""}]
[null,{"$f":"IF(A128=\"\",\"\",VLOOKUP(A128,HM!$A$10:$B$209,2))","v":""},null,126,null,{"$f":"IF(E128=\"\",\"\",VLOOKUP(E128,HM!$A$10:$B$209,2))","v":""},null,126,null,{"$f":"IF(I128=\"\",\"\",VLOOKUP(I128,HM!$A$10:$B$209,2))","v":""}]
[null,{"$f":"IF(A129=\"\",\"\",VLOOKUP(A129,HM!$A$10:$B$209,2))","v":""},null,127,null,{"$f":"IF(E129=\"\",\"\",VLOOKUP(E129,HM!$A$10:$B$209,2))","v":""},null,127,null,{"$f":"IF(I129=\"\",\"\",VLOOKUP(I129,HM!$A$10:$B$209,2))","v":""}]
[null,{"$f":"IF(A130=\"\",\"\",VLOOKUP(A130,HM!$A$10:$B$209,2))","v":""},null,128,null,{"$f":"IF(E130=\"\",\"\",VLOOKUP(E130,HM!$A$10:$B$209,2))","v":""},null,128,null,{"$f":"IF(I130=\"\",\"\",VLOOKUP(I130,HM!$A$10:$B$209,2))","v":""}]
[null,{"$f":"IF(A131=\"\",\"\",VLOOKUP(A131,HM!$A$10:$B$209,2))","v":""},null,129,null,{"$f":"IF(E131=\"\",\"\",VLOOKUP(E131,HM!$A$10:$B$209,2))","v":""},null,129,null,{"$f":"IF(I131=\"\",\"\",VLOOKUP(I131,HM!$A$10:$B$209,2))","v":""}]
[null,{"$f":"IF(A132=\"\",\"\",VLOOKUP(A132,HM!$A$10:$B$209,2))","v":""},null,130,null,{"$f":"IF(E132=\"\",\"\",VLOOKUP(E132,HM!$A$10:$B$209,2))","v":""},null,130,null,{"$f":"IF(I132=\"\",\"\",VLOOKUP(I132,HM!$A$10:$B$209,2))","v":""}]
[null,{"$f":"IF(A133=\"\",\"\",VLOOKUP(A133,HM!$A$10:$B$209,2))","v":""},null,131,null,{"$f":"IF(E133=\"\",\"\",VLOOKUP(E133,HM!$A$10:$B$209,2))","v":""},null,131,null,{"$f":"IF(I133=\"\",\"\",VLOOKUP(I133,HM!$A$10:$B$209,2))","v":""}]
[null,{"$f":"IF(A134=\"\",\"\",VLOOKUP(A134,HM!$A$10:$B$209,2))","v":""},null,132,null,{"$f":"IF(E134=\"\",\"\",VLOOKUP(E134,HM!$A$10:$B$209,2))","v":""},null,132,null,{"$f":"IF(I134=\"\",\"\",VLOOKUP(I134,HM!$A$10:$B$209,2))","v":""}]
[null,{"$f":"IF(A135=\"\",\"\",VLOOKUP(A135,HM!$A$10:$B$209,2))","v":""},null,133,null,{"$f":"IF(E135=\"\",\"\",VLOOKUP(E135,HM!$A$10:$B$209,2))","v":""},null,133,null,{"$f":"IF(I135=\"\",\"\",VLOOKUP(I135,HM!$A$10:$B$209,2))","v":""}]
[null,{"$f":"IF(A136=\"\",\"\",VLOOKUP(A136,HM!$A$10:$B$209,2))","v":""},null,134,null,{"$f":"IF(E136=\"\",\"\",VLOOKUP(E136,HM!$A$10:$B$209,2))","v":""},null,134,null,{"$f":"IF(I136=\"\",\"\",VLOOKUP(I136,HM!$A$10:$B$209,2))","v":""}]
[null,{"$f":"IF(A137=\"\",\"\",VLOOKUP(A137,HM!$A$10:$B$209,2))","v":""},null,135,null,{"$f":"IF(E137=\"\",\"\",VLOOKUP(E137,HM!$A$10:$B$209,2))","v":""},null,135,null,{"$f":"IF(I137=\"\",\"\",VLOOKUP(I137,HM!$A$10:$B$209,2))","v":""}]
[null,{"$f":"IF(A138=\"\",\"\",VLOOKUP(A138,HM!$A$10:$B$209,2))","v":""},null,136,null,{"$f":"IF(E138=\"\",\"\",VLOOKUP(E138,HM!$A$10:$B$209,2))","v":""},null,136,null,{"$f":"IF(I138=\"\",\"\",VLOOKUP(I138,HM!$A$10:$B$209,2))","v":""}]
[null,{"$f":"IF(A139=\"\",\"\",VLOOKUP(A139,HM!$A$10:$B$209,2))","v":""},null,137,null,{"$f":"IF(E139=\"\",\"\",VLOOKUP(E139,HM!$A$10:$B$209,2))","v":""},null,137,null,{"$f":"IF(I139=\"\",\"\",VLOOKUP(I139,HM!$A$10:$B$209,2))","v":""}]
[null,{"$f":"IF(A140=\"\",\"\",VLOOKUP(A140,HM!$A$10:$B$209,2))","v":""},null,138,null,{"$f":"IF(E140=\"\",\"\",VLOOKUP(E140,HM!$A$10:$B$209,2))","v":""},null,138,null,{"$f":"IF(I140=\"\",\"\",VLOOKUP(I140,HM!$A$10:$B$209,2))","v":""}]
[null,{"$f":"IF(A141=\"\",\"\",VLOOKUP(A141,HM!$A$10:$B$209,2))","v":""},null,139,null,{"$f":"IF(E141=\"\",\"\",VLOOKUP(E141,HM!$A$10:$B$209,2))","v":""},null,139,null,{"$f":"IF(I141=\"\",\"\",VLOOKUP(I141,HM!$A$10:$B$209,2))","v":""}]
[null,{"$f":"IF(A142=\"\",\"\",VLOOKUP(A142,HM!$A$10:$B$209,2))","v":""},null,140,null,{"$f":"IF(E142=\"\",\"\",VLOOKUP(E142,HM!$A$10:$B$209,2))","v":""},null,140,null,{"$f":"IF(I142=\"\",\"\",VLOOKUP(I142,HM!$A$10:$B$209,2))","v":""}]
[null,{"$f":"IF(A143=\"\",\"\",VLOOKUP(A143,HM!$A$10:$B$209,2))","v":""},null,141,null,{"$f":"IF(E143=\"\",\"\",VLOOKUP(E143,HM!$A$10:$B$209,2))","v":""},null,141,null,{"$f":"IF(I143=\"\",\"\",VLOOKUP(I143,HM!$A$10:$B$209,2))","v":""}]
[null,{"$f":"IF(A144=\"\",\"\",VLOOKUP(A144,HM!$A$10:$B$209,2))","v":""},null,142,null,{"$f":"IF(E144=\"\",\"\",VLOOKUP(E144,HM!$A$10:$B$209,2))","v":""},null,142,null,{"$f":"IF(I144=\"\",\"\",VLOOKUP(I144,HM!$A$10:$B$209,2))","v":""}]
[null,{"$f":"IF(A145=\"\",\"\",VLOOKUP(A145,HM!$A$10:$B$209,2))","v":""},null,143,null,{"$f":"IF(E145=\"\",\"\",VLOOKUP(E145,HM!$A$10:$B$209,2))","v":""},null,143,null,{"$f":"IF(I145=\"\",\"\",VLOOKUP(I145,HM!$A$10:$B$209,2))","v":""}]
[null,{"$f":"IF(A146=\"\",\"\",VLOOKUP(A146,HM!$A$10:$B$209,2))","v":""},null,144,null,{"$f":"IF(E146=\"\",\"\",VLOOKUP(E146,HM!$A$10:$B$209,2))","v":""},null,144,null,{"$f":"IF(I146=\"\",\"\",VLOOKUP(I146,HM!$A$10:$B$209,2))","v":""}]
[null,{"$f":"IF(A147=\"\",\"\",VLOOKUP(A147,HM!$A$10:$B$209,2))","v":""},null,145,null,{"$f":"IF(E147=\"\",\"\",VLOOKUP(E147,HM!$A$10:$B$209,2))","v":""},null,145,null,{"$f":"IF(I147=\"\",\"\",VLOOKUP(I147,HM!$A$10:$B$209,2))","v":""}]
[null,{"$f":"IF(A148=\"\",\"\",VLOOKUP(A148,HM!$A$10:$B$209,2))","v":""},null,146,null,{"$f":"IF(E148=\"\",\"\",VLOOKUP(E148,HM!$A$10:$B$209,2))","v":""},null,146,null,{"$f":"IF(I148=\"\",\"\",VLOOKUP(I148,HM!$A$10:$B$209,2))","v":""}]
[null,{"$f":"IF(A149=\"\",\"\",VLOOKUP(A149,HM!$A$10:$B$209,2))","v":""},null,147,null,{"$f":"IF(E149=\"\",\"\",VLOOKUP(E149,HM!$A$10:$B$209,2))","v":""},null,147,null,{"$f":"IF(I149=\"\",\"\",VLOOKUP(I149,HM!$A$10:$B$209,2))","v":""}]
[null,{"$f":"IF(A150=\"\",\"\",VLOOKUP(A150,HM!$A$10:$B$209,2))","v":""},null,148,null,{"$f":"IF(E150=\"\",\"\",VLOOKUP(E150,HM!$A$10:$B$209,2))","v":""},null,148,null,{"$f":"IF(I150=\"\",\"\",VLOOKUP(I150,HM!$A$10:$B$209,2))","v":""}]
[null,{"$f":"IF(A151=\"\",\"\",VLOOKUP(A151,HM!$A$10:$B$209,2))","v":""},null,149,null,{"$f":"IF(E151=\"\",\"\",VLOOKUP(E151,HM!$A$10:$B$209,2))","v":""},null,149,null,{"$f":"IF(I151=\"\",\"\",VLOOKUP(I151,HM!$A$10:$B$209,2))","v":""}]
[null,{"$f":"IF(A152=\"\",\"\",VLOOKUP(A152,HM!$A$10:$B$209,2))","v":""},null,150,null,{"$f":"IF(E152=\"\",\"\",VLOOKUP(E152,HM!$A$10:$B$209,2))","v":""},null,150,null,{"$f":"IF(I152=\"\",\"\",VLOOKUP(I152,HM!$A$10:$B$209,2))","v":""}]
[null,{"$f":"IF(A153=\"\",\"\",VLOOKUP(A153,HM!$A$10:$B$209,2))","v":""},null,151,null,{"$f":"IF(E153=\"\",\"\",VLOOKUP(E153,HM!$A$10:$B$209,2))","v":""},null,151,null,{"$f":"IF(I153=\"\",\"\",VLOOKUP(I153,HM!$A$10:$B$209,2))","v":""}]
[null,{"$f":"IF(A154=\"\",\"\",VLOOKUP(A154,HM!$A$10:$B$209,2))","v":""},null,152,null,{"$f":"IF(E154=\"\",\"\",VLOOKUP(E154,HM!$A$10:$B$209,2))","v":""},null,152,null,{"$f":"IF(I154=\"\",\"\",VLOOKUP(I154,HM!$A$10:$B$209,2))","v":""}]
[null,{"$f":"IF(A155=\"\",\"\",VLOOKUP(A155,HM!$A$10:$B$209,2))","v":""},null,153,null,{"$f":"IF(E155=\"\",\"\",VLOOKUP(E155,HM!$A$10:$B$209,2))","v":""},null,153,null,{"$f":"IF(I155=\"\",\"\",VLOOKUP(I155,HM!$A$10:$B$209,2))","v":""}]
[null,{"$f":"IF(A156=\"\",\"\",VLOOKUP(A156,HM!$A$10:$B$209,2))","v":""},null,154,null,{"$f":"IF(E156=\"\",\"\",VLOOKUP(E156,HM!$A$10:$B$209,2))","v":""},null,154,null,{"$f":"IF(I156=\"\",\"\",VLOOKUP(I156,HM!$A$10:$B$209,2))","v":""}]
[null,{"$f":"IF(A157=\"\",\"\",VLOOKUP(A157,HM!$A$10:$B$209,2))","v":""},null,155,null,{"$f":"IF(E157=\"\",\"\",VLOOKUP(E157,HM!$A$10:$B$209,2))","v":""},null,155,null,{"$f":"IF(I157=\"\",\"\",VLOOKUP(I157,HM!$A$10:$B$209,2))","v":""}]
[null,{"$f":"IF(A158=\"\",\"\",VLOOKUP(A158,HM!$A$10:$B$209,2))","v":""},null,156,null,{"$f":"IF(E158=\"\",\"\",VLOOKUP(E158,HM!$A$10:$B$209,2))","v":""},null,156,null,{"$f":"IF(I158=\"\",\"\",VLOOKUP(I158,HM!$A$10:$B$209,2))","v":""}]
[null,{"$f":"IF(A159=\"\",\"\",VLOOKUP(A159,HM!$A$10:$B$209,2))","v":""},null,157,null,{"$f":"IF(E159=\"\",\"\",VLOOKUP(E159,HM!$A$10:$B$209,2))","v":""},null,157,null,{"$f":"IF(I159=\"\",\"\",VLOOKUP(I159,HM!$A$10:$B$209,2))","v":""}]
[null,{"$f":"IF(A160=\"\",\"\",VLOOKUP(A160,HM!$A$10:$B$209,2))","v":""},null,158,null,{"$f":"IF(E160=\"\",\"\",VLOOKUP(E160,HM!$A$10:$B$209,2))","v":""},null,158,null,{"$f":"IF(I160=\"\",\"\",VLOOKUP(I160,HM!$A$10:$B$209,2))","v":""}]
[null,{"$f":"IF(A161=\"\",\"\",VLOOKUP(A161,HM!$A$10:$B$209,2))","v":""},null,159,null,{"$f":"IF(E161=\"\",\"\",VLOOKUP(E161,HM!$A$10:$B$209,2))","v":""},null,159,null,{"$f":"IF(I161=\"\",\"\",VLOOKUP(I161,HM!$A$10:$B$209,2))","v":""}]
[null,{"$f":"IF(A162=\"\",\"\",VLOOKUP(A162,HM!$A$10:$B$209,2))","v":""},null,160,null,{"$f":"IF(E162=\"\",\"\",VLOOKUP(E162,HM!$A$10:$B$209,2))","v":""},null,160,null,{"$f":"IF(I162=\"\",\"\",VLOOKUP(I162,HM!$A$10:$B$209,2))","v":""}]
[null,{"$f":"IF(A163=\"\",\"\",VLOOKUP(A163,HM!$A$10:$B$209,2))","v":""},null,161,null,{"$f":"IF(E163=\"\",\"\",VLOOKUP(E163,HM!$A$10:$B$209,2))","v":""},null,161,null,{"$f":"IF(I163=\"\",\"\",VLOOKUP(I163,HM!$A$10:$B$209,2))","v":""}]
[null,{"$f":"IF(A164=\"\",\"\",VLOOKUP(A164,HM!$A$10:$B$209,2))","v":""},null,162,null,{"$f":"IF(E164=\"\",\"\",VLOOKUP(E164,HM!$A$10:$B$209,2))","v":""},null,162,null,{"$f":"IF(I164=\"\",\"\",VLOOKUP(I164,HM!$A$10:$B$209,2))","v":""}]
[null,{"$f":"IF(A165=\"\",\"\",VLOOKUP(A165,HM!$A$10:$B$209,2))","v":""},null,163,null,{"$f":"IF(E165=\"\",\"\",VLOOKUP(E165,HM!$A$10:$B$209,2))","v":""},null,163,null,{"$f":"IF(I165=\"\",\"\",VLOOKUP(I165,HM!$A$10:$B$209,2))","v":""}]
[null,{"$f":"IF(A166=\"\",\"\",VLOOKUP(A166,HM!$A$10:$B$209,2))","v":""},null,164,null,{"$f":"IF(E166=\"\",\"\",VLOOKUP(E166,HM!$A$10:$B$209,2))","v":""},null,164,null,{"$f":"IF(I166=\"\",\"\",VLOOKUP(I166,HM!$A$10:$B$209,2))","v":""}]
[null,{"$f":"IF(A167=\"\",\"\",VLOOKUP(A167,HM!$A$10:$B$209,2))","v":""},null,165,null,{"$f":"IF(E167=\"\",\"\",VLOOKUP(E167,HM!$A$10:$B$209,2))","v":""},null,165,null,{"$f":"IF(I167=\"\",\"\",VLOOKUP(I167,HM!$A$10:$B$209,2))","v":""}]
[null,{"$f":"IF(A168=\"\",\"\",VLOOKUP(A168,HM!$A$10:$B$209,2))","v":""},null,166,null,{"$f":"IF(E168=\"\",\"\",VLOOKUP(E168,HM!$A$10:$B$209,2))","v":""},null,166,null,{"$f":"IF(I168=\"\",\"\",VLOOKUP(I168,HM!$A$10:$B$209,2))","v":""}]
[null,{"$f":"IF(A169=\"\",\"\",VLOOKUP(A169,HM!$A$10:$B$209,2))","v":""},null,167,null,{"$f":"IF(E169=\"\",\"\",VLOOKUP(E169,HM!$A$10:$B$209,2))","v":""},null,167,null,{"$f":"IF(I169=\"\",\"\",VLOOKUP(I169,HM!$A$10:$B$209,2))","v":""}]
[null,{"$f":"IF(A170=\"\",\"\",VLOOKUP(A170,HM!$A$10:$B$209,2))","v":""},null,168,null,{"$f":"IF(E170=\"\",\"\",VLOOKUP(E170,HM!$A$10:$B$209,2))","v":""},null,168,null,{"$f":"IF(I170=\"\",\"\",VLOOKUP(I170,HM!$A$10:$B$209,2))","v":""}]
[null,{"$f":"IF(A171=\"\",\"\",VLOOKUP(A171,HM!$A$10:$B$209,2))","v":""},null,169,null,{"$f":"IF(E171=\"\",\"\",VLOOKUP(E171,HM!$A$10:$B$209,2))","v":""},null,169,null,{"$f":"IF(I171=\"\",\"\",VLOOKUP(I171,HM!$A$10:$B$209,2))","v":""}]
[null,{"$f":"IF(A172=\"\",\"\",VLOOKUP(A172,HM!$A$10:$B$209,2))","v":""},null,170,null,{"$f":"IF(E172=\"\",\"\",VLOOKUP(E172,HM!$A$10:$B$209,2))","v":""},null,170,null,{"$f":"IF(I172=\"\",\"\",VLOOKUP(I172,HM!$A$10:$B$209,2))","v":""}]
[null,{"$f":"IF(A173=\"\",\"\",VLOOKUP(A173,HM!$A$10:$B$209,2))","v":""},null,171,null,{"$f":"IF(E173=\"\",\"\",VLOOKUP(E173,HM!$A$10:$B$209,2))","v":""},null,171,null,{"$f":"IF(I173=\"\",\"\",VLOOKUP(I173,HM!$A$10:$B$209,2))","v":""}]
[null,{"$f":"IF(A174=\"\",\"\",VLOOKUP(A174,HM!$A$10:$B$209,2))","v":""},null,172,null,{"$f":"IF(E174=\"\",\"\",VLOOKUP(E174,HM!$A$10:$B$209,2))","v":""},null,172,null,{"$f":"IF(I174=\"\",\"\",VLOOKUP(I174,HM!$A$10:$B$209,2))","v":""}]
[null,{"$f":"IF(A175=\"\",\"\",VLOOKUP(A175,HM!$A$10:$B$209,2))","v":""},null,173,null,{"$f":"IF(E175=\"\",\"\",VLOOKUP(E175,HM!$A$10:$B$209,2))","v":""},null,173,null,{"$f":"IF(I175=\"\",\"\",VLOOKUP(I175,HM!$A$10:$B$209,2))","v":""}]
[null,{"$f":"IF(A176=\"\",\"\",VLOOKUP(A176,HM!$A$10:$B$209,2))","v":""},null,174,null,{"$f":"IF(E176=\"\",\"\",VLOOKUP(E176,HM!$A$10:$B$209,2))","v":""},null,174,null,{"$f":"IF(I176=\"\",\"\",VLOOKUP(I176,HM!$A$10:$B$209,2))","v":""}]
[null,{"$f":"IF(A177=\"\",\"\",VLOOKUP(A177,HM!$A$10:$B$209,2))","v":""},null,175,null,{"$f":"IF(E177=\"\",\"\",VLOOKUP(E177,HM!$A$10:$B$209,2))","v":""},null,175,null,{"$f":"IF(I177=\"\",\"\",VLOOKUP(I177,HM!$A$10:$B$209,2))","v":""}]
[null,{"$f":"IF(A178=\"\",\"\",VLOOKUP(A178,HM!$A$10:$B$209,2))","v":""},null,176,null,{"$f":"IF(E178=\"\",\"\",VLOOKUP(E178,HM!$A$10:$B$209,2))","v":""},null,176,null,{"$f":"IF(I178=\"\",\"\",VLOOKUP(I178,HM!$A$10:$B$209,2))","v":""}]
[null,{"$f":"IF(A179=\"\",\"\",VLOOKUP(A179,HM!$A$10:$B$209,2))","v":""},null,177,null,{"$f":"IF(E179=\"\",\"\",VLOOKUP(E179,HM!$A$10:$B$209,2))","v":""},null,177,null,{"$f":"IF(I179=\"\",\"\",VLOOKUP(I179,HM!$A$10:$B$209,2))","v":""}]
[null,{"$f":"IF(A180=\"\",\"\",VLOOKUP(A180,HM!$A$10:$B$209,2))","v":""},null,178,null,{"$f":"IF(E180=\"\",\"\",VLOOKUP(E180,HM!$A$10:$B$209,2))","v":""},null,178,null,{"$f":"IF(I180=\"\",\"\",VLOOKUP(I180,HM!$A$10:$B$209,2))","v":""}]
[null,{"$f":"IF(A181=\"\",\"\",VLOOKUP(A181,HM!$A$10:$B$209,2))","v":""},null,179,null,{"$f":"IF(E181=\"\",\"\",VLOOKUP(E181,HM!$A$10:$B$209,2))","v":""},null,179,null,{"$f":"IF(I181=\"\",\"\",VLOOKUP(I181,HM!$A$10:$B$209,2))","v":""}]
[null,{"$f":"IF(A182=\"\",\"\",VLOOKUP(A182,HM!$A$10:$B$209,2))","v":""},null,180,null,{"$f":"IF(E182=\"\",\"\",VLOOKUP(E182,HM!$A$10:$B$209,2))","v":""},null,180,null,{"$f":"IF(I182=\"\",\"\",VLOOKUP(I182,HM!$A$10:$B$209,2))","v":""}]
[null,{"$f":"IF(A183=\"\",\"\",VLOOKUP(A183,HM!$A$10:$B$209,2))","v":""},null,181,null,{"$f":"IF(E183=\"\",\"\",VLOOKUP(E183,HM!$A$10:$B$209,2))","v":""},null,181,null,{"$f":"IF(I183=\"\",\"\",VLOOKUP(I183,HM!$A$10:$B$209,2))","v":""}]
[null,{"$f":"IF(A184=\"\",\"\",VLOOKUP(A184,HM!$A$10:$B$209,2))","v":""},null,182,null,{"$f":"IF(E184=\"\",\"\",VLOOKUP(E184,HM!$A$10:$B$209,2))","v":""},null,182,null,{"$f":"IF(I184=\"\",\"\",VLOOKUP(I184,HM!$A$10:$B$209,2))","v":""}]
[null,{"$f":"IF(A185=\"\",\"\",VLOOKUP(A185,HM!$A$10:$B$209,2))","v":""},null,183,null,{"$f":"IF(E185=\"\",\"\",VLOOKUP(E185,HM!$A$10:$B$209,2))","v":""},null,183,null,{"$f":"IF(I185=\"\",\"\",VLOOKUP(I185,HM!$A$10:$B$209,2))","v":""}]
[null,{"$f":"IF(A186=\"\",\"\",VLOOKUP(A186,HM!$A$10:$B$209,2))","v":""},null,184,null,{"$f":"IF(E186=\"\",\"\",VLOOKUP(E186,HM!$A$10:$B$209,2))","v":""},null,184,null,{"$f":"IF(I186=\"\",\"\",VLOOKUP(I186,HM!$A$10:$B$209,2))","v":""}]
[null,{"$f":"IF(A187=\"\",\"\",VLOOKUP(A187,HM!$A$10:$B$209,2))","v":""},null,185,null,{"$f":"IF(E187=\"\",\"\",VLOOKUP(E187,HM!$A$10:$B$209,2))","v":""},null,185,null,{"$f":"IF(I187=\"\",\"\",VLOOKUP(I187,HM!$A$10:$B$209,2))","v":""}]
[null,{"$f":"IF(A188=\"\",\"\",VLOOKUP(A188,HM!$A$10:$B$209,2))","v":""},null,186,null,{"$f":"IF(E188=\"\",\"\",VLOOKUP(E188,HM!$A$10:$B$209,2))","v":""},null,186,null,{"$f":"IF(I188=\"\",\"\",VLOOKUP(I188,HM!$A$10:$B$209,2))","v":""}]
[null,{"$f":"IF(A189=\"\",\"\",VLOOKUP(A189,HM!$A$10:$B$209,2))","v":""},null,187,null,{"$f":"IF(E189=\"\",\"\",VLOOKUP(E189,HM!$A$10:$B$209,2))","v":""},null,187,null,{"$f":"IF(I189=\"\",\"\",VLOOKUP(I189,HM!$A$10:$B$209,2))","v":""}]
[null,{"$f":"IF(A190=\"\",\"\",VLOOKUP(A190,HM!$A$10:$B$209,2))","v":""},null,188,null,{"$f":"IF(E190=\"\",\"\",VLOOKUP(E190,HM!$A$10:$B$209,2))","v":""},null,188,null,{"$f":"IF(I190=\"\",\"\",VLOOKUP(I190,HM!$A$10:$B$209,2))","v":""}]
[null,{"$f":"IF(A191=\"\",\"\",VLOOKUP(A191,HM!$A$10:$B$209,2))","v":""},null,189,null,{"$f":"IF(E191=\"\",\"\",VLOOKUP(E191,HM!$A$10:$B$209,2))","v":""},null,189,null,{"$f":"IF(I191=\"\",\"\",VLOOKUP(I191,HM!$A$10:$B$209,2))","v":""}]
[null,{"$f":"IF(A192=\"\",\"\",VLOOKUP(A192,HM!$A$10:$B$209,2))","v":""},null,190,null,{"$f":"IF(E192=\"\",\"\",VLOOKUP(E192,HM!$A$10:$B$209,2))","v":""},null,190,null,{"$f":"IF(I192=\"\",\"\",VLOOKUP(I192,HM!$A$10:$B$209,2))","v":""}]
[null,{"$f":"IF(A193=\"\",\"\",VLOOKUP(A193,HM!$A$10:$B$209,2))","v":""},null,191,null,{"$f":"IF(E193=\"\",\"\",VLOOKUP(E193,HM!$A$10:$B$209,2))","v":""},null,191,null,{"$f":"IF(I193=\"\",\"\",VLOOKUP(I193,HM!$A$10:$B$209,2))","v":""}]
[null,{"$f":"IF(A194=\"\",\"\",VLOOKUP(A194,HM!$A$10:$B$209,2))","v":""},null,192,null,{"$f":"IF(E194=\"\",\"\",VLOOKUP(E194,HM!$A$10:$B$209,2))","v":""},null,192,null,{"$f":"IF(I194=\"\",\"\",VLOOKUP(I194,HM!$A$10:$B$209,2))","v":""}]
[null,{"$f":"IF(A195=\"\",\"\",VLOOKUP(A195,HM!$A$10:$B$209,2))","v":""},null,193,null,{"$f":"IF(E195=\"\",\"\",VLOOKUP(E195,HM!$A$10:$B$209,2))","v":""},null,193,null,{"$f":"IF(I195=\"\",\"\",VLOOKUP(I195,HM!$A$10:$B$209,2))","v":""}]
[null,{"$f":"IF(A196=\"\",\"\",VLOOKUP(A196,HM!$A$10:$B$209,2))","v":""},null,194,null,{"$f":"IF(E196=\"\",\"\",VLOOKUP(E196,HM!$A$10:$B$209,2))","v":""},null,194,null,{"$f":"IF(I196=\"\",\"\",VLOOKUP(I196,HM!$A$10:$B$209,2))","v":""}]
[null,{"$f":"IF(A197=\"\",\"\",VLOOKUP(A197,HM!$A$10:$B$209,2))","v":""},null,195,null,{"$f":"IF(E197=\"\",\"\",VLOOKUP(E197,HM!$A$10:$B$209,2))","v":""},null,195,null,{"$f":"IF(I197=\"\",\"\",VLOOKUP(I197,HM!$A$10:$B$209,2))","v":""}]
[null,{"$f":"IF(A198=\"\",\"\",VLOOKUP(A198,HM!$A$10:$B$209,2))","v":""},null,196,null,{"$f":"IF(E198=\"\",\"\",VLOOKUP(E198,HM!$A$10:$B$209,2))","v":""},null,196,null,{"$f":"IF(I198=\"\",\"\",VLOOKUP(I198,HM!$A$10:$B$209,2))","v":""}]
[null,{"$f":"IF(A199=\"\",\"\",VLOOKUP(A199,HM!$A$10:$B$209,2))","v":""},null,197,null,{"$f":"IF(E199=\"\",\"\",VLOOKUP(E199,HM!$A$10:$B$209,2))","v":""},null,197,null,{"$f":"IF(I199=\"\",\"\",VLOOKUP(I199,HM!$A$10:$B$209,2))","v":""}]
[null,{"$f":"IF(A200=\"\",\"\",VLOOKUP(A200,HM!$A$10:$B$209,2))","v":""},null,198,null,{"$f":"IF(E200=\"\",\"\",VLOOKUP(E200,HM!$A$10:$B$209,2))","v":""},null,198,null,{"$f":"IF(I200=\"\",\"\",VLOOKUP(I200,HM!$A$10:$B$209,2))","v":""}]
[null,{"$f":"IF(A201=\"\",\"\",VLOOKUP(A201,HM!$A$10:$B$209,2))","v":""},null,199,null,{"$f":"IF(E201=\"\",\"\",VLOOKUP(E201,HM!$A$10:$B$209,2))","v":""},null,199,null,{"$f":"IF(I201=\"\",\"\",VLOOKUP(I201,HM!$A$10:$B$209,2))","v":""}]
[null,{"$f":"IF(A202=\"\",\"\",VLOOKUP(A202,HM!$A$10:$B$209,2))","v":""},null,200,null,{"$f":"IF(E202=\"\",\"\",VLOOKUP(E202,HM!$A$10:$B$209,2))","v":""},null,200,null,{"$f":"IF(I202=\"\",\"\",VLOOKUP(I202,HM!$A$10:$B$209,2))","v":""}]

{"sheet":"BPBPS","index":6,"n_rows":202,"n_cols":12,"rows_kept":202,"cut":false,"hidden":false,"merged":[[0,1,0,3],[0,5,0,7],[0,9,0,11]]}
[null,"Bogenpokal",null,null,null,"Bogenpokal\n- Schüler -",null,null,null,"Bogen\nPreisschießen"]
[null,"Lfd. \nNr.:","Vor- und Nachname:","Ringe",null,"Lfd. \nNr.:","Vor- und Nachname:","Ringe",null,"Lfd. \nNr.:","Vor- und Nachname:","Ringe"]
[1,null,{"$f":"IF(B3=\"\",\"\",VLOOKUP(B3,HM!$A$10:$B$209,2))","v":""},null,1,null,{"$f":"IF(F3=\"\",\"\",VLOOKUP(F3,HM!$A$10:$B$209,2))","v":""},null,1,null,{"$f":"IF(J3=\"\",\"\",VLOOKUP(J3,HM!$A$10:$B$209,2))","v":""}]
[2,null,{"$f":"IF(B4=\"\",\"\",VLOOKUP(B4,HM!$A$10:$B$209,2))","v":""},null,2,null,{"$f":"IF(F4=\"\",\"\",VLOOKUP(F4,HM!$A$10:$B$209,2))","v":""},null,2,null,{"$f":"IF(J4=\"\",\"\",VLOOKUP(J4,HM!$A$10:$B$209,2))","v":""}]
[3,null,{"$f":"IF(B5=\"\",\"\",VLOOKUP(B5,HM!$A$10:$B$209,2))","v":""},null,3,null,{"$f":"IF(F5=\"\",\"\",VLOOKUP(F5,HM!$A$10:$B$209,2))","v":""},null,3,null,{"$f":"IF(J5=\"\",\"\",VLOOKUP(J5,HM!$A$10:$B$209,2))","v":""}]
[4,null,{"$f":"IF(B6=\"\",\"\",VLOOKUP(B6,HM!$A$10:$B$209,2))","v":""},null,4,null,{"$f":"IF(F6=\"\",\"\",VLOOKUP(F6,HM!$A$10:$B$209,2))","v":""},null,4,null,{"$f":"IF(J6=\"\",\"\",VLOOKUP(J6,HM!$A$10:$B$209,2))","v":""}]
[5,null,{"$f":"IF(B7=\"\",\"\",VLOOKUP(B7,HM!$A$10:$B$209,2))","v":""},null,5,null,{"$f":"IF(F7=\"\",\"\",VLOOKUP(F7,HM!$A$10:$B$209,2))","v":""},null,5,null,{"$f":"IF(J7=\"\",\"\",VLOOKUP(J7,HM!$A$10:$B$209,2))","v":""}]
[6,null,{"$f":"IF(B8=\"\",\"\",VLOOKUP(B8,HM!$A$10:$B$209,2))","v":""},null,6,null,{"$f":"IF(F8=\"\",\"\",VLOOKUP(F8,HM!$A$10:$B$209,2))","v":""},null,6,null,{"$f":"IF(J8=\"\",\"\",VLOOKUP(J8,HM!$A$10:$B$209,2))","v":""}]
[7,null,{"$f":"IF(B9=\"\",\"\",VLOOKUP(B9,HM!$A$10:$B$209,2))","v":""},null,7,null,{"$f":"IF(F9=\"\",\"\",VLOOKUP(F9,HM!$A$10:$B$209,2))","v":""},null,7,null,{"$f":"IF(J9=\"\",\"\",VLOOKUP(J9,HM!$A$10:$B$209,2))","v":""}]
[8,null,{"$f":"IF(B10=\"\",\"\",VLOOKUP(B10,HM!$A$10:$B$209,2))","v":""},null,8,null,{"$f":"IF(F10=\"\",\"\",VLOOKUP(F10,HM!$A$10:$B$209,2))","v":""},null,8,null,{"$f":"IF(J10=\"\",\"\",VLOOKUP(J10,HM!$A$10:$B$209,2))","v":""}]
[9,null,{"$f":"IF(B11=\"\",\"\",VLOOKUP(B11,HM!$A$10:$B$209,2))","v":""},null,9,null,{"$f":"IF(F11=\"\",\"\",VLOOKUP(F11,HM!$A$10:$B$209,2))","v":""},null,9,null,{"$f":"IF(J11=\"\",\"\",VLOOKUP(J11,HM!$A$10:$B$209,2))","v":""}]
[10,null,{"$f":"IF(B12=\"\",\"\",VLOOKUP(B12,HM!$A$10:$B$209,2))","v":""},null,10,null,{"$f":"IF(F12=\"\",\"\",VLOOKUP(F12,HM!$A$10:$B$209,2))","v":""},null,10,null,{"$f":"IF(J12=\"\",\"\",VLOOKUP(J12,HM!$A$10:$B$209,2))","v":""}]
[11,null,{"$f":"IF(B13=\"\",\"\",VLOOKUP(B13,HM!$A$10:$B$209,2))","v":""},null,11,null,{"$f":"IF(F13=\"\",\"\",VLOOKUP(F13,HM!$A$10:$B$209,2))","v":""},null,11,null,{"$f":"IF(J13=\"\",\"\",VLOOKUP(J13,HM!$A$10:$B$209,2))","v":""}]
[12,null,{"$f":"IF(B14=\"\",\"\",VLOOKUP(B14,HM!$A$10:$B$209,2))","v":""},null,12,null,{"$f":"IF(F14=\"\",\"\",VLOOKUP(F14,HM!$A$10:$B$209,2))","v":""},null,12,null,{"$f":"IF(J14=\"\",\"\",VLOOKUP(J14,HM!$A$10:$B$209,2))","v":""}]
[13,null,{"$f":"IF(B15=\"\",\"\",VLOOKUP(B15,HM!$A$10:$B$209,2))","v":""},null,13,null,{"$f":"IF(F15=\"\",\"\",VLOOKUP(F15,HM!$A$10:$B$209,2))","v":""},null,13,null,{"$f":"IF(J15=\"\",\"\",VLOOKUP(J15,HM!$A$10:$B$209,2))","v":""}]
[14,null,{"$f":"IF(B16=\"\",\"\",VLOOKUP(B16,HM!$A$10:$B$209,2))","v":""},null,14,null,{"$f":"IF(F16=\"\",\"\",VLOOKUP(F16,HM!$A$10:$B$209,2))","v":""},null,14,null,{"$f":"IF(J16=\"\",\"\",VLOOKUP(J16,HM!$A$10:$B$209,2))","v":""}]
[15,null,{"$f":"IF(B17=\"\",\"\",VLOOKUP(B17,HM!$A$10:$B$209,2))","v":""},null,15,null,{"$f":"IF(F17=\"\",\"\",VLOOKUP(F17,HM!$A$10:$B$209,2))","v":""},null,15,null,{"$f":"IF(J17=\"\",\"\",VLOOKUP(J17,HM!$A$10:$B$209,2))","v":""}]
[16,null,{"$f":"IF(B18=\"\",\"\",VLOOKUP(B18,HM!$A$10:$B$209,2))","v":""},null,16,null,{"$f":"IF(F18=\"\",\"\",VLOOKUP(F18,HM!$A$10:$B$209,2))","v":""},null,16,null,{"$f":"IF(J18=\"\",\"\",VLOOKUP(J18,HM!$A$10:$B$209,2))","v":""}]
[17,null,{"$f":"IF(B19=\"\",\"\",VLOOKUP(B19,HM!$A$10:$B$209,2))","v":""},null,17,null,{"$f":"IF(F19=\"\",\"\",VLOOKUP(F19,HM!$A$10:$B$209,2))","v":""},null,17,null,{"$f":"IF(J19=\"\",\"\",VLOOKUP(J19,HM!$A$10:$B$209,2))","v":""}]
[18,null,{"$f":"IF(B20=\"\",\"\",VLOOKUP(B20,HM!$A$10:$B$209,2))","v":""},null,18,null,{"$f":"IF(F20=\"\",\"\",VLOOKUP(F20,HM!$A$10:$B$209,2))","v":""},null,18,null,{"$f":"IF(J20=\"\",\"\",VLOOKUP(J20,HM!$A$10:$B$209,2))","v":""}]
[19,null,{"$f":"IF(B21=\"\",\"\",VLOOKUP(B21,HM!$A$10:$B$209,2))","v":""},null,19,null,{"$f":"IF(F21=\"\",\"\",VLOOKUP(F21,HM!$A$10:$B$209,2))","v":""},null,19,null,{"$f":"IF(J21=\"\",\"\",VLOOKUP(J21,HM!$A$10:$B$209,2))","v":""}]
[20,null,{"$f":"IF(B22=\"\",\"\",VLOOKUP(B22,HM!$A$10:$B$209,2))","v":""},null,20,null,{"$f":"IF(F22=\"\",\"\",VLOOKUP(F22,HM!$A$10:$B$209,2))","v":""},null,20,null,{"$f":"IF(J22=\"\",\"\",VLOOKUP(J22,HM!$A$10:$B$209,2))","v":""}]
[21,null,{"$f":"IF(B23=\"\",\"\",VLOOKUP(B23,HM!$A$10:$B$209,2))","v":""},null,21,null,{"$f":"IF(F23=\"\",\"\",VLOOKUP(F23,HM!$A$10:$B$209,2))","v":""},null,21,null,{"$f":"IF(J23=\"\",\"\",VLOOKUP(J23,HM!$A$10:$B$209,2))","v":""}]
[22,null,{"$f":"IF(B24=\"\",\"\",VLOOKUP(B24,HM!$A$10:$B$209,2))","v":""},null,22,null,{"$f":"IF(F24=\"\",\"\",VLOOKUP(F24,HM!$A$10:$B$209,2))","v":""},null,22,null,{"$f":"IF(J24=\"\",\"\",VLOOKUP(J24,HM!$A$10:$B$209,2))","v":""}]
[23,null,{"$f":"IF(B25=\"\",\"\",VLOOKUP(B25,HM!$A$10:$B$209,2))","v":""},null,23,null,{"$f":"IF(F25=\"\",\"\",VLOOKUP(F25,HM!$A$10:$B$209,2))","v":""},null,23,null,{"$f":"IF(J25=\"\",\"\",VLOOKUP(J25,HM!$A$10:$B$209,2))","v":""}]
[24,null,{"$f":"IF(B26=\"\",\"\",VLOOKUP(B26,HM!$A$10:$B$209,2))","v":""},null,24,null,{"$f":"IF(F26=\"\",\"\",VLOOKUP(F26,HM!$A$10:$B$209,2))","v":""},null,24,null,{"$f":"IF(J26=\"\",\"\",VLOOKUP(J26,HM!$A$10:$B$209,2))","v":""}]
[25,null,{"$f":"IF(B27=\"\",\"\",VLOOKUP(B27,HM!$A$10:$B$209,2))","v":""},null,25,null,{"$f":"IF(F27=\"\",\"\",VLOOKUP(F27,HM!$A$10:$B$209,2))","v":""},null,25,null,{"$f":"IF(J27=\"\",\"\",VLOOKUP(J27,HM!$A$10:$B$209,2))","v":""}]
[26,null,{"$f":"IF(B28=\"\",\"\",VLOOKUP(B28,HM!$A$10:$B$209,2))","v":""},null,26,null,{"$f":"IF(F28=\"\",\"\",VLOOKUP(F28,HM!$A$10:$B$209,2))","v":""},null,26,null,{"$f":"IF(J28=\"\",\"\",VLOOKUP(J28,HM!$A$10:$B$209,2))","v":""}]
[27,null,{"$f":"IF(B29=\"\",\"\",VLOOKUP(B29,HM!$A$10:$B$209,2))","v":""},null,27,null,{"$f":"IF(F29=\"\",\"\",VLOOKUP(F29,HM!$A$10:$B$209,2))","v":""},null,27,null,{"$f":"IF(J29=\"\",\"\",VLOOKUP(J29,HM!$A$10:$B$209,2))","v":""}]
[28,null,{"$f":"IF(B30=\"\",\"\",VLOOKUP(B30,HM!$A$10:$B$209,2))","v":""},null,28,null,{"$f":"IF(F30=\"\",\"\",VLOOKUP(F30,HM!$A$10:$B$209,2))","v":""},null,28,null,{"$f":"IF(J30=\"\",\"\",VLOOKUP(J30,HM!$A$10:$B$209,2))","v":""}]
[29,null,{"$f":"IF(B31=\"\",\"\",VLOOKUP(B31,HM!$A$10:$B$209,2))","v":""},null,29,null,{"$f":"IF(F31=\"\",\"\",VLOOKUP(F31,HM!$A$10:$B$209,2))","v":""},null,29,null,{"$f":"IF(J31=\"\",\"\",VLOOKUP(J31,HM!$A$10:$B$209,2))","v":""}]
[30,null,{"$f":"IF(B32=\"\",\"\",VLOOKUP(B32,HM!$A$10:$B$209,2))","v":""},null,30,null,{"$f":"IF(F32=\"\",\"\",VLOOKUP(F32,HM!$A$10:$B$209,2))","v":""},null,30,null,{"$f":"IF(J32=\"\",\"\",VLOOKUP(J32,HM!$A$10:$B$209,2))","v":""}]
[31,null,{"$f":"IF(B33=\"\",\"\",VLOOKUP(B33,HM!$A$10:$B$209,2))","v":""},null,31,null,{"$f":"IF(F33=\"\",\"\",VLOOKUP(F33,HM!$A$10:$B$209,2))","v":""},null,31,null,{"$f":"IF(J33=\"\",\"\",VLOOKUP(J33,HM!$A$10:$B$209,2))","v":""}]
[32,null,{"$f":"IF(B34=\"\",\"\",VLOOKUP(B34,HM!$A$10:$B$209,2))","v":""},null,32,null,{"$f":"IF(F34=\"\",\"\",VLOOKUP(F34,HM!$A$10:$B$209,2))","v":""},null,32,null,{"$f":"IF(J34=\"\",\"\",VLOOKUP(J34,HM!$A$10:$B$209,2))","v":""}]
[33,null,{"$f":"IF(B35=\"\",\"\",VLOOKUP(B35,HM!$A$10:$B$209,2))","v":""},null,33,null,{"$f":"IF(F35=\"\",\"\",VLOOKUP(F35,HM!$A$10:$B$209,2))","v":""},null,33,null,{"$f":"IF(J35=\"\",\"\",VLOOKUP(J35,HM!$A$10:$B$209,2))","v":""}]
[34,null,{"$f":"IF(B36=\"\",\"\",VLOOKUP(B36,HM!$A$10:$B$209,2))","v":""},null,34,null,{"$f":"IF(F36=\"\",\"\",VLOOKUP(F36,HM!$A$10:$B$209,2))","v":""},null,34,null,{"$f":"IF(J36=\"\",\"\",VLOOKUP(J36,HM!$A$10:$B$209,2))","v":""}]
[35,null,{"$f":"IF(B37=\"\",\"\",VLOOKUP(B37,HM!$A$10:$B$209,2))","v":""},null,35,null,{"$f":"IF(F37=\"\",\"\",VLOOKUP(F37,HM!$A$10:$B$209,2))","v":""},null,35,null,{"$f":"IF(J37=\"\",\"\",VLOOKUP(J37,HM!$A$10:$B$209,2))","v":""}]
[36,null,{"$f":"IF(B38=\"\",\"\",VLOOKUP(B38,HM!$A$10:$B$209,2))","v":""},null,36,null,{"$f":"IF(F38=\"\",\"\",VLOOKUP(F38,HM!$A$10:$B$209,2))","v":""},null,36,null,{"$f":"IF(J38=\"\",\"\",VLOOKUP(J38,HM!$A$10:$B$209,2))","v":""}]
[37,null,{"$f":"IF(B39=\"\",\"\",VLOOKUP(B39,HM!$A$10:$B$209,2))","v":""},null,37,null,{"$f":"IF(F39=\"\",\"\",VLOOKUP(F39,HM!$A$10:$B$209,2))","v":""},null,37,null,{"$f":"IF(J39=\"\",\"\",VLOOKUP(J39,HM!$A$10:$B$209,2))","v":""}]
[38,null,{"$f":"IF(B40=\"\",\"\",VLOOKUP(B40,HM!$A$10:$B$209,2))","v":""},null,38,null,{"$f":"IF(F40=\"\",\"\",VLOOKUP(F40,HM!$A$10:$B$209,2))","v":""},null,38,null,{"$f":"IF(J40=\"\",\"\",VLOOKUP(J40,HM!$A$10:$B$209,2))","v":""}]
[39,null,{"$f":"IF(B41=\"\",\"\",VLOOKUP(B41,HM!$A$10:$B$209,2))","v":""},null,39,null,{"$f":"IF(F41=\"\",\"\",VLOOKUP(F41,HM!$A$10:$B$209,2))","v":""},null,39,null,{"$f":"IF(J41=\"\",\"\",VLOOKUP(J41,HM!$A$10:$B$209,2))","v":""}]
[40,null,{"$f":"IF(B42=\"\",\"\",VLOOKUP(B42,HM!$A$10:$B$209,2))","v":""},null,40,null,{"$f":"IF(F42=\"\",\"\",VLOOKUP(F42,HM!$A$10:$B$209,2))","v":""},null,40,null,{"$f":"IF(J42=\"\",\"\",VLOOKUP(J42,HM!$A$10:$B$209,2))","v":""}]
[41,null,{"$f":"IF(B43=\"\",\"\",VLOOKUP(B43,HM!$A$10:$B$209,2))","v":""},null,41,null,{"$f":"IF(F43=\"\",\"\",VLOOKUP(F43,HM!$A$10:$B$209,2))","v":""},null,41,null,{"$f":"IF(J43=\"\",\"\",VLOOKUP(J43,HM!$A$10:$B$209,2))","v":""}]
[42,null,{"$f":"IF(B44=\"\",\"\",VLOOKUP(B44,HM!$A$10:$B$209,2))","v":""},null,42,null,{"$f":"IF(F44=\"\",\"\",VLOOKUP(F44,HM!$A$10:$B$209,2))","v":""},null,42,null,{"$f":"IF(J44=\"\",\"\",VLOOKUP(J44,HM!$A$10:$B$209,2))","v":""}]
[43,null,{"$f":"IF(B45=\"\",\"\",VLOOKUP(B45,HM!$A$10:$B$209,2))","v":""},null,43,null,{"$f":"IF(F45=\"\",\"\",VLOOKUP(F45,HM!$A$10:$B$209,2))","v":""},null,43,null,{"$f":"IF(J45=\"\",\"\",VLOOKUP(J45,HM!$A$10:$B$209,2))","v":""}]
[44,null,{"$f":"IF(B46=\"\",\"\",VLOOKUP(B46,HM!$A$10:$B$209,2))","v":""},null,44,null,{"$f":"IF(F46=\"\",\"\",VLOOKUP(F46,HM!$A$10:$B$209,2))","v":""},null,44,null,{"$f":"IF(J46=\"\",\"\",VLOOKUP(J46,HM!$A$10:$B$209,2))","v":""}]
[45,null,{"$f":"IF(B47=\"\",\"\",VLOOKUP(B47,HM!$A$10:$B$209,2))","v":""},null,45,null,{"$f":"IF(F47=\"\",\"\",VLOOKUP(F47,HM!$A$10:$B$209,2))","v":""},null,45,null,{"$f":"IF(J47=\"\",\"\",VLOOKUP(J47,HM!$A$10:$B$209,2))","v":""}]
[46,null,{"$f":"IF(B48=\"\",\"\",VLOOKUP(B48,HM!$A$10:$B$209,2))","v":""},null,46,null,{"$f":"IF(F48=\"\",\"\",VLOOKUP(F48,HM!$A$10:$B$209,2))","v":""},null,46,null,{"$f":"IF(J48=\"\",\"\",VLOOKUP(J48,HM!$A$10:$B$209,2))","v":""}]
[47,null,{"$f":"IF(B49=\"\",\"\",VLOOKUP(B49,HM!$A$10:$B$209,2))","v":""},null,47,null,{"$f":"IF(F49=\"\",\"\",VLOOKUP(F49,HM!$A$10:$B$209,2))","v":""},null,47,null,{"$f":"IF(J49=\"\",\"\",VLOOKUP(J49,HM!$A$10:$B$209,2))","v":""}]
[48,null,{"$f":"IF(B50=\"\",\"\",VLOOKUP(B50,HM!$A$10:$B$209,2))","v":""},null,48,null,{"$f":"IF(F50=\"\",\"\",VLOOKUP(F50,HM!$A$10:$B$209,2))","v":""},null,48,null,{"$f":"IF(J50=\"\",\"\",VLOOKUP(J50,HM!$A$10:$B$209,2))","v":""}]
[49,null,{"$f":"IF(B51=\"\",\"\",VLOOKUP(B51,HM!$A$10:$B$209,2))","v":""},null,49,null,{"$f":"IF(F51=\"\",\"\",VLOOKUP(F51,HM!$A$10:$B$209,2))","v":""},null,49,null,{"$f":"IF(J51=\"\",\"\",VLOOKUP(J51,HM!$A$10:$B$209,2))","v":""}]
[50,null,{"$f":"IF(B52=\"\",\"\",VLOOKUP(B52,HM!$A$10:$B$209,2))","v":""},null,50,null,{"$f":"IF(F52=\"\",\"\",VLOOKUP(F52,HM!$A$10:$B$209,2))","v":""},null,50,null,{"$f":"IF(J52=\"\",\"\",VLOOKUP(J52,HM!$A$10:$B$209,2))","v":""}]
[51,null,{"$f":"IF(B53=\"\",\"\",VLOOKUP(B53,HM!$A$10:$B$209,2))","v":""},null,51,null,{"$f":"IF(F53=\"\",\"\",VLOOKUP(F53,HM!$A$10:$B$209,2))","v":""},null,51,null,{"$f":"IF(J53=\"\",\"\",VLOOKUP(J53,HM!$A$10:$B$209,2))","v":""}]
[52,null,{"$f":"IF(B54=\"\",\"\",VLOOKUP(B54,HM!$A$10:$B$209,2))","v":""},null,52,null,{"$f":"IF(F54=\"\",\"\",VLOOKUP(F54,HM!$A$10:$B$209,2))","v":""},null,52,null,{"$f":"IF(J54=\"\",\"\",VLOOKUP(J54,HM!$A$10:$B$209,2))","v":""}]
[53,null,{"$f":"IF(B55=\"\",\"\",VLOOKUP(B55,HM!$A$10:$B$209,2))","v":""},null,53,null,{"$f":"IF(F55=\"\",\"\",VLOOKUP(F55,HM!$A$10:$B$209,2))","v":""},null,53,null,{"$f":"IF(J55=\"\",\"\",VLOOKUP(J55,HM!$A$10:$B$209,2))","v":""}]
[54,null,{"$f":"IF(B56=\"\",\"\",VLOOKUP(B56,HM!$A$10:$B$209,2))","v":""},null,54,null,{"$f":"IF(F56=\"\",\"\",VLOOKUP(F56,HM!$A$10:$B$209,2))","v":""},null,54,null,{"$f":"IF(J56=\"\",\"\",VLOOKUP(J56,HM!$A$10:$B$209,2))","v":""}]
[55,null,{"$f":"IF(B57=\"\",\"\",VLOOKUP(B57,HM!$A$10:$B$209,2))","v":""},null,55,null,{"$f":"IF(F57=\"\",\"\",VLOOKUP(F57,HM!$A$10:$B$209,2))","v":""},null,55,null,{"$f":"IF(J57=\"\",\"\",VLOOKUP(J57,HM!$A$10:$B$209,2))","v":""}]
[56,null,{"$f":"IF(B58=\"\",\"\",VLOOKUP(B58,HM!$A$10:$B$209,2))","v":""},null,56,null,{"$f":"IF(F58=\"\",\"\",VLOOKUP(F58,HM!$A$10:$B$209,2))","v":""},null,56,null,{"$f":"IF(J58=\"\",\"\",VLOOKUP(J58,HM!$A$10:$B$209,2))","v":""}]
[57,null,{"$f":"IF(B59=\"\",\"\",VLOOKUP(B59,HM!$A$10:$B$209,2))","v":""},null,57,null,{"$f":"IF(F59=\"\",\"\",VLOOKUP(F59,HM!$A$10:$B$209,2))","v":""},null,57,null,{"$f":"IF(J59=\"\",\"\",VLOOKUP(J59,HM!$A$10:$B$209,2))","v":""}]
[58,null,{"$f":"IF(B60=\"\",\"\",VLOOKUP(B60,HM!$A$10:$B$209,2))","v":""},null,58,null,{"$f":"IF(F60=\"\",\"\",VLOOKUP(F60,HM!$A$10:$B$209,2))","v":""},null,58,null,{"$f":"IF(J60=\"\",\"\",VLOOKUP(J60,HM!$A$10:$B$209,2))","v":""}]
[59,null,{"$f":"IF(B61=\"\",\"\",VLOOKUP(B61,HM!$A$10:$B$209,2))","v":""},null,59,null,{"$f":"IF(F61=\"\",\"\",VLOOKUP(F61,HM!$A$10:$B$209,2))","v":""},null,59,null,{"$f":"IF(J61=\"\",\"\",VLOOKUP(J61,HM!$A$10:$B$209,2))","v":""}]
[60,null,{"$f":"IF(B62=\"\",\"\",VLOOKUP(B62,HM!$A$10:$B$209,2))","v":""},null,60,null,{"$f":"IF(F62=\"\",\"\",VLOOKUP(F62,HM!$A$10:$B$209,2))","v":""},null,60,null,{"$f":"IF(J62=\"\",\"\",VLOOKUP(J62,HM!$A$10:$B$209,2))","v":""}]
[61,null,{"$f":"IF(B63=\"\",\"\",VLOOKUP(B63,HM!$A$10:$B$209,2))","v":""},null,61,null,{"$f":"IF(F63=\"\",\"\",VLOOKUP(F63,HM!$A$10:$B$209,2))","v":""},null,61,null,{"$f":"IF(J63=\"\",\"\",VLOOKUP(J63,HM!$A$10:$B$209,2))","v":""}]
[62,null,{"$f":"IF(B64=\"\",\"\",VLOOKUP(B64,HM!$A$10:$B$209,2))","v":""},null,62,null,{"$f":"IF(F64=\"\",\"\",VLOOKUP(F64,HM!$A$10:$B$209,2))","v":""},null,62,null,{"$f":"IF(J64=\"\",\"\",VLOOKUP(J64,HM!$A$10:$B$209,2))","v":""}]
[63,null,{"$f":"IF(B65=\"\",\"\",VLOOKUP(B65,HM!$A$10:$B$209,2))","v":""},null,63,null,{"$f":"IF(F65=\"\",\"\",VLOOKUP(F65,HM!$A$10:$B$209,2))","v":""},null,63,null,{"$f":"IF(J65=\"\",\"\",VLOOKUP(J65,HM!$A$10:$B$209,2))","v":""}]
[64,null,{"$f":"IF(B66=\"\",\"\",VLOOKUP(B66,HM!$A$10:$B$209,2))","v":""},null,64,null,{"$f":"IF(F66=\"\",\"\",VLOOKUP(F66,HM!$A$10:$B$209,2))","v":""},null,64,null,{"$f":"IF(J66=\"\",\"\",VLOOKUP(J66,HM!$A$10:$B$209,2))","v":""}]
[65,null,{"$f":"IF(B67=\"\",\"\",VLOOKUP(B67,HM!$A$10:$B$209,2))","v":""},null,65,null,{"$f":"IF(F67=\"\",\"\",VLOOKUP(F67,HM!$A$10:$B$209,2))","v":""},null,65,null,{"$f":"IF(J67=\"\",\"\",VLOOKUP(J67,HM!$A$10:$B$209,2))","v":""}]
[66,null,{"$f":"IF(B68=\"\",\"\",VLOOKUP(B68,HM!$A$10:$B$209,2))","v":""},null,66,null,{"$f":"IF(F68=\"\",\"\",VLOOKUP(F68,HM!$A$10:$B$209,2))","v":""},null,66,null,{"$f":"IF(J68=\"\",\"\",VLOOKUP(J68,HM!$A$10:$B$209,2))","v":""}]
[67,null,{"$f":"IF(B69=\"\",\"\",VLOOKUP(B69,HM!$A$10:$B$209,2))","v":""},null,67,null,{"$f":"IF(F69=\"\",\"\",VLOOKUP(F69,HM!$A$10:$B$209,2))","v":""},null,67,null,{"$f":"IF(J69=\"\",\"\",VLOOKUP(J69,HM!$A$10:$B$209,2))","v":""}]
[68,null,{"$f":"IF(B70=\"\",\"\",VLOOKUP(B70,HM!$A$10:$B$209,2))","v":""},null,68,null,{"$f":"IF(F70=\"\",\"\",VLOOKUP(F70,HM!$A$10:$B$209,2))","v":""},null,68,null,{"$f":"IF(J70=\"\",\"\",VLOOKUP(J70,HM!$A$10:$B$209,2))","v":""}]
[69,null,{"$f":"IF(B71=\"\",\"\",VLOOKUP(B71,HM!$A$10:$B$209,2))","v":""},null,69,null,{"$f":"IF(F71=\"\",\"\",VLOOKUP(F71,HM!$A$10:$B$209,2))","v":""},null,69,null,{"$f":"IF(J71=\"\",\"\",VLOOKUP(J71,HM!$A$10:$B$209,2))","v":""}]
[70,null,{"$f":"IF(B72=\"\",\"\",VLOOKUP(B72,HM!$A$10:$B$209,2))","v":""},null,70,null,{"$f":"IF(F72=\"\",\"\",VLOOKUP(F72,HM!$A$10:$B$209,2))","v":""},null,70,null,{"$f":"IF(J72=\"\",\"\",VLOOKUP(J72,HM!$A$10:$B$209,2))","v":""}]
[71,null,{"$f":"IF(B73=\"\",\"\",VLOOKUP(B73,HM!$A$10:$B$209,2))","v":""},null,71,null,{"$f":"IF(F73=\"\",\"\",VLOOKUP(F73,HM!$A$10:$B$209,2))","v":""},null,71,null,{"$f":"IF(J73=\"\",\"\",VLOOKUP(J73,HM!$A$10:$B$209,2))","v":""}]
[72,null,{"$f":"IF(B74=\"\",\"\",VLOOKUP(B74,HM!$A$10:$B$209,2))","v":""},null,72,null,{"$f":"IF(F74=\"\",\"\",VLOOKUP(F74,HM!$A$10:$B$209,2))","v":""},null,72,null,{"$f":"IF(J74=\"\",\"\",VLOOKUP(J74,HM!$A$10:$B$209,2))","v":""}]
[73,null,{"$f":"IF(B75=\"\",\"\",VLOOKUP(B75,HM!$A$10:$B$209,2))","v":""},null,73,null,{"$f":"IF(F75=\"\",\"\",VLOOKUP(F75,HM!$A$10:$B$209,2))","v":""},null,73,null,{"$f":"IF(J75=\"\",\"\",VLOOKUP(J75,HM!$A$10:$B$209,2))","v":""}]
[74,null,{"$f":"IF(B76=\"\",\"\",VLOOKUP(B76,HM!$A$10:$B$209,2))","v":""},null,74,null,{"$f":"IF(F76=\"\",\"\",VLOOKUP(F76,HM!$A$10:$B$209,2))","v":""},null,74,null,{"$f":"IF(J76=\"\",\"\",VLOOKUP(J76,HM!$A$10:$B$209,2))","v":""}]
[75,null,{"$f":"IF(B77=\"\",\"\",VLOOKUP(B77,HM!$A$10:$B$209,2))","v":""},null,75,null,{"$f":"IF(F77=\"\",\"\",VLOOKUP(F77,HM!$A$10:$B$209,2))","v":""},null,75,null,{"$f":"IF(J77=\"\",\"\",VLOOKUP(J77,HM!$A$10:$B$209,2))","v":""}]
[76,null,{"$f":"IF(B78=\"\",\"\",VLOOKUP(B78,HM!$A$10:$B$209,2))","v":""},null,76,null,{"$f":"IF(F78=\"\",\"\",VLOOKUP(F78,HM!$A$10:$B$209,2))","v":""},null,76,null,{"$f":"IF(J78=\"\",\"\",VLOOKUP(J78,HM!$A$10:$B$209,2))","v":""}]
[77,null,{"$f":"IF(B79=\"\",\"\",VLOOKUP(B79,HM!$A$10:$B$209,2))","v":""},null,77,null,{"$f":"IF(F79=\"\",\"\",VLOOKUP(F79,HM!$A$10:$B$209,2))","v":""},null,77,null,{"$f":"IF(J79=\"\",\"\",VLOOKUP(J79,HM!$A$10:$B$209,2))","v":""}]
[78,null,{"$f":"IF(B80=\"\",\"\",VLOOKUP(B80,HM!$A$10:$B$209,2))","v":""},null,78,null,{"$f":"IF(F80=\"\",\"\",VLOOKUP(F80,HM!$A$10:$B$209,2))","v":""},null,78,null,{"$f":"IF(J80=\"\",\"\",VLOOKUP(J80,HM!$A$10:$B$209,2))","v":""}]
[79,null,{"$f":"IF(B81=\"\",\"\",VLOOKUP(B81,HM!$A$10:$B$209,2))","v":""},null,79,null,{"$f":"IF(F81=\"\",\"\",VLOOKUP(F81,HM!$A$10:$B$209,2))","v":""},null,79,null,{"$f":"IF(J81=\"\",\"\",VLOOKUP(J81,HM!$A$10:$B$209,2))","v":""}]
[80,null,{"$f":"IF(B82=\"\",\"\",VLOOKUP(B82,HM!$A$10:$B$209,2))","v":""},null,80,null,{"$f":"IF(F82=\"\",\"\",VLOOKUP(F82,HM!$A$10:$B$209,2))","v":""},null,80,null,{"$f":"IF(J82=\"\",\"\",VLOOKUP(J82,HM!$A$10:$B$209,2))","v":""}]
[81,null,{"$f":"IF(B83=\"\",\"\",VLOOKUP(B83,HM!$A$10:$B$209,2))","v":""},null,81,null,{"$f":"IF(F83=\"\",\"\",VLOOKUP(F83,HM!$A$10:$B$209,2))","v":""},null,81,null,{"$f":"IF(J83=\"\",\"\",VLOOKUP(J83,HM!$A$10:$B$209,2))","v":""}]
[82,null,{"$f":"IF(B84=\"\",\"\",VLOOKUP(B84,HM!$A$10:$B$209,2))","v":""},null,82,null,{"$f":"IF(F84=\"\",\"\",VLOOKUP(F84,HM!$A$10:$B$209,2))","v":""},null,82,null,{"$f":"IF(J84=\"\",\"\",VLOOKUP(J84,HM!$A$10:$B$209,2))","v":""}]
[83,null,{"$f":"IF(B85=\"\",\"\",VLOOKUP(B85,HM!$A$10:$B$209,2))","v":""},null,83,null,{"$f":"IF(F85=\"\",\"\",VLOOKUP(F85,HM!$A$10:$B$209,2))","v":""},null,83,null,{"$f":"IF(J85=\"\",\"\",VLOOKUP(J85,HM!$A$10:$B$209,2))","v":""}]
[84,null,{"$f":"IF(B86=\"\",\"\",VLOOKUP(B86,HM!$A$10:$B$209,2))","v":""},null,84,null,{"$f":"IF(F86=\"\",\"\",VLOOKUP(F86,HM!$A$10:$B$209,2))","v":""},null,84,null,{"$f":"IF(J86=\"\",\"\",VLOOKUP(J86,HM!$A$10:$B$209,2))","v":""}]
[85,null,{"$f":"IF(B87=\"\",\"\",VLOOKUP(B87,HM!$A$10:$B$209,2))","v":""},null,85,null,{"$f":"IF(F87=\"\",\"\",VLOOKUP(F87,HM!$A$10:$B$209,2))","v":""},null,85,null,{"$f":"IF(J87=\"\",\"\",VLOOKUP(J87,HM!$A$10:$B$209,2))","v":""}]
[86,null,{"$f":"IF(B88=\"\",\"\",VLOOKUP(B88,HM!$A$10:$B$209,2))","v":""},null,86,null,{"$f":"IF(F88=\"\",\"\",VLOOKUP(F88,HM!$A$10:$B$209,2))","v":""},null,86,null,{"$f":"IF(J88=\"\",\"\",VLOOKUP(J88,HM!$A$10:$B$209,2))","v":""}]
[87,null,{"$f":"IF(B89=\"\",\"\",VLOOKUP(B89,HM!$A$10:$B$209,2))","v":""},null,87,null,{"$f":"IF(F89=\"\",\"\",VLOOKUP(F89,HM!$A$10:$B$209,2))","v":""},null,87,null,{"$f":"IF(J89=\"\",\"\",VLOOKUP(J89,HM!$A$10:$B$209,2))","v":""}]
[88,null,{"$f":"IF(B90=\"\",\"\",VLOOKUP(B90,HM!$A$10:$B$209,2))","v":""},null,88,null,{"$f":"IF(F90=\"\",\"\",VLOOKUP(F90,HM!$A$10:$B$209,2))","v":""},null,88,null,{"$f":"IF(J90=\"\",\"\",VLOOKUP(J90,HM!$A$10:$B$209,2))","v":""}]
[89,null,{"$f":"IF(B91=\"\",\"\",VLOOKUP(B91,HM!$A$10:$B$209,2))","v":""},null,89,null,{"$f":"IF(F91=\"\",\"\",VLOOKUP(F91,HM!$A$10:$B$209,2))","v":""},null,89,null,{"$f":"IF(J91=\"\",\"\",VLOOKUP(J91,HM!$A$10:$B$209,2))","v":""}]
[90,null,{"$f":"IF(B92=\"\",\"\",VLOOKUP(B92,HM!$A$10:$B$209,2))","v":""},null,90,null,{"$f":"IF(F92=\"\",\"\",VLOOKUP(F92,HM!$A$10:$B$209,2))","v":""},null,90,null,{"$f":"IF(J92=\"\",\"\",VLOOKUP(J92,HM!$A$10:$B$209,2))","v":""}]
[91,null,{"$f":"IF(B93=\"\",\"\",VLOOKUP(B93,HM!$A$10:$B$209,2))","v":""},null,91,null,{"$f":"IF(F93=\"\",\"\",VLOOKUP(F93,HM!$A$10:$B$209,2))","v":""},null,91,null,{"$f":"IF(J93=\"\",\"\",VLOOKUP(J93,HM!$A$10:$B$209,2))","v":""}]
[92,null,{"$f":"IF(B94=\"\",\"\",VLOOKUP(B94,HM!$A$10:$B$209,2))","v":""},null,92,null,{"$f":"IF(F94=\"\",\"\",VLOOKUP(F94,HM!$A$10:$B$209,2))","v":""},null,92,null,{"$f":"IF(J94=\"\",\"\",VLOOKUP(J94,HM!$A$10:$B$209,2))","v":""}]
[93,null,{"$f":"IF(B95=\"\",\"\",VLOOKUP(B95,HM!$A$10:$B$209,2))","v":""},null,93,null,{"$f":"IF(F95=\"\",\"\",VLOOKUP(F95,HM!$A$10:$B$209,2))","v":""},null,93,null,{"$f":"IF(J95=\"\",\"\",VLOOKUP(J95,HM!$A$10:$B$209,2))","v":""}]
[94,null,{"$f":"IF(B96=\"\",\"\",VLOOKUP(B96,HM!$A$10:$B$209,2))","v":""},null,94,null,{"$f":"IF(F96=\"\",\"\",VLOOKUP(F96,HM!$A$10:$B$209,2))","v":""},null,94,null,{"$f":"IF(J96=\"\",\"\",VLOOKUP(J96,HM!$A$10:$B$209,2))","v":""}]
[95,null,{"$f":"IF(B97=\"\",\"\",VLOOKUP(B97,HM!$A$10:$B$209,2))","v":""},null,95,null,{"$f":"IF(F97=\"\",\"\",VLOOKUP(F97,HM!$A$10:$B$209,2))","v":""},null,95,null,{"$f":"IF(J97=\"\",\"\",VLOOKUP(J97,HM!$A$10:$B$209,2))","v":""}]
[96,null,{"$f":"IF(B98=\"\",\"\",VLOOKUP(B98,HM!$A$10:$B$209,2))","v":""},null,96,null,{"$f":"IF(F98=\"\",\"\",VLOOKUP(F98,HM!$A$10:$B$209,2))","v":""},null,96,null,{"$f":"IF(J98=\"\",\"\",VLOOKUP(J98,HM!$A$10:$B$209,2))","v":""}]
[97,null,{"$f":"IF(B99=\"\",\"\",VLOOKUP(B99,HM!$A$10:$B$209,2))","v":""},null,97,null,{"$f":"IF(F99=\"\",\"\",VLOOKUP(F99,HM!$A$10:$B$209,2))","v":""},null,97,null,{"$f":"IF(J99=\"\",\"\",VLOOKUP(J99,HM!$A$10:$B$209,2))","v":""}]
[98,null,{"$f":"IF(B100=\"\",\"\",VLOOKUP(B100,HM!$A$10:$B$209,2))","v":""},null,98,null,{"$f":"IF(F100=\"\",\"\",VLOOKUP(F100,HM!$A$10:$B$209,2))","v":""},null,98,null,{"$f":"IF(J100=\"\",\"\",VLOOKUP(J100,HM!$A$10:$B$209,2))","v":""}]
[99,null,{"$f":"IF(B101=\"\",\"\",VLOOKUP(B101,HM!$A$10:$B$209,2))","v":""},null,99,null,{"$f":"IF(F101=\"\",\"\",VLOOKUP(F101,HM!$A$10:$B$209,2))","v":""},null,99,null,{"$f":"IF(J101=\"\",\"\",VLOOKUP(J101,HM!$A$10:$B$209,2))","v":""}]
[100,null,{"$f":"IF(B102=\"\",\"\",VLOOKUP(B102,HM!$A$10:$B$209,2))","v":""},null,100,null,{"$f":"IF(F102=\"\",\"\",VLOOKUP(F102,HM!$A$10:$B$209,2))","v":""},null,100,null,{"$f":"IF(J102=\"\",\"\",VLOOKUP(J102,HM!$A$10:$B$209,2))","v":""}]
[101,null,{"$f":"IF(B103=\"\",\"\",VLOOKUP(B103,HM!$A$10:$B$209,2))","v":""},null,101,null,{"$f":"IF(F103=\"\",\"\",VLOOKUP(F103,HM!$A$10:$B$209,2))","v":""},null,101,null,{"$f":"IF(J103=\"\",\"\",VLOOKUP(J103,HM!$A$10:$B$209,2))","v":""}]
[102,null,{"$f":"IF(B104=\"\",\"\",VLOOKUP(B104,HM!$A$10:$B$209,2))","v":""},null,102,null,{"$f":"IF(F104=\"\",\"\",VLOOKUP(F104,HM!$A$10:$B$209,2))","v":""},null,102,null,{"$f":"IF(J104=\"\",\"\",VLOOKUP(J104,HM!$A$10:$B$209,2))","v":""}]
[103,null,{"$f":"IF(B105=\"\",\"\",VLOOKUP(B105,HM!$A$10:$B$209,2))","v":""},null,103,null,{"$f":"IF(F105=\"\",\"\",VLOOKUP(F105,HM!$A$10:$B$209,2))","v":""},null,103,null,{"$f":"IF(J105=\"\",\"\",VLOOKUP(J105,HM!$A$10:$B$209,2))","v":""}]
[104,null,{"$f":"IF(B106=\"\",\"\",VLOOKUP(B106,HM!$A$10:$B$209,2))","v":""},null,104,null,{"$f":"IF(F106=\"\",\"\",VLOOKUP(F106,HM!$A$10:$B$209,2))","v":""},null,104,null,{"$f":"IF(J106=\"\",\"\",VLOOKUP(J106,HM!$A$10:$B$209,2))","v":""}]
[105,null,{"$f":"IF(B107=\"\",\"\",VLOOKUP(B107,HM!$A$10:$B$209,2))","v":""},null,105,null,{"$f":"IF(F107=\"\",\"\",VLOOKUP(F107,HM!$A$10:$B$209,2))","v":""},null,105,null,{"$f":"IF(J107=\"\",\"\",VLOOKUP(J107,HM!$A$10:$B$209,2))","v":""}]
[106,null,{"$f":"IF(B108=\"\",\"\",VLOOKUP(B108,HM!$A$10:$B$209,2))","v":""},null,106,null,{"$f":"IF(F108=\"\",\"\",VLOOKUP(F108,HM!$A$10:$B$209,2))","v":""},null,106,null,{"$f":"IF(J108=\"\",\"\",VLOOKUP(J108,HM!$A$10:$B$209,2))","v":""}]
[107,null,{"$f":"IF(B109=\"\",\"\",VLOOKUP(B109,HM!$A$10:$B$209,2))","v":""},null,107,null,{"$f":"IF(F109=\"\",\"\",VLOOKUP(F109,HM!$A$10:$B$209,2))","v":""},null,107,null,{"$f":"IF(J109=\"\",\"\",VLOOKUP(J109,HM!$A$10:$B$209,2))","v":""}]
[108,null,{"$f":"IF(B110=\"\",\"\",VLOOKUP(B110,HM!$A$10:$B$209,2))","v":""},null,108,null,{"$f":"IF(F110=\"\",\"\",VLOOKUP(F110,HM!$A$10:$B$209,2))","v":""},null,108,null,{"$f":"IF(J110=\"\",\"\",VLOOKUP(J110,HM!$A$10:$B$209,2))","v":""}]
[109,null,{"$f":"IF(B111=\"\",\"\",VLOOKUP(B111,HM!$A$10:$B$209,2))","v":""},null,109,null,{"$f":"IF(F111=\"\",\"\",VLOOKUP(F111,HM!$A$10:$B$209,2))","v":""},null,109,null,{"$f":"IF(J111=\"\",\"\",VLOOKUP(J111,HM!$A$10:$B$209,2))","v":""}]
[110,null,{"$f":"IF(B112=\"\",\"\",VLOOKUP(B112,HM!$A$10:$B$209,2))","v":""},null,110,null,{"$f":"IF(F112=\"\",\"\",VLOOKUP(F112,HM!$A$10:$B$209,2))","v":""},null,110,null,{"$f":"IF(J112=\"\",\"\",VLOOKUP(J112,HM!$A$10:$B$209,2))","v":""}]
[111,null,{"$f":"IF(B113=\"\",\"\",VLOOKUP(B113,HM!$A$10:$B$209,2))","v":""},null,111,null,{"$f":"IF(F113=\"\",\"\",VLOOKUP(F113,HM!$A$10:$B$209,2))","v":""},null,111,null,{"$f":"IF(J113=\"\",\"\",VLOOKUP(J113,HM!$A$10:$B$209,2))","v":""}]
[112,null,{"$f":"IF(B114=\"\",\"\",VLOOKUP(B114,HM!$A$10:$B$209,2))","v":""},null,112,null,{"$f":"IF(F114=\"\",\"\",VLOOKUP(F114,HM!$A$10:$B$209,2))","v":""},null,112,null,{"$f":"IF(J114=\"\",\"\",VLOOKUP(J114,HM!$A$10:$B$209,2))","v":""}]
[113,null,{"$f":"IF(B115=\"\",\"\",VLOOKUP(B115,HM!$A$10:$B$209,2))","v":""},null,113,null,{"$f":"IF(F115=\"\",\"\",VLOOKUP(F115,HM!$A$10:$B$209,2))","v":""},null,113,null,{"$f":"IF(J115=\"\",\"\",VLOOKUP(J115,HM!$A$10:$B$209,2))","v":""}]
[114,null,{"$f":"IF(B116=\"\",\"\",VLOOKUP(B116,HM!$A$10:$B$209,2))","v":""},null,114,null,{"$f":"IF(F116=\"\",\"\",VLOOKUP(F116,HM!$A$10:$B$209,2))","v":""},null,114,null,{"$f":"IF(J116=\"\",\"\",VLOOKUP(J116,HM!$A$10:$B$209,2))","v":""}]
[115,null,{"$f":"IF(B117=\"\",\"\",VLOOKUP(B117,HM!$A$10:$B$209,2))","v":""},null,115,null,{"$f":"IF(F117=\"\",\"\",VLOOKUP(F117,HM!$A$10:$B$209,2))","v":""},null,115,null,{"$f":"IF(J117=\"\",\"\",VLOOKUP(J117,HM!$A$10:$B$209,2))","v":""}]
[116,null,{"$f":"IF(B118=\"\",\"\",VLOOKUP(B118,HM!$A$10:$B$209,2))","v":""},null,116,null,{"$f":"IF(F118=\"\",\"\",VLOOKUP(F118,HM!$A$10:$B$209,2))","v":""},null,116,null,{"$f":"IF(J118=\"\",\"\",VLOOKUP(J118,HM!$A$10:$B$209,2))","v":""}]
[117,null,{"$f":"IF(B119=\"\",\"\",VLOOKUP(B119,HM!$A$10:$B$209,2))","v":""},null,117,null,{"$f":"IF(F119=\"\",\"\",VLOOKUP(F119,HM!$A$10:$B$209,2))","v":""},null,117,null,{"$f":"IF(J119=\"\",\"\",VLOOKUP(J119,HM!$A$10:$B$209,2))","v":""}]
[118,null,{"$f":"IF(B120=\"\",\"\",VLOOKUP(B120,HM!$A$10:$B$209,2))","v":""},null,118,null,{"$f":"IF(F120=\"\",\"\",VLOOKUP(F120,HM!$A$10:$B$209,2))","v":""},null,118,null,{"$f":"IF(J120=\"\",\"\",VLOOKUP(J120,HM!$A$10:$B$209,2))","v":""}]
[119,null,{"$f":"IF(B121=\"\",\"\",VLOOKUP(B121,HM!$A$10:$B$209,2))","v":""},null,119,null,{"$f":"IF(F121=\"\",\"\",VLOOKUP(F121,HM!$A$10:$B$209,2))","v":""},null,119,null,{"$f":"IF(J121=\"\",\"\",VLOOKUP(J121,HM!$A$10:$B$209,2))","v":""}]
[120,null,{"$f":"IF(B122=\"\",\"\",VLOOKUP(B122,HM!$A$10:$B$209,2))","v":""},null,120,null,{"$f":"IF(F122=\"\",\"\",VLOOKUP(F122,HM!$A$10:$B$209,2))","v":""},null,120,null,{"$f":"IF(J122=\"\",\"\",VLOOKUP(J122,HM!$A$10:$B$209,2))","v":""}]
[121,null,{"$f":"IF(B123=\"\",\"\",VLOOKUP(B123,HM!$A$10:$B$209,2))","v":""},null,121,null,{"$f":"IF(F123=\"\",\"\",VLOOKUP(F123,HM!$A$10:$B$209,2))","v":""},null,121,null,{"$f":"IF(J123=\"\",\"\",VLOOKUP(J123,HM!$A$10:$B$209,2))","v":""}]
[122,null,{"$f":"IF(B124=\"\",\"\",VLOOKUP(B124,HM!$A$10:$B$209,2))","v":""},null,122,null,{"$f":"IF(F124=\"\",\"\",VLOOKUP(F124,HM!$A$10:$B$209,2))","v":""},null,122,null,{"$f":"IF(J124=\"\",\"\",VLOOKUP(J124,HM!$A$10:$B$209,2))","v":""}]
[123,null,{"$f":"IF(B125=\"\",\"\",VLOOKUP(B125,HM!$A$10:$B$209,2))","v":""},null,123,null,{"$f":"IF(F125=\"\",\"\",VLOOKUP(F125,HM!$A$10:$B$209,2))","v":""},null,123,null,{"$f":"IF(J125=\"\",\"\",VLOOKUP(J125,HM!$A$10:$B$209,2))","v":""}]
[124,null,{"$f":"IF(B126=\"\",\"\",VLOOKUP(B126,HM!$A$10:$B$209,2))","v":""},null,124,null,{"$f":"IF(F126=\"\",\"\",VLOOKUP(F126,HM!$A$10:$B$209,2))","v":""},null,124,null,{"$f":"IF(J126=\"\",\"\",VLOOKUP(J126,HM!$A$10:$B$209,2))","v":""}]
[125,null,{"$f":"IF(B127=\"\",\"\",VLOOKUP(B127,HM!$A$10:$B$209,2))","v":""},null,125,null,{"$f":"IF(F127=\"\",\"\",VLOOKUP(F127,HM!$A$10:$B$209,2))","v":""},null,125,null,{"$f":"IF(J127=\"\",\"\",VLOOKUP(J127,HM!$A$10:$B$209,2))","v":""}]
[126,null,{"$f":"IF(B128=\"\",\"\",VLOOKUP(B128,HM!$A$10:$B$209,2))","v":""},null,126,null,{"$f":"IF(F128=\"\",\"\",VLOOKUP(F128,HM!$A$10:$B$209,2))","v":""},null,126,null,{"$f":"IF(J128=\"\",\"\",VLOOKUP(J128,HM!$A$10:$B$209,2))","v":""}]
[127,null,{"$f":"IF(B129=\"\",\"\",VLOOKUP(B129,HM!$A$10:$B$209,2))","v":""},null,127,null,{"$f":"IF(F129=\"\",\"\",VLOOKUP(F129,HM!$A$10:$B$209,2))","v":""},null,127,null,{"$f":"IF(J129=\"\",\"\",VLOOKUP(J129,HM!$A$10:$B$209,2))","v":""}]
[128,null,{"$f":"IF(B130=\"\",\"\",VLOOKUP(B130,HM!$A$10:$B$209,2))","v":""},null,128,null,{"$f":"IF(F130=\"\",\"\",VLOOKUP(F130,HM!$A$10:$B$209,2))","v":""},null,128,null,{"$f":"IF(J130=\"\",\"\",VLOOKUP(J130,HM!$A$10:$B$209,2))","v":""}]
[129,null,{"$f":"IF(B131=\"\",\"\",VLOOKUP(B131,HM!$A$10:$B$209,2))","v":""},null,129,null,{"$f":"IF(F131=\"\",\"\",VLOOKUP(F131,HM!$A$10:$B$209,2))","v":""},null,129,null,{"$f":"IF(J131=\"\",\"\",VLOOKUP(J131,HM!$A$10:$B$209,2))","v":""}]
[130,null,{"$f":"IF(B132=\"\",\"\",VLOOKUP(B132,HM!$A$10:$B$209,2))","v":""},null,130,null,{"$f":"IF(F132=\"\",\"\",VLOOKUP(F132,HM!$A$10:$B$209,2))","v":""},null,130,null,{"$f":"IF(J132=\"\",\"\",VLOOKUP(J132,HM!$A$10:$B$209,2))","v":""}]
[131,null,{"$f":"IF(B133=\"\",\"\",VLOOKUP(B133,HM!$A$10:$B$209,2))","v":""},null,131,null,{"$f":"IF(F133=\"\",\"\",VLOOKUP(F133,HM!$A$10:$B$209,2))","v":""},null,131,null,{"$f":"IF(J133=\"\",\"\",VLOOKUP(J133,HM!$A$10:$B$209,2))","v":""}]
[132,null,{"$f":"IF(B134=\"\",\"\",VLOOKUP(B134,HM!$A$10:$B$209,2))","v":""},null,132,null,{"$f":"IF(F134=\"\",\"\",VLOOKUP(F134,HM!$A$10:$B$209,2))","v":""},null,132,null,{"$f":"IF(J134=\"\",\"\",VLOOKUP(J134,HM!$A$10:$B$209,2))","v":""}]
[133,null,{"$f":"IF(B135=\"\",\"\",VLOOKUP(B135,HM!$A$10:$B$209,2))","v":""},null,133,null,{"$f":"IF(F135=\"\",\"\",VLOOKUP(F135,HM!$A$10:$B$209,2))","v":""},null,133,null,{"$f":"IF(J135=\"\",\"\",VLOOKUP(J135,HM!$A$10:$B$209,2))","v":""}]
[134,null,{"$f":"IF(B136=\"\",\"\",VLOOKUP(B136,HM!$A$10:$B$209,2))","v":""},null,134,null,{"$f":"IF(F136=\"\",\"\",VLOOKUP(F136,HM!$A$10:$B$209,2))","v":""},null,134,null,{"$f":"IF(J136=\"\",\"\",VLOOKUP(J136,HM!$A$10:$B$209,2))","v":""}]
[135,null,{"$f":"IF(B137=\"\",\"\",VLOOKUP(B137,HM!$A$10:$B$209,2))","v":""},null,135,null,{"$f":"IF(F137=\"\",\"\",VLOOKUP(F137,HM!$A$10:$B$209,2))","v":""},null,135,null,{"$f":"IF(J137=\"\",\"\",VLOOKUP(J137,HM!$A$10:$B$209,2))","v":""}]
[136,null,{"$f":"IF(B138=\"\",\"\",VLOOKUP(B138,HM!$A$10:$B$209,2))","v":""},null,136,null,{"$f":"IF(F138=\"\",\"\",VLOOKUP(F138,HM!$A$10:$B$209,2))","v":""},null,136,null,{"$f":"IF(J138=\"\",\"\",VLOOKUP(J138,HM!$A$10:$B$209,2))","v":""}]
[137,null,{"$f":"IF(B139=\"\",\"\",VLOOKUP(B139,HM!$A$10:$B$209,2))","v":""},null,137,null,{"$f":"IF(F139=\"\",\"\",VLOOKUP(F139,HM!$A$10:$B$209,2))","v":""},null,137,null,{"$f":"IF(J139=\"\",\"\",VLOOKUP(J139,HM!$A$10:$B$209,2))","v":""}]
[138,null,{"$f":"IF(B140=\"\",\"\",VLOOKUP(B140,HM!$A$10:$B$209,2))","v":""},null,138,null,{"$f":"IF(F140=\"\",\"\",VLOOKUP(F140,HM!$A$10:$B$209,2))","v":""},null,138,null,{"$f":"IF(J140=\"\",\"\",VLOOKUP(J140,HM!$A$10:$B$209,2))","v":""}]
[139,null,{"$f":"IF(B141=\"\",\"\",VLOOKUP(B141,HM!$A$10:$B$209,2))","v":""},null,139,null,{"$f":"IF(F141=\"\",\"\",VLOOKUP(F141,HM!$A$10:$B$209,2))","v":""},null,139,null,{"$f":"IF(J141=\"\",\"\",VLOOKUP(J141,HM!$A$10:$B$209,2))","v":""}]
[140,null,{"$f":"IF(B142=\"\",\"\",VLOOKUP(B142,HM!$A$10:$B$209,2))","v":""},null,140,null,{"$f":"IF(F142=\"\",\"\",VLOOKUP(F142,HM!$A$10:$B$209,2))","v":""},null,140,null,{"$f":"IF(J142=\"\",\"\",VLOOKUP(J142,HM!$A$10:$B$209,2))","v":""}]
[141,null,{"$f":"IF(B143=\"\",\"\",VLOOKUP(B143,HM!$A$10:$B$209,2))","v":""},null,141,null,{"$f":"IF(F143=\"\",\"\",VLOOKUP(F143,HM!$A$10:$B$209,2))","v":""},null,141,null,{"$f":"IF(J143=\"\",\"\",VLOOKUP(J143,HM!$A$10:$B$209,2))","v":""}]
[142,null,{"$f":"IF(B144=\"\",\"\",VLOOKUP(B144,HM!$A$10:$B$209,2))","v":""},null,142,null,{"$f":"IF(F144=\"\",\"\",VLOOKUP(F144,HM!$A$10:$B$209,2))","v":""},null,142,null,{"$f":"IF(J144=\"\",\"\",VLOOKUP(J144,HM!$A$10:$B$209,2))","v":""}]
[143,null,{"$f":"IF(B145=\"\",\"\",VLOOKUP(B145,HM!$A$10:$B$209,2))","v":""},null,143,null,{"$f":"IF(F145=\"\",\"\",VLOOKUP(F145,HM!$A$10:$B$209,2))","v":""},null,143,null,{"$f":"IF(J145=\"\",\"\",VLOOKUP(J145,HM!$A$10:$B$209,2))","v":""}]
[144,null,{"$f":"IF(B146=\"\",\"\",VLOOKUP(B146,HM!$A$10:$B$209,2))","v":""},null,144,null,{"$f":"IF(F146=\"\",\"\",VLOOKUP(F146,HM!$A$10:$B$209,2))","v":""},null,144,null,{"$f":"IF(J146=\"\",\"\",VLOOKUP(J146,HM!$A$10:$B$209,2))","v":""}]
[145,null,{"$f":"IF(B147=\"\",\"\",VLOOKUP(B147,HM!$A$10:$B$209,2))","v":""},null,145,null,{"$f":"IF(F147=\"\",\"\",VLOOKUP(F147,HM!$A$10:$B$209,2))","v":""},null,145,null,{"$f":"IF(J147=\"\",\"\",VLOOKUP(J147,HM!$A$10:$B$209,2))","v":""}]
[146,null,{"$f":"IF(B148=\"\",\"\",VLOOKUP(B148,HM!$A$10:$B$209,2))","v":""},null,146,null,{"$f":"IF(F148=\"\",\"\",VLOOKUP(F148,HM!$A$10:$B$209,2))","v":""},null,146,null,{"$f":"IF(J148=\"\",\"\",VLOOKUP(J148,HM!$A$10:$B$209,2))","v":""}]
[147,null,{"$f":"IF(B149=\"\",\"\",VLOOKUP(B149,HM!$A$10:$B$209,2))","v":""},null,147,null,{"$f":"IF(F149=\"\",\"\",VLOOKUP(F149,HM!$A$10:$B$209,2))","v":""},null,147,null,{"$f":"IF(J149=\"\",\"\",VLOOKUP(J149,HM!$A$10:$B$209,2))","v":""}]
[148,null,{"$f":"IF(B150=\"\",\"\",VLOOKUP(B150,HM!$A$10:$B$209,2))","v":""},null,148,null,{"$f":"IF(F150=\"\",\"\",VLOOKUP(F150,HM!$A$10:$B$209,2))","v":""},null,148,null,{"$f":"IF(J150=\"\",\"\",VLOOKUP(J150,HM!$A$10:$B$209,2))","v":""}]
[149,null,{"$f":"IF(B151=\"\",\"\",VLOOKUP(B151,HM!$A$10:$B$209,2))","v":""},null,149,null,{"$f":"IF(F151=\"\",\"\",VLOOKUP(F151,HM!$A$10:$B$209,2))","v":""},null,149,null,{"$f":"IF(J151=\"\",\"\",VLOOKUP(J151,HM!$A$10:$B$209,2))","v":""}]
[150,null,{"$f":"IF(B152=\"\",\"\",VLOOKUP(B152,HM!$A$10:$B$209,2))","v":""},null,150,null,{"$f":"IF(F152=\"\",\"\",VLOOKUP(F152,HM!$A$10:$B$209,2))","v":""},null,150,null,{"$f":"IF(J152=\"\",\"\",VLOOKUP(J152,HM!$A$10:$B$209,2))","v":""}]
[151,null,{"$f":"IF(B153=\"\",\"\",VLOOKUP(B153,HM!$A$10:$B$209,2))","v":""},null,151,null,{"$f":"IF(F153=\"\",\"\",VLOOKUP(F153,HM!$A$10:$B$209,2))","v":""},null,151,null,{"$f":"IF(J153=\"\",\"\",VLOOKUP(J153,HM!$A$10:$B$209,2))","v":""}]
[152,null,{"$f":"IF(B154=\"\",\"\",VLOOKUP(B154,HM!$A$10:$B$209,2))","v":""},null,152,null,{"$f":"IF(F154=\"\",\"\",VLOOKUP(F154,HM!$A$10:$B$209,2))","v":""},null,152,null,{"$f":"IF(J154=\"\",\"\",VLOOKUP(J154,HM!$A$10:$B$209,2))","v":""}]
[153,null,{"$f":"IF(B155=\"\",\"\",VLOOKUP(B155,HM!$A$10:$B$209,2))","v":""},null,153,null,{"$f":"IF(F155=\"\",\"\",VLOOKUP(F155,HM!$A$10:$B$209,2))","v":""},null,153,null,{"$f":"IF(J155=\"\",\"\",VLOOKUP(J155,HM!$A$10:$B$209,2))","v":""}]
[154,null,{"$f":"IF(B156=\"\",\"\",VLOOKUP(B156,HM!$A$10:$B$209,2))","v":""},null,154,null,{"$f":"IF(F156=\"\",\"\",VLOOKUP(F156,HM!$A$10:$B$209,2))","v":""},null,154,null,{"$f":"IF(J156=\"\",\"\",VLOOKUP(J156,HM!$A$10:$B$209,2))","v":""}]
[155,null,{"$f":"IF(B157=\"\",\"\",VLOOKUP(B157,HM!$A$10:$B$209,2))","v":""},null,155,null,{"$f":"IF(F157=\"\",\"\",VLOOKUP(F157,HM!$A$10:$B$209,2))","v":""},null,155,null,{"$f":"IF(J157=\"\",\"\",VLOOKUP(J157,HM!$A$10:$B$209,2))","v":""}]
[156,null,{"$f":"IF(B158=\"\",\"\",VLOOKUP(B158,HM!$A$10:$B$209,2))","v":""},null,156,null,{"$f":"IF(F158=\"\",\"\",VLOOKUP(F158,HM!$A$10:$B$209,2))","v":""},null,156,null,{"$f":"IF(J158=\"\",\"\",VLOOKUP(J158,HM!$A$10:$B$209,2))","v":""}]
[157,null,{"$f":"IF(B159=\"\",\"\",VLOOKUP(B159,HM!$A$10:$B$209,2))","v":""},null,157,null,{"$f":"IF(F159=\"\",\"\",VLOOKUP(F159,HM!$A$10:$B$209,2))","v":""},null,157,null,{"$f":"IF(J159=\"\",\"\",VLOOKUP(J159,HM!$A$10:$B$209,2))","v":""}]
[158,null,{"$f":"IF(B160=\"\",\"\",VLOOKUP(B160,HM!$A$10:$B$209,2))","v":""},null,158,null,{"$f":"IF(F160=\"\",\"\",VLOOKUP(F160,HM!$A$10:$B$209,2))","v":""},null,158,null,{"$f":"IF(J160=\"\",\"\",VLOOKUP(J160,HM!$A$10:$B$209,2))","v":""}]
[159,null,{"$f":"IF(B161=\"\",\"\",VLOOKUP(B161,HM!$A$10:$B$209,2))","v":""},null,159,null,{"$f":"IF(F161=\"\",\"\",VLOOKUP(F161,HM!$A$10:$B$209,2))","v":""},null,159,null,{"$f":"IF(J161=\"\",\"\",VLOOKUP(J161,HM!$A$10:$B$209,2))","v":""}]
[160,null,{"$f":"IF(B162=\"\",\"\",VLOOKUP(B162,HM!$A$10:$B$209,2))","v":""},null,160,null,{"$f":"IF(F162=\"\",\"\",VLOOKUP(F162,HM!$A$10:$B$209,2))","v":""},null,160,null,{"$f":"IF(J162=\"\",\"\",VLOOKUP(J162,HM!$A$10:$B$209,2))","v":""}]
[161,null,{"$f":"IF(B163=\"\",\"\",VLOOKUP(B163,HM!$A$10:$B$209,2))","v":""},null,161,null,{"$f":"IF(F163=\"\",\"\",VLOOKUP(F163,HM!$A$10:$B$209,2))","v":""},null,161,null,{"$f":"IF(J163=\"\",\"\",VLOOKUP(J163,HM!$A$10:$B$209,2))","v":""}]
[162,null,{"$f":"IF(B164=\"\",\"\",VLOOKUP(B164,HM!$A$10:$B$209,2))","v":""},null,162,null,{"$f":"IF(F164=\"\",\"\",VLOOKUP(F164,HM!$A$10:$B$209,2))","v":""},null,162,null,{"$f":"IF(J164=\"\",\"\",VLOOKUP(J164,HM!$A$10:$B$209,2))","v":""}]
[163,null,{"$f":"IF(B165=\"\",\"\",VLOOKUP(B165,HM!$A$10:$B$209,2))","v":""},null,163,null,{"$f":"IF(F165=\"\",\"\",VLOOKUP(F165,HM!$A$10:$B$209,2))","v":""},null,163,null,{"$f":"IF(J165=\"\",\"\",VLOOKUP(J165,HM!$A$10:$B$209,2))","v":""}]
[164,null,{"$f":"IF(B166=\"\",\"\",VLOOKUP(B166,HM!$A$10:$B$209,2))","v":""},null,164,null,{"$f":"IF(F166=\"\",\"\",VLOOKUP(F166,HM!$A$10:$B$209,2))","v":""},null,164,null,{"$f":"IF(J166=\"\",\"\",VLOOKUP(J166,HM!$A$10:$B$209,2))","v":""}]
[165,null,{"$f":"IF(B167=\"\",\"\",VLOOKUP(B167,HM!$A$10:$B$209,2))","v":""},null,165,null,{"$f":"IF(F167=\"\",\"\",VLOOKUP(F167,HM!$A$10:$B$209,2))","v":""},null,165,null,{"$f":"IF(J167=\"\",\"\",VLOOKUP(J167,HM!$A$10:$B$209,2))","v":""}]
[166,null,{"$f":"IF(B168=\"\",\"\",VLOOKUP(B168,HM!$A$10:$B$209,2))","v":""},null,166,null,{"$f":"IF(F168=\"\",\"\",VLOOKUP(F168,HM!$A$10:$B$209,2))","v":""},null,166,null,{"$f":"IF(J168=\"\",\"\",VLOOKUP(J168,HM!$A$10:$B$209,2))","v":""}]
[167,null,{"$f":"IF(B169=\"\",\"\",VLOOKUP(B169,HM!$A$10:$B$209,2))","v":""},null,167,null,{"$f":"IF(F169=\"\",\"\",VLOOKUP(F169,HM!$A$10:$B$209,2))","v":""},null,167,null,{"$f":"IF(J169=\"\",\"\",VLOOKUP(J169,HM!$A$10:$B$209,2))","v":""}]
[168,null,{"$f":"IF(B170=\"\",\"\",VLOOKUP(B170,HM!$A$10:$B$209,2))","v":""},null,168,null,{"$f":"IF(F170=\"\",\"\",VLOOKUP(F170,HM!$A$10:$B$209,2))","v":""},null,168,null,{"$f":"IF(J170=\"\",\"\",VLOOKUP(J170,HM!$A$10:$B$209,2))","v":""}]
[169,null,{"$f":"IF(B171=\"\",\"\",VLOOKUP(B171,HM!$A$10:$B$209,2))","v":""},null,169,null,{"$f":"IF(F171=\"\",\"\",VLOOKUP(F171,HM!$A$10:$B$209,2))","v":""},null,169,null,{"$f":"IF(J171=\"\",\"\",VLOOKUP(J171,HM!$A$10:$B$209,2))","v":""}]
[170,null,{"$f":"IF(B172=\"\",\"\",VLOOKUP(B172,HM!$A$10:$B$209,2))","v":""},null,170,null,{"$f":"IF(F172=\"\",\"\",VLOOKUP(F172,HM!$A$10:$B$209,2))","v":""},null,170,null,{"$f":"IF(J172=\"\",\"\",VLOOKUP(J172,HM!$A$10:$B$209,2))","v":""}]
[171,null,{"$f":"IF(B173=\"\",\"\",VLOOKUP(B173,HM!$A$10:$B$209,2))","v":""},null,171,null,{"$f":"IF(F173=\"\",\"\",VLOOKUP(F173,HM!$A$10:$B$209,2))","v":""},null,171,null,{"$f":"IF(J173=\"\",\"\",VLOOKUP(J173,HM!$A$10:$B$209,2))","v":""}]
[172,null,{"$f":"IF(B174=\"\",\"\",VLOOKUP(B174,HM!$A$10:$B$209,2))","v":""},null,172,null,{"$f":"IF(F174=\"\",\"\",VLOOKUP(F174,HM!$A$10:$B$209,2))","v":""},null,172,null,{"$f":"IF(J174=\"\",\"\",VLOOKUP(J174,HM!$A$10:$B$209,2))","v":""}]
[173,null,{"$f":"IF(B175=\"\",\"\",VLOOKUP(B175,HM!$A$10:$B$209,2))","v":""},null,173,null,{"$f":"IF(F175=\"\",\"\",VLOOKUP(F175,HM!$A$10:$B$209,2))","v":""},null,173,null,{"$f":"IF(J175=\"\",\"\",VLOOKUP(J175,HM!$A$10:$B$209,2))","v":""}]
[174,null,{"$f":"IF(B176=\"\",\"\",VLOOKUP(B176,HM!$A$10:$B$209,2))","v":""},null,174,null,{"$f":"IF(F176=\"\",\"\",VLOOKUP(F176,HM!$A$10:$B$209,2))","v":""},null,174,null,{"$f":"IF(J176=\"\",\"\",VLOOKUP(J176,HM!$A$10:$B$209,2))","v":""}]
[175,null,{"$f":"IF(B177=\"\",\"\",VLOOKUP(B177,HM!$A$10:$B$209,2))","v":""},null,175,null,{"$f":"IF(F177=\"\",\"\",VLOOKUP(F177,HM!$A$10:$B$209,2))","v":""},null,175,null,{"$f":"IF(J177=\"\",\"\",VLOOKUP(J177,HM!$A$10:$B$209,2))","v":""}]
[176,null,{"$f":"IF(B178=\"\",\"\",VLOOKUP(B178,HM!$A$10:$B$209,2))","v":""},null,176,null,{"$f":"IF(F178=\"\",\"\",VLOOKUP(F178,HM!$A$10:$B$209,2))","v":""},null,176,null,{"$f":"IF(J178=\"\",\"\",VLOOKUP(J178,HM!$A$10:$B$209,2))","v":""}]
[177,null,{"$f":"IF(B179=\"\",\"\",VLOOKUP(B179,HM!$A$10:$B$209,2))","v":""},null,177,null,{"$f":"IF(F179=\"\",\"\",VLOOKUP(F179,HM!$A$10:$B$209,2))","v":""},null,177,null,{"$f":"IF(J179=\"\",\"\",VLOOKUP(J179,HM!$A$10:$B$209,2))","v":""}]
[178,null,{"$f":"IF(B180=\"\",\"\",VLOOKUP(B180,HM!$A$10:$B$209,2))","v":""},null,178,null,{"$f":"IF(F180=\"\",\"\",VLOOKUP(F180,HM!$A$10:$B$209,2))","v":""},null,178,null,{"$f":"IF(J180=\"\",\"\",VLOOKUP(J180,HM!$A$10:$B$209,2))","v":""}]
[179,null,{"$f":"IF(B181=\"\",\"\",VLOOKUP(B181,HM!$A$10:$B$209,2))","v":""},null,179,null,{"$f":"IF(F181=\"\",\"\",VLOOKUP(F181,HM!$A$10:$B$209,2))","v":""},null,179,null,{"$f":"IF(J181=\"\",\"\",VLOOKUP(J181,HM!$A$10:$B$209,2))","v":""}]
[180,null,{"$f":"IF(B182=\"\",\"\",VLOOKUP(B182,HM!$A$10:$B$209,2))","v":""},null,180,null,{"$f":"IF(F182=\"\",\"\",VLOOKUP(F182,HM!$A$10:$B$209,2))","v":""},null,180,null,{"$f":"IF(J182=\"\",\"\",VLOOKUP(J182,HM!$A$10:$B$209,2))","v":""}]
[181,null,{"$f":"IF(B183=\"\",\"\",VLOOKUP(B183,HM!$A$10:$B$209,2))","v":""},null,181,null,{"$f":"IF(F183=\"\",\"\",VLOOKUP(F183,HM!$A$10:$B$209,2))","v":""},null,181,null,{"$f":"IF(J183=\"\",\"\",VLOOKUP(J183,HM!$A$10:$B$209,2))","v":""}]
[182,null,{"$f":"IF(B184=\"\",\"\",VLOOKUP(B184,HM!$A$10:$B$209,2))","v":""},null,182,null,{"$f":"IF(F184=\"\",\"\",VLOOKUP(F184,HM!$A$10:$B$209,2))","v":""},null,182,null,{"$f":"IF(J184=\"\",\"\",VLOOKUP(J184,HM!$A$10:$B$209,2))","v":""}]
[183,null,{"$f":"IF(B185=\"\",\"\",VLOOKUP(B185,HM!$A$10:$B$209,2))","v":""},null,183,null,{"$f":"IF(F185=\"\",\"\",VLOOKUP(F185,HM!$A$10:$B$209,2))","v":""},null,183,null,{"$f":"IF(J185=\"\",\"\",VLOOKUP(J185,HM!$A$10:$B$209,2))","v":""}]
[184,null,{"$f":"IF(B186=\"\",\"\",VLOOKUP(B186,HM!$A$10:$B$209,2))","v":""},null,184,null,{"$f":"IF(F186=\"\",\"\",VLOOKUP(F186,HM!$A$10:$B$209,2))","v":""},null,184,null,{"$f":"IF(J186=\"\",\"\",VLOOKUP(J186,HM!$A$10:$B$209,2))","v":""}]
[185,null,{"$f":"IF(B187=\"\",\"\",VLOOKUP(B187,HM!$A$10:$B$209,2))","v":""},null,185,null,{"$f":"IF(F187=\"\",\"\",VLOOKUP(F187,HM!$A$10:$B$209,2))","v":""},null,185,null,{"$f":"IF(J187=\"\",\"\",VLOOKUP(J187,HM!$A$10:$B$209,2))","v":""}]
[186,null,{"$f":"IF(B188=\"\",\"\",VLOOKUP(B188,HM!$A$10:$B$209,2))","v":""},null,186,null,{"$f":"IF(F188=\"\",\"\",VLOOKUP(F188,HM!$A$10:$B$209,2))","v":""},null,186,null,{"$f":"IF(J188=\"\",\"\",VLOOKUP(J188,HM!$A$10:$B$209,2))","v":""}]
[187,null,{"$f":"IF(B189=\"\",\"\",VLOOKUP(B189,HM!$A$10:$B$209,2))","v":""},null,187,null,{"$f":"IF(F189=\"\",\"\",VLOOKUP(F189,HM!$A$10:$B$209,2))","v":""},null,187,null,{"$f":"IF(J189=\"\",\"\",VLOOKUP(J189,HM!$A$10:$B$209,2))","v":""}]
[188,null,{"$f":"IF(B190=\"\",\"\",VLOOKUP(B190,HM!$A$10:$B$209,2))","v":""},null,188,null,{"$f":"IF(F190=\"\",\"\",VLOOKUP(F190,HM!$A$10:$B$209,2))","v":""},null,188,null,{"$f":"IF(J190=\"\",\"\",VLOOKUP(J190,HM!$A$10:$B$209,2))","v":""}]
[189,null,{"$f":"IF(B191=\"\",\"\",VLOOKUP(B191,HM!$A$10:$B$209,2))","v":""},null,189,null,{"$f":"IF(F191=\"\",\"\",VLOOKUP(F191,HM!$A$10:$B$209,2))","v":""},null,189,null,{"$f":"IF(J191=\"\",\"\",VLOOKUP(J191,HM!$A$10:$B$209,2))","v":""}]
[190,null,{"$f":"IF(B192=\"\",\"\",VLOOKUP(B192,HM!$A$10:$B$209,2))","v":""},null,190,null,{"$f":"IF(F192=\"\",\"\",VLOOKUP(F192,HM!$A$10:$B$209,2))","v":""},null,190,null,{"$f":"IF(J192=\"\",\"\",VLOOKUP(J192,HM!$A$10:$B$209,2))","v":""}]
[191,null,{"$f":"IF(B193=\"\",\"\",VLOOKUP(B193,HM!$A$10:$B$209,2))","v":""},null,191,null,{"$f":"IF(F193=\"\",\"\",VLOOKUP(F193,HM!$A$10:$B$209,2))","v":""},null,191,null,{"$f":"IF(J193=\"\",\"\",VLOOKUP(J193,HM!$A$10:$B$209,2))","v":""}]
[192,null,{"$f":"IF(B194=\"\",\"\",VLOOKUP(B194,HM!$A$10:$B$209,2))","v":""},null,192,null,{"$f":"IF(F194=\"\",\"\",VLOOKUP(F194,HM!$A$10:$B$209,2))","v":""},null,192,null,{"$f":"IF(J194=\"\",\"\",VLOOKUP(J194,HM!$A$10:$B$209,2))","v":""}]
[193,null,{"$f":"IF(B195=\"\",\"\",VLOOKUP(B195,HM!$A$10:$B$209,2))","v":""},null,193,null,{"$f":"IF(F195=\"\",\"\",VLOOKUP(F195,HM!$A$10:$B$209,2))","v":""},null,193,null,{"$f":"IF(J195=\"\",\"\",VLOOKUP(J195,HM!$A$10:$B$209,2))","v":""}]
[194,null,{"$f":"IF(B196=\"\",\"\",VLOOKUP(B196,HM!$A$10:$B$209,2))","v":""},null,194,null,{"$f":"IF(F196=\"\",\"\",VLOOKUP(F196,HM!$A$10:$B$209,2))","v":""},null,194,null,{"$f":"IF(J196=\"\",\"\",VLOOKUP(J196,HM!$A$10:$B$209,2))","v":""}]
[195,null,{"$f":"IF(B197=\"\",\"\",VLOOKUP(B197,HM!$A$10:$B$209,2))","v":""},null,195,null,{"$f":"IF(F197=\"\",\"\",VLOOKUP(F197,HM!$A$10:$B$209,2))","v":""},null,195,null,{"$f":"IF(J197=\"\",\"\",VLOOKUP(J197,HM!$A$10:$B$209,2))","v":""}]
[196,null,{"$f":"IF(B198=\"\",\"\",VLOOKUP(B198,HM!$A$10:$B$209,2))","v":""},null,196,null,{"$f":"IF(F198=\"\",\"\",VLOOKUP(F198,HM!$A$10:$B$209,2))","v":""},null,196,null,{"$f":"IF(J198=\"\",\"\",VLOOKUP(J198,HM!$A$10:$B$209,2))","v":""}]
[197,null,{"$f":"IF(B199=\"\",\"\",VLOOKUP(B199,HM!$A$10:$B$209,2))","v":""},null,197,null,{"$f":"IF(F199=\"\",\"\",VLOOKUP(F199,HM!$A$10:$B$209,2))","v":""},null,197,null,{"$f":"IF(J199=\"\",\"\",VLOOKUP(J199,HM!$A$10:$B$209,2))","v":""}]
[198,null,{"$f":"IF(B200=\"\",\"\",VLOOKUP(B200,HM!$A$10:$B$209,2))","v":""},null,198,null,{"$f":"IF(F200=\"\",\"\",VLOOKUP(F200,HM!$A$10:$B$209,2))","v":""},null,198,null,{"$f":"IF(J200=\"\",\"\",VLOOKUP(J200,HM!$A$10:$B$209,2))","v":""}]
[199,null,{"$f":"IF(B201=\"\",\"\",VLOOKUP(B201,HM!$A$10:$B$209,2))","v":""},null,199,null,{"$f":"IF(F201=\"\",\"\",VLOOKUP(F201,HM!$A$10:$B$209,2))","v":""},null,199,null,{"$f":"IF(J201=\"\",\"\",VLOOKUP(J201,HM!$A$10:$B$209,2))","v":""}]
[200,null,{"$f":"IF(B202=\"\",\"\",VLOOKUP(B202,HM!$A$10:$B$209,2))","v":""},null,200,null,{"$f":"IF(F202=\"\",\"\",VLOOKUP(F202,HM!$A$10:$B$209,2))","v":""},null,200,null,{"$f":"IF(J202=\"\",\"\",VLOOKUP(J202,HM!$A$10:$B$209,2))","v":""}]

{"sheet":"SSGP","index":7,"n_rows":202,"n_cols":8,"rows_kept":202,"cut":false,"hidden":false,"merged":[[0,1,0,3],[0,5,0,7]]}
[null,"Sauenschießen",null,null,null,"Glücks-\nPreisschießen"]
[null,"Lfd. \nNr.:","Vor- und Nachname:","Ringe",null,"Lfd. \nNr.:","Vor- und Nachname:","Überdeckung\nz.B. 1,5"]
[null,null,{"$f":"IF(B3=\"\",\"\",VLOOKUP(B3,HM!$A$10:$B$209,2))","v":""},null,1,null,{"$f":"IF(F3=\"\",\"\",VLOOKUP(F3,HM!$A$10:$B$209,2))","v":""}]
[null,null,{"$f":"IF(B4=\"\",\"\",VLOOKUP(B4,HM!$A$10:$B$209,2))","v":""},null,2,null,{"$f":"IF(F4=\"\",\"\",VLOOKUP(F4,HM!$A$10:$B$209,2))","v":""}]
[null,null,{"$f":"IF(B5=\"\",\"\",VLOOKUP(B5,HM!$A$10:$B$209,2))","v":""},null,3,null,{"$f":"IF(F5=\"\",\"\",VLOOKUP(F5,HM!$A$10:$B$209,2))","v":""}]
[null,null,{"$f":"IF(B6=\"\",\"\",VLOOKUP(B6,HM!$A$10:$B$209,2))","v":""},null,4,null,{"$f":"IF(F6=\"\",\"\",VLOOKUP(F6,HM!$A$10:$B$209,2))","v":""}]
[null,null,{"$f":"IF(B7=\"\",\"\",VLOOKUP(B7,HM!$A$10:$B$209,2))","v":""},null,5,null,{"$f":"IF(F7=\"\",\"\",VLOOKUP(F7,HM!$A$10:$B$209,2))","v":""}]
[null,null,{"$f":"IF(B8=\"\",\"\",VLOOKUP(B8,HM!$A$10:$B$209,2))","v":""},null,6,null,{"$f":"IF(F8=\"\",\"\",VLOOKUP(F8,HM!$A$10:$B$209,2))","v":""}]
[null,null,{"$f":"IF(B9=\"\",\"\",VLOOKUP(B9,HM!$A$10:$B$209,2))","v":""},null,7,null,{"$f":"IF(F9=\"\",\"\",VLOOKUP(F9,HM!$A$10:$B$209,2))","v":""}]
[null,null,{"$f":"IF(B10=\"\",\"\",VLOOKUP(B10,HM!$A$10:$B$209,2))","v":""},null,8,null,{"$f":"IF(F10=\"\",\"\",VLOOKUP(F10,HM!$A$10:$B$209,2))","v":""}]
[null,null,{"$f":"IF(B11=\"\",\"\",VLOOKUP(B11,HM!$A$10:$B$209,2))","v":""},null,9,null,{"$f":"IF(F11=\"\",\"\",VLOOKUP(F11,HM!$A$10:$B$209,2))","v":""}]
[null,null,{"$f":"IF(B12=\"\",\"\",VLOOKUP(B12,HM!$A$10:$B$209,2))","v":""},null,10,null,{"$f":"IF(F12=\"\",\"\",VLOOKUP(F12,HM!$A$10:$B$209,2))","v":""}]
[null,null,{"$f":"IF(B13=\"\",\"\",VLOOKUP(B13,HM!$A$10:$B$209,2))","v":""},null,11,null,{"$f":"IF(F13=\"\",\"\",VLOOKUP(F13,HM!$A$10:$B$209,2))","v":""}]
[null,null,{"$f":"IF(B14=\"\",\"\",VLOOKUP(B14,HM!$A$10:$B$209,2))","v":""},null,12,null,{"$f":"IF(F14=\"\",\"\",VLOOKUP(F14,HM!$A$10:$B$209,2))","v":""}]
[null,null,{"$f":"IF(B15=\"\",\"\",VLOOKUP(B15,HM!$A$10:$B$209,2))","v":""},null,13,null,{"$f":"IF(F15=\"\",\"\",VLOOKUP(F15,HM!$A$10:$B$209,2))","v":""}]
[null,null,{"$f":"IF(B16=\"\",\"\",VLOOKUP(B16,HM!$A$10:$B$209,2))","v":""},null,14,null,{"$f":"IF(F16=\"\",\"\",VLOOKUP(F16,HM!$A$10:$B$209,2))","v":""}]
[null,null,{"$f":"IF(B17=\"\",\"\",VLOOKUP(B17,HM!$A$10:$B$209,2))","v":""},null,15,null,{"$f":"IF(F17=\"\",\"\",VLOOKUP(F17,HM!$A$10:$B$209,2))","v":""}]
[null,null,{"$f":"IF(B18=\"\",\"\",VLOOKUP(B18,HM!$A$10:$B$209,2))","v":""},null,16,null,{"$f":"IF(F18=\"\",\"\",VLOOKUP(F18,HM!$A$10:$B$209,2))","v":""}]
[null,null,{"$f":"IF(B19=\"\",\"\",VLOOKUP(B19,HM!$A$10:$B$209,2))","v":""},null,17,null,{"$f":"IF(F19=\"\",\"\",VLOOKUP(F19,HM!$A$10:$B$209,2))","v":""}]
[null,null,{"$f":"IF(B20=\"\",\"\",VLOOKUP(B20,HM!$A$10:$B$209,2))","v":""},null,18,null,{"$f":"IF(F20=\"\",\"\",VLOOKUP(F20,HM!$A$10:$B$209,2))","v":""}]
[null,null,{"$f":"IF(B21=\"\",\"\",VLOOKUP(B21,HM!$A$10:$B$209,2))","v":""},null,19,null,{"$f":"IF(F21=\"\",\"\",VLOOKUP(F21,HM!$A$10:$B$209,2))","v":""}]
[null,null,{"$f":"IF(B22=\"\",\"\",VLOOKUP(B22,HM!$A$10:$B$209,2))","v":""},null,20,null,{"$f":"IF(F22=\"\",\"\",VLOOKUP(F22,HM!$A$10:$B$209,2))","v":""}]
[null,null,{"$f":"IF(B23=\"\",\"\",VLOOKUP(B23,HM!$A$10:$B$209,2))","v":""},null,21,null,{"$f":"IF(F23=\"\",\"\",VLOOKUP(F23,HM!$A$10:$B$209,2))","v":""}]
[null,null,{"$f":"IF(B24=\"\",\"\",VLOOKUP(B24,HM!$A$10:$B$209,2))","v":""},null,22,null,{"$f":"IF(F24=\"\",\"\",VLOOKUP(F24,HM!$A$10:$B$209,2))","v":""}]
[null,null,{"$f":"IF(B25=\"\",\"\",VLOOKUP(B25,HM!$A$10:$B$209,2))","v":""},null,23,null,{"$f":"IF(F25=\"\",\"\",VLOOKUP(F25,HM!$A$10:$B$209,2))","v":""}]
[null,null,{"$f":"IF(B26=\"\",\"\",VLOOKUP(B26,HM!$A$10:$B$209,2))","v":""},null,24,null,{"$f":"IF(F26=\"\",\"\",VLOOKUP(F26,HM!$A$10:$B$209,2))","v":""}]
[null,null,{"$f":"IF(B27=\"\",\"\",VLOOKUP(B27,HM!$A$10:$B$209,2))","v":""},null,25,null,{"$f":"IF(F27=\"\",\"\",VLOOKUP(F27,HM!$A$10:$B$209,2))","v":""}]
[null,null,{"$f":"IF(B28=\"\",\"\",VLOOKUP(B28,HM!$A$10:$B$209,2))","v":""},null,26,null,{"$f":"IF(F28=\"\",\"\",VLOOKUP(F28,HM!$A$10:$B$209,2))","v":""}]
[null,null,{"$f":"IF(B29=\"\",\"\",VLOOKUP(B29,HM!$A$10:$B$209,2))","v":""},null,27,null,{"$f":"IF(F29=\"\",\"\",VLOOKUP(F29,HM!$A$10:$B$209,2))","v":""}]
[null,null,{"$f":"IF(B30=\"\",\"\",VLOOKUP(B30,HM!$A$10:$B$209,2))","v":""},null,28,null,{"$f":"IF(F30=\"\",\"\",VLOOKUP(F30,HM!$A$10:$B$209,2))","v":""}]
[null,null,{"$f":"IF(B31=\"\",\"\",VLOOKUP(B31,HM!$A$10:$B$209,2))","v":""},null,29,null,{"$f":"IF(F31=\"\",\"\",VLOOKUP(F31,HM!$A$10:$B$209,2))","v":""}]
[null,null,{"$f":"IF(B32=\"\",\"\",VLOOKUP(B32,HM!$A$10:$B$209,2))","v":""},null,30,null,{"$f":"IF(F32=\"\",\"\",VLOOKUP(F32,HM!$A$10:$B$209,2))","v":""}]
[null,null,{"$f":"IF(B33=\"\",\"\",VLOOKUP(B33,HM!$A$10:$B$209,2))","v":""},null,31,null,{"$f":"IF(F33=\"\",\"\",VLOOKUP(F33,HM!$A$10:$B$209,2))","v":""}]
[null,null,{"$f":"IF(B34=\"\",\"\",VLOOKUP(B34,HM!$A$10:$B$209,2))","v":""},null,32,null,{"$f":"IF(F34=\"\",\"\",VLOOKUP(F34,HM!$A$10:$B$209,2))","v":""}]
[null,null,{"$f":"IF(B35=\"\",\"\",VLOOKUP(B35,HM!$A$10:$B$209,2))","v":""},null,33,null,{"$f":"IF(F35=\"\",\"\",VLOOKUP(F35,HM!$A$10:$B$209,2))","v":""}]
[null,null,{"$f":"IF(B36=\"\",\"\",VLOOKUP(B36,HM!$A$10:$B$209,2))","v":""},null,34,null,{"$f":"IF(F36=\"\",\"\",VLOOKUP(F36,HM!$A$10:$B$209,2))","v":""}]
[null,null,{"$f":"IF(B37=\"\",\"\",VLOOKUP(B37,HM!$A$10:$B$209,2))","v":""},null,35,null,{"$f":"IF(F37=\"\",\"\",VLOOKUP(F37,HM!$A$10:$B$209,2))","v":""}]
[null,null,{"$f":"IF(B38=\"\",\"\",VLOOKUP(B38,HM!$A$10:$B$209,2))","v":""},null,36,null,{"$f":"IF(F38=\"\",\"\",VLOOKUP(F38,HM!$A$10:$B$209,2))","v":""}]
[null,null,{"$f":"IF(B39=\"\",\"\",VLOOKUP(B39,HM!$A$10:$B$209,2))","v":""},null,37,null,{"$f":"IF(F39=\"\",\"\",VLOOKUP(F39,HM!$A$10:$B$209,2))","v":""}]
[null,null,{"$f":"IF(B40=\"\",\"\",VLOOKUP(B40,HM!$A$10:$B$209,2))","v":""},null,38,null,{"$f":"IF(F40=\"\",\"\",VLOOKUP(F40,HM!$A$10:$B$209,2))","v":""}]
[null,null,{"$f":"IF(B41=\"\",\"\",VLOOKUP(B41,HM!$A$10:$B$209,2))","v":""},null,39,null,{"$f":"IF(F41=\"\",\"\",VLOOKUP(F41,HM!$A$10:$B$209,2))","v":""}]
[null,null,{"$f":"IF(B42=\"\",\"\",VLOOKUP(B42,HM!$A$10:$B$209,2))","v":""},null,40,null,{"$f":"IF(F42=\"\",\"\",VLOOKUP(F42,HM!$A$10:$B$209,2))","v":""}]
[null,null,{"$f":"IF(B43=\"\",\"\",VLOOKUP(B43,HM!$A$10:$B$209,2))","v":""},null,41,null,{"$f":"IF(F43=\"\",\"\",VLOOKUP(F43,HM!$A$10:$B$209,2))","v":""}]
[null,null,{"$f":"IF(B44=\"\",\"\",VLOOKUP(B44,HM!$A$10:$B$209,2))","v":""},null,42,null,{"$f":"IF(F44=\"\",\"\",VLOOKUP(F44,HM!$A$10:$B$209,2))","v":""}]
[null,null,{"$f":"IF(B45=\"\",\"\",VLOOKUP(B45,HM!$A$10:$B$209,2))","v":""},null,43,null,{"$f":"IF(F45=\"\",\"\",VLOOKUP(F45,HM!$A$10:$B$209,2))","v":""}]
[null,null,{"$f":"IF(B46=\"\",\"\",VLOOKUP(B46,HM!$A$10:$B$209,2))","v":""},null,44,null,{"$f":"IF(F46=\"\",\"\",VLOOKUP(F46,HM!$A$10:$B$209,2))","v":""}]
[null,null,{"$f":"IF(B47=\"\",\"\",VLOOKUP(B47,HM!$A$10:$B$209,2))","v":""},null,45,null,{"$f":"IF(F47=\"\",\"\",VLOOKUP(F47,HM!$A$10:$B$209,2))","v":""}]
[null,null,{"$f":"IF(B48=\"\",\"\",VLOOKUP(B48,HM!$A$10:$B$209,2))","v":""},null,46,null,{"$f":"IF(F48=\"\",\"\",VLOOKUP(F48,HM!$A$10:$B$209,2))","v":""}]
[null,null,{"$f":"IF(B49=\"\",\"\",VLOOKUP(B49,HM!$A$10:$B$209,2))","v":""},null,47,null,{"$f":"IF(F49=\"\",\"\",VLOOKUP(F49,HM!$A$10:$B$209,2))","v":""}]
[null,null,{"$f":"IF(B50=\"\",\"\",VLOOKUP(B50,HM!$A$10:$B$209,2))","v":""},null,48,null,{"$f":"IF(F50=\"\",\"\",VLOOKUP(F50,HM!$A$10:$B$209,2))","v":""}]
[null,null,{"$f":"IF(B51=\"\",\"\",VLOOKUP(B51,HM!$A$10:$B$209,2))","v":""},null,49,null,{"$f":"IF(F51=\"\",\"\",VLOOKUP(F51,HM!$A$10:$B$209,2))","v":""}]
[null,null,{"$f":"IF(B52=\"\",\"\",VLOOKUP(B52,HM!$A$10:$B$209,2))","v":""},null,50,null,{"$f":"IF(F52=\"\",\"\",VLOOKUP(F52,HM!$A$10:$B$209,2))","v":""}]
[null,null,{"$f":"IF(B53=\"\",\"\",VLOOKUP(B53,HM!$A$10:$B$209,2))","v":""},null,51,null,{"$f":"IF(F53=\"\",\"\",VLOOKUP(F53,HM!$A$10:$B$209,2))","v":""}]
[null,null,{"$f":"IF(B54=\"\",\"\",VLOOKUP(B54,HM!$A$10:$B$209,2))","v":""},null,52,null,{"$f":"IF(F54=\"\",\"\",VLOOKUP(F54,HM!$A$10:$B$209,2))","v":""}]
[null,null,{"$f":"IF(B55=\"\",\"\",VLOOKUP(B55,HM!$A$10:$B$209,2))","v":""},null,53,null,{"$f":"IF(F55=\"\",\"\",VLOOKUP(F55,HM!$A$10:$B$209,2))","v":""}]
[null,null,{"$f":"IF(B56=\"\",\"\",VLOOKUP(B56,HM!$A$10:$B$209,2))","v":""},null,54,null,{"$f":"IF(F56=\"\",\"\",VLOOKUP(F56,HM!$A$10:$B$209,2))","v":""}]
[null,null,{"$f":"IF(B57=\"\",\"\",VLOOKUP(B57,HM!$A$10:$B$209,2))","v":""},null,55,null,{"$f":"IF(F57=\"\",\"\",VLOOKUP(F57,HM!$A$10:$B$209,2))","v":""}]
[null,null,{"$f":"IF(B58=\"\",\"\",VLOOKUP(B58,HM!$A$10:$B$209,2))","v":""},null,56,null,{"$f":"IF(F58=\"\",\"\",VLOOKUP(F58,HM!$A$10:$B$209,2))","v":""}]
[null,null,{"$f":"IF(B59=\"\",\"\",VLOOKUP(B59,HM!$A$10:$B$209,2))","v":""},null,57,null,{"$f":"IF(F59=\"\",\"\",VLOOKUP(F59,HM!$A$10:$B$209,2))","v":""}]
[null,null,{"$f":"IF(B60=\"\",\"\",VLOOKUP(B60,HM!$A$10:$B$209,2))","v":""},null,58,null,{"$f":"IF(F60=\"\",\"\",VLOOKUP(F60,HM!$A$10:$B$209,2))","v":""}]
[null,null,{"$f":"IF(B61=\"\",\"\",VLOOKUP(B61,HM!$A$10:$B$209,2))","v":""},null,59,null,{"$f":"IF(F61=\"\",\"\",VLOOKUP(F61,HM!$A$10:$B$209,2))","v":""}]
[null,null,{"$f":"IF(B62=\"\",\"\",VLOOKUP(B62,HM!$A$10:$B$209,2))","v":""},null,60,null,{"$f":"IF(F62=\"\",\"\",VLOOKUP(F62,HM!$A$10:$B$209,2))","v":""}]
[null,null,{"$f":"IF(B63=\"\",\"\",VLOOKUP(B63,HM!$A$10:$B$209,2))","v":""},null,61,null,{"$f":"IF(F63=\"\",\"\",VLOOKUP(F63,HM!$A$10:$B$209,2))","v":""}]
[null,null,{"$f":"IF(B64=\"\",\"\",VLOOKUP(B64,HM!$A$10:$B$209,2))","v":""},null,62,null,{"$f":"IF(F64=\"\",\"\",VLOOKUP(F64,HM!$A$10:$B$209,2))","v":""}]
[null,null,{"$f":"IF(B65=\"\",\"\",VLOOKUP(B65,HM!$A$10:$B$209,2))","v":""},null,63,null,{"$f":"IF(F65=\"\",\"\",VLOOKUP(F65,HM!$A$10:$B$209,2))","v":""}]
[null,null,{"$f":"IF(B66=\"\",\"\",VLOOKUP(B66,HM!$A$10:$B$209,2))","v":""},null,64,null,{"$f":"IF(F66=\"\",\"\",VLOOKUP(F66,HM!$A$10:$B$209,2))","v":""}]
[null,null,{"$f":"IF(B67=\"\",\"\",VLOOKUP(B67,HM!$A$10:$B$209,2))","v":""},null,65,null,{"$f":"IF(F67=\"\",\"\",VLOOKUP(F67,HM!$A$10:$B$209,2))","v":""}]
[null,null,{"$f":"IF(B68=\"\",\"\",VLOOKUP(B68,HM!$A$10:$B$209,2))","v":""},null,66,null,{"$f":"IF(F68=\"\",\"\",VLOOKUP(F68,HM!$A$10:$B$209,2))","v":""}]
[null,null,{"$f":"IF(B69=\"\",\"\",VLOOKUP(B69,HM!$A$10:$B$209,2))","v":""},null,67,null,{"$f":"IF(F69=\"\",\"\",VLOOKUP(F69,HM!$A$10:$B$209,2))","v":""}]
[null,null,{"$f":"IF(B70=\"\",\"\",VLOOKUP(B70,HM!$A$10:$B$209,2))","v":""},null,68,null,{"$f":"IF(F70=\"\",\"\",VLOOKUP(F70,HM!$A$10:$B$209,2))","v":""}]
[null,null,{"$f":"IF(B71=\"\",\"\",VLOOKUP(B71,HM!$A$10:$B$209,2))","v":""},null,69,null,{"$f":"IF(F71=\"\",\"\",VLOOKUP(F71,HM!$A$10:$B$209,2))","v":""}]
[null,null,{"$f":"IF(B72=\"\",\"\",VLOOKUP(B72,HM!$A$10:$B$209,2))","v":""},null,70,null,{"$f":"IF(F72=\"\",\"\",VLOOKUP(F72,HM!$A$10:$B$209,2))","v":""}]
[null,null,{"$f":"IF(B73=\"\",\"\",VLOOKUP(B73,HM!$A$10:$B$209,2))","v":""},null,71,null,{"$f":"IF(F73=\"\",\"\",VLOOKUP(F73,HM!$A$10:$B$209,2))","v":""}]
[null,null,{"$f":"IF(B74=\"\",\"\",VLOOKUP(B74,HM!$A$10:$B$209,2))","v":""},null,72,null,{"$f":"IF(F74=\"\",\"\",VLOOKUP(F74,HM!$A$10:$B$209,2))","v":""}]
[null,null,{"$f":"IF(B75=\"\",\"\",VLOOKUP(B75,HM!$A$10:$B$209,2))","v":""},null,73,null,{"$f":"IF(F75=\"\",\"\",VLOOKUP(F75,HM!$A$10:$B$209,2))","v":""}]
[null,null,{"$f":"IF(B76=\"\",\"\",VLOOKUP(B76,HM!$A$10:$B$209,2))","v":""},null,74,null,{"$f":"IF(F76=\"\",\"\",VLOOKUP(F76,HM!$A$10:$B$209,2))","v":""}]
[null,null,{"$f":"IF(B77=\"\",\"\",VLOOKUP(B77,HM!$A$10:$B$209,2))","v":""},null,75,null,{"$f":"IF(F77=\"\",\"\",VLOOKUP(F77,HM!$A$10:$B$209,2))","v":""}]
[null,null,{"$f":"IF(B78=\"\",\"\",VLOOKUP(B78,HM!$A$10:$B$209,2))","v":""},null,76,null,{"$f":"IF(F78=\"\",\"\",VLOOKUP(F78,HM!$A$10:$B$209,2))","v":""}]
[null,null,{"$f":"IF(B79=\"\",\"\",VLOOKUP(B79,HM!$A$10:$B$209,2))","v":""},null,77,null,{"$f":"IF(F79=\"\",\"\",VLOOKUP(F79,HM!$A$10:$B$209,2))","v":""}]
[null,null,{"$f":"IF(B80=\"\",\"\",VLOOKUP(B80,HM!$A$10:$B$209,2))","v":""},null,78,null,{"$f":"IF(F80=\"\",\"\",VLOOKUP(F80,HM!$A$10:$B$209,2))","v":""}]
[null,null,{"$f":"IF(B81=\"\",\"\",VLOOKUP(B81,HM!$A$10:$B$209,2))","v":""},null,79,null,{"$f":"IF(F81=\"\",\"\",VLOOKUP(F81,HM!$A$10:$B$209,2))","v":""}]
[null,null,{"$f":"IF(B82=\"\",\"\",VLOOKUP(B82,HM!$A$10:$B$209,2))","v":""},null,80,null,{"$f":"IF(F82=\"\",\"\",VLOOKUP(F82,HM!$A$10:$B$209,2))","v":""}]
[null,null,{"$f":"IF(B83=\"\",\"\",VLOOKUP(B83,HM!$A$10:$B$209,2))","v":""},null,81,null,{"$f":"IF(F83=\"\",\"\",VLOOKUP(F83,HM!$A$10:$B$209,2))","v":""}]
[null,null,{"$f":"IF(B84=\"\",\"\",VLOOKUP(B84,HM!$A$10:$B$209,2))","v":""},null,82,null,{"$f":"IF(F84=\"\",\"\",VLOOKUP(F84,HM!$A$10:$B$209,2))","v":""}]
[null,null,{"$f":"IF(B85=\"\",\"\",VLOOKUP(B85,HM!$A$10:$B$209,2))","v":""},null,83,null,{"$f":"IF(F85=\"\",\"\",VLOOKUP(F85,HM!$A$10:$B$209,2))","v":""}]
[null,null,{"$f":"IF(B86=\"\",\"\",VLOOKUP(B86,HM!$A$10:$B$209,2))","v":""},null,84,null,{"$f":"IF(F86=\"\",\"\",VLOOKUP(F86,HM!$A$10:$B$209,2))","v":""}]
[null,null,{"$f":"IF(B87=\"\",\"\",VLOOKUP(B87,HM!$A$10:$B$209,2))","v":""},null,85,null,{"$f":"IF(F87=\"\",\"\",VLOOKUP(F87,HM!$A$10:$B$209,2))","v":""}]
[null,null,{"$f":"IF(B88=\"\",\"\",VLOOKUP(B88,HM!$A$10:$B$209,2))","v":""},null,86,null,{"$f":"IF(F88=\"\",\"\",VLOOKUP(F88,HM!$A$10:$B$209,2))","v":""}]
[null,null,{"$f":"IF(B89=\"\",\"\",VLOOKUP(B89,HM!$A$10:$B$209,2))","v":""},null,87,null,{"$f":"IF(F89=\"\",\"\",VLOOKUP(F89,HM!$A$10:$B$209,2))","v":""}]
[null,null,{"$f":"IF(B90=\"\",\"\",VLOOKUP(B90,HM!$A$10:$B$209,2))","v":""},null,88,null,{"$f":"IF(F90=\"\",\"\",VLOOKUP(F90,HM!$A$10:$B$209,2))","v":""}]
[null,null,{"$f":"IF(B91=\"\",\"\",VLOOKUP(B91,HM!$A$10:$B$209,2))","v":""},null,89,null,{"$f":"IF(F91=\"\",\"\",VLOOKUP(F91,HM!$A$10:$B$209,2))","v":""}]
[null,null,{"$f":"IF(B92=\"\",\"\",VLOOKUP(B92,HM!$A$10:$B$209,2))","v":""},null,90,null,{"$f":"IF(F92=\"\",\"\",VLOOKUP(F92,HM!$A$10:$B$209,2))","v":""}]
[null,null,{"$f":"IF(B93=\"\",\"\",VLOOKUP(B93,HM!$A$10:$B$209,2))","v":""},null,91,null,{"$f":"IF(F93=\"\",\"\",VLOOKUP(F93,HM!$A$10:$B$209,2))","v":""}]
[null,null,{"$f":"IF(B94=\"\",\"\",VLOOKUP(B94,HM!$A$10:$B$209,2))","v":""},null,92,null,{"$f":"IF(F94=\"\",\"\",VLOOKUP(F94,HM!$A$10:$B$209,2))","v":""}]
[null,null,{"$f":"IF(B95=\"\",\"\",VLOOKUP(B95,HM!$A$10:$B$209,2))","v":""},null,93,null,{"$f":"IF(F95=\"\",\"\",VLOOKUP(F95,HM!$A$10:$B$209,2))","v":""}]
[null,null,{"$f":"IF(B96=\"\",\"\",VLOOKUP(B96,HM!$A$10:$B$209,2))","v":""},null,94,null,{"$f":"IF(F96=\"\",\"\",VLOOKUP(F96,HM!$A$10:$B$209,2))","v":""}]
[null,null,{"$f":"IF(B97=\"\",\"\",VLOOKUP(B97,HM!$A$10:$B$209,2))","v":""},null,95,null,{"$f":"IF(F97=\"\",\"\",VLOOKUP(F97,HM!$A$10:$B$209,2))","v":""}]
[null,null,{"$f":"IF(B98=\"\",\"\",VLOOKUP(B98,HM!$A$10:$B$209,2))","v":""},null,96,null,{"$f":"IF(F98=\"\",\"\",VLOOKUP(F98,HM!$A$10:$B$209,2))","v":""}]
[null,null,{"$f":"IF(B99=\"\",\"\",VLOOKUP(B99,HM!$A$10:$B$209,2))","v":""},null,97,null,{"$f":"IF(F99=\"\",\"\",VLOOKUP(F99,HM!$A$10:$B$209,2))","v":""}]
[null,null,{"$f":"IF(B100=\"\",\"\",VLOOKUP(B100,HM!$A$10:$B$209,2))","v":""},null,98,null,{"$f":"IF(F100=\"\",\"\",VLOOKUP(F100,HM!$A$10:$B$209,2))","v":""}]
[null,null,{"$f":"IF(B101=\"\",\"\",VLOOKUP(B101,HM!$A$10:$B$209,2))","v":""},null,99,null,{"$f":"IF(F101=\"\",\"\",VLOOKUP(F101,HM!$A$10:$B$209,2))","v":""}]
[null,null,{"$f":"IF(B102=\"\",\"\",VLOOKUP(B102,HM!$A$10:$B$209,2))","v":""},null,100,null,{"$f":"IF(F102=\"\",\"\",VLOOKUP(F102,HM!$A$10:$B$209,2))","v":""}]
[null,null,{"$f":"IF(B103=\"\",\"\",VLOOKUP(B103,HM!$A$10:$B$209,2))","v":""},null,101,null,{"$f":"IF(F103=\"\",\"\",VLOOKUP(F103,HM!$A$10:$B$209,2))","v":""}]
[null,null,{"$f":"IF(B104=\"\",\"\",VLOOKUP(B104,HM!$A$10:$B$209,2))","v":""},null,102,null,{"$f":"IF(F104=\"\",\"\",VLOOKUP(F104,HM!$A$10:$B$209,2))","v":""}]
[null,null,{"$f":"IF(B105=\"\",\"\",VLOOKUP(B105,HM!$A$10:$B$209,2))","v":""},null,103,null,{"$f":"IF(F105=\"\",\"\",VLOOKUP(F105,HM!$A$10:$B$209,2))","v":""}]
[null,null,{"$f":"IF(B106=\"\",\"\",VLOOKUP(B106,HM!$A$10:$B$209,2))","v":""},null,104,null,{"$f":"IF(F106=\"\",\"\",VLOOKUP(F106,HM!$A$10:$B$209,2))","v":""}]
[null,null,{"$f":"IF(B107=\"\",\"\",VLOOKUP(B107,HM!$A$10:$B$209,2))","v":""},null,105,null,{"$f":"IF(F107=\"\",\"\",VLOOKUP(F107,HM!$A$10:$B$209,2))","v":""}]
[null,null,{"$f":"IF(B108=\"\",\"\",VLOOKUP(B108,HM!$A$10:$B$209,2))","v":""},null,106,null,{"$f":"IF(F108=\"\",\"\",VLOOKUP(F108,HM!$A$10:$B$209,2))","v":""}]
[null,null,{"$f":"IF(B109=\"\",\"\",VLOOKUP(B109,HM!$A$10:$B$209,2))","v":""},null,107,null,{"$f":"IF(F109=\"\",\"\",VLOOKUP(F109,HM!$A$10:$B$209,2))","v":""}]
[null,null,{"$f":"IF(B110=\"\",\"\",VLOOKUP(B110,HM!$A$10:$B$209,2))","v":""},null,108,null,{"$f":"IF(F110=\"\",\"\",VLOOKUP(F110,HM!$A$10:$B$209,2))","v":""}]
[null,null,{"$f":"IF(B111=\"\",\"\",VLOOKUP(B111,HM!$A$10:$B$209,2))","v":""},null,109,null,{"$f":"IF(F111=\"\",\"\",VLOOKUP(F111,HM!$A$10:$B$209,2))","v":""}]
[null,null,{"$f":"IF(B112=\"\",\"\",VLOOKUP(B112,HM!$A$10:$B$209,2))","v":""},null,110,null,{"$f":"IF(F112=\"\",\"\",VLOOKUP(F112,HM!$A$10:$B$209,2))","v":""}]
[null,null,{"$f":"IF(B113=\"\",\"\",VLOOKUP(B113,HM!$A$10:$B$209,2))","v":""},null,111,null,{"$f":"IF(F113=\"\",\"\",VLOOKUP(F113,HM!$A$10:$B$209,2))","v":""}]
[null,null,{"$f":"IF(B114=\"\",\"\",VLOOKUP(B114,HM!$A$10:$B$209,2))","v":""},null,112,null,{"$f":"IF(F114=\"\",\"\",VLOOKUP(F114,HM!$A$10:$B$209,2))","v":""}]
[null,null,{"$f":"IF(B115=\"\",\"\",VLOOKUP(B115,HM!$A$10:$B$209,2))","v":""},null,113,null,{"$f":"IF(F115=\"\",\"\",VLOOKUP(F115,HM!$A$10:$B$209,2))","v":""}]
[null,null,{"$f":"IF(B116=\"\",\"\",VLOOKUP(B116,HM!$A$10:$B$209,2))","v":""},null,114,null,{"$f":"IF(F116=\"\",\"\",VLOOKUP(F116,HM!$A$10:$B$209,2))","v":""}]
[null,null,{"$f":"IF(B117=\"\",\"\",VLOOKUP(B117,HM!$A$10:$B$209,2))","v":""},null,115,null,{"$f":"IF(F117=\"\",\"\",VLOOKUP(F117,HM!$A$10:$B$209,2))","v":""}]
[null,null,{"$f":"IF(B118=\"\",\"\",VLOOKUP(B118,HM!$A$10:$B$209,2))","v":""},null,116,null,{"$f":"IF(F118=\"\",\"\",VLOOKUP(F118,HM!$A$10:$B$209,2))","v":""}]
[null,null,{"$f":"IF(B119=\"\",\"\",VLOOKUP(B119,HM!$A$10:$B$209,2))","v":""},null,117,null,{"$f":"IF(F119=\"\",\"\",VLOOKUP(F119,HM!$A$10:$B$209,2))","v":""}]
[null,null,{"$f":"IF(B120=\"\",\"\",VLOOKUP(B120,HM!$A$10:$B$209,2))","v":""},null,118,null,{"$f":"IF(F120=\"\",\"\",VLOOKUP(F120,HM!$A$10:$B$209,2))","v":""}]
[null,null,{"$f":"IF(B121=\"\",\"\",VLOOKUP(B121,HM!$A$10:$B$209,2))","v":""},null,119,null,{"$f":"IF(F121=\"\",\"\",VLOOKUP(F121,HM!$A$10:$B$209,2))","v":""}]
[null,null,{"$f":"IF(B122=\"\",\"\",VLOOKUP(B122,HM!$A$10:$B$209,2))","v":""},null,120,null,{"$f":"IF(F122=\"\",\"\",VLOOKUP(F122,HM!$A$10:$B$209,2))","v":""}]
[null,null,{"$f":"IF(B123=\"\",\"\",VLOOKUP(B123,HM!$A$10:$B$209,2))","v":""},null,121,null,{"$f":"IF(F123=\"\",\"\",VLOOKUP(F123,HM!$A$10:$B$209,2))","v":""}]
[null,null,{"$f":"IF(B124=\"\",\"\",VLOOKUP(B124,HM!$A$10:$B$209,2))","v":""},null,122,null,{"$f":"IF(F124=\"\",\"\",VLOOKUP(F124,HM!$A$10:$B$209,2))","v":""}]
[null,null,{"$f":"IF(B125=\"\",\"\",VLOOKUP(B125,HM!$A$10:$B$209,2))","v":""},null,123,null,{"$f":"IF(F125=\"\",\"\",VLOOKUP(F125,HM!$A$10:$B$209,2))","v":""}]
[null,null,{"$f":"IF(B126=\"\",\"\",VLOOKUP(B126,HM!$A$10:$B$209,2))","v":""},null,124,null,{"$f":"IF(F126=\"\",\"\",VLOOKUP(F126,HM!$A$10:$B$209,2))","v":""}]
[null,null,{"$f":"IF(B127=\"\",\"\",VLOOKUP(B127,HM!$A$10:$B$209,2))","v":""},null,125,null,{"$f":"IF(F127=\"\",\"\",VLOOKUP(F127,HM!$A$10:$B$209,2))","v":""}]
[null,null,{"$f":"IF(B128=\"\",\"\",VLOOKUP(B128,HM!$A$10:$B$209,2))","v":""},null,126,null,{"$f":"IF(F128=\"\",\"\",VLOOKUP(F128,HM!$A$10:$B$209,2))","v":""}]
[null,null,{"$f":"IF(B129=\"\",\"\",VLOOKUP(B129,HM!$A$10:$B$209,2))","v":""},null,127,null,{"$f":"IF(F129=\"\",\"\",VLOOKUP(F129,HM!$A$10:$B$209,2))","v":""}]
[null,null,{"$f":"IF(B130=\"\",\"\",VLOOKUP(B130,HM!$A$10:$B$209,2))","v":""},null,128,null,{"$f":"IF(F130=\"\",\"\",VLOOKUP(F130,HM!$A$10:$B$209,2))","v":""}]
[null,null,{"$f":"IF(B131=\"\",\"\",VLOOKUP(B131,HM!$A$10:$B$209,2))","v":""},null,129,null,{"$f":"IF(F131=\"\",\"\",VLOOKUP(F131,HM!$A$10:$B$209,2))","v":""}]
[null,null,{"$f":"IF(B132=\"\",\"\",VLOOKUP(B132,HM!$A$10:$B$209,2))","v":""},null,130,null,{"$f":"IF(F132=\"\",\"\",VLOOKUP(F132,HM!$A$10:$B$209,2))","v":""}]
[null,null,{"$f":"IF(B133=\"\",\"\",VLOOKUP(B133,HM!$A$10:$B$209,2))","v":""},null,131,null,{"$f":"IF(F133=\"\",\"\",VLOOKUP(F133,HM!$A$10:$B$209,2))","v":""}]
[null,null,{"$f":"IF(B134=\"\",\"\",VLOOKUP(B134,HM!$A$10:$B$209,2))","v":""},null,132,null,{"$f":"IF(F134=\"\",\"\",VLOOKUP(F134,HM!$A$10:$B$209,2))","v":""}]
[null,null,{"$f":"IF(B135=\"\",\"\",VLOOKUP(B135,HM!$A$10:$B$209,2))","v":""},null,133,null,{"$f":"IF(F135=\"\",\"\",VLOOKUP(F135,HM!$A$10:$B$209,2))","v":""}]
[null,null,{"$f":"IF(B136=\"\",\"\",VLOOKUP(B136,HM!$A$10:$B$209,2))","v":""},null,134,null,{"$f":"IF(F136=\"\",\"\",VLOOKUP(F136,HM!$A$10:$B$209,2))","v":""}]
[null,null,{"$f":"IF(B137=\"\",\"\",VLOOKUP(B137,HM!$A$10:$B$209,2))","v":""},null,135,null,{"$f":"IF(F137=\"\",\"\",VLOOKUP(F137,HM!$A$10:$B$209,2))","v":""}]
[null,null,{"$f":"IF(B138=\"\",\"\",VLOOKUP(B138,HM!$A$10:$B$209,2))","v":""},null,136,null,{"$f":"IF(F138=\"\",\"\",VLOOKUP(F138,HM!$A$10:$B$209,2))","v":""}]
[null,null,{"$f":"IF(B139=\"\",\"\",VLOOKUP(B139,HM!$A$10:$B$209,2))","v":""},null,137,null,{"$f":"IF(F139=\"\",\"\",VLOOKUP(F139,HM!$A$10:$B$209,2))","v":""}]
[null,null,{"$f":"IF(B140=\"\",\"\",VLOOKUP(B140,HM!$A$10:$B$209,2))","v":""},null,138,null,{"$f":"IF(F140=\"\",\"\",VLOOKUP(F140,HM!$A$10:$B$209,2))","v":""}]
[null,null,{"$f":"IF(B141=\"\",\"\",VLOOKUP(B141,HM!$A$10:$B$209,2))","v":""},null,139,null,{"$f":"IF(F141=\"\",\"\",VLOOKUP(F141,HM!$A$10:$B$209,2))","v":""}]
[null,null,{"$f":"IF(B142=\"\",\"\",VLOOKUP(B142,HM!$A$10:$B$209,2))","v":""},null,140,null,{"$f":"IF(F142=\"\",\"\",VLOOKUP(F142,HM!$A$10:$B$209,2))","v":""}]
[null,null,{"$f":"IF(B143=\"\",\"\",VLOOKUP(B143,HM!$A$10:$B$209,2))","v":""},null,141,null,{"$f":"IF(F143=\"\",\"\",VLOOKUP(F143,HM!$A$10:$B$209,2))","v":""}]
[null,null,{"$f":"IF(B144=\"\",\"\",VLOOKUP(B144,HM!$A$10:$B$209,2))","v":""},null,142,null,{"$f":"IF(F144=\"\",\"\",VLOOKUP(F144,HM!$A$10:$B$209,2))","v":""}]
[null,null,{"$f":"IF(B145=\"\",\"\",VLOOKUP(B145,HM!$A$10:$B$209,2))","v":""},null,143,null,{"$f":"IF(F145=\"\",\"\",VLOOKUP(F145,HM!$A$10:$B$209,2))","v":""}]
[null,null,{"$f":"IF(B146=\"\",\"\",VLOOKUP(B146,HM!$A$10:$B$209,2))","v":""},null,144,null,{"$f":"IF(F146=\"\",\"\",VLOOKUP(F146,HM!$A$10:$B$209,2))","v":""}]
[null,null,{"$f":"IF(B147=\"\",\"\",VLOOKUP(B147,HM!$A$10:$B$209,2))","v":""},null,145,null,{"$f":"IF(F147=\"\",\"\",VLOOKUP(F147,HM!$A$10:$B$209,2))","v":""}]
[null,null,{"$f":"IF(B148=\"\",\"\",VLOOKUP(B148,HM!$A$10:$B$209,2))","v":""},null,146,null,{"$f":"IF(F148=\"\",\"\",VLOOKUP(F148,HM!$A$10:$B$209,2))","v":""}]
[null,null,{"$f":"IF(B149=\"\",\"\",VLOOKUP(B149,HM!$A$10:$B$209,2))","v":""},null,147,null,{"$f":"IF(F149=\"\",\"\",VLOOKUP(F149,HM!$A$10:$B$209,2))","v":""}]
[null,null,{"$f":"IF(B150=\"\",\"\",VLOOKUP(B150,HM!$A$10:$B$209,2))","v":""},null,148,null,{"$f":"IF(F150=\"\",\"\",VLOOKUP(F150,HM!$A$10:$B$209,2))","v":""}]
[null,null,{"$f":"IF(B151=\"\",\"\",VLOOKUP(B151,HM!$A$10:$B$209,2))","v":""},null,149,null,{"$f":"IF(F151=\"\",\"\",VLOOKUP(F151,HM!$A$10:$B$209,2))","v":""}]
[null,null,{"$f":"IF(B152=\"\",\"\",VLOOKUP(B152,HM!$A$10:$B$209,2))","v":""},null,150,null,{"$f":"IF(F152=\"\",\"\",VLOOKUP(F152,HM!$A$10:$B$209,2))","v":""}]
[null,null,{"$f":"IF(B153=\"\",\"\",VLOOKUP(B153,HM!$A$10:$B$209,2))","v":""},null,151,null,{"$f":"IF(F153=\"\",\"\",VLOOKUP(F153,HM!$A$10:$B$209,2))","v":""}]
[null,null,{"$f":"IF(B154=\"\",\"\",VLOOKUP(B154,HM!$A$10:$B$209,2))","v":""},null,152,null,{"$f":"IF(F154=\"\",\"\",VLOOKUP(F154,HM!$A$10:$B$209,2))","v":""}]
[null,null,{"$f":"IF(B155=\"\",\"\",VLOOKUP(B155,HM!$A$10:$B$209,2))","v":""},null,153,null,{"$f":"IF(F155=\"\",\"\",VLOOKUP(F155,HM!$A$10:$B$209,2))","v":""}]
[null,null,{"$f":"IF(B156=\"\",\"\",VLOOKUP(B156,HM!$A$10:$B$209,2))","v":""},null,154,null,{"$f":"IF(F156=\"\",\"\",VLOOKUP(F156,HM!$A$10:$B$209,2))","v":""}]
[null,null,{"$f":"IF(B157=\"\",\"\",VLOOKUP(B157,HM!$A$10:$B$209,2))","v":""},null,155,null,{"$f":"IF(F157=\"\",\"\",VLOOKUP(F157,HM!$A$10:$B$209,2))","v":""}]
[null,null,{"$f":"IF(B158=\"\",\"\",VLOOKUP(B158,HM!$A$10:$B$209,2))","v":""},null,156,null,{"$f":"IF(F158=\"\",\"\",VLOOKUP(F158,HM!$A$10:$B$209,2))","v":""}]
[null,null,{"$f":"IF(B159=\"\",\"\",VLOOKUP(B159,HM!$A$10:$B$209,2))","v":""},null,157,null,{"$f":"IF(F159=\"\",\"\",VLOOKUP(F159,HM!$A$10:$B$209,2))","v":""}]
[null,null,{"$f":"IF(B160=\"\",\"\",VLOOKUP(B160,HM!$A$10:$B$209,2))","v":""},null,158,null,{"$f":"IF(F160=\"\",\"\",VLOOKUP(F160,HM!$A$10:$B$209,2))","v":""}]
[null,null,{"$f":"IF(B161=\"\",\"\",VLOOKUP(B161,HM!$A$10:$B$209,2))","v":""},null,159,null,{"$f":"IF(F161=\"\",\"\",VLOOKUP(F161,HM!$A$10:$B$209,2))","v":""}]
[null,null,{"$f":"IF(B162=\"\",\"\",VLOOKUP(B162,HM!$A$10:$B$209,2))","v":""},null,160,null,{"$f":"IF(F162=\"\",\"\",VLOOKUP(F162,HM!$A$10:$B$209,2))","v":""}]
[null,null,{"$f":"IF(B163=\"\",\"\",VLOOKUP(B163,HM!$A$10:$B$209,2))","v":""},null,161,null,{"$f":"IF(F163=\"\",\"\",VLOOKUP(F163,HM!$A$10:$B$209,2))","v":""}]
[null,null,{"$f":"IF(B164=\"\",\"\",VLOOKUP(B164,HM!$A$10:$B$209,2))","v":""},null,162,null,{"$f":"IF(F164=\"\",\"\",VLOOKUP(F164,HM!$A$10:$B$209,2))","v":""}]
[null,null,{"$f":"IF(B165=\"\",\"\",VLOOKUP(B165,HM!$A$10:$B$209,2))","v":""},null,163,null,{"$f":"IF(F165=\"\",\"\",VLOOKUP(F165,HM!$A$10:$B$209,2))","v":""}]
[null,null,{"$f":"IF(B166=\"\",\"\",VLOOKUP(B166,HM!$A$10:$B$209,2))","v":""},null,164,null,{"$f":"IF(F166=\"\",\"\",VLOOKUP(F166,HM!$A$10:$B$209,2))","v":""}]
[null,null,{"$f":"IF(B167=\"\",\"\",VLOOKUP(B167,HM!$A$10:$B$209,2))","v":""},null,165,null,{"$f":"IF(F167=\"\",\"\",VLOOKUP(F167,HM!$A$10:$B$209,2))","v":""}]
[null,null,{"$f":"IF(B168=\"\",\"\",VLOOKUP(B168,HM!$A$10:$B$209,2))","v":""},null,166,null,{"$f":"IF(F168=\"\",\"\",VLOOKUP(F168,HM!$A$10:$B$209,2))","v":""}]
[null,null,{"$f":"IF(B169=\"\",\"\",VLOOKUP(B169,HM!$A$10:$B$209,2))","v":""},null,167,null,{"$f":"IF(F169=\"\",\"\",VLOOKUP(F169,HM!$A$10:$B$209,2))","v":""}]
[null,null,{"$f":"IF(B170=\"\",\"\",VLOOKUP(B170,HM!$A$10:$B$209,2))","v":""},null,168,null,{"$f":"IF(F170=\"\",\"\",VLOOKUP(F170,HM!$A$10:$B$209,2))","v":""}]
[null,null,{"$f":"IF(B171=\"\",\"\",VLOOKUP(B171,HM!$A$10:$B$209,2))","v":""},null,169,null,{"$f":"IF(F171=\"\",\"\",VLOOKUP(F171,HM!$A$10:$B$209,2))","v":""}]
[null,null,{"$f":"IF(B172=\"\",\"\",VLOOKUP(B172,HM!$A$10:$B$209,2))","v":""},null,170,null,{"$f":"IF(F172=\"\",\"\",VLOOKUP(F172,HM!$A$10:$B$209,2))","v":""}]
[null,null,{"$f":"IF(B173=\"\",\"\",VLOOKUP(B173,HM!$A$10:$B$209,2))","v":""},null,171,null,{"$f":"IF(F173=\"\",\"\",VLOOKUP(F173,HM!$A$10:$B$209,2))","v":""}]
[null,null,{"$f":"IF(B174=\"\",\"\",VLOOKUP(B174,HM!$A$10:$B$209,2))","v":""},null,172,null,{"$f":"IF(F174=\"\",\"\",VLOOKUP(F174,HM!$A$10:$B$209,2))","v":""}]
[null,null,{"$f":"IF(B175=\"\",\"\",VLOOKUP(B175,HM!$A$10:$B$209,2))","v":""},null,173,null,{"$f":"IF(F175=\"\",\"\",VLOOKUP(F175,HM!$A$10:$B$209,2))","v":""}]
[null,null,{"$f":"IF(B176=\"\",\"\",VLOOKUP(B176,HM!$A$10:$B$209,2))","v":""},null,174,null,{"$f":"IF(F176=\"\",\"\",VLOOKUP(F176,HM!$A$10:$B$209,2))","v":""}]
[null,null,{"$f":"IF(B177=\"\",\"\",VLOOKUP(B177,HM!$A$10:$B$209,2))","v":""},null,175,null,{"$f":"IF(F177=\"\",\"\",VLOOKUP(F177,HM!$A$10:$B$209,2))","v":""}]
[null,null,{"$f":"IF(B178=\"\",\"\",VLOOKUP(B178,HM!$A$10:$B$209,2))","v":""},null,176,null,{"$f":"IF(F178=\"\",\"\",VLOOKUP(F178,HM!$A$10:$B$209,2))","v":""}]
[null,null,{"$f":"IF(B179=\"\",\"\",VLOOKUP(B179,HM!$A$10:$B$209,2))","v":""},null,177,null,{"$f":"IF(F179=\"\",\"\",VLOOKUP(F179,HM!$A$10:$B$209,2))","v":""}]
[null,null,{"$f":"IF(B180=\"\",\"\",VLOOKUP(B180,HM!$A$10:$B$209,2))","v":""},null,178,null,{"$f":"IF(F180=\"\",\"\",VLOOKUP(F180,HM!$A$10:$B$209,2))","v":""}]
[null,null,{"$f":"IF(B181=\"\",\"\",VLOOKUP(B181,HM!$A$10:$B$209,2))","v":""},null,179,null,{"$f":"IF(F181=\"\",\"\",VLOOKUP(F181,HM!$A$10:$B$209,2))","v":""}]
[null,null,{"$f":"IF(B182=\"\",\"\",VLOOKUP(B182,HM!$A$10:$B$209,2))","v":""},null,180,null,{"$f":"IF(F182=\"\",\"\",VLOOKUP(F182,HM!$A$10:$B$209,2))","v":""}]
[null,null,{"$f":"IF(B183=\"\",\"\",VLOOKUP(B183,HM!$A$10:$B$209,2))","v":""},null,181,null,{"$f":"IF(F183=\"\",\"\",VLOOKUP(F183,HM!$A$10:$B$209,2))","v":""}]
[null,null,{"$f":"IF(B184=\"\",\"\",VLOOKUP(B184,HM!$A$10:$B$209,2))","v":""},null,182,null,{"$f":"IF(F184=\"\",\"\",VLOOKUP(F184,HM!$A$10:$B$209,2))","v":""}]
[null,null,{"$f":"IF(B185=\"\",\"\",VLOOKUP(B185,HM!$A$10:$B$209,2))","v":""},null,183,null,{"$f":"IF(F185=\"\",\"\",VLOOKUP(F185,HM!$A$10:$B$209,2))","v":""}]
[null,null,{"$f":"IF(B186=\"\",\"\",VLOOKUP(B186,HM!$A$10:$B$209,2))","v":""},null,184,null,{"$f":"IF(F186=\"\",\"\",VLOOKUP(F186,HM!$A$10:$B$209,2))","v":""}]
[null,null,{"$f":"IF(B187=\"\",\"\",VLOOKUP(B187,HM!$A$10:$B$209,2))","v":""},null,185,null,{"$f":"IF(F187=\"\",\"\",VLOOKUP(F187,HM!$A$10:$B$209,2))","v":""}]
[null,null,{"$f":"IF(B188=\"\",\"\",VLOOKUP(B188,HM!$A$10:$B$209,2))","v":""},null,186,null,{"$f":"IF(F188=\"\",\"\",VLOOKUP(F188,HM!$A$10:$B$209,2))","v":""}]
[null,null,{"$f":"IF(B189=\"\",\"\",VLOOKUP(B189,HM!$A$10:$B$209,2))","v":""},null,187,null,{"$f":"IF(F189=\"\",\"\",VLOOKUP(F189,HM!$A$10:$B$209,2))","v":""}]
[null,null,{"$f":"IF(B190=\"\",\"\",VLOOKUP(B190,HM!$A$10:$B$209,2))","v":""},null,188,null,{"$f":"IF(F190=\"\",\"\",VLOOKUP(F190,HM!$A$10:$B$209,2))","v":""}]
[null,null,{"$f":"IF(B191=\"\",\"\",VLOOKUP(B191,HM!$A$10:$B$209,2))","v":""},null,189,null,{"$f":"IF(F191=\"\",\"\",VLOOKUP(F191,HM!$A$10:$B$209,2))","v":""}]
[null,null,{"$f":"IF(B192=\"\",\"\",VLOOKUP(B192,HM!$A$10:$B$209,2))","v":""},null,190,null,{"$f":"IF(F192=\"\",\"\",VLOOKUP(F192,HM!$A$10:$B$209,2))","v":""}]
[null,null,{"$f":"IF(B193=\"\",\"\",VLOOKUP(B193,HM!$A$10:$B$209,2))","v":""},null,191,null,{"$f":"IF(F193=\"\",\"\",VLOOKUP(F193,HM!$A$10:$B$209,2))","v":""}]
[null,null,{"$f":"IF(B194=\"\",\"\",VLOOKUP(B194,HM!$A$10:$B$209,2))","v":""},null,192,null,{"$f":"IF(F194=\"\",\"\",VLOOKUP(F194,HM!$A$10:$B$209,2))","v":""}]
[null,null,{"$f":"IF(B195=\"\",\"\",VLOOKUP(B195,HM!$A$10:$B$209,2))","v":""},null,193,null,{"$f":"IF(F195=\"\",\"\",VLOOKUP(F195,HM!$A$10:$B$209,2))","v":""}]
[null,null,{"$f":"IF(B196=\"\",\"\",VLOOKUP(B196,HM!$A$10:$B$209,2))","v":""},null,194,null,{"$f":"IF(F196=\"\",\"\",VLOOKUP(F196,HM!$A$10:$B$209,2))","v":""}]
[null,null,{"$f":"IF(B197=\"\",\"\",VLOOKUP(B197,HM!$A$10:$B$209,2))","v":""},null,195,null,{"$f":"IF(F197=\"\",\"\",VLOOKUP(F197,HM!$A$10:$B$209,2))","v":""}]
[null,null,{"$f":"IF(B198=\"\",\"\",VLOOKUP(B198,HM!$A$10:$B$209,2))","v":""},null,196,null,{"$f":"IF(F198=\"\",\"\",VLOOKUP(F198,HM!$A$10:$B$209,2))","v":""}]
[null,null,{"$f":"IF(B199=\"\",\"\",VLOOKUP(B199,HM!$A$10:$B$209,2))","v":""},null,197,null,{"$f":"IF(F199=\"\",\"\",VLOOKUP(F199,HM!$A$10:$B$209,2))","v":""}]
[null,null,{"$f":"IF(B200=\"\",\"\",VLOOKUP(B200,HM!$A$10:$B$209,2))","v":""},null,198,null,{"$f":"IF(F200=\"\",\"\",VLOOKUP(F200,HM!$A$10:$B$209,2))","v":""}]
[null,null,{"$f":"IF(B201=\"\",\"\",VLOOKUP(B201,HM!$A$10:$B$209,2))","v":""},null,199,null,{"$f":"IF(F201=\"\",\"\",VLOOKUP(F201,HM!$A$10:$B$209,2))","v":""}]
[null,null,{"$f":"IF(B202=\"\",\"\",VLOOKUP(B202,HM!$A$10:$B$209,2))","v":""},null,200,null,{"$f":"IF(F202=\"\",\"\",VLOOKUP(F202,HM!$A$10:$B$209,2))","v":""}]

{"sheet":"Sammler","index":8,"n_rows":202,"n_cols":53,"rows_kept":202,"cut":false,"hidden":false,"merged":[[0,1,0,3],[0,5,0,7],[0,9,0,11],[0,13,0,15],[0,39,0,40],[0,30,0,31],[0,33,0,34],[0,36,0,37],[0,21,0,22],[0,24,0,25],[0,27,0,28],[0,45,0,46],[0,48,0,49],[0,51,0,52],[0,42,0,43],[0,17,0,19]]}
[null,"Wittkowskipokal",null,null,null,"Peperpokal",null,null,null,"Königspokal",null,null,null,"Schülerpokal",null,null,null,"Schimmelpfennigpokal",null,null,null,"Freihandpokal",null,null,"Preisschießen KK",null,null,"Preisschießen LG",null,null,"Luftpistole Jugend",null,null,"Luftpistole Schützen",null,null,"Luftpistole Damen",null,null,"Bogenpokal",null,null,"Bogenpokal\n-Schüler-",null,null,"Bogenpreisschießen",null,null,"Sauenschießen",null,null,"Glückspreisschießen"]
[null,"Vor- und Nachname:","Ringe:","schlech.\nEinzelschuss",null,"Vor- und Nachname:","Ringe:","schlech.\nEinzelschuss",null,"Vor- und Nachname:","Ringe:","schlech.\nEinzelschuss",null,"Vor- und Nachname:","Ringe:","schlech.\nEinzelschuss",null,"Vor- und Nachname:","Ringe:","schlech.\nEinzelschuss",null,"Vor- und Nachname:","Ringe:",null,"Vor- und Nachname:","Teiler:",null,"Vor- und Nachname:","Teiler:",null,"Vor- und Nachname:","Ringe:",null,"Vor- und Nachname:","Ringe:",null,"Vor- und Nachname:","Ringe:",null,"Vor- und Nachname:","Ringe:",null,"Vor- und Nachname:","Ringe:",null,"Vor- und Nachname:","Ringe:",null,"Vor- und Nachname:","Ringe:",null,"Vor- und Nachname:","Überdeckung:"]
[1,{"$f":"IF(WPP!B3=\"\",\"\",WPP!C3)","v":""},{"$f":"IF(WPP!B3=\"\",0,WPP!D3)","v":0},{"$f":"IF(WPP!B3=\"\",0,WPP!E3)","v":0},null,{"$f":"IF(WPP!G3=\"\",\"\",WPP!H3)","v":""},{"$f":"IF(WPP!G3=\"\",0,WPP!I3)","v":0},{"$f":"IF(WPP!G3=\"\",0,WPP!J3)","v":0},null,{"$f":"IF(KSP!B3=\"\",\"\",KSP!C3)","v":""},{"$f":"IF(KSP!B3=\"\",0,KSP!D3)","v":0},{"$f":"IF(KSP!B3=\"\",0,KSP!E3)","v":0},null,{"$f":"IF(KSP!G3=\"\",\"\",KSP!H3)","v":""},{"$f":"IF(KSP!G3=\"\",0,KSP!I3)","v":0},{"$f":"IF(KSP!G3=\"\",0,KSP!J3)","v":0},null,{"$f":"IF(FSP!B3=\"\",\"\",FSP!C3)","v":""},{"$f":"IF(FSP!B3=\"\",0,FSP!D3)","v":0},{"$f":"IF(FSP!B3=\"\",0,FSP!E3)","v":0},null,{"$f":"IF(FSP!G3=\"\",\"\",FSP!H3)","v":""},{"$f":"IF(FSP!G3=\"\",0,FSP!I3)","v":0},null,{"$f":"IF(PS!B5=\"\",\"\",PS!C5)","v":""},{"$f":"IF(PS!B5=\"\",\"\",PS!D5)","v":""},null,{"$f":"IF(PS!F5=\"\",\"\",PS!G5)","v":""},{"$f":"IF(PS!F5=\"\",\"\",PS!H5)","v":""},null,{"$f":"IF(LP!A3=\"\",\"\",LP!B3)","v":""},{"$f":"IF(LP!A3=\"\",0,LP!C3)","v":0},null,{"$f":"IF(LP!E3=\"\",\"\",LP!F3)","v":""},{"$f":"IF(LP!E3=\"\",0,LP!G3)","v":0},null,{"$f":"IF(LP!I3=\"\",\"\",LP!J3)","v":""},{"$f":"IF(LP!I3=\"\",0,LP!K3)","v":0},null,{"$f":"IF(BPBPS!B3=\"\",\"\",BPBPS!C3)","v":""},{"$f":"IF(BPBPS!B3=\"\",0,BPBPS!D3)","v":0},null,{"$f":"IF(BPBPS!F3=\"\",\"\",BPBPS!G3)","v":""},{"$f":"IF(BPBPS!H3=\"\",0,BPBPS!H3)","v":0},null,{"$f":"IF(BPBPS!J3=\"\",\"\",BPBPS!K3)","v":""},{"$f":"IF(BPBPS!J3=\"\",0,BPBPS!L3)","v":0},null,{"$f":"IF(SSGP!B3=\"\",\"\",SSGP!C3)","v":""},{"$f":"IF(SSGP!B3=\"\",0,SSGP!D3)","v":0},null,{"$f":"IF(SSGP!F3=\"\",\"\",SSGP!G3)","v":""},{"$f":"IF(SSGP!F3=\"\",0,SSGP!H3)","v":0}]
[2,{"$f":"IF(WPP!B4=\"\",\"\",WPP!C4)","v":""},{"$f":"IF(WPP!B4=\"\",0,WPP!D4)","v":0},{"$f":"IF(WPP!B4=\"\",0,WPP!E4)","v":0},null,{"$f":"IF(WPP!G4=\"\",\"\",WPP!H4)","v":""},{"$f":"IF(WPP!G4=\"\",0,WPP!I4)","v":0},{"$f":"IF(WPP!G4=\"\",0,WPP!J4)","v":0},null,{"$f":"IF(KSP!B4=\"\",\"\",KSP!C4)","v":""},{"$f":"IF(KSP!B4=\"\",0,KSP!D4)","v":0},{"$f":"IF(KSP!B4=\"\",0,KSP!E4)","v":0},null,{"$f":"IF(KSP!G4=\"\",\"\",KSP!H4)","v":""},{"$f":"IF(KSP!G4=\"\",0,KSP!I4)","v":0},{"$f":"IF(KSP!G4=\"\",0,KSP!J4)","v":0},null,{"$f":"IF(FSP!B4=\"\",\"\",FSP!C4)","v":""},{"$f":"IF(FSP!B4=\"\",0,FSP!D4)","v":0},{"$f":"IF(FSP!B4=\"\",0,FSP!E4)","v":0},null,{"$f":"IF(FSP!G4=\"\",\"\",FSP!H4)","v":""},{"$f":"IF(FSP!G4=\"\",0,FSP!I4)","v":0},null,{"$f":"IF(PS!B6=\"\",\"\",PS!C6)","v":""},{"$f":"IF(PS!B6=\"\",\"\",PS!D6)","v":""},null,{"$f":"IF(PS!F6=\"\",\"\",PS!G6)","v":""},{"$f":"IF(PS!F6=\"\",\"\",PS!H6)","v":""},null,{"$f":"IF(LP!A4=\"\",\"\",LP!B4)","v":""},{"$f":"IF(LP!A4=\"\",0,LP!C4)","v":0},null,{"$f":"IF(LP!E4=\"\",\"\",LP!F4)","v":""},{"$f":"IF(LP!E4=\"\",0,LP!G4)","v":0},null,{"$f":"IF(LP!I4=\"\",\"\",LP!J4)","v":""},{"$f":"IF(LP!I4=\"\",0,LP!K4)","v":0},null,{"$f":"IF(BPBPS!B4=\"\",\"\",BPBPS!C4)","v":""},{"$f":"IF(BPBPS!B4=\"\",0,BPBPS!D4)","v":0},null,{"$f":"IF(BPBPS!F4=\"\",\"\",BPBPS!G4)","v":""},{"$f":"IF(BPBPS!H4=\"\",0,BPBPS!H4)","v":0},null,{"$f":"IF(BPBPS!J4=\"\",\"\",BPBPS!K4)","v":""},{"$f":"IF(BPBPS!J4=\"\",0,BPBPS!L4)","v":0},null,{"$f":"IF(SSGP!B4=\"\",\"\",SSGP!C4)","v":""},{"$f":"IF(SSGP!B4=\"\",0,SSGP!D4)","v":0},null,{"$f":"IF(SSGP!F4=\"\",\"\",SSGP!G4)","v":""},{"$f":"IF(SSGP!F4=\"\",0,SSGP!H4)","v":0}]
[3,{"$f":"IF(WPP!B5=\"\",\"\",WPP!C5)","v":""},{"$f":"IF(WPP!B5=\"\",0,WPP!D5)","v":0},{"$f":"IF(WPP!B5=\"\",0,WPP!E5)","v":0},null,{"$f":"IF(WPP!G5=\"\",\"\",WPP!H5)","v":""},{"$f":"IF(WPP!G5=\"\",0,WPP!I5)","v":0},{"$f":"IF(WPP!G5=\"\",0,WPP!J5)","v":0},null,{"$f":"IF(KSP!B5=\"\",\"\",KSP!C5)","v":""},{"$f":"IF(KSP!B5=\"\",0,KSP!D5)","v":0},{"$f":"IF(KSP!B5=\"\",0,KSP!E5)","v":0},null,{"$f":"IF(KSP!G5=\"\",\"\",KSP!H5)","v":""},{"$f":"IF(KSP!G5=\"\",0,KSP!I5)","v":0},{"$f":"IF(KSP!G5=\"\",0,KSP!J5)","v":0},null,{"$f":"IF(FSP!B5=\"\",\"\",FSP!C5)","v":""},{"$f":"IF(FSP!B5=\"\",0,FSP!D5)","v":0},{"$f":"IF(FSP!B5=\"\",0,FSP!E5)","v":0},null,{"$f":"IF(FSP!G5=\"\",\"\",FSP!H5)","v":""},{"$f":"IF(FSP!G5=\"\",0,FSP!I5)","v":0},null,{"$f":"IF(PS!B7=\"\",\"\",PS!C7)","v":""},{"$f":"IF(PS!B7=\"\",\"\",PS!D7)","v":""},null,{"$f":"IF(PS!F7=\"\",\"\",PS!G7)","v":""},{"$f":"IF(PS!F7=\"\",\"\",PS!H7)","v":""},null,{"$f":"IF(LP!A5=\"\",\"\",LP!B5)","v":""},{"$f":"IF(LP!A5=\"\",0,LP!C5)","v":0},null,{"$f":"IF(LP!E5=\"\",\"\",LP!F5)","v":""},{"$f":"IF(LP!E5=\"\",0,LP!G5)","v":0},null,{"$f":"IF(LP!I5=\"\",\"\",LP!J5)","v":""},{"$f":"IF(LP!I5=\"\",0,LP!K5)","v":0},null,{"$f":"IF(BPBPS!B5=\"\",\"\",BPBPS!C5)","v":""},{"$f":"IF(BPBPS!B5=\"\",0,BPBPS!D5)","v":0},null,{"$f":"IF(BPBPS!F5=\"\",\"\",BPBPS!G5)","v":""},{"$f":"IF(BPBPS!H5=\"\",0,BPBPS!H5)","v":0},null,{"$f":"IF(BPBPS!J5=\"\",\"\",BPBPS!K5)","v":""},{"$f":"IF(BPBPS!J5=\"\",0,BPBPS!L5)","v":0},null,{"$f":"IF(SSGP!B5=\"\",\"\",SSGP!C5)","v":""},{"$f":"IF(SSGP!B5=\"\",0,SSGP!D5)","v":0},null,{"$f":"IF(SSGP!F5=\"\",\"\",SSGP!G5)","v":""},{"$f":"IF(SSGP!F5=\"\",0,SSGP!H5)","v":0}]
[4,{"$f":"IF(WPP!B6=\"\",\"\",WPP!C6)","v":""},{"$f":"IF(WPP!B6=\"\",0,WPP!D6)","v":0},{"$f":"IF(WPP!B6=\"\",0,WPP!E6)","v":0},null,{"$f":"IF(WPP!G6=\"\",\"\",WPP!H6)","v":""},{"$f":"IF(WPP!G6=\"\",0,WPP!I6)","v":0},{"$f":"IF(WPP!G6=\"\",0,WPP!J6)","v":0},null,{"$f":"IF(KSP!B6=\"\",\"\",KSP!C6)","v":""},{"$f":"IF(KSP!B6=\"\",0,KSP!D6)","v":0},{"$f":"IF(KSP!B6=\"\",0,KSP!E6)","v":0},null,{"$f":"IF(KSP!G6=\"\",\"\",KSP!H6)","v":""},{"$f":"IF(KSP!G6=\"\",0,KSP!I6)","v":0},{"$f":"IF(KSP!G6=\"\",0,KSP!J6)","v":0},null,{"$f":"IF(FSP!B6=\"\",\"\",FSP!C6)","v":""},{"$f":"IF(FSP!B6=\"\",0,FSP!D6)","v":0},{"$f":"IF(FSP!B6=\"\",0,FSP!E6)","v":0},null,{"$f":"IF(FSP!G6=\"\",\"\",FSP!H6)","v":""},{"$f":"IF(FSP!G6=\"\",0,FSP!I6)","v":0},null,{"$f":"IF(PS!B8=\"\",\"\",PS!C8)","v":""},{"$f":"IF(PS!B8=\"\",\"\",PS!D8)","v":""},null,{"$f":"IF(PS!F8=\"\",\"\",PS!G8)","v":""},{"$f":"IF(PS!F8=\"\",\"\",PS!H8)","v":""},null,{"$f":"IF(LP!A6=\"\",\"\",LP!B6)","v":""},{"$f":"IF(LP!A6=\"\",0,LP!C6)","v":0},null,{"$f":"IF(LP!E6=\"\",\"\",LP!F6)","v":""},{"$f":"IF(LP!E6=\"\",0,LP!G6)","v":0},null,{"$f":"IF(LP!I6=\"\",\"\",LP!J6)","v":""},{"$f":"IF(LP!I6=\"\",0,LP!K6)","v":0},null,{"$f":"IF(BPBPS!B6=\"\",\"\",BPBPS!C6)","v":""},{"$f":"IF(BPBPS!B6=\"\",0,BPBPS!D6)","v":0},null,{"$f":"IF(BPBPS!F6=\"\",\"\",BPBPS!G6)","v":""},{"$f":"IF(BPBPS!H6=\"\",0,BPBPS!H6)","v":0},null,{"$f":"IF(BPBPS!J6=\"\",\"\",BPBPS!K6)","v":""},{"$f":"IF(BPBPS!J6=\"\",0,BPBPS!L6)","v":0},null,{"$f":"IF(SSGP!B6=\"\",\"\",SSGP!C6)","v":""},{"$f":"IF(SSGP!B6=\"\",0,SSGP!D6)","v":0},null,{"$f":"IF(SSGP!F6=\"\",\"\",SSGP!G6)","v":""},{"$f":"IF(SSGP!F6=\"\",0,SSGP!H6)","v":0}]
[5,{"$f":"IF(WPP!B7=\"\",\"\",WPP!C7)","v":""},{"$f":"IF(WPP!B7=\"\",0,WPP!D7)","v":0},{"$f":"IF(WPP!B7=\"\",0,WPP!E7)","v":0},null,{"$f":"IF(WPP!G7=\"\",\"\",WPP!H7)","v":""},{"$f":"IF(WPP!G7=\"\",0,WPP!I7)","v":0},{"$f":"IF(WPP!G7=\"\",0,WPP!J7)","v":0},null,{"$f":"IF(KSP!B7=\"\",\"\",KSP!C7)","v":""},{"$f":"IF(KSP!B7=\"\",0,KSP!D7)","v":0},{"$f":"IF(KSP!B7=\"\",0,KSP!E7)","v":0},null,{"$f":"IF(KSP!G7=\"\",\"\",KSP!H7)","v":""},{"$f":"IF(KSP!G7=\"\",0,KSP!I7)","v":0},{"$f":"IF(KSP!G7=\"\",0,KSP!J7)","v":0},null,{"$f":"IF(FSP!B7=\"\",\"\",FSP!C7)","v":""},{"$f":"IF(FSP!B7=\"\",0,FSP!D7)","v":0},{"$f":"IF(FSP!B7=\"\",0,FSP!E7)","v":0},null,{"$f":"IF(FSP!G7=\"\",\"\",FSP!H7)","v":""},{"$f":"IF(FSP!G7=\"\",0,FSP!I7)","v":0},null,{"$f":"IF(PS!B9=\"\",\"\",PS!C9)","v":""},{"$f":"IF(PS!B9=\"\",\"\",PS!D9)","v":""},null,{"$f":"IF(PS!F9=\"\",\"\",PS!G9)","v":""},{"$f":"IF(PS!F9=\"\",\"\",PS!H9)","v":""},null,{"$f":"IF(LP!A7=\"\",\"\",LP!B7)","v":""},{"$f":"IF(LP!A7=\"\",0,LP!C7)","v":0},null,{"$f":"IF(LP!E7=\"\",\"\",LP!F7)","v":""},{"$f":"IF(LP!E7=\"\",0,LP!G7)","v":0},null,{"$f":"IF(LP!I7=\"\",\"\",LP!J7)","v":""},{"$f":"IF(LP!I7=\"\",0,LP!K7)","v":0},null,{"$f":"IF(BPBPS!B7=\"\",\"\",BPBPS!C7)","v":""},{"$f":"IF(BPBPS!B7=\"\",0,BPBPS!D7)","v":0},null,{"$f":"IF(BPBPS!F7=\"\",\"\",BPBPS!G7)","v":""},{"$f":"IF(BPBPS!H7=\"\",0,BPBPS!H7)","v":0},null,{"$f":"IF(BPBPS!J7=\"\",\"\",BPBPS!K7)","v":""},{"$f":"IF(BPBPS!J7=\"\",0,BPBPS!L7)","v":0},null,{"$f":"IF(SSGP!B7=\"\",\"\",SSGP!C7)","v":""},{"$f":"IF(SSGP!B7=\"\",0,SSGP!D7)","v":0},null,{"$f":"IF(SSGP!F7=\"\",\"\",SSGP!G7)","v":""},{"$f":"IF(SSGP!F7=\"\",0,SSGP!H7)","v":0}]
[6,{"$f":"IF(WPP!B8=\"\",\"\",WPP!C8)","v":""},{"$f":"IF(WPP!B8=\"\",0,WPP!D8)","v":0},{"$f":"IF(WPP!B8=\"\",0,WPP!E8)","v":0},null,{"$f":"IF(WPP!G8=\"\",\"\",WPP!H8)","v":""},{"$f":"IF(WPP!G8=\"\",0,WPP!I8)","v":0},{"$f":"IF(WPP!G8=\"\",0,WPP!J8)","v":0},null,{"$f":"IF(KSP!B8=\"\",\"\",KSP!C8)","v":""},{"$f":"IF(KSP!B8=\"\",0,KSP!D8)","v":0},{"$f":"IF(KSP!B8=\"\",0,KSP!E8)","v":0},null,{"$f":"IF(KSP!G8=\"\",\"\",KSP!H8)","v":""},{"$f":"IF(KSP!G8=\"\",0,KSP!I8)","v":0},{"$f":"IF(KSP!G8=\"\",0,KSP!J8)","v":0},null,{"$f":"IF(FSP!B8=\"\",\"\",FSP!C8)","v":""},{"$f":"IF(FSP!B8=\"\",0,FSP!D8)","v":0},{"$f":"IF(FSP!B8=\"\",0,FSP!E8)","v":0},null,{"$f":"IF(FSP!G8=\"\",\"\",FSP!H8)","v":""},{"$f":"IF(FSP!G8=\"\",0,FSP!I8)","v":0},null,{"$f":"IF(PS!B10=\"\",\"\",PS!C10)","v":""},{"$f":"IF(PS!B10=\"\",\"\",PS!D10)","v":""},null,{"$f":"IF(PS!F10=\"\",\"\",PS!G10)","v":""},{"$f":"IF(PS!F10=\"\",\"\",PS!H10)","v":""},null,{"$f":"IF(LP!A8=\"\",\"\",LP!B8)","v":""},{"$f":"IF(LP!A8=\"\",0,LP!C8)","v":0},null,{"$f":"IF(LP!E8=\"\",\"\",LP!F8)","v":""},{"$f":"IF(LP!E8=\"\",0,LP!G8)","v":0},null,{"$f":"IF(LP!I8=\"\",\"\",LP!J8)","v":""},{"$f":"IF(LP!I8=\"\",0,LP!K8)","v":0},null,{"$f":"IF(BPBPS!B8=\"\",\"\",BPBPS!C8)","v":""},{"$f":"IF(BPBPS!B8=\"\",0,BPBPS!D8)","v":0},null,{"$f":"IF(BPBPS!F8=\"\",\"\",BPBPS!G8)","v":""},{"$f":"IF(BPBPS!H8=\"\",0,BPBPS!H8)","v":0},null,{"$f":"IF(BPBPS!J8=\"\",\"\",BPBPS!K8)","v":""},{"$f":"IF(BPBPS!J8=\"\",0,BPBPS!L8)","v":0},null,{"$f":"IF(SSGP!B8=\"\",\"\",SSGP!C8)","v":""},{"$f":"IF(SSGP!B8=\"\",0,SSGP!D8)","v":0},null,{"$f":"IF(SSGP!F8=\"\",\"\",SSGP!G8)","v":""},{"$f":"IF(SSGP!F8=\"\",0,SSGP!H8)","v":0}]
[7,{"$f":"IF(WPP!B9=\"\",\"\",WPP!C9)","v":""},{"$f":"IF(WPP!B9=\"\",0,WPP!D9)","v":0},{"$f":"IF(WPP!B9=\"\",0,WPP!E9)","v":0},null,{"$f":"IF(WPP!G9=\"\",\"\",WPP!H9)","v":""},{"$f":"IF(WPP!G9=\"\",0,WPP!I9)","v":0},{"$f":"IF(WPP!G9=\"\",0,WPP!J9)","v":0},null,{"$f":"IF(KSP!B9=\"\",\"\",KSP!C9)","v":""},{"$f":"IF(KSP!B9=\"\",0,KSP!D9)","v":0},{"$f":"IF(KSP!B9=\"\",0,KSP!E9)","v":0},null,{"$f":"IF(KSP!G9=\"\",\"\",KSP!H9)","v":""},{"$f":"IF(KSP!G9=\"\",0,KSP!I9)","v":0},{"$f":"IF(KSP!G9=\"\",0,KSP!J9)","v":0},null,{"$f":"IF(FSP!B9=\"\",\"\",FSP!C9)","v":""},{"$f":"IF(FSP!B9=\"\",0,FSP!D9)","v":0},{"$f":"IF(FSP!B9=\"\",0,FSP!E9)","v":0},null,{"$f":"IF(FSP!G9=\"\",\"\",FSP!H9)","v":""},{"$f":"IF(FSP!G9=\"\",0,FSP!I9)","v":0},null,{"$f":"IF(PS!B11=\"\",\"\",PS!C11)","v":""},{"$f":"IF(PS!B11=\"\",\"\",PS!D11)","v":""},null,{"$f":"IF(PS!F11=\"\",\"\",PS!G11)","v":""},{"$f":"IF(PS!F11=\"\",\"\",PS!H11)","v":""},null,{"$f":"IF(LP!A9=\"\",\"\",LP!B9)","v":""},{"$f":"IF(LP!A9=\"\",0,LP!C9)","v":0},null,{"$f":"IF(LP!E9=\"\",\"\",LP!F9)","v":""},{"$f":"IF(LP!E9=\"\",0,LP!G9)","v":0},null,{"$f":"IF(LP!I9=\"\",\"\",LP!J9)","v":""},{"$f":"IF(LP!I9=\"\",0,LP!K9)","v":0},null,{"$f":"IF(BPBPS!B9=\"\",\"\",BPBPS!C9)","v":""},{"$f":"IF(BPBPS!B9=\"\",0,BPBPS!D9)","v":0},null,{"$f":"IF(BPBPS!F9=\"\",\"\",BPBPS!G9)","v":""},{"$f":"IF(BPBPS!H9=\"\",0,BPBPS!H9)","v":0},null,{"$f":"IF(BPBPS!J9=\"\",\"\",BPBPS!K9)","v":""},{"$f":"IF(BPBPS!J9=\"\",0,BPBPS!L9)","v":0},null,{"$f":"IF(SSGP!B9=\"\",\"\",SSGP!C9)","v":""},{"$f":"IF(SSGP!B9=\"\",0,SSGP!D9)","v":0},null,{"$f":"IF(SSGP!F9=\"\",\"\",SSGP!G9)","v":""},{"$f":"IF(SSGP!F9=\"\",0,SSGP!H9)","v":0}]
[8,{"$f":"IF(WPP!B10=\"\",\"\",WPP!C10)","v":""},{"$f":"IF(WPP!B10=\"\",0,WPP!D10)","v":0},{"$f":"IF(WPP!B10=\"\",0,WPP!E10)","v":0},null,{"$f":"IF(WPP!G10=\"\",\"\",WPP!H10)","v":""},{"$f":"IF(WPP!G10=\"\",0,WPP!I10)","v":0},{"$f":"IF(WPP!G10=\"\",0,WPP!J10)","v":0},null,{"$f":"IF(KSP!B10=\"\",\"\",KSP!C10)","v":""},{"$f":"IF(KSP!B10=\"\",0,KSP!D10)","v":0},{"$f":"IF(KSP!B10=\"\",0,KSP!E10)","v":0},null,{"$f":"IF(KSP!G10=\"\",\"\",KSP!H10)","v":""},{"$f":"IF(KSP!G10=\"\",0,KSP!I10)","v":0},{"$f":"IF(KSP!G10=\"\",0,KSP!J10)","v":0},null,{"$f":"IF(FSP!B10=\"\",\"\",FSP!C10)","v":""},{"$f":"IF(FSP!B10=\"\",0,FSP!D10)","v":0},{"$f":"IF(FSP!B10=\"\",0,FSP!E10)","v":0},null,{"$f":"IF(FSP!G10=\"\",\"\",FSP!H10)","v":""},{"$f":"IF(FSP!G10=\"\",0,FSP!I10)","v":0},null,{"$f":"IF(PS!B12=\"\",\"\",PS!C12)","v":""},{"$f":"IF(PS!B12=\"\",\"\",PS!D12)","v":""},null,{"$f":"IF(PS!F12=\"\",\"\",PS!G12)","v":""},{"$f":"IF(PS!F12=\"\",\"\",PS!H12)","v":""},null,{"$f":"IF(LP!A10=\"\",\"\",LP!B10)","v":""},{"$f":"IF(LP!A10=\"\",0,LP!C10)","v":0},null,{"$f":"IF(LP!E10=\"\",\"\",LP!F10)","v":""},{"$f":"IF(LP!E10=\"\",0,LP!G10)","v":0},null,{"$f":"IF(LP!I10=\"\",\"\",LP!J10)","v":""},{"$f":"IF(LP!I10=\"\",0,LP!K10)","v":0},null,{"$f":"IF(BPBPS!B10=\"\",\"\",BPBPS!C10)","v":""},{"$f":"IF(BPBPS!B10=\"\",0,BPBPS!D10)","v":0},null,{"$f":"IF(BPBPS!F10=\"\",\"\",BPBPS!G10)","v":""},{"$f":"IF(BPBPS!H10=\"\",0,BPBPS!H10)","v":0},null,{"$f":"IF(BPBPS!J10=\"\",\"\",BPBPS!K10)","v":""},{"$f":"IF(BPBPS!J10=\"\",0,BPBPS!L10)","v":0},null,{"$f":"IF(SSGP!B10=\"\",\"\",SSGP!C10)","v":""},{"$f":"IF(SSGP!B10=\"\",0,SSGP!D10)","v":0},null,{"$f":"IF(SSGP!F10=\"\",\"\",SSGP!G10)","v":""},{"$f":"IF(SSGP!F10=\"\",0,SSGP!H10)","v":0}]
[9,{"$f":"IF(WPP!B11=\"\",\"\",WPP!C11)","v":""},{"$f":"IF(WPP!B11=\"\",0,WPP!D11)","v":0},{"$f":"IF(WPP!B11=\"\",0,WPP!E11)","v":0},null,{"$f":"IF(WPP!G11=\"\",\"\",WPP!H11)","v":""},{"$f":"IF(WPP!G11=\"\",0,WPP!I11)","v":0},{"$f":"IF(WPP!G11=\"\",0,WPP!J11)","v":0},null,{"$f":"IF(KSP!B11=\"\",\"\",KSP!C11)","v":""},{"$f":"IF(KSP!B11=\"\",0,KSP!D11)","v":0},{"$f":"IF(KSP!B11=\"\",0,KSP!E11)","v":0},null,{"$f":"IF(KSP!G11=\"\",\"\",KSP!H11)","v":""},{"$f":"IF(KSP!G11=\"\",0,KSP!I11)","v":0},{"$f":"IF(KSP!G11=\"\",0,KSP!J11)","v":0},null,{"$f":"IF(FSP!B11=\"\",\"\",FSP!C11)","v":""},{"$f":"IF(FSP!B11=\"\",0,FSP!D11)","v":0},{"$f":"IF(FSP!B11=\"\",0,FSP!E11)","v":0},null,{"$f":"IF(FSP!G11=\"\",\"\",FSP!H11)","v":""},{"$f":"IF(FSP!G11=\"\",0,FSP!I11)","v":0},null,{"$f":"IF(PS!B13=\"\",\"\",PS!C13)","v":""},{"$f":"IF(PS!B13=\"\",\"\",PS!D13)","v":""},null,{"$f":"IF(PS!F13=\"\",\"\",PS!G13)","v":""},{"$f":"IF(PS!F13=\"\",\"\",PS!H13)","v":""},null,{"$f":"IF(LP!A11=\"\",\"\",LP!B11)","v":""},{"$f":"IF(LP!A11=\"\",0,LP!C11)","v":0},null,{"$f":"IF(LP!E11=\"\",\"\",LP!F11)","v":""},{"$f":"IF(LP!E11=\"\",0,LP!G11)","v":0},null,{"$f":"IF(LP!I11=\"\",\"\",LP!J11)","v":""},{"$f":"IF(LP!I11=\"\",0,LP!K11)","v":0},null,{"$f":"IF(BPBPS!B11=\"\",\"\",BPBPS!C11)","v":""},{"$f":"IF(BPBPS!B11=\"\",0,BPBPS!D11)","v":0},null,{"$f":"IF(BPBPS!F11=\"\",\"\",BPBPS!G11)","v":""},{"$f":"IF(BPBPS!H11=\"\",0,BPBPS!H11)","v":0},null,{"$f":"IF(BPBPS!J11=\"\",\"\",BPBPS!K11)","v":""},{"$f":"IF(BPBPS!J11=\"\",0,BPBPS!L11)","v":0},null,{"$f":"IF(SSGP!B11=\"\",\"\",SSGP!C11)","v":""},{"$f":"IF(SSGP!B11=\"\",0,SSGP!D11)","v":0},null,{"$f":"IF(SSGP!F11=\"\",\"\",SSGP!G11)","v":""},{"$f":"IF(SSGP!F11=\"\",0,SSGP!H11)","v":0}]
[10,{"$f":"IF(WPP!B12=\"\",\"\",WPP!C12)","v":""},{"$f":"IF(WPP!B12=\"\",0,WPP!D12)","v":0},{"$f":"IF(WPP!B12=\"\",0,WPP!E12)","v":0},null,{"$f":"IF(WPP!G12=\"\",\"\",WPP!H12)","v":""},{"$f":"IF(WPP!G12=\"\",0,WPP!I12)","v":0},{"$f":"IF(WPP!G12=\"\",0,WPP!J12)","v":0},null,{"$f":"IF(KSP!B12=\"\",\"\",KSP!C12)","v":""},{"$f":"IF(KSP!B12=\"\",0,KSP!D12)","v":0},{"$f":"IF(KSP!B12=\"\",0,KSP!E12)","v":0},null,{"$f":"IF(KSP!G12=\"\",\"\",KSP!H12)","v":""},{"$f":"IF(KSP!G12=\"\",0,KSP!I12)","v":0},{"$f":"IF(KSP!G12=\"\",0,KSP!J12)","v":0},null,{"$f":"IF(FSP!B12=\"\",\"\",FSP!C12)","v":""},{"$f":"IF(FSP!B12=\"\",0,FSP!D12)","v":0},{"$f":"IF(FSP!B12=\"\",0,FSP!E12)","v":0},null,{"$f":"IF(FSP!G12=\"\",\"\",FSP!H12)","v":""},{"$f":"IF(FSP!G12=\"\",0,FSP!I12)","v":0},null,{"$f":"IF(PS!B14=\"\",\"\",PS!C14)","v":""},{"$f":"IF(PS!B14=\"\",\"\",PS!D14)","v":""},null,{"$f":"IF(PS!F14=\"\",\"\",PS!G14)","v":""},{"$f":"IF(PS!F14=\"\",\"\",PS!H14)","v":""},null,{"$f":"IF(LP!A12=\"\",\"\",LP!B12)","v":""},{"$f":"IF(LP!A12=\"\",0,LP!C12)","v":0},null,{"$f":"IF(LP!E12=\"\",\"\",LP!F12)","v":""},{"$f":"IF(LP!E12=\"\",0,LP!G12)","v":0},null,{"$f":"IF(LP!I12=\"\",\"\",LP!J12)","v":""},{"$f":"IF(LP!I12=\"\",0,LP!K12)","v":0},null,{"$f":"IF(BPBPS!B12=\"\",\"\",BPBPS!C12)","v":""},{"$f":"IF(BPBPS!B12=\"\",0,BPBPS!D12)","v":0},null,{"$f":"IF(BPBPS!F12=\"\",\"\",BPBPS!G12)","v":""},{"$f":"IF(BPBPS!H12=\"\",0,BPBPS!H12)","v":0},null,{"$f":"IF(BPBPS!J12=\"\",\"\",BPBPS!K12)","v":""},{"$f":"IF(BPBPS!J12=\"\",0,BPBPS!L12)","v":0},null,{"$f":"IF(SSGP!B12=\"\",\"\",SSGP!C12)","v":""},{"$f":"IF(SSGP!B12=\"\",0,SSGP!D12)","v":0},null,{"$f":"IF(SSGP!F12=\"\",\"\",SSGP!G12)","v":""},{"$f":"IF(SSGP!F12=\"\",0,SSGP!H12)","v":0}]
[11,{"$f":"IF(WPP!B13=\"\",\"\",WPP!C13)","v":""},{"$f":"IF(WPP!B13=\"\",0,WPP!D13)","v":0},{"$f":"IF(WPP!B13=\"\",0,WPP!E13)","v":0},null,{"$f":"IF(WPP!G13=\"\",\"\",WPP!H13)","v":""},{"$f":"IF(WPP!G13=\"\",0,WPP!I13)","v":0},{"$f":"IF(WPP!G13=\"\",0,WPP!J13)","v":0},null,{"$f":"IF(KSP!B13=\"\",\"\",KSP!C13)","v":""},{"$f":"IF(KSP!B13=\"\",0,KSP!D13)","v":0},{"$f":"IF(KSP!B13=\"\",0,KSP!E13)","v":0},null,{"$f":"IF(KSP!G13=\"\",\"\",KSP!H13)","v":""},{"$f":"IF(KSP!G13=\"\",0,KSP!I13)","v":0},{"$f":"IF(KSP!G13=\"\",0,KSP!J13)","v":0},null,{"$f":"IF(FSP!B13=\"\",\"\",FSP!C13)","v":""},{"$f":"IF(FSP!B13=\"\",0,FSP!D13)","v":0},{"$f":"IF(FSP!B13=\"\",0,FSP!E13)","v":0},null,{"$f":"IF(FSP!G13=\"\",\"\",FSP!H13)","v":""},{"$f":"IF(FSP!G13=\"\",0,FSP!I13)","v":0},null,{"$f":"IF(PS!B15=\"\",\"\",PS!C15)","v":""},{"$f":"IF(PS!B15=\"\",\"\",PS!D15)","v":""},null,{"$f":"IF(PS!F15=\"\",\"\",PS!G15)","v":""},{"$f":"IF(PS!F15=\"\",\"\",PS!H15)","v":""},null,{"$f":"IF(LP!A13=\"\",\"\",LP!B13)","v":""},{"$f":"IF(LP!A13=\"\",0,LP!C13)","v":0},null,{"$f":"IF(LP!E13=\"\",\"\",LP!F13)","v":""},{"$f":"IF(LP!E13=\"\",0,LP!G13)","v":0},null,{"$f":"IF(LP!I13=\"\",\"\",LP!J13)","v":""},{"$f":"IF(LP!I13=\"\",0,LP!K13)","v":0},null,{"$f":"IF(BPBPS!B13=\"\",\"\",BPBPS!C13)","v":""},{"$f":"IF(BPBPS!B13=\"\",0,BPBPS!D13)","v":0},null,{"$f":"IF(BPBPS!F13=\"\",\"\",BPBPS!G13)","v":""},{"$f":"IF(BPBPS!H13=\"\",0,BPBPS!H13)","v":0},null,{"$f":"IF(BPBPS!J13=\"\",\"\",BPBPS!K13)","v":""},{"$f":"IF(BPBPS!J13=\"\",0,BPBPS!L13)","v":0},null,{"$f":"IF(SSGP!B13=\"\",\"\",SSGP!C13)","v":""},{"$f":"IF(SSGP!B13=\"\",0,SSGP!D13)","v":0},null,{"$f":"IF(SSGP!F13=\"\",\"\",SSGP!G13)","v":""},{"$f":"IF(SSGP!F13=\"\",0,SSGP!H13)","v":0}]
[12,{"$f":"IF(WPP!B14=\"\",\"\",WPP!C14)","v":""},{"$f":"IF(WPP!B14=\"\",0,WPP!D14)","v":0},{"$f":"IF(WPP!B14=\"\",0,WPP!E14)","v":0},null,{"$f":"IF(WPP!G14=\"\",\"\",WPP!H14)","v":""},{"$f":"IF(WPP!G14=\"\",0,WPP!I14)","v":0},{"$f":"IF(WPP!G14=\"\",0,WPP!J14)","v":0},null,{"$f":"IF(KSP!B14=\"\",\"\",KSP!C14)","v":""},{"$f":"IF(KSP!B14=\"\",0,KSP!D14)","v":0},{"$f":"IF(KSP!B14=\"\",0,KSP!E14)","v":0},null,{"$f":"IF(KSP!G14=\"\",\"\",KSP!H14)","v":""},{"$f":"IF(KSP!G14=\"\",0,KSP!I14)","v":0},{"$f":"IF(KSP!G14=\"\",0,KSP!J14)","v":0},null,{"$f":"IF(FSP!B14=\"\",\"\",FSP!C14)","v":""},{"$f":"IF(FSP!B14=\"\",0,FSP!D14)","v":0},{"$f":"IF(FSP!B14=\"\",0,FSP!E14)","v":0},null,{"$f":"IF(FSP!G14=\"\",\"\",FSP!H14)","v":""},{"$f":"IF(FSP!G14=\"\",0,FSP!I14)","v":0},null,{"$f":"IF(PS!B16=\"\",\"\",PS!C16)","v":""},{"$f":"IF(PS!B16=\"\",\"\",PS!D16)","v":""},null,{"$f":"IF(PS!F16=\"\",\"\",PS!G16)","v":""},{"$f":"IF(PS!F16=\"\",\"\",PS!H16)","v":""},null,{"$f":"IF(LP!A14=\"\",\"\",LP!B14)","v":""},{"$f":"IF(LP!A14=\"\",0,LP!C14)","v":0},null,{"$f":"IF(LP!E14=\"\",\"\",LP!F14)","v":""},{"$f":"IF(LP!E14=\"\",0,LP!G14)","v":0},null,{"$f":"IF(LP!I14=\"\",\"\",LP!J14)","v":""},{"$f":"IF(LP!I14=\"\",0,LP!K14)","v":0},null,{"$f":"IF(BPBPS!B14=\"\",\"\",BPBPS!C14)","v":""},{"$f":"IF(BPBPS!B14=\"\",0,BPBPS!D14)","v":0},null,{"$f":"IF(BPBPS!F14=\"\",\"\",BPBPS!G14)","v":""},{"$f":"IF(BPBPS!H14=\"\",0,BPBPS!H14)","v":0},null,{"$f":"IF(BPBPS!J14=\"\",\"\",BPBPS!K14)","v":""},{"$f":"IF(BPBPS!J14=\"\",0,BPBPS!L14)","v":0},null,{"$f":"IF(SSGP!B14=\"\",\"\",SSGP!C14)","v":""},{"$f":"IF(SSGP!B14=\"\",0,SSGP!D14)","v":0},null,{"$f":"IF(SSGP!F14=\"\",\"\",SSGP!G14)","v":""},{"$f":"IF(SSGP!F14=\"\",0,SSGP!H14)","v":0}]
[13,{"$f":"IF(WPP!B15=\"\",\"\",WPP!C15)","v":""},{"$f":"IF(WPP!B15=\"\",0,WPP!D15)","v":0},{"$f":"IF(WPP!B15=\"\",0,WPP!E15)","v":0},null,{"$f":"IF(WPP!G15=\"\",\"\",WPP!H15)","v":""},{"$f":"IF(WPP!G15=\"\",0,WPP!I15)","v":0},{"$f":"IF(WPP!G15=\"\",0,WPP!J15)","v":0},null,{"$f":"IF(KSP!B15=\"\",\"\",KSP!C15)","v":""},{"$f":"IF(KSP!B15=\"\",0,KSP!D15)","v":0},{"$f":"IF(KSP!B15=\"\",0,KSP!E15)","v":0},null,{"$f":"IF(KSP!G15=\"\",\"\",KSP!H15)","v":""},{"$f":"IF(KSP!G15=\"\",0,KSP!I15)","v":0},{"$f":"IF(KSP!G15=\"\",0,KSP!J15)","v":0},null,{"$f":"IF(FSP!B15=\"\",\"\",FSP!C15)","v":""},{"$f":"IF(FSP!B15=\"\",0,FSP!D15)","v":0},{"$f":"IF(FSP!B15=\"\",0,FSP!E15)","v":0},null,{"$f":"IF(FSP!G15=\"\",\"\",FSP!H15)","v":""},{"$f":"IF(FSP!G15=\"\",0,FSP!I15)","v":0},null,{"$f":"IF(PS!B17=\"\",\"\",PS!C17)","v":""},{"$f":"IF(PS!B17=\"\",\"\",PS!D17)","v":""},null,{"$f":"IF(PS!F17=\"\",\"\",PS!G17)","v":""},{"$f":"IF(PS!F17=\"\",\"\",PS!H17)","v":""},null,{"$f":"IF(LP!A15=\"\",\"\",LP!B15)","v":""},{"$f":"IF(LP!A15=\"\",0,LP!C15)","v":0},null,{"$f":"IF(LP!E15=\"\",\"\",LP!F15)","v":""},{"$f":"IF(LP!E15=\"\",0,LP!G15)","v":0},null,{"$f":"IF(LP!I15=\"\",\"\",LP!J15)","v":""},{"$f":"IF(LP!I15=\"\",0,LP!K15)","v":0},null,{"$f":"IF(BPBPS!B15=\"\",\"\",BPBPS!C15)","v":""},{"$f":"IF(BPBPS!B15=\"\",0,BPBPS!D15)","v":0},null,{"$f":"IF(BPBPS!F15=\"\",\"\",BPBPS!G15)","v":""},{"$f":"IF(BPBPS!H15=\"\",0,BPBPS!H15)","v":0},null,{"$f":"IF(BPBPS!J15=\"\",\"\",BPBPS!K15)","v":""},{"$f":"IF(BPBPS!J15=\"\",0,BPBPS!L15)","v":0},null,{"$f":"IF(SSGP!B15=\"\",\"\",SSGP!C15)","v":""},{"$f":"IF(SSGP!B15=\"\",0,SSGP!D15)","v":0},null,{"$f":"IF(SSGP!F15=\"\",\"\",SSGP!G15)","v":""},{"$f":"IF(SSGP!F15=\"\",0,SSGP!H15)","v":0}]
[14,{"$f":"IF(WPP!B16=\"\",\"\",WPP!C16)","v":""},{"$f":"IF(WPP!B16=\"\",0,WPP!D16)","v":0},{"$f":"IF(WPP!B16=\"\",0,WPP!E16)","v":0},null,{"$f":"IF(WPP!G16=\"\",\"\",WPP!H16)","v":""},{"$f":"IF(WPP!G16=\"\",0,WPP!I16)","v":0},{"$f":"IF(WPP!G16=\"\",0,WPP!J16)","v":0},null,{"$f":"IF(KSP!B16=\"\",\"\",KSP!C16)","v":""},{"$f":"IF(KSP!B16=\"\",0,KSP!D16)","v":0},{"$f":"IF(KSP!B16=\"\",0,KSP!E16)","v":0},null,{"$f":"IF(KSP!G16=\"\",\"\",KSP!H16)","v":""},{"$f":"IF(KSP!G16=\"\",0,KSP!I16)","v":0},{"$f":"IF(KSP!G16=\"\",0,KSP!J16)","v":0},null,{"$f":"IF(FSP!B16=\"\",\"\",FSP!C16)","v":""},{"$f":"IF(FSP!B16=\"\",0,FSP!D16)","v":0},{"$f":"IF(FSP!B16=\"\",0,FSP!E16)","v":0},null,{"$f":"IF(FSP!G16=\"\",\"\",FSP!H16)","v":""},{"$f":"IF(FSP!G16=\"\",0,FSP!I16)","v":0},null,{"$f":"IF(PS!B18=\"\",\"\",PS!C18)","v":""},{"$f":"IF(PS!B18=\"\",\"\",PS!D18)","v":""},null,{"$f":"IF(PS!F18=\"\",\"\",PS!G18)","v":""},{"$f":"IF(PS!F18=\"\",\"\",PS!H18)","v":""},null,{"$f":"IF(LP!A16=\"\",\"\",LP!B16)","v":""},{"$f":"IF(LP!A16=\"\",0,LP!C16)","v":0},null,{"$f":"IF(LP!E16=\"\",\"\",LP!F16)","v":""},{"$f":"IF(LP!E16=\"\",0,LP!G16)","v":0},null,{"$f":"IF(LP!I16=\"\",\"\",LP!J16)","v":""},{"$f":"IF(LP!I16=\"\",0,LP!K16)","v":0},null,{"$f":"IF(BPBPS!B16=\"\",\"\",BPBPS!C16)","v":""},{"$f":"IF(BPBPS!B16=\"\",0,BPBPS!D16)","v":0},null,{"$f":"IF(BPBPS!F16=\"\",\"\",BPBPS!G16)","v":""},{"$f":"IF(BPBPS!H16=\"\",0,BPBPS!H16)","v":0},null,{"$f":"IF(BPBPS!J16=\"\",\"\",BPBPS!K16)","v":""},{"$f":"IF(BPBPS!J16=\"\",0,BPBPS!L16)","v":0},null,{"$f":"IF(SSGP!B16=\"\",\"\",SSGP!C16)","v":""},{"$f":"IF(SSGP!B16=\"\",0,SSGP!D16)","v":0},null,{"$f":"IF(SSGP!F16=\"\",\"\",SSGP!G16)","v":""},{"$f":"IF(SSGP!F16=\"\",0,SSGP!H16)","v":0}]
[15,{"$f":"IF(WPP!B17=\"\",\"\",WPP!C17)","v":""},{"$f":"IF(WPP!B17=\"\",0,WPP!D17)","v":0},{"$f":"IF(WPP!B17=\"\",0,WPP!E17)","v":0},null,{"$f":"IF(WPP!G17=\"\",\"\",WPP!H17)","v":""},{"$f":"IF(WPP!G17=\"\",0,WPP!I17)","v":0},{"$f":"IF(WPP!G17=\"\",0,WPP!J17)","v":0},null,{"$f":"IF(KSP!B17=\"\",\"\",KSP!C17)","v":""},{"$f":"IF(KSP!B17=\"\",0,KSP!D17)","v":0},{"$f":"IF(KSP!B17=\"\",0,KSP!E17)","v":0},null,{"$f":"IF(KSP!G17=\"\",\"\",KSP!H17)","v":""},{"$f":"IF(KSP!G17=\"\",0,KSP!I17)","v":0},{"$f":"IF(KSP!G17=\"\",0,KSP!J17)","v":0},null,{"$f":"IF(FSP!B17=\"\",\"\",FSP!C17)","v":""},{"$f":"IF(FSP!B17=\"\",0,FSP!D17)","v":0},{"$f":"IF(FSP!B17=\"\",0,FSP!E17)","v":0},null,{"$f":"IF(FSP!G17=\"\",\"\",FSP!H17)","v":""},{"$f":"IF(FSP!G17=\"\",0,FSP!I17)","v":0},null,{"$f":"IF(PS!B19=\"\",\"\",PS!C19)","v":""},{"$f":"IF(PS!B19=\"\",\"\",PS!D19)","v":""},null,{"$f":"IF(PS!F19=\"\",\"\",PS!G19)","v":""},{"$f":"IF(PS!F19=\"\",\"\",PS!H19)","v":""},null,{"$f":"IF(LP!A17=\"\",\"\",LP!B17)","v":""},{"$f":"IF(LP!A17=\"\",0,LP!C17)","v":0},null,{"$f":"IF(LP!E17=\"\",\"\",LP!F17)","v":""},{"$f":"IF(LP!E17=\"\",0,LP!G17)","v":0},null,{"$f":"IF(LP!I17=\"\",\"\",LP!J17)","v":""},{"$f":"IF(LP!I17=\"\",0,LP!K17)","v":0},null,{"$f":"IF(BPBPS!B17=\"\",\"\",BPBPS!C17)","v":""},{"$f":"IF(BPBPS!B17=\"\",0,BPBPS!D17)","v":0},null,{"$f":"IF(BPBPS!F17=\"\",\"\",BPBPS!G17)","v":""},{"$f":"IF(BPBPS!H17=\"\",0,BPBPS!H17)","v":0},null,{"$f":"IF(BPBPS!J17=\"\",\"\",BPBPS!K17)","v":""},{"$f":"IF(BPBPS!J17=\"\",0,BPBPS!L17)","v":0},null,{"$f":"IF(SSGP!B17=\"\",\"\",SSGP!C17)","v":""},{"$f":"IF(SSGP!B17=\"\",0,SSGP!D17)","v":0},null,{"$f":"IF(SSGP!F17=\"\",\"\",SSGP!G17)","v":""},{"$f":"IF(SSGP!F17=\"\",0,SSGP!H17)","v":0}]
[16,{"$f":"IF(WPP!B18=\"\",\"\",WPP!C18)","v":""},{"$f":"IF(WPP!B18=\"\",0,WPP!D18)","v":0},{"$f":"IF(WPP!B18=\"\",0,WPP!E18)","v":0},null,{"$f":"IF(WPP!G18=\"\",\"\",WPP!H18)","v":""},{"$f":"IF(WPP!G18=\"\",0,WPP!I18)","v":0},{"$f":"IF(WPP!G18=\"\",0,WPP!J18)","v":0},null,{"$f":"IF(KSP!B18=\"\",\"\",KSP!C18)","v":""},{"$f":"IF(KSP!B18=\"\",0,KSP!D18)","v":0},{"$f":"IF(KSP!B18=\"\",0,KSP!E18)","v":0},null,{"$f":"IF(KSP!G18=\"\",\"\",KSP!H18)","v":""},{"$f":"IF(KSP!G18=\"\",0,KSP!I18)","v":0},{"$f":"IF(KSP!G18=\"\",0,KSP!J18)","v":0},null,{"$f":"IF(FSP!B18=\"\",\"\",FSP!C18)","v":""},{"$f":"IF(FSP!B18=\"\",0,FSP!D18)","v":0},{"$f":"IF(FSP!B18=\"\",0,FSP!E18)","v":0},null,{"$f":"IF(FSP!G18=\"\",\"\",FSP!H18)","v":""},{"$f":"IF(FSP!G18=\"\",0,FSP!I18)","v":0},null,{"$f":"IF(PS!B20=\"\",\"\",PS!C20)","v":""},{"$f":"IF(PS!B20=\"\",\"\",PS!D20)","v":""},null,{"$f":"IF(PS!F20=\"\",\"\",PS!G20)","v":""},{"$f":"IF(PS!F20=\"\",\"\",PS!H20)","v":""},null,{"$f":"IF(LP!A18=\"\",\"\",LP!B18)","v":""},{"$f":"IF(LP!A18=\"\",0,LP!C18)","v":0},null,{"$f":"IF(LP!E18=\"\",\"\",LP!F18)","v":""},{"$f":"IF(LP!E18=\"\",0,LP!G18)","v":0},null,{"$f":"IF(LP!I18=\"\",\"\",LP!J18)","v":""},{"$f":"IF(LP!I18=\"\",0,LP!K18)","v":0},null,{"$f":"IF(BPBPS!B18=\"\",\"\",BPBPS!C18)","v":""},{"$f":"IF(BPBPS!B18=\"\",0,BPBPS!D18)","v":0},null,{"$f":"IF(BPBPS!F18=\"\",\"\",BPBPS!G18)","v":""},{"$f":"IF(BPBPS!H18=\"\",0,BPBPS!H18)","v":0},null,{"$f":"IF(BPBPS!J18=\"\",\"\",BPBPS!K18)","v":""},{"$f":"IF(BPBPS!J18=\"\",0,BPBPS!L18)","v":0},null,{"$f":"IF(SSGP!B18=\"\",\"\",SSGP!C18)","v":""},{"$f":"IF(SSGP!B18=\"\",0,SSGP!D18)","v":0},null,{"$f":"IF(SSGP!F18=\"\",\"\",SSGP!G18)","v":""},{"$f":"IF(SSGP!F18=\"\",0,SSGP!H18)","v":0}]
[17,{"$f":"IF(WPP!B19=\"\",\"\",WPP!C19)","v":""},{"$f":"IF(WPP!B19=\"\",0,WPP!D19)","v":0},{"$f":"IF(WPP!B19=\"\",0,WPP!E19)","v":0},null,{"$f":"IF(WPP!G19=\"\",\"\",WPP!H19)","v":""},{"$f":"IF(WPP!G19=\"\",0,WPP!I19)","v":0},{"$f":"IF(WPP!G19=\"\",0,WPP!J19)","v":0},null,{"$f":"IF(KSP!B19=\"\",\"\",KSP!C19)","v":""},{"$f":"IF(KSP!B19=\"\",0,KSP!D19)","v":0},{"$f":"IF(KSP!B19=\"\",0,KSP!E19)","v":0},null,{"$f":"IF(KSP!G19=\"\",\"\",KSP!H19)","v":""},{"$f":"IF(KSP!G19=\"\",0,KSP!I19)","v":0},{"$f":"IF(KSP!G19=\"\",0,KSP!J19)","v":0},null,{"$f":"IF(FSP!B19=\"\",\"\",FSP!C19)","v":""},{"$f":"IF(FSP!B19=\"\",0,FSP!D19)","v":0},{"$f":"IF(FSP!B19=\"\",0,FSP!E19)","v":0},null,{"$f":"IF(FSP!G19=\"\",\"\",FSP!H19)","v":""},{"$f":"IF(FSP!G19=\"\",0,FSP!I19)","v":0},null,{"$f":"IF(PS!B21=\"\",\"\",PS!C21)","v":""},{"$f":"IF(PS!B21=\"\",\"\",PS!D21)","v":""},null,{"$f":"IF(PS!F21=\"\",\"\",PS!G21)","v":""},{"$f":"IF(PS!F21=\"\",\"\",PS!H21)","v":""},null,{"$f":"IF(LP!A19=\"\",\"\",LP!B19)","v":""},{"$f":"IF(LP!A19=\"\",0,LP!C19)","v":0},null,{"$f":"IF(LP!E19=\"\",\"\",LP!F19)","v":""},{"$f":"IF(LP!E19=\"\",0,LP!G19)","v":0},null,{"$f":"IF(LP!I19=\"\",\"\",LP!J19)","v":""},{"$f":"IF(LP!I19=\"\",0,LP!K19)","v":0},null,{"$f":"IF(BPBPS!B19=\"\",\"\",BPBPS!C19)","v":""},{"$f":"IF(BPBPS!B19=\"\",0,BPBPS!D19)","v":0},null,{"$f":"IF(BPBPS!F19=\"\",\"\",BPBPS!G19)","v":""},{"$f":"IF(BPBPS!H19=\"\",0,BPBPS!H19)","v":0},null,{"$f":"IF(BPBPS!J19=\"\",\"\",BPBPS!K19)","v":""},{"$f":"IF(BPBPS!J19=\"\",0,BPBPS!L19)","v":0},null,{"$f":"IF(SSGP!B19=\"\",\"\",SSGP!C19)","v":""},{"$f":"IF(SSGP!B19=\"\",0,SSGP!D19)","v":0},null,{"$f":"IF(SSGP!F19=\"\",\"\",SSGP!G19)","v":""},{"$f":"IF(SSGP!F19=\"\",0,SSGP!H19)","v":0}]
[18,{"$f":"IF(WPP!B20=\"\",\"\",WPP!C20)","v":""},{"$f":"IF(WPP!B20=\"\",0,WPP!D20)","v":0},{"$f":"IF(WPP!B20=\"\",0,WPP!E20)","v":0},null,{"$f":"IF(WPP!G20=\"\",\"\",WPP!H20)","v":""},{"$f":"IF(WPP!G20=\"\",0,WPP!I20)","v":0},{"$f":"IF(WPP!G20=\"\",0,WPP!J20)","v":0},null,{"$f":"IF(KSP!B20=\"\",\"\",KSP!C20)","v":""},{"$f":"IF(KSP!B20=\"\",0,KSP!D20)","v":0},{"$f":"IF(KSP!B20=\"\",0,KSP!E20)","v":0},null,{"$f":"IF(KSP!G20=\"\",\"\",KSP!H20)","v":""},{"$f":"IF(KSP!G20=\"\",0,KSP!I20)","v":0},{"$f":"IF(KSP!G20=\"\",0,KSP!J20)","v":0},null,{"$f":"IF(FSP!B20=\"\",\"\",FSP!C20)","v":""},{"$f":"IF(FSP!B20=\"\",0,FSP!D20)","v":0},{"$f":"IF(FSP!B20=\"\",0,FSP!E20)","v":0},null,{"$f":"IF(FSP!G20=\"\",\"\",FSP!H20)","v":""},{"$f":"IF(FSP!G20=\"\",0,FSP!I20)","v":0},null,{"$f":"IF(PS!B22=\"\",\"\",PS!C22)","v":""},{"$f":"IF(PS!B22=\"\",\"\",PS!D22)","v":""},null,{"$f":"IF(PS!F22=\"\",\"\",PS!G22)","v":""},{"$f":"IF(PS!F22=\"\",\"\",PS!H22)","v":""},null,{"$f":"IF(LP!A20=\"\",\"\",LP!B20)","v":""},{"$f":"IF(LP!A20=\"\",0,LP!C20)","v":0},null,{"$f":"IF(LP!E20=\"\",\"\",LP!F20)","v":""},{"$f":"IF(LP!E20=\"\",0,LP!G20)","v":0},null,{"$f":"IF(LP!I20=\"\",\"\",LP!J20)","v":""},{"$f":"IF(LP!I20=\"\",0,LP!K20)","v":0},null,{"$f":"IF(BPBPS!B20=\"\",\"\",BPBPS!C20)","v":""},{"$f":"IF(BPBPS!B20=\"\",0,BPBPS!D20)","v":0},null,{"$f":"IF(BPBPS!F20=\"\",\"\",BPBPS!G20)","v":""},{"$f":"IF(BPBPS!H20=\"\",0,BPBPS!H20)","v":0},null,{"$f":"IF(BPBPS!J20=\"\",\"\",BPBPS!K20)","v":""},{"$f":"IF(BPBPS!J20=\"\",0,BPBPS!L20)","v":0},null,{"$f":"IF(SSGP!B20=\"\",\"\",SSGP!C20)","v":""},{"$f":"IF(SSGP!B20=\"\",0,SSGP!D20)","v":0},null,{"$f":"IF(SSGP!F20=\"\",\"\",SSGP!G20)","v":""},{"$f":"IF(SSGP!F20=\"\",0,SSGP!H20)","v":0}]
[19,{"$f":"IF(WPP!B21=\"\",\"\",WPP!C21)","v":""},{"$f":"IF(WPP!B21=\"\",0,WPP!D21)","v":0},{"$f":"IF(WPP!B21=\"\",0,WPP!E21)","v":0},null,{"$f":"IF(WPP!G21=\"\",\"\",WPP!H21)","v":""},{"$f":"IF(WPP!G21=\"\",0,WPP!I21)","v":0},{"$f":"IF(WPP!G21=\"\",0,WPP!J21)","v":0},null,{"$f":"IF(KSP!B21=\"\",\"\",KSP!C21)","v":""},{"$f":"IF(KSP!B21=\"\",0,KSP!D21)","v":0},{"$f":"IF(KSP!B21=\"\",0,KSP!E21)","v":0},null,{"$f":"IF(KSP!G21=\"\",\"\",KSP!H21)","v":""},{"$f":"IF(KSP!G21=\"\",0,KSP!I21)","v":0},{"$f":"IF(KSP!G21=\"\",0,KSP!J21)","v":0},null,{"$f":"IF(FSP!B21=\"\",\"\",FSP!C21)","v":""},{"$f":"IF(FSP!B21=\"\",0,FSP!D21)","v":0},{"$f":"IF(FSP!B21=\"\",0,FSP!E21)","v":0},null,{"$f":"IF(FSP!G21=\"\",\"\",FSP!H21)","v":""},{"$f":"IF(FSP!G21=\"\",0,FSP!I21)","v":0},null,{"$f":"IF(PS!B23=\"\",\"\",PS!C23)","v":""},{"$f":"IF(PS!B23=\"\",\"\",PS!D23)","v":""},null,{"$f":"IF(PS!F23=\"\",\"\",PS!G23)","v":""},{"$f":"IF(PS!F23=\"\",\"\",PS!H23)","v":""},null,{"$f":"IF(LP!A21=\"\",\"\",LP!B21)","v":""},{"$f":"IF(LP!A21=\"\",0,LP!C21)","v":0},null,{"$f":"IF(LP!E21=\"\",\"\",LP!F21)","v":""},{"$f":"IF(LP!E21=\"\",0,LP!G21)","v":0},null,{"$f":"IF(LP!I21=\"\",\"\",LP!J21)","v":""},{"$f":"IF(LP!I21=\"\",0,LP!K21)","v":0},null,{"$f":"IF(BPBPS!B21=\"\",\"\",BPBPS!C21)","v":""},{"$f":"IF(BPBPS!B21=\"\",0,BPBPS!D21)","v":0},null,{"$f":"IF(BPBPS!F21=\"\",\"\",BPBPS!G21)","v":""},{"$f":"IF(BPBPS!H21=\"\",0,BPBPS!H21)","v":0},null,{"$f":"IF(BPBPS!J21=\"\",\"\",BPBPS!K21)","v":""},{"$f":"IF(BPBPS!J21=\"\",0,BPBPS!L21)","v":0},null,{"$f":"IF(SSGP!B21=\"\",\"\",SSGP!C21)","v":""},{"$f":"IF(SSGP!B21=\"\",0,SSGP!D21)","v":0},null,{"$f":"IF(SSGP!F21=\"\",\"\",SSGP!G21)","v":""},{"$f":"IF(SSGP!F21=\"\",0,SSGP!H21)","v":0}]
[20,{"$f":"IF(WPP!B22=\"\",\"\",WPP!C22)","v":""},{"$f":"IF(WPP!B22=\"\",0,WPP!D22)","v":0},{"$f":"IF(WPP!B22=\"\",0,WPP!E22)","v":0},null,{"$f":"IF(WPP!G22=\"\",\"\",WPP!H22)","v":""},{"$f":"IF(WPP!G22=\"\",0,WPP!I22)","v":0},{"$f":"IF(WPP!G22=\"\",0,WPP!J22)","v":0},null,{"$f":"IF(KSP!B22=\"\",\"\",KSP!C22)","v":""},{"$f":"IF(KSP!B22=\"\",0,KSP!D22)","v":0},{"$f":"IF(KSP!B22=\"\",0,KSP!E22)","v":0},null,{"$f":"IF(KSP!G22=\"\",\"\",KSP!H22)","v":""},{"$f":"IF(KSP!G22=\"\",0,KSP!I22)","v":0},{"$f":"IF(KSP!G22=\"\",0,KSP!J22)","v":0},null,{"$f":"IF(FSP!B22=\"\",\"\",FSP!C22)","v":""},{"$f":"IF(FSP!B22=\"\",0,FSP!D22)","v":0},{"$f":"IF(FSP!B22=\"\",0,FSP!E22)","v":0},null,{"$f":"IF(FSP!G22=\"\",\"\",FSP!H22)","v":""},{"$f":"IF(FSP!G22=\"\",0,FSP!I22)","v":0},null,{"$f":"IF(PS!B24=\"\",\"\",PS!C24)","v":""},{"$f":"IF(PS!B24=\"\",\"\",PS!D24)","v":""},null,{"$f":"IF(PS!F24=\"\",\"\",PS!G24)","v":""},{"$f":"IF(PS!F24=\"\",\"\",PS!H24)","v":""},null,{"$f":"IF(LP!A22=\"\",\"\",LP!B22)","v":""},{"$f":"IF(LP!A22=\"\",0,LP!C22)","v":0},null,{"$f":"IF(LP!E22=\"\",\"\",LP!F22)","v":""},{"$f":"IF(LP!E22=\"\",0,LP!G22)","v":0},null,{"$f":"IF(LP!I22=\"\",\"\",LP!J22)","v":""},{"$f":"IF(LP!I22=\"\",0,LP!K22)","v":0},null,{"$f":"IF(BPBPS!B22=\"\",\"\",BPBPS!C22)","v":""},{"$f":"IF(BPBPS!B22=\"\",0,BPBPS!D22)","v":0},null,{"$f":"IF(BPBPS!F22=\"\",\"\",BPBPS!G22)","v":""},{"$f":"IF(BPBPS!H22=\"\",0,BPBPS!H22)","v":0},null,{"$f":"IF(BPBPS!J22=\"\",\"\",BPBPS!K22)","v":""},{"$f":"IF(BPBPS!J22=\"\",0,BPBPS!L22)","v":0},null,{"$f":"IF(SSGP!B22=\"\",\"\",SSGP!C22)","v":""},{"$f":"IF(SSGP!B22=\"\",0,SSGP!D22)","v":0},null,{"$f":"IF(SSGP!F22=\"\",\"\",SSGP!G22)","v":""},{"$f":"IF(SSGP!F22=\"\",0,SSGP!H22)","v":0}]
[21,{"$f":"IF(WPP!B23=\"\",\"\",WPP!C23)","v":""},{"$f":"IF(WPP!B23=\"\",0,WPP!D23)","v":0},{"$f":"IF(WPP!B23=\"\",0,WPP!E23)","v":0},null,{"$f":"IF(WPP!G23=\"\",\"\",WPP!H23)","v":""},{"$f":"IF(WPP!G23=\"\",0,WPP!I23)","v":0},{"$f":"IF(WPP!G23=\"\",0,WPP!J23)","v":0},null,{"$f":"IF(KSP!B23=\"\",\"\",KSP!C23)","v":""},{"$f":"IF(KSP!B23=\"\",0,KSP!D23)","v":0},{"$f":"IF(KSP!B23=\"\",0,KSP!E23)","v":0},null,{"$f":"IF(KSP!G23=\"\",\"\",KSP!H23)","v":""},{"$f":"IF(KSP!G23=\"\",0,KSP!I23)","v":0},{"$f":"IF(KSP!G23=\"\",0,KSP!J23)","v":0},null,{"$f":"IF(FSP!B23=\"\",\"\",FSP!C23)","v":""},{"$f":"IF(FSP!B23=\"\",0,FSP!D23)","v":0},{"$f":"IF(FSP!B23=\"\",0,FSP!E23)","v":0},null,{"$f":"IF(FSP!G23=\"\",\"\",FSP!H23)","v":""},{"$f":"IF(FSP!G23=\"\",0,FSP!I23)","v":0},null,{"$f":"IF(PS!B25=\"\",\"\",PS!C25)","v":""},{"$f":"IF(PS!B25=\"\",\"\",PS!D25)","v":""},null,{"$f":"IF(PS!F25=\"\",\"\",PS!G25)","v":""},{"$f":"IF(PS!F25=\"\",\"\",PS!H25)","v":""},null,{"$f":"IF(LP!A23=\"\",\"\",LP!B23)","v":""},{"$f":"IF(LP!A23=\"\",0,LP!C23)","v":0},null,{"$f":"IF(LP!E23=\"\",\"\",LP!F23)","v":""},{"$f":"IF(LP!E23=\"\",0,LP!G23)","v":0},null,{"$f":"IF(LP!I23=\"\",\"\",LP!J23)","v":""},{"$f":"IF(LP!I23=\"\",0,LP!K23)","v":0},null,{"$f":"IF(BPBPS!B23=\"\",\"\",BPBPS!C23)","v":""},{"$f":"IF(BPBPS!B23=\"\",0,BPBPS!D23)","v":0},null,{"$f":"IF(BPBPS!F23=\"\",\"\",BPBPS!G23)","v":""},{"$f":"IF(BPBPS!H23=\"\",0,BPBPS!H23)","v":0},null,{"$f":"IF(BPBPS!J23=\"\",\"\",BPBPS!K23)","v":""},{"$f":"IF(BPBPS!J23=\"\",0,BPBPS!L23)","v":0},null,{"$f":"IF(SSGP!B23=\"\",\"\",SSGP!C23)","v":""},{"$f":"IF(SSGP!B23=\"\",0,SSGP!D23)","v":0},null,{"$f":"IF(SSGP!F23=\"\",\"\",SSGP!G23)","v":""},{"$f":"IF(SSGP!F23=\"\",0,SSGP!H23)","v":0}]
[22,{"$f":"IF(WPP!B24=\"\",\"\",WPP!C24)","v":""},{"$f":"IF(WPP!B24=\"\",0,WPP!D24)","v":0},{"$f":"IF(WPP!B24=\"\",0,WPP!E24)","v":0},null,{"$f":"IF(WPP!G24=\"\",\"\",WPP!H24)","v":""},{"$f":"IF(WPP!G24=\"\",0,WPP!I24)","v":0},{"$f":"IF(WPP!G24=\"\",0,WPP!J24)","v":0},null,{"$f":"IF(KSP!B24=\"\",\"\",KSP!C24)","v":""},{"$f":"IF(KSP!B24=\"\",0,KSP!D24)","v":0},{"$f":"IF(KSP!B24=\"\",0,KSP!E24)","v":0},null,{"$f":"IF(KSP!G24=\"\",\"\",KSP!H24)","v":""},{"$f":"IF(KSP!G24=\"\",0,KSP!I24)","v":0},{"$f":"IF(KSP!G24=\"\",0,KSP!J24)","v":0},null,{"$f":"IF(FSP!B24=\"\",\"\",FSP!C24)","v":""},{"$f":"IF(FSP!B24=\"\",0,FSP!D24)","v":0},{"$f":"IF(FSP!B24=\"\",0,FSP!E24)","v":0},null,{"$f":"IF(FSP!G24=\"\",\"\",FSP!H24)","v":""},{"$f":"IF(FSP!G24=\"\",0,FSP!I24)","v":0},null,{"$f":"IF(PS!B26=\"\",\"\",PS!C26)","v":""},{"$f":"IF(PS!B26=\"\",\"\",PS!D26)","v":""},null,{"$f":"IF(PS!F26=\"\",\"\",PS!G26)","v":""},{"$f":"IF(PS!F26=\"\",\"\",PS!H26)","v":""},null,{"$f":"IF(LP!A24=\"\",\"\",LP!B24)","v":""},{"$f":"IF(LP!A24=\"\",0,LP!C24)","v":0},null,{"$f":"IF(LP!E24=\"\",\"\",LP!F24)","v":""},{"$f":"IF(LP!E24=\"\",0,LP!G24)","v":0},null,{"$f":"IF(LP!I24=\"\",\"\",LP!J24)","v":""},{"$f":"IF(LP!I24=\"\",0,LP!K24)","v":0},null,{"$f":"IF(BPBPS!B24=\"\",\"\",BPBPS!C24)","v":""},{"$f":"IF(BPBPS!B24=\"\",0,BPBPS!D24)","v":0},null,{"$f":"IF(BPBPS!F24=\"\",\"\",BPBPS!G24)","v":""},{"$f":"IF(BPBPS!H24=\"\",0,BPBPS!H24)","v":0},null,{"$f":"IF(BPBPS!J24=\"\",\"\",BPBPS!K24)","v":""},{"$f":"IF(BPBPS!J24=\"\",0,BPBPS!L24)","v":0},null,{"$f":"IF(SSGP!B24=\"\",\"\",SSGP!C24)","v":""},{"$f":"IF(SSGP!B24=\"\",0,SSGP!D24)","v":0},null,{"$f":"IF(SSGP!F24=\"\",\"\",SSGP!G24)","v":""},{"$f":"IF(SSGP!F24=\"\",0,SSGP!H24)","v":0}]
[23,{"$f":"IF(WPP!B25=\"\",\"\",WPP!C25)","v":""},{"$f":"IF(WPP!B25=\"\",0,WPP!D25)","v":0},{"$f":"IF(WPP!B25=\"\",0,WPP!E25)","v":0},null,{"$f":"IF(WPP!G25=\"\",\"\",WPP!H25)","v":""},{"$f":"IF(WPP!G25=\"\",0,WPP!I25)","v":0},{"$f":"IF(WPP!G25=\"\",0,WPP!J25)","v":0},null,{"$f":"IF(KSP!B25=\"\",\"\",KSP!C25)","v":""},{"$f":"IF(KSP!B25=\"\",0,KSP!D25)","v":0},{"$f":"IF(KSP!B25=\"\",0,KSP!E25)","v":0},null,{"$f":"IF(KSP!G25=\"\",\"\",KSP!H25)","v":""},{"$f":"IF(KSP!G25=\"\",0,KSP!I25)","v":0},{"$f":"IF(KSP!G25=\"\",0,KSP!J25)","v":0},null,{"$f":"IF(FSP!B25=\"\",\"\",FSP!C25)","v":""},{"$f":"IF(FSP!B25=\"\",0,FSP!D25)","v":0},{"$f":"IF(FSP!B25=\"\",0,FSP!E25)","v":0},null,{"$f":"IF(FSP!G25=\"\",\"\",FSP!H25)","v":""},{"$f":"IF(FSP!G25=\"\",0,FSP!I25)","v":0},null,{"$f":"IF(PS!B27=\"\",\"\",PS!C27)","v":""},{"$f":"IF(PS!B27=\"\",\"\",PS!D27)","v":""},null,{"$f":"IF(PS!F27=\"\",\"\",PS!G27)","v":""},{"$f":"IF(PS!F27=\"\",\"\",PS!H27)","v":""},null,{"$f":"IF(LP!A25=\"\",\"\",LP!B25)","v":""},{"$f":"IF(LP!A25=\"\",0,LP!C25)","v":0},null,{"$f":"IF(LP!E25=\"\",\"\",LP!F25)","v":""},{"$f":"IF(LP!E25=\"\",0,LP!G25)","v":0},null,{"$f":"IF(LP!I25=\"\",\"\",LP!J25)","v":""},{"$f":"IF(LP!I25=\"\",0,LP!K25)","v":0},null,{"$f":"IF(BPBPS!B25=\"\",\"\",BPBPS!C25)","v":""},{"$f":"IF(BPBPS!B25=\"\",0,BPBPS!D25)","v":0},null,{"$f":"IF(BPBPS!F25=\"\",\"\",BPBPS!G25)","v":""},{"$f":"IF(BPBPS!H25=\"\",0,BPBPS!H25)","v":0},null,{"$f":"IF(BPBPS!J25=\"\",\"\",BPBPS!K25)","v":""},{"$f":"IF(BPBPS!J25=\"\",0,BPBPS!L25)","v":0},null,{"$f":"IF(SSGP!B25=\"\",\"\",SSGP!C25)","v":""},{"$f":"IF(SSGP!B25=\"\",0,SSGP!D25)","v":0},null,{"$f":"IF(SSGP!F25=\"\",\"\",SSGP!G25)","v":""},{"$f":"IF(SSGP!F25=\"\",0,SSGP!H25)","v":0}]
[24,{"$f":"IF(WPP!B26=\"\",\"\",WPP!C26)","v":""},{"$f":"IF(WPP!B26=\"\",0,WPP!D26)","v":0},{"$f":"IF(WPP!B26=\"\",0,WPP!E26)","v":0},null,{"$f":"IF(WPP!G26=\"\",\"\",WPP!H26)","v":""},{"$f":"IF(WPP!G26=\"\",0,WPP!I26)","v":0},{"$f":"IF(WPP!G26=\"\",0,WPP!J26)","v":0},null,{"$f":"IF(KSP!B26=\"\",\"\",KSP!C26)","v":""},{"$f":"IF(KSP!B26=\"\",0,KSP!D26)","v":0},{"$f":"IF(KSP!B26=\"\",0,KSP!E26)","v":0},null,{"$f":"IF(KSP!G26=\"\",\"\",KSP!H26)","v":""},{"$f":"IF(KSP!G26=\"\",0,KSP!I26)","v":0},{"$f":"IF(KSP!G26=\"\",0,KSP!J26)","v":0},null,{"$f":"IF(FSP!B26=\"\",\"\",FSP!C26)","v":""},{"$f":"IF(FSP!B26=\"\",0,FSP!D26)","v":0},{"$f":"IF(FSP!B26=\"\",0,FSP!E26)","v":0},null,{"$f":"IF(FSP!G26=\"\",\"\",FSP!H26)","v":""},{"$f":"IF(FSP!G26=\"\",0,FSP!I26)","v":0},null,{"$f":"IF(PS!B28=\"\",\"\",PS!C28)","v":""},{"$f":"IF(PS!B28=\"\",\"\",PS!D28)","v":""},null,{"$f":"IF(PS!F28=\"\",\"\",PS!G28)","v":""},{"$f":"IF(PS!F28=\"\",\"\",PS!H28)","v":""},null,{"$f":"IF(LP!A26=\"\",\"\",LP!B26)","v":""},{"$f":"IF(LP!A26=\"\",0,LP!C26)","v":0},null,{"$f":"IF(LP!E26=\"\",\"\",LP!F26)","v":""},{"$f":"IF(LP!E26=\"\",0,LP!G26)","v":0},null,{"$f":"IF(LP!I26=\"\",\"\",LP!J26)","v":""},{"$f":"IF(LP!I26=\"\",0,LP!K26)","v":0},null,{"$f":"IF(BPBPS!B26=\"\",\"\",BPBPS!C26)","v":""},{"$f":"IF(BPBPS!B26=\"\",0,BPBPS!D26)","v":0},null,{"$f":"IF(BPBPS!F26=\"\",\"\",BPBPS!G26)","v":""},{"$f":"IF(BPBPS!H26=\"\",0,BPBPS!H26)","v":0},null,{"$f":"IF(BPBPS!J26=\"\",\"\",BPBPS!K26)","v":""},{"$f":"IF(BPBPS!J26=\"\",0,BPBPS!L26)","v":0},null,{"$f":"IF(SSGP!B26=\"\",\"\",SSGP!C26)","v":""},{"$f":"IF(SSGP!B26=\"\",0,SSGP!D26)","v":0},null,{"$f":"IF(SSGP!F26=\"\",\"\",SSGP!G26)","v":""},{"$f":"IF(SSGP!F26=\"\",0,SSGP!H26)","v":0}]
[25,{"$f":"IF(WPP!B27=\"\",\"\",WPP!C27)","v":""},{"$f":"IF(WPP!B27=\"\",0,WPP!D27)","v":0},{"$f":"IF(WPP!B27=\"\",0,WPP!E27)","v":0},null,{"$f":"IF(WPP!G27=\"\",\"\",WPP!H27)","v":""},{"$f":"IF(WPP!G27=\"\",0,WPP!I27)","v":0},{"$f":"IF(WPP!G27=\"\",0,WPP!J27)","v":0},null,{"$f":"IF(KSP!B27=\"\",\"\",KSP!C27)","v":""},{"$f":"IF(KSP!B27=\"\",0,KSP!D27)","v":0},{"$f":"IF(KSP!B27=\"\",0,KSP!E27)","v":0},null,{"$f":"IF(KSP!G27=\"\",\"\",KSP!H27)","v":""},{"$f":"IF(KSP!G27=\"\",0,KSP!I27)","v":0},{"$f":"IF(KSP!G27=\"\",0,KSP!J27)","v":0},null,{"$f":"IF(FSP!B27=\"\",\"\",FSP!C27)","v":""},{"$f":"IF(FSP!B27=\"\",0,FSP!D27)","v":0},{"$f":"IF(FSP!B27=\"\",0,FSP!E27)","v":0},null,{"$f":"IF(FSP!G27=\"\",\"\",FSP!H27)","v":""},{"$f":"IF(FSP!G27=\"\",0,FSP!I27)","v":0},null,{"$f":"IF(PS!B29=\"\",\"\",PS!C29)","v":""},{"$f":"IF(PS!B29=\"\",\"\",PS!D29)","v":""},null,{"$f":"IF(PS!F29=\"\",\"\",PS!G29)","v":""},{"$f":"IF(PS!F29=\"\",\"\",PS!H29)","v":""},null,{"$f":"IF(LP!A27=\"\",\"\",LP!B27)","v":""},{"$f":"IF(LP!A27=\"\",0,LP!C27)","v":0},null,{"$f":"IF(LP!E27=\"\",\"\",LP!F27)","v":""},{"$f":"IF(LP!E27=\"\",0,LP!G27)","v":0},null,{"$f":"IF(LP!I27=\"\",\"\",LP!J27)","v":""},{"$f":"IF(LP!I27=\"\",0,LP!K27)","v":0},null,{"$f":"IF(BPBPS!B27=\"\",\"\",BPBPS!C27)","v":""},{"$f":"IF(BPBPS!B27=\"\",0,BPBPS!D27)","v":0},null,{"$f":"IF(BPBPS!F27=\"\",\"\",BPBPS!G27)","v":""},{"$f":"IF(BPBPS!H27=\"\",0,BPBPS!H27)","v":0},null,{"$f":"IF(BPBPS!J27=\"\",\"\",BPBPS!K27)","v":""},{"$f":"IF(BPBPS!J27=\"\",0,BPBPS!L27)","v":0},null,{"$f":"IF(SSGP!B27=\"\",\"\",SSGP!C27)","v":""},{"$f":"IF(SSGP!B27=\"\",0,SSGP!D27)","v":0},null,{"$f":"IF(SSGP!F27=\"\",\"\",SSGP!G27)","v":""},{"$f":"IF(SSGP!F27=\"\",0,SSGP!H27)","v":0}]
[26,{"$f":"IF(WPP!B28=\"\",\"\",WPP!C28)","v":""},{"$f":"IF(WPP!B28=\"\",0,WPP!D28)","v":0},{"$f":"IF(WPP!B28=\"\",0,WPP!E28)","v":0},null,{"$f":"IF(WPP!G28=\"\",\"\",WPP!H28)","v":""},{"$f":"IF(WPP!G28=\"\",0,WPP!I28)","v":0},{"$f":"IF(WPP!G28=\"\",0,WPP!J28)","v":0},null,{"$f":"IF(KSP!B28=\"\",\"\",KSP!C28)","v":""},{"$f":"IF(KSP!B28=\"\",0,KSP!D28)","v":0},{"$f":"IF(KSP!B28=\"\",0,KSP!E28)","v":0},null,{"$f":"IF(KSP!G28=\"\",\"\",KSP!H28)","v":""},{"$f":"IF(KSP!G28=\"\",0,KSP!I28)","v":0},{"$f":"IF(KSP!G28=\"\",0,KSP!J28)","v":0},null,{"$f":"IF(FSP!B28=\"\",\"\",FSP!C28)","v":""},{"$f":"IF(FSP!B28=\"\",0,FSP!D28)","v":0},{"$f":"IF(FSP!B28=\"\",0,FSP!E28)","v":0},null,{"$f":"IF(FSP!G28=\"\",\"\",FSP!H28)","v":""},{"$f":"IF(FSP!G28=\"\",0,FSP!I28)","v":0},null,{"$f":"IF(PS!B30=\"\",\"\",PS!C30)","v":""},{"$f":"IF(PS!B30=\"\",\"\",PS!D30)","v":""},null,{"$f":"IF(PS!F30=\"\",\"\",PS!G30)","v":""},{"$f":"IF(PS!F30=\"\",\"\",PS!H30)","v":""},null,{"$f":"IF(LP!A28=\"\",\"\",LP!B28)","v":""},{"$f":"IF(LP!A28=\"\",0,LP!C28)","v":0},null,{"$f":"IF(LP!E28=\"\",\"\",LP!F28)","v":""},{"$f":"IF(LP!E28=\"\",0,LP!G28)","v":0},null,{"$f":"IF(LP!I28=\"\",\"\",LP!J28)","v":""},{"$f":"IF(LP!I28=\"\",0,LP!K28)","v":0},null,{"$f":"IF(BPBPS!B28=\"\",\"\",BPBPS!C28)","v":""},{"$f":"IF(BPBPS!B28=\"\",0,BPBPS!D28)","v":0},null,{"$f":"IF(BPBPS!F28=\"\",\"\",BPBPS!G28)","v":""},{"$f":"IF(BPBPS!H28=\"\",0,BPBPS!H28)","v":0},null,{"$f":"IF(BPBPS!J28=\"\",\"\",BPBPS!K28)","v":""},{"$f":"IF(BPBPS!J28=\"\",0,BPBPS!L28)","v":0},null,{"$f":"IF(SSGP!B28=\"\",\"\",SSGP!C28)","v":""},{"$f":"IF(SSGP!B28=\"\",0,SSGP!D28)","v":0},null,{"$f":"IF(SSGP!F28=\"\",\"\",SSGP!G28)","v":""},{"$f":"IF(SSGP!F28=\"\",0,SSGP!H28)","v":0}]
[27,{"$f":"IF(WPP!B29=\"\",\"\",WPP!C29)","v":""},{"$f":"IF(WPP!B29=\"\",0,WPP!D29)","v":0},{"$f":"IF(WPP!B29=\"\",0,WPP!E29)","v":0},null,{"$f":"IF(WPP!G29=\"\",\"\",WPP!H29)","v":""},{"$f":"IF(WPP!G29=\"\",0,WPP!I29)","v":0},{"$f":"IF(WPP!G29=\"\",0,WPP!J29)","v":0},null,{"$f":"IF(KSP!B29=\"\",\"\",KSP!C29)","v":""},{"$f":"IF(KSP!B29=\"\",0,KSP!D29)","v":0},{"$f":"IF(KSP!B29=\"\",0,KSP!E29)","v":0},null,{"$f":"IF(KSP!G29=\"\",\"\",KSP!H29)","v":""},{"$f":"IF(KSP!G29=\"\",0,KSP!I29)","v":0},{"$f":"IF(KSP!G29=\"\",0,KSP!J29)","v":0},null,{"$f":"IF(FSP!B29=\"\",\"\",FSP!C29)","v":""},{"$f":"IF(FSP!B29=\"\",0,FSP!D29)","v":0},{"$f":"IF(FSP!B29=\"\",0,FSP!E29)","v":0},null,{"$f":"IF(FSP!G29=\"\",\"\",FSP!H29)","v":""},{"$f":"IF(FSP!G29=\"\",0,FSP!I29)","v":0},null,{"$f":"IF(PS!B31=\"\",\"\",PS!C31)","v":""},{"$f":"IF(PS!B31=\"\",\"\",PS!D31)","v":""},null,{"$f":"IF(PS!F31=\"\",\"\",PS!G31)","v":""},{"$f":"IF(PS!F31=\"\",\"\",PS!H31)","v":""},null,{"$f":"IF(LP!A29=\"\",\"\",LP!B29)","v":""},{"$f":"IF(LP!A29=\"\",0,LP!C29)","v":0},null,{"$f":"IF(LP!E29=\"\",\"\",LP!F29)","v":""},{"$f":"IF(LP!E29=\"\",0,LP!G29)","v":0},null,{"$f":"IF(LP!I29=\"\",\"\",LP!J29)","v":""},{"$f":"IF(LP!I29=\"\",0,LP!K29)","v":0},null,{"$f":"IF(BPBPS!B29=\"\",\"\",BPBPS!C29)","v":""},{"$f":"IF(BPBPS!B29=\"\",0,BPBPS!D29)","v":0},null,{"$f":"IF(BPBPS!F29=\"\",\"\",BPBPS!G29)","v":""},{"$f":"IF(BPBPS!H29=\"\",0,BPBPS!H29)","v":0},null,{"$f":"IF(BPBPS!J29=\"\",\"\",BPBPS!K29)","v":""},{"$f":"IF(BPBPS!J29=\"\",0,BPBPS!L29)","v":0},null,{"$f":"IF(SSGP!B29=\"\",\"\",SSGP!C29)","v":""},{"$f":"IF(SSGP!B29=\"\",0,SSGP!D29)","v":0},null,{"$f":"IF(SSGP!F29=\"\",\"\",SSGP!G29)","v":""},{"$f":"IF(SSGP!F29=\"\",0,SSGP!H29)","v":0}]
[28,{"$f":"IF(WPP!B30=\"\",\"\",WPP!C30)","v":""},{"$f":"IF(WPP!B30=\"\",0,WPP!D30)","v":0},{"$f":"IF(WPP!B30=\"\",0,WPP!E30)","v":0},null,{"$f":"IF(WPP!G30=\"\",\"\",WPP!H30)","v":""},{"$f":"IF(WPP!G30=\"\",0,WPP!I30)","v":0},{"$f":"IF(WPP!G30=\"\",0,WPP!J30)","v":0},null,{"$f":"IF(KSP!B30=\"\",\"\",KSP!C30)","v":""},{"$f":"IF(KSP!B30=\"\",0,KSP!D30)","v":0},{"$f":"IF(KSP!B30=\"\",0,KSP!E30)","v":0},null,{"$f":"IF(KSP!G30=\"\",\"\",KSP!H30)","v":""},{"$f":"IF(KSP!G30=\"\",0,KSP!I30)","v":0},{"$f":"IF(KSP!G30=\"\",0,KSP!J30)","v":0},null,{"$f":"IF(FSP!B30=\"\",\"\",FSP!C30)","v":""},{"$f":"IF(FSP!B30=\"\",0,FSP!D30)","v":0},{"$f":"IF(FSP!B30=\"\",0,FSP!E30)","v":0},null,{"$f":"IF(FSP!G30=\"\",\"\",FSP!H30)","v":""},{"$f":"IF(FSP!G30=\"\",0,FSP!I30)","v":0},null,{"$f":"IF(PS!B32=\"\",\"\",PS!C32)","v":""},{"$f":"IF(PS!B32=\"\",\"\",PS!D32)","v":""},null,{"$f":"IF(PS!F32=\"\",\"\",PS!G32)","v":""},{"$f":"IF(PS!F32=\"\",\"\",PS!H32)","v":""},null,{"$f":"IF(LP!A30=\"\",\"\",LP!B30)","v":""},{"$f":"IF(LP!A30=\"\",0,LP!C30)","v":0},null,{"$f":"IF(LP!E30=\"\",\"\",LP!F30)","v":""},{"$f":"IF(LP!E30=\"\",0,LP!G30)","v":0},null,{"$f":"IF(LP!I30=\"\",\"\",LP!J30)","v":""},{"$f":"IF(LP!I30=\"\",0,LP!K30)","v":0},null,{"$f":"IF(BPBPS!B30=\"\",\"\",BPBPS!C30)","v":""},{"$f":"IF(BPBPS!B30=\"\",0,BPBPS!D30)","v":0},null,{"$f":"IF(BPBPS!F30=\"\",\"\",BPBPS!G30)","v":""},{"$f":"IF(BPBPS!H30=\"\",0,BPBPS!H30)","v":0},null,{"$f":"IF(BPBPS!J30=\"\",\"\",BPBPS!K30)","v":""},{"$f":"IF(BPBPS!J30=\"\",0,BPBPS!L30)","v":0},null,{"$f":"IF(SSGP!B30=\"\",\"\",SSGP!C30)","v":""},{"$f":"IF(SSGP!B30=\"\",0,SSGP!D30)","v":0},null,{"$f":"IF(SSGP!F30=\"\",\"\",SSGP!G30)","v":""},{"$f":"IF(SSGP!F30=\"\",0,SSGP!H30)","v":0}]
[29,{"$f":"IF(WPP!B31=\"\",\"\",WPP!C31)","v":""},{"$f":"IF(WPP!B31=\"\",0,WPP!D31)","v":0},{"$f":"IF(WPP!B31=\"\",0,WPP!E31)","v":0},null,{"$f":"IF(WPP!G31=\"\",\"\",WPP!H31)","v":""},{"$f":"IF(WPP!G31=\"\",0,WPP!I31)","v":0},{"$f":"IF(WPP!G31=\"\",0,WPP!J31)","v":0},null,{"$f":"IF(KSP!B31=\"\",\"\",KSP!C31)","v":""},{"$f":"IF(KSP!B31=\"\",0,KSP!D31)","v":0},{"$f":"IF(KSP!B31=\"\",0,KSP!E31)","v":0},null,{"$f":"IF(KSP!G31=\"\",\"\",KSP!H31)","v":""},{"$f":"IF(KSP!G31=\"\",0,KSP!I31)","v":0},{"$f":"IF(KSP!G31=\"\",0,KSP!J31)","v":0},null,{"$f":"IF(FSP!B31=\"\",\"\",FSP!C31)","v":""},{"$f":"IF(FSP!B31=\"\",0,FSP!D31)","v":0},{"$f":"IF(FSP!B31=\"\",0,FSP!E31)","v":0},null,{"$f":"IF(FSP!G31=\"\",\"\",FSP!H31)","v":""},{"$f":"IF(FSP!G31=\"\",0,FSP!I31)","v":0},null,{"$f":"IF(PS!B33=\"\",\"\",PS!C33)","v":""},{"$f":"IF(PS!B33=\"\",\"\",PS!D33)","v":""},null,{"$f":"IF(PS!F33=\"\",\"\",PS!G33)","v":""},{"$f":"IF(PS!F33=\"\",\"\",PS!H33)","v":""},null,{"$f":"IF(LP!A31=\"\",\"\",LP!B31)","v":""},{"$f":"IF(LP!A31=\"\",0,LP!C31)","v":0},null,{"$f":"IF(LP!E31=\"\",\"\",LP!F31)","v":""},{"$f":"IF(LP!E31=\"\",0,LP!G31)","v":0},null,{"$f":"IF(LP!I31=\"\",\"\",LP!J31)","v":""},{"$f":"IF(LP!I31=\"\",0,LP!K31)","v":0},null,{"$f":"IF(BPBPS!B31=\"\",\"\",BPBPS!C31)","v":""},{"$f":"IF(BPBPS!B31=\"\",0,BPBPS!D31)","v":0},null,{"$f":"IF(BPBPS!F31=\"\",\"\",BPBPS!G31)","v":""},{"$f":"IF(BPBPS!H31=\"\",0,BPBPS!H31)","v":0},null,{"$f":"IF(BPBPS!J31=\"\",\"\",BPBPS!K31)","v":""},{"$f":"IF(BPBPS!J31=\"\",0,BPBPS!L31)","v":0},null,{"$f":"IF(SSGP!B31=\"\",\"\",SSGP!C31)","v":""},{"$f":"IF(SSGP!B31=\"\",0,SSGP!D31)","v":0},null,{"$f":"IF(SSGP!F31=\"\",\"\",SSGP!G31)","v":""},{"$f":"IF(SSGP!F31=\"\",0,SSGP!H31)","v":0}]
[30,{"$f":"IF(WPP!B32=\"\",\"\",WPP!C32)","v":""},{"$f":"IF(WPP!B32=\"\",0,WPP!D32)","v":0},{"$f":"IF(WPP!B32=\"\",0,WPP!E32)","v":0},null,{"$f":"IF(WPP!G32=\"\",\"\",WPP!H32)","v":""},{"$f":"IF(WPP!G32=\"\",0,WPP!I32)","v":0},{"$f":"IF(WPP!G32=\"\",0,WPP!J32)","v":0},null,{"$f":"IF(KSP!B32=\"\",\"\",KSP!C32)","v":""},{"$f":"IF(KSP!B32=\"\",0,KSP!D32)","v":0},{"$f":"IF(KSP!B32=\"\",0,KSP!E32)","v":0},null,{"$f":"IF(KSP!G32=\"\",\"\",KSP!H32)","v":""},{"$f":"IF(KSP!G32=\"\",0,KSP!I32)","v":0},{"$f":"IF(KSP!G32=\"\",0,KSP!J32)","v":0},null,{"$f":"IF(FSP!B32=\"\",\"\",FSP!C32)","v":""},{"$f":"IF(FSP!B32=\"\",0,FSP!D32)","v":0},{"$f":"IF(FSP!B32=\"\",0,FSP!E32)","v":0},null,{"$f":"IF(FSP!G32=\"\",\"\",FSP!H32)","v":""},{"$f":"IF(FSP!G32=\"\",0,FSP!I32)","v":0},null,{"$f":"IF(PS!B34=\"\",\"\",PS!C34)","v":""},{"$f":"IF(PS!B34=\"\",\"\",PS!D34)","v":""},null,{"$f":"IF(PS!F34=\"\",\"\",PS!G34)","v":""},{"$f":"IF(PS!F34=\"\",\"\",PS!H34)","v":""},null,{"$f":"IF(LP!A32=\"\",\"\",LP!B32)","v":""},{"$f":"IF(LP!A32=\"\",0,LP!C32)","v":0},null,{"$f":"IF(LP!E32=\"\",\"\",LP!F32)","v":""},{"$f":"IF(LP!E32=\"\",0,LP!G32)","v":0},null,{"$f":"IF(LP!I32=\"\",\"\",LP!J32)","v":""},{"$f":"IF(LP!I32=\"\",0,LP!K32)","v":0},null,{"$f":"IF(BPBPS!B32=\"\",\"\",BPBPS!C32)","v":""},{"$f":"IF(BPBPS!B32=\"\",0,BPBPS!D32)","v":0},null,{"$f":"IF(BPBPS!F32=\"\",\"\",BPBPS!G32)","v":""},{"$f":"IF(BPBPS!H32=\"\",0,BPBPS!H32)","v":0},null,{"$f":"IF(BPBPS!J32=\"\",\"\",BPBPS!K32)","v":""},{"$f":"IF(BPBPS!J32=\"\",0,BPBPS!L32)","v":0},null,{"$f":"IF(SSGP!B32=\"\",\"\",SSGP!C32)","v":""},{"$f":"IF(SSGP!B32=\"\",0,SSGP!D32)","v":0},null,{"$f":"IF(SSGP!F32=\"\",\"\",SSGP!G32)","v":""},{"$f":"IF(SSGP!F32=\"\",0,SSGP!H32)","v":0}]
[31,{"$f":"IF(WPP!B33=\"\",\"\",WPP!C33)","v":""},{"$f":"IF(WPP!B33=\"\",0,WPP!D33)","v":0},{"$f":"IF(WPP!B33=\"\",0,WPP!E33)","v":0},null,{"$f":"IF(WPP!G33=\"\",\"\",WPP!H33)","v":""},{"$f":"IF(WPP!G33=\"\",0,WPP!I33)","v":0},{"$f":"IF(WPP!G33=\"\",0,WPP!J33)","v":0},null,{"$f":"IF(KSP!B33=\"\",\"\",KSP!C33)","v":""},{"$f":"IF(KSP!B33=\"\",0,KSP!D33)","v":0},{"$f":"IF(KSP!B33=\"\",0,KSP!E33)","v":0},null,{"$f":"IF(KSP!G33=\"\",\"\",KSP!H33)","v":""},{"$f":"IF(KSP!G33=\"\",0,KSP!I33)","v":0},{"$f":"IF(KSP!G33=\"\",0,KSP!J33)","v":0},null,{"$f":"IF(FSP!B33=\"\",\"\",FSP!C33)","v":""},{"$f":"IF(FSP!B33=\"\",0,FSP!D33)","v":0},{"$f":"IF(FSP!B33=\"\",0,FSP!E33)","v":0},null,{"$f":"IF(FSP!G33=\"\",\"\",FSP!H33)","v":""},{"$f":"IF(FSP!G33=\"\",0,FSP!I33)","v":0},null,{"$f":"IF(PS!B35=\"\",\"\",PS!C35)","v":""},{"$f":"IF(PS!B35=\"\",\"\",PS!D35)","v":""},null,{"$f":"IF(PS!F35=\"\",\"\",PS!G35)","v":""},{"$f":"IF(PS!F35=\"\",\"\",PS!H35)","v":""},null,{"$f":"IF(LP!A33=\"\",\"\",LP!B33)","v":""},{"$f":"IF(LP!A33=\"\",0,LP!C33)","v":0},null,{"$f":"IF(LP!E33=\"\",\"\",LP!F33)","v":""},{"$f":"IF(LP!E33=\"\",0,LP!G33)","v":0},null,{"$f":"IF(LP!I33=\"\",\"\",LP!J33)","v":""},{"$f":"IF(LP!I33=\"\",0,LP!K33)","v":0},null,{"$f":"IF(BPBPS!B33=\"\",\"\",BPBPS!C33)","v":""},{"$f":"IF(BPBPS!B33=\"\",0,BPBPS!D33)","v":0},null,{"$f":"IF(BPBPS!F33=\"\",\"\",BPBPS!G33)","v":""},{"$f":"IF(BPBPS!H33=\"\",0,BPBPS!H33)","v":0},null,{"$f":"IF(BPBPS!J33=\"\",\"\",BPBPS!K33)","v":""},{"$f":"IF(BPBPS!J33=\"\",0,BPBPS!L33)","v":0},null,{"$f":"IF(SSGP!B33=\"\",\"\",SSGP!C33)","v":""},{"$f":"IF(SSGP!B33=\"\",0,SSGP!D33)","v":0},null,{"$f":"IF(SSGP!F33=\"\",\"\",SSGP!G33)","v":""},{"$f":"IF(SSGP!F33=\"\",0,SSGP!H33)","v":0}]
[32,{"$f":"IF(WPP!B34=\"\",\"\",WPP!C34)","v":""},{"$f":"IF(WPP!B34=\"\",0,WPP!D34)","v":0},{"$f":"IF(WPP!B34=\"\",0,WPP!E34)","v":0},null,{"$f":"IF(WPP!G34=\"\",\"\",WPP!H34)","v":""},{"$f":"IF(WPP!G34=\"\",0,WPP!I34)","v":0},{"$f":"IF(WPP!G34=\"\",0,WPP!J34)","v":0},null,{"$f":"IF(KSP!B34=\"\",\"\",KSP!C34)","v":""},{"$f":"IF(KSP!B34=\"\",0,KSP!D34)","v":0},{"$f":"IF(KSP!B34=\"\",0,KSP!E34)","v":0},null,{"$f":"IF(KSP!G34=\"\",\"\",KSP!H34)","v":""},{"$f":"IF(KSP!G34=\"\",0,KSP!I34)","v":0},{"$f":"IF(KSP!G34=\"\",0,KSP!J34)","v":0},null,{"$f":"IF(FSP!B34=\"\",\"\",FSP!C34)","v":""},{"$f":"IF(FSP!B34=\"\",0,FSP!D34)","v":0},{"$f":"IF(FSP!B34=\"\",0,FSP!E34)","v":0},null,{"$f":"IF(FSP!G34=\"\",\"\",FSP!H34)","v":""},{"$f":"IF(FSP!G34=\"\",0,FSP!I34)","v":0},null,{"$f":"IF(PS!B36=\"\",\"\",PS!C36)","v":""},{"$f":"IF(PS!B36=\"\",\"\",PS!D36)","v":""},null,{"$f":"IF(PS!F36=\"\",\"\",PS!G36)","v":""},{"$f":"IF(PS!F36=\"\",\"\",PS!H36)","v":""},null,{"$f":"IF(LP!A34=\"\",\"\",LP!B34)","v":""},{"$f":"IF(LP!A34=\"\",0,LP!C34)","v":0},null,{"$f":"IF(LP!E34=\"\",\"\",LP!F34)","v":""},{"$f":"IF(LP!E34=\"\",0,LP!G34)","v":0},null,{"$f":"IF(LP!I34=\"\",\"\",LP!J34)","v":""},{"$f":"IF(LP!I34=\"\",0,LP!K34)","v":0},null,{"$f":"IF(BPBPS!B34=\"\",\"\",BPBPS!C34)","v":""},{"$f":"IF(BPBPS!B34=\"\",0,BPBPS!D34)","v":0},null,{"$f":"IF(BPBPS!F34=\"\",\"\",BPBPS!G34)","v":""},{"$f":"IF(BPBPS!H34=\"\",0,BPBPS!H34)","v":0},null,{"$f":"IF(BPBPS!J34=\"\",\"\",BPBPS!K34)","v":""},{"$f":"IF(BPBPS!J34=\"\",0,BPBPS!L34)","v":0},null,{"$f":"IF(SSGP!B34=\"\",\"\",SSGP!C34)","v":""},{"$f":"IF(SSGP!B34=\"\",0,SSGP!D34)","v":0},null,{"$f":"IF(SSGP!F34=\"\",\"\",SSGP!G34)","v":""},{"$f":"IF(SSGP!F34=\"\",0,SSGP!H34)","v":0}]
[33,{"$f":"IF(WPP!B35=\"\",\"\",WPP!C35)","v":""},{"$f":"IF(WPP!B35=\"\",0,WPP!D35)","v":0},{"$f":"IF(WPP!B35=\"\",0,WPP!E35)","v":0},null,{"$f":"IF(WPP!G35=\"\",\"\",WPP!H35)","v":""},{"$f":"IF(WPP!G35=\"\",0,WPP!I35)","v":0},{"$f":"IF(WPP!G35=\"\",0,WPP!J35)","v":0},null,{"$f":"IF(KSP!B35=\"\",\"\",KSP!C35)","v":""},{"$f":"IF(KSP!B35=\"\",0,KSP!D35)","v":0},{"$f":"IF(KSP!B35=\"\",0,KSP!E35)","v":0},null,{"$f":"IF(KSP!G35=\"\",\"\",KSP!H35)","v":""},{"$f":"IF(KSP!G35=\"\",0,KSP!I35)","v":0},{"$f":"IF(KSP!G35=\"\",0,KSP!J35)","v":0},null,{"$f":"IF(FSP!B35=\"\",\"\",FSP!C35)","v":""},{"$f":"IF(FSP!B35=\"\",0,FSP!D35)","v":0},{"$f":"IF(FSP!B35=\"\",0,FSP!E35)","v":0},null,{"$f":"IF(FSP!G35=\"\",\"\",FSP!H35)","v":""},{"$f":"IF(FSP!G35=\"\",0,FSP!I35)","v":0},null,{"$f":"IF(PS!B37=\"\",\"\",PS!C37)","v":""},{"$f":"IF(PS!B37=\"\",\"\",PS!D37)","v":""},null,{"$f":"IF(PS!F37=\"\",\"\",PS!G37)","v":""},{"$f":"IF(PS!F37=\"\",\"\",PS!H37)","v":""},null,{"$f":"IF(LP!A35=\"\",\"\",LP!B35)","v":""},{"$f":"IF(LP!A35=\"\",0,LP!C35)","v":0},null,{"$f":"IF(LP!E35=\"\",\"\",LP!F35)","v":""},{"$f":"IF(LP!E35=\"\",0,LP!G35)","v":0},null,{"$f":"IF(LP!I35=\"\",\"\",LP!J35)","v":""},{"$f":"IF(LP!I35=\"\",0,LP!K35)","v":0},null,{"$f":"IF(BPBPS!B35=\"\",\"\",BPBPS!C35)","v":""},{"$f":"IF(BPBPS!B35=\"\",0,BPBPS!D35)","v":0},null,{"$f":"IF(BPBPS!F35=\"\",\"\",BPBPS!G35)","v":""},{"$f":"IF(BPBPS!H35=\"\",0,BPBPS!H35)","v":0},null,{"$f":"IF(BPBPS!J35=\"\",\"\",BPBPS!K35)","v":""},{"$f":"IF(BPBPS!J35=\"\",0,BPBPS!L35)","v":0},null,{"$f":"IF(SSGP!B35=\"\",\"\",SSGP!C35)","v":""},{"$f":"IF(SSGP!B35=\"\",0,SSGP!D35)","v":0},null,{"$f":"IF(SSGP!F35=\"\",\"\",SSGP!G35)","v":""},{"$f":"IF(SSGP!F35=\"\",0,SSGP!H35)","v":0}]
[34,{"$f":"IF(WPP!B36=\"\",\"\",WPP!C36)","v":""},{"$f":"IF(WPP!B36=\"\",0,WPP!D36)","v":0},{"$f":"IF(WPP!B36=\"\",0,WPP!E36)","v":0},null,{"$f":"IF(WPP!G36=\"\",\"\",WPP!H36)","v":""},{"$f":"IF(WPP!G36=\"\",0,WPP!I36)","v":0},{"$f":"IF(WPP!G36=\"\",0,WPP!J36)","v":0},null,{"$f":"IF(KSP!B36=\"\",\"\",KSP!C36)","v":""},{"$f":"IF(KSP!B36=\"\",0,KSP!D36)","v":0},{"$f":"IF(KSP!B36=\"\",0,KSP!E36)","v":0},null,{"$f":"IF(KSP!G36=\"\",\"\",KSP!H36)","v":""},{"$f":"IF(KSP!G36=\"\",0,KSP!I36)","v":0},{"$f":"IF(KSP!G36=\"\",0,KSP!J36)","v":0},null,{"$f":"IF(FSP!B36=\"\",\"\",FSP!C36)","v":""},{"$f":"IF(FSP!B36=\"\",0,FSP!D36)","v":0},{"$f":"IF(FSP!B36=\"\",0,FSP!E36)","v":0},null,{"$f":"IF(FSP!G36=\"\",\"\",FSP!H36)","v":""},{"$f":"IF(FSP!G36=\"\",0,FSP!I36)","v":0},null,{"$f":"IF(PS!B38=\"\",\"\",PS!C38)","v":""},{"$f":"IF(PS!B38=\"\",\"\",PS!D38)","v":""},null,{"$f":"IF(PS!F38=\"\",\"\",PS!G38)","v":""},{"$f":"IF(PS!F38=\"\",\"\",PS!H38)","v":""},null,{"$f":"IF(LP!A36=\"\",\"\",LP!B36)","v":""},{"$f":"IF(LP!A36=\"\",0,LP!C36)","v":0},null,{"$f":"IF(LP!E36=\"\",\"\",LP!F36)","v":""},{"$f":"IF(LP!E36=\"\",0,LP!G36)","v":0},null,{"$f":"IF(LP!I36=\"\",\"\",LP!J36)","v":""},{"$f":"IF(LP!I36=\"\",0,LP!K36)","v":0},null,{"$f":"IF(BPBPS!B36=\"\",\"\",BPBPS!C36)","v":""},{"$f":"IF(BPBPS!B36=\"\",0,BPBPS!D36)","v":0},null,{"$f":"IF(BPBPS!F36=\"\",\"\",BPBPS!G36)","v":""},{"$f":"IF(BPBPS!H36=\"\",0,BPBPS!H36)","v":0},null,{"$f":"IF(BPBPS!J36=\"\",\"\",BPBPS!K36)","v":""},{"$f":"IF(BPBPS!J36=\"\",0,BPBPS!L36)","v":0},null,{"$f":"IF(SSGP!B36=\"\",\"\",SSGP!C36)","v":""},{"$f":"IF(SSGP!B36=\"\",0,SSGP!D36)","v":0},null,{"$f":"IF(SSGP!F36=\"\",\"\",SSGP!G36)","v":""},{"$f":"IF(SSGP!F36=\"\",0,SSGP!H36)","v":0}]
[35,{"$f":"IF(WPP!B37=\"\",\"\",WPP!C37)","v":""},{"$f":"IF(WPP!B37=\"\",0,WPP!D37)","v":0},{"$f":"IF(WPP!B37=\"\",0,WPP!E37)","v":0},null,{"$f":"IF(WPP!G37=\"\",\"\",WPP!H37)","v":""},{"$f":"IF(WPP!G37=\"\",0,WPP!I37)","v":0},{"$f":"IF(WPP!G37=\"\",0,WPP!J37)","v":0},null,{"$f":"IF(KSP!B37=\"\",\"\",KSP!C37)","v":""},{"$f":"IF(KSP!B37=\"\",0,KSP!D37)","v":0},{"$f":"IF(KSP!B37=\"\",0,KSP!E37)","v":0},null,{"$f":"IF(KSP!G37=\"\",\"\",KSP!H37)","v":""},{"$f":"IF(KSP!G37=\"\",0,KSP!I37)","v":0},{"$f":"IF(KSP!G37=\"\",0,KSP!J37)","v":0},null,{"$f":"IF(FSP!B37=\"\",\"\",FSP!C37)","v":""},{"$f":"IF(FSP!B37=\"\",0,FSP!D37)","v":0},{"$f":"IF(FSP!B37=\"\",0,FSP!E37)","v":0},null,{"$f":"IF(FSP!G37=\"\",\"\",FSP!H37)","v":""},{"$f":"IF(FSP!G37=\"\",0,FSP!I37)","v":0},null,{"$f":"IF(PS!B39=\"\",\"\",PS!C39)","v":""},{"$f":"IF(PS!B39=\"\",\"\",PS!D39)","v":""},null,{"$f":"IF(PS!F39=\"\",\"\",PS!G39)","v":""},{"$f":"IF(PS!F39=\"\",\"\",PS!H39)","v":""},null,{"$f":"IF(LP!A37=\"\",\"\",LP!B37)","v":""},{"$f":"IF(LP!A37=\"\",0,LP!C37)","v":0},null,{"$f":"IF(LP!E37=\"\",\"\",LP!F37)","v":""},{"$f":"IF(LP!E37=\"\",0,LP!G37)","v":0},null,{"$f":"IF(LP!I37=\"\",\"\",LP!J37)","v":""},{"$f":"IF(LP!I37=\"\",0,LP!K37)","v":0},null,{"$f":"IF(BPBPS!B37=\"\",\"\",BPBPS!C37)","v":""},{"$f":"IF(BPBPS!B37=\"\",0,BPBPS!D37)","v":0},null,{"$f":"IF(BPBPS!F37=\"\",\"\",BPBPS!G37)","v":""},{"$f":"IF(BPBPS!H37=\"\",0,BPBPS!H37)","v":0},null,{"$f":"IF(BPBPS!J37=\"\",\"\",BPBPS!K37)","v":""},{"$f":"IF(BPBPS!J37=\"\",0,BPBPS!L37)","v":0},null,{"$f":"IF(SSGP!B37=\"\",\"\",SSGP!C37)","v":""},{"$f":"IF(SSGP!B37=\"\",0,SSGP!D37)","v":0},null,{"$f":"IF(SSGP!F37=\"\",\"\",SSGP!G37)","v":""},{"$f":"IF(SSGP!F37=\"\",0,SSGP!H37)","v":0}]
[36,{"$f":"IF(WPP!B38=\"\",\"\",WPP!C38)","v":""},{"$f":"IF(WPP!B38=\"\",0,WPP!D38)","v":0},{"$f":"IF(WPP!B38=\"\",0,WPP!E38)","v":0},null,{"$f":"IF(WPP!G38=\"\",\"\",WPP!H38)","v":""},{"$f":"IF(WPP!G38=\"\",0,WPP!I38)","v":0},{"$f":"IF(WPP!G38=\"\",0,WPP!J38)","v":0},null,{"$f":"IF(KSP!B38=\"\",\"\",KSP!C38)","v":""},{"$f":"IF(KSP!B38=\"\",0,KSP!D38)","v":0},{"$f":"IF(KSP!B38=\"\",0,KSP!E38)","v":0},null,{"$f":"IF(KSP!G38=\"\",\"\",KSP!H38)","v":""},{"$f":"IF(KSP!G38=\"\",0,KSP!I38)","v":0},{"$f":"IF(KSP!G38=\"\",0,KSP!J38)","v":0},null,{"$f":"IF(FSP!B38=\"\",\"\",FSP!C38)","v":""},{"$f":"IF(FSP!B38=\"\",0,FSP!D38)","v":0},{"$f":"IF(FSP!B38=\"\",0,FSP!E38)","v":0},null,{"$f":"IF(FSP!G38=\"\",\"\",FSP!H38)","v":""},{"$f":"IF(FSP!G38=\"\",0,FSP!I38)","v":0},null,{"$f":"IF(PS!B40=\"\",\"\",PS!C40)","v":""},{"$f":"IF(PS!B40=\"\",\"\",PS!D40)","v":""},null,{"$f":"IF(PS!F40=\"\",\"\",PS!G40)","v":""},{"$f":"IF(PS!F40=\"\",\"\",PS!H40)","v":""},null,{"$f":"IF(LP!A38=\"\",\"\",LP!B38)","v":""},{"$f":"IF(LP!A38=\"\",0,LP!C38)","v":0},null,{"$f":"IF(LP!E38=\"\",\"\",LP!F38)","v":""},{"$f":"IF(LP!E38=\"\",0,LP!G38)","v":0},null,{"$f":"IF(LP!I38=\"\",\"\",LP!J38)","v":""},{"$f":"IF(LP!I38=\"\",0,LP!K38)","v":0},null,{"$f":"IF(BPBPS!B38=\"\",\"\",BPBPS!C38)","v":""},{"$f":"IF(BPBPS!B38=\"\",0,BPBPS!D38)","v":0},null,{"$f":"IF(BPBPS!F38=\"\",\"\",BPBPS!G38)","v":""},{"$f":"IF(BPBPS!H38=\"\",0,BPBPS!H38)","v":0},null,{"$f":"IF(BPBPS!J38=\"\",\"\",BPBPS!K38)","v":""},{"$f":"IF(BPBPS!J38=\"\",0,BPBPS!L38)","v":0},null,{"$f":"IF(SSGP!B38=\"\",\"\",SSGP!C38)","v":""},{"$f":"IF(SSGP!B38=\"\",0,SSGP!D38)","v":0},null,{"$f":"IF(SSGP!F38=\"\",\"\",SSGP!G38)","v":""},{"$f":"IF(SSGP!F38=\"\",0,SSGP!H38)","v":0}]
[37,{"$f":"IF(WPP!B39=\"\",\"\",WPP!C39)","v":""},{"$f":"IF(WPP!B39=\"\",0,WPP!D39)","v":0},{"$f":"IF(WPP!B39=\"\",0,WPP!E39)","v":0},null,{"$f":"IF(WPP!G39=\"\",\"\",WPP!H39)","v":""},{"$f":"IF(WPP!G39=\"\",0,WPP!I39)","v":0},{"$f":"IF(WPP!G39=\"\",0,WPP!J39)","v":0},null,{"$f":"IF(KSP!B39=\"\",\"\",KSP!C39)","v":""},{"$f":"IF(KSP!B39=\"\",0,KSP!D39)","v":0},{"$f":"IF(KSP!B39=\"\",0,KSP!E39)","v":0},null,{"$f":"IF(KSP!G39=\"\",\"\",KSP!H39)","v":""},{"$f":"IF(KSP!G39=\"\",0,KSP!I39)","v":0},{"$f":"IF(KSP!G39=\"\",0,KSP!J39)","v":0},null,{"$f":"IF(FSP!B39=\"\",\"\",FSP!C39)","v":""},{"$f":"IF(FSP!B39=\"\",0,FSP!D39)","v":0},{"$f":"IF(FSP!B39=\"\",0,FSP!E39)","v":0},null,{"$f":"IF(FSP!G39=\"\",\"\",FSP!H39)","v":""},{"$f":"IF(FSP!G39=\"\",0,FSP!I39)","v":0},null,{"$f":"IF(PS!B41=\"\",\"\",PS!C41)","v":""},{"$f":"IF(PS!B41=\"\",\"\",PS!D41)","v":""},null,{"$f":"IF(PS!F41=\"\",\"\",PS!G41)","v":""},{"$f":"IF(PS!F41=\"\",\"\",PS!H41)","v":""},null,{"$f":"IF(LP!A39=\"\",\"\",LP!B39)","v":""},{"$f":"IF(LP!A39=\"\",0,LP!C39)","v":0},null,{"$f":"IF(LP!E39=\"\",\"\",LP!F39)","v":""},{"$f":"IF(LP!E39=\"\",0,LP!G39)","v":0},null,{"$f":"IF(LP!I39=\"\",\"\",LP!J39)","v":""},{"$f":"IF(LP!I39=\"\",0,LP!K39)","v":0},null,{"$f":"IF(BPBPS!B39=\"\",\"\",BPBPS!C39)","v":""},{"$f":"IF(BPBPS!B39=\"\",0,BPBPS!D39)","v":0},null,{"$f":"IF(BPBPS!F39=\"\",\"\",BPBPS!G39)","v":""},{"$f":"IF(BPBPS!H39=\"\",0,BPBPS!H39)","v":0},null,{"$f":"IF(BPBPS!J39=\"\",\"\",BPBPS!K39)","v":""},{"$f":"IF(BPBPS!J39=\"\",0,BPBPS!L39)","v":0},null,{"$f":"IF(SSGP!B39=\"\",\"\",SSGP!C39)","v":""},{"$f":"IF(SSGP!B39=\"\",0,SSGP!D39)","v":0},null,{"$f":"IF(SSGP!F39=\"\",\"\",SSGP!G39)","v":""},{"$f":"IF(SSGP!F39=\"\",0,SSGP!H39)","v":0}]
[38,{"$f":"IF(WPP!B40=\"\",\"\",WPP!C40)","v":""},{"$f":"IF(WPP!B40=\"\",0,WPP!D40)","v":0},{"$f":"IF(WPP!B40=\"\",0,WPP!E40)","v":0},null,{"$f":"IF(WPP!G40=\"\",\"\",WPP!H40)","v":""},{"$f":"IF(WPP!G40=\"\",0,WPP!I40)","v":0},{"$f":"IF(WPP!G40=\"\",0,WPP!J40)","v":0},null,{"$f":"IF(KSP!B40=\"\",\"\",KSP!C40)","v":""},{"$f":"IF(KSP!B40=\"\",0,KSP!D40)","v":0},{"$f":"IF(KSP!B40=\"\",0,KSP!E40)","v":0},null,{"$f":"IF(KSP!G40=\"\",\"\",KSP!H40)","v":""},{"$f":"IF(KSP!G40=\"\",0,KSP!I40)","v":0},{"$f":"IF(KSP!G40=\"\",0,KSP!J40)","v":0},null,{"$f":"IF(FSP!B40=\"\",\"\",FSP!C40)","v":""},{"$f":"IF(FSP!B40=\"\",0,FSP!D40)","v":0},{"$f":"IF(FSP!B40=\"\",0,FSP!E40)","v":0},null,{"$f":"IF(FSP!G40=\"\",\"\",FSP!H40)","v":""},{"$f":"IF(FSP!G40=\"\",0,FSP!I40)","v":0},null,{"$f":"IF(PS!B42=\"\",\"\",PS!C42)","v":""},{"$f":"IF(PS!B42=\"\",\"\",PS!D42)","v":""},null,{"$f":"IF(PS!F42=\"\",\"\",PS!G42)","v":""},{"$f":"IF(PS!F42=\"\",\"\",PS!H42)","v":""},null,{"$f":"IF(LP!A40=\"\",\"\",LP!B40)","v":""},{"$f":"IF(LP!A40=\"\",0,LP!C40)","v":0},null,{"$f":"IF(LP!E40=\"\",\"\",LP!F40)","v":""},{"$f":"IF(LP!E40=\"\",0,LP!G40)","v":0},null,{"$f":"IF(LP!I40=\"\",\"\",LP!J40)","v":""},{"$f":"IF(LP!I40=\"\",0,LP!K40)","v":0},null,{"$f":"IF(BPBPS!B40=\"\",\"\",BPBPS!C40)","v":""},{"$f":"IF(BPBPS!B40=\"\",0,BPBPS!D40)","v":0},null,{"$f":"IF(BPBPS!F40=\"\",\"\",BPBPS!G40)","v":""},{"$f":"IF(BPBPS!H40=\"\",0,BPBPS!H40)","v":0},null,{"$f":"IF(BPBPS!J40=\"\",\"\",BPBPS!K40)","v":""},{"$f":"IF(BPBPS!J40=\"\",0,BPBPS!L40)","v":0},null,{"$f":"IF(SSGP!B40=\"\",\"\",SSGP!C40)","v":""},{"$f":"IF(SSGP!B40=\"\",0,SSGP!D40)","v":0},null,{"$f":"IF(SSGP!F40=\"\",\"\",SSGP!G40)","v":""},{"$f":"IF(SSGP!F40=\"\",0,SSGP!H40)","v":0}]
[39,{"$f":"IF(WPP!B41=\"\",\"\",WPP!C41)","v":""},{"$f":"IF(WPP!B41=\"\",0,WPP!D41)","v":0},{"$f":"IF(WPP!B41=\"\",0,WPP!E41)","v":0},null,{"$f":"IF(WPP!G41=\"\",\"\",WPP!H41)","v":""},{"$f":"IF(WPP!G41=\"\",0,WPP!I41)","v":0},{"$f":"IF(WPP!G41=\"\",0,WPP!J41)","v":0},null,{"$f":"IF(KSP!B41=\"\",\"\",KSP!C41)","v":""},{"$f":"IF(KSP!B41=\"\",0,KSP!D41)","v":0},{"$f":"IF(KSP!B41=\"\",0,KSP!E41)","v":0},null,{"$f":"IF(KSP!G41=\"\",\"\",KSP!H41)","v":""},{"$f":"IF(KSP!G41=\"\",0,KSP!I41)","v":0},{"$f":"IF(KSP!G41=\"\",0,KSP!J41)","v":0},null,{"$f":"IF(FSP!B41=\"\",\"\",FSP!C41)","v":""},{"$f":"IF(FSP!B41=\"\",0,FSP!D41)","v":0},{"$f":"IF(FSP!B41=\"\",0,FSP!E41)","v":0},null,{"$f":"IF(FSP!G41=\"\",\"\",FSP!H41)","v":""},{"$f":"IF(FSP!G41=\"\",0,FSP!I41)","v":0},null,{"$f":"IF(PS!B43=\"\",\"\",PS!C43)","v":""},{"$f":"IF(PS!B43=\"\",\"\",PS!D43)","v":""},null,{"$f":"IF(PS!F43=\"\",\"\",PS!G43)","v":""},{"$f":"IF(PS!F43=\"\",\"\",PS!H43)","v":""},null,{"$f":"IF(LP!A41=\"\",\"\",LP!B41)","v":""},{"$f":"IF(LP!A41=\"\",0,LP!C41)","v":0},null,{"$f":"IF(LP!E41=\"\",\"\",LP!F41)","v":""},{"$f":"IF(LP!E41=\"\",0,LP!G41)","v":0},null,{"$f":"IF(LP!I41=\"\",\"\",LP!J41)","v":""},{"$f":"IF(LP!I41=\"\",0,LP!K41)","v":0},null,{"$f":"IF(BPBPS!B41=\"\",\"\",BPBPS!C41)","v":""},{"$f":"IF(BPBPS!B41=\"\",0,BPBPS!D41)","v":0},null,{"$f":"IF(BPBPS!F41=\"\",\"\",BPBPS!G41)","v":""},{"$f":"IF(BPBPS!H41=\"\",0,BPBPS!H41)","v":0},null,{"$f":"IF(BPBPS!J41=\"\",\"\",BPBPS!K41)","v":""},{"$f":"IF(BPBPS!J41=\"\",0,BPBPS!L41)","v":0},null,{"$f":"IF(SSGP!B41=\"\",\"\",SSGP!C41)","v":""},{"$f":"IF(SSGP!B41=\"\",0,SSGP!D41)","v":0},null,{"$f":"IF(SSGP!F41=\"\",\"\",SSGP!G41)","v":""},{"$f":"IF(SSGP!F41=\"\",0,SSGP!H41)","v":0}]
[40,{"$f":"IF(WPP!B42=\"\",\"\",WPP!C42)","v":""},{"$f":"IF(WPP!B42=\"\",0,WPP!D42)","v":0},{"$f":"IF(WPP!B42=\"\",0,WPP!E42)","v":0},null,{"$f":"IF(WPP!G42=\"\",\"\",WPP!H42)","v":""},{"$f":"IF(WPP!G42=\"\",0,WPP!I42)","v":0},{"$f":"IF(WPP!G42=\"\",0,WPP!J42)","v":0},null,{"$f":"IF(KSP!B42=\"\",\"\",KSP!C42)","v":""},{"$f":"IF(KSP!B42=\"\",0,KSP!D42)","v":0},{"$f":"IF(KSP!B42=\"\",0,KSP!E42)","v":0},null,{"$f":"IF(KSP!G42=\"\",\"\",KSP!H42)","v":""},{"$f":"IF(KSP!G42=\"\",0,KSP!I42)","v":0},{"$f":"IF(KSP!G42=\"\",0,KSP!J42)","v":0},null,{"$f":"IF(FSP!B42=\"\",\"\",FSP!C42)","v":""},{"$f":"IF(FSP!B42=\"\",0,FSP!D42)","v":0},{"$f":"IF(FSP!B42=\"\",0,FSP!E42)","v":0},null,{"$f":"IF(FSP!G42=\"\",\"\",FSP!H42)","v":""},{"$f":"IF(FSP!G42=\"\",0,FSP!I42)","v":0},null,{"$f":"IF(PS!B44=\"\",\"\",PS!C44)","v":""},{"$f":"IF(PS!B44=\"\",\"\",PS!D44)","v":""},null,{"$f":"IF(PS!F44=\"\",\"\",PS!G44)","v":""},{"$f":"IF(PS!F44=\"\",\"\",PS!H44)","v":""},null,{"$f":"IF(LP!A42=\"\",\"\",LP!B42)","v":""},{"$f":"IF(LP!A42=\"\",0,LP!C42)","v":0},null,{"$f":"IF(LP!E42=\"\",\"\",LP!F42)","v":""},{"$f":"IF(LP!E42=\"\",0,LP!G42)","v":0},null,{"$f":"IF(LP!I42=\"\",\"\",LP!J42)","v":""},{"$f":"IF(LP!I42=\"\",0,LP!K42)","v":0},null,{"$f":"IF(BPBPS!B42=\"\",\"\",BPBPS!C42)","v":""},{"$f":"IF(BPBPS!B42=\"\",0,BPBPS!D42)","v":0},null,{"$f":"IF(BPBPS!F42=\"\",\"\",BPBPS!G42)","v":""},{"$f":"IF(BPBPS!H42=\"\",0,BPBPS!H42)","v":0},null,{"$f":"IF(BPBPS!J42=\"\",\"\",BPBPS!K42)","v":""},{"$f":"IF(BPBPS!J42=\"\",0,BPBPS!L42)","v":0},null,{"$f":"IF(SSGP!B42=\"\",\"\",SSGP!C42)","v":""},{"$f":"IF(SSGP!B42=\"\",0,SSGP!D42)","v":0},null,{"$f":"IF(SSGP!F42=\"\",\"\",SSGP!G42)","v":""},{"$f":"IF(SSGP!F42=\"\",0,SSGP!H42)","v":0}]
[41,{"$f":"IF(WPP!B43=\"\",\"\",WPP!C43)","v":""},{"$f":"IF(WPP!B43=\"\",0,WPP!D43)","v":0},{"$f":"IF(WPP!B43=\"\",0,WPP!E43)","v":0},null,{"$f":"IF(WPP!G43=\"\",\"\",WPP!H43)","v":""},{"$f":"IF(WPP!G43=\"\",0,WPP!I43)","v":0},{"$f":"IF(WPP!G43=\"\",0,WPP!J43)","v":0},null,{"$f":"IF(KSP!B43=\"\",\"\",KSP!C43)","v":""},{"$f":"IF(KSP!B43=\"\",0,KSP!D43)","v":0},{"$f":"IF(KSP!B43=\"\",0,KSP!E43)","v":0},null,{"$f":"IF(KSP!G43=\"\",\"\",KSP!H43)","v":""},{"$f":"IF(KSP!G43=\"\",0,KSP!I43)","v":0},{"$f":"IF(KSP!G43=\"\",0,KSP!J43)","v":0},null,{"$f":"IF(FSP!B43=\"\",\"\",FSP!C43)","v":""},{"$f":"IF(FSP!B43=\"\",0,FSP!D43)","v":0},{"$f":"IF(FSP!B43=\"\",0,FSP!E43)","v":0},null,{"$f":"IF(FSP!G43=\"\",\"\",FSP!H43)","v":""},{"$f":"IF(FSP!G43=\"\",0,FSP!I43)","v":0},null,{"$f":"IF(PS!B45=\"\",\"\",PS!C45)","v":""},{"$f":"IF(PS!B45=\"\",\"\",PS!D45)","v":""},null,{"$f":"IF(PS!F45=\"\",\"\",PS!G45)","v":""},{"$f":"IF(PS!F45=\"\",\"\",PS!H45)","v":""},null,{"$f":"IF(LP!A43=\"\",\"\",LP!B43)","v":""},{"$f":"IF(LP!A43=\"\",0,LP!C43)","v":0},null,{"$f":"IF(LP!E43=\"\",\"\",LP!F43)","v":""},{"$f":"IF(LP!E43=\"\",0,LP!G43)","v":0},null,{"$f":"IF(LP!I43=\"\",\"\",LP!J43)","v":""},{"$f":"IF(LP!I43=\"\",0,LP!K43)","v":0},null,{"$f":"IF(BPBPS!B43=\"\",\"\",BPBPS!C43)","v":""},{"$f":"IF(BPBPS!B43=\"\",0,BPBPS!D43)","v":0},null,{"$f":"IF(BPBPS!F43=\"\",\"\",BPBPS!G43)","v":""},{"$f":"IF(BPBPS!H43=\"\",0,BPBPS!H43)","v":0},null,{"$f":"IF(BPBPS!J43=\"\",\"\",BPBPS!K43)","v":""},{"$f":"IF(BPBPS!J43=\"\",0,BPBPS!L43)","v":0},null,{"$f":"IF(SSGP!B43=\"\",\"\",SSGP!C43)","v":""},{"$f":"IF(SSGP!B43=\"\",0,SSGP!D43)","v":0},null,{"$f":"IF(SSGP!F43=\"\",\"\",SSGP!G43)","v":""},{"$f":"IF(SSGP!F43=\"\",0,SSGP!H43)","v":0}]
[42,{"$f":"IF(WPP!B44=\"\",\"\",WPP!C44)","v":""},{"$f":"IF(WPP!B44=\"\",0,WPP!D44)","v":0},{"$f":"IF(WPP!B44=\"\",0,WPP!E44)","v":0},null,{"$f":"IF(WPP!G44=\"\",\"\",WPP!H44)","v":""},{"$f":"IF(WPP!G44=\"\",0,WPP!I44)","v":0},{"$f":"IF(WPP!G44=\"\",0,WPP!J44)","v":0},null,{"$f":"IF(KSP!B44=\"\",\"\",KSP!C44)","v":""},{"$f":"IF(KSP!B44=\"\",0,KSP!D44)","v":0},{"$f":"IF(KSP!B44=\"\",0,KSP!E44)","v":0},null,{"$f":"IF(KSP!G44=\"\",\"\",KSP!H44)","v":""},{"$f":"IF(KSP!G44=\"\",0,KSP!I44)","v":0},{"$f":"IF(KSP!G44=\"\",0,KSP!J44)","v":0},null,{"$f":"IF(FSP!B44=\"\",\"\",FSP!C44)","v":""},{"$f":"IF(FSP!B44=\"\",0,FSP!D44)","v":0},{"$f":"IF(FSP!B44=\"\",0,FSP!E44)","v":0},null,{"$f":"IF(FSP!G44=\"\",\"\",FSP!H44)","v":""},{"$f":"IF(FSP!G44=\"\",0,FSP!I44)","v":0},null,{"$f":"IF(PS!B46=\"\",\"\",PS!C46)","v":""},{"$f":"IF(PS!B46=\"\",\"\",PS!D46)","v":""},null,{"$f":"IF(PS!F46=\"\",\"\",PS!G46)","v":""},{"$f":"IF(PS!F46=\"\",\"\",PS!H46)","v":""},null,{"$f":"IF(LP!A44=\"\",\"\",LP!B44)","v":""},{"$f":"IF(LP!A44=\"\",0,LP!C44)","v":0},null,{"$f":"IF(LP!E44=\"\",\"\",LP!F44)","v":""},{"$f":"IF(LP!E44=\"\",0,LP!G44)","v":0},null,{"$f":"IF(LP!I44=\"\",\"\",LP!J44)","v":""},{"$f":"IF(LP!I44=\"\",0,LP!K44)","v":0},null,{"$f":"IF(BPBPS!B44=\"\",\"\",BPBPS!C44)","v":""},{"$f":"IF(BPBPS!B44=\"\",0,BPBPS!D44)","v":0},null,{"$f":"IF(BPBPS!F44=\"\",\"\",BPBPS!G44)","v":""},{"$f":"IF(BPBPS!H44=\"\",0,BPBPS!H44)","v":0},null,{"$f":"IF(BPBPS!J44=\"\",\"\",BPBPS!K44)","v":""},{"$f":"IF(BPBPS!J44=\"\",0,BPBPS!L44)","v":0},null,{"$f":"IF(SSGP!B44=\"\",\"\",SSGP!C44)","v":""},{"$f":"IF(SSGP!B44=\"\",0,SSGP!D44)","v":0},null,{"$f":"IF(SSGP!F44=\"\",\"\",SSGP!G44)","v":""},{"$f":"IF(SSGP!F44=\"\",0,SSGP!H44)","v":0}]
[43,{"$f":"IF(WPP!B45=\"\",\"\",WPP!C45)","v":""},{"$f":"IF(WPP!B45=\"\",0,WPP!D45)","v":0},{"$f":"IF(WPP!B45=\"\",0,WPP!E45)","v":0},null,{"$f":"IF(WPP!G45=\"\",\"\",WPP!H45)","v":""},{"$f":"IF(WPP!G45=\"\",0,WPP!I45)","v":0},{"$f":"IF(WPP!G45=\"\",0,WPP!J45)","v":0},null,{"$f":"IF(KSP!B45=\"\",\"\",KSP!C45)","v":""},{"$f":"IF(KSP!B45=\"\",0,KSP!D45)","v":0},{"$f":"IF(KSP!B45=\"\",0,KSP!E45)","v":0},null,{"$f":"IF(KSP!G45=\"\",\"\",KSP!H45)","v":""},{"$f":"IF(KSP!G45=\"\",0,KSP!I45)","v":0},{"$f":"IF(KSP!G45=\"\",0,KSP!J45)","v":0},null,{"$f":"IF(FSP!B45=\"\",\"\",FSP!C45)","v":""},{"$f":"IF(FSP!B45=\"\",0,FSP!D45)","v":0},{"$f":"IF(FSP!B45=\"\",0,FSP!E45)","v":0},null,{"$f":"IF(FSP!G45=\"\",\"\",FSP!H45)","v":""},{"$f":"IF(FSP!G45=\"\",0,FSP!I45)","v":0},null,{"$f":"IF(PS!B47=\"\",\"\",PS!C47)","v":""},{"$f":"IF(PS!B47=\"\",\"\",PS!D47)","v":""},null,{"$f":"IF(PS!F47=\"\",\"\",PS!G47)","v":""},{"$f":"IF(PS!F47=\"\",\"\",PS!H47)","v":""},null,{"$f":"IF(LP!A45=\"\",\"\",LP!B45)","v":""},{"$f":"IF(LP!A45=\"\",0,LP!C45)","v":0},null,{"$f":"IF(LP!E45=\"\",\"\",LP!F45)","v":""},{"$f":"IF(LP!E45=\"\",0,LP!G45)","v":0},null,{"$f":"IF(LP!I45=\"\",\"\",LP!J45)","v":""},{"$f":"IF(LP!I45=\"\",0,LP!K45)","v":0},null,{"$f":"IF(BPBPS!B45=\"\",\"\",BPBPS!C45)","v":""},{"$f":"IF(BPBPS!B45=\"\",0,BPBPS!D45)","v":0},null,{"$f":"IF(BPBPS!F45=\"\",\"\",BPBPS!G45)","v":""},{"$f":"IF(BPBPS!H45=\"\",0,BPBPS!H45)","v":0},null,{"$f":"IF(BPBPS!J45=\"\",\"\",BPBPS!K45)","v":""},{"$f":"IF(BPBPS!J45=\"\",0,BPBPS!L45)","v":0},null,{"$f":"IF(SSGP!B45=\"\",\"\",SSGP!C45)","v":""},{"$f":"IF(SSGP!B45=\"\",0,SSGP!D45)","v":0},null,{"$f":"IF(SSGP!F45=\"\",\"\",SSGP!G45)","v":""},{"$f":"IF(SSGP!F45=\"\",0,SSGP!H45)","v":0}]
[44,{"$f":"IF(WPP!B46=\"\",\"\",WPP!C46)","v":""},{"$f":"IF(WPP!B46=\"\",0,WPP!D46)","v":0},{"$f":"IF(WPP!B46=\"\",0,WPP!E46)","v":0},null,{"$f":"IF(WPP!G46=\"\",\"\",WPP!H46)","v":""},{"$f":"IF(WPP!G46=\"\",0,WPP!I46)","v":0},{"$f":"IF(WPP!G46=\"\",0,WPP!J46)","v":0},null,{"$f":"IF(KSP!B46=\"\",\"\",KSP!C46)","v":""},{"$f":"IF(KSP!B46=\"\",0,KSP!D46)","v":0},{"$f":"IF(KSP!B46=\"\",0,KSP!E46)","v":0},null,{"$f":"IF(KSP!G46=\"\",\"\",KSP!H46)","v":""},{"$f":"IF(KSP!G46=\"\",0,KSP!I46)","v":0},{"$f":"IF(KSP!G46=\"\",0,KSP!J46)","v":0},null,{"$f":"IF(FSP!B46=\"\",\"\",FSP!C46)","v":""},{"$f":"IF(FSP!B46=\"\",0,FSP!D46)","v":0},{"$f":"IF(FSP!B46=\"\",0,FSP!E46)","v":0},null,{"$f":"IF(FSP!G46=\"\",\"\",FSP!H46)","v":""},{"$f":"IF(FSP!G46=\"\",0,FSP!I46)","v":0},null,{"$f":"IF(PS!B48=\"\",\"\",PS!C48)","v":""},{"$f":"IF(PS!B48=\"\",\"\",PS!D48)","v":""},null,{"$f":"IF(PS!F48=\"\",\"\",PS!G48)","v":""},{"$f":"IF(PS!F48=\"\",\"\",PS!H48)","v":""},null,{"$f":"IF(LP!A46=\"\",\"\",LP!B46)","v":""},{"$f":"IF(LP!A46=\"\",0,LP!C46)","v":0},null,{"$f":"IF(LP!E46=\"\",\"\",LP!F46)","v":""},{"$f":"IF(LP!E46=\"\",0,LP!G46)","v":0},null,{"$f":"IF(LP!I46=\"\",\"\",LP!J46)","v":""},{"$f":"IF(LP!I46=\"\",0,LP!K46)","v":0},null,{"$f":"IF(BPBPS!B46=\"\",\"\",BPBPS!C46)","v":""},{"$f":"IF(BPBPS!B46=\"\",0,BPBPS!D46)","v":0},null,{"$f":"IF(BPBPS!F46=\"\",\"\",BPBPS!G46)","v":""},{"$f":"IF(BPBPS!H46=\"\",0,BPBPS!H46)","v":0},null,{"$f":"IF(BPBPS!J46=\"\",\"\",BPBPS!K46)","v":""},{"$f":"IF(BPBPS!J46=\"\",0,BPBPS!L46)","v":0},null,{"$f":"IF(SSGP!B46=\"\",\"\",SSGP!C46)","v":""},{"$f":"IF(SSGP!B46=\"\",0,SSGP!D46)","v":0},null,{"$f":"IF(SSGP!F46=\"\",\"\",SSGP!G46)","v":""},{"$f":"IF(SSGP!F46=\"\",0,SSGP!H46)","v":0}]
[45,{"$f":"IF(WPP!B47=\"\",\"\",WPP!C47)","v":""},{"$f":"IF(WPP!B47=\"\",0,WPP!D47)","v":0},{"$f":"IF(WPP!B47=\"\",0,WPP!E47)","v":0},null,{"$f":"IF(WPP!G47=\"\",\"\",WPP!H47)","v":""},{"$f":"IF(WPP!G47=\"\",0,WPP!I47)","v":0},{"$f":"IF(WPP!G47=\"\",0,WPP!J47)","v":0},null,{"$f":"IF(KSP!B47=\"\",\"\",KSP!C47)","v":""},{"$f":"IF(KSP!B47=\"\",0,KSP!D47)","v":0},{"$f":"IF(KSP!B47=\"\",0,KSP!E47)","v":0},null,{"$f":"IF(KSP!G47=\"\",\"\",KSP!H47)","v":""},{"$f":"IF(KSP!G47=\"\",0,KSP!I47)","v":0},{"$f":"IF(KSP!G47=\"\",0,KSP!J47)","v":0},null,{"$f":"IF(FSP!B47=\"\",\"\",FSP!C47)","v":""},{"$f":"IF(FSP!B47=\"\",0,FSP!D47)","v":0},{"$f":"IF(FSP!B47=\"\",0,FSP!E47)","v":0},null,{"$f":"IF(FSP!G47=\"\",\"\",FSP!H47)","v":""},{"$f":"IF(FSP!G47=\"\",0,FSP!I47)","v":0},null,{"$f":"IF(PS!B49=\"\",\"\",PS!C49)","v":""},{"$f":"IF(PS!B49=\"\",\"\",PS!D49)","v":""},null,{"$f":"IF(PS!F49=\"\",\"\",PS!G49)","v":""},{"$f":"IF(PS!F49=\"\",\"\",PS!H49)","v":""},null,{"$f":"IF(LP!A47=\"\",\"\",LP!B47)","v":""},{"$f":"IF(LP!A47=\"\",0,LP!C47)","v":0},null,{"$f":"IF(LP!E47=\"\",\"\",LP!F47)","v":""},{"$f":"IF(LP!E47=\"\",0,LP!G47)","v":0},null,{"$f":"IF(LP!I47=\"\",\"\",LP!J47)","v":""},{"$f":"IF(LP!I47=\"\",0,LP!K47)","v":0},null,{"$f":"IF(BPBPS!B47=\"\",\"\",BPBPS!C47)","v":""},{"$f":"IF(BPBPS!B47=\"\",0,BPBPS!D47)","v":0},null,{"$f":"IF(BPBPS!F47=\"\",\"\",BPBPS!G47)","v":""},{"$f":"IF(BPBPS!H47=\"\",0,BPBPS!H47)","v":0},null,{"$f":"IF(BPBPS!J47=\"\",\"\",BPBPS!K47)","v":""},{"$f":"IF(BPBPS!J47=\"\",0,BPBPS!L47)","v":0},null,{"$f":"IF(SSGP!B47=\"\",\"\",SSGP!C47)","v":""},{"$f":"IF(SSGP!B47=\"\",0,SSGP!D47)","v":0},null,{"$f":"IF(SSGP!F47=\"\",\"\",SSGP!G47)","v":""},{"$f":"IF(SSGP!F47=\"\",0,SSGP!H47)","v":0}]
[46,{"$f":"IF(WPP!B48=\"\",\"\",WPP!C48)","v":""},{"$f":"IF(WPP!B48=\"\",0,WPP!D48)","v":0},{"$f":"IF(WPP!B48=\"\",0,WPP!E48)","v":0},null,{"$f":"IF(WPP!G48=\"\",\"\",WPP!H48)","v":""},{"$f":"IF(WPP!G48=\"\",0,WPP!I48)","v":0},{"$f":"IF(WPP!G48=\"\",0,WPP!J48)","v":0},null,{"$f":"IF(KSP!B48=\"\",\"\",KSP!C48)","v":""},{"$f":"IF(KSP!B48=\"\",0,KSP!D48)","v":0},{"$f":"IF(KSP!B48=\"\",0,KSP!E48)","v":0},null,{"$f":"IF(KSP!G48=\"\",\"\",KSP!H48)","v":""},{"$f":"IF(KSP!G48=\"\",0,KSP!I48)","v":0},{"$f":"IF(KSP!G48=\"\",0,KSP!J48)","v":0},null,{"$f":"IF(FSP!B48=\"\",\"\",FSP!C48)","v":""},{"$f":"IF(FSP!B48=\"\",0,FSP!D48)","v":0},{"$f":"IF(FSP!B48=\"\",0,FSP!E48)","v":0},null,{"$f":"IF(FSP!G48=\"\",\"\",FSP!H48)","v":""},{"$f":"IF(FSP!G48=\"\",0,FSP!I48)","v":0},null,{"$f":"IF(PS!B50=\"\",\"\",PS!C50)","v":""},{"$f":"IF(PS!B50=\"\",\"\",PS!D50)","v":""},null,{"$f":"IF(PS!F50=\"\",\"\",PS!G50)","v":""},{"$f":"IF(PS!F50=\"\",\"\",PS!H50)","v":""},null,{"$f":"IF(LP!A48=\"\",\"\",LP!B48)","v":""},{"$f":"IF(LP!A48=\"\",0,LP!C48)","v":0},null,{"$f":"IF(LP!E48=\"\",\"\",LP!F48)","v":""},{"$f":"IF(LP!E48=\"\",0,LP!G48)","v":0},null,{"$f":"IF(LP!I48=\"\",\"\",LP!J48)","v":""},{"$f":"IF(LP!I48=\"\",0,LP!K48)","v":0},null,{"$f":"IF(BPBPS!B48=\"\",\"\",BPBPS!C48)","v":""},{"$f":"IF(BPBPS!B48=\"\",0,BPBPS!D48)","v":0},null,{"$f":"IF(BPBPS!F48=\"\",\"\",BPBPS!G48)","v":""},{"$f":"IF(BPBPS!H48=\"\",0,BPBPS!H48)","v":0},null,{"$f":"IF(BPBPS!J48=\"\",\"\",BPBPS!K48)","v":""},{"$f":"IF(BPBPS!J48=\"\",0,BPBPS!L48)","v":0},null,{"$f":"IF(SSGP!B48=\"\",\"\",SSGP!C48)","v":""},{"$f":"IF(SSGP!B48=\"\",0,SSGP!D48)","v":0},null,{"$f":"IF(SSGP!F48=\"\",\"\",SSGP!G48)","v":""},{"$f":"IF(SSGP!F48=\"\",0,SSGP!H48)","v":0}]
[47,{"$f":"IF(WPP!B49=\"\",\"\",WPP!C49)","v":""},{"$f":"IF(WPP!B49=\"\",0,WPP!D49)","v":0},{"$f":"IF(WPP!B49=\"\",0,WPP!E49)","v":0},null,{"$f":"IF(WPP!G49=\"\",\"\",WPP!H49)","v":""},{"$f":"IF(WPP!G49=\"\",0,WPP!I49)","v":0},{"$f":"IF(WPP!G49=\"\",0,WPP!J49)","v":0},null,{"$f":"IF(KSP!B49=\"\",\"\",KSP!C49)","v":""},{"$f":"IF(KSP!B49=\"\",0,KSP!D49)","v":0},{"$f":"IF(KSP!B49=\"\",0,KSP!E49)","v":0},null,{"$f":"IF(KSP!G49=\"\",\"\",KSP!H49)","v":""},{"$f":"IF(KSP!G49=\"\",0,KSP!I49)","v":0},{"$f":"IF(KSP!G49=\"\",0,KSP!J49)","v":0},null,{"$f":"IF(FSP!B49=\"\",\"\",FSP!C49)","v":""},{"$f":"IF(FSP!B49=\"\",0,FSP!D49)","v":0},{"$f":"IF(FSP!B49=\"\",0,FSP!E49)","v":0},null,{"$f":"IF(FSP!G49=\"\",\"\",FSP!H49)","v":""},{"$f":"IF(FSP!G49=\"\",0,FSP!I49)","v":0},null,{"$f":"IF(PS!B51=\"\",\"\",PS!C51)","v":""},{"$f":"IF(PS!B51=\"\",\"\",PS!D51)","v":""},null,{"$f":"IF(PS!F51=\"\",\"\",PS!G51)","v":""},{"$f":"IF(PS!F51=\"\",\"\",PS!H51)","v":""},null,{"$f":"IF(LP!A49=\"\",\"\",LP!B49)","v":""},{"$f":"IF(LP!A49=\"\",0,LP!C49)","v":0},null,{"$f":"IF(LP!E49=\"\",\"\",LP!F49)","v":""},{"$f":"IF(LP!E49=\"\",0,LP!G49)","v":0},null,{"$f":"IF(LP!I49=\"\",\"\",LP!J49)","v":""},{"$f":"IF(LP!I49=\"\",0,LP!K49)","v":0},null,{"$f":"IF(BPBPS!B49=\"\",\"\",BPBPS!C49)","v":""},{"$f":"IF(BPBPS!B49=\"\",0,BPBPS!D49)","v":0},null,{"$f":"IF(BPBPS!F49=\"\",\"\",BPBPS!G49)","v":""},{"$f":"IF(BPBPS!H49=\"\",0,BPBPS!H49)","v":0},null,{"$f":"IF(BPBPS!J49=\"\",\"\",BPBPS!K49)","v":""},{"$f":"IF(BPBPS!J49=\"\",0,BPBPS!L49)","v":0},null,{"$f":"IF(SSGP!B49=\"\",\"\",SSGP!C49)","v":""},{"$f":"IF(SSGP!B49=\"\",0,SSGP!D49)","v":0},null,{"$f":"IF(SSGP!F49=\"\",\"\",SSGP!G49)","v":""},{"$f":"IF(SSGP!F49=\"\",0,SSGP!H49)","v":0}]
[48,{"$f":"IF(WPP!B50=\"\",\"\",WPP!C50)","v":""},{"$f":"IF(WPP!B50=\"\",0,WPP!D50)","v":0},{"$f":"IF(WPP!B50=\"\",0,WPP!E50)","v":0},null,{"$f":"IF(WPP!G50=\"\",\"\",WPP!H50)","v":""},{"$f":"IF(WPP!G50=\"\",0,WPP!I50)","v":0},{"$f":"IF(WPP!G50=\"\",0,WPP!J50)","v":0},null,{"$f":"IF(KSP!B50=\"\",\"\",KSP!C50)","v":""},{"$f":"IF(KSP!B50=\"\",0,KSP!D50)","v":0},{"$f":"IF(KSP!B50=\"\",0,KSP!E50)","v":0},null,{"$f":"IF(KSP!G50=\"\",\"\",KSP!H50)","v":""},{"$f":"IF(KSP!G50=\"\",0,KSP!I50)","v":0},{"$f":"IF(KSP!G50=\"\",0,KSP!J50)","v":0},null,{"$f":"IF(FSP!B50=\"\",\"\",FSP!C50)","v":""},{"$f":"IF(FSP!B50=\"\",0,FSP!D50)","v":0},{"$f":"IF(FSP!B50=\"\",0,FSP!E50)","v":0},null,{"$f":"IF(FSP!G50=\"\",\"\",FSP!H50)","v":""},{"$f":"IF(FSP!G50=\"\",0,FSP!I50)","v":0},null,{"$f":"IF(PS!B52=\"\",\"\",PS!C52)","v":""},{"$f":"IF(PS!B52=\"\",\"\",PS!D52)","v":""},null,{"$f":"IF(PS!F52=\"\",\"\",PS!G52)","v":""},{"$f":"IF(PS!F52=\"\",\"\",PS!H52)","v":""},null,{"$f":"IF(LP!A50=\"\",\"\",LP!B50)","v":""},{"$f":"IF(LP!A50=\"\",0,LP!C50)","v":0},null,{"$f":"IF(LP!E50=\"\",\"\",LP!F50)","v":""},{"$f":"IF(LP!E50=\"\",0,LP!G50)","v":0},null,{"$f":"IF(LP!I50=\"\",\"\",LP!J50)","v":""},{"$f":"IF(LP!I50=\"\",0,LP!K50)","v":0},null,{"$f":"IF(BPBPS!B50=\"\",\"\",BPBPS!C50)","v":""},{"$f":"IF(BPBPS!B50=\"\",0,BPBPS!D50)","v":0},null,{"$f":"IF(BPBPS!F50=\"\",\"\",BPBPS!G50)","v":""},{"$f":"IF(BPBPS!H50=\"\",0,BPBPS!H50)","v":0},null,{"$f":"IF(BPBPS!J50=\"\",\"\",BPBPS!K50)","v":""},{"$f":"IF(BPBPS!J50=\"\",0,BPBPS!L50)","v":0},null,{"$f":"IF(SSGP!B50=\"\",\"\",SSGP!C50)","v":""},{"$f":"IF(SSGP!B50=\"\",0,SSGP!D50)","v":0},null,{"$f":"IF(SSGP!F50=\"\",\"\",SSGP!G50)","v":""},{"$f":"IF(SSGP!F50=\"\",0,SSGP!H50)","v":0}]
[49,{"$f":"IF(WPP!B51=\"\",\"\",WPP!C51)","v":""},{"$f":"IF(WPP!B51=\"\",0,WPP!D51)","v":0},{"$f":"IF(WPP!B51=\"\",0,WPP!E51)","v":0},null,{"$f":"IF(WPP!G51=\"\",\"\",WPP!H51)","v":""},{"$f":"IF(WPP!G51=\"\",0,WPP!I51)","v":0},{"$f":"IF(WPP!G51=\"\",0,WPP!J51)","v":0},null,{"$f":"IF(KSP!B51=\"\",\"\",KSP!C51)","v":""},{"$f":"IF(KSP!B51=\"\",0,KSP!D51)","v":0},{"$f":"IF(KSP!B51=\"\",0,KSP!E51)","v":0},null,{"$f":"IF(KSP!G51=\"\",\"\",KSP!H51)","v":""},{"$f":"IF(KSP!G51=\"\",0,KSP!I51)","v":0},{"$f":"IF(KSP!G51=\"\",0,KSP!J51)","v":0},null,{"$f":"IF(FSP!B51=\"\",\"\",FSP!C51)","v":""},{"$f":"IF(FSP!B51=\"\",0,FSP!D51)","v":0},{"$f":"IF(FSP!B51=\"\",0,FSP!E51)","v":0},null,{"$f":"IF(FSP!G51=\"\",\"\",FSP!H51)","v":""},{"$f":"IF(FSP!G51=\"\",0,FSP!I51)","v":0},null,{"$f":"IF(PS!B53=\"\",\"\",PS!C53)","v":""},{"$f":"IF(PS!B53=\"\",\"\",PS!D53)","v":""},null,{"$f":"IF(PS!F53=\"\",\"\",PS!G53)","v":""},{"$f":"IF(PS!F53=\"\",\"\",PS!H53)","v":""},null,{"$f":"IF(LP!A51=\"\",\"\",LP!B51)","v":""},{"$f":"IF(LP!A51=\"\",0,LP!C51)","v":0},null,{"$f":"IF(LP!E51=\"\",\"\",LP!F51)","v":""},{"$f":"IF(LP!E51=\"\",0,LP!G51)","v":0},null,{"$f":"IF(LP!I51=\"\",\"\",LP!J51)","v":""},{"$f":"IF(LP!I51=\"\",0,LP!K51)","v":0},null,{"$f":"IF(BPBPS!B51=\"\",\"\",BPBPS!C51)","v":""},{"$f":"IF(BPBPS!B51=\"\",0,BPBPS!D51)","v":0},null,{"$f":"IF(BPBPS!F51=\"\",\"\",BPBPS!G51)","v":""},{"$f":"IF(BPBPS!H51=\"\",0,BPBPS!H51)","v":0},null,{"$f":"IF(BPBPS!J51=\"\",\"\",BPBPS!K51)","v":""},{"$f":"IF(BPBPS!J51=\"\",0,BPBPS!L51)","v":0},null,{"$f":"IF(SSGP!B51=\"\",\"\",SSGP!C51)","v":""},{"$f":"IF(SSGP!B51=\"\",0,SSGP!D51)","v":0},null,{"$f":"IF(SSGP!F51=\"\",\"\",SSGP!G51)","v":""},{"$f":"IF(SSGP!F51=\"\",0,SSGP!H51)","v":0}]
[50,{"$f":"IF(WPP!B52=\"\",\"\",WPP!C52)","v":""},{"$f":"IF(WPP!B52=\"\",0,WPP!D52)","v":0},{"$f":"IF(WPP!B52=\"\",0,WPP!E52)","v":0},null,{"$f":"IF(WPP!G52=\"\",\"\",WPP!H52)","v":""},{"$f":"IF(WPP!G52=\"\",0,WPP!I52)","v":0},{"$f":"IF(WPP!G52=\"\",0,WPP!J52)","v":0},null,{"$f":"IF(KSP!B52=\"\",\"\",KSP!C52)","v":""},{"$f":"IF(KSP!B52=\"\",0,KSP!D52)","v":0},{"$f":"IF(KSP!B52=\"\",0,KSP!E52)","v":0},null,{"$f":"IF(KSP!G52=\"\",\"\",KSP!H52)","v":""},{"$f":"IF(KSP!G52=\"\",0,KSP!I52)","v":0},{"$f":"IF(KSP!G52=\"\",0,KSP!J52)","v":0},null,{"$f":"IF(FSP!B52=\"\",\"\",FSP!C52)","v":""},{"$f":"IF(FSP!B52=\"\",0,FSP!D52)","v":0},{"$f":"IF(FSP!B52=\"\",0,FSP!E52)","v":0},null,{"$f":"IF(FSP!G52=\"\",\"\",FSP!H52)","v":""},{"$f":"IF(FSP!G52=\"\",0,FSP!I52)","v":0},null,{"$f":"IF(PS!B54=\"\",\"\",PS!C54)","v":""},{"$f":"IF(PS!B54=\"\",\"\",PS!D54)","v":""},null,{"$f":"IF(PS!F54=\"\",\"\",PS!G54)","v":""},{"$f":"IF(PS!F54=\"\",\"\",PS!H54)","v":""},null,{"$f":"IF(LP!A52=\"\",\"\",LP!B52)","v":""},{"$f":"IF(LP!A52=\"\",0,LP!C52)","v":0},null,{"$f":"IF(LP!E52=\"\",\"\",LP!F52)","v":""},{"$f":"IF(LP!E52=\"\",0,LP!G52)","v":0},null,{"$f":"IF(LP!I52=\"\",\"\",LP!J52)","v":""},{"$f":"IF(LP!I52=\"\",0,LP!K52)","v":0},null,{"$f":"IF(BPBPS!B52=\"\",\"\",BPBPS!C52)","v":""},{"$f":"IF(BPBPS!B52=\"\",0,BPBPS!D52)","v":0},null,{"$f":"IF(BPBPS!F52=\"\",\"\",BPBPS!G52)","v":""},{"$f":"IF(BPBPS!H52=\"\",0,BPBPS!H52)","v":0},null,{"$f":"IF(BPBPS!J52=\"\",\"\",BPBPS!K52)","v":""},{"$f":"IF(BPBPS!J52=\"\",0,BPBPS!L52)","v":0},null,{"$f":"IF(SSGP!B52=\"\",\"\",SSGP!C52)","v":""},{"$f":"IF(SSGP!B52=\"\",0,SSGP!D52)","v":0},null,{"$f":"IF(SSGP!F52=\"\",\"\",SSGP!G52)","v":""},{"$f":"IF(SSGP!F52=\"\",0,SSGP!H52)","v":0}]
[51,{"$f":"IF(WPP!B53=\"\",\"\",WPP!C53)","v":""},{"$f":"IF(WPP!B53=\"\",0,WPP!D53)","v":0},{"$f":"IF(WPP!B53=\"\",0,WPP!E53)","v":0},null,{"$f":"IF(WPP!G53=\"\",\"\",WPP!H53)","v":""},{"$f":"IF(WPP!G53=\"\",0,WPP!I53)","v":0},{"$f":"IF(WPP!G53=\"\",0,WPP!J53)","v":0},null,{"$f":"IF(KSP!B53=\"\",\"\",KSP!C53)","v":""},{"$f":"IF(KSP!B53=\"\",0,KSP!D53)","v":0},{"$f":"IF(KSP!B53=\"\",0,KSP!E53)","v":0},null,{"$f":"IF(KSP!G53=\"\",\"\",KSP!H53)","v":""},{"$f":"IF(KSP!G53=\"\",0,KSP!I53)","v":0},{"$f":"IF(KSP!G53=\"\",0,KSP!J53)","v":0},null,{"$f":"IF(FSP!B53=\"\",\"\",FSP!C53)","v":""},{"$f":"IF(FSP!B53=\"\",0,FSP!D53)","v":0},{"$f":"IF(FSP!B53=\"\",0,FSP!E53)","v":0},null,{"$f":"IF(FSP!G53=\"\",\"\",FSP!H53)","v":""},{"$f":"IF(FSP!G53=\"\",0,FSP!I53)","v":0},null,{"$f":"IF(PS!B55=\"\",\"\",PS!C55)","v":""},{"$f":"IF(PS!B55=\"\",\"\",PS!D55)","v":""},null,{"$f":"IF(PS!F55=\"\",\"\",PS!G55)","v":""},{"$f":"IF(PS!F55=\"\",\"\",PS!H55)","v":""},null,{"$f":"IF(LP!A53=\"\",\"\",LP!B53)","v":""},{"$f":"IF(LP!A53=\"\",0,LP!C53)","v":0},null,{"$f":"IF(LP!E53=\"\",\"\",LP!F53)","v":""},{"$f":"IF(LP!E53=\"\",0,LP!G53)","v":0},null,{"$f":"IF(LP!I53=\"\",\"\",LP!J53)","v":""},{"$f":"IF(LP!I53=\"\",0,LP!K53)","v":0},null,{"$f":"IF(BPBPS!B53=\"\",\"\",BPBPS!C53)","v":""},{"$f":"IF(BPBPS!B53=\"\",0,BPBPS!D53)","v":0},null,{"$f":"IF(BPBPS!F53=\"\",\"\",BPBPS!G53)","v":""},{"$f":"IF(BPBPS!H53=\"\",0,BPBPS!H53)","v":0},null,{"$f":"IF(BPBPS!J53=\"\",\"\",BPBPS!K53)","v":""},{"$f":"IF(BPBPS!J53=\"\",0,BPBPS!L53)","v":0},null,{"$f":"IF(SSGP!B53=\"\",\"\",SSGP!C53)","v":""},{"$f":"IF(SSGP!B53=\"\",0,SSGP!D53)","v":0},null,{"$f":"IF(SSGP!F53=\"\",\"\",SSGP!G53)","v":""},{"$f":"IF(SSGP!F53=\"\",0,SSGP!H53)","v":0}]
[52,{"$f":"IF(WPP!B54=\"\",\"\",WPP!C54)","v":""},{"$f":"IF(WPP!B54=\"\",0,WPP!D54)","v":0},{"$f":"IF(WPP!B54=\"\",0,WPP!E54)","v":0},null,{"$f":"IF(WPP!G54=\"\",\"\",WPP!H54)","v":""},{"$f":"IF(WPP!G54=\"\",0,WPP!I54)","v":0},{"$f":"IF(WPP!G54=\"\",0,WPP!J54)","v":0},null,{"$f":"IF(KSP!B54=\"\",\"\",KSP!C54)","v":""},{"$f":"IF(KSP!B54=\"\",0,KSP!D54)","v":0},{"$f":"IF(KSP!B54=\"\",0,KSP!E54)","v":0},null,{"$f":"IF(KSP!G54=\"\",\"\",KSP!H54)","v":""},{"$f":"IF(KSP!G54=\"\",0,KSP!I54)","v":0},{"$f":"IF(KSP!G54=\"\",0,KSP!J54)","v":0},null,{"$f":"IF(FSP!B54=\"\",\"\",FSP!C54)","v":""},{"$f":"IF(FSP!B54=\"\",0,FSP!D54)","v":0},{"$f":"IF(FSP!B54=\"\",0,FSP!E54)","v":0},null,{"$f":"IF(FSP!G54=\"\",\"\",FSP!H54)","v":""},{"$f":"IF(FSP!G54=\"\",0,FSP!I54)","v":0},null,{"$f":"IF(PS!B56=\"\",\"\",PS!C56)","v":""},{"$f":"IF(PS!B56=\"\",\"\",PS!D56)","v":""},null,{"$f":"IF(PS!F56=\"\",\"\",PS!G56)","v":""},{"$f":"IF(PS!F56=\"\",\"\",PS!H56)","v":""},null,{"$f":"IF(LP!A54=\"\",\"\",LP!B54)","v":""},{"$f":"IF(LP!A54=\"\",0,LP!C54)","v":0},null,{"$f":"IF(LP!E54=\"\",\"\",LP!F54)","v":""},{"$f":"IF(LP!E54=\"\",0,LP!G54)","v":0},null,{"$f":"IF(LP!I54=\"\",\"\",LP!J54)","v":""},{"$f":"IF(LP!I54=\"\",0,LP!K54)","v":0},null,{"$f":"IF(BPBPS!B54=\"\",\"\",BPBPS!C54)","v":""},{"$f":"IF(BPBPS!B54=\"\",0,BPBPS!D54)","v":0},null,{"$f":"IF(BPBPS!F54=\"\",\"\",BPBPS!G54)","v":""},{"$f":"IF(BPBPS!H54=\"\",0,BPBPS!H54)","v":0},null,{"$f":"IF(BPBPS!J54=\"\",\"\",BPBPS!K54)","v":""},{"$f":"IF(BPBPS!J54=\"\",0,BPBPS!L54)","v":0},null,{"$f":"IF(SSGP!B54=\"\",\"\",SSGP!C54)","v":""},{"$f":"IF(SSGP!B54=\"\",0,SSGP!D54)","v":0},null,{"$f":"IF(SSGP!F54=\"\",\"\",SSGP!G54)","v":""},{"$f":"IF(SSGP!F54=\"\",0,SSGP!H54)","v":0}]
[53,{"$f":"IF(WPP!B55=\"\",\"\",WPP!C55)","v":""},{"$f":"IF(WPP!B55=\"\",0,WPP!D55)","v":0},{"$f":"IF(WPP!B55=\"\",0,WPP!E55)","v":0},null,{"$f":"IF(WPP!G55=\"\",\"\",WPP!H55)","v":""},{"$f":"IF(WPP!G55=\"\",0,WPP!I55)","v":0},{"$f":"IF(WPP!G55=\"\",0,WPP!J55)","v":0},null,{"$f":"IF(KSP!B55=\"\",\"\",KSP!C55)","v":""},{"$f":"IF(KSP!B55=\"\",0,KSP!D55)","v":0},{"$f":"IF(KSP!B55=\"\",0,KSP!E55)","v":0},null,{"$f":"IF(KSP!G55=\"\",\"\",KSP!H55)","v":""},{"$f":"IF(KSP!G55=\"\",0,KSP!I55)","v":0},{"$f":"IF(KSP!G55=\"\",0,KSP!J55)","v":0},null,{"$f":"IF(FSP!B55=\"\",\"\",FSP!C55)","v":""},{"$f":"IF(FSP!B55=\"\",0,FSP!D55)","v":0},{"$f":"IF(FSP!B55=\"\",0,FSP!E55)","v":0},null,{"$f":"IF(FSP!G55=\"\",\"\",FSP!H55)","v":""},{"$f":"IF(FSP!G55=\"\",0,FSP!I55)","v":0},null,{"$f":"IF(PS!B57=\"\",\"\",PS!C57)","v":""},{"$f":"IF(PS!B57=\"\",\"\",PS!D57)","v":""},null,{"$f":"IF(PS!F57=\"\",\"\",PS!G57)","v":""},{"$f":"IF(PS!F57=\"\",\"\",PS!H57)","v":""},null,{"$f":"IF(LP!A55=\"\",\"\",LP!B55)","v":""},{"$f":"IF(LP!A55=\"\",0,LP!C55)","v":0},null,{"$f":"IF(LP!E55=\"\",\"\",LP!F55)","v":""},{"$f":"IF(LP!E55=\"\",0,LP!G55)","v":0},null,{"$f":"IF(LP!I55=\"\",\"\",LP!J55)","v":""},{"$f":"IF(LP!I55=\"\",0,LP!K55)","v":0},null,{"$f":"IF(BPBPS!B55=\"\",\"\",BPBPS!C55)","v":""},{"$f":"IF(BPBPS!B55=\"\",0,BPBPS!D55)","v":0},null,{"$f":"IF(BPBPS!F55=\"\",\"\",BPBPS!G55)","v":""},{"$f":"IF(BPBPS!H55=\"\",0,BPBPS!H55)","v":0},null,{"$f":"IF(BPBPS!J55=\"\",\"\",BPBPS!K55)","v":""},{"$f":"IF(BPBPS!J55=\"\",0,BPBPS!L55)","v":0},null,{"$f":"IF(SSGP!B55=\"\",\"\",SSGP!C55)","v":""},{"$f":"IF(SSGP!B55=\"\",0,SSGP!D55)","v":0},null,{"$f":"IF(SSGP!F55=\"\",\"\",SSGP!G55)","v":""},{"$f":"IF(SSGP!F55=\"\",0,SSGP!H55)","v":0}]
[54,{"$f":"IF(WPP!B56=\"\",\"\",WPP!C56)","v":""},{"$f":"IF(WPP!B56=\"\",0,WPP!D56)","v":0},{"$f":"IF(WPP!B56=\"\",0,WPP!E56)","v":0},null,{"$f":"IF(WPP!G56=\"\",\"\",WPP!H56)","v":""},{"$f":"IF(WPP!G56=\"\",0,WPP!I56)","v":0},{"$f":"IF(WPP!G56=\"\",0,WPP!J56)","v":0},null,{"$f":"IF(KSP!B56=\"\",\"\",KSP!C56)","v":""},{"$f":"IF(KSP!B56=\"\",0,KSP!D56)","v":0},{"$f":"IF(KSP!B56=\"\",0,KSP!E56)","v":0},null,{"$f":"IF(KSP!G56=\"\",\"\",KSP!H56)","v":""},{"$f":"IF(KSP!G56=\"\",0,KSP!I56)","v":0},{"$f":"IF(KSP!G56=\"\",0,KSP!J56)","v":0},null,{"$f":"IF(FSP!B56=\"\",\"\",FSP!C56)","v":""},{"$f":"IF(FSP!B56=\"\",0,FSP!D56)","v":0},{"$f":"IF(FSP!B56=\"\",0,FSP!E56)","v":0},null,{"$f":"IF(FSP!G56=\"\",\"\",FSP!H56)","v":""},{"$f":"IF(FSP!G56=\"\",0,FSP!I56)","v":0},null,{"$f":"IF(PS!B58=\"\",\"\",PS!C58)","v":""},{"$f":"IF(PS!B58=\"\",\"\",PS!D58)","v":""},null,{"$f":"IF(PS!F58=\"\",\"\",PS!G58)","v":""},{"$f":"IF(PS!F58=\"\",\"\",PS!H58)","v":""},null,{"$f":"IF(LP!A56=\"\",\"\",LP!B56)","v":""},{"$f":"IF(LP!A56=\"\",0,LP!C56)","v":0},null,{"$f":"IF(LP!E56=\"\",\"\",LP!F56)","v":""},{"$f":"IF(LP!E56=\"\",0,LP!G56)","v":0},null,{"$f":"IF(LP!I56=\"\",\"\",LP!J56)","v":""},{"$f":"IF(LP!I56=\"\",0,LP!K56)","v":0},null,{"$f":"IF(BPBPS!B56=\"\",\"\",BPBPS!C56)","v":""},{"$f":"IF(BPBPS!B56=\"\",0,BPBPS!D56)","v":0},null,{"$f":"IF(BPBPS!F56=\"\",\"\",BPBPS!G56)","v":""},{"$f":"IF(BPBPS!H56=\"\",0,BPBPS!H56)","v":0},null,{"$f":"IF(BPBPS!J56=\"\",\"\",BPBPS!K56)","v":""},{"$f":"IF(BPBPS!J56=\"\",0,BPBPS!L56)","v":0},null,{"$f":"IF(SSGP!B56=\"\",\"\",SSGP!C56)","v":""},{"$f":"IF(SSGP!B56=\"\",0,SSGP!D56)","v":0},null,{"$f":"IF(SSGP!F56=\"\",\"\",SSGP!G56)","v":""},{"$f":"IF(SSGP!F56=\"\",0,SSGP!H56)","v":0}]
[55,{"$f":"IF(WPP!B57=\"\",\"\",WPP!C57)","v":""},{"$f":"IF(WPP!B57=\"\",0,WPP!D57)","v":0},{"$f":"IF(WPP!B57=\"\",0,WPP!E57)","v":0},null,{"$f":"IF(WPP!G57=\"\",\"\",WPP!H57)","v":""},{"$f":"IF(WPP!G57=\"\",0,WPP!I57)","v":0},{"$f":"IF(WPP!G57=\"\",0,WPP!J57)","v":0},null,{"$f":"IF(KSP!B57=\"\",\"\",KSP!C57)","v":""},{"$f":"IF(KSP!B57=\"\",0,KSP!D57)","v":0},{"$f":"IF(KSP!B57=\"\",0,KSP!E57)","v":0},null,{"$f":"IF(KSP!G57=\"\",\"\",KSP!H57)","v":""},{"$f":"IF(KSP!G57=\"\",0,KSP!I57)","v":0},{"$f":"IF(KSP!G57=\"\",0,KSP!J57)","v":0},null,{"$f":"IF(FSP!B57=\"\",\"\",FSP!C57)","v":""},{"$f":"IF(FSP!B57=\"\",0,FSP!D57)","v":0},{"$f":"IF(FSP!B57=\"\",0,FSP!E57)","v":0},null,{"$f":"IF(FSP!G57=\"\",\"\",FSP!H57)","v":""},{"$f":"IF(FSP!G57=\"\",0,FSP!I57)","v":0},null,{"$f":"IF(PS!B59=\"\",\"\",PS!C59)","v":""},{"$f":"IF(PS!B59=\"\",\"\",PS!D59)","v":""},null,{"$f":"IF(PS!F59=\"\",\"\",PS!G59)","v":""},{"$f":"IF(PS!F59=\"\",\"\",PS!H59)","v":""},null,{"$f":"IF(LP!A57=\"\",\"\",LP!B57)","v":""},{"$f":"IF(LP!A57=\"\",0,LP!C57)","v":0},null,{"$f":"IF(LP!E57=\"\",\"\",LP!F57)","v":""},{"$f":"IF(LP!E57=\"\",0,LP!G57)","v":0},null,{"$f":"IF(LP!I57=\"\",\"\",LP!J57)","v":""},{"$f":"IF(LP!I57=\"\",0,LP!K57)","v":0},null,{"$f":"IF(BPBPS!B57=\"\",\"\",BPBPS!C57)","v":""},{"$f":"IF(BPBPS!B57=\"\",0,BPBPS!D57)","v":0},null,{"$f":"IF(BPBPS!F57=\"\",\"\",BPBPS!G57)","v":""},{"$f":"IF(BPBPS!H57=\"\",0,BPBPS!H57)","v":0},null,{"$f":"IF(BPBPS!J57=\"\",\"\",BPBPS!K57)","v":""},{"$f":"IF(BPBPS!J57=\"\",0,BPBPS!L57)","v":0},null,{"$f":"IF(SSGP!B57=\"\",\"\",SSGP!C57)","v":""},{"$f":"IF(SSGP!B57=\"\",0,SSGP!D57)","v":0},null,{"$f":"IF(SSGP!F57=\"\",\"\",SSGP!G57)","v":""},{"$f":"IF(SSGP!F57=\"\",0,SSGP!H57)","v":0}]
[56,{"$f":"IF(WPP!B58=\"\",\"\",WPP!C58)","v":""},{"$f":"IF(WPP!B58=\"\",0,WPP!D58)","v":0},{"$f":"IF(WPP!B58=\"\",0,WPP!E58)","v":0},null,{"$f":"IF(WPP!G58=\"\",\"\",WPP!H58)","v":""},{"$f":"IF(WPP!G58=\"\",0,WPP!I58)","v":0},{"$f":"IF(WPP!G58=\"\",0,WPP!J58)","v":0},null,{"$f":"IF(KSP!B58=\"\",\"\",KSP!C58)","v":""},{"$f":"IF(KSP!B58=\"\",0,KSP!D58)","v":0},{"$f":"IF(KSP!B58=\"\",0,KSP!E58)","v":0},null,{"$f":"IF(KSP!G58=\"\",\"\",KSP!H58)","v":""},{"$f":"IF(KSP!G58=\"\",0,KSP!I58)","v":0},{"$f":"IF(KSP!G58=\"\",0,KSP!J58)","v":0},null,{"$f":"IF(FSP!B58=\"\",\"\",FSP!C58)","v":""},{"$f":"IF(FSP!B58=\"\",0,FSP!D58)","v":0},{"$f":"IF(FSP!B58=\"\",0,FSP!E58)","v":0},null,{"$f":"IF(FSP!G58=\"\",\"\",FSP!H58)","v":""},{"$f":"IF(FSP!G58=\"\",0,FSP!I58)","v":0},null,{"$f":"IF(PS!B60=\"\",\"\",PS!C60)","v":""},{"$f":"IF(PS!B60=\"\",\"\",PS!D60)","v":""},null,{"$f":"IF(PS!F60=\"\",\"\",PS!G60)","v":""},{"$f":"IF(PS!F60=\"\",\"\",PS!H60)","v":""},null,{"$f":"IF(LP!A58=\"\",\"\",LP!B58)","v":""},{"$f":"IF(LP!A58=\"\",0,LP!C58)","v":0},null,{"$f":"IF(LP!E58=\"\",\"\",LP!F58)","v":""},{"$f":"IF(LP!E58=\"\",0,LP!G58)","v":0},null,{"$f":"IF(LP!I58=\"\",\"\",LP!J58)","v":""},{"$f":"IF(LP!I58=\"\",0,LP!K58)","v":0},null,{"$f":"IF(BPBPS!B58=\"\",\"\",BPBPS!C58)","v":""},{"$f":"IF(BPBPS!B58=\"\",0,BPBPS!D58)","v":0},null,{"$f":"IF(BPBPS!F58=\"\",\"\",BPBPS!G58)","v":""},{"$f":"IF(BPBPS!H58=\"\",0,BPBPS!H58)","v":0},null,{"$f":"IF(BPBPS!J58=\"\",\"\",BPBPS!K58)","v":""},{"$f":"IF(BPBPS!J58=\"\",0,BPBPS!L58)","v":0},null,{"$f":"IF(SSGP!B58=\"\",\"\",SSGP!C58)","v":""},{"$f":"IF(SSGP!B58=\"\",0,SSGP!D58)","v":0},null,{"$f":"IF(SSGP!F58=\"\",\"\",SSGP!G58)","v":""},{"$f":"IF(SSGP!F58=\"\",0,SSGP!H58)","v":0}]
[57,{"$f":"IF(WPP!B59=\"\",\"\",WPP!C59)","v":""},{"$f":"IF(WPP!B59=\"\",0,WPP!D59)","v":0},{"$f":"IF(WPP!B59=\"\",0,WPP!E59)","v":0},null,{"$f":"IF(WPP!G59=\"\",\"\",WPP!H59)","v":""},{"$f":"IF(WPP!G59=\"\",0,WPP!I59)","v":0},{"$f":"IF(WPP!G59=\"\",0,WPP!J59)","v":0},null,{"$f":"IF(KSP!B59=\"\",\"\",KSP!C59)","v":""},{"$f":"IF(KSP!B59=\"\",0,KSP!D59)","v":0},{"$f":"IF(KSP!B59=\"\",0,KSP!E59)","v":0},null,{"$f":"IF(KSP!G59=\"\",\"\",KSP!H59)","v":""},{"$f":"IF(KSP!G59=\"\",0,KSP!I59)","v":0},{"$f":"IF(KSP!G59=\"\",0,KSP!J59)","v":0},null,{"$f":"IF(FSP!B59=\"\",\"\",FSP!C59)","v":""},{"$f":"IF(FSP!B59=\"\",0,FSP!D59)","v":0},{"$f":"IF(FSP!B59=\"\",0,FSP!E59)","v":0},null,{"$f":"IF(FSP!G59=\"\",\"\",FSP!H59)","v":""},{"$f":"IF(FSP!G59=\"\",0,FSP!I59)","v":0},null,{"$f":"IF(PS!B61=\"\",\"\",PS!C61)","v":""},{"$f":"IF(PS!B61=\"\",\"\",PS!D61)","v":""},null,{"$f":"IF(PS!F61=\"\",\"\",PS!G61)","v":""},{"$f":"IF(PS!F61=\"\",\"\",PS!H61)","v":""},null,{"$f":"IF(LP!A59=\"\",\"\",LP!B59)","v":""},{"$f":"IF(LP!A59=\"\",0,LP!C59)","v":0},null,{"$f":"IF(LP!E59=\"\",\"\",LP!F59)","v":""},{"$f":"IF(LP!E59=\"\",0,LP!G59)","v":0},null,{"$f":"IF(LP!I59=\"\",\"\",LP!J59)","v":""},{"$f":"IF(LP!I59=\"\",0,LP!K59)","v":0},null,{"$f":"IF(BPBPS!B59=\"\",\"\",BPBPS!C59)","v":""},{"$f":"IF(BPBPS!B59=\"\",0,BPBPS!D59)","v":0},null,{"$f":"IF(BPBPS!F59=\"\",\"\",BPBPS!G59)","v":""},{"$f":"IF(BPBPS!H59=\"\",0,BPBPS!H59)","v":0},null,{"$f":"IF(BPBPS!J59=\"\",\"\",BPBPS!K59)","v":""},{"$f":"IF(BPBPS!J59=\"\",0,BPBPS!L59)","v":0},null,{"$f":"IF(SSGP!B59=\"\",\"\",SSGP!C59)","v":""},{"$f":"IF(SSGP!B59=\"\",0,SSGP!D59)","v":0},null,{"$f":"IF(SSGP!F59=\"\",\"\",SSGP!G59)","v":""},{"$f":"IF(SSGP!F59=\"\",0,SSGP!H59)","v":0}]
[58,{"$f":"IF(WPP!B60=\"\",\"\",WPP!C60)","v":""},{"$f":"IF(WPP!B60=\"\",0,WPP!D60)","v":0},{"$f":"IF(WPP!B60=\"\",0,WPP!E60)","v":0},null,{"$f":"IF(WPP!G60=\"\",\"\",WPP!H60)","v":""},{"$f":"IF(WPP!G60=\"\",0,WPP!I60)","v":0},{"$f":"IF(WPP!G60=\"\",0,WPP!J60)","v":0},null,{"$f":"IF(KSP!B60=\"\",\"\",KSP!C60)","v":""},{"$f":"IF(KSP!B60=\"\",0,KSP!D60)","v":0},{"$f":"IF(KSP!B60=\"\",0,KSP!E60)","v":0},null,{"$f":"IF(KSP!G60=\"\",\"\",KSP!H60)","v":""},{"$f":"IF(KSP!G60=\"\",0,KSP!I60)","v":0},{"$f":"IF(KSP!G60=\"\",0,KSP!J60)","v":0},null,{"$f":"IF(FSP!B60=\"\",\"\",FSP!C60)","v":""},{"$f":"IF(FSP!B60=\"\",0,FSP!D60)","v":0},{"$f":"IF(FSP!B60=\"\",0,FSP!E60)","v":0},null,{"$f":"IF(FSP!G60=\"\",\"\",FSP!H60)","v":""},{"$f":"IF(FSP!G60=\"\",0,FSP!I60)","v":0},null,{"$f":"IF(PS!B62=\"\",\"\",PS!C62)","v":""},{"$f":"IF(PS!B62=\"\",\"\",PS!D62)","v":""},null,{"$f":"IF(PS!F62=\"\",\"\",PS!G62)","v":""},{"$f":"IF(PS!F62=\"\",\"\",PS!H62)","v":""},null,{"$f":"IF(LP!A60=\"\",\"\",LP!B60)","v":""},{"$f":"IF(LP!A60=\"\",0,LP!C60)","v":0},null,{"$f":"IF(LP!E60=\"\",\"\",LP!F60)","v":""},{"$f":"IF(LP!E60=\"\",0,LP!G60)","v":0},null,{"$f":"IF(LP!I60=\"\",\"\",LP!J60)","v":""},{"$f":"IF(LP!I60=\"\",0,LP!K60)","v":0},null,{"$f":"IF(BPBPS!B60=\"\",\"\",BPBPS!C60)","v":""},{"$f":"IF(BPBPS!B60=\"\",0,BPBPS!D60)","v":0},null,{"$f":"IF(BPBPS!F60=\"\",\"\",BPBPS!G60)","v":""},{"$f":"IF(BPBPS!H60=\"\",0,BPBPS!H60)","v":0},null,{"$f":"IF(BPBPS!J60=\"\",\"\",BPBPS!K60)","v":""},{"$f":"IF(BPBPS!J60=\"\",0,BPBPS!L60)","v":0},null,{"$f":"IF(SSGP!B60=\"\",\"\",SSGP!C60)","v":""},{"$f":"IF(SSGP!B60=\"\",0,SSGP!D60)","v":0},null,{"$f":"IF(SSGP!F60=\"\",\"\",SSGP!G60)","v":""},{"$f":"IF(SSGP!F60=\"\",0,SSGP!H60)","v":0}]
[59,{"$f":"IF(WPP!B61=\"\",\"\",WPP!C61)","v":""},{"$f":"IF(WPP!B61=\"\",0,WPP!D61)","v":0},{"$f":"IF(WPP!B61=\"\",0,WPP!E61)","v":0},null,{"$f":"IF(WPP!G61=\"\",\"\",WPP!H61)","v":""},{"$f":"IF(WPP!G61=\"\",0,WPP!I61)","v":0},{"$f":"IF(WPP!G61=\"\",0,WPP!J61)","v":0},null,{"$f":"IF(KSP!B61=\"\",\"\",KSP!C61)","v":""},{"$f":"IF(KSP!B61=\"\",0,KSP!D61)","v":0},{"$f":"IF(KSP!B61=\"\",0,KSP!E61)","v":0},null,{"$f":"IF(KSP!G61=\"\",\"\",KSP!H61)","v":""},{"$f":"IF(KSP!G61=\"\",0,KSP!I61)","v":0},{"$f":"IF(KSP!G61=\"\",0,KSP!J61)","v":0},null,{"$f":"IF(FSP!B61=\"\",\"\",FSP!C61)","v":""},{"$f":"IF(FSP!B61=\"\",0,FSP!D61)","v":0},{"$f":"IF(FSP!B61=\"\",0,FSP!E61)","v":0},null,{"$f":"IF(FSP!G61=\"\",\"\",FSP!H61)","v":""},{"$f":"IF(FSP!G61=\"\",0,FSP!I61)","v":0},null,{"$f":"IF(PS!B63=\"\",\"\",PS!C63)","v":""},{"$f":"IF(PS!B63=\"\",\"\",PS!D63)","v":""},null,{"$f":"IF(PS!F63=\"\",\"\",PS!G63)","v":""},{"$f":"IF(PS!F63=\"\",\"\",PS!H63)","v":""},null,{"$f":"IF(LP!A61=\"\",\"\",LP!B61)","v":""},{"$f":"IF(LP!A61=\"\",0,LP!C61)","v":0},null,{"$f":"IF(LP!E61=\"\",\"\",LP!F61)","v":""},{"$f":"IF(LP!E61=\"\",0,LP!G61)","v":0},null,{"$f":"IF(LP!I61=\"\",\"\",LP!J61)","v":""},{"$f":"IF(LP!I61=\"\",0,LP!K61)","v":0},null,{"$f":"IF(BPBPS!B61=\"\",\"\",BPBPS!C61)","v":""},{"$f":"IF(BPBPS!B61=\"\",0,BPBPS!D61)","v":0},null,{"$f":"IF(BPBPS!F61=\"\",\"\",BPBPS!G61)","v":""},{"$f":"IF(BPBPS!H61=\"\",0,BPBPS!H61)","v":0},null,{"$f":"IF(BPBPS!J61=\"\",\"\",BPBPS!K61)","v":""},{"$f":"IF(BPBPS!J61=\"\",0,BPBPS!L61)","v":0},null,{"$f":"IF(SSGP!B61=\"\",\"\",SSGP!C61)","v":""},{"$f":"IF(SSGP!B61=\"\",0,SSGP!D61)","v":0},null,{"$f":"IF(SSGP!F61=\"\",\"\",SSGP!G61)","v":""},{"$f":"IF(SSGP!F61=\"\",0,SSGP!H61)","v":0}]
[60,{"$f":"IF(WPP!B62=\"\",\"\",WPP!C62)","v":""},{"$f":"IF(WPP!B62=\"\",0,WPP!D62)","v":0},{"$f":"IF(WPP!B62=\"\",0,WPP!E62)","v":0},null,{"$f":"IF(WPP!G62=\"\",\"\",WPP!H62)","v":""},{"$f":"IF(WPP!G62=\"\",0,WPP!I62)","v":0},{"$f":"IF(WPP!G62=\"\",0,WPP!J62)","v":0},null,{"$f":"IF(KSP!B62=\"\",\"\",KSP!C62)","v":""},{"$f":"IF(KSP!B62=\"\",0,KSP!D62)","v":0},{"$f":"IF(KSP!B62=\"\",0,KSP!E62)","v":0},null,{"$f":"IF(KSP!G62=\"\",\"\",KSP!H62)","v":""},{"$f":"IF(KSP!G62=\"\",0,KSP!I62)","v":0},{"$f":"IF(KSP!G62=\"\",0,KSP!J62)","v":0},null,{"$f":"IF(FSP!B62=\"\",\"\",FSP!C62)","v":""},{"$f":"IF(FSP!B62=\"\",0,FSP!D62)","v":0},{"$f":"IF(FSP!B62=\"\",0,FSP!E62)","v":0},null,{"$f":"IF(FSP!G62=\"\",\"\",FSP!H62)","v":""},{"$f":"IF(FSP!G62=\"\",0,FSP!I62)","v":0},null,{"$f":"IF(PS!B64=\"\",\"\",PS!C64)","v":""},{"$f":"IF(PS!B64=\"\",\"\",PS!D64)","v":""},null,{"$f":"IF(PS!F64=\"\",\"\",PS!G64)","v":""},{"$f":"IF(PS!F64=\"\",\"\",PS!H64)","v":""},null,{"$f":"IF(LP!A62=\"\",\"\",LP!B62)","v":""},{"$f":"IF(LP!A62=\"\",0,LP!C62)","v":0},null,{"$f":"IF(LP!E62=\"\",\"\",LP!F62)","v":""},{"$f":"IF(LP!E62=\"\",0,LP!G62)","v":0},null,{"$f":"IF(LP!I62=\"\",\"\",LP!J62)","v":""},{"$f":"IF(LP!I62=\"\",0,LP!K62)","v":0},null,{"$f":"IF(BPBPS!B62=\"\",\"\",BPBPS!C62)","v":""},{"$f":"IF(BPBPS!B62=\"\",0,BPBPS!D62)","v":0},null,{"$f":"IF(BPBPS!F62=\"\",\"\",BPBPS!G62)","v":""},{"$f":"IF(BPBPS!H62=\"\",0,BPBPS!H62)","v":0},null,{"$f":"IF(BPBPS!J62=\"\",\"\",BPBPS!K62)","v":""},{"$f":"IF(BPBPS!J62=\"\",0,BPBPS!L62)","v":0},null,{"$f":"IF(SSGP!B62=\"\",\"\",SSGP!C62)","v":""},{"$f":"IF(SSGP!B62=\"\",0,SSGP!D62)","v":0},null,{"$f":"IF(SSGP!F62=\"\",\"\",SSGP!G62)","v":""},{"$f":"IF(SSGP!F62=\"\",0,SSGP!H62)","v":0}]
[61,{"$f":"IF(WPP!B63=\"\",\"\",WPP!C63)","v":""},{"$f":"IF(WPP!B63=\"\",0,WPP!D63)","v":0},{"$f":"IF(WPP!B63=\"\",0,WPP!E63)","v":0},null,{"$f":"IF(WPP!G63=\"\",\"\",WPP!H63)","v":""},{"$f":"IF(WPP!G63=\"\",0,WPP!I63)","v":0},{"$f":"IF(WPP!G63=\"\",0,WPP!J63)","v":0},null,{"$f":"IF(KSP!B63=\"\",\"\",KSP!C63)","v":""},{"$f":"IF(KSP!B63=\"\",0,KSP!D63)","v":0},{"$f":"IF(KSP!B63=\"\",0,KSP!E63)","v":0},null,{"$f":"IF(KSP!G63=\"\",\"\",KSP!H63)","v":""},{"$f":"IF(KSP!G63=\"\",0,KSP!I63)","v":0},{"$f":"IF(KSP!G63=\"\",0,KSP!J63)","v":0},null,{"$f":"IF(FSP!B63=\"\",\"\",FSP!C63)","v":""},{"$f":"IF(FSP!B63=\"\",0,FSP!D63)","v":0},{"$f":"IF(FSP!B63=\"\",0,FSP!E63)","v":0},null,{"$f":"IF(FSP!G63=\"\",\"\",FSP!H63)","v":""},{"$f":"IF(FSP!G63=\"\",0,FSP!I63)","v":0},null,{"$f":"IF(PS!B65=\"\",\"\",PS!C65)","v":""},{"$f":"IF(PS!B65=\"\",\"\",PS!D65)","v":""},null,{"$f":"IF(PS!F65=\"\",\"\",PS!G65)","v":""},{"$f":"IF(PS!F65=\"\",\"\",PS!H65)","v":""},null,{"$f":"IF(LP!A63=\"\",\"\",LP!B63)","v":""},{"$f":"IF(LP!A63=\"\",0,LP!C63)","v":0},null,{"$f":"IF(LP!E63=\"\",\"\",LP!F63)","v":""},{"$f":"IF(LP!E63=\"\",0,LP!G63)","v":0},null,{"$f":"IF(LP!I63=\"\",\"\",LP!J63)","v":""},{"$f":"IF(LP!I63=\"\",0,LP!K63)","v":0},null,{"$f":"IF(BPBPS!B63=\"\",\"\",BPBPS!C63)","v":""},{"$f":"IF(BPBPS!B63=\"\",0,BPBPS!D63)","v":0},null,{"$f":"IF(BPBPS!F63=\"\",\"\",BPBPS!G63)","v":""},{"$f":"IF(BPBPS!H63=\"\",0,BPBPS!H63)","v":0},null,{"$f":"IF(BPBPS!J63=\"\",\"\",BPBPS!K63)","v":""},{"$f":"IF(BPBPS!J63=\"\",0,BPBPS!L63)","v":0},null,{"$f":"IF(SSGP!B63=\"\",\"\",SSGP!C63)","v":""},{"$f":"IF(SSGP!B63=\"\",0,SSGP!D63)","v":0},null,{"$f":"IF(SSGP!F63=\"\",\"\",SSGP!G63)","v":""},{"$f":"IF(SSGP!F63=\"\",0,SSGP!H63)","v":0}]
[62,{"$f":"IF(WPP!B64=\"\",\"\",WPP!C64)","v":""},{"$f":"IF(WPP!B64=\"\",0,WPP!D64)","v":0},{"$f":"IF(WPP!B64=\"\",0,WPP!E64)","v":0},null,{"$f":"IF(WPP!G64=\"\",\"\",WPP!H64)","v":""},{"$f":"IF(WPP!G64=\"\",0,WPP!I64)","v":0},{"$f":"IF(WPP!G64=\"\",0,WPP!J64)","v":0},null,{"$f":"IF(KSP!B64=\"\",\"\",KSP!C64)","v":""},{"$f":"IF(KSP!B64=\"\",0,KSP!D64)","v":0},{"$f":"IF(KSP!B64=\"\",0,KSP!E64)","v":0},null,{"$f":"IF(KSP!G64=\"\",\"\",KSP!H64)","v":""},{"$f":"IF(KSP!G64=\"\",0,KSP!I64)","v":0},{"$f":"IF(KSP!G64=\"\",0,KSP!J64)","v":0},null,{"$f":"IF(FSP!B64=\"\",\"\",FSP!C64)","v":""},{"$f":"IF(FSP!B64=\"\",0,FSP!D64)","v":0},{"$f":"IF(FSP!B64=\"\",0,FSP!E64)","v":0},null,{"$f":"IF(FSP!G64=\"\",\"\",FSP!H64)","v":""},{"$f":"IF(FSP!G64=\"\",0,FSP!I64)","v":0},null,{"$f":"IF(PS!B66=\"\",\"\",PS!C66)","v":""},{"$f":"IF(PS!B66=\"\",\"\",PS!D66)","v":""},null,{"$f":"IF(PS!F66=\"\",\"\",PS!G66)","v":""},{"$f":"IF(PS!F66=\"\",\"\",PS!H66)","v":""},null,{"$f":"IF(LP!A64=\"\",\"\",LP!B64)","v":""},{"$f":"IF(LP!A64=\"\",0,LP!C64)","v":0},null,{"$f":"IF(LP!E64=\"\",\"\",LP!F64)","v":""},{"$f":"IF(LP!E64=\"\",0,LP!G64)","v":0},null,{"$f":"IF(LP!I64=\"\",\"\",LP!J64)","v":""},{"$f":"IF(LP!I64=\"\",0,LP!K64)","v":0},null,{"$f":"IF(BPBPS!B64=\"\",\"\",BPBPS!C64)","v":""},{"$f":"IF(BPBPS!B64=\"\",0,BPBPS!D64)","v":0},null,{"$f":"IF(BPBPS!F64=\"\",\"\",BPBPS!G64)","v":""},{"$f":"IF(BPBPS!H64=\"\",0,BPBPS!H64)","v":0},null,{"$f":"IF(BPBPS!J64=\"\",\"\",BPBPS!K64)","v":""},{"$f":"IF(BPBPS!J64=\"\",0,BPBPS!L64)","v":0},null,{"$f":"IF(SSGP!B64=\"\",\"\",SSGP!C64)","v":""},{"$f":"IF(SSGP!B64=\"\",0,SSGP!D64)","v":0},null,{"$f":"IF(SSGP!F64=\"\",\"\",SSGP!G64)","v":""},{"$f":"IF(SSGP!F64=\"\",0,SSGP!H64)","v":0}]
[63,{"$f":"IF(WPP!B65=\"\",\"\",WPP!C65)","v":""},{"$f":"IF(WPP!B65=\"\",0,WPP!D65)","v":0},{"$f":"IF(WPP!B65=\"\",0,WPP!E65)","v":0},null,{"$f":"IF(WPP!G65=\"\",\"\",WPP!H65)","v":""},{"$f":"IF(WPP!G65=\"\",0,WPP!I65)","v":0},{"$f":"IF(WPP!G65=\"\",0,WPP!J65)","v":0},null,{"$f":"IF(KSP!B65=\"\",\"\",KSP!C65)","v":""},{"$f":"IF(KSP!B65=\"\",0,KSP!D65)","v":0},{"$f":"IF(KSP!B65=\"\",0,KSP!E65)","v":0},null,{"$f":"IF(KSP!G65=\"\",\"\",KSP!H65)","v":""},{"$f":"IF(KSP!G65=\"\",0,KSP!I65)","v":0},{"$f":"IF(KSP!G65=\"\",0,KSP!J65)","v":0},null,{"$f":"IF(FSP!B65=\"\",\"\",FSP!C65)","v":""},{"$f":"IF(FSP!B65=\"\",0,FSP!D65)","v":0},{"$f":"IF(FSP!B65=\"\",0,FSP!E65)","v":0},null,{"$f":"IF(FSP!G65=\"\",\"\",FSP!H65)","v":""},{"$f":"IF(FSP!G65=\"\",0,FSP!I65)","v":0},null,{"$f":"IF(PS!B67=\"\",\"\",PS!C67)","v":""},{"$f":"IF(PS!B67=\"\",\"\",PS!D67)","v":""},null,{"$f":"IF(PS!F67=\"\",\"\",PS!G67)","v":""},{"$f":"IF(PS!F67=\"\",\"\",PS!H67)","v":""},null,{"$f":"IF(LP!A65=\"\",\"\",LP!B65)","v":""},{"$f":"IF(LP!A65=\"\",0,LP!C65)","v":0},null,{"$f":"IF(LP!E65=\"\",\"\",LP!F65)","v":""},{"$f":"IF(LP!E65=\"\",0,LP!G65)","v":0},null,{"$f":"IF(LP!I65=\"\",\"\",LP!J65)","v":""},{"$f":"IF(LP!I65=\"\",0,LP!K65)","v":0},null,{"$f":"IF(BPBPS!B65=\"\",\"\",BPBPS!C65)","v":""},{"$f":"IF(BPBPS!B65=\"\",0,BPBPS!D65)","v":0},null,{"$f":"IF(BPBPS!F65=\"\",\"\",BPBPS!G65)","v":""},{"$f":"IF(BPBPS!H65=\"\",0,BPBPS!H65)","v":0},null,{"$f":"IF(BPBPS!J65=\"\",\"\",BPBPS!K65)","v":""},{"$f":"IF(BPBPS!J65=\"\",0,BPBPS!L65)","v":0},null,{"$f":"IF(SSGP!B65=\"\",\"\",SSGP!C65)","v":""},{"$f":"IF(SSGP!B65=\"\",0,SSGP!D65)","v":0},null,{"$f":"IF(SSGP!F65=\"\",\"\",SSGP!G65)","v":""},{"$f":"IF(SSGP!F65=\"\",0,SSGP!H65)","v":0}]
[64,{"$f":"IF(WPP!B66=\"\",\"\",WPP!C66)","v":""},{"$f":"IF(WPP!B66=\"\",0,WPP!D66)","v":0},{"$f":"IF(WPP!B66=\"\",0,WPP!E66)","v":0},null,{"$f":"IF(WPP!G66=\"\",\"\",WPP!H66)","v":""},{"$f":"IF(WPP!G66=\"\",0,WPP!I66)","v":0},{"$f":"IF(WPP!G66=\"\",0,WPP!J66)","v":0},null,{"$f":"IF(KSP!B66=\"\",\"\",KSP!C66)","v":""},{"$f":"IF(KSP!B66=\"\",0,KSP!D66)","v":0},{"$f":"IF(KSP!B66=\"\",0,KSP!E66)","v":0},null,{"$f":"IF(KSP!G66=\"\",\"\",KSP!H66)","v":""},{"$f":"IF(KSP!G66=\"\",0,KSP!I66)","v":0},{"$f":"IF(KSP!G66=\"\",0,KSP!J66)","v":0},null,{"$f":"IF(FSP!B66=\"\",\"\",FSP!C66)","v":""},{"$f":"IF(FSP!B66=\"\",0,FSP!D66)","v":0},{"$f":"IF(FSP!B66=\"\",0,FSP!E66)","v":0},null,{"$f":"IF(FSP!G66=\"\",\"\",FSP!H66)","v":""},{"$f":"IF(FSP!G66=\"\",0,FSP!I66)","v":0},null,{"$f":"IF(PS!B68=\"\",\"\",PS!C68)","v":""},{"$f":"IF(PS!B68=\"\",\"\",PS!D68)","v":""},null,{"$f":"IF(PS!F68=\"\",\"\",PS!G68)","v":""},{"$f":"IF(PS!F68=\"\",\"\",PS!H68)","v":""},null,{"$f":"IF(LP!A66=\"\",\"\",LP!B66)","v":""},{"$f":"IF(LP!A66=\"\",0,LP!C66)","v":0},null,{"$f":"IF(LP!E66=\"\",\"\",LP!F66)","v":""},{"$f":"IF(LP!E66=\"\",0,LP!G66)","v":0},null,{"$f":"IF(LP!I66=\"\",\"\",LP!J66)","v":""},{"$f":"IF(LP!I66=\"\",0,LP!K66)","v":0},null,{"$f":"IF(BPBPS!B66=\"\",\"\",BPBPS!C66)","v":""},{"$f":"IF(BPBPS!B66=\"\",0,BPBPS!D66)","v":0},null,{"$f":"IF(BPBPS!F66=\"\",\"\",BPBPS!G66)","v":""},{"$f":"IF(BPBPS!H66=\"\",0,BPBPS!H66)","v":0},null,{"$f":"IF(BPBPS!J66=\"\",\"\",BPBPS!K66)","v":""},{"$f":"IF(BPBPS!J66=\"\",0,BPBPS!L66)","v":0},null,{"$f":"IF(SSGP!B66=\"\",\"\",SSGP!C66)","v":""},{"$f":"IF(SSGP!B66=\"\",0,SSGP!D66)","v":0},null,{"$f":"IF(SSGP!F66=\"\",\"\",SSGP!G66)","v":""},{"$f":"IF(SSGP!F66=\"\",0,SSGP!H66)","v":0}]
[65,{"$f":"IF(WPP!B67=\"\",\"\",WPP!C67)","v":""},{"$f":"IF(WPP!B67=\"\",0,WPP!D67)","v":0},{"$f":"IF(WPP!B67=\"\",0,WPP!E67)","v":0},null,{"$f":"IF(WPP!G67=\"\",\"\",WPP!H67)","v":""},{"$f":"IF(WPP!G67=\"\",0,WPP!I67)","v":0},{"$f":"IF(WPP!G67=\"\",0,WPP!J67)","v":0},null,{"$f":"IF(KSP!B67=\"\",\"\",KSP!C67)","v":""},{"$f":"IF(KSP!B67=\"\",0,KSP!D67)","v":0},{"$f":"IF(KSP!B67=\"\",0,KSP!E67)","v":0},null,{"$f":"IF(KSP!G67=\"\",\"\",KSP!H67)","v":""},{"$f":"IF(KSP!G67=\"\",0,KSP!I67)","v":0},{"$f":"IF(KSP!G67=\"\",0,KSP!J67)","v":0},null,{"$f":"IF(FSP!B67=\"\",\"\",FSP!C67)","v":""},{"$f":"IF(FSP!B67=\"\",0,FSP!D67)","v":0},{"$f":"IF(FSP!B67=\"\",0,FSP!E67)","v":0},null,{"$f":"IF(FSP!G67=\"\",\"\",FSP!H67)","v":""},{"$f":"IF(FSP!G67=\"\",0,FSP!I67)","v":0},null,{"$f":"IF(PS!B69=\"\",\"\",PS!C69)","v":""},{"$f":"IF(PS!B69=\"\",\"\",PS!D69)","v":""},null,{"$f":"IF(PS!F69=\"\",\"\",PS!G69)","v":""},{"$f":"IF(PS!F69=\"\",\"\",PS!H69)","v":""},null,{"$f":"IF(LP!A67=\"\",\"\",LP!B67)","v":""},{"$f":"IF(LP!A67=\"\",0,LP!C67)","v":0},null,{"$f":"IF(LP!E67=\"\",\"\",LP!F67)","v":""},{"$f":"IF(LP!E67=\"\",0,LP!G67)","v":0},null,{"$f":"IF(LP!I67=\"\",\"\",LP!J67)","v":""},{"$f":"IF(LP!I67=\"\",0,LP!K67)","v":0},null,{"$f":"IF(BPBPS!B67=\"\",\"\",BPBPS!C67)","v":""},{"$f":"IF(BPBPS!B67=\"\",0,BPBPS!D67)","v":0},null,{"$f":"IF(BPBPS!F67=\"\",\"\",BPBPS!G67)","v":""},{"$f":"IF(BPBPS!H67=\"\",0,BPBPS!H67)","v":0},null,{"$f":"IF(BPBPS!J67=\"\",\"\",BPBPS!K67)","v":""},{"$f":"IF(BPBPS!J67=\"\",0,BPBPS!L67)","v":0},null,{"$f":"IF(SSGP!B67=\"\",\"\",SSGP!C67)","v":""},{"$f":"IF(SSGP!B67=\"\",0,SSGP!D67)","v":0},null,{"$f":"IF(SSGP!F67=\"\",\"\",SSGP!G67)","v":""},{"$f":"IF(SSGP!F67=\"\",0,SSGP!H67)","v":0}]
[66,{"$f":"IF(WPP!B68=\"\",\"\",WPP!C68)","v":""},{"$f":"IF(WPP!B68=\"\",0,WPP!D68)","v":0},{"$f":"IF(WPP!B68=\"\",0,WPP!E68)","v":0},null,{"$f":"IF(WPP!G68=\"\",\"\",WPP!H68)","v":""},{"$f":"IF(WPP!G68=\"\",0,WPP!I68)","v":0},{"$f":"IF(WPP!G68=\"\",0,WPP!J68)","v":0},null,{"$f":"IF(KSP!B68=\"\",\"\",KSP!C68)","v":""},{"$f":"IF(KSP!B68=\"\",0,KSP!D68)","v":0},{"$f":"IF(KSP!B68=\"\",0,KSP!E68)","v":0},null,{"$f":"IF(KSP!G68=\"\",\"\",KSP!H68)","v":""},{"$f":"IF(KSP!G68=\"\",0,KSP!I68)","v":0},{"$f":"IF(KSP!G68=\"\",0,KSP!J68)","v":0},null,{"$f":"IF(FSP!B68=\"\",\"\",FSP!C68)","v":""},{"$f":"IF(FSP!B68=\"\",0,FSP!D68)","v":0},{"$f":"IF(FSP!B68=\"\",0,FSP!E68)","v":0},null,{"$f":"IF(FSP!G68=\"\",\"\",FSP!H68)","v":""},{"$f":"IF(FSP!G68=\"\",0,FSP!I68)","v":0},null,{"$f":"IF(PS!B70=\"\",\"\",PS!C70)","v":""},{"$f":"IF(PS!B70=\"\",\"\",PS!D70)","v":""},null,{"$f":"IF(PS!F70=\"\",\"\",PS!G70)","v":""},{"$f":"IF(PS!F70=\"\",\"\",PS!H70)","v":""},null,{"$f":"IF(LP!A68=\"\",\"\",LP!B68)","v":""},{"$f":"IF(LP!A68=\"\",0,LP!C68)","v":0},null,{"$f":"IF(LP!E68=\"\",\"\",LP!F68)","v":""},{"$f":"IF(LP!E68=\"\",0,LP!G68)","v":0},null,{"$f":"IF(LP!I68=\"\",\"\",LP!J68)","v":""},{"$f":"IF(LP!I68=\"\",0,LP!K68)","v":0},null,{"$f":"IF(BPBPS!B68=\"\",\"\",BPBPS!C68)","v":""},{"$f":"IF(BPBPS!B68=\"\",0,BPBPS!D68)","v":0},null,{"$f":"IF(BPBPS!F68=\"\",\"\",BPBPS!G68)","v":""},{"$f":"IF(BPBPS!H68=\"\",0,BPBPS!H68)","v":0},null,{"$f":"IF(BPBPS!J68=\"\",\"\",BPBPS!K68)","v":""},{"$f":"IF(BPBPS!J68=\"\",0,BPBPS!L68)","v":0},null,{"$f":"IF(SSGP!B68=\"\",\"\",SSGP!C68)","v":""},{"$f":"IF(SSGP!B68=\"\",0,SSGP!D68)","v":0},null,{"$f":"IF(SSGP!F68=\"\",\"\",SSGP!G68)","v":""},{"$f":"IF(SSGP!F68=\"\",0,SSGP!H68)","v":0}]
[67,{"$f":"IF(WPP!B69=\"\",\"\",WPP!C69)","v":""},{"$f":"IF(WPP!B69=\"\",0,WPP!D69)","v":0},{"$f":"IF(WPP!B69=\"\",0,WPP!E69)","v":0},null,{"$f":"IF(WPP!G69=\"\",\"\",WPP!H69)","v":""},{"$f":"IF(WPP!G69=\"\",0,WPP!I69)","v":0},{"$f":"IF(WPP!G69=\"\",0,WPP!J69)","v":0},null,{"$f":"IF(KSP!B69=\"\",\"\",KSP!C69)","v":""},{"$f":"IF(KSP!B69=\"\",0,KSP!D69)","v":0},{"$f":"IF(KSP!B69=\"\",0,KSP!E69)","v":0},null,{"$f":"IF(KSP!G69=\"\",\"\",KSP!H69)","v":""},{"$f":"IF(KSP!G69=\"\",0,KSP!I69)","v":0},{"$f":"IF(KSP!G69=\"\",0,KSP!J69)","v":0},null,{"$f":"IF(FSP!B69=\"\",\"\",FSP!C69)","v":""},{"$f":"IF(FSP!B69=\"\",0,FSP!D69)","v":0},{"$f":"IF(FSP!B69=\"\",0,FSP!E69)","v":0},null,{"$f":"IF(FSP!G69=\"\",\"\",FSP!H69)","v":""},{"$f":"IF(FSP!G69=\"\",0,FSP!I69)","v":0},null,{"$f":"IF(PS!B71=\"\",\"\",PS!C71)","v":""},{"$f":"IF(PS!B71=\"\",\"\",PS!D71)","v":""},null,{"$f":"IF(PS!F71=\"\",\"\",PS!G71)","v":""},{"$f":"IF(PS!F71=\"\",\"\",PS!H71)","v":""},null,{"$f":"IF(LP!A69=\"\",\"\",LP!B69)","v":""},{"$f":"IF(LP!A69=\"\",0,LP!C69)","v":0},null,{"$f":"IF(LP!E69=\"\",\"\",LP!F69)","v":""},{"$f":"IF(LP!E69=\"\",0,LP!G69)","v":0},null,{"$f":"IF(LP!I69=\"\",\"\",LP!J69)","v":""},{"$f":"IF(LP!I69=\"\",0,LP!K69)","v":0},null,{"$f":"IF(BPBPS!B69=\"\",\"\",BPBPS!C69)","v":""},{"$f":"IF(BPBPS!B69=\"\",0,BPBPS!D69)","v":0},null,{"$f":"IF(BPBPS!F69=\"\",\"\",BPBPS!G69)","v":""},{"$f":"IF(BPBPS!H69=\"\",0,BPBPS!H69)","v":0},null,{"$f":"IF(BPBPS!J69=\"\",\"\",BPBPS!K69)","v":""},{"$f":"IF(BPBPS!J69=\"\",0,BPBPS!L69)","v":0},null,{"$f":"IF(SSGP!B69=\"\",\"\",SSGP!C69)","v":""},{"$f":"IF(SSGP!B69=\"\",0,SSGP!D69)","v":0},null,{"$f":"IF(SSGP!F69=\"\",\"\",SSGP!G69)","v":""},{"$f":"IF(SSGP!F69=\"\",0,SSGP!H69)","v":0}]
[68,{"$f":"IF(WPP!B70=\"\",\"\",WPP!C70)","v":""},{"$f":"IF(WPP!B70=\"\",0,WPP!D70)","v":0},{"$f":"IF(WPP!B70=\"\",0,WPP!E70)","v":0},null,{"$f":"IF(WPP!G70=\"\",\"\",WPP!H70)","v":""},{"$f":"IF(WPP!G70=\"\",0,WPP!I70)","v":0},{"$f":"IF(WPP!G70=\"\",0,WPP!J70)","v":0},null,{"$f":"IF(KSP!B70=\"\",\"\",KSP!C70)","v":""},{"$f":"IF(KSP!B70=\"\",0,KSP!D70)","v":0},{"$f":"IF(KSP!B70=\"\",0,KSP!E70)","v":0},null,{"$f":"IF(KSP!G70=\"\",\"\",KSP!H70)","v":""},{"$f":"IF(KSP!G70=\"\",0,KSP!I70)","v":0},{"$f":"IF(KSP!G70=\"\",0,KSP!J70)","v":0},null,{"$f":"IF(FSP!B70=\"\",\"\",FSP!C70)","v":""},{"$f":"IF(FSP!B70=\"\",0,FSP!D70)","v":0},{"$f":"IF(FSP!B70=\"\",0,FSP!E70)","v":0},null,{"$f":"IF(FSP!G70=\"\",\"\",FSP!H70)","v":""},{"$f":"IF(FSP!G70=\"\",0,FSP!I70)","v":0},null,{"$f":"IF(PS!B72=\"\",\"\",PS!C72)","v":""},{"$f":"IF(PS!B72=\"\",\"\",PS!D72)","v":""},null,{"$f":"IF(PS!F72=\"\",\"\",PS!G72)","v":""},{"$f":"IF(PS!F72=\"\",\"\",PS!H72)","v":""},null,{"$f":"IF(LP!A70=\"\",\"\",LP!B70)","v":""},{"$f":"IF(LP!A70=\"\",0,LP!C70)","v":0},null,{"$f":"IF(LP!E70=\"\",\"\",LP!F70)","v":""},{"$f":"IF(LP!E70=\"\",0,LP!G70)","v":0},null,{"$f":"IF(LP!I70=\"\",\"\",LP!J70)","v":""},{"$f":"IF(LP!I70=\"\",0,LP!K70)","v":0},null,{"$f":"IF(BPBPS!B70=\"\",\"\",BPBPS!C70)","v":""},{"$f":"IF(BPBPS!B70=\"\",0,BPBPS!D70)","v":0},null,{"$f":"IF(BPBPS!F70=\"\",\"\",BPBPS!G70)","v":""},{"$f":"IF(BPBPS!H70=\"\",0,BPBPS!H70)","v":0},null,{"$f":"IF(BPBPS!J70=\"\",\"\",BPBPS!K70)","v":""},{"$f":"IF(BPBPS!J70=\"\",0,BPBPS!L70)","v":0},null,{"$f":"IF(SSGP!B70=\"\",\"\",SSGP!C70)","v":""},{"$f":"IF(SSGP!B70=\"\",0,SSGP!D70)","v":0},null,{"$f":"IF(SSGP!F70=\"\",\"\",SSGP!G70)","v":""},{"$f":"IF(SSGP!F70=\"\",0,SSGP!H70)","v":0}]
[69,{"$f":"IF(WPP!B71=\"\",\"\",WPP!C71)","v":""},{"$f":"IF(WPP!B71=\"\",0,WPP!D71)","v":0},{"$f":"IF(WPP!B71=\"\",0,WPP!E71)","v":0},null,{"$f":"IF(WPP!G71=\"\",\"\",WPP!H71)","v":""},{"$f":"IF(WPP!G71=\"\",0,WPP!I71)","v":0},{"$f":"IF(WPP!G71=\"\",0,WPP!J71)","v":0},null,{"$f":"IF(KSP!B71=\"\",\"\",KSP!C71)","v":""},{"$f":"IF(KSP!B71=\"\",0,KSP!D71)","v":0},{"$f":"IF(KSP!B71=\"\",0,KSP!E71)","v":0},null,{"$f":"IF(KSP!G71=\"\",\"\",KSP!H71)","v":""},{"$f":"IF(KSP!G71=\"\",0,KSP!I71)","v":0},{"$f":"IF(KSP!G71=\"\",0,KSP!J71)","v":0},null,{"$f":"IF(FSP!B71=\"\",\"\",FSP!C71)","v":""},{"$f":"IF(FSP!B71=\"\",0,FSP!D71)","v":0},{"$f":"IF(FSP!B71=\"\",0,FSP!E71)","v":0},null,{"$f":"IF(FSP!G71=\"\",\"\",FSP!H71)","v":""},{"$f":"IF(FSP!G71=\"\",0,FSP!I71)","v":0},null,{"$f":"IF(PS!B73=\"\",\"\",PS!C73)","v":""},{"$f":"IF(PS!B73=\"\",\"\",PS!D73)","v":""},null,{"$f":"IF(PS!F73=\"\",\"\",PS!G73)","v":""},{"$f":"IF(PS!F73=\"\",\"\",PS!H73)","v":""},null,{"$f":"IF(LP!A71=\"\",\"\",LP!B71)","v":""},{"$f":"IF(LP!A71=\"\",0,LP!C71)","v":0},null,{"$f":"IF(LP!E71=\"\",\"\",LP!F71)","v":""},{"$f":"IF(LP!E71=\"\",0,LP!G71)","v":0},null,{"$f":"IF(LP!I71=\"\",\"\",LP!J71)","v":""},{"$f":"IF(LP!I71=\"\",0,LP!K71)","v":0},null,{"$f":"IF(BPBPS!B71=\"\",\"\",BPBPS!C71)","v":""},{"$f":"IF(BPBPS!B71=\"\",0,BPBPS!D71)","v":0},null,{"$f":"IF(BPBPS!F71=\"\",\"\",BPBPS!G71)","v":""},{"$f":"IF(BPBPS!H71=\"\",0,BPBPS!H71)","v":0},null,{"$f":"IF(BPBPS!J71=\"\",\"\",BPBPS!K71)","v":""},{"$f":"IF(BPBPS!J71=\"\",0,BPBPS!L71)","v":0},null,{"$f":"IF(SSGP!B71=\"\",\"\",SSGP!C71)","v":""},{"$f":"IF(SSGP!B71=\"\",0,SSGP!D71)","v":0},null,{"$f":"IF(SSGP!F71=\"\",\"\",SSGP!G71)","v":""},{"$f":"IF(SSGP!F71=\"\",0,SSGP!H71)","v":0}]
[70,{"$f":"IF(WPP!B72=\"\",\"\",WPP!C72)","v":""},{"$f":"IF(WPP!B72=\"\",0,WPP!D72)","v":0},{"$f":"IF(WPP!B72=\"\",0,WPP!E72)","v":0},null,{"$f":"IF(WPP!G72=\"\",\"\",WPP!H72)","v":""},{"$f":"IF(WPP!G72=\"\",0,WPP!I72)","v":0},{"$f":"IF(WPP!G72=\"\",0,WPP!J72)","v":0},null,{"$f":"IF(KSP!B72=\"\",\"\",KSP!C72)","v":""},{"$f":"IF(KSP!B72=\"\",0,KSP!D72)","v":0},{"$f":"IF(KSP!B72=\"\",0,KSP!E72)","v":0},null,{"$f":"IF(KSP!G72=\"\",\"\",KSP!H72)","v":""},{"$f":"IF(KSP!G72=\"\",0,KSP!I72)","v":0},{"$f":"IF(KSP!G72=\"\",0,KSP!J72)","v":0},null,{"$f":"IF(FSP!B72=\"\",\"\",FSP!C72)","v":""},{"$f":"IF(FSP!B72=\"\",0,FSP!D72)","v":0},{"$f":"IF(FSP!B72=\"\",0,FSP!E72)","v":0},null,{"$f":"IF(FSP!G72=\"\",\"\",FSP!H72)","v":""},{"$f":"IF(FSP!G72=\"\",0,FSP!I72)","v":0},null,{"$f":"IF(PS!B74=\"\",\"\",PS!C74)","v":""},{"$f":"IF(PS!B74=\"\",\"\",PS!D74)","v":""},null,{"$f":"IF(PS!F74=\"\",\"\",PS!G74)","v":""},{"$f":"IF(PS!F74=\"\",\"\",PS!H74)","v":""},null,{"$f":"IF(LP!A72=\"\",\"\",LP!B72)","v":""},{"$f":"IF(LP!A72=\"\",0,LP!C72)","v":0},null,{"$f":"IF(LP!E72=\"\",\"\",LP!F72)","v":""},{"$f":"IF(LP!E72=\"\",0,LP!G72)","v":0},null,{"$f":"IF(LP!I72=\"\",\"\",LP!J72)","v":""},{"$f":"IF(LP!I72=\"\",0,LP!K72)","v":0},null,{"$f":"IF(BPBPS!B72=\"\",\"\",BPBPS!C72)","v":""},{"$f":"IF(BPBPS!B72=\"\",0,BPBPS!D72)","v":0},null,{"$f":"IF(BPBPS!F72=\"\",\"\",BPBPS!G72)","v":""},{"$f":"IF(BPBPS!H72=\"\",0,BPBPS!H72)","v":0},null,{"$f":"IF(BPBPS!J72=\"\",\"\",BPBPS!K72)","v":""},{"$f":"IF(BPBPS!J72=\"\",0,BPBPS!L72)","v":0},null,{"$f":"IF(SSGP!B72=\"\",\"\",SSGP!C72)","v":""},{"$f":"IF(SSGP!B72=\"\",0,SSGP!D72)","v":0},null,{"$f":"IF(SSGP!F72=\"\",\"\",SSGP!G72)","v":""},{"$f":"IF(SSGP!F72=\"\",0,SSGP!H72)","v":0}]
[71,{"$f":"IF(WPP!B73=\"\",\"\",WPP!C73)","v":""},{"$f":"IF(WPP!B73=\"\",0,WPP!D73)","v":0},{"$f":"IF(WPP!B73=\"\",0,WPP!E73)","v":0},null,{"$f":"IF(WPP!G73=\"\",\"\",WPP!H73)","v":""},{"$f":"IF(WPP!G73=\"\",0,WPP!I73)","v":0},{"$f":"IF(WPP!G73=\"\",0,WPP!J73)","v":0},null,{"$f":"IF(KSP!B73=\"\",\"\",KSP!C73)","v":""},{"$f":"IF(KSP!B73=\"\",0,KSP!D73)","v":0},{"$f":"IF(KSP!B73=\"\",0,KSP!E73)","v":0},null,{"$f":"IF(KSP!G73=\"\",\"\",KSP!H73)","v":""},{"$f":"IF(KSP!G73=\"\",0,KSP!I73)","v":0},{"$f":"IF(KSP!G73=\"\",0,KSP!J73)","v":0},null,{"$f":"IF(FSP!B73=\"\",\"\",FSP!C73)","v":""},{"$f":"IF(FSP!B73=\"\",0,FSP!D73)","v":0},{"$f":"IF(FSP!B73=\"\",0,FSP!E73)","v":0},null,{"$f":"IF(FSP!G73=\"\",\"\",FSP!H73)","v":""},{"$f":"IF(FSP!G73=\"\",0,FSP!I73)","v":0},null,{"$f":"IF(PS!B75=\"\",\"\",PS!C75)","v":""},{"$f":"IF(PS!B75=\"\",\"\",PS!D75)","v":""},null,{"$f":"IF(PS!F75=\"\",\"\",PS!G75)","v":""},{"$f":"IF(PS!F75=\"\",\"\",PS!H75)","v":""},null,{"$f":"IF(LP!A73=\"\",\"\",LP!B73)","v":""},{"$f":"IF(LP!A73=\"\",0,LP!C73)","v":0},null,{"$f":"IF(LP!E73=\"\",\"\",LP!F73)","v":""},{"$f":"IF(LP!E73=\"\",0,LP!G73)","v":0},null,{"$f":"IF(LP!I73=\"\",\"\",LP!J73)","v":""},{"$f":"IF(LP!I73=\"\",0,LP!K73)","v":0},null,{"$f":"IF(BPBPS!B73=\"\",\"\",BPBPS!C73)","v":""},{"$f":"IF(BPBPS!B73=\"\",0,BPBPS!D73)","v":0},null,{"$f":"IF(BPBPS!F73=\"\",\"\",BPBPS!G73)","v":""},{"$f":"IF(BPBPS!H73=\"\",0,BPBPS!H73)","v":0},null,{"$f":"IF(BPBPS!J73=\"\",\"\",BPBPS!K73)","v":""},{"$f":"IF(BPBPS!J73=\"\",0,BPBPS!L73)","v":0},null,{"$f":"IF(SSGP!B73=\"\",\"\",SSGP!C73)","v":""},{"$f":"IF(SSGP!B73=\"\",0,SSGP!D73)","v":0},null,{"$f":"IF(SSGP!F73=\"\",\"\",SSGP!G73)","v":""},{"$f":"IF(SSGP!F73=\"\",0,SSGP!H73)","v":0}]
[72,{"$f":"IF(WPP!B74=\"\",\"\",WPP!C74)","v":""},{"$f":"IF(WPP!B74=\"\",0,WPP!D74)","v":0},{"$f":"IF(WPP!B74=\"\",0,WPP!E74)","v":0},null,{"$f":"IF(WPP!G74=\"\",\"\",WPP!H74)","v":""},{"$f":"IF(WPP!G74=\"\",0,WPP!I74)","v":0},{"$f":"IF(WPP!G74=\"\",0,WPP!J74)","v":0},null,{"$f":"IF(KSP!B74=\"\",\"\",KSP!C74)","v":""},{"$f":"IF(KSP!B74=\"\",0,KSP!D74)","v":0},{"$f":"IF(KSP!B74=\"\",0,KSP!E74)","v":0},null,{"$f":"IF(KSP!G74=\"\",\"\",KSP!H74)","v":""},{"$f":"IF(KSP!G74=\"\",0,KSP!I74)","v":0},{"$f":"IF(KSP!G74=\"\",0,KSP!J74)","v":0},null,{"$f":"IF(FSP!B74=\"\",\"\",FSP!C74)","v":""},{"$f":"IF(FSP!B74=\"\",0,FSP!D74)","v":0},{"$f":"IF(FSP!B74=\"\",0,FSP!E74)","v":0},null,{"$f":"IF(FSP!G74=\"\",\"\",FSP!H74)","v":""},{"$f":"IF(FSP!G74=\"\",0,FSP!I74)","v":0},null,{"$f":"IF(PS!B76=\"\",\"\",PS!C76)","v":""},{"$f":"IF(PS!B76=\"\",\"\",PS!D76)","v":""},null,{"$f":"IF(PS!F76=\"\",\"\",PS!G76)","v":""},{"$f":"IF(PS!F76=\"\",\"\",PS!H76)","v":""},null,{"$f":"IF(LP!A74=\"\",\"\",LP!B74)","v":""},{"$f":"IF(LP!A74=\"\",0,LP!C74)","v":0},null,{"$f":"IF(LP!E74=\"\",\"\",LP!F74)","v":""},{"$f":"IF(LP!E74=\"\",0,LP!G74)","v":0},null,{"$f":"IF(LP!I74=\"\",\"\",LP!J74)","v":""},{"$f":"IF(LP!I74=\"\",0,LP!K74)","v":0},null,{"$f":"IF(BPBPS!B74=\"\",\"\",BPBPS!C74)","v":""},{"$f":"IF(BPBPS!B74=\"\",0,BPBPS!D74)","v":0},null,{"$f":"IF(BPBPS!F74=\"\",\"\",BPBPS!G74)","v":""},{"$f":"IF(BPBPS!H74=\"\",0,BPBPS!H74)","v":0},null,{"$f":"IF(BPBPS!J74=\"\",\"\",BPBPS!K74)","v":""},{"$f":"IF(BPBPS!J74=\"\",0,BPBPS!L74)","v":0},null,{"$f":"IF(SSGP!B74=\"\",\"\",SSGP!C74)","v":""},{"$f":"IF(SSGP!B74=\"\",0,SSGP!D74)","v":0},null,{"$f":"IF(SSGP!F74=\"\",\"\",SSGP!G74)","v":""},{"$f":"IF(SSGP!F74=\"\",0,SSGP!H74)","v":0}]
[73,{"$f":"IF(WPP!B75=\"\",\"\",WPP!C75)","v":""},{"$f":"IF(WPP!B75=\"\",0,WPP!D75)","v":0},{"$f":"IF(WPP!B75=\"\",0,WPP!E75)","v":0},null,{"$f":"IF(WPP!G75=\"\",\"\",WPP!H75)","v":""},{"$f":"IF(WPP!G75=\"\",0,WPP!I75)","v":0},{"$f":"IF(WPP!G75=\"\",0,WPP!J75)","v":0},null,{"$f":"IF(KSP!B75=\"\",\"\",KSP!C75)","v":""},{"$f":"IF(KSP!B75=\"\",0,KSP!D75)","v":0},{"$f":"IF(KSP!B75=\"\",0,KSP!E75)","v":0},null,{"$f":"IF(KSP!G75=\"\",\"\",KSP!H75)","v":""},{"$f":"IF(KSP!G75=\"\",0,KSP!I75)","v":0},{"$f":"IF(KSP!G75=\"\",0,KSP!J75)","v":0},null,{"$f":"IF(FSP!B75=\"\",\"\",FSP!C75)","v":""},{"$f":"IF(FSP!B75=\"\",0,FSP!D75)","v":0},{"$f":"IF(FSP!B75=\"\",0,FSP!E75)","v":0},null,{"$f":"IF(FSP!G75=\"\",\"\",FSP!H75)","v":""},{"$f":"IF(FSP!G75=\"\",0,FSP!I75)","v":0},null,{"$f":"IF(PS!B77=\"\",\"\",PS!C77)","v":""},{"$f":"IF(PS!B77=\"\",\"\",PS!D77)","v":""},null,{"$f":"IF(PS!F77=\"\",\"\",PS!G77)","v":""},{"$f":"IF(PS!F77=\"\",\"\",PS!H77)","v":""},null,{"$f":"IF(LP!A75=\"\",\"\",LP!B75)","v":""},{"$f":"IF(LP!A75=\"\",0,LP!C75)","v":0},null,{"$f":"IF(LP!E75=\"\",\"\",LP!F75)","v":""},{"$f":"IF(LP!E75=\"\",0,LP!G75)","v":0},null,{"$f":"IF(LP!I75=\"\",\"\",LP!J75)","v":""},{"$f":"IF(LP!I75=\"\",0,LP!K75)","v":0},null,{"$f":"IF(BPBPS!B75=\"\",\"\",BPBPS!C75)","v":""},{"$f":"IF(BPBPS!B75=\"\",0,BPBPS!D75)","v":0},null,{"$f":"IF(BPBPS!F75=\"\",\"\",BPBPS!G75)","v":""},{"$f":"IF(BPBPS!H75=\"\",0,BPBPS!H75)","v":0},null,{"$f":"IF(BPBPS!J75=\"\",\"\",BPBPS!K75)","v":""},{"$f":"IF(BPBPS!J75=\"\",0,BPBPS!L75)","v":0},null,{"$f":"IF(SSGP!B75=\"\",\"\",SSGP!C75)","v":""},{"$f":"IF(SSGP!B75=\"\",0,SSGP!D75)","v":0},null,{"$f":"IF(SSGP!F75=\"\",\"\",SSGP!G75)","v":""},{"$f":"IF(SSGP!F75=\"\",0,SSGP!H75)","v":0}]
[74,{"$f":"IF(WPP!B76=\"\",\"\",WPP!C76)","v":""},{"$f":"IF(WPP!B76=\"\",0,WPP!D76)","v":0},{"$f":"IF(WPP!B76=\"\",0,WPP!E76)","v":0},null,{"$f":"IF(WPP!G76=\"\",\"\",WPP!H76)","v":""},{"$f":"IF(WPP!G76=\"\",0,WPP!I76)","v":0},{"$f":"IF(WPP!G76=\"\",0,WPP!J76)","v":0},null,{"$f":"IF(KSP!B76=\"\",\"\",KSP!C76)","v":""},{"$f":"IF(KSP!B76=\"\",0,KSP!D76)","v":0},{"$f":"IF(KSP!B76=\"\",0,KSP!E76)","v":0},null,{"$f":"IF(KSP!G76=\"\",\"\",KSP!H76)","v":""},{"$f":"IF(KSP!G76=\"\",0,KSP!I76)","v":0},{"$f":"IF(KSP!G76=\"\",0,KSP!J76)","v":0},null,{"$f":"IF(FSP!B76=\"\",\"\",FSP!C76)","v":""},{"$f":"IF(FSP!B76=\"\",0,FSP!D76)","v":0},{"$f":"IF(FSP!B76=\"\",0,FSP!E76)","v":0},null,{"$f":"IF(FSP!G76=\"\",\"\",FSP!H76)","v":""},{"$f":"IF(FSP!G76=\"\",0,FSP!I76)","v":0},null,{"$f":"IF(PS!B78=\"\",\"\",PS!C78)","v":""},{"$f":"IF(PS!B78=\"\",\"\",PS!D78)","v":""},null,{"$f":"IF(PS!F78=\"\",\"\",PS!G78)","v":""},{"$f":"IF(PS!F78=\"\",\"\",PS!H78)","v":""},null,{"$f":"IF(LP!A76=\"\",\"\",LP!B76)","v":""},{"$f":"IF(LP!A76=\"\",0,LP!C76)","v":0},null,{"$f":"IF(LP!E76=\"\",\"\",LP!F76)","v":""},{"$f":"IF(LP!E76=\"\",0,LP!G76)","v":0},null,{"$f":"IF(LP!I76=\"\",\"\",LP!J76)","v":""},{"$f":"IF(LP!I76=\"\",0,LP!K76)","v":0},null,{"$f":"IF(BPBPS!B76=\"\",\"\",BPBPS!C76)","v":""},{"$f":"IF(BPBPS!B76=\"\",0,BPBPS!D76)","v":0},null,{"$f":"IF(BPBPS!F76=\"\",\"\",BPBPS!G76)","v":""},{"$f":"IF(BPBPS!H76=\"\",0,BPBPS!H76)","v":0},null,{"$f":"IF(BPBPS!J76=\"\",\"\",BPBPS!K76)","v":""},{"$f":"IF(BPBPS!J76=\"\",0,BPBPS!L76)","v":0},null,{"$f":"IF(SSGP!B76=\"\",\"\",SSGP!C76)","v":""},{"$f":"IF(SSGP!B76=\"\",0,SSGP!D76)","v":0},null,{"$f":"IF(SSGP!F76=\"\",\"\",SSGP!G76)","v":""},{"$f":"IF(SSGP!F76=\"\",0,SSGP!H76)","v":0}]
[75,{"$f":"IF(WPP!B77=\"\",\"\",WPP!C77)","v":""},{"$f":"IF(WPP!B77=\"\",0,WPP!D77)","v":0},{"$f":"IF(WPP!B77=\"\",0,WPP!E77)","v":0},null,{"$f":"IF(WPP!G77=\"\",\"\",WPP!H77)","v":""},{"$f":"IF(WPP!G77=\"\",0,WPP!I77)","v":0},{"$f":"IF(WPP!G77=\"\",0,WPP!J77)","v":0},null,{"$f":"IF(KSP!B77=\"\",\"\",KSP!C77)","v":""},{"$f":"IF(KSP!B77=\"\",0,KSP!D77)","v":0},{"$f":"IF(KSP!B77=\"\",0,KSP!E77)","v":0},null,{"$f":"IF(KSP!G77=\"\",\"\",KSP!H77)","v":""},{"$f":"IF(KSP!G77=\"\",0,KSP!I77)","v":0},{"$f":"IF(KSP!G77=\"\",0,KSP!J77)","v":0},null,{"$f":"IF(FSP!B77=\"\",\"\",FSP!C77)","v":""},{"$f":"IF(FSP!B77=\"\",0,FSP!D77)","v":0},{"$f":"IF(FSP!B77=\"\",0,FSP!E77)","v":0},null,{"$f":"IF(FSP!G77=\"\",\"\",FSP!H77)","v":""},{"$f":"IF(FSP!G77=\"\",0,FSP!I77)","v":0},null,{"$f":"IF(PS!B79=\"\",\"\",PS!C79)","v":""},{"$f":"IF(PS!B79=\"\",\"\",PS!D79)","v":""},null,{"$f":"IF(PS!F79=\"\",\"\",PS!G79)","v":""},{"$f":"IF(PS!F79=\"\",\"\",PS!H79)","v":""},null,{"$f":"IF(LP!A77=\"\",\"\",LP!B77)","v":""},{"$f":"IF(LP!A77=\"\",0,LP!C77)","v":0},null,{"$f":"IF(LP!E77=\"\",\"\",LP!F77)","v":""},{"$f":"IF(LP!E77=\"\",0,LP!G77)","v":0},null,{"$f":"IF(LP!I77=\"\",\"\",LP!J77)","v":""},{"$f":"IF(LP!I77=\"\",0,LP!K77)","v":0},null,{"$f":"IF(BPBPS!B77=\"\",\"\",BPBPS!C77)","v":""},{"$f":"IF(BPBPS!B77=\"\",0,BPBPS!D77)","v":0},null,{"$f":"IF(BPBPS!F77=\"\",\"\",BPBPS!G77)","v":""},{"$f":"IF(BPBPS!H77=\"\",0,BPBPS!H77)","v":0},null,{"$f":"IF(BPBPS!J77=\"\",\"\",BPBPS!K77)","v":""},{"$f":"IF(BPBPS!J77=\"\",0,BPBPS!L77)","v":0},null,{"$f":"IF(SSGP!B77=\"\",\"\",SSGP!C77)","v":""},{"$f":"IF(SSGP!B77=\"\",0,SSGP!D77)","v":0},null,{"$f":"IF(SSGP!F77=\"\",\"\",SSGP!G77)","v":""},{"$f":"IF(SSGP!F77=\"\",0,SSGP!H77)","v":0}]
[76,{"$f":"IF(WPP!B78=\"\",\"\",WPP!C78)","v":""},{"$f":"IF(WPP!B78=\"\",0,WPP!D78)","v":0},{"$f":"IF(WPP!B78=\"\",0,WPP!E78)","v":0},null,{"$f":"IF(WPP!G78=\"\",\"\",WPP!H78)","v":""},{"$f":"IF(WPP!G78=\"\",0,WPP!I78)","v":0},{"$f":"IF(WPP!G78=\"\",0,WPP!J78)","v":0},null,{"$f":"IF(KSP!B78=\"\",\"\",KSP!C78)","v":""},{"$f":"IF(KSP!B78=\"\",0,KSP!D78)","v":0},{"$f":"IF(KSP!B78=\"\",0,KSP!E78)","v":0},null,{"$f":"IF(KSP!G78=\"\",\"\",KSP!H78)","v":""},{"$f":"IF(KSP!G78=\"\",0,KSP!I78)","v":0},{"$f":"IF(KSP!G78=\"\",0,KSP!J78)","v":0},null,{"$f":"IF(FSP!B78=\"\",\"\",FSP!C78)","v":""},{"$f":"IF(FSP!B78=\"\",0,FSP!D78)","v":0},{"$f":"IF(FSP!B78=\"\",0,FSP!E78)","v":0},null,{"$f":"IF(FSP!G78=\"\",\"\",FSP!H78)","v":""},{"$f":"IF(FSP!G78=\"\",0,FSP!I78)","v":0},null,{"$f":"IF(PS!B80=\"\",\"\",PS!C80)","v":""},{"$f":"IF(PS!B80=\"\",\"\",PS!D80)","v":""},null,{"$f":"IF(PS!F80=\"\",\"\",PS!G80)","v":""},{"$f":"IF(PS!F80=\"\",\"\",PS!H80)","v":""},null,{"$f":"IF(LP!A78=\"\",\"\",LP!B78)","v":""},{"$f":"IF(LP!A78=\"\",0,LP!C78)","v":0},null,{"$f":"IF(LP!E78=\"\",\"\",LP!F78)","v":""},{"$f":"IF(LP!E78=\"\",0,LP!G78)","v":0},null,{"$f":"IF(LP!I78=\"\",\"\",LP!J78)","v":""},{"$f":"IF(LP!I78=\"\",0,LP!K78)","v":0},null,{"$f":"IF(BPBPS!B78=\"\",\"\",BPBPS!C78)","v":""},{"$f":"IF(BPBPS!B78=\"\",0,BPBPS!D78)","v":0},null,{"$f":"IF(BPBPS!F78=\"\",\"\",BPBPS!G78)","v":""},{"$f":"IF(BPBPS!H78=\"\",0,BPBPS!H78)","v":0},null,{"$f":"IF(BPBPS!J78=\"\",\"\",BPBPS!K78)","v":""},{"$f":"IF(BPBPS!J78=\"\",0,BPBPS!L78)","v":0},null,{"$f":"IF(SSGP!B78=\"\",\"\",SSGP!C78)","v":""},{"$f":"IF(SSGP!B78=\"\",0,SSGP!D78)","v":0},null,{"$f":"IF(SSGP!F78=\"\",\"\",SSGP!G78)","v":""},{"$f":"IF(SSGP!F78=\"\",0,SSGP!H78)","v":0}]
[77,{"$f":"IF(WPP!B79=\"\",\"\",WPP!C79)","v":""},{"$f":"IF(WPP!B79=\"\",0,WPP!D79)","v":0},{"$f":"IF(WPP!B79=\"\",0,WPP!E79)","v":0},null,{"$f":"IF(WPP!G79=\"\",\"\",WPP!H79)","v":""},{"$f":"IF(WPP!G79=\"\",0,WPP!I79)","v":0},{"$f":"IF(WPP!G79=\"\",0,WPP!J79)","v":0},null,{"$f":"IF(KSP!B79=\"\",\"\",KSP!C79)","v":""},{"$f":"IF(KSP!B79=\"\",0,KSP!D79)","v":0},{"$f":"IF(KSP!B79=\"\",0,KSP!E79)","v":0},null,{"$f":"IF(KSP!G79=\"\",\"\",KSP!H79)","v":""},{"$f":"IF(KSP!G79=\"\",0,KSP!I79)","v":0},{"$f":"IF(KSP!G79=\"\",0,KSP!J79)","v":0},null,{"$f":"IF(FSP!B79=\"\",\"\",FSP!C79)","v":""},{"$f":"IF(FSP!B79=\"\",0,FSP!D79)","v":0},{"$f":"IF(FSP!B79=\"\",0,FSP!E79)","v":0},null,{"$f":"IF(FSP!G79=\"\",\"\",FSP!H79)","v":""},{"$f":"IF(FSP!G79=\"\",0,FSP!I79)","v":0},null,{"$f":"IF(PS!B81=\"\",\"\",PS!C81)","v":""},{"$f":"IF(PS!B81=\"\",\"\",PS!D81)","v":""},null,{"$f":"IF(PS!F81=\"\",\"\",PS!G81)","v":""},{"$f":"IF(PS!F81=\"\",\"\",PS!H81)","v":""},null,{"$f":"IF(LP!A79=\"\",\"\",LP!B79)","v":""},{"$f":"IF(LP!A79=\"\",0,LP!C79)","v":0},null,{"$f":"IF(LP!E79=\"\",\"\",LP!F79)","v":""},{"$f":"IF(LP!E79=\"\",0,LP!G79)","v":0},null,{"$f":"IF(LP!I79=\"\",\"\",LP!J79)","v":""},{"$f":"IF(LP!I79=\"\",0,LP!K79)","v":0},null,{"$f":"IF(BPBPS!B79=\"\",\"\",BPBPS!C79)","v":""},{"$f":"IF(BPBPS!B79=\"\",0,BPBPS!D79)","v":0},null,{"$f":"IF(BPBPS!F79=\"\",\"\",BPBPS!G79)","v":""},{"$f":"IF(BPBPS!H79=\"\",0,BPBPS!H79)","v":0},null,{"$f":"IF(BPBPS!J79=\"\",\"\",BPBPS!K79)","v":""},{"$f":"IF(BPBPS!J79=\"\",0,BPBPS!L79)","v":0},null,{"$f":"IF(SSGP!B79=\"\",\"\",SSGP!C79)","v":""},{"$f":"IF(SSGP!B79=\"\",0,SSGP!D79)","v":0},null,{"$f":"IF(SSGP!F79=\"\",\"\",SSGP!G79)","v":""},{"$f":"IF(SSGP!F79=\"\",0,SSGP!H79)","v":0}]
[78,{"$f":"IF(WPP!B80=\"\",\"\",WPP!C80)","v":""},{"$f":"IF(WPP!B80=\"\",0,WPP!D80)","v":0},{"$f":"IF(WPP!B80=\"\",0,WPP!E80)","v":0},null,{"$f":"IF(WPP!G80=\"\",\"\",WPP!H80)","v":""},{"$f":"IF(WPP!G80=\"\",0,WPP!I80)","v":0},{"$f":"IF(WPP!G80=\"\",0,WPP!J80)","v":0},null,{"$f":"IF(KSP!B80=\"\",\"\",KSP!C80)","v":""},{"$f":"IF(KSP!B80=\"\",0,KSP!D80)","v":0},{"$f":"IF(KSP!B80=\"\",0,KSP!E80)","v":0},null,{"$f":"IF(KSP!G80=\"\",\"\",KSP!H80)","v":""},{"$f":"IF(KSP!G80=\"\",0,KSP!I80)","v":0},{"$f":"IF(KSP!G80=\"\",0,KSP!J80)","v":0},null,{"$f":"IF(FSP!B80=\"\",\"\",FSP!C80)","v":""},{"$f":"IF(FSP!B80=\"\",0,FSP!D80)","v":0},{"$f":"IF(FSP!B80=\"\",0,FSP!E80)","v":0},null,{"$f":"IF(FSP!G80=\"\",\"\",FSP!H80)","v":""},{"$f":"IF(FSP!G80=\"\",0,FSP!I80)","v":0},null,{"$f":"IF(PS!B82=\"\",\"\",PS!C82)","v":""},{"$f":"IF(PS!B82=\"\",\"\",PS!D82)","v":""},null,{"$f":"IF(PS!F82=\"\",\"\",PS!G82)","v":""},{"$f":"IF(PS!F82=\"\",\"\",PS!H82)","v":""},null,{"$f":"IF(LP!A80=\"\",\"\",LP!B80)","v":""},{"$f":"IF(LP!A80=\"\",0,LP!C80)","v":0},null,{"$f":"IF(LP!E80=\"\",\"\",LP!F80)","v":""},{"$f":"IF(LP!E80=\"\",0,LP!G80)","v":0},null,{"$f":"IF(LP!I80=\"\",\"\",LP!J80)","v":""},{"$f":"IF(LP!I80=\"\",0,LP!K80)","v":0},null,{"$f":"IF(BPBPS!B80=\"\",\"\",BPBPS!C80)","v":""},{"$f":"IF(BPBPS!B80=\"\",0,BPBPS!D80)","v":0},null,{"$f":"IF(BPBPS!F80=\"\",\"\",BPBPS!G80)","v":""},{"$f":"IF(BPBPS!H80=\"\",0,BPBPS!H80)","v":0},null,{"$f":"IF(BPBPS!J80=\"\",\"\",BPBPS!K80)","v":""},{"$f":"IF(BPBPS!J80=\"\",0,BPBPS!L80)","v":0},null,{"$f":"IF(SSGP!B80=\"\",\"\",SSGP!C80)","v":""},{"$f":"IF(SSGP!B80=\"\",0,SSGP!D80)","v":0},null,{"$f":"IF(SSGP!F80=\"\",\"\",SSGP!G80)","v":""},{"$f":"IF(SSGP!F80=\"\",0,SSGP!H80)","v":0}]
[79,{"$f":"IF(WPP!B81=\"\",\"\",WPP!C81)","v":""},{"$f":"IF(WPP!B81=\"\",0,WPP!D81)","v":0},{"$f":"IF(WPP!B81=\"\",0,WPP!E81)","v":0},null,{"$f":"IF(WPP!G81=\"\",\"\",WPP!H81)","v":""},{"$f":"IF(WPP!G81=\"\",0,WPP!I81)","v":0},{"$f":"IF(WPP!G81=\"\",0,WPP!J81)","v":0},null,{"$f":"IF(KSP!B81=\"\",\"\",KSP!C81)","v":""},{"$f":"IF(KSP!B81=\"\",0,KSP!D81)","v":0},{"$f":"IF(KSP!B81=\"\",0,KSP!E81)","v":0},null,{"$f":"IF(KSP!G81=\"\",\"\",KSP!H81)","v":""},{"$f":"IF(KSP!G81=\"\",0,KSP!I81)","v":0},{"$f":"IF(KSP!G81=\"\",0,KSP!J81)","v":0},null,{"$f":"IF(FSP!B81=\"\",\"\",FSP!C81)","v":""},{"$f":"IF(FSP!B81=\"\",0,FSP!D81)","v":0},{"$f":"IF(FSP!B81=\"\",0,FSP!E81)","v":0},null,{"$f":"IF(FSP!G81=\"\",\"\",FSP!H81)","v":""},{"$f":"IF(FSP!G81=\"\",0,FSP!I81)","v":0},null,{"$f":"IF(PS!B83=\"\",\"\",PS!C83)","v":""},{"$f":"IF(PS!B83=\"\",\"\",PS!D83)","v":""},null,{"$f":"IF(PS!F83=\"\",\"\",PS!G83)","v":""},{"$f":"IF(PS!F83=\"\",\"\",PS!H83)","v":""},null,{"$f":"IF(LP!A81=\"\",\"\",LP!B81)","v":""},{"$f":"IF(LP!A81=\"\",0,LP!C81)","v":0},null,{"$f":"IF(LP!E81=\"\",\"\",LP!F81)","v":""},{"$f":"IF(LP!E81=\"\",0,LP!G81)","v":0},null,{"$f":"IF(LP!I81=\"\",\"\",LP!J81)","v":""},{"$f":"IF(LP!I81=\"\",0,LP!K81)","v":0},null,{"$f":"IF(BPBPS!B81=\"\",\"\",BPBPS!C81)","v":""},{"$f":"IF(BPBPS!B81=\"\",0,BPBPS!D81)","v":0},null,{"$f":"IF(BPBPS!F81=\"\",\"\",BPBPS!G81)","v":""},{"$f":"IF(BPBPS!H81=\"\",0,BPBPS!H81)","v":0},null,{"$f":"IF(BPBPS!J81=\"\",\"\",BPBPS!K81)","v":""},{"$f":"IF(BPBPS!J81=\"\",0,BPBPS!L81)","v":0},null,{"$f":"IF(SSGP!B81=\"\",\"\",SSGP!C81)","v":""},{"$f":"IF(SSGP!B81=\"\",0,SSGP!D81)","v":0},null,{"$f":"IF(SSGP!F81=\"\",\"\",SSGP!G81)","v":""},{"$f":"IF(SSGP!F81=\"\",0,SSGP!H81)","v":0}]
[80,{"$f":"IF(WPP!B82=\"\",\"\",WPP!C82)","v":""},{"$f":"IF(WPP!B82=\"\",0,WPP!D82)","v":0},{"$f":"IF(WPP!B82=\"\",0,WPP!E82)","v":0},null,{"$f":"IF(WPP!G82=\"\",\"\",WPP!H82)","v":""},{"$f":"IF(WPP!G82=\"\",0,WPP!I82)","v":0},{"$f":"IF(WPP!G82=\"\",0,WPP!J82)","v":0},null,{"$f":"IF(KSP!B82=\"\",\"\",KSP!C82)","v":""},{"$f":"IF(KSP!B82=\"\",0,KSP!D82)","v":0},{"$f":"IF(KSP!B82=\"\",0,KSP!E82)","v":0},null,{"$f":"IF(KSP!G82=\"\",\"\",KSP!H82)","v":""},{"$f":"IF(KSP!G82=\"\",0,KSP!I82)","v":0},{"$f":"IF(KSP!G82=\"\",0,KSP!J82)","v":0},null,{"$f":"IF(FSP!B82=\"\",\"\",FSP!C82)","v":""},{"$f":"IF(FSP!B82=\"\",0,FSP!D82)","v":0},{"$f":"IF(FSP!B82=\"\",0,FSP!E82)","v":0},null,{"$f":"IF(FSP!G82=\"\",\"\",FSP!H82)","v":""},{"$f":"IF(FSP!G82=\"\",0,FSP!I82)","v":0},null,{"$f":"IF(PS!B84=\"\",\"\",PS!C84)","v":""},{"$f":"IF(PS!B84=\"\",\"\",PS!D84)","v":""},null,{"$f":"IF(PS!F84=\"\",\"\",PS!G84)","v":""},{"$f":"IF(PS!F84=\"\",\"\",PS!H84)","v":""},null,{"$f":"IF(LP!A82=\"\",\"\",LP!B82)","v":""},{"$f":"IF(LP!A82=\"\",0,LP!C82)","v":0},null,{"$f":"IF(LP!E82=\"\",\"\",LP!F82)","v":""},{"$f":"IF(LP!E82=\"\",0,LP!G82)","v":0},null,{"$f":"IF(LP!I82=\"\",\"\",LP!J82)","v":""},{"$f":"IF(LP!I82=\"\",0,LP!K82)","v":0},null,{"$f":"IF(BPBPS!B82=\"\",\"\",BPBPS!C82)","v":""},{"$f":"IF(BPBPS!B82=\"\",0,BPBPS!D82)","v":0},null,{"$f":"IF(BPBPS!F82=\"\",\"\",BPBPS!G82)","v":""},{"$f":"IF(BPBPS!H82=\"\",0,BPBPS!H82)","v":0},null,{"$f":"IF(BPBPS!J82=\"\",\"\",BPBPS!K82)","v":""},{"$f":"IF(BPBPS!J82=\"\",0,BPBPS!L82)","v":0},null,{"$f":"IF(SSGP!B82=\"\",\"\",SSGP!C82)","v":""},{"$f":"IF(SSGP!B82=\"\",0,SSGP!D82)","v":0},null,{"$f":"IF(SSGP!F82=\"\",\"\",SSGP!G82)","v":""},{"$f":"IF(SSGP!F82=\"\",0,SSGP!H82)","v":0}]
[81,{"$f":"IF(WPP!B83=\"\",\"\",WPP!C83)","v":""},{"$f":"IF(WPP!B83=\"\",0,WPP!D83)","v":0},{"$f":"IF(WPP!B83=\"\",0,WPP!E83)","v":0},null,{"$f":"IF(WPP!G83=\"\",\"\",WPP!H83)","v":""},{"$f":"IF(WPP!G83=\"\",0,WPP!I83)","v":0},{"$f":"IF(WPP!G83=\"\",0,WPP!J83)","v":0},null,{"$f":"IF(KSP!B83=\"\",\"\",KSP!C83)","v":""},{"$f":"IF(KSP!B83=\"\",0,KSP!D83)","v":0},{"$f":"IF(KSP!B83=\"\",0,KSP!E83)","v":0},null,{"$f":"IF(KSP!G83=\"\",\"\",KSP!H83)","v":""},{"$f":"IF(KSP!G83=\"\",0,KSP!I83)","v":0},{"$f":"IF(KSP!G83=\"\",0,KSP!J83)","v":0},null,{"$f":"IF(FSP!B83=\"\",\"\",FSP!C83)","v":""},{"$f":"IF(FSP!B83=\"\",0,FSP!D83)","v":0},{"$f":"IF(FSP!B83=\"\",0,FSP!E83)","v":0},null,{"$f":"IF(FSP!G83=\"\",\"\",FSP!H83)","v":""},{"$f":"IF(FSP!G83=\"\",0,FSP!I83)","v":0},null,{"$f":"IF(PS!B85=\"\",\"\",PS!C85)","v":""},{"$f":"IF(PS!B85=\"\",\"\",PS!D85)","v":""},null,{"$f":"IF(PS!F85=\"\",\"\",PS!G85)","v":""},{"$f":"IF(PS!F85=\"\",\"\",PS!H85)","v":""},null,{"$f":"IF(LP!A83=\"\",\"\",LP!B83)","v":""},{"$f":"IF(LP!A83=\"\",0,LP!C83)","v":0},null,{"$f":"IF(LP!E83=\"\",\"\",LP!F83)","v":""},{"$f":"IF(LP!E83=\"\",0,LP!G83)","v":0},null,{"$f":"IF(LP!I83=\"\",\"\",LP!J83)","v":""},{"$f":"IF(LP!I83=\"\",0,LP!K83)","v":0},null,{"$f":"IF(BPBPS!B83=\"\",\"\",BPBPS!C83)","v":""},{"$f":"IF(BPBPS!B83=\"\",0,BPBPS!D83)","v":0},null,{"$f":"IF(BPBPS!F83=\"\",\"\",BPBPS!G83)","v":""},{"$f":"IF(BPBPS!H83=\"\",0,BPBPS!H83)","v":0},null,{"$f":"IF(BPBPS!J83=\"\",\"\",BPBPS!K83)","v":""},{"$f":"IF(BPBPS!J83=\"\",0,BPBPS!L83)","v":0},null,{"$f":"IF(SSGP!B83=\"\",\"\",SSGP!C83)","v":""},{"$f":"IF(SSGP!B83=\"\",0,SSGP!D83)","v":0},null,{"$f":"IF(SSGP!F83=\"\",\"\",SSGP!G83)","v":""},{"$f":"IF(SSGP!F83=\"\",0,SSGP!H83)","v":0}]
[82,{"$f":"IF(WPP!B84=\"\",\"\",WPP!C84)","v":""},{"$f":"IF(WPP!B84=\"\",0,WPP!D84)","v":0},{"$f":"IF(WPP!B84=\"\",0,WPP!E84)","v":0},null,{"$f":"IF(WPP!G84=\"\",\"\",WPP!H84)","v":""},{"$f":"IF(WPP!G84=\"\",0,WPP!I84)","v":0},{"$f":"IF(WPP!G84=\"\",0,WPP!J84)","v":0},null,{"$f":"IF(KSP!B84=\"\",\"\",KSP!C84)","v":""},{"$f":"IF(KSP!B84=\"\",0,KSP!D84)","v":0},{"$f":"IF(KSP!B84=\"\",0,KSP!E84)","v":0},null,{"$f":"IF(KSP!G84=\"\",\"\",KSP!H84)","v":""},{"$f":"IF(KSP!G84=\"\",0,KSP!I84)","v":0},{"$f":"IF(KSP!G84=\"\",0,KSP!J84)","v":0},null,{"$f":"IF(FSP!B84=\"\",\"\",FSP!C84)","v":""},{"$f":"IF(FSP!B84=\"\",0,FSP!D84)","v":0},{"$f":"IF(FSP!B84=\"\",0,FSP!E84)","v":0},null,{"$f":"IF(FSP!G84=\"\",\"\",FSP!H84)","v":""},{"$f":"IF(FSP!G84=\"\",0,FSP!I84)","v":0},null,{"$f":"IF(PS!B86=\"\",\"\",PS!C86)","v":""},{"$f":"IF(PS!B86=\"\",\"\",PS!D86)","v":""},null,{"$f":"IF(PS!F86=\"\",\"\",PS!G86)","v":""},{"$f":"IF(PS!F86=\"\",\"\",PS!H86)","v":""},null,{"$f":"IF(LP!A84=\"\",\"\",LP!B84)","v":""},{"$f":"IF(LP!A84=\"\",0,LP!C84)","v":0},null,{"$f":"IF(LP!E84=\"\",\"\",LP!F84)","v":""},{"$f":"IF(LP!E84=\"\",0,LP!G84)","v":0},null,{"$f":"IF(LP!I84=\"\",\"\",LP!J84)","v":""},{"$f":"IF(LP!I84=\"\",0,LP!K84)","v":0},null,{"$f":"IF(BPBPS!B84=\"\",\"\",BPBPS!C84)","v":""},{"$f":"IF(BPBPS!B84=\"\",0,BPBPS!D84)","v":0},null,{"$f":"IF(BPBPS!F84=\"\",\"\",BPBPS!G84)","v":""},{"$f":"IF(BPBPS!H84=\"\",0,BPBPS!H84)","v":0},null,{"$f":"IF(BPBPS!J84=\"\",\"\",BPBPS!K84)","v":""},{"$f":"IF(BPBPS!J84=\"\",0,BPBPS!L84)","v":0},null,{"$f":"IF(SSGP!B84=\"\",\"\",SSGP!C84)","v":""},{"$f":"IF(SSGP!B84=\"\",0,SSGP!D84)","v":0},null,{"$f":"IF(SSGP!F84=\"\",\"\",SSGP!G84)","v":""},{"$f":"IF(SSGP!F84=\"\",0,SSGP!H84)","v":0}]
[83,{"$f":"IF(WPP!B85=\"\",\"\",WPP!C85)","v":""},{"$f":"IF(WPP!B85=\"\",0,WPP!D85)","v":0},{"$f":"IF(WPP!B85=\"\",0,WPP!E85)","v":0},null,{"$f":"IF(WPP!G85=\"\",\"\",WPP!H85)","v":""},{"$f":"IF(WPP!G85=\"\",0,WPP!I85)","v":0},{"$f":"IF(WPP!G85=\"\",0,WPP!J85)","v":0},null,{"$f":"IF(KSP!B85=\"\",\"\",KSP!C85)","v":""},{"$f":"IF(KSP!B85=\"\",0,KSP!D85)","v":0},{"$f":"IF(KSP!B85=\"\",0,KSP!E85)","v":0},null,{"$f":"IF(KSP!G85=\"\",\"\",KSP!H85)","v":""},{"$f":"IF(KSP!G85=\"\",0,KSP!I85)","v":0},{"$f":"IF(KSP!G85=\"\",0,KSP!J85)","v":0},null,{"$f":"IF(FSP!B85=\"\",\"\",FSP!C85)","v":""},{"$f":"IF(FSP!B85=\"\",0,FSP!D85)","v":0},{"$f":"IF(FSP!B85=\"\",0,FSP!E85)","v":0},null,{"$f":"IF(FSP!G85=\"\",\"\",FSP!H85)","v":""},{"$f":"IF(FSP!G85=\"\",0,FSP!I85)","v":0},null,{"$f":"IF(PS!B87=\"\",\"\",PS!C87)","v":""},{"$f":"IF(PS!B87=\"\",\"\",PS!D87)","v":""},null,{"$f":"IF(PS!F87=\"\",\"\",PS!G87)","v":""},{"$f":"IF(PS!F87=\"\",\"\",PS!H87)","v":""},null,{"$f":"IF(LP!A85=\"\",\"\",LP!B85)","v":""},{"$f":"IF(LP!A85=\"\",0,LP!C85)","v":0},null,{"$f":"IF(LP!E85=\"\",\"\",LP!F85)","v":""},{"$f":"IF(LP!E85=\"\",0,LP!G85)","v":0},null,{"$f":"IF(LP!I85=\"\",\"\",LP!J85)","v":""},{"$f":"IF(LP!I85=\"\",0,LP!K85)","v":0},null,{"$f":"IF(BPBPS!B85=\"\",\"\",BPBPS!C85)","v":""},{"$f":"IF(BPBPS!B85=\"\",0,BPBPS!D85)","v":0},null,{"$f":"IF(BPBPS!F85=\"\",\"\",BPBPS!G85)","v":""},{"$f":"IF(BPBPS!H85=\"\",0,BPBPS!H85)","v":0},null,{"$f":"IF(BPBPS!J85=\"\",\"\",BPBPS!K85)","v":""},{"$f":"IF(BPBPS!J85=\"\",0,BPBPS!L85)","v":0},null,{"$f":"IF(SSGP!B85=\"\",\"\",SSGP!C85)","v":""},{"$f":"IF(SSGP!B85=\"\",0,SSGP!D85)","v":0},null,{"$f":"IF(SSGP!F85=\"\",\"\",SSGP!G85)","v":""},{"$f":"IF(SSGP!F85=\"\",0,SSGP!H85)","v":0}]
[84,{"$f":"IF(WPP!B86=\"\",\"\",WPP!C86)","v":""},{"$f":"IF(WPP!B86=\"\",0,WPP!D86)","v":0},{"$f":"IF(WPP!B86=\"\",0,WPP!E86)","v":0},null,{"$f":"IF(WPP!G86=\"\",\"\",WPP!H86)","v":""},{"$f":"IF(WPP!G86=\"\",0,WPP!I86)","v":0},{"$f":"IF(WPP!G86=\"\",0,WPP!J86)","v":0},null,{"$f":"IF(KSP!B86=\"\",\"\",KSP!C86)","v":""},{"$f":"IF(KSP!B86=\"\",0,KSP!D86)","v":0},{"$f":"IF(KSP!B86=\"\",0,KSP!E86)","v":0},null,{"$f":"IF(KSP!G86=\"\",\"\",KSP!H86)","v":""},{"$f":"IF(KSP!G86=\"\",0,KSP!I86)","v":0},{"$f":"IF(KSP!G86=\"\",0,KSP!J86)","v":0},null,{"$f":"IF(FSP!B86=\"\",\"\",FSP!C86)","v":""},{"$f":"IF(FSP!B86=\"\",0,FSP!D86)","v":0},{"$f":"IF(FSP!B86=\"\",0,FSP!E86)","v":0},null,{"$f":"IF(FSP!G86=\"\",\"\",FSP!H86)","v":""},{"$f":"IF(FSP!G86=\"\",0,FSP!I86)","v":0},null,{"$f":"IF(PS!B88=\"\",\"\",PS!C88)","v":""},{"$f":"IF(PS!B88=\"\",\"\",PS!D88)","v":""},null,{"$f":"IF(PS!F88=\"\",\"\",PS!G88)","v":""},{"$f":"IF(PS!F88=\"\",\"\",PS!H88)","v":""},null,{"$f":"IF(LP!A86=\"\",\"\",LP!B86)","v":""},{"$f":"IF(LP!A86=\"\",0,LP!C86)","v":0},null,{"$f":"IF(LP!E86=\"\",\"\",LP!F86)","v":""},{"$f":"IF(LP!E86=\"\",0,LP!G86)","v":0},null,{"$f":"IF(LP!I86=\"\",\"\",LP!J86)","v":""},{"$f":"IF(LP!I86=\"\",0,LP!K86)","v":0},null,{"$f":"IF(BPBPS!B86=\"\",\"\",BPBPS!C86)","v":""},{"$f":"IF(BPBPS!B86=\"\",0,BPBPS!D86)","v":0},null,{"$f":"IF(BPBPS!F86=\"\",\"\",BPBPS!G86)","v":""},{"$f":"IF(BPBPS!H86=\"\",0,BPBPS!H86)","v":0},null,{"$f":"IF(BPBPS!J86=\"\",\"\",BPBPS!K86)","v":""},{"$f":"IF(BPBPS!J86=\"\",0,BPBPS!L86)","v":0},null,{"$f":"IF(SSGP!B86=\"\",\"\",SSGP!C86)","v":""},{"$f":"IF(SSGP!B86=\"\",0,SSGP!D86)","v":0},null,{"$f":"IF(SSGP!F86=\"\",\"\",SSGP!G86)","v":""},{"$f":"IF(SSGP!F86=\"\",0,SSGP!H86)","v":0}]
[85,{"$f":"IF(WPP!B87=\"\",\"\",WPP!C87)","v":""},{"$f":"IF(WPP!B87=\"\",0,WPP!D87)","v":0},{"$f":"IF(WPP!B87=\"\",0,WPP!E87)","v":0},null,{"$f":"IF(WPP!G87=\"\",\"\",WPP!H87)","v":""},{"$f":"IF(WPP!G87=\"\",0,WPP!I87)","v":0},{"$f":"IF(WPP!G87=\"\",0,WPP!J87)","v":0},null,{"$f":"IF(KSP!B87=\"\",\"\",KSP!C87)","v":""},{"$f":"IF(KSP!B87=\"\",0,KSP!D87)","v":0},{"$f":"IF(KSP!B87=\"\",0,KSP!E87)","v":0},null,{"$f":"IF(KSP!G87=\"\",\"\",KSP!H87)","v":""},{"$f":"IF(KSP!G87=\"\",0,KSP!I87)","v":0},{"$f":"IF(KSP!G87=\"\",0,KSP!J87)","v":0},null,{"$f":"IF(FSP!B87=\"\",\"\",FSP!C87)","v":""},{"$f":"IF(FSP!B87=\"\",0,FSP!D87)","v":0},{"$f":"IF(FSP!B87=\"\",0,FSP!E87)","v":0},null,{"$f":"IF(FSP!G87=\"\",\"\",FSP!H87)","v":""},{"$f":"IF(FSP!G87=\"\",0,FSP!I87)","v":0},null,{"$f":"IF(PS!B89=\"\",\"\",PS!C89)","v":""},{"$f":"IF(PS!B89=\"\",\"\",PS!D89)","v":""},null,{"$f":"IF(PS!F89=\"\",\"\",PS!G89)","v":""},{"$f":"IF(PS!F89=\"\",\"\",PS!H89)","v":""},null,{"$f":"IF(LP!A87=\"\",\"\",LP!B87)","v":""},{"$f":"IF(LP!A87=\"\",0,LP!C87)","v":0},null,{"$f":"IF(LP!E87=\"\",\"\",LP!F87)","v":""},{"$f":"IF(LP!E87=\"\",0,LP!G87)","v":0},null,{"$f":"IF(LP!I87=\"\",\"\",LP!J87)","v":""},{"$f":"IF(LP!I87=\"\",0,LP!K87)","v":0},null,{"$f":"IF(BPBPS!B87=\"\",\"\",BPBPS!C87)","v":""},{"$f":"IF(BPBPS!B87=\"\",0,BPBPS!D87)","v":0},null,{"$f":"IF(BPBPS!F87=\"\",\"\",BPBPS!G87)","v":""},{"$f":"IF(BPBPS!H87=\"\",0,BPBPS!H87)","v":0},null,{"$f":"IF(BPBPS!J87=\"\",\"\",BPBPS!K87)","v":""},{"$f":"IF(BPBPS!J87=\"\",0,BPBPS!L87)","v":0},null,{"$f":"IF(SSGP!B87=\"\",\"\",SSGP!C87)","v":""},{"$f":"IF(SSGP!B87=\"\",0,SSGP!D87)","v":0},null,{"$f":"IF(SSGP!F87=\"\",\"\",SSGP!G87)","v":""},{"$f":"IF(SSGP!F87=\"\",0,SSGP!H87)","v":0}]
[86,{"$f":"IF(WPP!B88=\"\",\"\",WPP!C88)","v":""},{"$f":"IF(WPP!B88=\"\",0,WPP!D88)","v":0},{"$f":"IF(WPP!B88=\"\",0,WPP!E88)","v":0},null,{"$f":"IF(WPP!G88=\"\",\"\",WPP!H88)","v":""},{"$f":"IF(WPP!G88=\"\",0,WPP!I88)","v":0},{"$f":"IF(WPP!G88=\"\",0,WPP!J88)","v":0},null,{"$f":"IF(KSP!B88=\"\",\"\",KSP!C88)","v":""},{"$f":"IF(KSP!B88=\"\",0,KSP!D88)","v":0},{"$f":"IF(KSP!B88=\"\",0,KSP!E88)","v":0},null,{"$f":"IF(KSP!G88=\"\",\"\",KSP!H88)","v":""},{"$f":"IF(KSP!G88=\"\",0,KSP!I88)","v":0},{"$f":"IF(KSP!G88=\"\",0,KSP!J88)","v":0},null,{"$f":"IF(FSP!B88=\"\",\"\",FSP!C88)","v":""},{"$f":"IF(FSP!B88=\"\",0,FSP!D88)","v":0},{"$f":"IF(FSP!B88=\"\",0,FSP!E88)","v":0},null,{"$f":"IF(FSP!G88=\"\",\"\",FSP!H88)","v":""},{"$f":"IF(FSP!G88=\"\",0,FSP!I88)","v":0},null,{"$f":"IF(PS!B90=\"\",\"\",PS!C90)","v":""},{"$f":"IF(PS!B90=\"\",\"\",PS!D90)","v":""},null,{"$f":"IF(PS!F90=\"\",\"\",PS!G90)","v":""},{"$f":"IF(PS!F90=\"\",\"\",PS!H90)","v":""},null,{"$f":"IF(LP!A88=\"\",\"\",LP!B88)","v":""},{"$f":"IF(LP!A88=\"\",0,LP!C88)","v":0},null,{"$f":"IF(LP!E88=\"\",\"\",LP!F88)","v":""},{"$f":"IF(LP!E88=\"\",0,LP!G88)","v":0},null,{"$f":"IF(LP!I88=\"\",\"\",LP!J88)","v":""},{"$f":"IF(LP!I88=\"\",0,LP!K88)","v":0},null,{"$f":"IF(BPBPS!B88=\"\",\"\",BPBPS!C88)","v":""},{"$f":"IF(BPBPS!B88=\"\",0,BPBPS!D88)","v":0},null,{"$f":"IF(BPBPS!F88=\"\",\"\",BPBPS!G88)","v":""},{"$f":"IF(BPBPS!H88=\"\",0,BPBPS!H88)","v":0},null,{"$f":"IF(BPBPS!J88=\"\",\"\",BPBPS!K88)","v":""},{"$f":"IF(BPBPS!J88=\"\",0,BPBPS!L88)","v":0},null,{"$f":"IF(SSGP!B88=\"\",\"\",SSGP!C88)","v":""},{"$f":"IF(SSGP!B88=\"\",0,SSGP!D88)","v":0},null,{"$f":"IF(SSGP!F88=\"\",\"\",SSGP!G88)","v":""},{"$f":"IF(SSGP!F88=\"\",0,SSGP!H88)","v":0}]
[87,{"$f":"IF(WPP!B89=\"\",\"\",WPP!C89)","v":""},{"$f":"IF(WPP!B89=\"\",0,WPP!D89)","v":0},{"$f":"IF(WPP!B89=\"\",0,WPP!E89)","v":0},null,{"$f":"IF(WPP!G89=\"\",\"\",WPP!H89)","v":""},{"$f":"IF(WPP!G89=\"\",0,WPP!I89)","v":0},{"$f":"IF(WPP!G89=\"\",0,WPP!J89)","v":0},null,{"$f":"IF(KSP!B89=\"\",\"\",KSP!C89)","v":""},{"$f":"IF(KSP!B89=\"\",0,KSP!D89)","v":0},{"$f":"IF(KSP!B89=\"\",0,KSP!E89)","v":0},null,{"$f":"IF(KSP!G89=\"\",\"\",KSP!H89)","v":""},{"$f":"IF(KSP!G89=\"\",0,KSP!I89)","v":0},{"$f":"IF(KSP!G89=\"\",0,KSP!J89)","v":0},null,{"$f":"IF(FSP!B89=\"\",\"\",FSP!C89)","v":""},{"$f":"IF(FSP!B89=\"\",0,FSP!D89)","v":0},{"$f":"IF(FSP!B89=\"\",0,FSP!E89)","v":0},null,{"$f":"IF(FSP!G89=\"\",\"\",FSP!H89)","v":""},{"$f":"IF(FSP!G89=\"\",0,FSP!I89)","v":0},null,{"$f":"IF(PS!B91=\"\",\"\",PS!C91)","v":""},{"$f":"IF(PS!B91=\"\",\"\",PS!D91)","v":""},null,{"$f":"IF(PS!F91=\"\",\"\",PS!G91)","v":""},{"$f":"IF(PS!F91=\"\",\"\",PS!H91)","v":""},null,{"$f":"IF(LP!A89=\"\",\"\",LP!B89)","v":""},{"$f":"IF(LP!A89=\"\",0,LP!C89)","v":0},null,{"$f":"IF(LP!E89=\"\",\"\",LP!F89)","v":""},{"$f":"IF(LP!E89=\"\",0,LP!G89)","v":0},null,{"$f":"IF(LP!I89=\"\",\"\",LP!J89)","v":""},{"$f":"IF(LP!I89=\"\",0,LP!K89)","v":0},null,{"$f":"IF(BPBPS!B89=\"\",\"\",BPBPS!C89)","v":""},{"$f":"IF(BPBPS!B89=\"\",0,BPBPS!D89)","v":0},null,{"$f":"IF(BPBPS!F89=\"\",\"\",BPBPS!G89)","v":""},{"$f":"IF(BPBPS!H89=\"\",0,BPBPS!H89)","v":0},null,{"$f":"IF(BPBPS!J89=\"\",\"\",BPBPS!K89)","v":""},{"$f":"IF(BPBPS!J89=\"\",0,BPBPS!L89)","v":0},null,{"$f":"IF(SSGP!B89=\"\",\"\",SSGP!C89)","v":""},{"$f":"IF(SSGP!B89=\"\",0,SSGP!D89)","v":0},null,{"$f":"IF(SSGP!F89=\"\",\"\",SSGP!G89)","v":""},{"$f":"IF(SSGP!F89=\"\",0,SSGP!H89)","v":0}]
[88,{"$f":"IF(WPP!B90=\"\",\"\",WPP!C90)","v":""},{"$f":"IF(WPP!B90=\"\",0,WPP!D90)","v":0},{"$f":"IF(WPP!B90=\"\",0,WPP!E90)","v":0},null,{"$f":"IF(WPP!G90=\"\",\"\",WPP!H90)","v":""},{"$f":"IF(WPP!G90=\"\",0,WPP!I90)","v":0},{"$f":"IF(WPP!G90=\"\",0,WPP!J90)","v":0},null,{"$f":"IF(KSP!B90=\"\",\"\",KSP!C90)","v":""},{"$f":"IF(KSP!B90=\"\",0,KSP!D90)","v":0},{"$f":"IF(KSP!B90=\"\",0,KSP!E90)","v":0},null,{"$f":"IF(KSP!G90=\"\",\"\",KSP!H90)","v":""},{"$f":"IF(KSP!G90=\"\",0,KSP!I90)","v":0},{"$f":"IF(KSP!G90=\"\",0,KSP!J90)","v":0},null,{"$f":"IF(FSP!B90=\"\",\"\",FSP!C90)","v":""},{"$f":"IF(FSP!B90=\"\",0,FSP!D90)","v":0},{"$f":"IF(FSP!B90=\"\",0,FSP!E90)","v":0},null,{"$f":"IF(FSP!G90=\"\",\"\",FSP!H90)","v":""},{"$f":"IF(FSP!G90=\"\",0,FSP!I90)","v":0},null,{"$f":"IF(PS!B92=\"\",\"\",PS!C92)","v":""},{"$f":"IF(PS!B92=\"\",\"\",PS!D92)","v":""},null,{"$f":"IF(PS!F92=\"\",\"\",PS!G92)","v":""},{"$f":"IF(PS!F92=\"\",\"\",PS!H92)","v":""},null,{"$f":"IF(LP!A90=\"\",\"\",LP!B90)","v":""},{"$f":"IF(LP!A90=\"\",0,LP!C90)","v":0},null,{"$f":"IF(LP!E90=\"\",\"\",LP!F90)","v":""},{"$f":"IF(LP!E90=\"\",0,LP!G90)","v":0},null,{"$f":"IF(LP!I90=\"\",\"\",LP!J90)","v":""},{"$f":"IF(LP!I90=\"\",0,LP!K90)","v":0},null,{"$f":"IF(BPBPS!B90=\"\",\"\",BPBPS!C90)","v":""},{"$f":"IF(BPBPS!B90=\"\",0,BPBPS!D90)","v":0},null,{"$f":"IF(BPBPS!F90=\"\",\"\",BPBPS!G90)","v":""},{"$f":"IF(BPBPS!H90=\"\",0,BPBPS!H90)","v":0},null,{"$f":"IF(BPBPS!J90=\"\",\"\",BPBPS!K90)","v":""},{"$f":"IF(BPBPS!J90=\"\",0,BPBPS!L90)","v":0},null,{"$f":"IF(SSGP!B90=\"\",\"\",SSGP!C90)","v":""},{"$f":"IF(SSGP!B90=\"\",0,SSGP!D90)","v":0},null,{"$f":"IF(SSGP!F90=\"\",\"\",SSGP!G90)","v":""},{"$f":"IF(SSGP!F90=\"\",0,SSGP!H90)","v":0}]
[89,{"$f":"IF(WPP!B91=\"\",\"\",WPP!C91)","v":""},{"$f":"IF(WPP!B91=\"\",0,WPP!D91)","v":0},{"$f":"IF(WPP!B91=\"\",0,WPP!E91)","v":0},null,{"$f":"IF(WPP!G91=\"\",\"\",WPP!H91)","v":""},{"$f":"IF(WPP!G91=\"\",0,WPP!I91)","v":0},{"$f":"IF(WPP!G91=\"\",0,WPP!J91)","v":0},null,{"$f":"IF(KSP!B91=\"\",\"\",KSP!C91)","v":""},{"$f":"IF(KSP!B91=\"\",0,KSP!D91)","v":0},{"$f":"IF(KSP!B91=\"\",0,KSP!E91)","v":0},null,{"$f":"IF(KSP!G91=\"\",\"\",KSP!H91)","v":""},{"$f":"IF(KSP!G91=\"\",0,KSP!I91)","v":0},{"$f":"IF(KSP!G91=\"\",0,KSP!J91)","v":0},null,{"$f":"IF(FSP!B91=\"\",\"\",FSP!C91)","v":""},{"$f":"IF(FSP!B91=\"\",0,FSP!D91)","v":0},{"$f":"IF(FSP!B91=\"\",0,FSP!E91)","v":0},null,{"$f":"IF(FSP!G91=\"\",\"\",FSP!H91)","v":""},{"$f":"IF(FSP!G91=\"\",0,FSP!I91)","v":0},null,{"$f":"IF(PS!B93=\"\",\"\",PS!C93)","v":""},{"$f":"IF(PS!B93=\"\",\"\",PS!D93)","v":""},null,{"$f":"IF(PS!F93=\"\",\"\",PS!G93)","v":""},{"$f":"IF(PS!F93=\"\",\"\",PS!H93)","v":""},null,{"$f":"IF(LP!A91=\"\",\"\",LP!B91)","v":""},{"$f":"IF(LP!A91=\"\",0,LP!C91)","v":0},null,{"$f":"IF(LP!E91=\"\",\"\",LP!F91)","v":""},{"$f":"IF(LP!E91=\"\",0,LP!G91)","v":0},null,{"$f":"IF(LP!I91=\"\",\"\",LP!J91)","v":""},{"$f":"IF(LP!I91=\"\",0,LP!K91)","v":0},null,{"$f":"IF(BPBPS!B91=\"\",\"\",BPBPS!C91)","v":""},{"$f":"IF(BPBPS!B91=\"\",0,BPBPS!D91)","v":0},null,{"$f":"IF(BPBPS!F91=\"\",\"\",BPBPS!G91)","v":""},{"$f":"IF(BPBPS!H91=\"\",0,BPBPS!H91)","v":0},null,{"$f":"IF(BPBPS!J91=\"\",\"\",BPBPS!K91)","v":""},{"$f":"IF(BPBPS!J91=\"\",0,BPBPS!L91)","v":0},null,{"$f":"IF(SSGP!B91=\"\",\"\",SSGP!C91)","v":""},{"$f":"IF(SSGP!B91=\"\",0,SSGP!D91)","v":0},null,{"$f":"IF(SSGP!F91=\"\",\"\",SSGP!G91)","v":""},{"$f":"IF(SSGP!F91=\"\",0,SSGP!H91)","v":0}]
[90,{"$f":"IF(WPP!B92=\"\",\"\",WPP!C92)","v":""},{"$f":"IF(WPP!B92=\"\",0,WPP!D92)","v":0},{"$f":"IF(WPP!B92=\"\",0,WPP!E92)","v":0},null,{"$f":"IF(WPP!G92=\"\",\"\",WPP!H92)","v":""},{"$f":"IF(WPP!G92=\"\",0,WPP!I92)","v":0},{"$f":"IF(WPP!G92=\"\",0,WPP!J92)","v":0},null,{"$f":"IF(KSP!B92=\"\",\"\",KSP!C92)","v":""},{"$f":"IF(KSP!B92=\"\",0,KSP!D92)","v":0},{"$f":"IF(KSP!B92=\"\",0,KSP!E92)","v":0},null,{"$f":"IF(KSP!G92=\"\",\"\",KSP!H92)","v":""},{"$f":"IF(KSP!G92=\"\",0,KSP!I92)","v":0},{"$f":"IF(KSP!G92=\"\",0,KSP!J92)","v":0},null,{"$f":"IF(FSP!B92=\"\",\"\",FSP!C92)","v":""},{"$f":"IF(FSP!B92=\"\",0,FSP!D92)","v":0},{"$f":"IF(FSP!B92=\"\",0,FSP!E92)","v":0},null,{"$f":"IF(FSP!G92=\"\",\"\",FSP!H92)","v":""},{"$f":"IF(FSP!G92=\"\",0,FSP!I92)","v":0},null,{"$f":"IF(PS!B94=\"\",\"\",PS!C94)","v":""},{"$f":"IF(PS!B94=\"\",\"\",PS!D94)","v":""},null,{"$f":"IF(PS!F94=\"\",\"\",PS!G94)","v":""},{"$f":"IF(PS!F94=\"\",\"\",PS!H94)","v":""},null,{"$f":"IF(LP!A92=\"\",\"\",LP!B92)","v":""},{"$f":"IF(LP!A92=\"\",0,LP!C92)","v":0},null,{"$f":"IF(LP!E92=\"\",\"\",LP!F92)","v":""},{"$f":"IF(LP!E92=\"\",0,LP!G92)","v":0},null,{"$f":"IF(LP!I92=\"\",\"\",LP!J92)","v":""},{"$f":"IF(LP!I92=\"\",0,LP!K92)","v":0},null,{"$f":"IF(BPBPS!B92=\"\",\"\",BPBPS!C92)","v":""},{"$f":"IF(BPBPS!B92=\"\",0,BPBPS!D92)","v":0},null,{"$f":"IF(BPBPS!F92=\"\",\"\",BPBPS!G92)","v":""},{"$f":"IF(BPBPS!H92=\"\",0,BPBPS!H92)","v":0},null,{"$f":"IF(BPBPS!J92=\"\",\"\",BPBPS!K92)","v":""},{"$f":"IF(BPBPS!J92=\"\",0,BPBPS!L92)","v":0},null,{"$f":"IF(SSGP!B92=\"\",\"\",SSGP!C92)","v":""},{"$f":"IF(SSGP!B92=\"\",0,SSGP!D92)","v":0},null,{"$f":"IF(SSGP!F92=\"\",\"\",SSGP!G92)","v":""},{"$f":"IF(SSGP!F92=\"\",0,SSGP!H92)","v":0}]
[91,{"$f":"IF(WPP!B93=\"\",\"\",WPP!C93)","v":""},{"$f":"IF(WPP!B93=\"\",0,WPP!D93)","v":0},{"$f":"IF(WPP!B93=\"\",0,WPP!E93)","v":0},null,{"$f":"IF(WPP!G93=\"\",\"\",WPP!H93)","v":""},{"$f":"IF(WPP!G93=\"\",0,WPP!I93)","v":0},{"$f":"IF(WPP!G93=\"\",0,WPP!J93)","v":0},null,{"$f":"IF(KSP!B93=\"\",\"\",KSP!C93)","v":""},{"$f":"IF(KSP!B93=\"\",0,KSP!D93)","v":0},{"$f":"IF(KSP!B93=\"\",0,KSP!E93)","v":0},null,{"$f":"IF(KSP!G93=\"\",\"\",KSP!H93)","v":""},{"$f":"IF(KSP!G93=\"\",0,KSP!I93)","v":0},{"$f":"IF(KSP!G93=\"\",0,KSP!J93)","v":0},null,{"$f":"IF(FSP!B93=\"\",\"\",FSP!C93)","v":""},{"$f":"IF(FSP!B93=\"\",0,FSP!D93)","v":0},{"$f":"IF(FSP!B93=\"\",0,FSP!E93)","v":0},null,{"$f":"IF(FSP!G93=\"\",\"\",FSP!H93)","v":""},{"$f":"IF(FSP!G93=\"\",0,FSP!I93)","v":0},null,{"$f":"IF(PS!B95=\"\",\"\",PS!C95)","v":""},{"$f":"IF(PS!B95=\"\",\"\",PS!D95)","v":""},null,{"$f":"IF(PS!F95=\"\",\"\",PS!G95)","v":""},{"$f":"IF(PS!F95=\"\",\"\",PS!H95)","v":""},null,{"$f":"IF(LP!A93=\"\",\"\",LP!B93)","v":""},{"$f":"IF(LP!A93=\"\",0,LP!C93)","v":0},null,{"$f":"IF(LP!E93=\"\",\"\",LP!F93)","v":""},{"$f":"IF(LP!E93=\"\",0,LP!G93)","v":0},null,{"$f":"IF(LP!I93=\"\",\"\",LP!J93)","v":""},{"$f":"IF(LP!I93=\"\",0,LP!K93)","v":0},null,{"$f":"IF(BPBPS!B93=\"\",\"\",BPBPS!C93)","v":""},{"$f":"IF(BPBPS!B93=\"\",0,BPBPS!D93)","v":0},null,{"$f":"IF(BPBPS!F93=\"\",\"\",BPBPS!G93)","v":""},{"$f":"IF(BPBPS!H93=\"\",0,BPBPS!H93)","v":0},null,{"$f":"IF(BPBPS!J93=\"\",\"\",BPBPS!K93)","v":""},{"$f":"IF(BPBPS!J93=\"\",0,BPBPS!L93)","v":0},null,{"$f":"IF(SSGP!B93=\"\",\"\",SSGP!C93)","v":""},{"$f":"IF(SSGP!B93=\"\",0,SSGP!D93)","v":0},null,{"$f":"IF(SSGP!F93=\"\",\"\",SSGP!G93)","v":""},{"$f":"IF(SSGP!F93=\"\",0,SSGP!H93)","v":0}]
[92,{"$f":"IF(WPP!B94=\"\",\"\",WPP!C94)","v":""},{"$f":"IF(WPP!B94=\"\",0,WPP!D94)","v":0},{"$f":"IF(WPP!B94=\"\",0,WPP!E94)","v":0},null,{"$f":"IF(WPP!G94=\"\",\"\",WPP!H94)","v":""},{"$f":"IF(WPP!G94=\"\",0,WPP!I94)","v":0},{"$f":"IF(WPP!G94=\"\",0,WPP!J94)","v":0},null,{"$f":"IF(KSP!B94=\"\",\"\",KSP!C94)","v":""},{"$f":"IF(KSP!B94=\"\",0,KSP!D94)","v":0},{"$f":"IF(KSP!B94=\"\",0,KSP!E94)","v":0},null,{"$f":"IF(KSP!G94=\"\",\"\",KSP!H94)","v":""},{"$f":"IF(KSP!G94=\"\",0,KSP!I94)","v":0},{"$f":"IF(KSP!G94=\"\",0,KSP!J94)","v":0},null,{"$f":"IF(FSP!B94=\"\",\"\",FSP!C94)","v":""},{"$f":"IF(FSP!B94=\"\",0,FSP!D94)","v":0},{"$f":"IF(FSP!B94=\"\",0,FSP!E94)","v":0},null,{"$f":"IF(FSP!G94=\"\",\"\",FSP!H94)","v":""},{"$f":"IF(FSP!G94=\"\",0,FSP!I94)","v":0},null,{"$f":"IF(PS!B96=\"\",\"\",PS!C96)","v":""},{"$f":"IF(PS!B96=\"\",\"\",PS!D96)","v":""},null,{"$f":"IF(PS!F96=\"\",\"\",PS!G96)","v":""},{"$f":"IF(PS!F96=\"\",\"\",PS!H96)","v":""},null,{"$f":"IF(LP!A94=\"\",\"\",LP!B94)","v":""},{"$f":"IF(LP!A94=\"\",0,LP!C94)","v":0},null,{"$f":"IF(LP!E94=\"\",\"\",LP!F94)","v":""},{"$f":"IF(LP!E94=\"\",0,LP!G94)","v":0},null,{"$f":"IF(LP!I94=\"\",\"\",LP!J94)","v":""},{"$f":"IF(LP!I94=\"\",0,LP!K94)","v":0},null,{"$f":"IF(BPBPS!B94=\"\",\"\",BPBPS!C94)","v":""},{"$f":"IF(BPBPS!B94=\"\",0,BPBPS!D94)","v":0},null,{"$f":"IF(BPBPS!F94=\"\",\"\",BPBPS!G94)","v":""},{"$f":"IF(BPBPS!H94=\"\",0,BPBPS!H94)","v":0},null,{"$f":"IF(BPBPS!J94=\"\",\"\",BPBPS!K94)","v":""},{"$f":"IF(BPBPS!J94=\"\",0,BPBPS!L94)","v":0},null,{"$f":"IF(SSGP!B94=\"\",\"\",SSGP!C94)","v":""},{"$f":"IF(SSGP!B94=\"\",0,SSGP!D94)","v":0},null,{"$f":"IF(SSGP!F94=\"\",\"\",SSGP!G94)","v":""},{"$f":"IF(SSGP!F94=\"\",0,SSGP!H94)","v":0}]
[93,{"$f":"IF(WPP!B95=\"\",\"\",WPP!C95)","v":""},{"$f":"IF(WPP!B95=\"\",0,WPP!D95)","v":0},{"$f":"IF(WPP!B95=\"\",0,WPP!E95)","v":0},null,{"$f":"IF(WPP!G95=\"\",\"\",WPP!H95)","v":""},{"$f":"IF(WPP!G95=\"\",0,WPP!I95)","v":0},{"$f":"IF(WPP!G95=\"\",0,WPP!J95)","v":0},null,{"$f":"IF(KSP!B95=\"\",\"\",KSP!C95)","v":""},{"$f":"IF(KSP!B95=\"\",0,KSP!D95)","v":0},{"$f":"IF(KSP!B95=\"\",0,KSP!E95)","v":0},null,{"$f":"IF(KSP!G95=\"\",\"\",KSP!H95)","v":""},{"$f":"IF(KSP!G95=\"\",0,KSP!I95)","v":0},{"$f":"IF(KSP!G95=\"\",0,KSP!J95)","v":0},null,{"$f":"IF(FSP!B95=\"\",\"\",FSP!C95)","v":""},{"$f":"IF(FSP!B95=\"\",0,FSP!D95)","v":0},{"$f":"IF(FSP!B95=\"\",0,FSP!E95)","v":0},null,{"$f":"IF(FSP!G95=\"\",\"\",FSP!H95)","v":""},{"$f":"IF(FSP!G95=\"\",0,FSP!I95)","v":0},null,{"$f":"IF(PS!B97=\"\",\"\",PS!C97)","v":""},{"$f":"IF(PS!B97=\"\",\"\",PS!D97)","v":""},null,{"$f":"IF(PS!F97=\"\",\"\",PS!G97)","v":""},{"$f":"IF(PS!F97=\"\",\"\",PS!H97)","v":""},null,{"$f":"IF(LP!A95=\"\",\"\",LP!B95)","v":""},{"$f":"IF(LP!A95=\"\",0,LP!C95)","v":0},null,{"$f":"IF(LP!E95=\"\",\"\",LP!F95)","v":""},{"$f":"IF(LP!E95=\"\",0,LP!G95)","v":0},null,{"$f":"IF(LP!I95=\"\",\"\",LP!J95)","v":""},{"$f":"IF(LP!I95=\"\",0,LP!K95)","v":0},null,{"$f":"IF(BPBPS!B95=\"\",\"\",BPBPS!C95)","v":""},{"$f":"IF(BPBPS!B95=\"\",0,BPBPS!D95)","v":0},null,{"$f":"IF(BPBPS!F95=\"\",\"\",BPBPS!G95)","v":""},{"$f":"IF(BPBPS!H95=\"\",0,BPBPS!H95)","v":0},null,{"$f":"IF(BPBPS!J95=\"\",\"\",BPBPS!K95)","v":""},{"$f":"IF(BPBPS!J95=\"\",0,BPBPS!L95)","v":0},null,{"$f":"IF(SSGP!B95=\"\",\"\",SSGP!C95)","v":""},{"$f":"IF(SSGP!B95=\"\",0,SSGP!D95)","v":0},null,{"$f":"IF(SSGP!F95=\"\",\"\",SSGP!G95)","v":""},{"$f":"IF(SSGP!F95=\"\",0,SSGP!H95)","v":0}]
[94,{"$f":"IF(WPP!B96=\"\",\"\",WPP!C96)","v":""},{"$f":"IF(WPP!B96=\"\",0,WPP!D96)","v":0},{"$f":"IF(WPP!B96=\"\",0,WPP!E96)","v":0},null,{"$f":"IF(WPP!G96=\"\",\"\",WPP!H96)","v":""},{"$f":"IF(WPP!G96=\"\",0,WPP!I96)","v":0},{"$f":"IF(WPP!G96=\"\",0,WPP!J96)","v":0},null,{"$f":"IF(KSP!B96=\"\",\"\",KSP!C96)","v":""},{"$f":"IF(KSP!B96=\"\",0,KSP!D96)","v":0},{"$f":"IF(KSP!B96=\"\",0,KSP!E96)","v":0},null,{"$f":"IF(KSP!G96=\"\",\"\",KSP!H96)","v":""},{"$f":"IF(KSP!G96=\"\",0,KSP!I96)","v":0},{"$f":"IF(KSP!G96=\"\",0,KSP!J96)","v":0},null,{"$f":"IF(FSP!B96=\"\",\"\",FSP!C96)","v":""},{"$f":"IF(FSP!B96=\"\",0,FSP!D96)","v":0},{"$f":"IF(FSP!B96=\"\",0,FSP!E96)","v":0},null,{"$f":"IF(FSP!G96=\"\",\"\",FSP!H96)","v":""},{"$f":"IF(FSP!G96=\"\",0,FSP!I96)","v":0},null,{"$f":"IF(PS!B98=\"\",\"\",PS!C98)","v":""},{"$f":"IF(PS!B98=\"\",\"\",PS!D98)","v":""},null,{"$f":"IF(PS!F98=\"\",\"\",PS!G98)","v":""},{"$f":"IF(PS!F98=\"\",\"\",PS!H98)","v":""},null,{"$f":"IF(LP!A96=\"\",\"\",LP!B96)","v":""},{"$f":"IF(LP!A96=\"\",0,LP!C96)","v":0},null,{"$f":"IF(LP!E96=\"\",\"\",LP!F96)","v":""},{"$f":"IF(LP!E96=\"\",0,LP!G96)","v":0},null,{"$f":"IF(LP!I96=\"\",\"\",LP!J96)","v":""},{"$f":"IF(LP!I96=\"\",0,LP!K96)","v":0},null,{"$f":"IF(BPBPS!B96=\"\",\"\",BPBPS!C96)","v":""},{"$f":"IF(BPBPS!B96=\"\",0,BPBPS!D96)","v":0},null,{"$f":"IF(BPBPS!F96=\"\",\"\",BPBPS!G96)","v":""},{"$f":"IF(BPBPS!H96=\"\",0,BPBPS!H96)","v":0},null,{"$f":"IF(BPBPS!J96=\"\",\"\",BPBPS!K96)","v":""},{"$f":"IF(BPBPS!J96=\"\",0,BPBPS!L96)","v":0},null,{"$f":"IF(SSGP!B96=\"\",\"\",SSGP!C96)","v":""},{"$f":"IF(SSGP!B96=\"\",0,SSGP!D96)","v":0},null,{"$f":"IF(SSGP!F96=\"\",\"\",SSGP!G96)","v":""},{"$f":"IF(SSGP!F96=\"\",0,SSGP!H96)","v":0}]
[95,{"$f":"IF(WPP!B97=\"\",\"\",WPP!C97)","v":""},{"$f":"IF(WPP!B97=\"\",0,WPP!D97)","v":0},{"$f":"IF(WPP!B97=\"\",0,WPP!E97)","v":0},null,{"$f":"IF(WPP!G97=\"\",\"\",WPP!H97)","v":""},{"$f":"IF(WPP!G97=\"\",0,WPP!I97)","v":0},{"$f":"IF(WPP!G97=\"\",0,WPP!J97)","v":0},null,{"$f":"IF(KSP!B97=\"\",\"\",KSP!C97)","v":""},{"$f":"IF(KSP!B97=\"\",0,KSP!D97)","v":0},{"$f":"IF(KSP!B97=\"\",0,KSP!E97)","v":0},null,{"$f":"IF(KSP!G97=\"\",\"\",KSP!H97)","v":""},{"$f":"IF(KSP!G97=\"\",0,KSP!I97)","v":0},{"$f":"IF(KSP!G97=\"\",0,KSP!J97)","v":0},null,{"$f":"IF(FSP!B97=\"\",\"\",FSP!C97)","v":""},{"$f":"IF(FSP!B97=\"\",0,FSP!D97)","v":0},{"$f":"IF(FSP!B97=\"\",0,FSP!E97)","v":0},null,{"$f":"IF(FSP!G97=\"\",\"\",FSP!H97)","v":""},{"$f":"IF(FSP!G97=\"\",0,FSP!I97)","v":0},null,{"$f":"IF(PS!B99=\"\",\"\",PS!C99)","v":""},{"$f":"IF(PS!B99=\"\",\"\",PS!D99)","v":""},null,{"$f":"IF(PS!F99=\"\",\"\",PS!G99)","v":""},{"$f":"IF(PS!F99=\"\",\"\",PS!H99)","v":""},null,{"$f":"IF(LP!A97=\"\",\"\",LP!B97)","v":""},{"$f":"IF(LP!A97=\"\",0,LP!C97)","v":0},null,{"$f":"IF(LP!E97=\"\",\"\",LP!F97)","v":""},{"$f":"IF(LP!E97=\"\",0,LP!G97)","v":0},null,{"$f":"IF(LP!I97=\"\",\"\",LP!J97)","v":""},{"$f":"IF(LP!I97=\"\",0,LP!K97)","v":0},null,{"$f":"IF(BPBPS!B97=\"\",\"\",BPBPS!C97)","v":""},{"$f":"IF(BPBPS!B97=\"\",0,BPBPS!D97)","v":0},null,{"$f":"IF(BPBPS!F97=\"\",\"\",BPBPS!G97)","v":""},{"$f":"IF(BPBPS!H97=\"\",0,BPBPS!H97)","v":0},null,{"$f":"IF(BPBPS!J97=\"\",\"\",BPBPS!K97)","v":""},{"$f":"IF(BPBPS!J97=\"\",0,BPBPS!L97)","v":0},null,{"$f":"IF(SSGP!B97=\"\",\"\",SSGP!C97)","v":""},{"$f":"IF(SSGP!B97=\"\",0,SSGP!D97)","v":0},null,{"$f":"IF(SSGP!F97=\"\",\"\",SSGP!G97)","v":""},{"$f":"IF(SSGP!F97=\"\",0,SSGP!H97)","v":0}]
[96,{"$f":"IF(WPP!B98=\"\",\"\",WPP!C98)","v":""},{"$f":"IF(WPP!B98=\"\",0,WPP!D98)","v":0},{"$f":"IF(WPP!B98=\"\",0,WPP!E98)","v":0},null,{"$f":"IF(WPP!G98=\"\",\"\",WPP!H98)","v":""},{"$f":"IF(WPP!G98=\"\",0,WPP!I98)","v":0},{"$f":"IF(WPP!G98=\"\",0,WPP!J98)","v":0},null,{"$f":"IF(KSP!B98=\"\",\"\",KSP!C98)","v":""},{"$f":"IF(KSP!B98=\"\",0,KSP!D98)","v":0},{"$f":"IF(KSP!B98=\"\",0,KSP!E98)","v":0},null,{"$f":"IF(KSP!G98=\"\",\"\",KSP!H98)","v":""},{"$f":"IF(KSP!G98=\"\",0,KSP!I98)","v":0},{"$f":"IF(KSP!G98=\"\",0,KSP!J98)","v":0},null,{"$f":"IF(FSP!B98=\"\",\"\",FSP!C98)","v":""},{"$f":"IF(FSP!B98=\"\",0,FSP!D98)","v":0},{"$f":"IF(FSP!B98=\"\",0,FSP!E98)","v":0},null,{"$f":"IF(FSP!G98=\"\",\"\",FSP!H98)","v":""},{"$f":"IF(FSP!G98=\"\",0,FSP!I98)","v":0},null,{"$f":"IF(PS!B100=\"\",\"\",PS!C100)","v":""},{"$f":"IF(PS!B100=\"\",\"\",PS!D100)","v":""},null,{"$f":"IF(PS!F100=\"\",\"\",PS!G100)","v":""},{"$f":"IF(PS!F100=\"\",\"\",PS!H100)","v":""},null,{"$f":"IF(LP!A98=\"\",\"\",LP!B98)","v":""},{"$f":"IF(LP!A98=\"\",0,LP!C98)","v":0},null,{"$f":"IF(LP!E98=\"\",\"\",LP!F98)","v":""},{"$f":"IF(LP!E98=\"\",0,LP!G98)","v":0},null,{"$f":"IF(LP!I98=\"\",\"\",LP!J98)","v":""},{"$f":"IF(LP!I98=\"\",0,LP!K98)","v":0},null,{"$f":"IF(BPBPS!B98=\"\",\"\",BPBPS!C98)","v":""},{"$f":"IF(BPBPS!B98=\"\",0,BPBPS!D98)","v":0},null,{"$f":"IF(BPBPS!F98=\"\",\"\",BPBPS!G98)","v":""},{"$f":"IF(BPBPS!H98=\"\",0,BPBPS!H98)","v":0},null,{"$f":"IF(BPBPS!J98=\"\",\"\",BPBPS!K98)","v":""},{"$f":"IF(BPBPS!J98=\"\",0,BPBPS!L98)","v":0},null,{"$f":"IF(SSGP!B98=\"\",\"\",SSGP!C98)","v":""},{"$f":"IF(SSGP!B98=\"\",0,SSGP!D98)","v":0},null,{"$f":"IF(SSGP!F98=\"\",\"\",SSGP!G98)","v":""},{"$f":"IF(SSGP!F98=\"\",0,SSGP!H98)","v":0}]
[97,{"$f":"IF(WPP!B99=\"\",\"\",WPP!C99)","v":""},{"$f":"IF(WPP!B99=\"\",0,WPP!D99)","v":0},{"$f":"IF(WPP!B99=\"\",0,WPP!E99)","v":0},null,{"$f":"IF(WPP!G99=\"\",\"\",WPP!H99)","v":""},{"$f":"IF(WPP!G99=\"\",0,WPP!I99)","v":0},{"$f":"IF(WPP!G99=\"\",0,WPP!J99)","v":0},null,{"$f":"IF(KSP!B99=\"\",\"\",KSP!C99)","v":""},{"$f":"IF(KSP!B99=\"\",0,KSP!D99)","v":0},{"$f":"IF(KSP!B99=\"\",0,KSP!E99)","v":0},null,{"$f":"IF(KSP!G99=\"\",\"\",KSP!H99)","v":""},{"$f":"IF(KSP!G99=\"\",0,KSP!I99)","v":0},{"$f":"IF(KSP!G99=\"\",0,KSP!J99)","v":0},null,{"$f":"IF(FSP!B99=\"\",\"\",FSP!C99)","v":""},{"$f":"IF(FSP!B99=\"\",0,FSP!D99)","v":0},{"$f":"IF(FSP!B99=\"\",0,FSP!E99)","v":0},null,{"$f":"IF(FSP!G99=\"\",\"\",FSP!H99)","v":""},{"$f":"IF(FSP!G99=\"\",0,FSP!I99)","v":0},null,{"$f":"IF(PS!B101=\"\",\"\",PS!C101)","v":""},{"$f":"IF(PS!B101=\"\",\"\",PS!D101)","v":""},null,{"$f":"IF(PS!F101=\"\",\"\",PS!G101)","v":""},{"$f":"IF(PS!F101=\"\",\"\",PS!H101)","v":""},null,{"$f":"IF(LP!A99=\"\",\"\",LP!B99)","v":""},{"$f":"IF(LP!A99=\"\",0,LP!C99)","v":0},null,{"$f":"IF(LP!E99=\"\",\"\",LP!F99)","v":""},{"$f":"IF(LP!E99=\"\",0,LP!G99)","v":0},null,{"$f":"IF(LP!I99=\"\",\"\",LP!J99)","v":""},{"$f":"IF(LP!I99=\"\",0,LP!K99)","v":0},null,{"$f":"IF(BPBPS!B99=\"\",\"\",BPBPS!C99)","v":""},{"$f":"IF(BPBPS!B99=\"\",0,BPBPS!D99)","v":0},null,{"$f":"IF(BPBPS!F99=\"\",\"\",BPBPS!G99)","v":""},{"$f":"IF(BPBPS!H99=\"\",0,BPBPS!H99)","v":0},null,{"$f":"IF(BPBPS!J99=\"\",\"\",BPBPS!K99)","v":""},{"$f":"IF(BPBPS!J99=\"\",0,BPBPS!L99)","v":0},null,{"$f":"IF(SSGP!B99=\"\",\"\",SSGP!C99)","v":""},{"$f":"IF(SSGP!B99=\"\",0,SSGP!D99)","v":0},null,{"$f":"IF(SSGP!F99=\"\",\"\",SSGP!G99)","v":""},{"$f":"IF(SSGP!F99=\"\",0,SSGP!H99)","v":0}]
[98,{"$f":"IF(WPP!B100=\"\",\"\",WPP!C100)","v":""},{"$f":"IF(WPP!B100=\"\",0,WPP!D100)","v":0},{"$f":"IF(WPP!B100=\"\",0,WPP!E100)","v":0},null,{"$f":"IF(WPP!G100=\"\",\"\",WPP!H100)","v":""},{"$f":"IF(WPP!G100=\"\",0,WPP!I100)","v":0},{"$f":"IF(WPP!G100=\"\",0,WPP!J100)","v":0},null,{"$f":"IF(KSP!B100=\"\",\"\",KSP!C100)","v":""},{"$f":"IF(KSP!B100=\"\",0,KSP!D100)","v":0},{"$f":"IF(KSP!B100=\"\",0,KSP!E100)","v":0},null,{"$f":"IF(KSP!G100=\"\",\"\",KSP!H100)","v":""},{"$f":"IF(KSP!G100=\"\",0,KSP!I100)","v":0},{"$f":"IF(KSP!G100=\"\",0,KSP!J100)","v":0},null,{"$f":"IF(FSP!B100=\"\",\"\",FSP!C100)","v":""},{"$f":"IF(FSP!B100=\"\",0,FSP!D100)","v":0},{"$f":"IF(FSP!B100=\"\",0,FSP!E100)","v":0},null,{"$f":"IF(FSP!G100=\"\",\"\",FSP!H100)","v":""},{"$f":"IF(FSP!G100=\"\",0,FSP!I100)","v":0},null,{"$f":"IF(PS!B102=\"\",\"\",PS!C102)","v":""},{"$f":"IF(PS!B102=\"\",\"\",PS!D102)","v":""},null,{"$f":"IF(PS!F102=\"\",\"\",PS!G102)","v":""},{"$f":"IF(PS!F102=\"\",\"\",PS!H102)","v":""},null,{"$f":"IF(LP!A100=\"\",\"\",LP!B100)","v":""},{"$f":"IF(LP!A100=\"\",0,LP!C100)","v":0},null,{"$f":"IF(LP!E100=\"\",\"\",LP!F100)","v":""},{"$f":"IF(LP!E100=\"\",0,LP!G100)","v":0},null,{"$f":"IF(LP!I100=\"\",\"\",LP!J100)","v":""},{"$f":"IF(LP!I100=\"\",0,LP!K100)","v":0},null,{"$f":"IF(BPBPS!B100=\"\",\"\",BPBPS!C100)","v":""},{"$f":"IF(BPBPS!B100=\"\",0,BPBPS!D100)","v":0},null,{"$f":"IF(BPBPS!F100=\"\",\"\",BPBPS!G100)","v":""},{"$f":"IF(BPBPS!H100=\"\",0,BPBPS!H100)","v":0},null,{"$f":"IF(BPBPS!J100=\"\",\"\",BPBPS!K100)","v":""},{"$f":"IF(BPBPS!J100=\"\",0,BPBPS!L100)","v":0},null,{"$f":"IF(SSGP!B100=\"\",\"\",SSGP!C100)","v":""},{"$f":"IF(SSGP!B100=\"\",0,SSGP!D100)","v":0},null,{"$f":"IF(SSGP!F100=\"\",\"\",SSGP!G100)","v":""},{"$f":"IF(SSGP!F100=\"\",0,SSGP!H100)","v":0}]
[99,{"$f":"IF(WPP!B101=\"\",\"\",WPP!C101)","v":""},{"$f":"IF(WPP!B101=\"\",0,WPP!D101)","v":0},{"$f":"IF(WPP!B101=\"\",0,WPP!E101)","v":0},null,{"$f":"IF(WPP!G101=\"\",\"\",WPP!H101)","v":""},{"$f":"IF(WPP!G101=\"\",0,WPP!I101)","v":0},{"$f":"IF(WPP!G101=\"\",0,WPP!J101)","v":0},null,{"$f":"IF(KSP!B101=\"\",\"\",KSP!C101)","v":""},{"$f":"IF(KSP!B101=\"\",0,KSP!D101)","v":0},{"$f":"IF(KSP!B101=\"\",0,KSP!E101)","v":0},null,{"$f":"IF(KSP!G101=\"\",\"\",KSP!H101)","v":""},{"$f":"IF(KSP!G101=\"\",0,KSP!I101)","v":0},{"$f":"IF(KSP!G101=\"\",0,KSP!J101)","v":0},null,{"$f":"IF(FSP!B101=\"\",\"\",FSP!C101)","v":""},{"$f":"IF(FSP!B101=\"\",0,FSP!D101)","v":0},{"$f":"IF(FSP!B101=\"\",0,FSP!E101)","v":0},null,{"$f":"IF(FSP!G101=\"\",\"\",FSP!H101)","v":""},{"$f":"IF(FSP!G101=\"\",0,FSP!I101)","v":0},null,{"$f":"IF(PS!B103=\"\",\"\",PS!C103)","v":""},{"$f":"IF(PS!B103=\"\",\"\",PS!D103)","v":""},null,{"$f":"IF(PS!F103=\"\",\"\",PS!G103)","v":""},{"$f":"IF(PS!F103=\"\",\"\",PS!H103)","v":""},null,{"$f":"IF(LP!A101=\"\",\"\",LP!B101)","v":""},{"$f":"IF(LP!A101=\"\",0,LP!C101)","v":0},null,{"$f":"IF(LP!E101=\"\",\"\",LP!F101)","v":""},{"$f":"IF(LP!E101=\"\",0,LP!G101)","v":0},null,{"$f":"IF(LP!I101=\"\",\"\",LP!J101)","v":""},{"$f":"IF(LP!I101=\"\",0,LP!K101)","v":0},null,{"$f":"IF(BPBPS!B101=\"\",\"\",BPBPS!C101)","v":""},{"$f":"IF(BPBPS!B101=\"\",0,BPBPS!D101)","v":0},null,{"$f":"IF(BPBPS!F101=\"\",\"\",BPBPS!G101)","v":""},{"$f":"IF(BPBPS!H101=\"\",0,BPBPS!H101)","v":0},null,{"$f":"IF(BPBPS!J101=\"\",\"\",BPBPS!K101)","v":""},{"$f":"IF(BPBPS!J101=\"\",0,BPBPS!L101)","v":0},null,{"$f":"IF(SSGP!B101=\"\",\"\",SSGP!C101)","v":""},{"$f":"IF(SSGP!B101=\"\",0,SSGP!D101)","v":0},null,{"$f":"IF(SSGP!F101=\"\",\"\",SSGP!G101)","v":""},{"$f":"IF(SSGP!F101=\"\",0,SSGP!H101)","v":0}]
[100,{"$f":"IF(WPP!B102=\"\",\"\",WPP!C102)","v":""},{"$f":"IF(WPP!B102=\"\",0,WPP!D102)","v":0},{"$f":"IF(WPP!B102=\"\",0,WPP!E102)","v":0},null,{"$f":"IF(WPP!G102=\"\",\"\",WPP!H102)","v":""},{"$f":"IF(WPP!G102=\"\",0,WPP!I102)","v":0},{"$f":"IF(WPP!G102=\"\",0,WPP!J102)","v":0},null,{"$f":"IF(KSP!B102=\"\",\"\",KSP!C102)","v":""},{"$f":"IF(KSP!B102=\"\",0,KSP!D102)","v":0},{"$f":"IF(KSP!B102=\"\",0,KSP!E102)","v":0},null,{"$f":"IF(KSP!G102=\"\",\"\",KSP!H102)","v":""},{"$f":"IF(KSP!G102=\"\",0,KSP!I102)","v":0},{"$f":"IF(KSP!G102=\"\",0,KSP!J102)","v":0},null,{"$f":"IF(FSP!B102=\"\",\"\",FSP!C102)","v":""},{"$f":"IF(FSP!B102=\"\",0,FSP!D102)","v":0},{"$f":"IF(FSP!B102=\"\",0,FSP!E102)","v":0},null,{"$f":"IF(FSP!G102=\"\",\"\",FSP!H102)","v":""},{"$f":"IF(FSP!G102=\"\",0,FSP!I102)","v":0},null,{"$f":"IF(PS!B104=\"\",\"\",PS!C104)","v":""},{"$f":"IF(PS!B104=\"\",\"\",PS!D104)","v":""},null,{"$f":"IF(PS!F104=\"\",\"\",PS!G104)","v":""},{"$f":"IF(PS!F104=\"\",\"\",PS!H104)","v":""},null,{"$f":"IF(LP!A102=\"\",\"\",LP!B102)","v":""},{"$f":"IF(LP!A102=\"\",0,LP!C102)","v":0},null,{"$f":"IF(LP!E102=\"\",\"\",LP!F102)","v":""},{"$f":"IF(LP!E102=\"\",0,LP!G102)","v":0},null,{"$f":"IF(LP!I102=\"\",\"\",LP!J102)","v":""},{"$f":"IF(LP!I102=\"\",0,LP!K102)","v":0},null,{"$f":"IF(BPBPS!B102=\"\",\"\",BPBPS!C102)","v":""},{"$f":"IF(BPBPS!B102=\"\",0,BPBPS!D102)","v":0},null,{"$f":"IF(BPBPS!F102=\"\",\"\",BPBPS!G102)","v":""},{"$f":"IF(BPBPS!H102=\"\",0,BPBPS!H102)","v":0},null,{"$f":"IF(BPBPS!J102=\"\",\"\",BPBPS!K102)","v":""},{"$f":"IF(BPBPS!J102=\"\",0,BPBPS!L102)","v":0},null,{"$f":"IF(SSGP!B102=\"\",\"\",SSGP!C102)","v":""},{"$f":"IF(SSGP!B102=\"\",0,SSGP!D102)","v":0},null,{"$f":"IF(SSGP!F102=\"\",\"\",SSGP!G102)","v":""},{"$f":"IF(SSGP!F102=\"\",0,SSGP!H102)","v":0}]
[101,{"$f":"IF(WPP!B103=\"\",\"\",WPP!C103)","v":""},{"$f":"IF(WPP!B103=\"\",0,WPP!D103)","v":0},{"$f":"IF(WPP!B103=\"\",0,WPP!E103)","v":0},null,{"$f":"IF(WPP!G103=\"\",\"\",WPP!H103)","v":""},{"$f":"IF(WPP!G103=\"\",0,WPP!I103)","v":0},{"$f":"IF(WPP!G103=\"\",0,WPP!J103)","v":0},null,{"$f":"IF(KSP!B103=\"\",\"\",KSP!C103)","v":""},{"$f":"IF(KSP!B103=\"\",0,KSP!D103)","v":0},{"$f":"IF(KSP!B103=\"\",0,KSP!E103)","v":0},null,{"$f":"IF(KSP!G103=\"\",\"\",KSP!H103)","v":""},{"$f":"IF(KSP!G103=\"\",0,KSP!I103)","v":0},{"$f":"IF(KSP!G103=\"\",0,KSP!J103)","v":0},null,{"$f":"IF(FSP!B103=\"\",\"\",FSP!C103)","v":""},{"$f":"IF(FSP!B103=\"\",0,FSP!D103)","v":0},{"$f":"IF(FSP!B103=\"\",0,FSP!E103)","v":0},null,{"$f":"IF(FSP!G103=\"\",\"\",FSP!H103)","v":""},{"$f":"IF(FSP!G103=\"\",0,FSP!I103)","v":0},null,{"$f":"IF(PS!B105=\"\",\"\",PS!C105)","v":""},{"$f":"IF(PS!B105=\"\",\"\",PS!D105)","v":""},null,{"$f":"IF(PS!F105=\"\",\"\",PS!G105)","v":""},{"$f":"IF(PS!F105=\"\",\"\",PS!H105)","v":""},null,{"$f":"IF(LP!A103=\"\",\"\",LP!B103)","v":""},{"$f":"IF(LP!A103=\"\",0,LP!C103)","v":0},null,{"$f":"IF(LP!E103=\"\",\"\",LP!F103)","v":""},{"$f":"IF(LP!E103=\"\",0,LP!G103)","v":0},null,{"$f":"IF(LP!I103=\"\",\"\",LP!J103)","v":""},{"$f":"IF(LP!I103=\"\",0,LP!K103)","v":0},null,{"$f":"IF(BPBPS!B103=\"\",\"\",BPBPS!C103)","v":""},{"$f":"IF(BPBPS!B103=\"\",0,BPBPS!D103)","v":0},null,{"$f":"IF(BPBPS!F103=\"\",\"\",BPBPS!G103)","v":""},{"$f":"IF(BPBPS!H103=\"\",0,BPBPS!H103)","v":0},null,{"$f":"IF(BPBPS!J103=\"\",\"\",BPBPS!K103)","v":""},{"$f":"IF(BPBPS!J103=\"\",0,BPBPS!L103)","v":0},null,{"$f":"IF(SSGP!B103=\"\",\"\",SSGP!C103)","v":""},{"$f":"IF(SSGP!B103=\"\",0,SSGP!D103)","v":0},null,{"$f":"IF(SSGP!F103=\"\",\"\",SSGP!G103)","v":""},{"$f":"IF(SSGP!F103=\"\",0,SSGP!H103)","v":0}]
[102,{"$f":"IF(WPP!B104=\"\",\"\",WPP!C104)","v":""},{"$f":"IF(WPP!B104=\"\",0,WPP!D104)","v":0},{"$f":"IF(WPP!B104=\"\",0,WPP!E104)","v":0},null,{"$f":"IF(WPP!G104=\"\",\"\",WPP!H104)","v":""},{"$f":"IF(WPP!G104=\"\",0,WPP!I104)","v":0},{"$f":"IF(WPP!G104=\"\",0,WPP!J104)","v":0},null,{"$f":"IF(KSP!B104=\"\",\"\",KSP!C104)","v":""},{"$f":"IF(KSP!B104=\"\",0,KSP!D104)","v":0},{"$f":"IF(KSP!B104=\"\",0,KSP!E104)","v":0},null,{"$f":"IF(KSP!G104=\"\",\"\",KSP!H104)","v":""},{"$f":"IF(KSP!G104=\"\",0,KSP!I104)","v":0},{"$f":"IF(KSP!G104=\"\",0,KSP!J104)","v":0},null,{"$f":"IF(FSP!B104=\"\",\"\",FSP!C104)","v":""},{"$f":"IF(FSP!B104=\"\",0,FSP!D104)","v":0},{"$f":"IF(FSP!B104=\"\",0,FSP!E104)","v":0},null,{"$f":"IF(FSP!G104=\"\",\"\",FSP!H104)","v":""},{"$f":"IF(FSP!G104=\"\",0,FSP!I104)","v":0},null,{"$f":"IF(PS!B106=\"\",\"\",PS!C106)","v":""},{"$f":"IF(PS!B106=\"\",\"\",PS!D106)","v":""},null,{"$f":"IF(PS!F106=\"\",\"\",PS!G106)","v":""},{"$f":"IF(PS!F106=\"\",\"\",PS!H106)","v":""},null,{"$f":"IF(LP!A104=\"\",\"\",LP!B104)","v":""},{"$f":"IF(LP!A104=\"\",0,LP!C104)","v":0},null,{"$f":"IF(LP!E104=\"\",\"\",LP!F104)","v":""},{"$f":"IF(LP!E104=\"\",0,LP!G104)","v":0},null,{"$f":"IF(LP!I104=\"\",\"\",LP!J104)","v":""},{"$f":"IF(LP!I104=\"\",0,LP!K104)","v":0},null,{"$f":"IF(BPBPS!B104=\"\",\"\",BPBPS!C104)","v":""},{"$f":"IF(BPBPS!B104=\"\",0,BPBPS!D104)","v":0},null,{"$f":"IF(BPBPS!F104=\"\",\"\",BPBPS!G104)","v":""},{"$f":"IF(BPBPS!H104=\"\",0,BPBPS!H104)","v":0},null,{"$f":"IF(BPBPS!J104=\"\",\"\",BPBPS!K104)","v":""},{"$f":"IF(BPBPS!J104=\"\",0,BPBPS!L104)","v":0},null,{"$f":"IF(SSGP!B104=\"\",\"\",SSGP!C104)","v":""},{"$f":"IF(SSGP!B104=\"\",0,SSGP!D104)","v":0},null,{"$f":"IF(SSGP!F104=\"\",\"\",SSGP!G104)","v":""},{"$f":"IF(SSGP!F104=\"\",0,SSGP!H104)","v":0}]
[103,{"$f":"IF(WPP!B105=\"\",\"\",WPP!C105)","v":""},{"$f":"IF(WPP!B105=\"\",0,WPP!D105)","v":0},{"$f":"IF(WPP!B105=\"\",0,WPP!E105)","v":0},null,{"$f":"IF(WPP!G105=\"\",\"\",WPP!H105)","v":""},{"$f":"IF(WPP!G105=\"\",0,WPP!I105)","v":0},{"$f":"IF(WPP!G105=\"\",0,WPP!J105)","v":0},null,{"$f":"IF(KSP!B105=\"\",\"\",KSP!C105)","v":""},{"$f":"IF(KSP!B105=\"\",0,KSP!D105)","v":0},{"$f":"IF(KSP!B105=\"\",0,KSP!E105)","v":0},null,{"$f":"IF(KSP!G105=\"\",\"\",KSP!H105)","v":""},{"$f":"IF(KSP!G105=\"\",0,KSP!I105)","v":0},{"$f":"IF(KSP!G105=\"\",0,KSP!J105)","v":0},null,{"$f":"IF(FSP!B105=\"\",\"\",FSP!C105)","v":""},{"$f":"IF(FSP!B105=\"\",0,FSP!D105)","v":0},{"$f":"IF(FSP!B105=\"\",0,FSP!E105)","v":0},null,{"$f":"IF(FSP!G105=\"\",\"\",FSP!H105)","v":""},{"$f":"IF(FSP!G105=\"\",0,FSP!I105)","v":0},null,{"$f":"IF(PS!B107=\"\",\"\",PS!C107)","v":""},{"$f":"IF(PS!B107=\"\",\"\",PS!D107)","v":""},null,{"$f":"IF(PS!F107=\"\",\"\",PS!G107)","v":""},{"$f":"IF(PS!F107=\"\",\"\",PS!H107)","v":""},null,{"$f":"IF(LP!A105=\"\",\"\",LP!B105)","v":""},{"$f":"IF(LP!A105=\"\",0,LP!C105)","v":0},null,{"$f":"IF(LP!E105=\"\",\"\",LP!F105)","v":""},{"$f":"IF(LP!E105=\"\",0,LP!G105)","v":0},null,{"$f":"IF(LP!I105=\"\",\"\",LP!J105)","v":""},{"$f":"IF(LP!I105=\"\",0,LP!K105)","v":0},null,{"$f":"IF(BPBPS!B105=\"\",\"\",BPBPS!C105)","v":""},{"$f":"IF(BPBPS!B105=\"\",0,BPBPS!D105)","v":0},null,{"$f":"IF(BPBPS!F105=\"\",\"\",BPBPS!G105)","v":""},{"$f":"IF(BPBPS!H105=\"\",0,BPBPS!H105)","v":0},null,{"$f":"IF(BPBPS!J105=\"\",\"\",BPBPS!K105)","v":""},{"$f":"IF(BPBPS!J105=\"\",0,BPBPS!L105)","v":0},null,{"$f":"IF(SSGP!B105=\"\",\"\",SSGP!C105)","v":""},{"$f":"IF(SSGP!B105=\"\",0,SSGP!D105)","v":0},null,{"$f":"IF(SSGP!F105=\"\",\"\",SSGP!G105)","v":""},{"$f":"IF(SSGP!F105=\"\",0,SSGP!H105)","v":0}]
[104,{"$f":"IF(WPP!B106=\"\",\"\",WPP!C106)","v":""},{"$f":"IF(WPP!B106=\"\",0,WPP!D106)","v":0},{"$f":"IF(WPP!B106=\"\",0,WPP!E106)","v":0},null,{"$f":"IF(WPP!G106=\"\",\"\",WPP!H106)","v":""},{"$f":"IF(WPP!G106=\"\",0,WPP!I106)","v":0},{"$f":"IF(WPP!G106=\"\",0,WPP!J106)","v":0},null,{"$f":"IF(KSP!B106=\"\",\"\",KSP!C106)","v":""},{"$f":"IF(KSP!B106=\"\",0,KSP!D106)","v":0},{"$f":"IF(KSP!B106=\"\",0,KSP!E106)","v":0},null,{"$f":"IF(KSP!G106=\"\",\"\",KSP!H106)","v":""},{"$f":"IF(KSP!G106=\"\",0,KSP!I106)","v":0},{"$f":"IF(KSP!G106=\"\",0,KSP!J106)","v":0},null,{"$f":"IF(FSP!B106=\"\",\"\",FSP!C106)","v":""},{"$f":"IF(FSP!B106=\"\",0,FSP!D106)","v":0},{"$f":"IF(FSP!B106=\"\",0,FSP!E106)","v":0},null,{"$f":"IF(FSP!G106=\"\",\"\",FSP!H106)","v":""},{"$f":"IF(FSP!G106=\"\",0,FSP!I106)","v":0},null,{"$f":"IF(PS!B108=\"\",\"\",PS!C108)","v":""},{"$f":"IF(PS!B108=\"\",\"\",PS!D108)","v":""},null,{"$f":"IF(PS!F108=\"\",\"\",PS!G108)","v":""},{"$f":"IF(PS!F108=\"\",\"\",PS!H108)","v":""},null,{"$f":"IF(LP!A106=\"\",\"\",LP!B106)","v":""},{"$f":"IF(LP!A106=\"\",0,LP!C106)","v":0},null,{"$f":"IF(LP!E106=\"\",\"\",LP!F106)","v":""},{"$f":"IF(LP!E106=\"\",0,LP!G106)","v":0},null,{"$f":"IF(LP!I106=\"\",\"\",LP!J106)","v":""},{"$f":"IF(LP!I106=\"\",0,LP!K106)","v":0},null,{"$f":"IF(BPBPS!B106=\"\",\"\",BPBPS!C106)","v":""},{"$f":"IF(BPBPS!B106=\"\",0,BPBPS!D106)","v":0},null,{"$f":"IF(BPBPS!F106=\"\",\"\",BPBPS!G106)","v":""},{"$f":"IF(BPBPS!H106=\"\",0,BPBPS!H106)","v":0},null,{"$f":"IF(BPBPS!J106=\"\",\"\",BPBPS!K106)","v":""},{"$f":"IF(BPBPS!J106=\"\",0,BPBPS!L106)","v":0},null,{"$f":"IF(SSGP!B106=\"\",\"\",SSGP!C106)","v":""},{"$f":"IF(SSGP!B106=\"\",0,SSGP!D106)","v":0},null,{"$f":"IF(SSGP!F106=\"\",\"\",SSGP!G106)","v":""},{"$f":"IF(SSGP!F106=\"\",0,SSGP!H106)","v":0}]
[105,{"$f":"IF(WPP!B107=\"\",\"\",WPP!C107)","v":""},{"$f":"IF(WPP!B107=\"\",0,WPP!D107)","v":0},{"$f":"IF(WPP!B107=\"\",0,WPP!E107)","v":0},null,{"$f":"IF(WPP!G107=\"\",\"\",WPP!H107)","v":""},{"$f":"IF(WPP!G107=\"\",0,WPP!I107)","v":0},{"$f":"IF(WPP!G107=\"\",0,WPP!J107)","v":0},null,{"$f":"IF(KSP!B107=\"\",\"\",KSP!C107)","v":""},{"$f":"IF(KSP!B107=\"\",0,KSP!D107)","v":0},{"$f":"IF(KSP!B107=\"\",0,KSP!E107)","v":0},null,{"$f":"IF(KSP!G107=\"\",\"\",KSP!H107)","v":""},{"$f":"IF(KSP!G107=\"\",0,KSP!I107)","v":0},{"$f":"IF(KSP!G107=\"\",0,KSP!J107)","v":0},null,{"$f":"IF(FSP!B107=\"\",\"\",FSP!C107)","v":""},{"$f":"IF(FSP!B107=\"\",0,FSP!D107)","v":0},{"$f":"IF(FSP!B107=\"\",0,FSP!E107)","v":0},null,{"$f":"IF(FSP!G107=\"\",\"\",FSP!H107)","v":""},{"$f":"IF(FSP!G107=\"\",0,FSP!I107)","v":0},null,{"$f":"IF(PS!B109=\"\",\"\",PS!C109)","v":""},{"$f":"IF(PS!B109=\"\",\"\",PS!D109)","v":""},null,{"$f":"IF(PS!F109=\"\",\"\",PS!G109)","v":""},{"$f":"IF(PS!F109=\"\",\"\",PS!H109)","v":""},null,{"$f":"IF(LP!A107=\"\",\"\",LP!B107)","v":""},{"$f":"IF(LP!A107=\"\",0,LP!C107)","v":0},null,{"$f":"IF(LP!E107=\"\",\"\",LP!F107)","v":""},{"$f":"IF(LP!E107=\"\",0,LP!G107)","v":0},null,{"$f":"IF(LP!I107=\"\",\"\",LP!J107)","v":""},{"$f":"IF(LP!I107=\"\",0,LP!K107)","v":0},null,{"$f":"IF(BPBPS!B107=\"\",\"\",BPBPS!C107)","v":""},{"$f":"IF(BPBPS!B107=\"\",0,BPBPS!D107)","v":0},null,{"$f":"IF(BPBPS!F107=\"\",\"\",BPBPS!G107)","v":""},{"$f":"IF(BPBPS!H107=\"\",0,BPBPS!H107)","v":0},null,{"$f":"IF(BPBPS!J107=\"\",\"\",BPBPS!K107)","v":""},{"$f":"IF(BPBPS!J107=\"\",0,BPBPS!L107)","v":0},null,{"$f":"IF(SSGP!B107=\"\",\"\",SSGP!C107)","v":""},{"$f":"IF(SSGP!B107=\"\",0,SSGP!D107)","v":0},null,{"$f":"IF(SSGP!F107=\"\",\"\",SSGP!G107)","v":""},{"$f":"IF(SSGP!F107=\"\",0,SSGP!H107)","v":0}]
[106,{"$f":"IF(WPP!B108=\"\",\"\",WPP!C108)","v":""},{"$f":"IF(WPP!B108=\"\",0,WPP!D108)","v":0},{"$f":"IF(WPP!B108=\"\",0,WPP!E108)","v":0},null,{"$f":"IF(WPP!G108=\"\",\"\",WPP!H108)","v":""},{"$f":"IF(WPP!G108=\"\",0,WPP!I108)","v":0},{"$f":"IF(WPP!G108=\"\",0,WPP!J108)","v":0},null,{"$f":"IF(KSP!B108=\"\",\"\",KSP!C108)","v":""},{"$f":"IF(KSP!B108=\"\",0,KSP!D108)","v":0},{"$f":"IF(KSP!B108=\"\",0,KSP!E108)","v":0},null,{"$f":"IF(KSP!G108=\"\",\"\",KSP!H108)","v":""},{"$f":"IF(KSP!G108=\"\",0,KSP!I108)","v":0},{"$f":"IF(KSP!G108=\"\",0,KSP!J108)","v":0},null,{"$f":"IF(FSP!B108=\"\",\"\",FSP!C108)","v":""},{"$f":"IF(FSP!B108=\"\",0,FSP!D108)","v":0},{"$f":"IF(FSP!B108=\"\",0,FSP!E108)","v":0},null,{"$f":"IF(FSP!G108=\"\",\"\",FSP!H108)","v":""},{"$f":"IF(FSP!G108=\"\",0,FSP!I108)","v":0},null,{"$f":"IF(PS!B110=\"\",\"\",PS!C110)","v":""},{"$f":"IF(PS!B110=\"\",\"\",PS!D110)","v":""},null,{"$f":"IF(PS!F110=\"\",\"\",PS!G110)","v":""},{"$f":"IF(PS!F110=\"\",\"\",PS!H110)","v":""},null,{"$f":"IF(LP!A108=\"\",\"\",LP!B108)","v":""},{"$f":"IF(LP!A108=\"\",0,LP!C108)","v":0},null,{"$f":"IF(LP!E108=\"\",\"\",LP!F108)","v":""},{"$f":"IF(LP!E108=\"\",0,LP!G108)","v":0},null,{"$f":"IF(LP!I108=\"\",\"\",LP!J108)","v":""},{"$f":"IF(LP!I108=\"\",0,LP!K108)","v":0},null,{"$f":"IF(BPBPS!B108=\"\",\"\",BPBPS!C108)","v":""},{"$f":"IF(BPBPS!B108=\"\",0,BPBPS!D108)","v":0},null,{"$f":"IF(BPBPS!F108=\"\",\"\",BPBPS!G108)","v":""},{"$f":"IF(BPBPS!H108=\"\",0,BPBPS!H108)","v":0},null,{"$f":"IF(BPBPS!J108=\"\",\"\",BPBPS!K108)","v":""},{"$f":"IF(BPBPS!J108=\"\",0,BPBPS!L108)","v":0},null,{"$f":"IF(SSGP!B108=\"\",\"\",SSGP!C108)","v":""},{"$f":"IF(SSGP!B108=\"\",0,SSGP!D108)","v":0},null,{"$f":"IF(SSGP!F108=\"\",\"\",SSGP!G108)","v":""},{"$f":"IF(SSGP!F108=\"\",0,SSGP!H108)","v":0}]
[107,{"$f":"IF(WPP!B109=\"\",\"\",WPP!C109)","v":""},{"$f":"IF(WPP!B109=\"\",0,WPP!D109)","v":0},{"$f":"IF(WPP!B109=\"\",0,WPP!E109)","v":0},null,{"$f":"IF(WPP!G109=\"\",\"\",WPP!H109)","v":""},{"$f":"IF(WPP!G109=\"\",0,WPP!I109)","v":0},{"$f":"IF(WPP!G109=\"\",0,WPP!J109)","v":0},null,{"$f":"IF(KSP!B109=\"\",\"\",KSP!C109)","v":""},{"$f":"IF(KSP!B109=\"\",0,KSP!D109)","v":0},{"$f":"IF(KSP!B109=\"\",0,KSP!E109)","v":0},null,{"$f":"IF(KSP!G109=\"\",\"\",KSP!H109)","v":""},{"$f":"IF(KSP!G109=\"\",0,KSP!I109)","v":0},{"$f":"IF(KSP!G109=\"\",0,KSP!J109)","v":0},null,{"$f":"IF(FSP!B109=\"\",\"\",FSP!C109)","v":""},{"$f":"IF(FSP!B109=\"\",0,FSP!D109)","v":0},{"$f":"IF(FSP!B109=\"\",0,FSP!E109)","v":0},null,{"$f":"IF(FSP!G109=\"\",\"\",FSP!H109)","v":""},{"$f":"IF(FSP!G109=\"\",0,FSP!I109)","v":0},null,{"$f":"IF(PS!B111=\"\",\"\",PS!C111)","v":""},{"$f":"IF(PS!B111=\"\",\"\",PS!D111)","v":""},null,{"$f":"IF(PS!F111=\"\",\"\",PS!G111)","v":""},{"$f":"IF(PS!F111=\"\",\"\",PS!H111)","v":""},null,{"$f":"IF(LP!A109=\"\",\"\",LP!B109)","v":""},{"$f":"IF(LP!A109=\"\",0,LP!C109)","v":0},null,{"$f":"IF(LP!E109=\"\",\"\",LP!F109)","v":""},{"$f":"IF(LP!E109=\"\",0,LP!G109)","v":0},null,{"$f":"IF(LP!I109=\"\",\"\",LP!J109)","v":""},{"$f":"IF(LP!I109=\"\",0,LP!K109)","v":0},null,{"$f":"IF(BPBPS!B109=\"\",\"\",BPBPS!C109)","v":""},{"$f":"IF(BPBPS!B109=\"\",0,BPBPS!D109)","v":0},null,{"$f":"IF(BPBPS!F109=\"\",\"\",BPBPS!G109)","v":""},{"$f":"IF(BPBPS!H109=\"\",0,BPBPS!H109)","v":0},null,{"$f":"IF(BPBPS!J109=\"\",\"\",BPBPS!K109)","v":""},{"$f":"IF(BPBPS!J109=\"\",0,BPBPS!L109)","v":0},null,{"$f":"IF(SSGP!B109=\"\",\"\",SSGP!C109)","v":""},{"$f":"IF(SSGP!B109=\"\",0,SSGP!D109)","v":0},null,{"$f":"IF(SSGP!F109=\"\",\"\",SSGP!G109)","v":""},{"$f":"IF(SSGP!F109=\"\",0,SSGP!H109)","v":0}]
[108,{"$f":"IF(WPP!B110=\"\",\"\",WPP!C110)","v":""},{"$f":"IF(WPP!B110=\"\",0,WPP!D110)","v":0},{"$f":"IF(WPP!B110=\"\",0,WPP!E110)","v":0},null,{"$f":"IF(WPP!G110=\"\",\"\",WPP!H110)","v":""},{"$f":"IF(WPP!G110=\"\",0,WPP!I110)","v":0},{"$f":"IF(WPP!G110=\"\",0,WPP!J110)","v":0},null,{"$f":"IF(KSP!B110=\"\",\"\",KSP!C110)","v":""},{"$f":"IF(KSP!B110=\"\",0,KSP!D110)","v":0},{"$f":"IF(KSP!B110=\"\",0,KSP!E110)","v":0},null,{"$f":"IF(KSP!G110=\"\",\"\",KSP!H110)","v":""},{"$f":"IF(KSP!G110=\"\",0,KSP!I110)","v":0},{"$f":"IF(KSP!G110=\"\",0,KSP!J110)","v":0},null,{"$f":"IF(FSP!B110=\"\",\"\",FSP!C110)","v":""},{"$f":"IF(FSP!B110=\"\",0,FSP!D110)","v":0},{"$f":"IF(FSP!B110=\"\",0,FSP!E110)","v":0},null,{"$f":"IF(FSP!G110=\"\",\"\",FSP!H110)","v":""},{"$f":"IF(FSP!G110=\"\",0,FSP!I110)","v":0},null,{"$f":"IF(PS!B112=\"\",\"\",PS!C112)","v":""},{"$f":"IF(PS!B112=\"\",\"\",PS!D112)","v":""},null,{"$f":"IF(PS!F112=\"\",\"\",PS!G112)","v":""},{"$f":"IF(PS!F112=\"\",\"\",PS!H112)","v":""},null,{"$f":"IF(LP!A110=\"\",\"\",LP!B110)","v":""},{"$f":"IF(LP!A110=\"\",0,LP!C110)","v":0},null,{"$f":"IF(LP!E110=\"\",\"\",LP!F110)","v":""},{"$f":"IF(LP!E110=\"\",0,LP!G110)","v":0},null,{"$f":"IF(LP!I110=\"\",\"\",LP!J110)","v":""},{"$f":"IF(LP!I110=\"\",0,LP!K110)","v":0},null,{"$f":"IF(BPBPS!B110=\"\",\"\",BPBPS!C110)","v":""},{"$f":"IF(BPBPS!B110=\"\",0,BPBPS!D110)","v":0},null,{"$f":"IF(BPBPS!F110=\"\",\"\",BPBPS!G110)","v":""},{"$f":"IF(BPBPS!H110=\"\",0,BPBPS!H110)","v":0},null,{"$f":"IF(BPBPS!J110=\"\",\"\",BPBPS!K110)","v":""},{"$f":"IF(BPBPS!J110=\"\",0,BPBPS!L110)","v":0},null,{"$f":"IF(SSGP!B110=\"\",\"\",SSGP!C110)","v":""},{"$f":"IF(SSGP!B110=\"\",0,SSGP!D110)","v":0},null,{"$f":"IF(SSGP!F110=\"\",\"\",SSGP!G110)","v":""},{"$f":"IF(SSGP!F110=\"\",0,SSGP!H110)","v":0}]
[109,{"$f":"IF(WPP!B111=\"\",\"\",WPP!C111)","v":""},{"$f":"IF(WPP!B111=\"\",0,WPP!D111)","v":0},{"$f":"IF(WPP!B111=\"\",0,WPP!E111)","v":0},null,{"$f":"IF(WPP!G111=\"\",\"\",WPP!H111)","v":""},{"$f":"IF(WPP!G111=\"\",0,WPP!I111)","v":0},{"$f":"IF(WPP!G111=\"\",0,WPP!J111)","v":0},null,{"$f":"IF(KSP!B111=\"\",\"\",KSP!C111)","v":""},{"$f":"IF(KSP!B111=\"\",0,KSP!D111)","v":0},{"$f":"IF(KSP!B111=\"\",0,KSP!E111)","v":0},null,{"$f":"IF(KSP!G111=\"\",\"\",KSP!H111)","v":""},{"$f":"IF(KSP!G111=\"\",0,KSP!I111)","v":0},{"$f":"IF(KSP!G111=\"\",0,KSP!J111)","v":0},null,{"$f":"IF(FSP!B111=\"\",\"\",FSP!C111)","v":""},{"$f":"IF(FSP!B111=\"\",0,FSP!D111)","v":0},{"$f":"IF(FSP!B111=\"\",0,FSP!E111)","v":0},null,{"$f":"IF(FSP!G111=\"\",\"\",FSP!H111)","v":""},{"$f":"IF(FSP!G111=\"\",0,FSP!I111)","v":0},null,{"$f":"IF(PS!B113=\"\",\"\",PS!C113)","v":""},{"$f":"IF(PS!B113=\"\",\"\",PS!D113)","v":""},null,{"$f":"IF(PS!F113=\"\",\"\",PS!G113)","v":""},{"$f":"IF(PS!F113=\"\",\"\",PS!H113)","v":""},null,{"$f":"IF(LP!A111=\"\",\"\",LP!B111)","v":""},{"$f":"IF(LP!A111=\"\",0,LP!C111)","v":0},null,{"$f":"IF(LP!E111=\"\",\"\",LP!F111)","v":""},{"$f":"IF(LP!E111=\"\",0,LP!G111)","v":0},null,{"$f":"IF(LP!I111=\"\",\"\",LP!J111)","v":""},{"$f":"IF(LP!I111=\"\",0,LP!K111)","v":0},null,{"$f":"IF(BPBPS!B111=\"\",\"\",BPBPS!C111)","v":""},{"$f":"IF(BPBPS!B111=\"\",0,BPBPS!D111)","v":0},null,{"$f":"IF(BPBPS!F111=\"\",\"\",BPBPS!G111)","v":""},{"$f":"IF(BPBPS!H111=\"\",0,BPBPS!H111)","v":0},null,{"$f":"IF(BPBPS!J111=\"\",\"\",BPBPS!K111)","v":""},{"$f":"IF(BPBPS!J111=\"\",0,BPBPS!L111)","v":0},null,{"$f":"IF(SSGP!B111=\"\",\"\",SSGP!C111)","v":""},{"$f":"IF(SSGP!B111=\"\",0,SSGP!D111)","v":0},null,{"$f":"IF(SSGP!F111=\"\",\"\",SSGP!G111)","v":""},{"$f":"IF(SSGP!F111=\"\",0,SSGP!H111)","v":0}]
[110,{"$f":"IF(WPP!B112=\"\",\"\",WPP!C112)","v":""},{"$f":"IF(WPP!B112=\"\",0,WPP!D112)","v":0},{"$f":"IF(WPP!B112=\"\",0,WPP!E112)","v":0},null,{"$f":"IF(WPP!G112=\"\",\"\",WPP!H112)","v":""},{"$f":"IF(WPP!G112=\"\",0,WPP!I112)","v":0},{"$f":"IF(WPP!G112=\"\",0,WPP!J112)","v":0},null,{"$f":"IF(KSP!B112=\"\",\"\",KSP!C112)","v":""},{"$f":"IF(KSP!B112=\"\",0,KSP!D112)","v":0},{"$f":"IF(KSP!B112=\"\",0,KSP!E112)","v":0},null,{"$f":"IF(KSP!G112=\"\",\"\",KSP!H112)","v":""},{"$f":"IF(KSP!G112=\"\",0,KSP!I112)","v":0},{"$f":"IF(KSP!G112=\"\",0,KSP!J112)","v":0},null,{"$f":"IF(FSP!B112=\"\",\"\",FSP!C112)","v":""},{"$f":"IF(FSP!B112=\"\",0,FSP!D112)","v":0},{"$f":"IF(FSP!B112=\"\",0,FSP!E112)","v":0},null,{"$f":"IF(FSP!G112=\"\",\"\",FSP!H112)","v":""},{"$f":"IF(FSP!G112=\"\",0,FSP!I112)","v":0},null,{"$f":"IF(PS!B114=\"\",\"\",PS!C114)","v":""},{"$f":"IF(PS!B114=\"\",\"\",PS!D114)","v":""},null,{"$f":"IF(PS!F114=\"\",\"\",PS!G114)","v":""},{"$f":"IF(PS!F114=\"\",\"\",PS!H114)","v":""},null,{"$f":"IF(LP!A112=\"\",\"\",LP!B112)","v":""},{"$f":"IF(LP!A112=\"\",0,LP!C112)","v":0},null,{"$f":"IF(LP!E112=\"\",\"\",LP!F112)","v":""},{"$f":"IF(LP!E112=\"\",0,LP!G112)","v":0},null,{"$f":"IF(LP!I112=\"\",\"\",LP!J112)","v":""},{"$f":"IF(LP!I112=\"\",0,LP!K112)","v":0},null,{"$f":"IF(BPBPS!B112=\"\",\"\",BPBPS!C112)","v":""},{"$f":"IF(BPBPS!B112=\"\",0,BPBPS!D112)","v":0},null,{"$f":"IF(BPBPS!F112=\"\",\"\",BPBPS!G112)","v":""},{"$f":"IF(BPBPS!H112=\"\",0,BPBPS!H112)","v":0},null,{"$f":"IF(BPBPS!J112=\"\",\"\",BPBPS!K112)","v":""},{"$f":"IF(BPBPS!J112=\"\",0,BPBPS!L112)","v":0},null,{"$f":"IF(SSGP!B112=\"\",\"\",SSGP!C112)","v":""},{"$f":"IF(SSGP!B112=\"\",0,SSGP!D112)","v":0},null,{"$f":"IF(SSGP!F112=\"\",\"\",SSGP!G112)","v":""},{"$f":"IF(SSGP!F112=\"\",0,SSGP!H112)","v":0}]
[111,{"$f":"IF(WPP!B113=\"\",\"\",WPP!C113)","v":""},{"$f":"IF(WPP!B113=\"\",0,WPP!D113)","v":0},{"$f":"IF(WPP!B113=\"\",0,WPP!E113)","v":0},null,{"$f":"IF(WPP!G113=\"\",\"\",WPP!H113)","v":""},{"$f":"IF(WPP!G113=\"\",0,WPP!I113)","v":0},{"$f":"IF(WPP!G113=\"\",0,WPP!J113)","v":0},null,{"$f":"IF(KSP!B113=\"\",\"\",KSP!C113)","v":""},{"$f":"IF(KSP!B113=\"\",0,KSP!D113)","v":0},{"$f":"IF(KSP!B113=\"\",0,KSP!E113)","v":0},null,{"$f":"IF(KSP!G113=\"\",\"\",KSP!H113)","v":""},{"$f":"IF(KSP!G113=\"\",0,KSP!I113)","v":0},{"$f":"IF(KSP!G113=\"\",0,KSP!J113)","v":0},null,{"$f":"IF(FSP!B113=\"\",\"\",FSP!C113)","v":""},{"$f":"IF(FSP!B113=\"\",0,FSP!D113)","v":0},{"$f":"IF(FSP!B113=\"\",0,FSP!E113)","v":0},null,{"$f":"IF(FSP!G113=\"\",\"\",FSP!H113)","v":""},{"$f":"IF(FSP!G113=\"\",0,FSP!I113)","v":0},null,{"$f":"IF(PS!B115=\"\",\"\",PS!C115)","v":""},{"$f":"IF(PS!B115=\"\",\"\",PS!D115)","v":""},null,{"$f":"IF(PS!F115=\"\",\"\",PS!G115)","v":""},{"$f":"IF(PS!F115=\"\",\"\",PS!H115)","v":""},null,{"$f":"IF(LP!A113=\"\",\"\",LP!B113)","v":""},{"$f":"IF(LP!A113=\"\",0,LP!C113)","v":0},null,{"$f":"IF(LP!E113=\"\",\"\",LP!F113)","v":""},{"$f":"IF(LP!E113=\"\",0,LP!G113)","v":0},null,{"$f":"IF(LP!I113=\"\",\"\",LP!J113)","v":""},{"$f":"IF(LP!I113=\"\",0,LP!K113)","v":0},null,{"$f":"IF(BPBPS!B113=\"\",\"\",BPBPS!C113)","v":""},{"$f":"IF(BPBPS!B113=\"\",0,BPBPS!D113)","v":0},null,{"$f":"IF(BPBPS!F113=\"\",\"\",BPBPS!G113)","v":""},{"$f":"IF(BPBPS!H113=\"\",0,BPBPS!H113)","v":0},null,{"$f":"IF(BPBPS!J113=\"\",\"\",BPBPS!K113)","v":""},{"$f":"IF(BPBPS!J113=\"\",0,BPBPS!L113)","v":0},null,{"$f":"IF(SSGP!B113=\"\",\"\",SSGP!C113)","v":""},{"$f":"IF(SSGP!B113=\"\",0,SSGP!D113)","v":0},null,{"$f":"IF(SSGP!F113=\"\",\"\",SSGP!G113)","v":""},{"$f":"IF(SSGP!F113=\"\",0,SSGP!H113)","v":0}]
[112,{"$f":"IF(WPP!B114=\"\",\"\",WPP!C114)","v":""},{"$f":"IF(WPP!B114=\"\",0,WPP!D114)","v":0},{"$f":"IF(WPP!B114=\"\",0,WPP!E114)","v":0},null,{"$f":"IF(WPP!G114=\"\",\"\",WPP!H114)","v":""},{"$f":"IF(WPP!G114=\"\",0,WPP!I114)","v":0},{"$f":"IF(WPP!G114=\"\",0,WPP!J114)","v":0},null,{"$f":"IF(KSP!B114=\"\",\"\",KSP!C114)","v":""},{"$f":"IF(KSP!B114=\"\",0,KSP!D114)","v":0},{"$f":"IF(KSP!B114=\"\",0,KSP!E114)","v":0},null,{"$f":"IF(KSP!G114=\"\",\"\",KSP!H114)","v":""},{"$f":"IF(KSP!G114=\"\",0,KSP!I114)","v":0},{"$f":"IF(KSP!G114=\"\",0,KSP!J114)","v":0},null,{"$f":"IF(FSP!B114=\"\",\"\",FSP!C114)","v":""},{"$f":"IF(FSP!B114=\"\",0,FSP!D114)","v":0},{"$f":"IF(FSP!B114=\"\",0,FSP!E114)","v":0},null,{"$f":"IF(FSP!G114=\"\",\"\",FSP!H114)","v":""},{"$f":"IF(FSP!G114=\"\",0,FSP!I114)","v":0},null,{"$f":"IF(PS!B116=\"\",\"\",PS!C116)","v":""},{"$f":"IF(PS!B116=\"\",\"\",PS!D116)","v":""},null,{"$f":"IF(PS!F116=\"\",\"\",PS!G116)","v":""},{"$f":"IF(PS!F116=\"\",\"\",PS!H116)","v":""},null,{"$f":"IF(LP!A114=\"\",\"\",LP!B114)","v":""},{"$f":"IF(LP!A114=\"\",0,LP!C114)","v":0},null,{"$f":"IF(LP!E114=\"\",\"\",LP!F114)","v":""},{"$f":"IF(LP!E114=\"\",0,LP!G114)","v":0},null,{"$f":"IF(LP!I114=\"\",\"\",LP!J114)","v":""},{"$f":"IF(LP!I114=\"\",0,LP!K114)","v":0},null,{"$f":"IF(BPBPS!B114=\"\",\"\",BPBPS!C114)","v":""},{"$f":"IF(BPBPS!B114=\"\",0,BPBPS!D114)","v":0},null,{"$f":"IF(BPBPS!F114=\"\",\"\",BPBPS!G114)","v":""},{"$f":"IF(BPBPS!H114=\"\",0,BPBPS!H114)","v":0},null,{"$f":"IF(BPBPS!J114=\"\",\"\",BPBPS!K114)","v":""},{"$f":"IF(BPBPS!J114=\"\",0,BPBPS!L114)","v":0},null,{"$f":"IF(SSGP!B114=\"\",\"\",SSGP!C114)","v":""},{"$f":"IF(SSGP!B114=\"\",0,SSGP!D114)","v":0},null,{"$f":"IF(SSGP!F114=\"\",\"\",SSGP!G114)","v":""},{"$f":"IF(SSGP!F114=\"\",0,SSGP!H114)","v":0}]
[113,{"$f":"IF(WPP!B115=\"\",\"\",WPP!C115)","v":""},{"$f":"IF(WPP!B115=\"\",0,WPP!D115)","v":0},{"$f":"IF(WPP!B115=\"\",0,WPP!E115)","v":0},null,{"$f":"IF(WPP!G115=\"\",\"\",WPP!H115)","v":""},{"$f":"IF(WPP!G115=\"\",0,WPP!I115)","v":0},{"$f":"IF(WPP!G115=\"\",0,WPP!J115)","v":0},null,{"$f":"IF(KSP!B115=\"\",\"\",KSP!C115)","v":""},{"$f":"IF(KSP!B115=\"\",0,KSP!D115)","v":0},{"$f":"IF(KSP!B115=\"\",0,KSP!E115)","v":0},null,{"$f":"IF(KSP!G115=\"\",\"\",KSP!H115)","v":""},{"$f":"IF(KSP!G115=\"\",0,KSP!I115)","v":0},{"$f":"IF(KSP!G115=\"\",0,KSP!J115)","v":0},null,{"$f":"IF(FSP!B115=\"\",\"\",FSP!C115)","v":""},{"$f":"IF(FSP!B115=\"\",0,FSP!D115)","v":0},{"$f":"IF(FSP!B115=\"\",0,FSP!E115)","v":0},null,{"$f":"IF(FSP!G115=\"\",\"\",FSP!H115)","v":""},{"$f":"IF(FSP!G115=\"\",0,FSP!I115)","v":0},null,{"$f":"IF(PS!B117=\"\",\"\",PS!C117)","v":""},{"$f":"IF(PS!B117=\"\",\"\",PS!D117)","v":""},null,{"$f":"IF(PS!F117=\"\",\"\",PS!G117)","v":""},{"$f":"IF(PS!F117=\"\",\"\",PS!H117)","v":""},null,{"$f":"IF(LP!A115=\"\",\"\",LP!B115)","v":""},{"$f":"IF(LP!A115=\"\",0,LP!C115)","v":0},null,{"$f":"IF(LP!E115=\"\",\"\",LP!F115)","v":""},{"$f":"IF(LP!E115=\"\",0,LP!G115)","v":0},null,{"$f":"IF(LP!I115=\"\",\"\",LP!J115)","v":""},{"$f":"IF(LP!I115=\"\",0,LP!K115)","v":0},null,{"$f":"IF(BPBPS!B115=\"\",\"\",BPBPS!C115)","v":""},{"$f":"IF(BPBPS!B115=\"\",0,BPBPS!D115)","v":0},null,{"$f":"IF(BPBPS!F115=\"\",\"\",BPBPS!G115)","v":""},{"$f":"IF(BPBPS!H115=\"\",0,BPBPS!H115)","v":0},null,{"$f":"IF(BPBPS!J115=\"\",\"\",BPBPS!K115)","v":""},{"$f":"IF(BPBPS!J115=\"\",0,BPBPS!L115)","v":0},null,{"$f":"IF(SSGP!B115=\"\",\"\",SSGP!C115)","v":""},{"$f":"IF(SSGP!B115=\"\",0,SSGP!D115)","v":0},null,{"$f":"IF(SSGP!F115=\"\",\"\",SSGP!G115)","v":""},{"$f":"IF(SSGP!F115=\"\",0,SSGP!H115)","v":0}]
[114,{"$f":"IF(WPP!B116=\"\",\"\",WPP!C116)","v":""},{"$f":"IF(WPP!B116=\"\",0,WPP!D116)","v":0},{"$f":"IF(WPP!B116=\"\",0,WPP!E116)","v":0},null,{"$f":"IF(WPP!G116=\"\",\"\",WPP!H116)","v":""},{"$f":"IF(WPP!G116=\"\",0,WPP!I116)","v":0},{"$f":"IF(WPP!G116=\"\",0,WPP!J116)","v":0},null,{"$f":"IF(KSP!B116=\"\",\"\",KSP!C116)","v":""},{"$f":"IF(KSP!B116=\"\",0,KSP!D116)","v":0},{"$f":"IF(KSP!B116=\"\",0,KSP!E116)","v":0},null,{"$f":"IF(KSP!G116=\"\",\"\",KSP!H116)","v":""},{"$f":"IF(KSP!G116=\"\",0,KSP!I116)","v":0},{"$f":"IF(KSP!G116=\"\",0,KSP!J116)","v":0},null,{"$f":"IF(FSP!B116=\"\",\"\",FSP!C116)","v":""},{"$f":"IF(FSP!B116=\"\",0,FSP!D116)","v":0},{"$f":"IF(FSP!B116=\"\",0,FSP!E116)","v":0},null,{"$f":"IF(FSP!G116=\"\",\"\",FSP!H116)","v":""},{"$f":"IF(FSP!G116=\"\",0,FSP!I116)","v":0},null,{"$f":"IF(PS!B118=\"\",\"\",PS!C118)","v":""},{"$f":"IF(PS!B118=\"\",\"\",PS!D118)","v":""},null,{"$f":"IF(PS!F118=\"\",\"\",PS!G118)","v":""},{"$f":"IF(PS!F118=\"\",\"\",PS!H118)","v":""},null,{"$f":"IF(LP!A116=\"\",\"\",LP!B116)","v":""},{"$f":"IF(LP!A116=\"\",0,LP!C116)","v":0},null,{"$f":"IF(LP!E116=\"\",\"\",LP!F116)","v":""},{"$f":"IF(LP!E116=\"\",0,LP!G116)","v":0},null,{"$f":"IF(LP!I116=\"\",\"\",LP!J116)","v":""},{"$f":"IF(LP!I116=\"\",0,LP!K116)","v":0},null,{"$f":"IF(BPBPS!B116=\"\",\"\",BPBPS!C116)","v":""},{"$f":"IF(BPBPS!B116=\"\",0,BPBPS!D116)","v":0},null,{"$f":"IF(BPBPS!F116=\"\",\"\",BPBPS!G116)","v":""},{"$f":"IF(BPBPS!H116=\"\",0,BPBPS!H116)","v":0},null,{"$f":"IF(BPBPS!J116=\"\",\"\",BPBPS!K116)","v":""},{"$f":"IF(BPBPS!J116=\"\",0,BPBPS!L116)","v":0},null,{"$f":"IF(SSGP!B116=\"\",\"\",SSGP!C116)","v":""},{"$f":"IF(SSGP!B116=\"\",0,SSGP!D116)","v":0},null,{"$f":"IF(SSGP!F116=\"\",\"\",SSGP!G116)","v":""},{"$f":"IF(SSGP!F116=\"\",0,SSGP!H116)","v":0}]
[115,{"$f":"IF(WPP!B117=\"\",\"\",WPP!C117)","v":""},{"$f":"IF(WPP!B117=\"\",0,WPP!D117)","v":0},{"$f":"IF(WPP!B117=\"\",0,WPP!E117)","v":0},null,{"$f":"IF(WPP!G117=\"\",\"\",WPP!H117)","v":""},{"$f":"IF(WPP!G117=\"\",0,WPP!I117)","v":0},{"$f":"IF(WPP!G117=\"\",0,WPP!J117)","v":0},null,{"$f":"IF(KSP!B117=\"\",\"\",KSP!C117)","v":""},{"$f":"IF(KSP!B117=\"\",0,KSP!D117)","v":0},{"$f":"IF(KSP!B117=\"\",0,KSP!E117)","v":0},null,{"$f":"IF(KSP!G117=\"\",\"\",KSP!H117)","v":""},{"$f":"IF(KSP!G117=\"\",0,KSP!I117)","v":0},{"$f":"IF(KSP!G117=\"\",0,KSP!J117)","v":0},null,{"$f":"IF(FSP!B117=\"\",\"\",FSP!C117)","v":""},{"$f":"IF(FSP!B117=\"\",0,FSP!D117)","v":0},{"$f":"IF(FSP!B117=\"\",0,FSP!E117)","v":0},null,{"$f":"IF(FSP!G117=\"\",\"\",FSP!H117)","v":""},{"$f":"IF(FSP!G117=\"\",0,FSP!I117)","v":0},null,{"$f":"IF(PS!B119=\"\",\"\",PS!C119)","v":""},{"$f":"IF(PS!B119=\"\",\"\",PS!D119)","v":""},null,{"$f":"IF(PS!F119=\"\",\"\",PS!G119)","v":""},{"$f":"IF(PS!F119=\"\",\"\",PS!H119)","v":""},null,{"$f":"IF(LP!A117=\"\",\"\",LP!B117)","v":""},{"$f":"IF(LP!A117=\"\",0,LP!C117)","v":0},null,{"$f":"IF(LP!E117=\"\",\"\",LP!F117)","v":""},{"$f":"IF(LP!E117=\"\",0,LP!G117)","v":0},null,{"$f":"IF(LP!I117=\"\",\"\",LP!J117)","v":""},{"$f":"IF(LP!I117=\"\",0,LP!K117)","v":0},null,{"$f":"IF(BPBPS!B117=\"\",\"\",BPBPS!C117)","v":""},{"$f":"IF(BPBPS!B117=\"\",0,BPBPS!D117)","v":0},null,{"$f":"IF(BPBPS!F117=\"\",\"\",BPBPS!G117)","v":""},{"$f":"IF(BPBPS!H117=\"\",0,BPBPS!H117)","v":0},null,{"$f":"IF(BPBPS!J117=\"\",\"\",BPBPS!K117)","v":""},{"$f":"IF(BPBPS!J117=\"\",0,BPBPS!L117)","v":0},null,{"$f":"IF(SSGP!B117=\"\",\"\",SSGP!C117)","v":""},{"$f":"IF(SSGP!B117=\"\",0,SSGP!D117)","v":0},null,{"$f":"IF(SSGP!F117=\"\",\"\",SSGP!G117)","v":""},{"$f":"IF(SSGP!F117=\"\",0,SSGP!H117)","v":0}]
[116,{"$f":"IF(WPP!B118=\"\",\"\",WPP!C118)","v":""},{"$f":"IF(WPP!B118=\"\",0,WPP!D118)","v":0},{"$f":"IF(WPP!B118=\"\",0,WPP!E118)","v":0},null,{"$f":"IF(WPP!G118=\"\",\"\",WPP!H118)","v":""},{"$f":"IF(WPP!G118=\"\",0,WPP!I118)","v":0},{"$f":"IF(WPP!G118=\"\",0,WPP!J118)","v":0},null,{"$f":"IF(KSP!B118=\"\",\"\",KSP!C118)","v":""},{"$f":"IF(KSP!B118=\"\",0,KSP!D118)","v":0},{"$f":"IF(KSP!B118=\"\",0,KSP!E118)","v":0},null,{"$f":"IF(KSP!G118=\"\",\"\",KSP!H118)","v":""},{"$f":"IF(KSP!G118=\"\",0,KSP!I118)","v":0},{"$f":"IF(KSP!G118=\"\",0,KSP!J118)","v":0},null,{"$f":"IF(FSP!B118=\"\",\"\",FSP!C118)","v":""},{"$f":"IF(FSP!B118=\"\",0,FSP!D118)","v":0},{"$f":"IF(FSP!B118=\"\",0,FSP!E118)","v":0},null,{"$f":"IF(FSP!G118=\"\",\"\",FSP!H118)","v":""},{"$f":"IF(FSP!G118=\"\",0,FSP!I118)","v":0},null,{"$f":"IF(PS!B120=\"\",\"\",PS!C120)","v":""},{"$f":"IF(PS!B120=\"\",\"\",PS!D120)","v":""},null,{"$f":"IF(PS!F120=\"\",\"\",PS!G120)","v":""},{"$f":"IF(PS!F120=\"\",\"\",PS!H120)","v":""},null,{"$f":"IF(LP!A118=\"\",\"\",LP!B118)","v":""},{"$f":"IF(LP!A118=\"\",0,LP!C118)","v":0},null,{"$f":"IF(LP!E118=\"\",\"\",LP!F118)","v":""},{"$f":"IF(LP!E118=\"\",0,LP!G118)","v":0},null,{"$f":"IF(LP!I118=\"\",\"\",LP!J118)","v":""},{"$f":"IF(LP!I118=\"\",0,LP!K118)","v":0},null,{"$f":"IF(BPBPS!B118=\"\",\"\",BPBPS!C118)","v":""},{"$f":"IF(BPBPS!B118=\"\",0,BPBPS!D118)","v":0},null,{"$f":"IF(BPBPS!F118=\"\",\"\",BPBPS!G118)","v":""},{"$f":"IF(BPBPS!H118=\"\",0,BPBPS!H118)","v":0},null,{"$f":"IF(BPBPS!J118=\"\",\"\",BPBPS!K118)","v":""},{"$f":"IF(BPBPS!J118=\"\",0,BPBPS!L118)","v":0},null,{"$f":"IF(SSGP!B118=\"\",\"\",SSGP!C118)","v":""},{"$f":"IF(SSGP!B118=\"\",0,SSGP!D118)","v":0},null,{"$f":"IF(SSGP!F118=\"\",\"\",SSGP!G118)","v":""},{"$f":"IF(SSGP!F118=\"\",0,SSGP!H118)","v":0}]
[117,{"$f":"IF(WPP!B119=\"\",\"\",WPP!C119)","v":""},{"$f":"IF(WPP!B119=\"\",0,WPP!D119)","v":0},{"$f":"IF(WPP!B119=\"\",0,WPP!E119)","v":0},null,{"$f":"IF(WPP!G119=\"\",\"\",WPP!H119)","v":""},{"$f":"IF(WPP!G119=\"\",0,WPP!I119)","v":0},{"$f":"IF(WPP!G119=\"\",0,WPP!J119)","v":0},null,{"$f":"IF(KSP!B119=\"\",\"\",KSP!C119)","v":""},{"$f":"IF(KSP!B119=\"\",0,KSP!D119)","v":0},{"$f":"IF(KSP!B119=\"\",0,KSP!E119)","v":0},null,{"$f":"IF(KSP!G119=\"\",\"\",KSP!H119)","v":""},{"$f":"IF(KSP!G119=\"\",0,KSP!I119)","v":0},{"$f":"IF(KSP!G119=\"\",0,KSP!J119)","v":0},null,{"$f":"IF(FSP!B119=\"\",\"\",FSP!C119)","v":""},{"$f":"IF(FSP!B119=\"\",0,FSP!D119)","v":0},{"$f":"IF(FSP!B119=\"\",0,FSP!E119)","v":0},null,{"$f":"IF(FSP!G119=\"\",\"\",FSP!H119)","v":""},{"$f":"IF(FSP!G119=\"\",0,FSP!I119)","v":0},null,{"$f":"IF(PS!B121=\"\",\"\",PS!C121)","v":""},{"$f":"IF(PS!B121=\"\",\"\",PS!D121)","v":""},null,{"$f":"IF(PS!F121=\"\",\"\",PS!G121)","v":""},{"$f":"IF(PS!F121=\"\",\"\",PS!H121)","v":""},null,{"$f":"IF(LP!A119=\"\",\"\",LP!B119)","v":""},{"$f":"IF(LP!A119=\"\",0,LP!C119)","v":0},null,{"$f":"IF(LP!E119=\"\",\"\",LP!F119)","v":""},{"$f":"IF(LP!E119=\"\",0,LP!G119)","v":0},null,{"$f":"IF(LP!I119=\"\",\"\",LP!J119)","v":""},{"$f":"IF(LP!I119=\"\",0,LP!K119)","v":0},null,{"$f":"IF(BPBPS!B119=\"\",\"\",BPBPS!C119)","v":""},{"$f":"IF(BPBPS!B119=\"\",0,BPBPS!D119)","v":0},null,{"$f":"IF(BPBPS!F119=\"\",\"\",BPBPS!G119)","v":""},{"$f":"IF(BPBPS!H119=\"\",0,BPBPS!H119)","v":0},null,{"$f":"IF(BPBPS!J119=\"\",\"\",BPBPS!K119)","v":""},{"$f":"IF(BPBPS!J119=\"\",0,BPBPS!L119)","v":0},null,{"$f":"IF(SSGP!B119=\"\",\"\",SSGP!C119)","v":""},{"$f":"IF(SSGP!B119=\"\",0,SSGP!D119)","v":0},null,{"$f":"IF(SSGP!F119=\"\",\"\",SSGP!G119)","v":""},{"$f":"IF(SSGP!F119=\"\",0,SSGP!H119)","v":0}]
[118,{"$f":"IF(WPP!B120=\"\",\"\",WPP!C120)","v":""},{"$f":"IF(WPP!B120=\"\",0,WPP!D120)","v":0},{"$f":"IF(WPP!B120=\"\",0,WPP!E120)","v":0},null,{"$f":"IF(WPP!G120=\"\",\"\",WPP!H120)","v":""},{"$f":"IF(WPP!G120=\"\",0,WPP!I120)","v":0},{"$f":"IF(WPP!G120=\"\",0,WPP!J120)","v":0},null,{"$f":"IF(KSP!B120=\"\",\"\",KSP!C120)","v":""},{"$f":"IF(KSP!B120=\"\",0,KSP!D120)","v":0},{"$f":"IF(KSP!B120=\"\",0,KSP!E120)","v":0},null,{"$f":"IF(KSP!G120=\"\",\"\",KSP!H120)","v":""},{"$f":"IF(KSP!G120=\"\",0,KSP!I120)","v":0},{"$f":"IF(KSP!G120=\"\",0,KSP!J120)","v":0},null,{"$f":"IF(FSP!B120=\"\",\"\",FSP!C120)","v":""},{"$f":"IF(FSP!B120=\"\",0,FSP!D120)","v":0},{"$f":"IF(FSP!B120=\"\",0,FSP!E120)","v":0},null,{"$f":"IF(FSP!G120=\"\",\"\",FSP!H120)","v":""},{"$f":"IF(FSP!G120=\"\",0,FSP!I120)","v":0},null,{"$f":"IF(PS!B122=\"\",\"\",PS!C122)","v":""},{"$f":"IF(PS!B122=\"\",\"\",PS!D122)","v":""},null,{"$f":"IF(PS!F122=\"\",\"\",PS!G122)","v":""},{"$f":"IF(PS!F122=\"\",\"\",PS!H122)","v":""},null,{"$f":"IF(LP!A120=\"\",\"\",LP!B120)","v":""},{"$f":"IF(LP!A120=\"\",0,LP!C120)","v":0},null,{"$f":"IF(LP!E120=\"\",\"\",LP!F120)","v":""},{"$f":"IF(LP!E120=\"\",0,LP!G120)","v":0},null,{"$f":"IF(LP!I120=\"\",\"\",LP!J120)","v":""},{"$f":"IF(LP!I120=\"\",0,LP!K120)","v":0},null,{"$f":"IF(BPBPS!B120=\"\",\"\",BPBPS!C120)","v":""},{"$f":"IF(BPBPS!B120=\"\",0,BPBPS!D120)","v":0},null,{"$f":"IF(BPBPS!F120=\"\",\"\",BPBPS!G120)","v":""},{"$f":"IF(BPBPS!H120=\"\",0,BPBPS!H120)","v":0},null,{"$f":"IF(BPBPS!J120=\"\",\"\",BPBPS!K120)","v":""},{"$f":"IF(BPBPS!J120=\"\",0,BPBPS!L120)","v":0},null,{"$f":"IF(SSGP!B120=\"\",\"\",SSGP!C120)","v":""},{"$f":"IF(SSGP!B120=\"\",0,SSGP!D120)","v":0},null,{"$f":"IF(SSGP!F120=\"\",\"\",SSGP!G120)","v":""},{"$f":"IF(SSGP!F120=\"\",0,SSGP!H120)","v":0}]
[119,{"$f":"IF(WPP!B121=\"\",\"\",WPP!C121)","v":""},{"$f":"IF(WPP!B121=\"\",0,WPP!D121)","v":0},{"$f":"IF(WPP!B121=\"\",0,WPP!E121)","v":0},null,{"$f":"IF(WPP!G121=\"\",\"\",WPP!H121)","v":""},{"$f":"IF(WPP!G121=\"\",0,WPP!I121)","v":0},{"$f":"IF(WPP!G121=\"\",0,WPP!J121)","v":0},null,{"$f":"IF(KSP!B121=\"\",\"\",KSP!C121)","v":""},{"$f":"IF(KSP!B121=\"\",0,KSP!D121)","v":0},{"$f":"IF(KSP!B121=\"\",0,KSP!E121)","v":0},null,{"$f":"IF(KSP!G121=\"\",\"\",KSP!H121)","v":""},{"$f":"IF(KSP!G121=\"\",0,KSP!I121)","v":0},{"$f":"IF(KSP!G121=\"\",0,KSP!J121)","v":0},null,{"$f":"IF(FSP!B121=\"\",\"\",FSP!C121)","v":""},{"$f":"IF(FSP!B121=\"\",0,FSP!D121)","v":0},{"$f":"IF(FSP!B121=\"\",0,FSP!E121)","v":0},null,{"$f":"IF(FSP!G121=\"\",\"\",FSP!H121)","v":""},{"$f":"IF(FSP!G121=\"\",0,FSP!I121)","v":0},null,{"$f":"IF(PS!B123=\"\",\"\",PS!C123)","v":""},{"$f":"IF(PS!B123=\"\",\"\",PS!D123)","v":""},null,{"$f":"IF(PS!F123=\"\",\"\",PS!G123)","v":""},{"$f":"IF(PS!F123=\"\",\"\",PS!H123)","v":""},null,{"$f":"IF(LP!A121=\"\",\"\",LP!B121)","v":""},{"$f":"IF(LP!A121=\"\",0,LP!C121)","v":0},null,{"$f":"IF(LP!E121=\"\",\"\",LP!F121)","v":""},{"$f":"IF(LP!E121=\"\",0,LP!G121)","v":0},null,{"$f":"IF(LP!I121=\"\",\"\",LP!J121)","v":""},{"$f":"IF(LP!I121=\"\",0,LP!K121)","v":0},null,{"$f":"IF(BPBPS!B121=\"\",\"\",BPBPS!C121)","v":""},{"$f":"IF(BPBPS!B121=\"\",0,BPBPS!D121)","v":0},null,{"$f":"IF(BPBPS!F121=\"\",\"\",BPBPS!G121)","v":""},{"$f":"IF(BPBPS!H121=\"\",0,BPBPS!H121)","v":0},null,{"$f":"IF(BPBPS!J121=\"\",\"\",BPBPS!K121)","v":""},{"$f":"IF(BPBPS!J121=\"\",0,BPBPS!L121)","v":0},null,{"$f":"IF(SSGP!B121=\"\",\"\",SSGP!C121)","v":""},{"$f":"IF(SSGP!B121=\"\",0,SSGP!D121)","v":0},null,{"$f":"IF(SSGP!F121=\"\",\"\",SSGP!G121)","v":""},{"$f":"IF(SSGP!F121=\"\",0,SSGP!H121)","v":0}]
[120,{"$f":"IF(WPP!B122=\"\",\"\",WPP!C122)","v":""},{"$f":"IF(WPP!B122=\"\",0,WPP!D122)","v":0},{"$f":"IF(WPP!B122=\"\",0,WPP!E122)","v":0},null,{"$f":"IF(WPP!G122=\"\",\"\",WPP!H122)","v":""},{"$f":"IF(WPP!G122=\"\",0,WPP!I122)","v":0},{"$f":"IF(WPP!G122=\"\",0,WPP!J122)","v":0},null,{"$f":"IF(KSP!B122=\"\",\"\",KSP!C122)","v":""},{"$f":"IF(KSP!B122=\"\",0,KSP!D122)","v":0},{"$f":"IF(KSP!B122=\"\",0,KSP!E122)","v":0},null,{"$f":"IF(KSP!G122=\"\",\"\",KSP!H122)","v":""},{"$f":"IF(KSP!G122=\"\",0,KSP!I122)","v":0},{"$f":"IF(KSP!G122=\"\",0,KSP!J122)","v":0},null,{"$f":"IF(FSP!B122=\"\",\"\",FSP!C122)","v":""},{"$f":"IF(FSP!B122=\"\",0,FSP!D122)","v":0},{"$f":"IF(FSP!B122=\"\",0,FSP!E122)","v":0},null,{"$f":"IF(FSP!G122=\"\",\"\",FSP!H122)","v":""},{"$f":"IF(FSP!G122=\"\",0,FSP!I122)","v":0},null,{"$f":"IF(PS!B124=\"\",\"\",PS!C124)","v":""},{"$f":"IF(PS!B124=\"\",\"\",PS!D124)","v":""},null,{"$f":"IF(PS!F124=\"\",\"\",PS!G124)","v":""},{"$f":"IF(PS!F124=\"\",\"\",PS!H124)","v":""},null,{"$f":"IF(LP!A122=\"\",\"\",LP!B122)","v":""},{"$f":"IF(LP!A122=\"\",0,LP!C122)","v":0},null,{"$f":"IF(LP!E122=\"\",\"\",LP!F122)","v":""},{"$f":"IF(LP!E122=\"\",0,LP!G122)","v":0},null,{"$f":"IF(LP!I122=\"\",\"\",LP!J122)","v":""},{"$f":"IF(LP!I122=\"\",0,LP!K122)","v":0},null,{"$f":"IF(BPBPS!B122=\"\",\"\",BPBPS!C122)","v":""},{"$f":"IF(BPBPS!B122=\"\",0,BPBPS!D122)","v":0},null,{"$f":"IF(BPBPS!F122=\"\",\"\",BPBPS!G122)","v":""},{"$f":"IF(BPBPS!H122=\"\",0,BPBPS!H122)","v":0},null,{"$f":"IF(BPBPS!J122=\"\",\"\",BPBPS!K122)","v":""},{"$f":"IF(BPBPS!J122=\"\",0,BPBPS!L122)","v":0},null,{"$f":"IF(SSGP!B122=\"\",\"\",SSGP!C122)","v":""},{"$f":"IF(SSGP!B122=\"\",0,SSGP!D122)","v":0},null,{"$f":"IF(SSGP!F122=\"\",\"\",SSGP!G122)","v":""},{"$f":"IF(SSGP!F122=\"\",0,SSGP!H122)","v":0}]
[121,{"$f":"IF(WPP!B123=\"\",\"\",WPP!C123)","v":""},{"$f":"IF(WPP!B123=\"\",0,WPP!D123)","v":0},{"$f":"IF(WPP!B123=\"\",0,WPP!E123)","v":0},null,{"$f":"IF(WPP!G123=\"\",\"\",WPP!H123)","v":""},{"$f":"IF(WPP!G123=\"\",0,WPP!I123)","v":0},{"$f":"IF(WPP!G123=\"\",0,WPP!J123)","v":0},null,{"$f":"IF(KSP!B123=\"\",\"\",KSP!C123)","v":""},{"$f":"IF(KSP!B123=\"\",0,KSP!D123)","v":0},{"$f":"IF(KSP!B123=\"\",0,KSP!E123)","v":0},null,{"$f":"IF(KSP!G123=\"\",\"\",KSP!H123)","v":""},{"$f":"IF(KSP!G123=\"\",0,KSP!I123)","v":0},{"$f":"IF(KSP!G123=\"\",0,KSP!J123)","v":0},null,{"$f":"IF(FSP!B123=\"\",\"\",FSP!C123)","v":""},{"$f":"IF(FSP!B123=\"\",0,FSP!D123)","v":0},{"$f":"IF(FSP!B123=\"\",0,FSP!E123)","v":0},null,{"$f":"IF(FSP!G123=\"\",\"\",FSP!H123)","v":""},{"$f":"IF(FSP!G123=\"\",0,FSP!I123)","v":0},null,{"$f":"IF(PS!B125=\"\",\"\",PS!C125)","v":""},{"$f":"IF(PS!B125=\"\",\"\",PS!D125)","v":""},null,{"$f":"IF(PS!F125=\"\",\"\",PS!G125)","v":""},{"$f":"IF(PS!F125=\"\",\"\",PS!H125)","v":""},null,{"$f":"IF(LP!A123=\"\",\"\",LP!B123)","v":""},{"$f":"IF(LP!A123=\"\",0,LP!C123)","v":0},null,{"$f":"IF(LP!E123=\"\",\"\",LP!F123)","v":""},{"$f":"IF(LP!E123=\"\",0,LP!G123)","v":0},null,{"$f":"IF(LP!I123=\"\",\"\",LP!J123)","v":""},{"$f":"IF(LP!I123=\"\",0,LP!K123)","v":0},null,{"$f":"IF(BPBPS!B123=\"\",\"\",BPBPS!C123)","v":""},{"$f":"IF(BPBPS!B123=\"\",0,BPBPS!D123)","v":0},null,{"$f":"IF(BPBPS!F123=\"\",\"\",BPBPS!G123)","v":""},{"$f":"IF(BPBPS!H123=\"\",0,BPBPS!H123)","v":0},null,{"$f":"IF(BPBPS!J123=\"\",\"\",BPBPS!K123)","v":""},{"$f":"IF(BPBPS!J123=\"\",0,BPBPS!L123)","v":0},null,{"$f":"IF(SSGP!B123=\"\",\"\",SSGP!C123)","v":""},{"$f":"IF(SSGP!B123=\"\",0,SSGP!D123)","v":0},null,{"$f":"IF(SSGP!F123=\"\",\"\",SSGP!G123)","v":""},{"$f":"IF(SSGP!F123=\"\",0,SSGP!H123)","v":0}]
[122,{"$f":"IF(WPP!B124=\"\",\"\",WPP!C124)","v":""},{"$f":"IF(WPP!B124=\"\",0,WPP!D124)","v":0},{"$f":"IF(WPP!B124=\"\",0,WPP!E124)","v":0},null,{"$f":"IF(WPP!G124=\"\",\"\",WPP!H124)","v":""},{"$f":"IF(WPP!G124=\"\",0,WPP!I124)","v":0},{"$f":"IF(WPP!G124=\"\",0,WPP!J124)","v":0},null,{"$f":"IF(KSP!B124=\"\",\"\",KSP!C124)","v":""},{"$f":"IF(KSP!B124=\"\",0,KSP!D124)","v":0},{"$f":"IF(KSP!B124=\"\",0,KSP!E124)","v":0},null,{"$f":"IF(KSP!G124=\"\",\"\",KSP!H124)","v":""},{"$f":"IF(KSP!G124=\"\",0,KSP!I124)","v":0},{"$f":"IF(KSP!G124=\"\",0,KSP!J124)","v":0},null,{"$f":"IF(FSP!B124=\"\",\"\",FSP!C124)","v":""},{"$f":"IF(FSP!B124=\"\",0,FSP!D124)","v":0},{"$f":"IF(FSP!B124=\"\",0,FSP!E124)","v":0},null,{"$f":"IF(FSP!G124=\"\",\"\",FSP!H124)","v":""},{"$f":"IF(FSP!G124=\"\",0,FSP!I124)","v":0},null,{"$f":"IF(PS!B126=\"\",\"\",PS!C126)","v":""},{"$f":"IF(PS!B126=\"\",\"\",PS!D126)","v":""},null,{"$f":"IF(PS!F126=\"\",\"\",PS!G126)","v":""},{"$f":"IF(PS!F126=\"\",\"\",PS!H126)","v":""},null,{"$f":"IF(LP!A124=\"\",\"\",LP!B124)","v":""},{"$f":"IF(LP!A124=\"\",0,LP!C124)","v":0},null,{"$f":"IF(LP!E124=\"\",\"\",LP!F124)","v":""},{"$f":"IF(LP!E124=\"\",0,LP!G124)","v":0},null,{"$f":"IF(LP!I124=\"\",\"\",LP!J124)","v":""},{"$f":"IF(LP!I124=\"\",0,LP!K124)","v":0},null,{"$f":"IF(BPBPS!B124=\"\",\"\",BPBPS!C124)","v":""},{"$f":"IF(BPBPS!B124=\"\",0,BPBPS!D124)","v":0},null,{"$f":"IF(BPBPS!F124=\"\",\"\",BPBPS!G124)","v":""},{"$f":"IF(BPBPS!H124=\"\",0,BPBPS!H124)","v":0},null,{"$f":"IF(BPBPS!J124=\"\",\"\",BPBPS!K124)","v":""},{"$f":"IF(BPBPS!J124=\"\",0,BPBPS!L124)","v":0},null,{"$f":"IF(SSGP!B124=\"\",\"\",SSGP!C124)","v":""},{"$f":"IF(SSGP!B124=\"\",0,SSGP!D124)","v":0},null,{"$f":"IF(SSGP!F124=\"\",\"\",SSGP!G124)","v":""},{"$f":"IF(SSGP!F124=\"\",0,SSGP!H124)","v":0}]
[123,{"$f":"IF(WPP!B125=\"\",\"\",WPP!C125)","v":""},{"$f":"IF(WPP!B125=\"\",0,WPP!D125)","v":0},{"$f":"IF(WPP!B125=\"\",0,WPP!E125)","v":0},null,{"$f":"IF(WPP!G125=\"\",\"\",WPP!H125)","v":""},{"$f":"IF(WPP!G125=\"\",0,WPP!I125)","v":0},{"$f":"IF(WPP!G125=\"\",0,WPP!J125)","v":0},null,{"$f":"IF(KSP!B125=\"\",\"\",KSP!C125)","v":""},{"$f":"IF(KSP!B125=\"\",0,KSP!D125)","v":0},{"$f":"IF(KSP!B125=\"\",0,KSP!E125)","v":0},null,{"$f":"IF(KSP!G125=\"\",\"\",KSP!H125)","v":""},{"$f":"IF(KSP!G125=\"\",0,KSP!I125)","v":0},{"$f":"IF(KSP!G125=\"\",0,KSP!J125)","v":0},null,{"$f":"IF(FSP!B125=\"\",\"\",FSP!C125)","v":""},{"$f":"IF(FSP!B125=\"\",0,FSP!D125)","v":0},{"$f":"IF(FSP!B125=\"\",0,FSP!E125)","v":0},null,{"$f":"IF(FSP!G125=\"\",\"\",FSP!H125)","v":""},{"$f":"IF(FSP!G125=\"\",0,FSP!I125)","v":0},null,{"$f":"IF(PS!B127=\"\",\"\",PS!C127)","v":""},{"$f":"IF(PS!B127=\"\",\"\",PS!D127)","v":""},null,{"$f":"IF(PS!F127=\"\",\"\",PS!G127)","v":""},{"$f":"IF(PS!F127=\"\",\"\",PS!H127)","v":""},null,{"$f":"IF(LP!A125=\"\",\"\",LP!B125)","v":""},{"$f":"IF(LP!A125=\"\",0,LP!C125)","v":0},null,{"$f":"IF(LP!E125=\"\",\"\",LP!F125)","v":""},{"$f":"IF(LP!E125=\"\",0,LP!G125)","v":0},null,{"$f":"IF(LP!I125=\"\",\"\",LP!J125)","v":""},{"$f":"IF(LP!I125=\"\",0,LP!K125)","v":0},null,{"$f":"IF(BPBPS!B125=\"\",\"\",BPBPS!C125)","v":""},{"$f":"IF(BPBPS!B125=\"\",0,BPBPS!D125)","v":0},null,{"$f":"IF(BPBPS!F125=\"\",\"\",BPBPS!G125)","v":""},{"$f":"IF(BPBPS!H125=\"\",0,BPBPS!H125)","v":0},null,{"$f":"IF(BPBPS!J125=\"\",\"\",BPBPS!K125)","v":""},{"$f":"IF(BPBPS!J125=\"\",0,BPBPS!L125)","v":0},null,{"$f":"IF(SSGP!B125=\"\",\"\",SSGP!C125)","v":""},{"$f":"IF(SSGP!B125=\"\",0,SSGP!D125)","v":0},null,{"$f":"IF(SSGP!F125=\"\",\"\",SSGP!G125)","v":""},{"$f":"IF(SSGP!F125=\"\",0,SSGP!H125)","v":0}]
[124,{"$f":"IF(WPP!B126=\"\",\"\",WPP!C126)","v":""},{"$f":"IF(WPP!B126=\"\",0,WPP!D126)","v":0},{"$f":"IF(WPP!B126=\"\",0,WPP!E126)","v":0},null,{"$f":"IF(WPP!G126=\"\",\"\",WPP!H126)","v":""},{"$f":"IF(WPP!G126=\"\",0,WPP!I126)","v":0},{"$f":"IF(WPP!G126=\"\",0,WPP!J126)","v":0},null,{"$f":"IF(KSP!B126=\"\",\"\",KSP!C126)","v":""},{"$f":"IF(KSP!B126=\"\",0,KSP!D126)","v":0},{"$f":"IF(KSP!B126=\"\",0,KSP!E126)","v":0},null,{"$f":"IF(KSP!G126=\"\",\"\",KSP!H126)","v":""},{"$f":"IF(KSP!G126=\"\",0,KSP!I126)","v":0},{"$f":"IF(KSP!G126=\"\",0,KSP!J126)","v":0},null,{"$f":"IF(FSP!B126=\"\",\"\",FSP!C126)","v":""},{"$f":"IF(FSP!B126=\"\",0,FSP!D126)","v":0},{"$f":"IF(FSP!B126=\"\",0,FSP!E126)","v":0},null,{"$f":"IF(FSP!G126=\"\",\"\",FSP!H126)","v":""},{"$f":"IF(FSP!G126=\"\",0,FSP!I126)","v":0},null,{"$f":"IF(PS!B128=\"\",\"\",PS!C128)","v":""},{"$f":"IF(PS!B128=\"\",\"\",PS!D128)","v":""},null,{"$f":"IF(PS!F128=\"\",\"\",PS!G128)","v":""},{"$f":"IF(PS!F128=\"\",\"\",PS!H128)","v":""},null,{"$f":"IF(LP!A126=\"\",\"\",LP!B126)","v":""},{"$f":"IF(LP!A126=\"\",0,LP!C126)","v":0},null,{"$f":"IF(LP!E126=\"\",\"\",LP!F126)","v":""},{"$f":"IF(LP!E126=\"\",0,LP!G126)","v":0},null,{"$f":"IF(LP!I126=\"\",\"\",LP!J126)","v":""},{"$f":"IF(LP!I126=\"\",0,LP!K126)","v":0},null,{"$f":"IF(BPBPS!B126=\"\",\"\",BPBPS!C126)","v":""},{"$f":"IF(BPBPS!B126=\"\",0,BPBPS!D126)","v":0},null,{"$f":"IF(BPBPS!F126=\"\",\"\",BPBPS!G126)","v":""},{"$f":"IF(BPBPS!H126=\"\",0,BPBPS!H126)","v":0},null,{"$f":"IF(BPBPS!J126=\"\",\"\",BPBPS!K126)","v":""},{"$f":"IF(BPBPS!J126=\"\",0,BPBPS!L126)","v":0},null,{"$f":"IF(SSGP!B126=\"\",\"\",SSGP!C126)","v":""},{"$f":"IF(SSGP!B126=\"\",0,SSGP!D126)","v":0},null,{"$f":"IF(SSGP!F126=\"\",\"\",SSGP!G126)","v":""},{"$f":"IF(SSGP!F126=\"\",0,SSGP!H126)","v":0}]
[125,{"$f":"IF(WPP!B127=\"\",\"\",WPP!C127)","v":""},{"$f":"IF(WPP!B127=\"\",0,WPP!D127)","v":0},{"$f":"IF(WPP!B127=\"\",0,WPP!E127)","v":0},null,{"$f":"IF(WPP!G127=\"\",\"\",WPP!H127)","v":""},{"$f":"IF(WPP!G127=\"\",0,WPP!I127)","v":0},{"$f":"IF(WPP!G127=\"\",0,WPP!J127)","v":0},null,{"$f":"IF(KSP!B127=\"\",\"\",KSP!C127)","v":""},{"$f":"IF(KSP!B127=\"\",0,KSP!D127)","v":0},{"$f":"IF(KSP!B127=\"\",0,KSP!E127)","v":0},null,{"$f":"IF(KSP!G127=\"\",\"\",KSP!H127)","v":""},{"$f":"IF(KSP!G127=\"\",0,KSP!I127)","v":0},{"$f":"IF(KSP!G127=\"\",0,KSP!J127)","v":0},null,{"$f":"IF(FSP!B127=\"\",\"\",FSP!C127)","v":""},{"$f":"IF(FSP!B127=\"\",0,FSP!D127)","v":0},{"$f":"IF(FSP!B127=\"\",0,FSP!E127)","v":0},null,{"$f":"IF(FSP!G127=\"\",\"\",FSP!H127)","v":""},{"$f":"IF(FSP!G127=\"\",0,FSP!I127)","v":0},null,{"$f":"IF(PS!B129=\"\",\"\",PS!C129)","v":""},{"$f":"IF(PS!B129=\"\",\"\",PS!D129)","v":""},null,{"$f":"IF(PS!F129=\"\",\"\",PS!G129)","v":""},{"$f":"IF(PS!F129=\"\",\"\",PS!H129)","v":""},null,{"$f":"IF(LP!A127=\"\",\"\",LP!B127)","v":""},{"$f":"IF(LP!A127=\"\",0,LP!C127)","v":0},null,{"$f":"IF(LP!E127=\"\",\"\",LP!F127)","v":""},{"$f":"IF(LP!E127=\"\",0,LP!G127)","v":0},null,{"$f":"IF(LP!I127=\"\",\"\",LP!J127)","v":""},{"$f":"IF(LP!I127=\"\",0,LP!K127)","v":0},null,{"$f":"IF(BPBPS!B127=\"\",\"\",BPBPS!C127)","v":""},{"$f":"IF(BPBPS!B127=\"\",0,BPBPS!D127)","v":0},null,{"$f":"IF(BPBPS!F127=\"\",\"\",BPBPS!G127)","v":""},{"$f":"IF(BPBPS!H127=\"\",0,BPBPS!H127)","v":0},null,{"$f":"IF(BPBPS!J127=\"\",\"\",BPBPS!K127)","v":""},{"$f":"IF(BPBPS!J127=\"\",0,BPBPS!L127)","v":0},null,{"$f":"IF(SSGP!B127=\"\",\"\",SSGP!C127)","v":""},{"$f":"IF(SSGP!B127=\"\",0,SSGP!D127)","v":0},null,{"$f":"IF(SSGP!F127=\"\",\"\",SSGP!G127)","v":""},{"$f":"IF(SSGP!F127=\"\",0,SSGP!H127)","v":0}]
[126,{"$f":"IF(WPP!B128=\"\",\"\",WPP!C128)","v":""},{"$f":"IF(WPP!B128=\"\",0,WPP!D128)","v":0},{"$f":"IF(WPP!B128=\"\",0,WPP!E128)","v":0},null,{"$f":"IF(WPP!G128=\"\",\"\",WPP!H128)","v":""},{"$f":"IF(WPP!G128=\"\",0,WPP!I128)","v":0},{"$f":"IF(WPP!G128=\"\",0,WPP!J128)","v":0},null,{"$f":"IF(KSP!B128=\"\",\"\",KSP!C128)","v":""},{"$f":"IF(KSP!B128=\"\",0,KSP!D128)","v":0},{"$f":"IF(KSP!B128=\"\",0,KSP!E128)","v":0},null,{"$f":"IF(KSP!G128=\"\",\"\",KSP!H128)","v":""},{"$f":"IF(KSP!G128=\"\",0,KSP!I128)","v":0},{"$f":"IF(KSP!G128=\"\",0,KSP!J128)","v":0},null,{"$f":"IF(FSP!B128=\"\",\"\",FSP!C128)","v":""},{"$f":"IF(FSP!B128=\"\",0,FSP!D128)","v":0},{"$f":"IF(FSP!B128=\"\",0,FSP!E128)","v":0},null,{"$f":"IF(FSP!G128=\"\",\"\",FSP!H128)","v":""},{"$f":"IF(FSP!G128=\"\",0,FSP!I128)","v":0},null,{"$f":"IF(PS!B130=\"\",\"\",PS!C130)","v":""},{"$f":"IF(PS!B130=\"\",\"\",PS!D130)","v":""},null,{"$f":"IF(PS!F130=\"\",\"\",PS!G130)","v":""},{"$f":"IF(PS!F130=\"\",\"\",PS!H130)","v":""},null,{"$f":"IF(LP!A128=\"\",\"\",LP!B128)","v":""},{"$f":"IF(LP!A128=\"\",0,LP!C128)","v":0},null,{"$f":"IF(LP!E128=\"\",\"\",LP!F128)","v":""},{"$f":"IF(LP!E128=\"\",0,LP!G128)","v":0},null,{"$f":"IF(LP!I128=\"\",\"\",LP!J128)","v":""},{"$f":"IF(LP!I128=\"\",0,LP!K128)","v":0},null,{"$f":"IF(BPBPS!B128=\"\",\"\",BPBPS!C128)","v":""},{"$f":"IF(BPBPS!B128=\"\",0,BPBPS!D128)","v":0},null,{"$f":"IF(BPBPS!F128=\"\",\"\",BPBPS!G128)","v":""},{"$f":"IF(BPBPS!H128=\"\",0,BPBPS!H128)","v":0},null,{"$f":"IF(BPBPS!J128=\"\",\"\",BPBPS!K128)","v":""},{"$f":"IF(BPBPS!J128=\"\",0,BPBPS!L128)","v":0},null,{"$f":"IF(SSGP!B128=\"\",\"\",SSGP!C128)","v":""},{"$f":"IF(SSGP!B128=\"\",0,SSGP!D128)","v":0},null,{"$f":"IF(SSGP!F128=\"\",\"\",SSGP!G128)","v":""},{"$f":"IF(SSGP!F128=\"\",0,SSGP!H128)","v":0}]
[127,{"$f":"IF(WPP!B129=\"\",\"\",WPP!C129)","v":""},{"$f":"IF(WPP!B129=\"\",0,WPP!D129)","v":0},{"$f":"IF(WPP!B129=\"\",0,WPP!E129)","v":0},null,{"$f":"IF(WPP!G129=\"\",\"\",WPP!H129)","v":""},{"$f":"IF(WPP!G129=\"\",0,WPP!I129)","v":0},{"$f":"IF(WPP!G129=\"\",0,WPP!J129)","v":0},null,{"$f":"IF(KSP!B129=\"\",\"\",KSP!C129)","v":""},{"$f":"IF(KSP!B129=\"\",0,KSP!D129)","v":0},{"$f":"IF(KSP!B129=\"\",0,KSP!E129)","v":0},null,{"$f":"IF(KSP!G129=\"\",\"\",KSP!H129)","v":""},{"$f":"IF(KSP!G129=\"\",0,KSP!I129)","v":0},{"$f":"IF(KSP!G129=\"\",0,KSP!J129)","v":0},null,{"$f":"IF(FSP!B129=\"\",\"\",FSP!C129)","v":""},{"$f":"IF(FSP!B129=\"\",0,FSP!D129)","v":0},{"$f":"IF(FSP!B129=\"\",0,FSP!E129)","v":0},null,{"$f":"IF(FSP!G129=\"\",\"\",FSP!H129)","v":""},{"$f":"IF(FSP!G129=\"\",0,FSP!I129)","v":0},null,{"$f":"IF(PS!B131=\"\",\"\",PS!C131)","v":""},{"$f":"IF(PS!B131=\"\",\"\",PS!D131)","v":""},null,{"$f":"IF(PS!F131=\"\",\"\",PS!G131)","v":""},{"$f":"IF(PS!F131=\"\",\"\",PS!H131)","v":""},null,{"$f":"IF(LP!A129=\"\",\"\",LP!B129)","v":""},{"$f":"IF(LP!A129=\"\",0,LP!C129)","v":0},null,{"$f":"IF(LP!E129=\"\",\"\",LP!F129)","v":""},{"$f":"IF(LP!E129=\"\",0,LP!G129)","v":0},null,{"$f":"IF(LP!I129=\"\",\"\",LP!J129)","v":""},{"$f":"IF(LP!I129=\"\",0,LP!K129)","v":0},null,{"$f":"IF(BPBPS!B129=\"\",\"\",BPBPS!C129)","v":""},{"$f":"IF(BPBPS!B129=\"\",0,BPBPS!D129)","v":0},null,{"$f":"IF(BPBPS!F129=\"\",\"\",BPBPS!G129)","v":""},{"$f":"IF(BPBPS!H129=\"\",0,BPBPS!H129)","v":0},null,{"$f":"IF(BPBPS!J129=\"\",\"\",BPBPS!K129)","v":""},{"$f":"IF(BPBPS!J129=\"\",0,BPBPS!L129)","v":0},null,{"$f":"IF(SSGP!B129=\"\",\"\",SSGP!C129)","v":""},{"$f":"IF(SSGP!B129=\"\",0,SSGP!D129)","v":0},null,{"$f":"IF(SSGP!F129=\"\",\"\",SSGP!G129)","v":""},{"$f":"IF(SSGP!F129=\"\",0,SSGP!H129)","v":0}]
[128,{"$f":"IF(WPP!B130=\"\",\"\",WPP!C130)","v":""},{"$f":"IF(WPP!B130=\"\",0,WPP!D130)","v":0},{"$f":"IF(WPP!B130=\"\",0,WPP!E130)","v":0},null,{"$f":"IF(WPP!G130=\"\",\"\",WPP!H130)","v":""},{"$f":"IF(WPP!G130=\"\",0,WPP!I130)","v":0},{"$f":"IF(WPP!G130=\"\",0,WPP!J130)","v":0},null,{"$f":"IF(KSP!B130=\"\",\"\",KSP!C130)","v":""},{"$f":"IF(KSP!B130=\"\",0,KSP!D130)","v":0},{"$f":"IF(KSP!B130=\"\",0,KSP!E130)","v":0},null,{"$f":"IF(KSP!G130=\"\",\"\",KSP!H130)","v":""},{"$f":"IF(KSP!G130=\"\",0,KSP!I130)","v":0},{"$f":"IF(KSP!G130=\"\",0,KSP!J130)","v":0},null,{"$f":"IF(FSP!B130=\"\",\"\",FSP!C130)","v":""},{"$f":"IF(FSP!B130=\"\",0,FSP!D130)","v":0},{"$f":"IF(FSP!B130=\"\",0,FSP!E130)","v":0},null,{"$f":"IF(FSP!G130=\"\",\"\",FSP!H130)","v":""},{"$f":"IF(FSP!G130=\"\",0,FSP!I130)","v":0},null,{"$f":"IF(PS!B132=\"\",\"\",PS!C132)","v":""},{"$f":"IF(PS!B132=\"\",\"\",PS!D132)","v":""},null,{"$f":"IF(PS!F132=\"\",\"\",PS!G132)","v":""},{"$f":"IF(PS!F132=\"\",\"\",PS!H132)","v":""},null,{"$f":"IF(LP!A130=\"\",\"\",LP!B130)","v":""},{"$f":"IF(LP!A130=\"\",0,LP!C130)","v":0},null,{"$f":"IF(LP!E130=\"\",\"\",LP!F130)","v":""},{"$f":"IF(LP!E130=\"\",0,LP!G130)","v":0},null,{"$f":"IF(LP!I130=\"\",\"\",LP!J130)","v":""},{"$f":"IF(LP!I130=\"\",0,LP!K130)","v":0},null,{"$f":"IF(BPBPS!B130=\"\",\"\",BPBPS!C130)","v":""},{"$f":"IF(BPBPS!B130=\"\",0,BPBPS!D130)","v":0},null,{"$f":"IF(BPBPS!F130=\"\",\"\",BPBPS!G130)","v":""},{"$f":"IF(BPBPS!H130=\"\",0,BPBPS!H130)","v":0},null,{"$f":"IF(BPBPS!J130=\"\",\"\",BPBPS!K130)","v":""},{"$f":"IF(BPBPS!J130=\"\",0,BPBPS!L130)","v":0},null,{"$f":"IF(SSGP!B130=\"\",\"\",SSGP!C130)","v":""},{"$f":"IF(SSGP!B130=\"\",0,SSGP!D130)","v":0},null,{"$f":"IF(SSGP!F130=\"\",\"\",SSGP!G130)","v":""},{"$f":"IF(SSGP!F130=\"\",0,SSGP!H130)","v":0}]
[129,{"$f":"IF(WPP!B131=\"\",\"\",WPP!C131)","v":""},{"$f":"IF(WPP!B131=\"\",0,WPP!D131)","v":0},{"$f":"IF(WPP!B131=\"\",0,WPP!E131)","v":0},null,{"$f":"IF(WPP!G131=\"\",\"\",WPP!H131)","v":""},{"$f":"IF(WPP!G131=\"\",0,WPP!I131)","v":0},{"$f":"IF(WPP!G131=\"\",0,WPP!J131)","v":0},null,{"$f":"IF(KSP!B131=\"\",\"\",KSP!C131)","v":""},{"$f":"IF(KSP!B131=\"\",0,KSP!D131)","v":0},{"$f":"IF(KSP!B131=\"\",0,KSP!E131)","v":0},null,{"$f":"IF(KSP!G131=\"\",\"\",KSP!H131)","v":""},{"$f":"IF(KSP!G131=\"\",0,KSP!I131)","v":0},{"$f":"IF(KSP!G131=\"\",0,KSP!J131)","v":0},null,{"$f":"IF(FSP!B131=\"\",\"\",FSP!C131)","v":""},{"$f":"IF(FSP!B131=\"\",0,FSP!D131)","v":0},{"$f":"IF(FSP!B131=\"\",0,FSP!E131)","v":0},null,{"$f":"IF(FSP!G131=\"\",\"\",FSP!H131)","v":""},{"$f":"IF(FSP!G131=\"\",0,FSP!I131)","v":0},null,{"$f":"IF(PS!B133=\"\",\"\",PS!C133)","v":""},{"$f":"IF(PS!B133=\"\",\"\",PS!D133)","v":""},null,{"$f":"IF(PS!F133=\"\",\"\",PS!G133)","v":""},{"$f":"IF(PS!F133=\"\",\"\",PS!H133)","v":""},null,{"$f":"IF(LP!A131=\"\",\"\",LP!B131)","v":""},{"$f":"IF(LP!A131=\"\",0,LP!C131)","v":0},null,{"$f":"IF(LP!E131=\"\",\"\",LP!F131)","v":""},{"$f":"IF(LP!E131=\"\",0,LP!G131)","v":0},null,{"$f":"IF(LP!I131=\"\",\"\",LP!J131)","v":""},{"$f":"IF(LP!I131=\"\",0,LP!K131)","v":0},null,{"$f":"IF(BPBPS!B131=\"\",\"\",BPBPS!C131)","v":""},{"$f":"IF(BPBPS!B131=\"\",0,BPBPS!D131)","v":0},null,{"$f":"IF(BPBPS!F131=\"\",\"\",BPBPS!G131)","v":""},{"$f":"IF(BPBPS!H131=\"\",0,BPBPS!H131)","v":0},null,{"$f":"IF(BPBPS!J131=\"\",\"\",BPBPS!K131)","v":""},{"$f":"IF(BPBPS!J131=\"\",0,BPBPS!L131)","v":0},null,{"$f":"IF(SSGP!B131=\"\",\"\",SSGP!C131)","v":""},{"$f":"IF(SSGP!B131=\"\",0,SSGP!D131)","v":0},null,{"$f":"IF(SSGP!F131=\"\",\"\",SSGP!G131)","v":""},{"$f":"IF(SSGP!F131=\"\",0,SSGP!H131)","v":0}]
[130,{"$f":"IF(WPP!B132=\"\",\"\",WPP!C132)","v":""},{"$f":"IF(WPP!B132=\"\",0,WPP!D132)","v":0},{"$f":"IF(WPP!B132=\"\",0,WPP!E132)","v":0},null,{"$f":"IF(WPP!G132=\"\",\"\",WPP!H132)","v":""},{"$f":"IF(WPP!G132=\"\",0,WPP!I132)","v":0},{"$f":"IF(WPP!G132=\"\",0,WPP!J132)","v":0},null,{"$f":"IF(KSP!B132=\"\",\"\",KSP!C132)","v":""},{"$f":"IF(KSP!B132=\"\",0,KSP!D132)","v":0},{"$f":"IF(KSP!B132=\"\",0,KSP!E132)","v":0},null,{"$f":"IF(KSP!G132=\"\",\"\",KSP!H132)","v":""},{"$f":"IF(KSP!G132=\"\",0,KSP!I132)","v":0},{"$f":"IF(KSP!G132=\"\",0,KSP!J132)","v":0},null,{"$f":"IF(FSP!B132=\"\",\"\",FSP!C132)","v":""},{"$f":"IF(FSP!B132=\"\",0,FSP!D132)","v":0},{"$f":"IF(FSP!B132=\"\",0,FSP!E132)","v":0},null,{"$f":"IF(FSP!G132=\"\",\"\",FSP!H132)","v":""},{"$f":"IF(FSP!G132=\"\",0,FSP!I132)","v":0},null,{"$f":"IF(PS!B134=\"\",\"\",PS!C134)","v":""},{"$f":"IF(PS!B134=\"\",\"\",PS!D134)","v":""},null,{"$f":"IF(PS!F134=\"\",\"\",PS!G134)","v":""},{"$f":"IF(PS!F134=\"\",\"\",PS!H134)","v":""},null,{"$f":"IF(LP!A132=\"\",\"\",LP!B132)","v":""},{"$f":"IF(LP!A132=\"\",0,LP!C132)","v":0},null,{"$f":"IF(LP!E132=\"\",\"\",LP!F132)","v":""},{"$f":"IF(LP!E132=\"\",0,LP!G132)","v":0},null,{"$f":"IF(LP!I132=\"\",\"\",LP!J132)","v":""},{"$f":"IF(LP!I132=\"\",0,LP!K132)","v":0},null,{"$f":"IF(BPBPS!B132=\"\",\"\",BPBPS!C132)","v":""},{"$f":"IF(BPBPS!B132=\"\",0,BPBPS!D132)","v":0},null,{"$f":"IF(BPBPS!F132=\"\",\"\",BPBPS!G132)","v":""},{"$f":"IF(BPBPS!H132=\"\",0,BPBPS!H132)","v":0},null,{"$f":"IF(BPBPS!J132=\"\",\"\",BPBPS!K132)","v":""},{"$f":"IF(BPBPS!J132=\"\",0,BPBPS!L132)","v":0},null,{"$f":"IF(SSGP!B132=\"\",\"\",SSGP!C132)","v":""},{"$f":"IF(SSGP!B132=\"\",0,SSGP!D132)","v":0},null,{"$f":"IF(SSGP!F132=\"\",\"\",SSGP!G132)","v":""},{"$f":"IF(SSGP!F132=\"\",0,SSGP!H132)","v":0}]
[131,{"$f":"IF(WPP!B133=\"\",\"\",WPP!C133)","v":""},{"$f":"IF(WPP!B133=\"\",0,WPP!D133)","v":0},{"$f":"IF(WPP!B133=\"\",0,WPP!E133)","v":0},null,{"$f":"IF(WPP!G133=\"\",\"\",WPP!H133)","v":""},{"$f":"IF(WPP!G133=\"\",0,WPP!I133)","v":0},{"$f":"IF(WPP!G133=\"\",0,WPP!J133)","v":0},null,{"$f":"IF(KSP!B133=\"\",\"\",KSP!C133)","v":""},{"$f":"IF(KSP!B133=\"\",0,KSP!D133)","v":0},{"$f":"IF(KSP!B133=\"\",0,KSP!E133)","v":0},null,{"$f":"IF(KSP!G133=\"\",\"\",KSP!H133)","v":""},{"$f":"IF(KSP!G133=\"\",0,KSP!I133)","v":0},{"$f":"IF(KSP!G133=\"\",0,KSP!J133)","v":0},null,{"$f":"IF(FSP!B133=\"\",\"\",FSP!C133)","v":""},{"$f":"IF(FSP!B133=\"\",0,FSP!D133)","v":0},{"$f":"IF(FSP!B133=\"\",0,FSP!E133)","v":0},null,{"$f":"IF(FSP!G133=\"\",\"\",FSP!H133)","v":""},{"$f":"IF(FSP!G133=\"\",0,FSP!I133)","v":0},null,{"$f":"IF(PS!B135=\"\",\"\",PS!C135)","v":""},{"$f":"IF(PS!B135=\"\",\"\",PS!D135)","v":""},null,{"$f":"IF(PS!F135=\"\",\"\",PS!G135)","v":""},{"$f":"IF(PS!F135=\"\",\"\",PS!H135)","v":""},null,{"$f":"IF(LP!A133=\"\",\"\",LP!B133)","v":""},{"$f":"IF(LP!A133=\"\",0,LP!C133)","v":0},null,{"$f":"IF(LP!E133=\"\",\"\",LP!F133)","v":""},{"$f":"IF(LP!E133=\"\",0,LP!G133)","v":0},null,{"$f":"IF(LP!I133=\"\",\"\",LP!J133)","v":""},{"$f":"IF(LP!I133=\"\",0,LP!K133)","v":0},null,{"$f":"IF(BPBPS!B133=\"\",\"\",BPBPS!C133)","v":""},{"$f":"IF(BPBPS!B133=\"\",0,BPBPS!D133)","v":0},null,{"$f":"IF(BPBPS!F133=\"\",\"\",BPBPS!G133)","v":""},{"$f":"IF(BPBPS!H133=\"\",0,BPBPS!H133)","v":0},null,{"$f":"IF(BPBPS!J133=\"\",\"\",BPBPS!K133)","v":""},{"$f":"IF(BPBPS!J133=\"\",0,BPBPS!L133)","v":0},null,{"$f":"IF(SSGP!B133=\"\",\"\",SSGP!C133)","v":""},{"$f":"IF(SSGP!B133=\"\",0,SSGP!D133)","v":0},null,{"$f":"IF(SSGP!F133=\"\",\"\",SSGP!G133)","v":""},{"$f":"IF(SSGP!F133=\"\",0,SSGP!H133)","v":0}]
[132,{"$f":"IF(WPP!B134=\"\",\"\",WPP!C134)","v":""},{"$f":"IF(WPP!B134=\"\",0,WPP!D134)","v":0},{"$f":"IF(WPP!B134=\"\",0,WPP!E134)","v":0},null,{"$f":"IF(WPP!G134=\"\",\"\",WPP!H134)","v":""},{"$f":"IF(WPP!G134=\"\",0,WPP!I134)","v":0},{"$f":"IF(WPP!G134=\"\",0,WPP!J134)","v":0},null,{"$f":"IF(KSP!B134=\"\",\"\",KSP!C134)","v":""},{"$f":"IF(KSP!B134=\"\",0,KSP!D134)","v":0},{"$f":"IF(KSP!B134=\"\",0,KSP!E134)","v":0},null,{"$f":"IF(KSP!G134=\"\",\"\",KSP!H134)","v":""},{"$f":"IF(KSP!G134=\"\",0,KSP!I134)","v":0},{"$f":"IF(KSP!G134=\"\",0,KSP!J134)","v":0},null,{"$f":"IF(FSP!B134=\"\",\"\",FSP!C134)","v":""},{"$f":"IF(FSP!B134=\"\",0,FSP!D134)","v":0},{"$f":"IF(FSP!B134=\"\",0,FSP!E134)","v":0},null,{"$f":"IF(FSP!G134=\"\",\"\",FSP!H134)","v":""},{"$f":"IF(FSP!G134=\"\",0,FSP!I134)","v":0},null,{"$f":"IF(PS!B136=\"\",\"\",PS!C136)","v":""},{"$f":"IF(PS!B136=\"\",\"\",PS!D136)","v":""},null,{"$f":"IF(PS!F136=\"\",\"\",PS!G136)","v":""},{"$f":"IF(PS!F136=\"\",\"\",PS!H136)","v":""},null,{"$f":"IF(LP!A134=\"\",\"\",LP!B134)","v":""},{"$f":"IF(LP!A134=\"\",0,LP!C134)","v":0},null,{"$f":"IF(LP!E134=\"\",\"\",LP!F134)","v":""},{"$f":"IF(LP!E134=\"\",0,LP!G134)","v":0},null,{"$f":"IF(LP!I134=\"\",\"\",LP!J134)","v":""},{"$f":"IF(LP!I134=\"\",0,LP!K134)","v":0},null,{"$f":"IF(BPBPS!B134=\"\",\"\",BPBPS!C134)","v":""},{"$f":"IF(BPBPS!B134=\"\",0,BPBPS!D134)","v":0},null,{"$f":"IF(BPBPS!F134=\"\",\"\",BPBPS!G134)","v":""},{"$f":"IF(BPBPS!H134=\"\",0,BPBPS!H134)","v":0},null,{"$f":"IF(BPBPS!J134=\"\",\"\",BPBPS!K134)","v":""},{"$f":"IF(BPBPS!J134=\"\",0,BPBPS!L134)","v":0},null,{"$f":"IF(SSGP!B134=\"\",\"\",SSGP!C134)","v":""},{"$f":"IF(SSGP!B134=\"\",0,SSGP!D134)","v":0},null,{"$f":"IF(SSGP!F134=\"\",\"\",SSGP!G134)","v":""},{"$f":"IF(SSGP!F134=\"\",0,SSGP!H134)","v":0}]
[133,{"$f":"IF(WPP!B135=\"\",\"\",WPP!C135)","v":""},{"$f":"IF(WPP!B135=\"\",0,WPP!D135)","v":0},{"$f":"IF(WPP!B135=\"\",0,WPP!E135)","v":0},null,{"$f":"IF(WPP!G135=\"\",\"\",WPP!H135)","v":""},{"$f":"IF(WPP!G135=\"\",0,WPP!I135)","v":0},{"$f":"IF(WPP!G135=\"\",0,WPP!J135)","v":0},null,{"$f":"IF(KSP!B135=\"\",\"\",KSP!C135)","v":""},{"$f":"IF(KSP!B135=\"\",0,KSP!D135)","v":0},{"$f":"IF(KSP!B135=\"\",0,KSP!E135)","v":0},null,{"$f":"IF(KSP!G135=\"\",\"\",KSP!H135)","v":""},{"$f":"IF(KSP!G135=\"\",0,KSP!I135)","v":0},{"$f":"IF(KSP!G135=\"\",0,KSP!J135)","v":0},null,{"$f":"IF(FSP!B135=\"\",\"\",FSP!C135)","v":""},{"$f":"IF(FSP!B135=\"\",0,FSP!D135)","v":0},{"$f":"IF(FSP!B135=\"\",0,FSP!E135)","v":0},null,{"$f":"IF(FSP!G135=\"\",\"\",FSP!H135)","v":""},{"$f":"IF(FSP!G135=\"\",0,FSP!I135)","v":0},null,{"$f":"IF(PS!B137=\"\",\"\",PS!C137)","v":""},{"$f":"IF(PS!B137=\"\",\"\",PS!D137)","v":""},null,{"$f":"IF(PS!F137=\"\",\"\",PS!G137)","v":""},{"$f":"IF(PS!F137=\"\",\"\",PS!H137)","v":""},null,{"$f":"IF(LP!A135=\"\",\"\",LP!B135)","v":""},{"$f":"IF(LP!A135=\"\",0,LP!C135)","v":0},null,{"$f":"IF(LP!E135=\"\",\"\",LP!F135)","v":""},{"$f":"IF(LP!E135=\"\",0,LP!G135)","v":0},null,{"$f":"IF(LP!I135=\"\",\"\",LP!J135)","v":""},{"$f":"IF(LP!I135=\"\",0,LP!K135)","v":0},null,{"$f":"IF(BPBPS!B135=\"\",\"\",BPBPS!C135)","v":""},{"$f":"IF(BPBPS!B135=\"\",0,BPBPS!D135)","v":0},null,{"$f":"IF(BPBPS!F135=\"\",\"\",BPBPS!G135)","v":""},{"$f":"IF(BPBPS!H135=\"\",0,BPBPS!H135)","v":0},null,{"$f":"IF(BPBPS!J135=\"\",\"\",BPBPS!K135)","v":""},{"$f":"IF(BPBPS!J135=\"\",0,BPBPS!L135)","v":0},null,{"$f":"IF(SSGP!B135=\"\",\"\",SSGP!C135)","v":""},{"$f":"IF(SSGP!B135=\"\",0,SSGP!D135)","v":0},null,{"$f":"IF(SSGP!F135=\"\",\"\",SSGP!G135)","v":""},{"$f":"IF(SSGP!F135=\"\",0,SSGP!H135)","v":0}]
[134,{"$f":"IF(WPP!B136=\"\",\"\",WPP!C136)","v":""},{"$f":"IF(WPP!B136=\"\",0,WPP!D136)","v":0},{"$f":"IF(WPP!B136=\"\",0,WPP!E136)","v":0},null,{"$f":"IF(WPP!G136=\"\",\"\",WPP!H136)","v":""},{"$f":"IF(WPP!G136=\"\",0,WPP!I136)","v":0},{"$f":"IF(WPP!G136=\"\",0,WPP!J136)","v":0},null,{"$f":"IF(KSP!B136=\"\",\"\",KSP!C136)","v":""},{"$f":"IF(KSP!B136=\"\",0,KSP!D136)","v":0},{"$f":"IF(KSP!B136=\"\",0,KSP!E136)","v":0},null,{"$f":"IF(KSP!G136=\"\",\"\",KSP!H136)","v":""},{"$f":"IF(KSP!G136=\"\",0,KSP!I136)","v":0},{"$f":"IF(KSP!G136=\"\",0,KSP!J136)","v":0},null,{"$f":"IF(FSP!B136=\"\",\"\",FSP!C136)","v":""},{"$f":"IF(FSP!B136=\"\",0,FSP!D136)","v":0},{"$f":"IF(FSP!B136=\"\",0,FSP!E136)","v":0},null,{"$f":"IF(FSP!G136=\"\",\"\",FSP!H136)","v":""},{"$f":"IF(FSP!G136=\"\",0,FSP!I136)","v":0},null,{"$f":"IF(PS!B138=\"\",\"\",PS!C138)","v":""},{"$f":"IF(PS!B138=\"\",\"\",PS!D138)","v":""},null,{"$f":"IF(PS!F138=\"\",\"\",PS!G138)","v":""},{"$f":"IF(PS!F138=\"\",\"\",PS!H138)","v":""},null,{"$f":"IF(LP!A136=\"\",\"\",LP!B136)","v":""},{"$f":"IF(LP!A136=\"\",0,LP!C136)","v":0},null,{"$f":"IF(LP!E136=\"\",\"\",LP!F136)","v":""},{"$f":"IF(LP!E136=\"\",0,LP!G136)","v":0},null,{"$f":"IF(LP!I136=\"\",\"\",LP!J136)","v":""},{"$f":"IF(LP!I136=\"\",0,LP!K136)","v":0},null,{"$f":"IF(BPBPS!B136=\"\",\"\",BPBPS!C136)","v":""},{"$f":"IF(BPBPS!B136=\"\",0,BPBPS!D136)","v":0},null,{"$f":"IF(BPBPS!F136=\"\",\"\",BPBPS!G136)","v":""},{"$f":"IF(BPBPS!H136=\"\",0,BPBPS!H136)","v":0},null,{"$f":"IF(BPBPS!J136=\"\",\"\",BPBPS!K136)","v":""},{"$f":"IF(BPBPS!J136=\"\",0,BPBPS!L136)","v":0},null,{"$f":"IF(SSGP!B136=\"\",\"\",SSGP!C136)","v":""},{"$f":"IF(SSGP!B136=\"\",0,SSGP!D136)","v":0},null,{"$f":"IF(SSGP!F136=\"\",\"\",SSGP!G136)","v":""},{"$f":"IF(SSGP!F136=\"\",0,SSGP!H136)","v":0}]
[135,{"$f":"IF(WPP!B137=\"\",\"\",WPP!C137)","v":""},{"$f":"IF(WPP!B137=\"\",0,WPP!D137)","v":0},{"$f":"IF(WPP!B137=\"\",0,WPP!E137)","v":0},null,{"$f":"IF(WPP!G137=\"\",\"\",WPP!H137)","v":""},{"$f":"IF(WPP!G137=\"\",0,WPP!I137)","v":0},{"$f":"IF(WPP!G137=\"\",0,WPP!J137)","v":0},null,{"$f":"IF(KSP!B137=\"\",\"\",KSP!C137)","v":""},{"$f":"IF(KSP!B137=\"\",0,KSP!D137)","v":0},{"$f":"IF(KSP!B137=\"\",0,KSP!E137)","v":0},null,{"$f":"IF(KSP!G137=\"\",\"\",KSP!H137)","v":""},{"$f":"IF(KSP!G137=\"\",0,KSP!I137)","v":0},{"$f":"IF(KSP!G137=\"\",0,KSP!J137)","v":0},null,{"$f":"IF(FSP!B137=\"\",\"\",FSP!C137)","v":""},{"$f":"IF(FSP!B137=\"\",0,FSP!D137)","v":0},{"$f":"IF(FSP!B137=\"\",0,FSP!E137)","v":0},null,{"$f":"IF(FSP!G137=\"\",\"\",FSP!H137)","v":""},{"$f":"IF(FSP!G137=\"\",0,FSP!I137)","v":0},null,{"$f":"IF(PS!B139=\"\",\"\",PS!C139)","v":""},{"$f":"IF(PS!B139=\"\",\"\",PS!D139)","v":""},null,{"$f":"IF(PS!F139=\"\",\"\",PS!G139)","v":""},{"$f":"IF(PS!F139=\"\",\"\",PS!H139)","v":""},null,{"$f":"IF(LP!A137=\"\",\"\",LP!B137)","v":""},{"$f":"IF(LP!A137=\"\",0,LP!C137)","v":0},null,{"$f":"IF(LP!E137=\"\",\"\",LP!F137)","v":""},{"$f":"IF(LP!E137=\"\",0,LP!G137)","v":0},null,{"$f":"IF(LP!I137=\"\",\"\",LP!J137)","v":""},{"$f":"IF(LP!I137=\"\",0,LP!K137)","v":0},null,{"$f":"IF(BPBPS!B137=\"\",\"\",BPBPS!C137)","v":""},{"$f":"IF(BPBPS!B137=\"\",0,BPBPS!D137)","v":0},null,{"$f":"IF(BPBPS!F137=\"\",\"\",BPBPS!G137)","v":""},{"$f":"IF(BPBPS!H137=\"\",0,BPBPS!H137)","v":0},null,{"$f":"IF(BPBPS!J137=\"\",\"\",BPBPS!K137)","v":""},{"$f":"IF(BPBPS!J137=\"\",0,BPBPS!L137)","v":0},null,{"$f":"IF(SSGP!B137=\"\",\"\",SSGP!C137)","v":""},{"$f":"IF(SSGP!B137=\"\",0,SSGP!D137)","v":0},null,{"$f":"IF(SSGP!F137=\"\",\"\",SSGP!G137)","v":""},{"$f":"IF(SSGP!F137=\"\",0,SSGP!H137)","v":0}]
[136,{"$f":"IF(WPP!B138=\"\",\"\",WPP!C138)","v":""},{"$f":"IF(WPP!B138=\"\",0,WPP!D138)","v":0},{"$f":"IF(WPP!B138=\"\",0,WPP!E138)","v":0},null,{"$f":"IF(WPP!G138=\"\",\"\",WPP!H138)","v":""},{"$f":"IF(WPP!G138=\"\",0,WPP!I138)","v":0},{"$f":"IF(WPP!G138=\"\",0,WPP!J138)","v":0},null,{"$f":"IF(KSP!B138=\"\",\"\",KSP!C138)","v":""},{"$f":"IF(KSP!B138=\"\",0,KSP!D138)","v":0},{"$f":"IF(KSP!B138=\"\",0,KSP!E138)","v":0},null,{"$f":"IF(KSP!G138=\"\",\"\",KSP!H138)","v":""},{"$f":"IF(KSP!G138=\"\",0,KSP!I138)","v":0},{"$f":"IF(KSP!G138=\"\",0,KSP!J138)","v":0},null,{"$f":"IF(FSP!B138=\"\",\"\",FSP!C138)","v":""},{"$f":"IF(FSP!B138=\"\",0,FSP!D138)","v":0},{"$f":"IF(FSP!B138=\"\",0,FSP!E138)","v":0},null,{"$f":"IF(FSP!G138=\"\",\"\",FSP!H138)","v":""},{"$f":"IF(FSP!G138=\"\",0,FSP!I138)","v":0},null,{"$f":"IF(PS!B140=\"\",\"\",PS!C140)","v":""},{"$f":"IF(PS!B140=\"\",\"\",PS!D140)","v":""},null,{"$f":"IF(PS!F140=\"\",\"\",PS!G140)","v":""},{"$f":"IF(PS!F140=\"\",\"\",PS!H140)","v":""},null,{"$f":"IF(LP!A138=\"\",\"\",LP!B138)","v":""},{"$f":"IF(LP!A138=\"\",0,LP!C138)","v":0},null,{"$f":"IF(LP!E138=\"\",\"\",LP!F138)","v":""},{"$f":"IF(LP!E138=\"\",0,LP!G138)","v":0},null,{"$f":"IF(LP!I138=\"\",\"\",LP!J138)","v":""},{"$f":"IF(LP!I138=\"\",0,LP!K138)","v":0},null,{"$f":"IF(BPBPS!B138=\"\",\"\",BPBPS!C138)","v":""},{"$f":"IF(BPBPS!B138=\"\",0,BPBPS!D138)","v":0},null,{"$f":"IF(BPBPS!F138=\"\",\"\",BPBPS!G138)","v":""},{"$f":"IF(BPBPS!H138=\"\",0,BPBPS!H138)","v":0},null,{"$f":"IF(BPBPS!J138=\"\",\"\",BPBPS!K138)","v":""},{"$f":"IF(BPBPS!J138=\"\",0,BPBPS!L138)","v":0},null,{"$f":"IF(SSGP!B138=\"\",\"\",SSGP!C138)","v":""},{"$f":"IF(SSGP!B138=\"\",0,SSGP!D138)","v":0},null,{"$f":"IF(SSGP!F138=\"\",\"\",SSGP!G138)","v":""},{"$f":"IF(SSGP!F138=\"\",0,SSGP!H138)","v":0}]
[137,{"$f":"IF(WPP!B139=\"\",\"\",WPP!C139)","v":""},{"$f":"IF(WPP!B139=\"\",0,WPP!D139)","v":0},{"$f":"IF(WPP!B139=\"\",0,WPP!E139)","v":0},null,{"$f":"IF(WPP!G139=\"\",\"\",WPP!H139)","v":""},{"$f":"IF(WPP!G139=\"\",0,WPP!I139)","v":0},{"$f":"IF(WPP!G139=\"\",0,WPP!J139)","v":0},null,{"$f":"IF(KSP!B139=\"\",\"\",KSP!C139)","v":""},{"$f":"IF(KSP!B139=\"\",0,KSP!D139)","v":0},{"$f":"IF(KSP!B139=\"\",0,KSP!E139)","v":0},null,{"$f":"IF(KSP!G139=\"\",\"\",KSP!H139)","v":""},{"$f":"IF(KSP!G139=\"\",0,KSP!I139)","v":0},{"$f":"IF(KSP!G139=\"\",0,KSP!J139)","v":0},null,{"$f":"IF(FSP!B139=\"\",\"\",FSP!C139)","v":""},{"$f":"IF(FSP!B139=\"\",0,FSP!D139)","v":0},{"$f":"IF(FSP!B139=\"\",0,FSP!E139)","v":0},null,{"$f":"IF(FSP!G139=\"\",\"\",FSP!H139)","v":""},{"$f":"IF(FSP!G139=\"\",0,FSP!I139)","v":0},null,{"$f":"IF(PS!B141=\"\",\"\",PS!C141)","v":""},{"$f":"IF(PS!B141=\"\",\"\",PS!D141)","v":""},null,{"$f":"IF(PS!F141=\"\",\"\",PS!G141)","v":""},{"$f":"IF(PS!F141=\"\",\"\",PS!H141)","v":""},null,{"$f":"IF(LP!A139=\"\",\"\",LP!B139)","v":""},{"$f":"IF(LP!A139=\"\",0,LP!C139)","v":0},null,{"$f":"IF(LP!E139=\"\",\"\",LP!F139)","v":""},{"$f":"IF(LP!E139=\"\",0,LP!G139)","v":0},null,{"$f":"IF(LP!I139=\"\",\"\",LP!J139)","v":""},{"$f":"IF(LP!I139=\"\",0,LP!K139)","v":0},null,{"$f":"IF(BPBPS!B139=\"\",\"\",BPBPS!C139)","v":""},{"$f":"IF(BPBPS!B139=\"\",0,BPBPS!D139)","v":0},null,{"$f":"IF(BPBPS!F139=\"\",\"\",BPBPS!G139)","v":""},{"$f":"IF(BPBPS!H139=\"\",0,BPBPS!H139)","v":0},null,{"$f":"IF(BPBPS!J139=\"\",\"\",BPBPS!K139)","v":""},{"$f":"IF(BPBPS!J139=\"\",0,BPBPS!L139)","v":0},null,{"$f":"IF(SSGP!B139=\"\",\"\",SSGP!C139)","v":""},{"$f":"IF(SSGP!B139=\"\",0,SSGP!D139)","v":0},null,{"$f":"IF(SSGP!F139=\"\",\"\",SSGP!G139)","v":""},{"$f":"IF(SSGP!F139=\"\",0,SSGP!H139)","v":0}]
[138,{"$f":"IF(WPP!B140=\"\",\"\",WPP!C140)","v":""},{"$f":"IF(WPP!B140=\"\",0,WPP!D140)","v":0},{"$f":"IF(WPP!B140=\"\",0,WPP!E140)","v":0},null,{"$f":"IF(WPP!G140=\"\",\"\",WPP!H140)","v":""},{"$f":"IF(WPP!G140=\"\",0,WPP!I140)","v":0},{"$f":"IF(WPP!G140=\"\",0,WPP!J140)","v":0},null,{"$f":"IF(KSP!B140=\"\",\"\",KSP!C140)","v":""},{"$f":"IF(KSP!B140=\"\",0,KSP!D140)","v":0},{"$f":"IF(KSP!B140=\"\",0,KSP!E140)","v":0},null,{"$f":"IF(KSP!G140=\"\",\"\",KSP!H140)","v":""},{"$f":"IF(KSP!G140=\"\",0,KSP!I140)","v":0},{"$f":"IF(KSP!G140=\"\",0,KSP!J140)","v":0},null,{"$f":"IF(FSP!B140=\"\",\"\",FSP!C140)","v":""},{"$f":"IF(FSP!B140=\"\",0,FSP!D140)","v":0},{"$f":"IF(FSP!B140=\"\",0,FSP!E140)","v":0},null,{"$f":"IF(FSP!G140=\"\",\"\",FSP!H140)","v":""},{"$f":"IF(FSP!G140=\"\",0,FSP!I140)","v":0},null,{"$f":"IF(PS!B142=\"\",\"\",PS!C142)","v":""},{"$f":"IF(PS!B142=\"\",\"\",PS!D142)","v":""},null,{"$f":"IF(PS!F142=\"\",\"\",PS!G142)","v":""},{"$f":"IF(PS!F142=\"\",\"\",PS!H142)","v":""},null,{"$f":"IF(LP!A140=\"\",\"\",LP!B140)","v":""},{"$f":"IF(LP!A140=\"\",0,LP!C140)","v":0},null,{"$f":"IF(LP!E140=\"\",\"\",LP!F140)","v":""},{"$f":"IF(LP!E140=\"\",0,LP!G140)","v":0},null,{"$f":"IF(LP!I140=\"\",\"\",LP!J140)","v":""},{"$f":"IF(LP!I140=\"\",0,LP!K140)","v":0},null,{"$f":"IF(BPBPS!B140=\"\",\"\",BPBPS!C140)","v":""},{"$f":"IF(BPBPS!B140=\"\",0,BPBPS!D140)","v":0},null,{"$f":"IF(BPBPS!F140=\"\",\"\",BPBPS!G140)","v":""},{"$f":"IF(BPBPS!H140=\"\",0,BPBPS!H140)","v":0},null,{"$f":"IF(BPBPS!J140=\"\",\"\",BPBPS!K140)","v":""},{"$f":"IF(BPBPS!J140=\"\",0,BPBPS!L140)","v":0},null,{"$f":"IF(SSGP!B140=\"\",\"\",SSGP!C140)","v":""},{"$f":"IF(SSGP!B140=\"\",0,SSGP!D140)","v":0},null,{"$f":"IF(SSGP!F140=\"\",\"\",SSGP!G140)","v":""},{"$f":"IF(SSGP!F140=\"\",0,SSGP!H140)","v":0}]
[139,{"$f":"IF(WPP!B141=\"\",\"\",WPP!C141)","v":""},{"$f":"IF(WPP!B141=\"\",0,WPP!D141)","v":0},{"$f":"IF(WPP!B141=\"\",0,WPP!E141)","v":0},null,{"$f":"IF(WPP!G141=\"\",\"\",WPP!H141)","v":""},{"$f":"IF(WPP!G141=\"\",0,WPP!I141)","v":0},{"$f":"IF(WPP!G141=\"\",0,WPP!J141)","v":0},null,{"$f":"IF(KSP!B141=\"\",\"\",KSP!C141)","v":""},{"$f":"IF(KSP!B141=\"\",0,KSP!D141)","v":0},{"$f":"IF(KSP!B141=\"\",0,KSP!E141)","v":0},null,{"$f":"IF(KSP!G141=\"\",\"\",KSP!H141)","v":""},{"$f":"IF(KSP!G141=\"\",0,KSP!I141)","v":0},{"$f":"IF(KSP!G141=\"\",0,KSP!J141)","v":0},null,{"$f":"IF(FSP!B141=\"\",\"\",FSP!C141)","v":""},{"$f":"IF(FSP!B141=\"\",0,FSP!D141)","v":0},{"$f":"IF(FSP!B141=\"\",0,FSP!E141)","v":0},null,{"$f":"IF(FSP!G141=\"\",\"\",FSP!H141)","v":""},{"$f":"IF(FSP!G141=\"\",0,FSP!I141)","v":0},null,{"$f":"IF(PS!B143=\"\",\"\",PS!C143)","v":""},{"$f":"IF(PS!B143=\"\",\"\",PS!D143)","v":""},null,{"$f":"IF(PS!F143=\"\",\"\",PS!G143)","v":""},{"$f":"IF(PS!F143=\"\",\"\",PS!H143)","v":""},null,{"$f":"IF(LP!A141=\"\",\"\",LP!B141)","v":""},{"$f":"IF(LP!A141=\"\",0,LP!C141)","v":0},null,{"$f":"IF(LP!E141=\"\",\"\",LP!F141)","v":""},{"$f":"IF(LP!E141=\"\",0,LP!G141)","v":0},null,{"$f":"IF(LP!I141=\"\",\"\",LP!J141)","v":""},{"$f":"IF(LP!I141=\"\",0,LP!K141)","v":0},null,{"$f":"IF(BPBPS!B141=\"\",\"\",BPBPS!C141)","v":""},{"$f":"IF(BPBPS!B141=\"\",0,BPBPS!D141)","v":0},null,{"$f":"IF(BPBPS!F141=\"\",\"\",BPBPS!G141)","v":""},{"$f":"IF(BPBPS!H141=\"\",0,BPBPS!H141)","v":0},null,{"$f":"IF(BPBPS!J141=\"\",\"\",BPBPS!K141)","v":""},{"$f":"IF(BPBPS!J141=\"\",0,BPBPS!L141)","v":0},null,{"$f":"IF(SSGP!B141=\"\",\"\",SSGP!C141)","v":""},{"$f":"IF(SSGP!B141=\"\",0,SSGP!D141)","v":0},null,{"$f":"IF(SSGP!F141=\"\",\"\",SSGP!G141)","v":""},{"$f":"IF(SSGP!F141=\"\",0,SSGP!H141)","v":0}]
[140,{"$f":"IF(WPP!B142=\"\",\"\",WPP!C142)","v":""},{"$f":"IF(WPP!B142=\"\",0,WPP!D142)","v":0},{"$f":"IF(WPP!B142=\"\",0,WPP!E142)","v":0},null,{"$f":"IF(WPP!G142=\"\",\"\",WPP!H142)","v":""},{"$f":"IF(WPP!G142=\"\",0,WPP!I142)","v":0},{"$f":"IF(WPP!G142=\"\",0,WPP!J142)","v":0},null,{"$f":"IF(KSP!B142=\"\",\"\",KSP!C142)","v":""},{"$f":"IF(KSP!B142=\"\",0,KSP!D142)","v":0},{"$f":"IF(KSP!B142=\"\",0,KSP!E142)","v":0},null,{"$f":"IF(KSP!G142=\"\",\"\",KSP!H142)","v":""},{"$f":"IF(KSP!G142=\"\",0,KSP!I142)","v":0},{"$f":"IF(KSP!G142=\"\",0,KSP!J142)","v":0},null,{"$f":"IF(FSP!B142=\"\",\"\",FSP!C142)","v":""},{"$f":"IF(FSP!B142=\"\",0,FSP!D142)","v":0},{"$f":"IF(FSP!B142=\"\",0,FSP!E142)","v":0},null,{"$f":"IF(FSP!G142=\"\",\"\",FSP!H142)","v":""},{"$f":"IF(FSP!G142=\"\",0,FSP!I142)","v":0},null,{"$f":"IF(PS!B144=\"\",\"\",PS!C144)","v":""},{"$f":"IF(PS!B144=\"\",\"\",PS!D144)","v":""},null,{"$f":"IF(PS!F144=\"\",\"\",PS!G144)","v":""},{"$f":"IF(PS!F144=\"\",\"\",PS!H144)","v":""},null,{"$f":"IF(LP!A142=\"\",\"\",LP!B142)","v":""},{"$f":"IF(LP!A142=\"\",0,LP!C142)","v":0},null,{"$f":"IF(LP!E142=\"\",\"\",LP!F142)","v":""},{"$f":"IF(LP!E142=\"\",0,LP!G142)","v":0},null,{"$f":"IF(LP!I142=\"\",\"\",LP!J142)","v":""},{"$f":"IF(LP!I142=\"\",0,LP!K142)","v":0},null,{"$f":"IF(BPBPS!B142=\"\",\"\",BPBPS!C142)","v":""},{"$f":"IF(BPBPS!B142=\"\",0,BPBPS!D142)","v":0},null,{"$f":"IF(BPBPS!F142=\"\",\"\",BPBPS!G142)","v":""},{"$f":"IF(BPBPS!H142=\"\",0,BPBPS!H142)","v":0},null,{"$f":"IF(BPBPS!J142=\"\",\"\",BPBPS!K142)","v":""},{"$f":"IF(BPBPS!J142=\"\",0,BPBPS!L142)","v":0},null,{"$f":"IF(SSGP!B142=\"\",\"\",SSGP!C142)","v":""},{"$f":"IF(SSGP!B142=\"\",0,SSGP!D142)","v":0},null,{"$f":"IF(SSGP!F142=\"\",\"\",SSGP!G142)","v":""},{"$f":"IF(SSGP!F142=\"\",0,SSGP!H142)","v":0}]
[141,{"$f":"IF(WPP!B143=\"\",\"\",WPP!C143)","v":""},{"$f":"IF(WPP!B143=\"\",0,WPP!D143)","v":0},{"$f":"IF(WPP!B143=\"\",0,WPP!E143)","v":0},null,{"$f":"IF(WPP!G143=\"\",\"\",WPP!H143)","v":""},{"$f":"IF(WPP!G143=\"\",0,WPP!I143)","v":0},{"$f":"IF(WPP!G143=\"\",0,WPP!J143)","v":0},null,{"$f":"IF(KSP!B143=\"\",\"\",KSP!C143)","v":""},{"$f":"IF(KSP!B143=\"\",0,KSP!D143)","v":0},{"$f":"IF(KSP!B143=\"\",0,KSP!E143)","v":0},null,{"$f":"IF(KSP!G143=\"\",\"\",KSP!H143)","v":""},{"$f":"IF(KSP!G143=\"\",0,KSP!I143)","v":0},{"$f":"IF(KSP!G143=\"\",0,KSP!J143)","v":0},null,{"$f":"IF(FSP!B143=\"\",\"\",FSP!C143)","v":""},{"$f":"IF(FSP!B143=\"\",0,FSP!D143)","v":0},{"$f":"IF(FSP!B143=\"\",0,FSP!E143)","v":0},null,{"$f":"IF(FSP!G143=\"\",\"\",FSP!H143)","v":""},{"$f":"IF(FSP!G143=\"\",0,FSP!I143)","v":0},null,{"$f":"IF(PS!B145=\"\",\"\",PS!C145)","v":""},{"$f":"IF(PS!B145=\"\",\"\",PS!D145)","v":""},null,{"$f":"IF(PS!F145=\"\",\"\",PS!G145)","v":""},{"$f":"IF(PS!F145=\"\",\"\",PS!H145)","v":""},null,{"$f":"IF(LP!A143=\"\",\"\",LP!B143)","v":""},{"$f":"IF(LP!A143=\"\",0,LP!C143)","v":0},null,{"$f":"IF(LP!E143=\"\",\"\",LP!F143)","v":""},{"$f":"IF(LP!E143=\"\",0,LP!G143)","v":0},null,{"$f":"IF(LP!I143=\"\",\"\",LP!J143)","v":""},{"$f":"IF(LP!I143=\"\",0,LP!K143)","v":0},null,{"$f":"IF(BPBPS!B143=\"\",\"\",BPBPS!C143)","v":""},{"$f":"IF(BPBPS!B143=\"\",0,BPBPS!D143)","v":0},null,{"$f":"IF(BPBPS!F143=\"\",\"\",BPBPS!G143)","v":""},{"$f":"IF(BPBPS!H143=\"\",0,BPBPS!H143)","v":0},null,{"$f":"IF(BPBPS!J143=\"\",\"\",BPBPS!K143)","v":""},{"$f":"IF(BPBPS!J143=\"\",0,BPBPS!L143)","v":0},null,{"$f":"IF(SSGP!B143=\"\",\"\",SSGP!C143)","v":""},{"$f":"IF(SSGP!B143=\"\",0,SSGP!D143)","v":0},null,{"$f":"IF(SSGP!F143=\"\",\"\",SSGP!G143)","v":""},{"$f":"IF(SSGP!F143=\"\",0,SSGP!H143)","v":0}]
[142,{"$f":"IF(WPP!B144=\"\",\"\",WPP!C144)","v":""},{"$f":"IF(WPP!B144=\"\",0,WPP!D144)","v":0},{"$f":"IF(WPP!B144=\"\",0,WPP!E144)","v":0},null,{"$f":"IF(WPP!G144=\"\",\"\",WPP!H144)","v":""},{"$f":"IF(WPP!G144=\"\",0,WPP!I144)","v":0},{"$f":"IF(WPP!G144=\"\",0,WPP!J144)","v":0},null,{"$f":"IF(KSP!B144=\"\",\"\",KSP!C144)","v":""},{"$f":"IF(KSP!B144=\"\",0,KSP!D144)","v":0},{"$f":"IF(KSP!B144=\"\",0,KSP!E144)","v":0},null,{"$f":"IF(KSP!G144=\"\",\"\",KSP!H144)","v":""},{"$f":"IF(KSP!G144=\"\",0,KSP!I144)","v":0},{"$f":"IF(KSP!G144=\"\",0,KSP!J144)","v":0},null,{"$f":"IF(FSP!B144=\"\",\"\",FSP!C144)","v":""},{"$f":"IF(FSP!B144=\"\",0,FSP!D144)","v":0},{"$f":"IF(FSP!B144=\"\",0,FSP!E144)","v":0},null,{"$f":"IF(FSP!G144=\"\",\"\",FSP!H144)","v":""},{"$f":"IF(FSP!G144=\"\",0,FSP!I144)","v":0},null,{"$f":"IF(PS!B146=\"\",\"\",PS!C146)","v":""},{"$f":"IF(PS!B146=\"\",\"\",PS!D146)","v":""},null,{"$f":"IF(PS!F146=\"\",\"\",PS!G146)","v":""},{"$f":"IF(PS!F146=\"\",\"\",PS!H146)","v":""},null,{"$f":"IF(LP!A144=\"\",\"\",LP!B144)","v":""},{"$f":"IF(LP!A144=\"\",0,LP!C144)","v":0},null,{"$f":"IF(LP!E144=\"\",\"\",LP!F144)","v":""},{"$f":"IF(LP!E144=\"\",0,LP!G144)","v":0},null,{"$f":"IF(LP!I144=\"\",\"\",LP!J144)","v":""},{"$f":"IF(LP!I144=\"\",0,LP!K144)","v":0},null,{"$f":"IF(BPBPS!B144=\"\",\"\",BPBPS!C144)","v":""},{"$f":"IF(BPBPS!B144=\"\",0,BPBPS!D144)","v":0},null,{"$f":"IF(BPBPS!F144=\"\",\"\",BPBPS!G144)","v":""},{"$f":"IF(BPBPS!H144=\"\",0,BPBPS!H144)","v":0},null,{"$f":"IF(BPBPS!J144=\"\",\"\",BPBPS!K144)","v":""},{"$f":"IF(BPBPS!J144=\"\",0,BPBPS!L144)","v":0},null,{"$f":"IF(SSGP!B144=\"\",\"\",SSGP!C144)","v":""},{"$f":"IF(SSGP!B144=\"\",0,SSGP!D144)","v":0},null,{"$f":"IF(SSGP!F144=\"\",\"\",SSGP!G144)","v":""},{"$f":"IF(SSGP!F144=\"\",0,SSGP!H144)","v":0}]
[143,{"$f":"IF(WPP!B145=\"\",\"\",WPP!C145)","v":""},{"$f":"IF(WPP!B145=\"\",0,WPP!D145)","v":0},{"$f":"IF(WPP!B145=\"\",0,WPP!E145)","v":0},null,{"$f":"IF(WPP!G145=\"\",\"\",WPP!H145)","v":""},{"$f":"IF(WPP!G145=\"\",0,WPP!I145)","v":0},{"$f":"IF(WPP!G145=\"\",0,WPP!J145)","v":0},null,{"$f":"IF(KSP!B145=\"\",\"\",KSP!C145)","v":""},{"$f":"IF(KSP!B145=\"\",0,KSP!D145)","v":0},{"$f":"IF(KSP!B145=\"\",0,KSP!E145)","v":0},null,{"$f":"IF(KSP!G145=\"\",\"\",KSP!H145)","v":""},{"$f":"IF(KSP!G145=\"\",0,KSP!I145)","v":0},{"$f":"IF(KSP!G145=\"\",0,KSP!J145)","v":0},null,{"$f":"IF(FSP!B145=\"\",\"\",FSP!C145)","v":""},{"$f":"IF(FSP!B145=\"\",0,FSP!D145)","v":0},{"$f":"IF(FSP!B145=\"\",0,FSP!E145)","v":0},null,{"$f":"IF(FSP!G145=\"\",\"\",FSP!H145)","v":""},{"$f":"IF(FSP!G145=\"\",0,FSP!I145)","v":0},null,{"$f":"IF(PS!B147=\"\",\"\",PS!C147)","v":""},{"$f":"IF(PS!B147=\"\",\"\",PS!D147)","v":""},null,{"$f":"IF(PS!F147=\"\",\"\",PS!G147)","v":""},{"$f":"IF(PS!F147=\"\",\"\",PS!H147)","v":""},null,{"$f":"IF(LP!A145=\"\",\"\",LP!B145)","v":""},{"$f":"IF(LP!A145=\"\",0,LP!C145)","v":0},null,{"$f":"IF(LP!E145=\"\",\"\",LP!F145)","v":""},{"$f":"IF(LP!E145=\"\",0,LP!G145)","v":0},null,{"$f":"IF(LP!I145=\"\",\"\",LP!J145)","v":""},{"$f":"IF(LP!I145=\"\",0,LP!K145)","v":0},null,{"$f":"IF(BPBPS!B145=\"\",\"\",BPBPS!C145)","v":""},{"$f":"IF(BPBPS!B145=\"\",0,BPBPS!D145)","v":0},null,{"$f":"IF(BPBPS!F145=\"\",\"\",BPBPS!G145)","v":""},{"$f":"IF(BPBPS!H145=\"\",0,BPBPS!H145)","v":0},null,{"$f":"IF(BPBPS!J145=\"\",\"\",BPBPS!K145)","v":""},{"$f":"IF(BPBPS!J145=\"\",0,BPBPS!L145)","v":0},null,{"$f":"IF(SSGP!B145=\"\",\"\",SSGP!C145)","v":""},{"$f":"IF(SSGP!B145=\"\",0,SSGP!D145)","v":0},null,{"$f":"IF(SSGP!F145=\"\",\"\",SSGP!G145)","v":""},{"$f":"IF(SSGP!F145=\"\",0,SSGP!H145)","v":0}]
[144,{"$f":"IF(WPP!B146=\"\",\"\",WPP!C146)","v":""},{"$f":"IF(WPP!B146=\"\",0,WPP!D146)","v":0},{"$f":"IF(WPP!B146=\"\",0,WPP!E146)","v":0},null,{"$f":"IF(WPP!G146=\"\",\"\",WPP!H146)","v":""},{"$f":"IF(WPP!G146=\"\",0,WPP!I146)","v":0},{"$f":"IF(WPP!G146=\"\",0,WPP!J146)","v":0},null,{"$f":"IF(KSP!B146=\"\",\"\",KSP!C146)","v":""},{"$f":"IF(KSP!B146=\"\",0,KSP!D146)","v":0},{"$f":"IF(KSP!B146=\"\",0,KSP!E146)","v":0},null,{"$f":"IF(KSP!G146=\"\",\"\",KSP!H146)","v":""},{"$f":"IF(KSP!G146=\"\",0,KSP!I146)","v":0},{"$f":"IF(KSP!G146=\"\",0,KSP!J146)","v":0},null,{"$f":"IF(FSP!B146=\"\",\"\",FSP!C146)","v":""},{"$f":"IF(FSP!B146=\"\",0,FSP!D146)","v":0},{"$f":"IF(FSP!B146=\"\",0,FSP!E146)","v":0},null,{"$f":"IF(FSP!G146=\"\",\"\",FSP!H146)","v":""},{"$f":"IF(FSP!G146=\"\",0,FSP!I146)","v":0},null,{"$f":"IF(PS!B148=\"\",\"\",PS!C148)","v":""},{"$f":"IF(PS!B148=\"\",\"\",PS!D148)","v":""},null,{"$f":"IF(PS!F148=\"\",\"\",PS!G148)","v":""},{"$f":"IF(PS!F148=\"\",\"\",PS!H148)","v":""},null,{"$f":"IF(LP!A146=\"\",\"\",LP!B146)","v":""},{"$f":"IF(LP!A146=\"\",0,LP!C146)","v":0},null,{"$f":"IF(LP!E146=\"\",\"\",LP!F146)","v":""},{"$f":"IF(LP!E146=\"\",0,LP!G146)","v":0},null,{"$f":"IF(LP!I146=\"\",\"\",LP!J146)","v":""},{"$f":"IF(LP!I146=\"\",0,LP!K146)","v":0},null,{"$f":"IF(BPBPS!B146=\"\",\"\",BPBPS!C146)","v":""},{"$f":"IF(BPBPS!B146=\"\",0,BPBPS!D146)","v":0},null,{"$f":"IF(BPBPS!F146=\"\",\"\",BPBPS!G146)","v":""},{"$f":"IF(BPBPS!H146=\"\",0,BPBPS!H146)","v":0},null,{"$f":"IF(BPBPS!J146=\"\",\"\",BPBPS!K146)","v":""},{"$f":"IF(BPBPS!J146=\"\",0,BPBPS!L146)","v":0},null,{"$f":"IF(SSGP!B146=\"\",\"\",SSGP!C146)","v":""},{"$f":"IF(SSGP!B146=\"\",0,SSGP!D146)","v":0},null,{"$f":"IF(SSGP!F146=\"\",\"\",SSGP!G146)","v":""},{"$f":"IF(SSGP!F146=\"\",0,SSGP!H146)","v":0}]
[145,{"$f":"IF(WPP!B147=\"\",\"\",WPP!C147)","v":""},{"$f":"IF(WPP!B147=\"\",0,WPP!D147)","v":0},{"$f":"IF(WPP!B147=\"\",0,WPP!E147)","v":0},null,{"$f":"IF(WPP!G147=\"\",\"\",WPP!H147)","v":""},{"$f":"IF(WPP!G147=\"\",0,WPP!I147)","v":0},{"$f":"IF(WPP!G147=\"\",0,WPP!J147)","v":0},null,{"$f":"IF(KSP!B147=\"\",\"\",KSP!C147)","v":""},{"$f":"IF(KSP!B147=\"\",0,KSP!D147)","v":0},{"$f":"IF(KSP!B147=\"\",0,KSP!E147)","v":0},null,{"$f":"IF(KSP!G147=\"\",\"\",KSP!H147)","v":""},{"$f":"IF(KSP!G147=\"\",0,KSP!I147)","v":0},{"$f":"IF(KSP!G147=\"\",0,KSP!J147)","v":0},null,{"$f":"IF(FSP!B147=\"\",\"\",FSP!C147)","v":""},{"$f":"IF(FSP!B147=\"\",0,FSP!D147)","v":0},{"$f":"IF(FSP!B147=\"\",0,FSP!E147)","v":0},null,{"$f":"IF(FSP!G147=\"\",\"\",FSP!H147)","v":""},{"$f":"IF(FSP!G147=\"\",0,FSP!I147)","v":0},null,{"$f":"IF(PS!B149=\"\",\"\",PS!C149)","v":""},{"$f":"IF(PS!B149=\"\",\"\",PS!D149)","v":""},null,{"$f":"IF(PS!F149=\"\",\"\",PS!G149)","v":""},{"$f":"IF(PS!F149=\"\",\"\",PS!H149)","v":""},null,{"$f":"IF(LP!A147=\"\",\"\",LP!B147)","v":""},{"$f":"IF(LP!A147=\"\",0,LP!C147)","v":0},null,{"$f":"IF(LP!E147=\"\",\"\",LP!F147)","v":""},{"$f":"IF(LP!E147=\"\",0,LP!G147)","v":0},null,{"$f":"IF(LP!I147=\"\",\"\",LP!J147)","v":""},{"$f":"IF(LP!I147=\"\",0,LP!K147)","v":0},null,{"$f":"IF(BPBPS!B147=\"\",\"\",BPBPS!C147)","v":""},{"$f":"IF(BPBPS!B147=\"\",0,BPBPS!D147)","v":0},null,{"$f":"IF(BPBPS!F147=\"\",\"\",BPBPS!G147)","v":""},{"$f":"IF(BPBPS!H147=\"\",0,BPBPS!H147)","v":0},null,{"$f":"IF(BPBPS!J147=\"\",\"\",BPBPS!K147)","v":""},{"$f":"IF(BPBPS!J147=\"\",0,BPBPS!L147)","v":0},null,{"$f":"IF(SSGP!B147=\"\",\"\",SSGP!C147)","v":""},{"$f":"IF(SSGP!B147=\"\",0,SSGP!D147)","v":0},null,{"$f":"IF(SSGP!F147=\"\",\"\",SSGP!G147)","v":""},{"$f":"IF(SSGP!F147=\"\",0,SSGP!H147)","v":0}]
[146,{"$f":"IF(WPP!B148=\"\",\"\",WPP!C148)","v":""},{"$f":"IF(WPP!B148=\"\",0,WPP!D148)","v":0},{"$f":"IF(WPP!B148=\"\",0,WPP!E148)","v":0},null,{"$f":"IF(WPP!G148=\"\",\"\",WPP!H148)","v":""},{"$f":"IF(WPP!G148=\"\",0,WPP!I148)","v":0},{"$f":"IF(WPP!G148=\"\",0,WPP!J148)","v":0},null,{"$f":"IF(KSP!B148=\"\",\"\",KSP!C148)","v":""},{"$f":"IF(KSP!B148=\"\",0,KSP!D148)","v":0},{"$f":"IF(KSP!B148=\"\",0,KSP!E148)","v":0},null,{"$f":"IF(KSP!G148=\"\",\"\",KSP!H148)","v":""},{"$f":"IF(KSP!G148=\"\",0,KSP!I148)","v":0},{"$f":"IF(KSP!G148=\"\",0,KSP!J148)","v":0},null,{"$f":"IF(FSP!B148=\"\",\"\",FSP!C148)","v":""},{"$f":"IF(FSP!B148=\"\",0,FSP!D148)","v":0},{"$f":"IF(FSP!B148=\"\",0,FSP!E148)","v":0},null,{"$f":"IF(FSP!G148=\"\",\"\",FSP!H148)","v":""},{"$f":"IF(FSP!G148=\"\",0,FSP!I148)","v":0},null,{"$f":"IF(PS!B150=\"\",\"\",PS!C150)","v":""},{"$f":"IF(PS!B150=\"\",\"\",PS!D150)","v":""},null,{"$f":"IF(PS!F150=\"\",\"\",PS!G150)","v":""},{"$f":"IF(PS!F150=\"\",\"\",PS!H150)","v":""},null,{"$f":"IF(LP!A148=\"\",\"\",LP!B148)","v":""},{"$f":"IF(LP!A148=\"\",0,LP!C148)","v":0},null,{"$f":"IF(LP!E148=\"\",\"\",LP!F148)","v":""},{"$f":"IF(LP!E148=\"\",0,LP!G148)","v":0},null,{"$f":"IF(LP!I148=\"\",\"\",LP!J148)","v":""},{"$f":"IF(LP!I148=\"\",0,LP!K148)","v":0},null,{"$f":"IF(BPBPS!B148=\"\",\"\",BPBPS!C148)","v":""},{"$f":"IF(BPBPS!B148=\"\",0,BPBPS!D148)","v":0},null,{"$f":"IF(BPBPS!F148=\"\",\"\",BPBPS!G148)","v":""},{"$f":"IF(BPBPS!H148=\"\",0,BPBPS!H148)","v":0},null,{"$f":"IF(BPBPS!J148=\"\",\"\",BPBPS!K148)","v":""},{"$f":"IF(BPBPS!J148=\"\",0,BPBPS!L148)","v":0},null,{"$f":"IF(SSGP!B148=\"\",\"\",SSGP!C148)","v":""},{"$f":"IF(SSGP!B148=\"\",0,SSGP!D148)","v":0},null,{"$f":"IF(SSGP!F148=\"\",\"\",SSGP!G148)","v":""},{"$f":"IF(SSGP!F148=\"\",0,SSGP!H148)","v":0}]
[147,{"$f":"IF(WPP!B149=\"\",\"\",WPP!C149)","v":""},{"$f":"IF(WPP!B149=\"\",0,WPP!D149)","v":0},{"$f":"IF(WPP!B149=\"\",0,WPP!E149)","v":0},null,{"$f":"IF(WPP!G149=\"\",\"\",WPP!H149)","v":""},{"$f":"IF(WPP!G149=\"\",0,WPP!I149)","v":0},{"$f":"IF(WPP!G149=\"\",0,WPP!J149)","v":0},null,{"$f":"IF(KSP!B149=\"\",\"\",KSP!C149)","v":""},{"$f":"IF(KSP!B149=\"\",0,KSP!D149)","v":0},{"$f":"IF(KSP!B149=\"\",0,KSP!E149)","v":0},null,{"$f":"IF(KSP!G149=\"\",\"\",KSP!H149)","v":""},{"$f":"IF(KSP!G149=\"\",0,KSP!I149)","v":0},{"$f":"IF(KSP!G149=\"\",0,KSP!J149)","v":0},null,{"$f":"IF(FSP!B149=\"\",\"\",FSP!C149)","v":""},{"$f":"IF(FSP!B149=\"\",0,FSP!D149)","v":0},{"$f":"IF(FSP!B149=\"\",0,FSP!E149)","v":0},null,{"$f":"IF(FSP!G149=\"\",\"\",FSP!H149)","v":""},{"$f":"IF(FSP!G149=\"\",0,FSP!I149)","v":0},null,{"$f":"IF(PS!B151=\"\",\"\",PS!C151)","v":""},{"$f":"IF(PS!B151=\"\",\"\",PS!D151)","v":""},null,{"$f":"IF(PS!F151=\"\",\"\",PS!G151)","v":""},{"$f":"IF(PS!F151=\"\",\"\",PS!H151)","v":""},null,{"$f":"IF(LP!A149=\"\",\"\",LP!B149)","v":""},{"$f":"IF(LP!A149=\"\",0,LP!C149)","v":0},null,{"$f":"IF(LP!E149=\"\",\"\",LP!F149)","v":""},{"$f":"IF(LP!E149=\"\",0,LP!G149)","v":0},null,{"$f":"IF(LP!I149=\"\",\"\",LP!J149)","v":""},{"$f":"IF(LP!I149=\"\",0,LP!K149)","v":0},null,{"$f":"IF(BPBPS!B149=\"\",\"\",BPBPS!C149)","v":""},{"$f":"IF(BPBPS!B149=\"\",0,BPBPS!D149)","v":0},null,{"$f":"IF(BPBPS!F149=\"\",\"\",BPBPS!G149)","v":""},{"$f":"IF(BPBPS!H149=\"\",0,BPBPS!H149)","v":0},null,{"$f":"IF(BPBPS!J149=\"\",\"\",BPBPS!K149)","v":""},{"$f":"IF(BPBPS!J149=\"\",0,BPBPS!L149)","v":0},null,{"$f":"IF(SSGP!B149=\"\",\"\",SSGP!C149)","v":""},{"$f":"IF(SSGP!B149=\"\",0,SSGP!D149)","v":0},null,{"$f":"IF(SSGP!F149=\"\",\"\",SSGP!G149)","v":""},{"$f":"IF(SSGP!F149=\"\",0,SSGP!H149)","v":0}]
[148,{"$f":"IF(WPP!B150=\"\",\"\",WPP!C150)","v":""},{"$f":"IF(WPP!B150=\"\",0,WPP!D150)","v":0},{"$f":"IF(WPP!B150=\"\",0,WPP!E150)","v":0},null,{"$f":"IF(WPP!G150=\"\",\"\",WPP!H150)","v":""},{"$f":"IF(WPP!G150=\"\",0,WPP!I150)","v":0},{"$f":"IF(WPP!G150=\"\",0,WPP!J150)","v":0},null,{"$f":"IF(KSP!B150=\"\",\"\",KSP!C150)","v":""},{"$f":"IF(KSP!B150=\"\",0,KSP!D150)","v":0},{"$f":"IF(KSP!B150=\"\",0,KSP!E150)","v":0},null,{"$f":"IF(KSP!G150=\"\",\"\",KSP!H150)","v":""},{"$f":"IF(KSP!G150=\"\",0,KSP!I150)","v":0},{"$f":"IF(KSP!G150=\"\",0,KSP!J150)","v":0},null,{"$f":"IF(FSP!B150=\"\",\"\",FSP!C150)","v":""},{"$f":"IF(FSP!B150=\"\",0,FSP!D150)","v":0},{"$f":"IF(FSP!B150=\"\",0,FSP!E150)","v":0},null,{"$f":"IF(FSP!G150=\"\",\"\",FSP!H150)","v":""},{"$f":"IF(FSP!G150=\"\",0,FSP!I150)","v":0},null,{"$f":"IF(PS!B152=\"\",\"\",PS!C152)","v":""},{"$f":"IF(PS!B152=\"\",\"\",PS!D152)","v":""},null,{"$f":"IF(PS!F152=\"\",\"\",PS!G152)","v":""},{"$f":"IF(PS!F152=\"\",\"\",PS!H152)","v":""},null,{"$f":"IF(LP!A150=\"\",\"\",LP!B150)","v":""},{"$f":"IF(LP!A150=\"\",0,LP!C150)","v":0},null,{"$f":"IF(LP!E150=\"\",\"\",LP!F150)","v":""},{"$f":"IF(LP!E150=\"\",0,LP!G150)","v":0},null,{"$f":"IF(LP!I150=\"\",\"\",LP!J150)","v":""},{"$f":"IF(LP!I150=\"\",0,LP!K150)","v":0},null,{"$f":"IF(BPBPS!B150=\"\",\"\",BPBPS!C150)","v":""},{"$f":"IF(BPBPS!B150=\"\",0,BPBPS!D150)","v":0},null,{"$f":"IF(BPBPS!F150=\"\",\"\",BPBPS!G150)","v":""},{"$f":"IF(BPBPS!H150=\"\",0,BPBPS!H150)","v":0},null,{"$f":"IF(BPBPS!J150=\"\",\"\",BPBPS!K150)","v":""},{"$f":"IF(BPBPS!J150=\"\",0,BPBPS!L150)","v":0},null,{"$f":"IF(SSGP!B150=\"\",\"\",SSGP!C150)","v":""},{"$f":"IF(SSGP!B150=\"\",0,SSGP!D150)","v":0},null,{"$f":"IF(SSGP!F150=\"\",\"\",SSGP!G150)","v":""},{"$f":"IF(SSGP!F150=\"\",0,SSGP!H150)","v":0}]
[149,{"$f":"IF(WPP!B151=\"\",\"\",WPP!C151)","v":""},{"$f":"IF(WPP!B151=\"\",0,WPP!D151)","v":0},{"$f":"IF(WPP!B151=\"\",0,WPP!E151)","v":0},null,{"$f":"IF(WPP!G151=\"\",\"\",WPP!H151)","v":""},{"$f":"IF(WPP!G151=\"\",0,WPP!I151)","v":0},{"$f":"IF(WPP!G151=\"\",0,WPP!J151)","v":0},null,{"$f":"IF(KSP!B151=\"\",\"\",KSP!C151)","v":""},{"$f":"IF(KSP!B151=\"\",0,KSP!D151)","v":0},{"$f":"IF(KSP!B151=\"\",0,KSP!E151)","v":0},null,{"$f":"IF(KSP!G151=\"\",\"\",KSP!H151)","v":""},{"$f":"IF(KSP!G151=\"\",0,KSP!I151)","v":0},{"$f":"IF(KSP!G151=\"\",0,KSP!J151)","v":0},null,{"$f":"IF(FSP!B151=\"\",\"\",FSP!C151)","v":""},{"$f":"IF(FSP!B151=\"\",0,FSP!D151)","v":0},{"$f":"IF(FSP!B151=\"\",0,FSP!E151)","v":0},null,{"$f":"IF(FSP!G151=\"\",\"\",FSP!H151)","v":""},{"$f":"IF(FSP!G151=\"\",0,FSP!I151)","v":0},null,{"$f":"IF(PS!B153=\"\",\"\",PS!C153)","v":""},{"$f":"IF(PS!B153=\"\",\"\",PS!D153)","v":""},null,{"$f":"IF(PS!F153=\"\",\"\",PS!G153)","v":""},{"$f":"IF(PS!F153=\"\",\"\",PS!H153)","v":""},null,{"$f":"IF(LP!A151=\"\",\"\",LP!B151)","v":""},{"$f":"IF(LP!A151=\"\",0,LP!C151)","v":0},null,{"$f":"IF(LP!E151=\"\",\"\",LP!F151)","v":""},{"$f":"IF(LP!E151=\"\",0,LP!G151)","v":0},null,{"$f":"IF(LP!I151=\"\",\"\",LP!J151)","v":""},{"$f":"IF(LP!I151=\"\",0,LP!K151)","v":0},null,{"$f":"IF(BPBPS!B151=\"\",\"\",BPBPS!C151)","v":""},{"$f":"IF(BPBPS!B151=\"\",0,BPBPS!D151)","v":0},null,{"$f":"IF(BPBPS!F151=\"\",\"\",BPBPS!G151)","v":""},{"$f":"IF(BPBPS!H151=\"\",0,BPBPS!H151)","v":0},null,{"$f":"IF(BPBPS!J151=\"\",\"\",BPBPS!K151)","v":""},{"$f":"IF(BPBPS!J151=\"\",0,BPBPS!L151)","v":0},null,{"$f":"IF(SSGP!B151=\"\",\"\",SSGP!C151)","v":""},{"$f":"IF(SSGP!B151=\"\",0,SSGP!D151)","v":0},null,{"$f":"IF(SSGP!F151=\"\",\"\",SSGP!G151)","v":""},{"$f":"IF(SSGP!F151=\"\",0,SSGP!H151)","v":0}]
[150,{"$f":"IF(WPP!B152=\"\",\"\",WPP!C152)","v":""},{"$f":"IF(WPP!B152=\"\",0,WPP!D152)","v":0},{"$f":"IF(WPP!B152=\"\",0,WPP!E152)","v":0},null,{"$f":"IF(WPP!G152=\"\",\"\",WPP!H152)","v":""},{"$f":"IF(WPP!G152=\"\",0,WPP!I152)","v":0},{"$f":"IF(WPP!G152=\"\",0,WPP!J152)","v":0},null,{"$f":"IF(KSP!B152=\"\",\"\",KSP!C152)","v":""},{"$f":"IF(KSP!B152=\"\",0,KSP!D152)","v":0},{"$f":"IF(KSP!B152=\"\",0,KSP!E152)","v":0},null,{"$f":"IF(KSP!G152=\"\",\"\",KSP!H152)","v":""},{"$f":"IF(KSP!G152=\"\",0,KSP!I152)","v":0},{"$f":"IF(KSP!G152=\"\",0,KSP!J152)","v":0},null,{"$f":"IF(FSP!B152=\"\",\"\",FSP!C152)","v":""},{"$f":"IF(FSP!B152=\"\",0,FSP!D152)","v":0},{"$f":"IF(FSP!B152=\"\",0,FSP!E152)","v":0},null,{"$f":"IF(FSP!G152=\"\",\"\",FSP!H152)","v":""},{"$f":"IF(FSP!G152=\"\",0,FSP!I152)","v":0},null,{"$f":"IF(PS!B154=\"\",\"\",PS!C154)","v":""},{"$f":"IF(PS!B154=\"\",\"\",PS!D154)","v":""},null,{"$f":"IF(PS!F154=\"\",\"\",PS!G154)","v":""},{"$f":"IF(PS!F154=\"\",\"\",PS!H154)","v":""},null,{"$f":"IF(LP!A152=\"\",\"\",LP!B152)","v":""},{"$f":"IF(LP!A152=\"\",0,LP!C152)","v":0},null,{"$f":"IF(LP!E152=\"\",\"\",LP!F152)","v":""},{"$f":"IF(LP!E152=\"\",0,LP!G152)","v":0},null,{"$f":"IF(LP!I152=\"\",\"\",LP!J152)","v":""},{"$f":"IF(LP!I152=\"\",0,LP!K152)","v":0},null,{"$f":"IF(BPBPS!B152=\"\",\"\",BPBPS!C152)","v":""},{"$f":"IF(BPBPS!B152=\"\",0,BPBPS!D152)","v":0},null,{"$f":"IF(BPBPS!F152=\"\",\"\",BPBPS!G152)","v":""},{"$f":"IF(BPBPS!H152=\"\",0,BPBPS!H152)","v":0},null,{"$f":"IF(BPBPS!J152=\"\",\"\",BPBPS!K152)","v":""},{"$f":"IF(BPBPS!J152=\"\",0,BPBPS!L152)","v":0},null,{"$f":"IF(SSGP!B152=\"\",\"\",SSGP!C152)","v":""},{"$f":"IF(SSGP!B152=\"\",0,SSGP!D152)","v":0},null,{"$f":"IF(SSGP!F152=\"\",\"\",SSGP!G152)","v":""},{"$f":"IF(SSGP!F152=\"\",0,SSGP!H152)","v":0}]
[151,{"$f":"IF(WPP!B153=\"\",\"\",WPP!C153)","v":""},{"$f":"IF(WPP!B153=\"\",0,WPP!D153)","v":0},{"$f":"IF(WPP!B153=\"\",0,WPP!E153)","v":0},null,{"$f":"IF(WPP!G153=\"\",\"\",WPP!H153)","v":""},{"$f":"IF(WPP!G153=\"\",0,WPP!I153)","v":0},{"$f":"IF(WPP!G153=\"\",0,WPP!J153)","v":0},null,{"$f":"IF(KSP!B153=\"\",\"\",KSP!C153)","v":""},{"$f":"IF(KSP!B153=\"\",0,KSP!D153)","v":0},{"$f":"IF(KSP!B153=\"\",0,KSP!E153)","v":0},null,{"$f":"IF(KSP!G153=\"\",\"\",KSP!H153)","v":""},{"$f":"IF(KSP!G153=\"\",0,KSP!I153)","v":0},{"$f":"IF(KSP!G153=\"\",0,KSP!J153)","v":0},null,{"$f":"IF(FSP!B153=\"\",\"\",FSP!C153)","v":""},{"$f":"IF(FSP!B153=\"\",0,FSP!D153)","v":0},{"$f":"IF(FSP!B153=\"\",0,FSP!E153)","v":0},null,{"$f":"IF(FSP!G153=\"\",\"\",FSP!H153)","v":""},{"$f":"IF(FSP!G153=\"\",0,FSP!I153)","v":0},null,{"$f":"IF(PS!B155=\"\",\"\",PS!C155)","v":""},{"$f":"IF(PS!B155=\"\",\"\",PS!D155)","v":""},null,{"$f":"IF(PS!F155=\"\",\"\",PS!G155)","v":""},{"$f":"IF(PS!F155=\"\",\"\",PS!H155)","v":""},null,{"$f":"IF(LP!A153=\"\",\"\",LP!B153)","v":""},{"$f":"IF(LP!A153=\"\",0,LP!C153)","v":0},null,{"$f":"IF(LP!E153=\"\",\"\",LP!F153)","v":""},{"$f":"IF(LP!E153=\"\",0,LP!G153)","v":0},null,{"$f":"IF(LP!I153=\"\",\"\",LP!J153)","v":""},{"$f":"IF(LP!I153=\"\",0,LP!K153)","v":0},null,{"$f":"IF(BPBPS!B153=\"\",\"\",BPBPS!C153)","v":""},{"$f":"IF(BPBPS!B153=\"\",0,BPBPS!D153)","v":0},null,{"$f":"IF(BPBPS!F153=\"\",\"\",BPBPS!G153)","v":""},{"$f":"IF(BPBPS!H153=\"\",0,BPBPS!H153)","v":0},null,{"$f":"IF(BPBPS!J153=\"\",\"\",BPBPS!K153)","v":""},{"$f":"IF(BPBPS!J153=\"\",0,BPBPS!L153)","v":0},null,{"$f":"IF(SSGP!B153=\"\",\"\",SSGP!C153)","v":""},{"$f":"IF(SSGP!B153=\"\",0,SSGP!D153)","v":0},null,{"$f":"IF(SSGP!F153=\"\",\"\",SSGP!G153)","v":""},{"$f":"IF(SSGP!F153=\"\",0,SSGP!H153)","v":0}]
[152,{"$f":"IF(WPP!B154=\"\",\"\",WPP!C154)","v":""},{"$f":"IF(WPP!B154=\"\",0,WPP!D154)","v":0},{"$f":"IF(WPP!B154=\"\",0,WPP!E154)","v":0},null,{"$f":"IF(WPP!G154=\"\",\"\",WPP!H154)","v":""},{"$f":"IF(WPP!G154=\"\",0,WPP!I154)","v":0},{"$f":"IF(WPP!G154=\"\",0,WPP!J154)","v":0},null,{"$f":"IF(KSP!B154=\"\",\"\",KSP!C154)","v":""},{"$f":"IF(KSP!B154=\"\",0,KSP!D154)","v":0},{"$f":"IF(KSP!B154=\"\",0,KSP!E154)","v":0},null,{"$f":"IF(KSP!G154=\"\",\"\",KSP!H154)","v":""},{"$f":"IF(KSP!G154=\"\",0,KSP!I154)","v":0},{"$f":"IF(KSP!G154=\"\",0,KSP!J154)","v":0},null,{"$f":"IF(FSP!B154=\"\",\"\",FSP!C154)","v":""},{"$f":"IF(FSP!B154=\"\",0,FSP!D154)","v":0},{"$f":"IF(FSP!B154=\"\",0,FSP!E154)","v":0},null,{"$f":"IF(FSP!G154=\"\",\"\",FSP!H154)","v":""},{"$f":"IF(FSP!G154=\"\",0,FSP!I154)","v":0},null,{"$f":"IF(PS!B156=\"\",\"\",PS!C156)","v":""},{"$f":"IF(PS!B156=\"\",\"\",PS!D156)","v":""},null,{"$f":"IF(PS!F156=\"\",\"\",PS!G156)","v":""},{"$f":"IF(PS!F156=\"\",\"\",PS!H156)","v":""},null,{"$f":"IF(LP!A154=\"\",\"\",LP!B154)","v":""},{"$f":"IF(LP!A154=\"\",0,LP!C154)","v":0},null,{"$f":"IF(LP!E154=\"\",\"\",LP!F154)","v":""},{"$f":"IF(LP!E154=\"\",0,LP!G154)","v":0},null,{"$f":"IF(LP!I154=\"\",\"\",LP!J154)","v":""},{"$f":"IF(LP!I154=\"\",0,LP!K154)","v":0},null,{"$f":"IF(BPBPS!B154=\"\",\"\",BPBPS!C154)","v":""},{"$f":"IF(BPBPS!B154=\"\",0,BPBPS!D154)","v":0},null,{"$f":"IF(BPBPS!F154=\"\",\"\",BPBPS!G154)","v":""},{"$f":"IF(BPBPS!H154=\"\",0,BPBPS!H154)","v":0},null,{"$f":"IF(BPBPS!J154=\"\",\"\",BPBPS!K154)","v":""},{"$f":"IF(BPBPS!J154=\"\",0,BPBPS!L154)","v":0},null,{"$f":"IF(SSGP!B154=\"\",\"\",SSGP!C154)","v":""},{"$f":"IF(SSGP!B154=\"\",0,SSGP!D154)","v":0},null,{"$f":"IF(SSGP!F154=\"\",\"\",SSGP!G154)","v":""},{"$f":"IF(SSGP!F154=\"\",0,SSGP!H154)","v":0}]
[153,{"$f":"IF(WPP!B155=\"\",\"\",WPP!C155)","v":""},{"$f":"IF(WPP!B155=\"\",0,WPP!D155)","v":0},{"$f":"IF(WPP!B155=\"\",0,WPP!E155)","v":0},null,{"$f":"IF(WPP!G155=\"\",\"\",WPP!H155)","v":""},{"$f":"IF(WPP!G155=\"\",0,WPP!I155)","v":0},{"$f":"IF(WPP!G155=\"\",0,WPP!J155)","v":0},null,{"$f":"IF(KSP!B155=\"\",\"\",KSP!C155)","v":""},{"$f":"IF(KSP!B155=\"\",0,KSP!D155)","v":0},{"$f":"IF(KSP!B155=\"\",0,KSP!E155)","v":0},null,{"$f":"IF(KSP!G155=\"\",\"\",KSP!H155)","v":""},{"$f":"IF(KSP!G155=\"\",0,KSP!I155)","v":0},{"$f":"IF(KSP!G155=\"\",0,KSP!J155)","v":0},null,{"$f":"IF(FSP!B155=\"\",\"\",FSP!C155)","v":""},{"$f":"IF(FSP!B155=\"\",0,FSP!D155)","v":0},{"$f":"IF(FSP!B155=\"\",0,FSP!E155)","v":0},null,{"$f":"IF(FSP!G155=\"\",\"\",FSP!H155)","v":""},{"$f":"IF(FSP!G155=\"\",0,FSP!I155)","v":0},null,{"$f":"IF(PS!B157=\"\",\"\",PS!C157)","v":""},{"$f":"IF(PS!B157=\"\",\"\",PS!D157)","v":""},null,{"$f":"IF(PS!F157=\"\",\"\",PS!G157)","v":""},{"$f":"IF(PS!F157=\"\",\"\",PS!H157)","v":""},null,{"$f":"IF(LP!A155=\"\",\"\",LP!B155)","v":""},{"$f":"IF(LP!A155=\"\",0,LP!C155)","v":0},null,{"$f":"IF(LP!E155=\"\",\"\",LP!F155)","v":""},{"$f":"IF(LP!E155=\"\",0,LP!G155)","v":0},null,{"$f":"IF(LP!I155=\"\",\"\",LP!J155)","v":""},{"$f":"IF(LP!I155=\"\",0,LP!K155)","v":0},null,{"$f":"IF(BPBPS!B155=\"\",\"\",BPBPS!C155)","v":""},{"$f":"IF(BPBPS!B155=\"\",0,BPBPS!D155)","v":0},null,{"$f":"IF(BPBPS!F155=\"\",\"\",BPBPS!G155)","v":""},{"$f":"IF(BPBPS!H155=\"\",0,BPBPS!H155)","v":0},null,{"$f":"IF(BPBPS!J155=\"\",\"\",BPBPS!K155)","v":""},{"$f":"IF(BPBPS!J155=\"\",0,BPBPS!L155)","v":0},null,{"$f":"IF(SSGP!B155=\"\",\"\",SSGP!C155)","v":""},{"$f":"IF(SSGP!B155=\"\",0,SSGP!D155)","v":0},null,{"$f":"IF(SSGP!F155=\"\",\"\",SSGP!G155)","v":""},{"$f":"IF(SSGP!F155=\"\",0,SSGP!H155)","v":0}]
[154,{"$f":"IF(WPP!B156=\"\",\"\",WPP!C156)","v":""},{"$f":"IF(WPP!B156=\"\",0,WPP!D156)","v":0},{"$f":"IF(WPP!B156=\"\",0,WPP!E156)","v":0},null,{"$f":"IF(WPP!G156=\"\",\"\",WPP!H156)","v":""},{"$f":"IF(WPP!G156=\"\",0,WPP!I156)","v":0},{"$f":"IF(WPP!G156=\"\",0,WPP!J156)","v":0},null,{"$f":"IF(KSP!B156=\"\",\"\",KSP!C156)","v":""},{"$f":"IF(KSP!B156=\"\",0,KSP!D156)","v":0},{"$f":"IF(KSP!B156=\"\",0,KSP!E156)","v":0},null,{"$f":"IF(KSP!G156=\"\",\"\",KSP!H156)","v":""},{"$f":"IF(KSP!G156=\"\",0,KSP!I156)","v":0},{"$f":"IF(KSP!G156=\"\",0,KSP!J156)","v":0},null,{"$f":"IF(FSP!B156=\"\",\"\",FSP!C156)","v":""},{"$f":"IF(FSP!B156=\"\",0,FSP!D156)","v":0},{"$f":"IF(FSP!B156=\"\",0,FSP!E156)","v":0},null,{"$f":"IF(FSP!G156=\"\",\"\",FSP!H156)","v":""},{"$f":"IF(FSP!G156=\"\",0,FSP!I156)","v":0},null,{"$f":"IF(PS!B158=\"\",\"\",PS!C158)","v":""},{"$f":"IF(PS!B158=\"\",\"\",PS!D158)","v":""},null,{"$f":"IF(PS!F158=\"\",\"\",PS!G158)","v":""},{"$f":"IF(PS!F158=\"\",\"\",PS!H158)","v":""},null,{"$f":"IF(LP!A156=\"\",\"\",LP!B156)","v":""},{"$f":"IF(LP!A156=\"\",0,LP!C156)","v":0},null,{"$f":"IF(LP!E156=\"\",\"\",LP!F156)","v":""},{"$f":"IF(LP!E156=\"\",0,LP!G156)","v":0},null,{"$f":"IF(LP!I156=\"\",\"\",LP!J156)","v":""},{"$f":"IF(LP!I156=\"\",0,LP!K156)","v":0},null,{"$f":"IF(BPBPS!B156=\"\",\"\",BPBPS!C156)","v":""},{"$f":"IF(BPBPS!B156=\"\",0,BPBPS!D156)","v":0},null,{"$f":"IF(BPBPS!F156=\"\",\"\",BPBPS!G156)","v":""},{"$f":"IF(BPBPS!H156=\"\",0,BPBPS!H156)","v":0},null,{"$f":"IF(BPBPS!J156=\"\",\"\",BPBPS!K156)","v":""},{"$f":"IF(BPBPS!J156=\"\",0,BPBPS!L156)","v":0},null,{"$f":"IF(SSGP!B156=\"\",\"\",SSGP!C156)","v":""},{"$f":"IF(SSGP!B156=\"\",0,SSGP!D156)","v":0},null,{"$f":"IF(SSGP!F156=\"\",\"\",SSGP!G156)","v":""},{"$f":"IF(SSGP!F156=\"\",0,SSGP!H156)","v":0}]
[155,{"$f":"IF(WPP!B157=\"\",\"\",WPP!C157)","v":""},{"$f":"IF(WPP!B157=\"\",0,WPP!D157)","v":0},{"$f":"IF(WPP!B157=\"\",0,WPP!E157)","v":0},null,{"$f":"IF(WPP!G157=\"\",\"\",WPP!H157)","v":""},{"$f":"IF(WPP!G157=\"\",0,WPP!I157)","v":0},{"$f":"IF(WPP!G157=\"\",0,WPP!J157)","v":0},null,{"$f":"IF(KSP!B157=\"\",\"\",KSP!C157)","v":""},{"$f":"IF(KSP!B157=\"\",0,KSP!D157)","v":0},{"$f":"IF(KSP!B157=\"\",0,KSP!E157)","v":0},null,{"$f":"IF(KSP!G157=\"\",\"\",KSP!H157)","v":""},{"$f":"IF(KSP!G157=\"\",0,KSP!I157)","v":0},{"$f":"IF(KSP!G157=\"\",0,KSP!J157)","v":0},null,{"$f":"IF(FSP!B157=\"\",\"\",FSP!C157)","v":""},{"$f":"IF(FSP!B157=\"\",0,FSP!D157)","v":0},{"$f":"IF(FSP!B157=\"\",0,FSP!E157)","v":0},null,{"$f":"IF(FSP!G157=\"\",\"\",FSP!H157)","v":""},{"$f":"IF(FSP!G157=\"\",0,FSP!I157)","v":0},null,{"$f":"IF(PS!B159=\"\",\"\",PS!C159)","v":""},{"$f":"IF(PS!B159=\"\",\"\",PS!D159)","v":""},null,{"$f":"IF(PS!F159=\"\",\"\",PS!G159)","v":""},{"$f":"IF(PS!F159=\"\",\"\",PS!H159)","v":""},null,{"$f":"IF(LP!A157=\"\",\"\",LP!B157)","v":""},{"$f":"IF(LP!A157=\"\",0,LP!C157)","v":0},null,{"$f":"IF(LP!E157=\"\",\"\",LP!F157)","v":""},{"$f":"IF(LP!E157=\"\",0,LP!G157)","v":0},null,{"$f":"IF(LP!I157=\"\",\"\",LP!J157)","v":""},{"$f":"IF(LP!I157=\"\",0,LP!K157)","v":0},null,{"$f":"IF(BPBPS!B157=\"\",\"\",BPBPS!C157)","v":""},{"$f":"IF(BPBPS!B157=\"\",0,BPBPS!D157)","v":0},null,{"$f":"IF(BPBPS!F157=\"\",\"\",BPBPS!G157)","v":""},{"$f":"IF(BPBPS!H157=\"\",0,BPBPS!H157)","v":0},null,{"$f":"IF(BPBPS!J157=\"\",\"\",BPBPS!K157)","v":""},{"$f":"IF(BPBPS!J157=\"\",0,BPBPS!L157)","v":0},null,{"$f":"IF(SSGP!B157=\"\",\"\",SSGP!C157)","v":""},{"$f":"IF(SSGP!B157=\"\",0,SSGP!D157)","v":0},null,{"$f":"IF(SSGP!F157=\"\",\"\",SSGP!G157)","v":""},{"$f":"IF(SSGP!F157=\"\",0,SSGP!H157)","v":0}]
[156,{"$f":"IF(WPP!B158=\"\",\"\",WPP!C158)","v":""},{"$f":"IF(WPP!B158=\"\",0,WPP!D158)","v":0},{"$f":"IF(WPP!B158=\"\",0,WPP!E158)","v":0},null,{"$f":"IF(WPP!G158=\"\",\"\",WPP!H158)","v":""},{"$f":"IF(WPP!G158=\"\",0,WPP!I158)","v":0},{"$f":"IF(WPP!G158=\"\",0,WPP!J158)","v":0},null,{"$f":"IF(KSP!B158=\"\",\"\",KSP!C158)","v":""},{"$f":"IF(KSP!B158=\"\",0,KSP!D158)","v":0},{"$f":"IF(KSP!B158=\"\",0,KSP!E158)","v":0},null,{"$f":"IF(KSP!G158=\"\",\"\",KSP!H158)","v":""},{"$f":"IF(KSP!G158=\"\",0,KSP!I158)","v":0},{"$f":"IF(KSP!G158=\"\",0,KSP!J158)","v":0},null,{"$f":"IF(FSP!B158=\"\",\"\",FSP!C158)","v":""},{"$f":"IF(FSP!B158=\"\",0,FSP!D158)","v":0},{"$f":"IF(FSP!B158=\"\",0,FSP!E158)","v":0},null,{"$f":"IF(FSP!G158=\"\",\"\",FSP!H158)","v":""},{"$f":"IF(FSP!G158=\"\",0,FSP!I158)","v":0},null,{"$f":"IF(PS!B160=\"\",\"\",PS!C160)","v":""},{"$f":"IF(PS!B160=\"\",\"\",PS!D160)","v":""},null,{"$f":"IF(PS!F160=\"\",\"\",PS!G160)","v":""},{"$f":"IF(PS!F160=\"\",\"\",PS!H160)","v":""},null,{"$f":"IF(LP!A158=\"\",\"\",LP!B158)","v":""},{"$f":"IF(LP!A158=\"\",0,LP!C158)","v":0},null,{"$f":"IF(LP!E158=\"\",\"\",LP!F158)","v":""},{"$f":"IF(LP!E158=\"\",0,LP!G158)","v":0},null,{"$f":"IF(LP!I158=\"\",\"\",LP!J158)","v":""},{"$f":"IF(LP!I158=\"\",0,LP!K158)","v":0},null,{"$f":"IF(BPBPS!B158=\"\",\"\",BPBPS!C158)","v":""},{"$f":"IF(BPBPS!B158=\"\",0,BPBPS!D158)","v":0},null,{"$f":"IF(BPBPS!F158=\"\",\"\",BPBPS!G158)","v":""},{"$f":"IF(BPBPS!H158=\"\",0,BPBPS!H158)","v":0},null,{"$f":"IF(BPBPS!J158=\"\",\"\",BPBPS!K158)","v":""},{"$f":"IF(BPBPS!J158=\"\",0,BPBPS!L158)","v":0},null,{"$f":"IF(SSGP!B158=\"\",\"\",SSGP!C158)","v":""},{"$f":"IF(SSGP!B158=\"\",0,SSGP!D158)","v":0},null,{"$f":"IF(SSGP!F158=\"\",\"\",SSGP!G158)","v":""},{"$f":"IF(SSGP!F158=\"\",0,SSGP!H158)","v":0}]
[157,{"$f":"IF(WPP!B159=\"\",\"\",WPP!C159)","v":""},{"$f":"IF(WPP!B159=\"\",0,WPP!D159)","v":0},{"$f":"IF(WPP!B159=\"\",0,WPP!E159)","v":0},null,{"$f":"IF(WPP!G159=\"\",\"\",WPP!H159)","v":""},{"$f":"IF(WPP!G159=\"\",0,WPP!I159)","v":0},{"$f":"IF(WPP!G159=\"\",0,WPP!J159)","v":0},null,{"$f":"IF(KSP!B159=\"\",\"\",KSP!C159)","v":""},{"$f":"IF(KSP!B159=\"\",0,KSP!D159)","v":0},{"$f":"IF(KSP!B159=\"\",0,KSP!E159)","v":0},null,{"$f":"IF(KSP!G159=\"\",\"\",KSP!H159)","v":""},{"$f":"IF(KSP!G159=\"\",0,KSP!I159)","v":0},{"$f":"IF(KSP!G159=\"\",0,KSP!J159)","v":0},null,{"$f":"IF(FSP!B159=\"\",\"\",FSP!C159)","v":""},{"$f":"IF(FSP!B159=\"\",0,FSP!D159)","v":0},{"$f":"IF(FSP!B159=\"\",0,FSP!E159)","v":0},null,{"$f":"IF(FSP!G159=\"\",\"\",FSP!H159)","v":""},{"$f":"IF(FSP!G159=\"\",0,FSP!I159)","v":0},null,{"$f":"IF(PS!B161=\"\",\"\",PS!C161)","v":""},{"$f":"IF(PS!B161=\"\",\"\",PS!D161)","v":""},null,{"$f":"IF(PS!F161=\"\",\"\",PS!G161)","v":""},{"$f":"IF(PS!F161=\"\",\"\",PS!H161)","v":""},null,{"$f":"IF(LP!A159=\"\",\"\",LP!B159)","v":""},{"$f":"IF(LP!A159=\"\",0,LP!C159)","v":0},null,{"$f":"IF(LP!E159=\"\",\"\",LP!F159)","v":""},{"$f":"IF(LP!E159=\"\",0,LP!G159)","v":0},null,{"$f":"IF(LP!I159=\"\",\"\",LP!J159)","v":""},{"$f":"IF(LP!I159=\"\",0,LP!K159)","v":0},null,{"$f":"IF(BPBPS!B159=\"\",\"\",BPBPS!C159)","v":""},{"$f":"IF(BPBPS!B159=\"\",0,BPBPS!D159)","v":0},null,{"$f":"IF(BPBPS!F159=\"\",\"\",BPBPS!G159)","v":""},{"$f":"IF(BPBPS!H159=\"\",0,BPBPS!H159)","v":0},null,{"$f":"IF(BPBPS!J159=\"\",\"\",BPBPS!K159)","v":""},{"$f":"IF(BPBPS!J159=\"\",0,BPBPS!L159)","v":0},null,{"$f":"IF(SSGP!B159=\"\",\"\",SSGP!C159)","v":""},{"$f":"IF(SSGP!B159=\"\",0,SSGP!D159)","v":0},null,{"$f":"IF(SSGP!F159=\"\",\"\",SSGP!G159)","v":""},{"$f":"IF(SSGP!F159=\"\",0,SSGP!H159)","v":0}]
[158,{"$f":"IF(WPP!B160=\"\",\"\",WPP!C160)","v":""},{"$f":"IF(WPP!B160=\"\",0,WPP!D160)","v":0},{"$f":"IF(WPP!B160=\"\",0,WPP!E160)","v":0},null,{"$f":"IF(WPP!G160=\"\",\"\",WPP!H160)","v":""},{"$f":"IF(WPP!G160=\"\",0,WPP!I160)","v":0},{"$f":"IF(WPP!G160=\"\",0,WPP!J160)","v":0},null,{"$f":"IF(KSP!B160=\"\",\"\",KSP!C160)","v":""},{"$f":"IF(KSP!B160=\"\",0,KSP!D160)","v":0},{"$f":"IF(KSP!B160=\"\",0,KSP!E160)","v":0},null,{"$f":"IF(KSP!G160=\"\",\"\",KSP!H160)","v":""},{"$f":"IF(KSP!G160=\"\",0,KSP!I160)","v":0},{"$f":"IF(KSP!G160=\"\",0,KSP!J160)","v":0},null,{"$f":"IF(FSP!B160=\"\",\"\",FSP!C160)","v":""},{"$f":"IF(FSP!B160=\"\",0,FSP!D160)","v":0},{"$f":"IF(FSP!B160=\"\",0,FSP!E160)","v":0},null,{"$f":"IF(FSP!G160=\"\",\"\",FSP!H160)","v":""},{"$f":"IF(FSP!G160=\"\",0,FSP!I160)","v":0},null,{"$f":"IF(PS!B162=\"\",\"\",PS!C162)","v":""},{"$f":"IF(PS!B162=\"\",\"\",PS!D162)","v":""},null,{"$f":"IF(PS!F162=\"\",\"\",PS!G162)","v":""},{"$f":"IF(PS!F162=\"\",\"\",PS!H162)","v":""},null,{"$f":"IF(LP!A160=\"\",\"\",LP!B160)","v":""},{"$f":"IF(LP!A160=\"\",0,LP!C160)","v":0},null,{"$f":"IF(LP!E160=\"\",\"\",LP!F160)","v":""},{"$f":"IF(LP!E160=\"\",0,LP!G160)","v":0},null,{"$f":"IF(LP!I160=\"\",\"\",LP!J160)","v":""},{"$f":"IF(LP!I160=\"\",0,LP!K160)","v":0},null,{"$f":"IF(BPBPS!B160=\"\",\"\",BPBPS!C160)","v":""},{"$f":"IF(BPBPS!B160=\"\",0,BPBPS!D160)","v":0},null,{"$f":"IF(BPBPS!F160=\"\",\"\",BPBPS!G160)","v":""},{"$f":"IF(BPBPS!H160=\"\",0,BPBPS!H160)","v":0},null,{"$f":"IF(BPBPS!J160=\"\",\"\",BPBPS!K160)","v":""},{"$f":"IF(BPBPS!J160=\"\",0,BPBPS!L160)","v":0},null,{"$f":"IF(SSGP!B160=\"\",\"\",SSGP!C160)","v":""},{"$f":"IF(SSGP!B160=\"\",0,SSGP!D160)","v":0},null,{"$f":"IF(SSGP!F160=\"\",\"\",SSGP!G160)","v":""},{"$f":"IF(SSGP!F160=\"\",0,SSGP!H160)","v":0}]
[159,{"$f":"IF(WPP!B161=\"\",\"\",WPP!C161)","v":""},{"$f":"IF(WPP!B161=\"\",0,WPP!D161)","v":0},{"$f":"IF(WPP!B161=\"\",0,WPP!E161)","v":0},null,{"$f":"IF(WPP!G161=\"\",\"\",WPP!H161)","v":""},{"$f":"IF(WPP!G161=\"\",0,WPP!I161)","v":0},{"$f":"IF(WPP!G161=\"\",0,WPP!J161)","v":0},null,{"$f":"IF(KSP!B161=\"\",\"\",KSP!C161)","v":""},{"$f":"IF(KSP!B161=\"\",0,KSP!D161)","v":0},{"$f":"IF(KSP!B161=\"\",0,KSP!E161)","v":0},null,{"$f":"IF(KSP!G161=\"\",\"\",KSP!H161)","v":""},{"$f":"IF(KSP!G161=\"\",0,KSP!I161)","v":0},{"$f":"IF(KSP!G161=\"\",0,KSP!J161)","v":0},null,{"$f":"IF(FSP!B161=\"\",\"\",FSP!C161)","v":""},{"$f":"IF(FSP!B161=\"\",0,FSP!D161)","v":0},{"$f":"IF(FSP!B161=\"\",0,FSP!E161)","v":0},null,{"$f":"IF(FSP!G161=\"\",\"\",FSP!H161)","v":""},{"$f":"IF(FSP!G161=\"\",0,FSP!I161)","v":0},null,{"$f":"IF(PS!B163=\"\",\"\",PS!C163)","v":""},{"$f":"IF(PS!B163=\"\",\"\",PS!D163)","v":""},null,{"$f":"IF(PS!F163=\"\",\"\",PS!G163)","v":""},{"$f":"IF(PS!F163=\"\",\"\",PS!H163)","v":""},null,{"$f":"IF(LP!A161=\"\",\"\",LP!B161)","v":""},{"$f":"IF(LP!A161=\"\",0,LP!C161)","v":0},null,{"$f":"IF(LP!E161=\"\",\"\",LP!F161)","v":""},{"$f":"IF(LP!E161=\"\",0,LP!G161)","v":0},null,{"$f":"IF(LP!I161=\"\",\"\",LP!J161)","v":""},{"$f":"IF(LP!I161=\"\",0,LP!K161)","v":0},null,{"$f":"IF(BPBPS!B161=\"\",\"\",BPBPS!C161)","v":""},{"$f":"IF(BPBPS!B161=\"\",0,BPBPS!D161)","v":0},null,{"$f":"IF(BPBPS!F161=\"\",\"\",BPBPS!G161)","v":""},{"$f":"IF(BPBPS!H161=\"\",0,BPBPS!H161)","v":0},null,{"$f":"IF(BPBPS!J161=\"\",\"\",BPBPS!K161)","v":""},{"$f":"IF(BPBPS!J161=\"\",0,BPBPS!L161)","v":0},null,{"$f":"IF(SSGP!B161=\"\",\"\",SSGP!C161)","v":""},{"$f":"IF(SSGP!B161=\"\",0,SSGP!D161)","v":0},null,{"$f":"IF(SSGP!F161=\"\",\"\",SSGP!G161)","v":""},{"$f":"IF(SSGP!F161=\"\",0,SSGP!H161)","v":0}]
[160,{"$f":"IF(WPP!B162=\"\",\"\",WPP!C162)","v":""},{"$f":"IF(WPP!B162=\"\",0,WPP!D162)","v":0},{"$f":"IF(WPP!B162=\"\",0,WPP!E162)","v":0},null,{"$f":"IF(WPP!G162=\"\",\"\",WPP!H162)","v":""},{"$f":"IF(WPP!G162=\"\",0,WPP!I162)","v":0},{"$f":"IF(WPP!G162=\"\",0,WPP!J162)","v":0},null,{"$f":"IF(KSP!B162=\"\",\"\",KSP!C162)","v":""},{"$f":"IF(KSP!B162=\"\",0,KSP!D162)","v":0},{"$f":"IF(KSP!B162=\"\",0,KSP!E162)","v":0},null,{"$f":"IF(KSP!G162=\"\",\"\",KSP!H162)","v":""},{"$f":"IF(KSP!G162=\"\",0,KSP!I162)","v":0},{"$f":"IF(KSP!G162=\"\",0,KSP!J162)","v":0},null,{"$f":"IF(FSP!B162=\"\",\"\",FSP!C162)","v":""},{"$f":"IF(FSP!B162=\"\",0,FSP!D162)","v":0},{"$f":"IF(FSP!B162=\"\",0,FSP!E162)","v":0},null,{"$f":"IF(FSP!G162=\"\",\"\",FSP!H162)","v":""},{"$f":"IF(FSP!G162=\"\",0,FSP!I162)","v":0},null,{"$f":"IF(PS!B164=\"\",\"\",PS!C164)","v":""},{"$f":"IF(PS!B164=\"\",\"\",PS!D164)","v":""},null,{"$f":"IF(PS!F164=\"\",\"\",PS!G164)","v":""},{"$f":"IF(PS!F164=\"\",\"\",PS!H164)","v":""},null,{"$f":"IF(LP!A162=\"\",\"\",LP!B162)","v":""},{"$f":"IF(LP!A162=\"\",0,LP!C162)","v":0},null,{"$f":"IF(LP!E162=\"\",\"\",LP!F162)","v":""},{"$f":"IF(LP!E162=\"\",0,LP!G162)","v":0},null,{"$f":"IF(LP!I162=\"\",\"\",LP!J162)","v":""},{"$f":"IF(LP!I162=\"\",0,LP!K162)","v":0},null,{"$f":"IF(BPBPS!B162=\"\",\"\",BPBPS!C162)","v":""},{"$f":"IF(BPBPS!B162=\"\",0,BPBPS!D162)","v":0},null,{"$f":"IF(BPBPS!F162=\"\",\"\",BPBPS!G162)","v":""},{"$f":"IF(BPBPS!H162=\"\",0,BPBPS!H162)","v":0},null,{"$f":"IF(BPBPS!J162=\"\",\"\",BPBPS!K162)","v":""},{"$f":"IF(BPBPS!J162=\"\",0,BPBPS!L162)","v":0},null,{"$f":"IF(SSGP!B162=\"\",\"\",SSGP!C162)","v":""},{"$f":"IF(SSGP!B162=\"\",0,SSGP!D162)","v":0},null,{"$f":"IF(SSGP!F162=\"\",\"\",SSGP!G162)","v":""},{"$f":"IF(SSGP!F162=\"\",0,SSGP!H162)","v":0}]
[161,{"$f":"IF(WPP!B163=\"\",\"\",WPP!C163)","v":""},{"$f":"IF(WPP!B163=\"\",0,WPP!D163)","v":0},{"$f":"IF(WPP!B163=\"\",0,WPP!E163)","v":0},null,{"$f":"IF(WPP!G163=\"\",\"\",WPP!H163)","v":""},{"$f":"IF(WPP!G163=\"\",0,WPP!I163)","v":0},{"$f":"IF(WPP!G163=\"\",0,WPP!J163)","v":0},null,{"$f":"IF(KSP!B163=\"\",\"\",KSP!C163)","v":""},{"$f":"IF(KSP!B163=\"\",0,KSP!D163)","v":0},{"$f":"IF(KSP!B163=\"\",0,KSP!E163)","v":0},null,{"$f":"IF(KSP!G163=\"\",\"\",KSP!H163)","v":""},{"$f":"IF(KSP!G163=\"\",0,KSP!I163)","v":0},{"$f":"IF(KSP!G163=\"\",0,KSP!J163)","v":0},null,{"$f":"IF(FSP!B163=\"\",\"\",FSP!C163)","v":""},{"$f":"IF(FSP!B163=\"\",0,FSP!D163)","v":0},{"$f":"IF(FSP!B163=\"\",0,FSP!E163)","v":0},null,{"$f":"IF(FSP!G163=\"\",\"\",FSP!H163)","v":""},{"$f":"IF(FSP!G163=\"\",0,FSP!I163)","v":0},null,{"$f":"IF(PS!B165=\"\",\"\",PS!C165)","v":""},{"$f":"IF(PS!B165=\"\",\"\",PS!D165)","v":""},null,{"$f":"IF(PS!F165=\"\",\"\",PS!G165)","v":""},{"$f":"IF(PS!F165=\"\",\"\",PS!H165)","v":""},null,{"$f":"IF(LP!A163=\"\",\"\",LP!B163)","v":""},{"$f":"IF(LP!A163=\"\",0,LP!C163)","v":0},null,{"$f":"IF(LP!E163=\"\",\"\",LP!F163)","v":""},{"$f":"IF(LP!E163=\"\",0,LP!G163)","v":0},null,{"$f":"IF(LP!I163=\"\",\"\",LP!J163)","v":""},{"$f":"IF(LP!I163=\"\",0,LP!K163)","v":0},null,{"$f":"IF(BPBPS!B163=\"\",\"\",BPBPS!C163)","v":""},{"$f":"IF(BPBPS!B163=\"\",0,BPBPS!D163)","v":0},null,{"$f":"IF(BPBPS!F163=\"\",\"\",BPBPS!G163)","v":""},{"$f":"IF(BPBPS!H163=\"\",0,BPBPS!H163)","v":0},null,{"$f":"IF(BPBPS!J163=\"\",\"\",BPBPS!K163)","v":""},{"$f":"IF(BPBPS!J163=\"\",0,BPBPS!L163)","v":0},null,{"$f":"IF(SSGP!B163=\"\",\"\",SSGP!C163)","v":""},{"$f":"IF(SSGP!B163=\"\",0,SSGP!D163)","v":0},null,{"$f":"IF(SSGP!F163=\"\",\"\",SSGP!G163)","v":""},{"$f":"IF(SSGP!F163=\"\",0,SSGP!H163)","v":0}]
[162,{"$f":"IF(WPP!B164=\"\",\"\",WPP!C164)","v":""},{"$f":"IF(WPP!B164=\"\",0,WPP!D164)","v":0},{"$f":"IF(WPP!B164=\"\",0,WPP!E164)","v":0},null,{"$f":"IF(WPP!G164=\"\",\"\",WPP!H164)","v":""},{"$f":"IF(WPP!G164=\"\",0,WPP!I164)","v":0},{"$f":"IF(WPP!G164=\"\",0,WPP!J164)","v":0},null,{"$f":"IF(KSP!B164=\"\",\"\",KSP!C164)","v":""},{"$f":"IF(KSP!B164=\"\",0,KSP!D164)","v":0},{"$f":"IF(KSP!B164=\"\",0,KSP!E164)","v":0},null,{"$f":"IF(KSP!G164=\"\",\"\",KSP!H164)","v":""},{"$f":"IF(KSP!G164=\"\",0,KSP!I164)","v":0},{"$f":"IF(KSP!G164=\"\",0,KSP!J164)","v":0},null,{"$f":"IF(FSP!B164=\"\",\"\",FSP!C164)","v":""},{"$f":"IF(FSP!B164=\"\",0,FSP!D164)","v":0},{"$f":"IF(FSP!B164=\"\",0,FSP!E164)","v":0},null,{"$f":"IF(FSP!G164=\"\",\"\",FSP!H164)","v":""},{"$f":"IF(FSP!G164=\"\",0,FSP!I164)","v":0},null,{"$f":"IF(PS!B166=\"\",\"\",PS!C166)","v":""},{"$f":"IF(PS!B166=\"\",\"\",PS!D166)","v":""},null,{"$f":"IF(PS!F166=\"\",\"\",PS!G166)","v":""},{"$f":"IF(PS!F166=\"\",\"\",PS!H166)","v":""},null,{"$f":"IF(LP!A164=\"\",\"\",LP!B164)","v":""},{"$f":"IF(LP!A164=\"\",0,LP!C164)","v":0},null,{"$f":"IF(LP!E164=\"\",\"\",LP!F164)","v":""},{"$f":"IF(LP!E164=\"\",0,LP!G164)","v":0},null,{"$f":"IF(LP!I164=\"\",\"\",LP!J164)","v":""},{"$f":"IF(LP!I164=\"\",0,LP!K164)","v":0},null,{"$f":"IF(BPBPS!B164=\"\",\"\",BPBPS!C164)","v":""},{"$f":"IF(BPBPS!B164=\"\",0,BPBPS!D164)","v":0},null,{"$f":"IF(BPBPS!F164=\"\",\"\",BPBPS!G164)","v":""},{"$f":"IF(BPBPS!H164=\"\",0,BPBPS!H164)","v":0},null,{"$f":"IF(BPBPS!J164=\"\",\"\",BPBPS!K164)","v":""},{"$f":"IF(BPBPS!J164=\"\",0,BPBPS!L164)","v":0},null,{"$f":"IF(SSGP!B164=\"\",\"\",SSGP!C164)","v":""},{"$f":"IF(SSGP!B164=\"\",0,SSGP!D164)","v":0},null,{"$f":"IF(SSGP!F164=\"\",\"\",SSGP!G164)","v":""},{"$f":"IF(SSGP!F164=\"\",0,SSGP!H164)","v":0}]
[163,{"$f":"IF(WPP!B165=\"\",\"\",WPP!C165)","v":""},{"$f":"IF(WPP!B165=\"\",0,WPP!D165)","v":0},{"$f":"IF(WPP!B165=\"\",0,WPP!E165)","v":0},null,{"$f":"IF(WPP!G165=\"\",\"\",WPP!H165)","v":""},{"$f":"IF(WPP!G165=\"\",0,WPP!I165)","v":0},{"$f":"IF(WPP!G165=\"\",0,WPP!J165)","v":0},null,{"$f":"IF(KSP!B165=\"\",\"\",KSP!C165)","v":""},{"$f":"IF(KSP!B165=\"\",0,KSP!D165)","v":0},{"$f":"IF(KSP!B165=\"\",0,KSP!E165)","v":0},null,{"$f":"IF(KSP!G165=\"\",\"\",KSP!H165)","v":""},{"$f":"IF(KSP!G165=\"\",0,KSP!I165)","v":0},{"$f":"IF(KSP!G165=\"\",0,KSP!J165)","v":0},null,{"$f":"IF(FSP!B165=\"\",\"\",FSP!C165)","v":""},{"$f":"IF(FSP!B165=\"\",0,FSP!D165)","v":0},{"$f":"IF(FSP!B165=\"\",0,FSP!E165)","v":0},null,{"$f":"IF(FSP!G165=\"\",\"\",FSP!H165)","v":""},{"$f":"IF(FSP!G165=\"\",0,FSP!I165)","v":0},null,{"$f":"IF(PS!B167=\"\",\"\",PS!C167)","v":""},{"$f":"IF(PS!B167=\"\",\"\",PS!D167)","v":""},null,{"$f":"IF(PS!F167=\"\",\"\",PS!G167)","v":""},{"$f":"IF(PS!F167=\"\",\"\",PS!H167)","v":""},null,{"$f":"IF(LP!A165=\"\",\"\",LP!B165)","v":""},{"$f":"IF(LP!A165=\"\",0,LP!C165)","v":0},null,{"$f":"IF(LP!E165=\"\",\"\",LP!F165)","v":""},{"$f":"IF(LP!E165=\"\",0,LP!G165)","v":0},null,{"$f":"IF(LP!I165=\"\",\"\",LP!J165)","v":""},{"$f":"IF(LP!I165=\"\",0,LP!K165)","v":0},null,{"$f":"IF(BPBPS!B165=\"\",\"\",BPBPS!C165)","v":""},{"$f":"IF(BPBPS!B165=\"\",0,BPBPS!D165)","v":0},null,{"$f":"IF(BPBPS!F165=\"\",\"\",BPBPS!G165)","v":""},{"$f":"IF(BPBPS!H165=\"\",0,BPBPS!H165)","v":0},null,{"$f":"IF(BPBPS!J165=\"\",\"\",BPBPS!K165)","v":""},{"$f":"IF(BPBPS!J165=\"\",0,BPBPS!L165)","v":0},null,{"$f":"IF(SSGP!B165=\"\",\"\",SSGP!C165)","v":""},{"$f":"IF(SSGP!B165=\"\",0,SSGP!D165)","v":0},null,{"$f":"IF(SSGP!F165=\"\",\"\",SSGP!G165)","v":""},{"$f":"IF(SSGP!F165=\"\",0,SSGP!H165)","v":0}]
[164,{"$f":"IF(WPP!B166=\"\",\"\",WPP!C166)","v":""},{"$f":"IF(WPP!B166=\"\",0,WPP!D166)","v":0},{"$f":"IF(WPP!B166=\"\",0,WPP!E166)","v":0},null,{"$f":"IF(WPP!G166=\"\",\"\",WPP!H166)","v":""},{"$f":"IF(WPP!G166=\"\",0,WPP!I166)","v":0},{"$f":"IF(WPP!G166=\"\",0,WPP!J166)","v":0},null,{"$f":"IF(KSP!B166=\"\",\"\",KSP!C166)","v":""},{"$f":"IF(KSP!B166=\"\",0,KSP!D166)","v":0},{"$f":"IF(KSP!B166=\"\",0,KSP!E166)","v":0},null,{"$f":"IF(KSP!G166=\"\",\"\",KSP!H166)","v":""},{"$f":"IF(KSP!G166=\"\",0,KSP!I166)","v":0},{"$f":"IF(KSP!G166=\"\",0,KSP!J166)","v":0},null,{"$f":"IF(FSP!B166=\"\",\"\",FSP!C166)","v":""},{"$f":"IF(FSP!B166=\"\",0,FSP!D166)","v":0},{"$f":"IF(FSP!B166=\"\",0,FSP!E166)","v":0},null,{"$f":"IF(FSP!G166=\"\",\"\",FSP!H166)","v":""},{"$f":"IF(FSP!G166=\"\",0,FSP!I166)","v":0},null,{"$f":"IF(PS!B168=\"\",\"\",PS!C168)","v":""},{"$f":"IF(PS!B168=\"\",\"\",PS!D168)","v":""},null,{"$f":"IF(PS!F168=\"\",\"\",PS!G168)","v":""},{"$f":"IF(PS!F168=\"\",\"\",PS!H168)","v":""},null,{"$f":"IF(LP!A166=\"\",\"\",LP!B166)","v":""},{"$f":"IF(LP!A166=\"\",0,LP!C166)","v":0},null,{"$f":"IF(LP!E166=\"\",\"\",LP!F166)","v":""},{"$f":"IF(LP!E166=\"\",0,LP!G166)","v":0},null,{"$f":"IF(LP!I166=\"\",\"\",LP!J166)","v":""},{"$f":"IF(LP!I166=\"\",0,LP!K166)","v":0},null,{"$f":"IF(BPBPS!B166=\"\",\"\",BPBPS!C166)","v":""},{"$f":"IF(BPBPS!B166=\"\",0,BPBPS!D166)","v":0},null,{"$f":"IF(BPBPS!F166=\"\",\"\",BPBPS!G166)","v":""},{"$f":"IF(BPBPS!H166=\"\",0,BPBPS!H166)","v":0},null,{"$f":"IF(BPBPS!J166=\"\",\"\",BPBPS!K166)","v":""},{"$f":"IF(BPBPS!J166=\"\",0,BPBPS!L166)","v":0},null,{"$f":"IF(SSGP!B166=\"\",\"\",SSGP!C166)","v":""},{"$f":"IF(SSGP!B166=\"\",0,SSGP!D166)","v":0},null,{"$f":"IF(SSGP!F166=\"\",\"\",SSGP!G166)","v":""},{"$f":"IF(SSGP!F166=\"\",0,SSGP!H166)","v":0}]
[165,{"$f":"IF(WPP!B167=\"\",\"\",WPP!C167)","v":""},{"$f":"IF(WPP!B167=\"\",0,WPP!D167)","v":0},{"$f":"IF(WPP!B167=\"\",0,WPP!E167)","v":0},null,{"$f":"IF(WPP!G167=\"\",\"\",WPP!H167)","v":""},{"$f":"IF(WPP!G167=\"\",0,WPP!I167)","v":0},{"$f":"IF(WPP!G167=\"\",0,WPP!J167)","v":0},null,{"$f":"IF(KSP!B167=\"\",\"\",KSP!C167)","v":""},{"$f":"IF(KSP!B167=\"\",0,KSP!D167)","v":0},{"$f":"IF(KSP!B167=\"\",0,KSP!E167)","v":0},null,{"$f":"IF(KSP!G167=\"\",\"\",KSP!H167)","v":""},{"$f":"IF(KSP!G167=\"\",0,KSP!I167)","v":0},{"$f":"IF(KSP!G167=\"\",0,KSP!J167)","v":0},null,{"$f":"IF(FSP!B167=\"\",\"\",FSP!C167)","v":""},{"$f":"IF(FSP!B167=\"\",0,FSP!D167)","v":0},{"$f":"IF(FSP!B167=\"\",0,FSP!E167)","v":0},null,{"$f":"IF(FSP!G167=\"\",\"\",FSP!H167)","v":""},{"$f":"IF(FSP!G167=\"\",0,FSP!I167)","v":0},null,{"$f":"IF(PS!B169=\"\",\"\",PS!C169)","v":""},{"$f":"IF(PS!B169=\"\",\"\",PS!D169)","v":""},null,{"$f":"IF(PS!F169=\"\",\"\",PS!G169)","v":""},{"$f":"IF(PS!F169=\"\",\"\",PS!H169)","v":""},null,{"$f":"IF(LP!A167=\"\",\"\",LP!B167)","v":""},{"$f":"IF(LP!A167=\"\",0,LP!C167)","v":0},null,{"$f":"IF(LP!E167=\"\",\"\",LP!F167)","v":""},{"$f":"IF(LP!E167=\"\",0,LP!G167)","v":0},null,{"$f":"IF(LP!I167=\"\",\"\",LP!J167)","v":""},{"$f":"IF(LP!I167=\"\",0,LP!K167)","v":0},null,{"$f":"IF(BPBPS!B167=\"\",\"\",BPBPS!C167)","v":""},{"$f":"IF(BPBPS!B167=\"\",0,BPBPS!D167)","v":0},null,{"$f":"IF(BPBPS!F167=\"\",\"\",BPBPS!G167)","v":""},{"$f":"IF(BPBPS!H167=\"\",0,BPBPS!H167)","v":0},null,{"$f":"IF(BPBPS!J167=\"\",\"\",BPBPS!K167)","v":""},{"$f":"IF(BPBPS!J167=\"\",0,BPBPS!L167)","v":0},null,{"$f":"IF(SSGP!B167=\"\",\"\",SSGP!C167)","v":""},{"$f":"IF(SSGP!B167=\"\",0,SSGP!D167)","v":0},null,{"$f":"IF(SSGP!F167=\"\",\"\",SSGP!G167)","v":""},{"$f":"IF(SSGP!F167=\"\",0,SSGP!H167)","v":0}]
[166,{"$f":"IF(WPP!B168=\"\",\"\",WPP!C168)","v":""},{"$f":"IF(WPP!B168=\"\",0,WPP!D168)","v":0},{"$f":"IF(WPP!B168=\"\",0,WPP!E168)","v":0},null,{"$f":"IF(WPP!G168=\"\",\"\",WPP!H168)","v":""},{"$f":"IF(WPP!G168=\"\",0,WPP!I168)","v":0},{"$f":"IF(WPP!G168=\"\",0,WPP!J168)","v":0},null,{"$f":"IF(KSP!B168=\"\",\"\",KSP!C168)","v":""},{"$f":"IF(KSP!B168=\"\",0,KSP!D168)","v":0},{"$f":"IF(KSP!B168=\"\",0,KSP!E168)","v":0},null,{"$f":"IF(KSP!G168=\"\",\"\",KSP!H168)","v":""},{"$f":"IF(KSP!G168=\"\",0,KSP!I168)","v":0},{"$f":"IF(KSP!G168=\"\",0,KSP!J168)","v":0},null,{"$f":"IF(FSP!B168=\"\",\"\",FSP!C168)","v":""},{"$f":"IF(FSP!B168=\"\",0,FSP!D168)","v":0},{"$f":"IF(FSP!B168=\"\",0,FSP!E168)","v":0},null,{"$f":"IF(FSP!G168=\"\",\"\",FSP!H168)","v":""},{"$f":"IF(FSP!G168=\"\",0,FSP!I168)","v":0},null,{"$f":"IF(PS!B170=\"\",\"\",PS!C170)","v":""},{"$f":"IF(PS!B170=\"\",\"\",PS!D170)","v":""},null,{"$f":"IF(PS!F170=\"\",\"\",PS!G170)","v":""},{"$f":"IF(PS!F170=\"\",\"\",PS!H170)","v":""},null,{"$f":"IF(LP!A168=\"\",\"\",LP!B168)","v":""},{"$f":"IF(LP!A168=\"\",0,LP!C168)","v":0},null,{"$f":"IF(LP!E168=\"\",\"\",LP!F168)","v":""},{"$f":"IF(LP!E168=\"\",0,LP!G168)","v":0},null,{"$f":"IF(LP!I168=\"\",\"\",LP!J168)","v":""},{"$f":"IF(LP!I168=\"\",0,LP!K168)","v":0},null,{"$f":"IF(BPBPS!B168=\"\",\"\",BPBPS!C168)","v":""},{"$f":"IF(BPBPS!B168=\"\",0,BPBPS!D168)","v":0},null,{"$f":"IF(BPBPS!F168=\"\",\"\",BPBPS!G168)","v":""},{"$f":"IF(BPBPS!H168=\"\",0,BPBPS!H168)","v":0},null,{"$f":"IF(BPBPS!J168=\"\",\"\",BPBPS!K168)","v":""},{"$f":"IF(BPBPS!J168=\"\",0,BPBPS!L168)","v":0},null,{"$f":"IF(SSGP!B168=\"\",\"\",SSGP!C168)","v":""},{"$f":"IF(SSGP!B168=\"\",0,SSGP!D168)","v":0},null,{"$f":"IF(SSGP!F168=\"\",\"\",SSGP!G168)","v":""},{"$f":"IF(SSGP!F168=\"\",0,SSGP!H168)","v":0}]
[167,{"$f":"IF(WPP!B169=\"\",\"\",WPP!C169)","v":""},{"$f":"IF(WPP!B169=\"\",0,WPP!D169)","v":0},{"$f":"IF(WPP!B169=\"\",0,WPP!E169)","v":0},null,{"$f":"IF(WPP!G169=\"\",\"\",WPP!H169)","v":""},{"$f":"IF(WPP!G169=\"\",0,WPP!I169)","v":0},{"$f":"IF(WPP!G169=\"\",0,WPP!J169)","v":0},null,{"$f":"IF(KSP!B169=\"\",\"\",KSP!C169)","v":""},{"$f":"IF(KSP!B169=\"\",0,KSP!D169)","v":0},{"$f":"IF(KSP!B169=\"\",0,KSP!E169)","v":0},null,{"$f":"IF(KSP!G169=\"\",\"\",KSP!H169)","v":""},{"$f":"IF(KSP!G169=\"\",0,KSP!I169)","v":0},{"$f":"IF(KSP!G169=\"\",0,KSP!J169)","v":0},null,{"$f":"IF(FSP!B169=\"\",\"\",FSP!C169)","v":""},{"$f":"IF(FSP!B169=\"\",0,FSP!D169)","v":0},{"$f":"IF(FSP!B169=\"\",0,FSP!E169)","v":0},null,{"$f":"IF(FSP!G169=\"\",\"\",FSP!H169)","v":""},{"$f":"IF(FSP!G169=\"\",0,FSP!I169)","v":0},null,{"$f":"IF(PS!B171=\"\",\"\",PS!C171)","v":""},{"$f":"IF(PS!B171=\"\",\"\",PS!D171)","v":""},null,{"$f":"IF(PS!F171=\"\",\"\",PS!G171)","v":""},{"$f":"IF(PS!F171=\"\",\"\",PS!H171)","v":""},null,{"$f":"IF(LP!A169=\"\",\"\",LP!B169)","v":""},{"$f":"IF(LP!A169=\"\",0,LP!C169)","v":0},null,{"$f":"IF(LP!E169=\"\",\"\",LP!F169)","v":""},{"$f":"IF(LP!E169=\"\",0,LP!G169)","v":0},null,{"$f":"IF(LP!I169=\"\",\"\",LP!J169)","v":""},{"$f":"IF(LP!I169=\"\",0,LP!K169)","v":0},null,{"$f":"IF(BPBPS!B169=\"\",\"\",BPBPS!C169)","v":""},{"$f":"IF(BPBPS!B169=\"\",0,BPBPS!D169)","v":0},null,{"$f":"IF(BPBPS!F169=\"\",\"\",BPBPS!G169)","v":""},{"$f":"IF(BPBPS!H169=\"\",0,BPBPS!H169)","v":0},null,{"$f":"IF(BPBPS!J169=\"\",\"\",BPBPS!K169)","v":""},{"$f":"IF(BPBPS!J169=\"\",0,BPBPS!L169)","v":0},null,{"$f":"IF(SSGP!B169=\"\",\"\",SSGP!C169)","v":""},{"$f":"IF(SSGP!B169=\"\",0,SSGP!D169)","v":0},null,{"$f":"IF(SSGP!F169=\"\",\"\",SSGP!G169)","v":""},{"$f":"IF(SSGP!F169=\"\",0,SSGP!H169)","v":0}]
[168,{"$f":"IF(WPP!B170=\"\",\"\",WPP!C170)","v":""},{"$f":"IF(WPP!B170=\"\",0,WPP!D170)","v":0},{"$f":"IF(WPP!B170=\"\",0,WPP!E170)","v":0},null,{"$f":"IF(WPP!G170=\"\",\"\",WPP!H170)","v":""},{"$f":"IF(WPP!G170=\"\",0,WPP!I170)","v":0},{"$f":"IF(WPP!G170=\"\",0,WPP!J170)","v":0},null,{"$f":"IF(KSP!B170=\"\",\"\",KSP!C170)","v":""},{"$f":"IF(KSP!B170=\"\",0,KSP!D170)","v":0},{"$f":"IF(KSP!B170=\"\",0,KSP!E170)","v":0},null,{"$f":"IF(KSP!G170=\"\",\"\",KSP!H170)","v":""},{"$f":"IF(KSP!G170=\"\",0,KSP!I170)","v":0},{"$f":"IF(KSP!G170=\"\",0,KSP!J170)","v":0},null,{"$f":"IF(FSP!B170=\"\",\"\",FSP!C170)","v":""},{"$f":"IF(FSP!B170=\"\",0,FSP!D170)","v":0},{"$f":"IF(FSP!B170=\"\",0,FSP!E170)","v":0},null,{"$f":"IF(FSP!G170=\"\",\"\",FSP!H170)","v":""},{"$f":"IF(FSP!G170=\"\",0,FSP!I170)","v":0},null,{"$f":"IF(PS!B172=\"\",\"\",PS!C172)","v":""},{"$f":"IF(PS!B172=\"\",\"\",PS!D172)","v":""},null,{"$f":"IF(PS!F172=\"\",\"\",PS!G172)","v":""},{"$f":"IF(PS!F172=\"\",\"\",PS!H172)","v":""},null,{"$f":"IF(LP!A170=\"\",\"\",LP!B170)","v":""},{"$f":"IF(LP!A170=\"\",0,LP!C170)","v":0},null,{"$f":"IF(LP!E170=\"\",\"\",LP!F170)","v":""},{"$f":"IF(LP!E170=\"\",0,LP!G170)","v":0},null,{"$f":"IF(LP!I170=\"\",\"\",LP!J170)","v":""},{"$f":"IF(LP!I170=\"\",0,LP!K170)","v":0},null,{"$f":"IF(BPBPS!B170=\"\",\"\",BPBPS!C170)","v":""},{"$f":"IF(BPBPS!B170=\"\",0,BPBPS!D170)","v":0},null,{"$f":"IF(BPBPS!F170=\"\",\"\",BPBPS!G170)","v":""},{"$f":"IF(BPBPS!H170=\"\",0,BPBPS!H170)","v":0},null,{"$f":"IF(BPBPS!J170=\"\",\"\",BPBPS!K170)","v":""},{"$f":"IF(BPBPS!J170=\"\",0,BPBPS!L170)","v":0},null,{"$f":"IF(SSGP!B170=\"\",\"\",SSGP!C170)","v":""},{"$f":"IF(SSGP!B170=\"\",0,SSGP!D170)","v":0},null,{"$f":"IF(SSGP!F170=\"\",\"\",SSGP!G170)","v":""},{"$f":"IF(SSGP!F170=\"\",0,SSGP!H170)","v":0}]
[169,{"$f":"IF(WPP!B171=\"\",\"\",WPP!C171)","v":""},{"$f":"IF(WPP!B171=\"\",0,WPP!D171)","v":0},{"$f":"IF(WPP!B171=\"\",0,WPP!E171)","v":0},null,{"$f":"IF(WPP!G171=\"\",\"\",WPP!H171)","v":""},{"$f":"IF(WPP!G171=\"\",0,WPP!I171)","v":0},{"$f":"IF(WPP!G171=\"\",0,WPP!J171)","v":0},null,{"$f":"IF(KSP!B171=\"\",\"\",KSP!C171)","v":""},{"$f":"IF(KSP!B171=\"\",0,KSP!D171)","v":0},{"$f":"IF(KSP!B171=\"\",0,KSP!E171)","v":0},null,{"$f":"IF(KSP!G171=\"\",\"\",KSP!H171)","v":""},{"$f":"IF(KSP!G171=\"\",0,KSP!I171)","v":0},{"$f":"IF(KSP!G171=\"\",0,KSP!J171)","v":0},null,{"$f":"IF(FSP!B171=\"\",\"\",FSP!C171)","v":""},{"$f":"IF(FSP!B171=\"\",0,FSP!D171)","v":0},{"$f":"IF(FSP!B171=\"\",0,FSP!E171)","v":0},null,{"$f":"IF(FSP!G171=\"\",\"\",FSP!H171)","v":""},{"$f":"IF(FSP!G171=\"\",0,FSP!I171)","v":0},null,{"$f":"IF(PS!B173=\"\",\"\",PS!C173)","v":""},{"$f":"IF(PS!B173=\"\",\"\",PS!D173)","v":""},null,{"$f":"IF(PS!F173=\"\",\"\",PS!G173)","v":""},{"$f":"IF(PS!F173=\"\",\"\",PS!H173)","v":""},null,{"$f":"IF(LP!A171=\"\",\"\",LP!B171)","v":""},{"$f":"IF(LP!A171=\"\",0,LP!C171)","v":0},null,{"$f":"IF(LP!E171=\"\",\"\",LP!F171)","v":""},{"$f":"IF(LP!E171=\"\",0,LP!G171)","v":0},null,{"$f":"IF(LP!I171=\"\",\"\",LP!J171)","v":""},{"$f":"IF(LP!I171=\"\",0,LP!K171)","v":0},null,{"$f":"IF(BPBPS!B171=\"\",\"\",BPBPS!C171)","v":""},{"$f":"IF(BPBPS!B171=\"\",0,BPBPS!D171)","v":0},null,{"$f":"IF(BPBPS!F171=\"\",\"\",BPBPS!G171)","v":""},{"$f":"IF(BPBPS!H171=\"\",0,BPBPS!H171)","v":0},null,{"$f":"IF(BPBPS!J171=\"\",\"\",BPBPS!K171)","v":""},{"$f":"IF(BPBPS!J171=\"\",0,BPBPS!L171)","v":0},null,{"$f":"IF(SSGP!B171=\"\",\"\",SSGP!C171)","v":""},{"$f":"IF(SSGP!B171=\"\",0,SSGP!D171)","v":0},null,{"$f":"IF(SSGP!F171=\"\",\"\",SSGP!G171)","v":""},{"$f":"IF(SSGP!F171=\"\",0,SSGP!H171)","v":0}]
[170,{"$f":"IF(WPP!B172=\"\",\"\",WPP!C172)","v":""},{"$f":"IF(WPP!B172=\"\",0,WPP!D172)","v":0},{"$f":"IF(WPP!B172=\"\",0,WPP!E172)","v":0},null,{"$f":"IF(WPP!G172=\"\",\"\",WPP!H172)","v":""},{"$f":"IF(WPP!G172=\"\",0,WPP!I172)","v":0},{"$f":"IF(WPP!G172=\"\",0,WPP!J172)","v":0},null,{"$f":"IF(KSP!B172=\"\",\"\",KSP!C172)","v":""},{"$f":"IF(KSP!B172=\"\",0,KSP!D172)","v":0},{"$f":"IF(KSP!B172=\"\",0,KSP!E172)","v":0},null,{"$f":"IF(KSP!G172=\"\",\"\",KSP!H172)","v":""},{"$f":"IF(KSP!G172=\"\",0,KSP!I172)","v":0},{"$f":"IF(KSP!G172=\"\",0,KSP!J172)","v":0},null,{"$f":"IF(FSP!B172=\"\",\"\",FSP!C172)","v":""},{"$f":"IF(FSP!B172=\"\",0,FSP!D172)","v":0},{"$f":"IF(FSP!B172=\"\",0,FSP!E172)","v":0},null,{"$f":"IF(FSP!G172=\"\",\"\",FSP!H172)","v":""},{"$f":"IF(FSP!G172=\"\",0,FSP!I172)","v":0},null,{"$f":"IF(PS!B174=\"\",\"\",PS!C174)","v":""},{"$f":"IF(PS!B174=\"\",\"\",PS!D174)","v":""},null,{"$f":"IF(PS!F174=\"\",\"\",PS!G174)","v":""},{"$f":"IF(PS!F174=\"\",\"\",PS!H174)","v":""},null,{"$f":"IF(LP!A172=\"\",\"\",LP!B172)","v":""},{"$f":"IF(LP!A172=\"\",0,LP!C172)","v":0},null,{"$f":"IF(LP!E172=\"\",\"\",LP!F172)","v":""},{"$f":"IF(LP!E172=\"\",0,LP!G172)","v":0},null,{"$f":"IF(LP!I172=\"\",\"\",LP!J172)","v":""},{"$f":"IF(LP!I172=\"\",0,LP!K172)","v":0},null,{"$f":"IF(BPBPS!B172=\"\",\"\",BPBPS!C172)","v":""},{"$f":"IF(BPBPS!B172=\"\",0,BPBPS!D172)","v":0},null,{"$f":"IF(BPBPS!F172=\"\",\"\",BPBPS!G172)","v":""},{"$f":"IF(BPBPS!H172=\"\",0,BPBPS!H172)","v":0},null,{"$f":"IF(BPBPS!J172=\"\",\"\",BPBPS!K172)","v":""},{"$f":"IF(BPBPS!J172=\"\",0,BPBPS!L172)","v":0},null,{"$f":"IF(SSGP!B172=\"\",\"\",SSGP!C172)","v":""},{"$f":"IF(SSGP!B172=\"\",0,SSGP!D172)","v":0},null,{"$f":"IF(SSGP!F172=\"\",\"\",SSGP!G172)","v":""},{"$f":"IF(SSGP!F172=\"\",0,SSGP!H172)","v":0}]
[171,{"$f":"IF(WPP!B173=\"\",\"\",WPP!C173)","v":""},{"$f":"IF(WPP!B173=\"\",0,WPP!D173)","v":0},{"$f":"IF(WPP!B173=\"\",0,WPP!E173)","v":0},null,{"$f":"IF(WPP!G173=\"\",\"\",WPP!H173)","v":""},{"$f":"IF(WPP!G173=\"\",0,WPP!I173)","v":0},{"$f":"IF(WPP!G173=\"\",0,WPP!J173)","v":0},null,{"$f":"IF(KSP!B173=\"\",\"\",KSP!C173)","v":""},{"$f":"IF(KSP!B173=\"\",0,KSP!D173)","v":0},{"$f":"IF(KSP!B173=\"\",0,KSP!E173)","v":0},null,{"$f":"IF(KSP!G173=\"\",\"\",KSP!H173)","v":""},{"$f":"IF(KSP!G173=\"\",0,KSP!I173)","v":0},{"$f":"IF(KSP!G173=\"\",0,KSP!J173)","v":0},null,{"$f":"IF(FSP!B173=\"\",\"\",FSP!C173)","v":""},{"$f":"IF(FSP!B173=\"\",0,FSP!D173)","v":0},{"$f":"IF(FSP!B173=\"\",0,FSP!E173)","v":0},null,{"$f":"IF(FSP!G173=\"\",\"\",FSP!H173)","v":""},{"$f":"IF(FSP!G173=\"\",0,FSP!I173)","v":0},null,{"$f":"IF(PS!B175=\"\",\"\",PS!C175)","v":""},{"$f":"IF(PS!B175=\"\",\"\",PS!D175)","v":""},null,{"$f":"IF(PS!F175=\"\",\"\",PS!G175)","v":""},{"$f":"IF(PS!F175=\"\",\"\",PS!H175)","v":""},null,{"$f":"IF(LP!A173=\"\",\"\",LP!B173)","v":""},{"$f":"IF(LP!A173=\"\",0,LP!C173)","v":0},null,{"$f":"IF(LP!E173=\"\",\"\",LP!F173)","v":""},{"$f":"IF(LP!E173=\"\",0,LP!G173)","v":0},null,{"$f":"IF(LP!I173=\"\",\"\",LP!J173)","v":""},{"$f":"IF(LP!I173=\"\",0,LP!K173)","v":0},null,{"$f":"IF(BPBPS!B173=\"\",\"\",BPBPS!C173)","v":""},{"$f":"IF(BPBPS!B173=\"\",0,BPBPS!D173)","v":0},null,{"$f":"IF(BPBPS!F173=\"\",\"\",BPBPS!G173)","v":""},{"$f":"IF(BPBPS!H173=\"\",0,BPBPS!H173)","v":0},null,{"$f":"IF(BPBPS!J173=\"\",\"\",BPBPS!K173)","v":""},{"$f":"IF(BPBPS!J173=\"\",0,BPBPS!L173)","v":0},null,{"$f":"IF(SSGP!B173=\"\",\"\",SSGP!C173)","v":""},{"$f":"IF(SSGP!B173=\"\",0,SSGP!D173)","v":0},null,{"$f":"IF(SSGP!F173=\"\",\"\",SSGP!G173)","v":""},{"$f":"IF(SSGP!F173=\"\",0,SSGP!H173)","v":0}]
[172,{"$f":"IF(WPP!B174=\"\",\"\",WPP!C174)","v":""},{"$f":"IF(WPP!B174=\"\",0,WPP!D174)","v":0},{"$f":"IF(WPP!B174=\"\",0,WPP!E174)","v":0},null,{"$f":"IF(WPP!G174=\"\",\"\",WPP!H174)","v":""},{"$f":"IF(WPP!G174=\"\",0,WPP!I174)","v":0},{"$f":"IF(WPP!G174=\"\",0,WPP!J174)","v":0},null,{"$f":"IF(KSP!B174=\"\",\"\",KSP!C174)","v":""},{"$f":"IF(KSP!B174=\"\",0,KSP!D174)","v":0},{"$f":"IF(KSP!B174=\"\",0,KSP!E174)","v":0},null,{"$f":"IF(KSP!G174=\"\",\"\",KSP!H174)","v":""},{"$f":"IF(KSP!G174=\"\",0,KSP!I174)","v":0},{"$f":"IF(KSP!G174=\"\",0,KSP!J174)","v":0},null,{"$f":"IF(FSP!B174=\"\",\"\",FSP!C174)","v":""},{"$f":"IF(FSP!B174=\"\",0,FSP!D174)","v":0},{"$f":"IF(FSP!B174=\"\",0,FSP!E174)","v":0},null,{"$f":"IF(FSP!G174=\"\",\"\",FSP!H174)","v":""},{"$f":"IF(FSP!G174=\"\",0,FSP!I174)","v":0},null,{"$f":"IF(PS!B176=\"\",\"\",PS!C176)","v":""},{"$f":"IF(PS!B176=\"\",\"\",PS!D176)","v":""},null,{"$f":"IF(PS!F176=\"\",\"\",PS!G176)","v":""},{"$f":"IF(PS!F176=\"\",\"\",PS!H176)","v":""},null,{"$f":"IF(LP!A174=\"\",\"\",LP!B174)","v":""},{"$f":"IF(LP!A174=\"\",0,LP!C174)","v":0},null,{"$f":"IF(LP!E174=\"\",\"\",LP!F174)","v":""},{"$f":"IF(LP!E174=\"\",0,LP!G174)","v":0},null,{"$f":"IF(LP!I174=\"\",\"\",LP!J174)","v":""},{"$f":"IF(LP!I174=\"\",0,LP!K174)","v":0},null,{"$f":"IF(BPBPS!B174=\"\",\"\",BPBPS!C174)","v":""},{"$f":"IF(BPBPS!B174=\"\",0,BPBPS!D174)","v":0},null,{"$f":"IF(BPBPS!F174=\"\",\"\",BPBPS!G174)","v":""},{"$f":"IF(BPBPS!H174=\"\",0,BPBPS!H174)","v":0},null,{"$f":"IF(BPBPS!J174=\"\",\"\",BPBPS!K174)","v":""},{"$f":"IF(BPBPS!J174=\"\",0,BPBPS!L174)","v":0},null,{"$f":"IF(SSGP!B174=\"\",\"\",SSGP!C174)","v":""},{"$f":"IF(SSGP!B174=\"\",0,SSGP!D174)","v":0},null,{"$f":"IF(SSGP!F174=\"\",\"\",SSGP!G174)","v":""},{"$f":"IF(SSGP!F174=\"\",0,SSGP!H174)","v":0}]
[173,{"$f":"IF(WPP!B175=\"\",\"\",WPP!C175)","v":""},{"$f":"IF(WPP!B175=\"\",0,WPP!D175)","v":0},{"$f":"IF(WPP!B175=\"\",0,WPP!E175)","v":0},null,{"$f":"IF(WPP!G175=\"\",\"\",WPP!H175)","v":""},{"$f":"IF(WPP!G175=\"\",0,WPP!I175)","v":0},{"$f":"IF(WPP!G175=\"\",0,WPP!J175)","v":0},null,{"$f":"IF(KSP!B175=\"\",\"\",KSP!C175)","v":""},{"$f":"IF(KSP!B175=\"\",0,KSP!D175)","v":0},{"$f":"IF(KSP!B175=\"\",0,KSP!E175)","v":0},null,{"$f":"IF(KSP!G175=\"\",\"\",KSP!H175)","v":""},{"$f":"IF(KSP!G175=\"\",0,KSP!I175)","v":0},{"$f":"IF(KSP!G175=\"\",0,KSP!J175)","v":0},null,{"$f":"IF(FSP!B175=\"\",\"\",FSP!C175)","v":""},{"$f":"IF(FSP!B175=\"\",0,FSP!D175)","v":0},{"$f":"IF(FSP!B175=\"\",0,FSP!E175)","v":0},null,{"$f":"IF(FSP!G175=\"\",\"\",FSP!H175)","v":""},{"$f":"IF(FSP!G175=\"\",0,FSP!I175)","v":0},null,{"$f":"IF(PS!B177=\"\",\"\",PS!C177)","v":""},{"$f":"IF(PS!B177=\"\",\"\",PS!D177)","v":""},null,{"$f":"IF(PS!F177=\"\",\"\",PS!G177)","v":""},{"$f":"IF(PS!F177=\"\",\"\",PS!H177)","v":""},null,{"$f":"IF(LP!A175=\"\",\"\",LP!B175)","v":""},{"$f":"IF(LP!A175=\"\",0,LP!C175)","v":0},null,{"$f":"IF(LP!E175=\"\",\"\",LP!F175)","v":""},{"$f":"IF(LP!E175=\"\",0,LP!G175)","v":0},null,{"$f":"IF(LP!I175=\"\",\"\",LP!J175)","v":""},{"$f":"IF(LP!I175=\"\",0,LP!K175)","v":0},null,{"$f":"IF(BPBPS!B175=\"\",\"\",BPBPS!C175)","v":""},{"$f":"IF(BPBPS!B175=\"\",0,BPBPS!D175)","v":0},null,{"$f":"IF(BPBPS!F175=\"\",\"\",BPBPS!G175)","v":""},{"$f":"IF(BPBPS!H175=\"\",0,BPBPS!H175)","v":0},null,{"$f":"IF(BPBPS!J175=\"\",\"\",BPBPS!K175)","v":""},{"$f":"IF(BPBPS!J175=\"\",0,BPBPS!L175)","v":0},null,{"$f":"IF(SSGP!B175=\"\",\"\",SSGP!C175)","v":""},{"$f":"IF(SSGP!B175=\"\",0,SSGP!D175)","v":0},null,{"$f":"IF(SSGP!F175=\"\",\"\",SSGP!G175)","v":""},{"$f":"IF(SSGP!F175=\"\",0,SSGP!H175)","v":0}]
[174,{"$f":"IF(WPP!B176=\"\",\"\",WPP!C176)","v":""},{"$f":"IF(WPP!B176=\"\",0,WPP!D176)","v":0},{"$f":"IF(WPP!B176=\"\",0,WPP!E176)","v":0},null,{"$f":"IF(WPP!G176=\"\",\"\",WPP!H176)","v":""},{"$f":"IF(WPP!G176=\"\",0,WPP!I176)","v":0},{"$f":"IF(WPP!G176=\"\",0,WPP!J176)","v":0},null,{"$f":"IF(KSP!B176=\"\",\"\",KSP!C176)","v":""},{"$f":"IF(KSP!B176=\"\",0,KSP!D176)","v":0},{"$f":"IF(KSP!B176=\"\",0,KSP!E176)","v":0},null,{"$f":"IF(KSP!G176=\"\",\"\",KSP!H176)","v":""},{"$f":"IF(KSP!G176=\"\",0,KSP!I176)","v":0},{"$f":"IF(KSP!G176=\"\",0,KSP!J176)","v":0},null,{"$f":"IF(FSP!B176=\"\",\"\",FSP!C176)","v":""},{"$f":"IF(FSP!B176=\"\",0,FSP!D176)","v":0},{"$f":"IF(FSP!B176=\"\",0,FSP!E176)","v":0},null,{"$f":"IF(FSP!G176=\"\",\"\",FSP!H176)","v":""},{"$f":"IF(FSP!G176=\"\",0,FSP!I176)","v":0},null,{"$f":"IF(PS!B178=\"\",\"\",PS!C178)","v":""},{"$f":"IF(PS!B178=\"\",\"\",PS!D178)","v":""},null,{"$f":"IF(PS!F178=\"\",\"\",PS!G178)","v":""},{"$f":"IF(PS!F178=\"\",\"\",PS!H178)","v":""},null,{"$f":"IF(LP!A176=\"\",\"\",LP!B176)","v":""},{"$f":"IF(LP!A176=\"\",0,LP!C176)","v":0},null,{"$f":"IF(LP!E176=\"\",\"\",LP!F176)","v":""},{"$f":"IF(LP!E176=\"\",0,LP!G176)","v":0},null,{"$f":"IF(LP!I176=\"\",\"\",LP!J176)","v":""},{"$f":"IF(LP!I176=\"\",0,LP!K176)","v":0},null,{"$f":"IF(BPBPS!B176=\"\",\"\",BPBPS!C176)","v":""},{"$f":"IF(BPBPS!B176=\"\",0,BPBPS!D176)","v":0},null,{"$f":"IF(BPBPS!F176=\"\",\"\",BPBPS!G176)","v":""},{"$f":"IF(BPBPS!H176=\"\",0,BPBPS!H176)","v":0},null,{"$f":"IF(BPBPS!J176=\"\",\"\",BPBPS!K176)","v":""},{"$f":"IF(BPBPS!J176=\"\",0,BPBPS!L176)","v":0},null,{"$f":"IF(SSGP!B176=\"\",\"\",SSGP!C176)","v":""},{"$f":"IF(SSGP!B176=\"\",0,SSGP!D176)","v":0},null,{"$f":"IF(SSGP!F176=\"\",\"\",SSGP!G176)","v":""},{"$f":"IF(SSGP!F176=\"\",0,SSGP!H176)","v":0}]
[175,{"$f":"IF(WPP!B177=\"\",\"\",WPP!C177)","v":""},{"$f":"IF(WPP!B177=\"\",0,WPP!D177)","v":0},{"$f":"IF(WPP!B177=\"\",0,WPP!E177)","v":0},null,{"$f":"IF(WPP!G177=\"\",\"\",WPP!H177)","v":""},{"$f":"IF(WPP!G177=\"\",0,WPP!I177)","v":0},{"$f":"IF(WPP!G177=\"\",0,WPP!J177)","v":0},null,{"$f":"IF(KSP!B177=\"\",\"\",KSP!C177)","v":""},{"$f":"IF(KSP!B177=\"\",0,KSP!D177)","v":0},{"$f":"IF(KSP!B177=\"\",0,KSP!E177)","v":0},null,{"$f":"IF(KSP!G177=\"\",\"\",KSP!H177)","v":""},{"$f":"IF(KSP!G177=\"\",0,KSP!I177)","v":0},{"$f":"IF(KSP!G177=\"\",0,KSP!J177)","v":0},null,{"$f":"IF(FSP!B177=\"\",\"\",FSP!C177)","v":""},{"$f":"IF(FSP!B177=\"\",0,FSP!D177)","v":0},{"$f":"IF(FSP!B177=\"\",0,FSP!E177)","v":0},null,{"$f":"IF(FSP!G177=\"\",\"\",FSP!H177)","v":""},{"$f":"IF(FSP!G177=\"\",0,FSP!I177)","v":0},null,{"$f":"IF(PS!B179=\"\",\"\",PS!C179)","v":""},{"$f":"IF(PS!B179=\"\",\"\",PS!D179)","v":""},null,{"$f":"IF(PS!F179=\"\",\"\",PS!G179)","v":""},{"$f":"IF(PS!F179=\"\",\"\",PS!H179)","v":""},null,{"$f":"IF(LP!A177=\"\",\"\",LP!B177)","v":""},{"$f":"IF(LP!A177=\"\",0,LP!C177)","v":0},null,{"$f":"IF(LP!E177=\"\",\"\",LP!F177)","v":""},{"$f":"IF(LP!E177=\"\",0,LP!G177)","v":0},null,{"$f":"IF(LP!I177=\"\",\"\",LP!J177)","v":""},{"$f":"IF(LP!I177=\"\",0,LP!K177)","v":0},null,{"$f":"IF(BPBPS!B177=\"\",\"\",BPBPS!C177)","v":""},{"$f":"IF(BPBPS!B177=\"\",0,BPBPS!D177)","v":0},null,{"$f":"IF(BPBPS!F177=\"\",\"\",BPBPS!G177)","v":""},{"$f":"IF(BPBPS!H177=\"\",0,BPBPS!H177)","v":0},null,{"$f":"IF(BPBPS!J177=\"\",\"\",BPBPS!K177)","v":""},{"$f":"IF(BPBPS!J177=\"\",0,BPBPS!L177)","v":0},null,{"$f":"IF(SSGP!B177=\"\",\"\",SSGP!C177)","v":""},{"$f":"IF(SSGP!B177=\"\",0,SSGP!D177)","v":0},null,{"$f":"IF(SSGP!F177=\"\",\"\",SSGP!G177)","v":""},{"$f":"IF(SSGP!F177=\"\",0,SSGP!H177)","v":0}]
[176,{"$f":"IF(WPP!B178=\"\",\"\",WPP!C178)","v":""},{"$f":"IF(WPP!B178=\"\",0,WPP!D178)","v":0},{"$f":"IF(WPP!B178=\"\",0,WPP!E178)","v":0},null,{"$f":"IF(WPP!G178=\"\",\"\",WPP!H178)","v":""},{"$f":"IF(WPP!G178=\"\",0,WPP!I178)","v":0},{"$f":"IF(WPP!G178=\"\",0,WPP!J178)","v":0},null,{"$f":"IF(KSP!B178=\"\",\"\",KSP!C178)","v":""},{"$f":"IF(KSP!B178=\"\",0,KSP!D178)","v":0},{"$f":"IF(KSP!B178=\"\",0,KSP!E178)","v":0},null,{"$f":"IF(KSP!G178=\"\",\"\",KSP!H178)","v":""},{"$f":"IF(KSP!G178=\"\",0,KSP!I178)","v":0},{"$f":"IF(KSP!G178=\"\",0,KSP!J178)","v":0},null,{"$f":"IF(FSP!B178=\"\",\"\",FSP!C178)","v":""},{"$f":"IF(FSP!B178=\"\",0,FSP!D178)","v":0},{"$f":"IF(FSP!B178=\"\",0,FSP!E178)","v":0},null,{"$f":"IF(FSP!G178=\"\",\"\",FSP!H178)","v":""},{"$f":"IF(FSP!G178=\"\",0,FSP!I178)","v":0},null,{"$f":"IF(PS!B180=\"\",\"\",PS!C180)","v":""},{"$f":"IF(PS!B180=\"\",\"\",PS!D180)","v":""},null,{"$f":"IF(PS!F180=\"\",\"\",PS!G180)","v":""},{"$f":"IF(PS!F180=\"\",\"\",PS!H180)","v":""},null,{"$f":"IF(LP!A178=\"\",\"\",LP!B178)","v":""},{"$f":"IF(LP!A178=\"\",0,LP!C178)","v":0},null,{"$f":"IF(LP!E178=\"\",\"\",LP!F178)","v":""},{"$f":"IF(LP!E178=\"\",0,LP!G178)","v":0},null,{"$f":"IF(LP!I178=\"\",\"\",LP!J178)","v":""},{"$f":"IF(LP!I178=\"\",0,LP!K178)","v":0},null,{"$f":"IF(BPBPS!B178=\"\",\"\",BPBPS!C178)","v":""},{"$f":"IF(BPBPS!B178=\"\",0,BPBPS!D178)","v":0},null,{"$f":"IF(BPBPS!F178=\"\",\"\",BPBPS!G178)","v":""},{"$f":"IF(BPBPS!H178=\"\",0,BPBPS!H178)","v":0},null,{"$f":"IF(BPBPS!J178=\"\",\"\",BPBPS!K178)","v":""},{"$f":"IF(BPBPS!J178=\"\",0,BPBPS!L178)","v":0},null,{"$f":"IF(SSGP!B178=\"\",\"\",SSGP!C178)","v":""},{"$f":"IF(SSGP!B178=\"\",0,SSGP!D178)","v":0},null,{"$f":"IF(SSGP!F178=\"\",\"\",SSGP!G178)","v":""},{"$f":"IF(SSGP!F178=\"\",0,SSGP!H178)","v":0}]
[177,{"$f":"IF(WPP!B179=\"\",\"\",WPP!C179)","v":""},{"$f":"IF(WPP!B179=\"\",0,WPP!D179)","v":0},{"$f":"IF(WPP!B179=\"\",0,WPP!E179)","v":0},null,{"$f":"IF(WPP!G179=\"\",\"\",WPP!H179)","v":""},{"$f":"IF(WPP!G179=\"\",0,WPP!I179)","v":0},{"$f":"IF(WPP!G179=\"\",0,WPP!J179)","v":0},null,{"$f":"IF(KSP!B179=\"\",\"\",KSP!C179)","v":""},{"$f":"IF(KSP!B179=\"\",0,KSP!D179)","v":0},{"$f":"IF(KSP!B179=\"\",0,KSP!E179)","v":0},null,{"$f":"IF(KSP!G179=\"\",\"\",KSP!H179)","v":""},{"$f":"IF(KSP!G179=\"\",0,KSP!I179)","v":0},{"$f":"IF(KSP!G179=\"\",0,KSP!J179)","v":0},null,{"$f":"IF(FSP!B179=\"\",\"\",FSP!C179)","v":""},{"$f":"IF(FSP!B179=\"\",0,FSP!D179)","v":0},{"$f":"IF(FSP!B179=\"\",0,FSP!E179)","v":0},null,{"$f":"IF(FSP!G179=\"\",\"\",FSP!H179)","v":""},{"$f":"IF(FSP!G179=\"\",0,FSP!I179)","v":0},null,{"$f":"IF(PS!B181=\"\",\"\",PS!C181)","v":""},{"$f":"IF(PS!B181=\"\",\"\",PS!D181)","v":""},null,{"$f":"IF(PS!F181=\"\",\"\",PS!G181)","v":""},{"$f":"IF(PS!F181=\"\",\"\",PS!H181)","v":""},null,{"$f":"IF(LP!A179=\"\",\"\",LP!B179)","v":""},{"$f":"IF(LP!A179=\"\",0,LP!C179)","v":0},null,{"$f":"IF(LP!E179=\"\",\"\",LP!F179)","v":""},{"$f":"IF(LP!E179=\"\",0,LP!G179)","v":0},null,{"$f":"IF(LP!I179=\"\",\"\",LP!J179)","v":""},{"$f":"IF(LP!I179=\"\",0,LP!K179)","v":0},null,{"$f":"IF(BPBPS!B179=\"\",\"\",BPBPS!C179)","v":""},{"$f":"IF(BPBPS!B179=\"\",0,BPBPS!D179)","v":0},null,{"$f":"IF(BPBPS!F179=\"\",\"\",BPBPS!G179)","v":""},{"$f":"IF(BPBPS!H179=\"\",0,BPBPS!H179)","v":0},null,{"$f":"IF(BPBPS!J179=\"\",\"\",BPBPS!K179)","v":""},{"$f":"IF(BPBPS!J179=\"\",0,BPBPS!L179)","v":0},null,{"$f":"IF(SSGP!B179=\"\",\"\",SSGP!C179)","v":""},{"$f":"IF(SSGP!B179=\"\",0,SSGP!D179)","v":0},null,{"$f":"IF(SSGP!F179=\"\",\"\",SSGP!G179)","v":""},{"$f":"IF(SSGP!F179=\"\",0,SSGP!H179)","v":0}]
[178,{"$f":"IF(WPP!B180=\"\",\"\",WPP!C180)","v":""},{"$f":"IF(WPP!B180=\"\",0,WPP!D180)","v":0},{"$f":"IF(WPP!B180=\"\",0,WPP!E180)","v":0},null,{"$f":"IF(WPP!G180=\"\",\"\",WPP!H180)","v":""},{"$f":"IF(WPP!G180=\"\",0,WPP!I180)","v":0},{"$f":"IF(WPP!G180=\"\",0,WPP!J180)","v":0},null,{"$f":"IF(KSP!B180=\"\",\"\",KSP!C180)","v":""},{"$f":"IF(KSP!B180=\"\",0,KSP!D180)","v":0},{"$f":"IF(KSP!B180=\"\",0,KSP!E180)","v":0},null,{"$f":"IF(KSP!G180=\"\",\"\",KSP!H180)","v":""},{"$f":"IF(KSP!G180=\"\",0,KSP!I180)","v":0},{"$f":"IF(KSP!G180=\"\",0,KSP!J180)","v":0},null,{"$f":"IF(FSP!B180=\"\",\"\",FSP!C180)","v":""},{"$f":"IF(FSP!B180=\"\",0,FSP!D180)","v":0},{"$f":"IF(FSP!B180=\"\",0,FSP!E180)","v":0},null,{"$f":"IF(FSP!G180=\"\",\"\",FSP!H180)","v":""},{"$f":"IF(FSP!G180=\"\",0,FSP!I180)","v":0},null,{"$f":"IF(PS!B182=\"\",\"\",PS!C182)","v":""},{"$f":"IF(PS!B182=\"\",\"\",PS!D182)","v":""},null,{"$f":"IF(PS!F182=\"\",\"\",PS!G182)","v":""},{"$f":"IF(PS!F182=\"\",\"\",PS!H182)","v":""},null,{"$f":"IF(LP!A180=\"\",\"\",LP!B180)","v":""},{"$f":"IF(LP!A180=\"\",0,LP!C180)","v":0},null,{"$f":"IF(LP!E180=\"\",\"\",LP!F180)","v":""},{"$f":"IF(LP!E180=\"\",0,LP!G180)","v":0},null,{"$f":"IF(LP!I180=\"\",\"\",LP!J180)","v":""},{"$f":"IF(LP!I180=\"\",0,LP!K180)","v":0},null,{"$f":"IF(BPBPS!B180=\"\",\"\",BPBPS!C180)","v":""},{"$f":"IF(BPBPS!B180=\"\",0,BPBPS!D180)","v":0},null,{"$f":"IF(BPBPS!F180=\"\",\"\",BPBPS!G180)","v":""},{"$f":"IF(BPBPS!H180=\"\",0,BPBPS!H180)","v":0},null,{"$f":"IF(BPBPS!J180=\"\",\"\",BPBPS!K180)","v":""},{"$f":"IF(BPBPS!J180=\"\",0,BPBPS!L180)","v":0},null,{"$f":"IF(SSGP!B180=\"\",\"\",SSGP!C180)","v":""},{"$f":"IF(SSGP!B180=\"\",0,SSGP!D180)","v":0},null,{"$f":"IF(SSGP!F180=\"\",\"\",SSGP!G180)","v":""},{"$f":"IF(SSGP!F180=\"\",0,SSGP!H180)","v":0}]
[179,{"$f":"IF(WPP!B181=\"\",\"\",WPP!C181)","v":""},{"$f":"IF(WPP!B181=\"\",0,WPP!D181)","v":0},{"$f":"IF(WPP!B181=\"\",0,WPP!E181)","v":0},null,{"$f":"IF(WPP!G181=\"\",\"\",WPP!H181)","v":""},{"$f":"IF(WPP!G181=\"\",0,WPP!I181)","v":0},{"$f":"IF(WPP!G181=\"\",0,WPP!J181)","v":0},null,{"$f":"IF(KSP!B181=\"\",\"\",KSP!C181)","v":""},{"$f":"IF(KSP!B181=\"\",0,KSP!D181)","v":0},{"$f":"IF(KSP!B181=\"\",0,KSP!E181)","v":0},null,{"$f":"IF(KSP!G181=\"\",\"\",KSP!H181)","v":""},{"$f":"IF(KSP!G181=\"\",0,KSP!I181)","v":0},{"$f":"IF(KSP!G181=\"\",0,KSP!J181)","v":0},null,{"$f":"IF(FSP!B181=\"\",\"\",FSP!C181)","v":""},{"$f":"IF(FSP!B181=\"\",0,FSP!D181)","v":0},{"$f":"IF(FSP!B181=\"\",0,FSP!E181)","v":0},null,{"$f":"IF(FSP!G181=\"\",\"\",FSP!H181)","v":""},{"$f":"IF(FSP!G181=\"\",0,FSP!I181)","v":0},null,{"$f":"IF(PS!B183=\"\",\"\",PS!C183)","v":""},{"$f":"IF(PS!B183=\"\",\"\",PS!D183)","v":""},null,{"$f":"IF(PS!F183=\"\",\"\",PS!G183)","v":""},{"$f":"IF(PS!F183=\"\",\"\",PS!H183)","v":""},null,{"$f":"IF(LP!A181=\"\",\"\",LP!B181)","v":""},{"$f":"IF(LP!A181=\"\",0,LP!C181)","v":0},null,{"$f":"IF(LP!E181=\"\",\"\",LP!F181)","v":""},{"$f":"IF(LP!E181=\"\",0,LP!G181)","v":0},null,{"$f":"IF(LP!I181=\"\",\"\",LP!J181)","v":""},{"$f":"IF(LP!I181=\"\",0,LP!K181)","v":0},null,{"$f":"IF(BPBPS!B181=\"\",\"\",BPBPS!C181)","v":""},{"$f":"IF(BPBPS!B181=\"\",0,BPBPS!D181)","v":0},null,{"$f":"IF(BPBPS!F181=\"\",\"\",BPBPS!G181)","v":""},{"$f":"IF(BPBPS!H181=\"\",0,BPBPS!H181)","v":0},null,{"$f":"IF(BPBPS!J181=\"\",\"\",BPBPS!K181)","v":""},{"$f":"IF(BPBPS!J181=\"\",0,BPBPS!L181)","v":0},null,{"$f":"IF(SSGP!B181=\"\",\"\",SSGP!C181)","v":""},{"$f":"IF(SSGP!B181=\"\",0,SSGP!D181)","v":0},null,{"$f":"IF(SSGP!F181=\"\",\"\",SSGP!G181)","v":""},{"$f":"IF(SSGP!F181=\"\",0,SSGP!H181)","v":0}]
[180,{"$f":"IF(WPP!B182=\"\",\"\",WPP!C182)","v":""},{"$f":"IF(WPP!B182=\"\",0,WPP!D182)","v":0},{"$f":"IF(WPP!B182=\"\",0,WPP!E182)","v":0},null,{"$f":"IF(WPP!G182=\"\",\"\",WPP!H182)","v":""},{"$f":"IF(WPP!G182=\"\",0,WPP!I182)","v":0},{"$f":"IF(WPP!G182=\"\",0,WPP!J182)","v":0},null,{"$f":"IF(KSP!B182=\"\",\"\",KSP!C182)","v":""},{"$f":"IF(KSP!B182=\"\",0,KSP!D182)","v":0},{"$f":"IF(KSP!B182=\"\",0,KSP!E182)","v":0},null,{"$f":"IF(KSP!G182=\"\",\"\",KSP!H182)","v":""},{"$f":"IF(KSP!G182=\"\",0,KSP!I182)","v":0},{"$f":"IF(KSP!G182=\"\",0,KSP!J182)","v":0},null,{"$f":"IF(FSP!B182=\"\",\"\",FSP!C182)","v":""},{"$f":"IF(FSP!B182=\"\",0,FSP!D182)","v":0},{"$f":"IF(FSP!B182=\"\",0,FSP!E182)","v":0},null,{"$f":"IF(FSP!G182=\"\",\"\",FSP!H182)","v":""},{"$f":"IF(FSP!G182=\"\",0,FSP!I182)","v":0},null,{"$f":"IF(PS!B184=\"\",\"\",PS!C184)","v":""},{"$f":"IF(PS!B184=\"\",\"\",PS!D184)","v":""},null,{"$f":"IF(PS!F184=\"\",\"\",PS!G184)","v":""},{"$f":"IF(PS!F184=\"\",\"\",PS!H184)","v":""},null,{"$f":"IF(LP!A182=\"\",\"\",LP!B182)","v":""},{"$f":"IF(LP!A182=\"\",0,LP!C182)","v":0},null,{"$f":"IF(LP!E182=\"\",\"\",LP!F182)","v":""},{"$f":"IF(LP!E182=\"\",0,LP!G182)","v":0},null,{"$f":"IF(LP!I182=\"\",\"\",LP!J182)","v":""},{"$f":"IF(LP!I182=\"\",0,LP!K182)","v":0},null,{"$f":"IF(BPBPS!B182=\"\",\"\",BPBPS!C182)","v":""},{"$f":"IF(BPBPS!B182=\"\",0,BPBPS!D182)","v":0},null,{"$f":"IF(BPBPS!F182=\"\",\"\",BPBPS!G182)","v":""},{"$f":"IF(BPBPS!H182=\"\",0,BPBPS!H182)","v":0},null,{"$f":"IF(BPBPS!J182=\"\",\"\",BPBPS!K182)","v":""},{"$f":"IF(BPBPS!J182=\"\",0,BPBPS!L182)","v":0},null,{"$f":"IF(SSGP!B182=\"\",\"\",SSGP!C182)","v":""},{"$f":"IF(SSGP!B182=\"\",0,SSGP!D182)","v":0},null,{"$f":"IF(SSGP!F182=\"\",\"\",SSGP!G182)","v":""},{"$f":"IF(SSGP!F182=\"\",0,SSGP!H182)","v":0}]
[181,{"$f":"IF(WPP!B183=\"\",\"\",WPP!C183)","v":""},{"$f":"IF(WPP!B183=\"\",0,WPP!D183)","v":0},{"$f":"IF(WPP!B183=\"\",0,WPP!E183)","v":0},null,{"$f":"IF(WPP!G183=\"\",\"\",WPP!H183)","v":""},{"$f":"IF(WPP!G183=\"\",0,WPP!I183)","v":0},{"$f":"IF(WPP!G183=\"\",0,WPP!J183)","v":0},null,{"$f":"IF(KSP!B183=\"\",\"\",KSP!C183)","v":""},{"$f":"IF(KSP!B183=\"\",0,KSP!D183)","v":0},{"$f":"IF(KSP!B183=\"\",0,KSP!E183)","v":0},null,{"$f":"IF(KSP!G183=\"\",\"\",KSP!H183)","v":""},{"$f":"IF(KSP!G183=\"\",0,KSP!I183)","v":0},{"$f":"IF(KSP!G183=\"\",0,KSP!J183)","v":0},null,{"$f":"IF(FSP!B183=\"\",\"\",FSP!C183)","v":""},{"$f":"IF(FSP!B183=\"\",0,FSP!D183)","v":0},{"$f":"IF(FSP!B183=\"\",0,FSP!E183)","v":0},null,{"$f":"IF(FSP!G183=\"\",\"\",FSP!H183)","v":""},{"$f":"IF(FSP!G183=\"\",0,FSP!I183)","v":0},null,{"$f":"IF(PS!B185=\"\",\"\",PS!C185)","v":""},{"$f":"IF(PS!B185=\"\",\"\",PS!D185)","v":""},null,{"$f":"IF(PS!F185=\"\",\"\",PS!G185)","v":""},{"$f":"IF(PS!F185=\"\",\"\",PS!H185)","v":""},null,{"$f":"IF(LP!A183=\"\",\"\",LP!B183)","v":""},{"$f":"IF(LP!A183=\"\",0,LP!C183)","v":0},null,{"$f":"IF(LP!E183=\"\",\"\",LP!F183)","v":""},{"$f":"IF(LP!E183=\"\",0,LP!G183)","v":0},null,{"$f":"IF(LP!I183=\"\",\"\",LP!J183)","v":""},{"$f":"IF(LP!I183=\"\",0,LP!K183)","v":0},null,{"$f":"IF(BPBPS!B183=\"\",\"\",BPBPS!C183)","v":""},{"$f":"IF(BPBPS!B183=\"\",0,BPBPS!D183)","v":0},null,{"$f":"IF(BPBPS!F183=\"\",\"\",BPBPS!G183)","v":""},{"$f":"IF(BPBPS!H183=\"\",0,BPBPS!H183)","v":0},null,{"$f":"IF(BPBPS!J183=\"\",\"\",BPBPS!K183)","v":""},{"$f":"IF(BPBPS!J183=\"\",0,BPBPS!L183)","v":0},null,{"$f":"IF(SSGP!B183=\"\",\"\",SSGP!C183)","v":""},{"$f":"IF(SSGP!B183=\"\",0,SSGP!D183)","v":0},null,{"$f":"IF(SSGP!F183=\"\",\"\",SSGP!G183)","v":""},{"$f":"IF(SSGP!F183=\"\",0,SSGP!H183)","v":0}]
[182,{"$f":"IF(WPP!B184=\"\",\"\",WPP!C184)","v":""},{"$f":"IF(WPP!B184=\"\",0,WPP!D184)","v":0},{"$f":"IF(WPP!B184=\"\",0,WPP!E184)","v":0},null,{"$f":"IF(WPP!G184=\"\",\"\",WPP!H184)","v":""},{"$f":"IF(WPP!G184=\"\",0,WPP!I184)","v":0},{"$f":"IF(WPP!G184=\"\",0,WPP!J184)","v":0},null,{"$f":"IF(KSP!B184=\"\",\"\",KSP!C184)","v":""},{"$f":"IF(KSP!B184=\"\",0,KSP!D184)","v":0},{"$f":"IF(KSP!B184=\"\",0,KSP!E184)","v":0},null,{"$f":"IF(KSP!G184=\"\",\"\",KSP!H184)","v":""},{"$f":"IF(KSP!G184=\"\",0,KSP!I184)","v":0},{"$f":"IF(KSP!G184=\"\",0,KSP!J184)","v":0},null,{"$f":"IF(FSP!B184=\"\",\"\",FSP!C184)","v":""},{"$f":"IF(FSP!B184=\"\",0,FSP!D184)","v":0},{"$f":"IF(FSP!B184=\"\",0,FSP!E184)","v":0},null,{"$f":"IF(FSP!G184=\"\",\"\",FSP!H184)","v":""},{"$f":"IF(FSP!G184=\"\",0,FSP!I184)","v":0},null,{"$f":"IF(PS!B186=\"\",\"\",PS!C186)","v":""},{"$f":"IF(PS!B186=\"\",\"\",PS!D186)","v":""},null,{"$f":"IF(PS!F186=\"\",\"\",PS!G186)","v":""},{"$f":"IF(PS!F186=\"\",\"\",PS!H186)","v":""},null,{"$f":"IF(LP!A184=\"\",\"\",LP!B184)","v":""},{"$f":"IF(LP!A184=\"\",0,LP!C184)","v":0},null,{"$f":"IF(LP!E184=\"\",\"\",LP!F184)","v":""},{"$f":"IF(LP!E184=\"\",0,LP!G184)","v":0},null,{"$f":"IF(LP!I184=\"\",\"\",LP!J184)","v":""},{"$f":"IF(LP!I184=\"\",0,LP!K184)","v":0},null,{"$f":"IF(BPBPS!B184=\"\",\"\",BPBPS!C184)","v":""},{"$f":"IF(BPBPS!B184=\"\",0,BPBPS!D184)","v":0},null,{"$f":"IF(BPBPS!F184=\"\",\"\",BPBPS!G184)","v":""},{"$f":"IF(BPBPS!H184=\"\",0,BPBPS!H184)","v":0},null,{"$f":"IF(BPBPS!J184=\"\",\"\",BPBPS!K184)","v":""},{"$f":"IF(BPBPS!J184=\"\",0,BPBPS!L184)","v":0},null,{"$f":"IF(SSGP!B184=\"\",\"\",SSGP!C184)","v":""},{"$f":"IF(SSGP!B184=\"\",0,SSGP!D184)","v":0},null,{"$f":"IF(SSGP!F184=\"\",\"\",SSGP!G184)","v":""},{"$f":"IF(SSGP!F184=\"\",0,SSGP!H184)","v":0}]
[183,{"$f":"IF(WPP!B185=\"\",\"\",WPP!C185)","v":""},{"$f":"IF(WPP!B185=\"\",0,WPP!D185)","v":0},{"$f":"IF(WPP!B185=\"\",0,WPP!E185)","v":0},null,{"$f":"IF(WPP!G185=\"\",\"\",WPP!H185)","v":""},{"$f":"IF(WPP!G185=\"\",0,WPP!I185)","v":0},{"$f":"IF(WPP!G185=\"\",0,WPP!J185)","v":0},null,{"$f":"IF(KSP!B185=\"\",\"\",KSP!C185)","v":""},{"$f":"IF(KSP!B185=\"\",0,KSP!D185)","v":0},{"$f":"IF(KSP!B185=\"\",0,KSP!E185)","v":0},null,{"$f":"IF(KSP!G185=\"\",\"\",KSP!H185)","v":""},{"$f":"IF(KSP!G185=\"\",0,KSP!I185)","v":0},{"$f":"IF(KSP!G185=\"\",0,KSP!J185)","v":0},null,{"$f":"IF(FSP!B185=\"\",\"\",FSP!C185)","v":""},{"$f":"IF(FSP!B185=\"\",0,FSP!D185)","v":0},{"$f":"IF(FSP!B185=\"\",0,FSP!E185)","v":0},null,{"$f":"IF(FSP!G185=\"\",\"\",FSP!H185)","v":""},{"$f":"IF(FSP!G185=\"\",0,FSP!I185)","v":0},null,{"$f":"IF(PS!B187=\"\",\"\",PS!C187)","v":""},{"$f":"IF(PS!B187=\"\",\"\",PS!D187)","v":""},null,{"$f":"IF(PS!F187=\"\",\"\",PS!G187)","v":""},{"$f":"IF(PS!F187=\"\",\"\",PS!H187)","v":""},null,{"$f":"IF(LP!A185=\"\",\"\",LP!B185)","v":""},{"$f":"IF(LP!A185=\"\",0,LP!C185)","v":0},null,{"$f":"IF(LP!E185=\"\",\"\",LP!F185)","v":""},{"$f":"IF(LP!E185=\"\",0,LP!G185)","v":0},null,{"$f":"IF(LP!I185=\"\",\"\",LP!J185)","v":""},{"$f":"IF(LP!I185=\"\",0,LP!K185)","v":0},null,{"$f":"IF(BPBPS!B185=\"\",\"\",BPBPS!C185)","v":""},{"$f":"IF(BPBPS!B185=\"\",0,BPBPS!D185)","v":0},null,{"$f":"IF(BPBPS!F185=\"\",\"\",BPBPS!G185)","v":""},{"$f":"IF(BPBPS!H185=\"\",0,BPBPS!H185)","v":0},null,{"$f":"IF(BPBPS!J185=\"\",\"\",BPBPS!K185)","v":""},{"$f":"IF(BPBPS!J185=\"\",0,BPBPS!L185)","v":0},null,{"$f":"IF(SSGP!B185=\"\",\"\",SSGP!C185)","v":""},{"$f":"IF(SSGP!B185=\"\",0,SSGP!D185)","v":0},null,{"$f":"IF(SSGP!F185=\"\",\"\",SSGP!G185)","v":""},{"$f":"IF(SSGP!F185=\"\",0,SSGP!H185)","v":0}]
[184,{"$f":"IF(WPP!B186=\"\",\"\",WPP!C186)","v":""},{"$f":"IF(WPP!B186=\"\",0,WPP!D186)","v":0},{"$f":"IF(WPP!B186=\"\",0,WPP!E186)","v":0},null,{"$f":"IF(WPP!G186=\"\",\"\",WPP!H186)","v":""},{"$f":"IF(WPP!G186=\"\",0,WPP!I186)","v":0},{"$f":"IF(WPP!G186=\"\",0,WPP!J186)","v":0},null,{"$f":"IF(KSP!B186=\"\",\"\",KSP!C186)","v":""},{"$f":"IF(KSP!B186=\"\",0,KSP!D186)","v":0},{"$f":"IF(KSP!B186=\"\",0,KSP!E186)","v":0},null,{"$f":"IF(KSP!G186=\"\",\"\",KSP!H186)","v":""},{"$f":"IF(KSP!G186=\"\",0,KSP!I186)","v":0},{"$f":"IF(KSP!G186=\"\",0,KSP!J186)","v":0},null,{"$f":"IF(FSP!B186=\"\",\"\",FSP!C186)","v":""},{"$f":"IF(FSP!B186=\"\",0,FSP!D186)","v":0},{"$f":"IF(FSP!B186=\"\",0,FSP!E186)","v":0},null,{"$f":"IF(FSP!G186=\"\",\"\",FSP!H186)","v":""},{"$f":"IF(FSP!G186=\"\",0,FSP!I186)","v":0},null,{"$f":"IF(PS!B188=\"\",\"\",PS!C188)","v":""},{"$f":"IF(PS!B188=\"\",\"\",PS!D188)","v":""},null,{"$f":"IF(PS!F188=\"\",\"\",PS!G188)","v":""},{"$f":"IF(PS!F188=\"\",\"\",PS!H188)","v":""},null,{"$f":"IF(LP!A186=\"\",\"\",LP!B186)","v":""},{"$f":"IF(LP!A186=\"\",0,LP!C186)","v":0},null,{"$f":"IF(LP!E186=\"\",\"\",LP!F186)","v":""},{"$f":"IF(LP!E186=\"\",0,LP!G186)","v":0},null,{"$f":"IF(LP!I186=\"\",\"\",LP!J186)","v":""},{"$f":"IF(LP!I186=\"\",0,LP!K186)","v":0},null,{"$f":"IF(BPBPS!B186=\"\",\"\",BPBPS!C186)","v":""},{"$f":"IF(BPBPS!B186=\"\",0,BPBPS!D186)","v":0},null,{"$f":"IF(BPBPS!F186=\"\",\"\",BPBPS!G186)","v":""},{"$f":"IF(BPBPS!H186=\"\",0,BPBPS!H186)","v":0},null,{"$f":"IF(BPBPS!J186=\"\",\"\",BPBPS!K186)","v":""},{"$f":"IF(BPBPS!J186=\"\",0,BPBPS!L186)","v":0},null,{"$f":"IF(SSGP!B186=\"\",\"\",SSGP!C186)","v":""},{"$f":"IF(SSGP!B186=\"\",0,SSGP!D186)","v":0},null,{"$f":"IF(SSGP!F186=\"\",\"\",SSGP!G186)","v":""},{"$f":"IF(SSGP!F186=\"\",0,SSGP!H186)","v":0}]
[185,{"$f":"IF(WPP!B187=\"\",\"\",WPP!C187)","v":""},{"$f":"IF(WPP!B187=\"\",0,WPP!D187)","v":0},{"$f":"IF(WPP!B187=\"\",0,WPP!E187)","v":0},null,{"$f":"IF(WPP!G187=\"\",\"\",WPP!H187)","v":""},{"$f":"IF(WPP!G187=\"\",0,WPP!I187)","v":0},{"$f":"IF(WPP!G187=\"\",0,WPP!J187)","v":0},null,{"$f":"IF(KSP!B187=\"\",\"\",KSP!C187)","v":""},{"$f":"IF(KSP!B187=\"\",0,KSP!D187)","v":0},{"$f":"IF(KSP!B187=\"\",0,KSP!E187)","v":0},null,{"$f":"IF(KSP!G187=\"\",\"\",KSP!H187)","v":""},{"$f":"IF(KSP!G187=\"\",0,KSP!I187)","v":0},{"$f":"IF(KSP!G187=\"\",0,KSP!J187)","v":0},null,{"$f":"IF(FSP!B187=\"\",\"\",FSP!C187)","v":""},{"$f":"IF(FSP!B187=\"\",0,FSP!D187)","v":0},{"$f":"IF(FSP!B187=\"\",0,FSP!E187)","v":0},null,{"$f":"IF(FSP!G187=\"\",\"\",FSP!H187)","v":""},{"$f":"IF(FSP!G187=\"\",0,FSP!I187)","v":0},null,{"$f":"IF(PS!B189=\"\",\"\",PS!C189)","v":""},{"$f":"IF(PS!B189=\"\",\"\",PS!D189)","v":""},null,{"$f":"IF(PS!F189=\"\",\"\",PS!G189)","v":""},{"$f":"IF(PS!F189=\"\",\"\",PS!H189)","v":""},null,{"$f":"IF(LP!A187=\"\",\"\",LP!B187)","v":""},{"$f":"IF(LP!A187=\"\",0,LP!C187)","v":0},null,{"$f":"IF(LP!E187=\"\",\"\",LP!F187)","v":""},{"$f":"IF(LP!E187=\"\",0,LP!G187)","v":0},null,{"$f":"IF(LP!I187=\"\",\"\",LP!J187)","v":""},{"$f":"IF(LP!I187=\"\",0,LP!K187)","v":0},null,{"$f":"IF(BPBPS!B187=\"\",\"\",BPBPS!C187)","v":""},{"$f":"IF(BPBPS!B187=\"\",0,BPBPS!D187)","v":0},null,{"$f":"IF(BPBPS!F187=\"\",\"\",BPBPS!G187)","v":""},{"$f":"IF(BPBPS!H187=\"\",0,BPBPS!H187)","v":0},null,{"$f":"IF(BPBPS!J187=\"\",\"\",BPBPS!K187)","v":""},{"$f":"IF(BPBPS!J187=\"\",0,BPBPS!L187)","v":0},null,{"$f":"IF(SSGP!B187=\"\",\"\",SSGP!C187)","v":""},{"$f":"IF(SSGP!B187=\"\",0,SSGP!D187)","v":0},null,{"$f":"IF(SSGP!F187=\"\",\"\",SSGP!G187)","v":""},{"$f":"IF(SSGP!F187=\"\",0,SSGP!H187)","v":0}]
[186,{"$f":"IF(WPP!B188=\"\",\"\",WPP!C188)","v":""},{"$f":"IF(WPP!B188=\"\",0,WPP!D188)","v":0},{"$f":"IF(WPP!B188=\"\",0,WPP!E188)","v":0},null,{"$f":"IF(WPP!G188=\"\",\"\",WPP!H188)","v":""},{"$f":"IF(WPP!G188=\"\",0,WPP!I188)","v":0},{"$f":"IF(WPP!G188=\"\",0,WPP!J188)","v":0},null,{"$f":"IF(KSP!B188=\"\",\"\",KSP!C188)","v":""},{"$f":"IF(KSP!B188=\"\",0,KSP!D188)","v":0},{"$f":"IF(KSP!B188=\"\",0,KSP!E188)","v":0},null,{"$f":"IF(KSP!G188=\"\",\"\",KSP!H188)","v":""},{"$f":"IF(KSP!G188=\"\",0,KSP!I188)","v":0},{"$f":"IF(KSP!G188=\"\",0,KSP!J188)","v":0},null,{"$f":"IF(FSP!B188=\"\",\"\",FSP!C188)","v":""},{"$f":"IF(FSP!B188=\"\",0,FSP!D188)","v":0},{"$f":"IF(FSP!B188=\"\",0,FSP!E188)","v":0},null,{"$f":"IF(FSP!G188=\"\",\"\",FSP!H188)","v":""},{"$f":"IF(FSP!G188=\"\",0,FSP!I188)","v":0},null,{"$f":"IF(PS!B190=\"\",\"\",PS!C190)","v":""},{"$f":"IF(PS!B190=\"\",\"\",PS!D190)","v":""},null,{"$f":"IF(PS!F190=\"\",\"\",PS!G190)","v":""},{"$f":"IF(PS!F190=\"\",\"\",PS!H190)","v":""},null,{"$f":"IF(LP!A188=\"\",\"\",LP!B188)","v":""},{"$f":"IF(LP!A188=\"\",0,LP!C188)","v":0},null,{"$f":"IF(LP!E188=\"\",\"\",LP!F188)","v":""},{"$f":"IF(LP!E188=\"\",0,LP!G188)","v":0},null,{"$f":"IF(LP!I188=\"\",\"\",LP!J188)","v":""},{"$f":"IF(LP!I188=\"\",0,LP!K188)","v":0},null,{"$f":"IF(BPBPS!B188=\"\",\"\",BPBPS!C188)","v":""},{"$f":"IF(BPBPS!B188=\"\",0,BPBPS!D188)","v":0},null,{"$f":"IF(BPBPS!F188=\"\",\"\",BPBPS!G188)","v":""},{"$f":"IF(BPBPS!H188=\"\",0,BPBPS!H188)","v":0},null,{"$f":"IF(BPBPS!J188=\"\",\"\",BPBPS!K188)","v":""},{"$f":"IF(BPBPS!J188=\"\",0,BPBPS!L188)","v":0},null,{"$f":"IF(SSGP!B188=\"\",\"\",SSGP!C188)","v":""},{"$f":"IF(SSGP!B188=\"\",0,SSGP!D188)","v":0},null,{"$f":"IF(SSGP!F188=\"\",\"\",SSGP!G188)","v":""},{"$f":"IF(SSGP!F188=\"\",0,SSGP!H188)","v":0}]
[187,{"$f":"IF(WPP!B189=\"\",\"\",WPP!C189)","v":""},{"$f":"IF(WPP!B189=\"\",0,WPP!D189)","v":0},{"$f":"IF(WPP!B189=\"\",0,WPP!E189)","v":0},null,{"$f":"IF(WPP!G189=\"\",\"\",WPP!H189)","v":""},{"$f":"IF(WPP!G189=\"\",0,WPP!I189)","v":0},{"$f":"IF(WPP!G189=\"\",0,WPP!J189)","v":0},null,{"$f":"IF(KSP!B189=\"\",\"\",KSP!C189)","v":""},{"$f":"IF(KSP!B189=\"\",0,KSP!D189)","v":0},{"$f":"IF(KSP!B189=\"\",0,KSP!E189)","v":0},null,{"$f":"IF(KSP!G189=\"\",\"\",KSP!H189)","v":""},{"$f":"IF(KSP!G189=\"\",0,KSP!I189)","v":0},{"$f":"IF(KSP!G189=\"\",0,KSP!J189)","v":0},null,{"$f":"IF(FSP!B189=\"\",\"\",FSP!C189)","v":""},{"$f":"IF(FSP!B189=\"\",0,FSP!D189)","v":0},{"$f":"IF(FSP!B189=\"\",0,FSP!E189)","v":0},null,{"$f":"IF(FSP!G189=\"\",\"\",FSP!H189)","v":""},{"$f":"IF(FSP!G189=\"\",0,FSP!I189)","v":0},null,{"$f":"IF(PS!B191=\"\",\"\",PS!C191)","v":""},{"$f":"IF(PS!B191=\"\",\"\",PS!D191)","v":""},null,{"$f":"IF(PS!F191=\"\",\"\",PS!G191)","v":""},{"$f":"IF(PS!F191=\"\",\"\",PS!H191)","v":""},null,{"$f":"IF(LP!A189=\"\",\"\",LP!B189)","v":""},{"$f":"IF(LP!A189=\"\",0,LP!C189)","v":0},null,{"$f":"IF(LP!E189=\"\",\"\",LP!F189)","v":""},{"$f":"IF(LP!E189=\"\",0,LP!G189)","v":0},null,{"$f":"IF(LP!I189=\"\",\"\",LP!J189)","v":""},{"$f":"IF(LP!I189=\"\",0,LP!K189)","v":0},null,{"$f":"IF(BPBPS!B189=\"\",\"\",BPBPS!C189)","v":""},{"$f":"IF(BPBPS!B189=\"\",0,BPBPS!D189)","v":0},null,{"$f":"IF(BPBPS!F189=\"\",\"\",BPBPS!G189)","v":""},{"$f":"IF(BPBPS!H189=\"\",0,BPBPS!H189)","v":0},null,{"$f":"IF(BPBPS!J189=\"\",\"\",BPBPS!K189)","v":""},{"$f":"IF(BPBPS!J189=\"\",0,BPBPS!L189)","v":0},null,{"$f":"IF(SSGP!B189=\"\",\"\",SSGP!C189)","v":""},{"$f":"IF(SSGP!B189=\"\",0,SSGP!D189)","v":0},null,{"$f":"IF(SSGP!F189=\"\",\"\",SSGP!G189)","v":""},{"$f":"IF(SSGP!F189=\"\",0,SSGP!H189)","v":0}]
[188,{"$f":"IF(WPP!B190=\"\",\"\",WPP!C190)","v":""},{"$f":"IF(WPP!B190=\"\",0,WPP!D190)","v":0},{"$f":"IF(WPP!B190=\"\",0,WPP!E190)","v":0},null,{"$f":"IF(WPP!G190=\"\",\"\",WPP!H190)","v":""},{"$f":"IF(WPP!G190=\"\",0,WPP!I190)","v":0},{"$f":"IF(WPP!G190=\"\",0,WPP!J190)","v":0},null,{"$f":"IF(KSP!B190=\"\",\"\",KSP!C190)","v":""},{"$f":"IF(KSP!B190=\"\",0,KSP!D190)","v":0},{"$f":"IF(KSP!B190=\"\",0,KSP!E190)","v":0},null,{"$f":"IF(KSP!G190=\"\",\"\",KSP!H190)","v":""},{"$f":"IF(KSP!G190=\"\",0,KSP!I190)","v":0},{"$f":"IF(KSP!G190=\"\",0,KSP!J190)","v":0},null,{"$f":"IF(FSP!B190=\"\",\"\",FSP!C190)","v":""},{"$f":"IF(FSP!B190=\"\",0,FSP!D190)","v":0},{"$f":"IF(FSP!B190=\"\",0,FSP!E190)","v":0},null,{"$f":"IF(FSP!G190=\"\",\"\",FSP!H190)","v":""},{"$f":"IF(FSP!G190=\"\",0,FSP!I190)","v":0},null,{"$f":"IF(PS!B192=\"\",\"\",PS!C192)","v":""},{"$f":"IF(PS!B192=\"\",\"\",PS!D192)","v":""},null,{"$f":"IF(PS!F192=\"\",\"\",PS!G192)","v":""},{"$f":"IF(PS!F192=\"\",\"\",PS!H192)","v":""},null,{"$f":"IF(LP!A190=\"\",\"\",LP!B190)","v":""},{"$f":"IF(LP!A190=\"\",0,LP!C190)","v":0},null,{"$f":"IF(LP!E190=\"\",\"\",LP!F190)","v":""},{"$f":"IF(LP!E190=\"\",0,LP!G190)","v":0},null,{"$f":"IF(LP!I190=\"\",\"\",LP!J190)","v":""},{"$f":"IF(LP!I190=\"\",0,LP!K190)","v":0},null,{"$f":"IF(BPBPS!B190=\"\",\"\",BPBPS!C190)","v":""},{"$f":"IF(BPBPS!B190=\"\",0,BPBPS!D190)","v":0},null,{"$f":"IF(BPBPS!F190=\"\",\"\",BPBPS!G190)","v":""},{"$f":"IF(BPBPS!H190=\"\",0,BPBPS!H190)","v":0},null,{"$f":"IF(BPBPS!J190=\"\",\"\",BPBPS!K190)","v":""},{"$f":"IF(BPBPS!J190=\"\",0,BPBPS!L190)","v":0},null,{"$f":"IF(SSGP!B190=\"\",\"\",SSGP!C190)","v":""},{"$f":"IF(SSGP!B190=\"\",0,SSGP!D190)","v":0},null,{"$f":"IF(SSGP!F190=\"\",\"\",SSGP!G190)","v":""},{"$f":"IF(SSGP!F190=\"\",0,SSGP!H190)","v":0}]
[189,{"$f":"IF(WPP!B191=\"\",\"\",WPP!C191)","v":""},{"$f":"IF(WPP!B191=\"\",0,WPP!D191)","v":0},{"$f":"IF(WPP!B191=\"\",0,WPP!E191)","v":0},null,{"$f":"IF(WPP!G191=\"\",\"\",WPP!H191)","v":""},{"$f":"IF(WPP!G191=\"\",0,WPP!I191)","v":0},{"$f":"IF(WPP!G191=\"\",0,WPP!J191)","v":0},null,{"$f":"IF(KSP!B191=\"\",\"\",KSP!C191)","v":""},{"$f":"IF(KSP!B191=\"\",0,KSP!D191)","v":0},{"$f":"IF(KSP!B191=\"\",0,KSP!E191)","v":0},null,{"$f":"IF(KSP!G191=\"\",\"\",KSP!H191)","v":""},{"$f":"IF(KSP!G191=\"\",0,KSP!I191)","v":0},{"$f":"IF(KSP!G191=\"\",0,KSP!J191)","v":0},null,{"$f":"IF(FSP!B191=\"\",\"\",FSP!C191)","v":""},{"$f":"IF(FSP!B191=\"\",0,FSP!D191)","v":0},{"$f":"IF(FSP!B191=\"\",0,FSP!E191)","v":0},null,{"$f":"IF(FSP!G191=\"\",\"\",FSP!H191)","v":""},{"$f":"IF(FSP!G191=\"\",0,FSP!I191)","v":0},null,{"$f":"IF(PS!B193=\"\",\"\",PS!C193)","v":""},{"$f":"IF(PS!B193=\"\",\"\",PS!D193)","v":""},null,{"$f":"IF(PS!F193=\"\",\"\",PS!G193)","v":""},{"$f":"IF(PS!F193=\"\",\"\",PS!H193)","v":""},null,{"$f":"IF(LP!A191=\"\",\"\",LP!B191)","v":""},{"$f":"IF(LP!A191=\"\",0,LP!C191)","v":0},null,{"$f":"IF(LP!E191=\"\",\"\",LP!F191)","v":""},{"$f":"IF(LP!E191=\"\",0,LP!G191)","v":0},null,{"$f":"IF(LP!I191=\"\",\"\",LP!J191)","v":""},{"$f":"IF(LP!I191=\"\",0,LP!K191)","v":0},null,{"$f":"IF(BPBPS!B191=\"\",\"\",BPBPS!C191)","v":""},{"$f":"IF(BPBPS!B191=\"\",0,BPBPS!D191)","v":0},null,{"$f":"IF(BPBPS!F191=\"\",\"\",BPBPS!G191)","v":""},{"$f":"IF(BPBPS!H191=\"\",0,BPBPS!H191)","v":0},null,{"$f":"IF(BPBPS!J191=\"\",\"\",BPBPS!K191)","v":""},{"$f":"IF(BPBPS!J191=\"\",0,BPBPS!L191)","v":0},null,{"$f":"IF(SSGP!B191=\"\",\"\",SSGP!C191)","v":""},{"$f":"IF(SSGP!B191=\"\",0,SSGP!D191)","v":0},null,{"$f":"IF(SSGP!F191=\"\",\"\",SSGP!G191)","v":""},{"$f":"IF(SSGP!F191=\"\",0,SSGP!H191)","v":0}]
[190,{"$f":"IF(WPP!B192=\"\",\"\",WPP!C192)","v":""},{"$f":"IF(WPP!B192=\"\",0,WPP!D192)","v":0},{"$f":"IF(WPP!B192=\"\",0,WPP!E192)","v":0},null,{"$f":"IF(WPP!G192=\"\",\"\",WPP!H192)","v":""},{"$f":"IF(WPP!G192=\"\",0,WPP!I192)","v":0},{"$f":"IF(WPP!G192=\"\",0,WPP!J192)","v":0},null,{"$f":"IF(KSP!B192=\"\",\"\",KSP!C192)","v":""},{"$f":"IF(KSP!B192=\"\",0,KSP!D192)","v":0},{"$f":"IF(KSP!B192=\"\",0,KSP!E192)","v":0},null,{"$f":"IF(KSP!G192=\"\",\"\",KSP!H192)","v":""},{"$f":"IF(KSP!G192=\"\",0,KSP!I192)","v":0},{"$f":"IF(KSP!G192=\"\",0,KSP!J192)","v":0},null,{"$f":"IF(FSP!B192=\"\",\"\",FSP!C192)","v":""},{"$f":"IF(FSP!B192=\"\",0,FSP!D192)","v":0},{"$f":"IF(FSP!B192=\"\",0,FSP!E192)","v":0},null,{"$f":"IF(FSP!G192=\"\",\"\",FSP!H192)","v":""},{"$f":"IF(FSP!G192=\"\",0,FSP!I192)","v":0},null,{"$f":"IF(PS!B194=\"\",\"\",PS!C194)","v":""},{"$f":"IF(PS!B194=\"\",\"\",PS!D194)","v":""},null,{"$f":"IF(PS!F194=\"\",\"\",PS!G194)","v":""},{"$f":"IF(PS!F194=\"\",\"\",PS!H194)","v":""},null,{"$f":"IF(LP!A192=\"\",\"\",LP!B192)","v":""},{"$f":"IF(LP!A192=\"\",0,LP!C192)","v":0},null,{"$f":"IF(LP!E192=\"\",\"\",LP!F192)","v":""},{"$f":"IF(LP!E192=\"\",0,LP!G192)","v":0},null,{"$f":"IF(LP!I192=\"\",\"\",LP!J192)","v":""},{"$f":"IF(LP!I192=\"\",0,LP!K192)","v":0},null,{"$f":"IF(BPBPS!B192=\"\",\"\",BPBPS!C192)","v":""},{"$f":"IF(BPBPS!B192=\"\",0,BPBPS!D192)","v":0},null,{"$f":"IF(BPBPS!F192=\"\",\"\",BPBPS!G192)","v":""},{"$f":"IF(BPBPS!H192=\"\",0,BPBPS!H192)","v":0},null,{"$f":"IF(BPBPS!J192=\"\",\"\",BPBPS!K192)","v":""},{"$f":"IF(BPBPS!J192=\"\",0,BPBPS!L192)","v":0},null,{"$f":"IF(SSGP!B192=\"\",\"\",SSGP!C192)","v":""},{"$f":"IF(SSGP!B192=\"\",0,SSGP!D192)","v":0},null,{"$f":"IF(SSGP!F192=\"\",\"\",SSGP!G192)","v":""},{"$f":"IF(SSGP!F192=\"\",0,SSGP!H192)","v":0}]
[191,{"$f":"IF(WPP!B193=\"\",\"\",WPP!C193)","v":""},{"$f":"IF(WPP!B193=\"\",0,WPP!D193)","v":0},{"$f":"IF(WPP!B193=\"\",0,WPP!E193)","v":0},null,{"$f":"IF(WPP!G193=\"\",\"\",WPP!H193)","v":""},{"$f":"IF(WPP!G193=\"\",0,WPP!I193)","v":0},{"$f":"IF(WPP!G193=\"\",0,WPP!J193)","v":0},null,{"$f":"IF(KSP!B193=\"\",\"\",KSP!C193)","v":""},{"$f":"IF(KSP!B193=\"\",0,KSP!D193)","v":0},{"$f":"IF(KSP!B193=\"\",0,KSP!E193)","v":0},null,{"$f":"IF(KSP!G193=\"\",\"\",KSP!H193)","v":""},{"$f":"IF(KSP!G193=\"\",0,KSP!I193)","v":0},{"$f":"IF(KSP!G193=\"\",0,KSP!J193)","v":0},null,{"$f":"IF(FSP!B193=\"\",\"\",FSP!C193)","v":""},{"$f":"IF(FSP!B193=\"\",0,FSP!D193)","v":0},{"$f":"IF(FSP!B193=\"\",0,FSP!E193)","v":0},null,{"$f":"IF(FSP!G193=\"\",\"\",FSP!H193)","v":""},{"$f":"IF(FSP!G193=\"\",0,FSP!I193)","v":0},null,{"$f":"IF(PS!B195=\"\",\"\",PS!C195)","v":""},{"$f":"IF(PS!B195=\"\",\"\",PS!D195)","v":""},null,{"$f":"IF(PS!F195=\"\",\"\",PS!G195)","v":""},{"$f":"IF(PS!F195=\"\",\"\",PS!H195)","v":""},null,{"$f":"IF(LP!A193=\"\",\"\",LP!B193)","v":""},{"$f":"IF(LP!A193=\"\",0,LP!C193)","v":0},null,{"$f":"IF(LP!E193=\"\",\"\",LP!F193)","v":""},{"$f":"IF(LP!E193=\"\",0,LP!G193)","v":0},null,{"$f":"IF(LP!I193=\"\",\"\",LP!J193)","v":""},{"$f":"IF(LP!I193=\"\",0,LP!K193)","v":0},null,{"$f":"IF(BPBPS!B193=\"\",\"\",BPBPS!C193)","v":""},{"$f":"IF(BPBPS!B193=\"\",0,BPBPS!D193)","v":0},null,{"$f":"IF(BPBPS!F193=\"\",\"\",BPBPS!G193)","v":""},{"$f":"IF(BPBPS!H193=\"\",0,BPBPS!H193)","v":0},null,{"$f":"IF(BPBPS!J193=\"\",\"\",BPBPS!K193)","v":""},{"$f":"IF(BPBPS!J193=\"\",0,BPBPS!L193)","v":0},null,{"$f":"IF(SSGP!B193=\"\",\"\",SSGP!C193)","v":""},{"$f":"IF(SSGP!B193=\"\",0,SSGP!D193)","v":0},null,{"$f":"IF(SSGP!F193=\"\",\"\",SSGP!G193)","v":""},{"$f":"IF(SSGP!F193=\"\",0,SSGP!H193)","v":0}]
[192,{"$f":"IF(WPP!B194=\"\",\"\",WPP!C194)","v":""},{"$f":"IF(WPP!B194=\"\",0,WPP!D194)","v":0},{"$f":"IF(WPP!B194=\"\",0,WPP!E194)","v":0},null,{"$f":"IF(WPP!G194=\"\",\"\",WPP!H194)","v":""},{"$f":"IF(WPP!G194=\"\",0,WPP!I194)","v":0},{"$f":"IF(WPP!G194=\"\",0,WPP!J194)","v":0},null,{"$f":"IF(KSP!B194=\"\",\"\",KSP!C194)","v":""},{"$f":"IF(KSP!B194=\"\",0,KSP!D194)","v":0},{"$f":"IF(KSP!B194=\"\",0,KSP!E194)","v":0},null,{"$f":"IF(KSP!G194=\"\",\"\",KSP!H194)","v":""},{"$f":"IF(KSP!G194=\"\",0,KSP!I194)","v":0},{"$f":"IF(KSP!G194=\"\",0,KSP!J194)","v":0},null,{"$f":"IF(FSP!B194=\"\",\"\",FSP!C194)","v":""},{"$f":"IF(FSP!B194=\"\",0,FSP!D194)","v":0},{"$f":"IF(FSP!B194=\"\",0,FSP!E194)","v":0},null,{"$f":"IF(FSP!G194=\"\",\"\",FSP!H194)","v":""},{"$f":"IF(FSP!G194=\"\",0,FSP!I194)","v":0},null,{"$f":"IF(PS!B196=\"\",\"\",PS!C196)","v":""},{"$f":"IF(PS!B196=\"\",\"\",PS!D196)","v":""},null,{"$f":"IF(PS!F196=\"\",\"\",PS!G196)","v":""},{"$f":"IF(PS!F196=\"\",\"\",PS!H196)","v":""},null,{"$f":"IF(LP!A194=\"\",\"\",LP!B194)","v":""},{"$f":"IF(LP!A194=\"\",0,LP!C194)","v":0},null,{"$f":"IF(LP!E194=\"\",\"\",LP!F194)","v":""},{"$f":"IF(LP!E194=\"\",0,LP!G194)","v":0},null,{"$f":"IF(LP!I194=\"\",\"\",LP!J194)","v":""},{"$f":"IF(LP!I194=\"\",0,LP!K194)","v":0},null,{"$f":"IF(BPBPS!B194=\"\",\"\",BPBPS!C194)","v":""},{"$f":"IF(BPBPS!B194=\"\",0,BPBPS!D194)","v":0},null,{"$f":"IF(BPBPS!F194=\"\",\"\",BPBPS!G194)","v":""},{"$f":"IF(BPBPS!H194=\"\",0,BPBPS!H194)","v":0},null,{"$f":"IF(BPBPS!J194=\"\",\"\",BPBPS!K194)","v":""},{"$f":"IF(BPBPS!J194=\"\",0,BPBPS!L194)","v":0},null,{"$f":"IF(SSGP!B194=\"\",\"\",SSGP!C194)","v":""},{"$f":"IF(SSGP!B194=\"\",0,SSGP!D194)","v":0},null,{"$f":"IF(SSGP!F194=\"\",\"\",SSGP!G194)","v":""},{"$f":"IF(SSGP!F194=\"\",0,SSGP!H194)","v":0}]
[193,{"$f":"IF(WPP!B195=\"\",\"\",WPP!C195)","v":""},{"$f":"IF(WPP!B195=\"\",0,WPP!D195)","v":0},{"$f":"IF(WPP!B195=\"\",0,WPP!E195)","v":0},null,{"$f":"IF(WPP!G195=\"\",\"\",WPP!H195)","v":""},{"$f":"IF(WPP!G195=\"\",0,WPP!I195)","v":0},{"$f":"IF(WPP!G195=\"\",0,WPP!J195)","v":0},null,{"$f":"IF(KSP!B195=\"\",\"\",KSP!C195)","v":""},{"$f":"IF(KSP!B195=\"\",0,KSP!D195)","v":0},{"$f":"IF(KSP!B195=\"\",0,KSP!E195)","v":0},null,{"$f":"IF(KSP!G195=\"\",\"\",KSP!H195)","v":""},{"$f":"IF(KSP!G195=\"\",0,KSP!I195)","v":0},{"$f":"IF(KSP!G195=\"\",0,KSP!J195)","v":0},null,{"$f":"IF(FSP!B195=\"\",\"\",FSP!C195)","v":""},{"$f":"IF(FSP!B195=\"\",0,FSP!D195)","v":0},{"$f":"IF(FSP!B195=\"\",0,FSP!E195)","v":0},null,{"$f":"IF(FSP!G195=\"\",\"\",FSP!H195)","v":""},{"$f":"IF(FSP!G195=\"\",0,FSP!I195)","v":0},null,{"$f":"IF(PS!B197=\"\",\"\",PS!C197)","v":""},{"$f":"IF(PS!B197=\"\",\"\",PS!D197)","v":""},null,{"$f":"IF(PS!F197=\"\",\"\",PS!G197)","v":""},{"$f":"IF(PS!F197=\"\",\"\",PS!H197)","v":""},null,{"$f":"IF(LP!A195=\"\",\"\",LP!B195)","v":""},{"$f":"IF(LP!A195=\"\",0,LP!C195)","v":0},null,{"$f":"IF(LP!E195=\"\",\"\",LP!F195)","v":""},{"$f":"IF(LP!E195=\"\",0,LP!G195)","v":0},null,{"$f":"IF(LP!I195=\"\",\"\",LP!J195)","v":""},{"$f":"IF(LP!I195=\"\",0,LP!K195)","v":0},null,{"$f":"IF(BPBPS!B195=\"\",\"\",BPBPS!C195)","v":""},{"$f":"IF(BPBPS!B195=\"\",0,BPBPS!D195)","v":0},null,{"$f":"IF(BPBPS!F195=\"\",\"\",BPBPS!G195)","v":""},{"$f":"IF(BPBPS!H195=\"\",0,BPBPS!H195)","v":0},null,{"$f":"IF(BPBPS!J195=\"\",\"\",BPBPS!K195)","v":""},{"$f":"IF(BPBPS!J195=\"\",0,BPBPS!L195)","v":0},null,{"$f":"IF(SSGP!B195=\"\",\"\",SSGP!C195)","v":""},{"$f":"IF(SSGP!B195=\"\",0,SSGP!D195)","v":0},null,{"$f":"IF(SSGP!F195=\"\",\"\",SSGP!G195)","v":""},{"$f":"IF(SSGP!F195=\"\",0,SSGP!H195)","v":0}]
[194,{"$f":"IF(WPP!B196=\"\",\"\",WPP!C196)","v":""},{"$f":"IF(WPP!B196=\"\",0,WPP!D196)","v":0},{"$f":"IF(WPP!B196=\"\",0,WPP!E196)","v":0},null,{"$f":"IF(WPP!G196=\"\",\"\",WPP!H196)","v":""},{"$f":"IF(WPP!G196=\"\",0,WPP!I196)","v":0},{"$f":"IF(WPP!G196=\"\",0,WPP!J196)","v":0},null,{"$f":"IF(KSP!B196=\"\",\"\",KSP!C196)","v":""},{"$f":"IF(KSP!B196=\"\",0,KSP!D196)","v":0},{"$f":"IF(KSP!B196=\"\",0,KSP!E196)","v":0},null,{"$f":"IF(KSP!G196=\"\",\"\",KSP!H196)","v":""},{"$f":"IF(KSP!G196=\"\",0,KSP!I196)","v":0},{"$f":"IF(KSP!G196=\"\",0,KSP!J196)","v":0},null,{"$f":"IF(FSP!B196=\"\",\"\",FSP!C196)","v":""},{"$f":"IF(FSP!B196=\"\",0,FSP!D196)","v":0},{"$f":"IF(FSP!B196=\"\",0,FSP!E196)","v":0},null,{"$f":"IF(FSP!G196=\"\",\"\",FSP!H196)","v":""},{"$f":"IF(FSP!G196=\"\",0,FSP!I196)","v":0},null,{"$f":"IF(PS!B198=\"\",\"\",PS!C198)","v":""},{"$f":"IF(PS!B198=\"\",\"\",PS!D198)","v":""},null,{"$f":"IF(PS!F198=\"\",\"\",PS!G198)","v":""},{"$f":"IF(PS!F198=\"\",\"\",PS!H198)","v":""},null,{"$f":"IF(LP!A196=\"\",\"\",LP!B196)","v":""},{"$f":"IF(LP!A196=\"\",0,LP!C196)","v":0},null,{"$f":"IF(LP!E196=\"\",\"\",LP!F196)","v":""},{"$f":"IF(LP!E196=\"\",0,LP!G196)","v":0},null,{"$f":"IF(LP!I196=\"\",\"\",LP!J196)","v":""},{"$f":"IF(LP!I196=\"\",0,LP!K196)","v":0},null,{"$f":"IF(BPBPS!B196=\"\",\"\",BPBPS!C196)","v":""},{"$f":"IF(BPBPS!B196=\"\",0,BPBPS!D196)","v":0},null,{"$f":"IF(BPBPS!F196=\"\",\"\",BPBPS!G196)","v":""},{"$f":"IF(BPBPS!H196=\"\",0,BPBPS!H196)","v":0},null,{"$f":"IF(BPBPS!J196=\"\",\"\",BPBPS!K196)","v":""},{"$f":"IF(BPBPS!J196=\"\",0,BPBPS!L196)","v":0},null,{"$f":"IF(SSGP!B196=\"\",\"\",SSGP!C196)","v":""},{"$f":"IF(SSGP!B196=\"\",0,SSGP!D196)","v":0},null,{"$f":"IF(SSGP!F196=\"\",\"\",SSGP!G196)","v":""},{"$f":"IF(SSGP!F196=\"\",0,SSGP!H196)","v":0}]
[195,{"$f":"IF(WPP!B197=\"\",\"\",WPP!C197)","v":""},{"$f":"IF(WPP!B197=\"\",0,WPP!D197)","v":0},{"$f":"IF(WPP!B197=\"\",0,WPP!E197)","v":0},null,{"$f":"IF(WPP!G197=\"\",\"\",WPP!H197)","v":""},{"$f":"IF(WPP!G197=\"\",0,WPP!I197)","v":0},{"$f":"IF(WPP!G197=\"\",0,WPP!J197)","v":0},null,{"$f":"IF(KSP!B197=\"\",\"\",KSP!C197)","v":""},{"$f":"IF(KSP!B197=\"\",0,KSP!D197)","v":0},{"$f":"IF(KSP!B197=\"\",0,KSP!E197)","v":0},null,{"$f":"IF(KSP!G197=\"\",\"\",KSP!H197)","v":""},{"$f":"IF(KSP!G197=\"\",0,KSP!I197)","v":0},{"$f":"IF(KSP!G197=\"\",0,KSP!J197)","v":0},null,{"$f":"IF(FSP!B197=\"\",\"\",FSP!C197)","v":""},{"$f":"IF(FSP!B197=\"\",0,FSP!D197)","v":0},{"$f":"IF(FSP!B197=\"\",0,FSP!E197)","v":0},null,{"$f":"IF(FSP!G197=\"\",\"\",FSP!H197)","v":""},{"$f":"IF(FSP!G197=\"\",0,FSP!I197)","v":0},null,{"$f":"IF(PS!B199=\"\",\"\",PS!C199)","v":""},{"$f":"IF(PS!B199=\"\",\"\",PS!D199)","v":""},null,{"$f":"IF(PS!F199=\"\",\"\",PS!G199)","v":""},{"$f":"IF(PS!F199=\"\",\"\",PS!H199)","v":""},null,{"$f":"IF(LP!A197=\"\",\"\",LP!B197)","v":""},{"$f":"IF(LP!A197=\"\",0,LP!C197)","v":0},null,{"$f":"IF(LP!E197=\"\",\"\",LP!F197)","v":""},{"$f":"IF(LP!E197=\"\",0,LP!G197)","v":0},null,{"$f":"IF(LP!I197=\"\",\"\",LP!J197)","v":""},{"$f":"IF(LP!I197=\"\",0,LP!K197)","v":0},null,{"$f":"IF(BPBPS!B197=\"\",\"\",BPBPS!C197)","v":""},{"$f":"IF(BPBPS!B197=\"\",0,BPBPS!D197)","v":0},null,{"$f":"IF(BPBPS!F197=\"\",\"\",BPBPS!G197)","v":""},{"$f":"IF(BPBPS!H197=\"\",0,BPBPS!H197)","v":0},null,{"$f":"IF(BPBPS!J197=\"\",\"\",BPBPS!K197)","v":""},{"$f":"IF(BPBPS!J197=\"\",0,BPBPS!L197)","v":0},null,{"$f":"IF(SSGP!B197=\"\",\"\",SSGP!C197)","v":""},{"$f":"IF(SSGP!B197=\"\",0,SSGP!D197)","v":0},null,{"$f":"IF(SSGP!F197=\"\",\"\",SSGP!G197)","v":""},{"$f":"IF(SSGP!F197=\"\",0,SSGP!H197)","v":0}]
[196,{"$f":"IF(WPP!B198=\"\",\"\",WPP!C198)","v":""},{"$f":"IF(WPP!B198=\"\",0,WPP!D198)","v":0},{"$f":"IF(WPP!B198=\"\",0,WPP!E198)","v":0},null,{"$f":"IF(WPP!G198=\"\",\"\",WPP!H198)","v":""},{"$f":"IF(WPP!G198=\"\",0,WPP!I198)","v":0},{"$f":"IF(WPP!G198=\"\",0,WPP!J198)","v":0},null,{"$f":"IF(KSP!B198=\"\",\"\",KSP!C198)","v":""},{"$f":"IF(KSP!B198=\"\",0,KSP!D198)","v":0},{"$f":"IF(KSP!B198=\"\",0,KSP!E198)","v":0},null,{"$f":"IF(KSP!G198=\"\",\"\",KSP!H198)","v":""},{"$f":"IF(KSP!G198=\"\",0,KSP!I198)","v":0},{"$f":"IF(KSP!G198=\"\",0,KSP!J198)","v":0},null,{"$f":"IF(FSP!B198=\"\",\"\",FSP!C198)","v":""},{"$f":"IF(FSP!B198=\"\",0,FSP!D198)","v":0},{"$f":"IF(FSP!B198=\"\",0,FSP!E198)","v":0},null,{"$f":"IF(FSP!G198=\"\",\"\",FSP!H198)","v":""},{"$f":"IF(FSP!G198=\"\",0,FSP!I198)","v":0},null,{"$f":"IF(PS!B200=\"\",\"\",PS!C200)","v":""},{"$f":"IF(PS!B200=\"\",\"\",PS!D200)","v":""},null,{"$f":"IF(PS!F200=\"\",\"\",PS!G200)","v":""},{"$f":"IF(PS!F200=\"\",\"\",PS!H200)","v":""},null,{"$f":"IF(LP!A198=\"\",\"\",LP!B198)","v":""},{"$f":"IF(LP!A198=\"\",0,LP!C198)","v":0},null,{"$f":"IF(LP!E198=\"\",\"\",LP!F198)","v":""},{"$f":"IF(LP!E198=\"\",0,LP!G198)","v":0},null,{"$f":"IF(LP!I198=\"\",\"\",LP!J198)","v":""},{"$f":"IF(LP!I198=\"\",0,LP!K198)","v":0},null,{"$f":"IF(BPBPS!B198=\"\",\"\",BPBPS!C198)","v":""},{"$f":"IF(BPBPS!B198=\"\",0,BPBPS!D198)","v":0},null,{"$f":"IF(BPBPS!F198=\"\",\"\",BPBPS!G198)","v":""},{"$f":"IF(BPBPS!H198=\"\",0,BPBPS!H198)","v":0},null,{"$f":"IF(BPBPS!J198=\"\",\"\",BPBPS!K198)","v":""},{"$f":"IF(BPBPS!J198=\"\",0,BPBPS!L198)","v":0},null,{"$f":"IF(SSGP!B198=\"\",\"\",SSGP!C198)","v":""},{"$f":"IF(SSGP!B198=\"\",0,SSGP!D198)","v":0},null,{"$f":"IF(SSGP!F198=\"\",\"\",SSGP!G198)","v":""},{"$f":"IF(SSGP!F198=\"\",0,SSGP!H198)","v":0}]
[197,{"$f":"IF(WPP!B199=\"\",\"\",WPP!C199)","v":""},{"$f":"IF(WPP!B199=\"\",0,WPP!D199)","v":0},{"$f":"IF(WPP!B199=\"\",0,WPP!E199)","v":0},null,{"$f":"IF(WPP!G199=\"\",\"\",WPP!H199)","v":""},{"$f":"IF(WPP!G199=\"\",0,WPP!I199)","v":0},{"$f":"IF(WPP!G199=\"\",0,WPP!J199)","v":0},null,{"$f":"IF(KSP!B199=\"\",\"\",KSP!C199)","v":""},{"$f":"IF(KSP!B199=\"\",0,KSP!D199)","v":0},{"$f":"IF(KSP!B199=\"\",0,KSP!E199)","v":0},null,{"$f":"IF(KSP!G199=\"\",\"\",KSP!H199)","v":""},{"$f":"IF(KSP!G199=\"\",0,KSP!I199)","v":0},{"$f":"IF(KSP!G199=\"\",0,KSP!J199)","v":0},null,{"$f":"IF(FSP!B199=\"\",\"\",FSP!C199)","v":""},{"$f":"IF(FSP!B199=\"\",0,FSP!D199)","v":0},{"$f":"IF(FSP!B199=\"\",0,FSP!E199)","v":0},null,{"$f":"IF(FSP!G199=\"\",\"\",FSP!H199)","v":""},{"$f":"IF(FSP!G199=\"\",0,FSP!I199)","v":0},null,{"$f":"IF(PS!B201=\"\",\"\",PS!C201)","v":""},{"$f":"IF(PS!B201=\"\",\"\",PS!D201)","v":""},null,{"$f":"IF(PS!F201=\"\",\"\",PS!G201)","v":""},{"$f":"IF(PS!F201=\"\",\"\",PS!H201)","v":""},null,{"$f":"IF(LP!A199=\"\",\"\",LP!B199)","v":""},{"$f":"IF(LP!A199=\"\",0,LP!C199)","v":0},null,{"$f":"IF(LP!E199=\"\",\"\",LP!F199)","v":""},{"$f":"IF(LP!E199=\"\",0,LP!G199)","v":0},null,{"$f":"IF(LP!I199=\"\",\"\",LP!J199)","v":""},{"$f":"IF(LP!I199=\"\",0,LP!K199)","v":0},null,{"$f":"IF(BPBPS!B199=\"\",\"\",BPBPS!C199)","v":""},{"$f":"IF(BPBPS!B199=\"\",0,BPBPS!D199)","v":0},null,{"$f":"IF(BPBPS!F199=\"\",\"\",BPBPS!G199)","v":""},{"$f":"IF(BPBPS!H199=\"\",0,BPBPS!H199)","v":0},null,{"$f":"IF(BPBPS!J199=\"\",\"\",BPBPS!K199)","v":""},{"$f":"IF(BPBPS!J199=\"\",0,BPBPS!L199)","v":0},null,{"$f":"IF(SSGP!B199=\"\",\"\",SSGP!C199)","v":""},{"$f":"IF(SSGP!B199=\"\",0,SSGP!D199)","v":0},null,{"$f":"IF(SSGP!F199=\"\",\"\",SSGP!G199)","v":""},{"$f":"IF(SSGP!F199=\"\",0,SSGP!H199)","v":0}]
[198,{"$f":"IF(WPP!B200=\"\",\"\",WPP!C200)","v":""},{"$f":"IF(WPP!B200=\"\",0,WPP!D200)","v":0},{"$f":"IF(WPP!B200=\"\",0,WPP!E200)","v":0},null,{"$f":"IF(WPP!G200=\"\",\"\",WPP!H200)","v":""},{"$f":"IF(WPP!G200=\"\",0,WPP!I200)","v":0},{"$f":"IF(WPP!G200=\"\",0,WPP!J200)","v":0},null,{"$f":"IF(KSP!B200=\"\",\"\",KSP!C200)","v":""},{"$f":"IF(KSP!B200=\"\",0,KSP!D200)","v":0},{"$f":"IF(KSP!B200=\"\",0,KSP!E200)","v":0},null,{"$f":"IF(KSP!G200=\"\",\"\",KSP!H200)","v":""},{"$f":"IF(KSP!G200=\"\",0,KSP!I200)","v":0},{"$f":"IF(KSP!G200=\"\",0,KSP!J200)","v":0},null,{"$f":"IF(FSP!B200=\"\",\"\",FSP!C200)","v":""},{"$f":"IF(FSP!B200=\"\",0,FSP!D200)","v":0},{"$f":"IF(FSP!B200=\"\",0,FSP!E200)","v":0},null,{"$f":"IF(FSP!G200=\"\",\"\",FSP!H200)","v":""},{"$f":"IF(FSP!G200=\"\",0,FSP!I200)","v":0},null,{"$f":"IF(PS!B202=\"\",\"\",PS!C202)","v":""},{"$f":"IF(PS!B202=\"\",\"\",PS!D202)","v":""},null,{"$f":"IF(PS!F202=\"\",\"\",PS!G202)","v":""},{"$f":"IF(PS!F202=\"\",\"\",PS!H202)","v":""},null,{"$f":"IF(LP!A200=\"\",\"\",LP!B200)","v":""},{"$f":"IF(LP!A200=\"\",0,LP!C200)","v":0},null,{"$f":"IF(LP!E200=\"\",\"\",LP!F200)","v":""},{"$f":"IF(LP!E200=\"\",0,LP!G200)","v":0},null,{"$f":"IF(LP!I200=\"\",\"\",LP!J200)","v":""},{"$f":"IF(LP!I200=\"\",0,LP!K200)","v":0},null,{"$f":"IF(BPBPS!B200=\"\",\"\",BPBPS!C200)","v":""},{"$f":"IF(BPBPS!B200=\"\",0,BPBPS!D200)","v":0},null,{"$f":"IF(BPBPS!F200=\"\",\"\",BPBPS!G200)","v":""},{"$f":"IF(BPBPS!H200=\"\",0,BPBPS!H200)","v":0},null,{"$f":"IF(BPBPS!J200=\"\",\"\",BPBPS!K200)","v":""},{"$f":"IF(BPBPS!J200=\"\",0,BPBPS!L200)","v":0},null,{"$f":"IF(SSGP!B200=\"\",\"\",SSGP!C200)","v":""},{"$f":"IF(SSGP!B200=\"\",0,SSGP!D200)","v":0},null,{"$f":"IF(SSGP!F200=\"\",\"\",SSGP!G200)","v":""},{"$f":"IF(SSGP!F200=\"\",0,SSGP!H200)","v":0}]
[199,{"$f":"IF(WPP!B201=\"\",\"\",WPP!C201)","v":""},{"$f":"IF(WPP!B201=\"\",0,WPP!D201)","v":0},{"$f":"IF(WPP!B201=\"\",0,WPP!E201)","v":0},null,{"$f":"IF(WPP!G201=\"\",\"\",WPP!H201)","v":""},{"$f":"IF(WPP!G201=\"\",0,WPP!I201)","v":0},{"$f":"IF(WPP!G201=\"\",0,WPP!J201)","v":0},null,{"$f":"IF(KSP!B201=\"\",\"\",KSP!C201)","v":""},{"$f":"IF(KSP!B201=\"\",0,KSP!D201)","v":0},{"$f":"IF(KSP!B201=\"\",0,KSP!E201)","v":0},null,{"$f":"IF(KSP!G201=\"\",\"\",KSP!H201)","v":""},{"$f":"IF(KSP!G201=\"\",0,KSP!I201)","v":0},{"$f":"IF(KSP!G201=\"\",0,KSP!J201)","v":0},null,{"$f":"IF(FSP!B201=\"\",\"\",FSP!C201)","v":""},{"$f":"IF(FSP!B201=\"\",0,FSP!D201)","v":0},{"$f":"IF(FSP!B201=\"\",0,FSP!E201)","v":0},null,{"$f":"IF(FSP!G201=\"\",\"\",FSP!H201)","v":""},{"$f":"IF(FSP!G201=\"\",0,FSP!I201)","v":0},null,{"$f":"IF(PS!B203=\"\",\"\",PS!C203)","v":""},{"$f":"IF(PS!B203=\"\",\"\",PS!D203)","v":""},null,{"$f":"IF(PS!F203=\"\",\"\",PS!G203)","v":""},{"$f":"IF(PS!F203=\"\",\"\",PS!H203)","v":""},null,{"$f":"IF(LP!A201=\"\",\"\",LP!B201)","v":""},{"$f":"IF(LP!A201=\"\",0,LP!C201)","v":0},null,{"$f":"IF(LP!E201=\"\",\"\",LP!F201)","v":""},{"$f":"IF(LP!E201=\"\",0,LP!G201)","v":0},null,{"$f":"IF(LP!I201=\"\",\"\",LP!J201)","v":""},{"$f":"IF(LP!I201=\"\",0,LP!K201)","v":0},null,{"$f":"IF(BPBPS!B201=\"\",\"\",BPBPS!C201)","v":""},{"$f":"IF(BPBPS!B201=\"\",0,BPBPS!D201)","v":0},null,{"$f":"IF(BPBPS!F201=\"\",\"\",BPBPS!G201)","v":""},{"$f":"IF(BPBPS!H201=\"\",0,BPBPS!H201)","v":0},null,{"$f":"IF(BPBPS!J201=\"\",\"\",BPBPS!K201)","v":""},{"$f":"IF(BPBPS!J201=\"\",0,BPBPS!L201)","v":0},null,{"$f":"IF(SSGP!B201=\"\",\"\",SSGP!C201)","v":""},{"$f":"IF(SSGP!B201=\"\",0,SSGP!D201)","v":0},null,{"$f":"IF(SSGP!F201=\"\",\"\",SSGP!G201)","v":""},{"$f":"IF(SSGP!F201=\"\",0,SSGP!H201)","v":0}]
[200,{"$f":"IF(WPP!B202=\"\",\"\",WPP!C202)","v":""},{"$f":"IF(WPP!B202=\"\",0,WPP!D202)","v":0},{"$f":"IF(WPP!B202=\"\",0,WPP!E202)","v":0},null,{"$f":"IF(WPP!G202=\"\",\"\",WPP!H202)","v":""},{"$f":"IF(WPP!G202=\"\",0,WPP!I202)","v":0},{"$f":"IF(WPP!G202=\"\",0,WPP!J202)","v":0},null,{"$f":"IF(KSP!B202=\"\",\"\",KSP!C202)","v":""},{"$f":"IF(KSP!B202=\"\",0,KSP!D202)","v":0},{"$f":"IF(KSP!B202=\"\",0,KSP!E202)","v":0},null,{"$f":"IF(KSP!G202=\"\",\"\",KSP!H202)","v":""},{"$f":"IF(KSP!G202=\"\",0,KSP!I202)","v":0},{"$f":"IF(KSP!G202=\"\",0,KSP!J202)","v":0},null,{"$f":"IF(FSP!B202=\"\",\"\",FSP!C202)","v":""},{"$f":"IF(FSP!B202=\"\",0,FSP!D202)","v":0},{"$f":"IF(FSP!B202=\"\",0,FSP!E202)","v":0},null,{"$f":"IF(FSP!G202=\"\",\"\",FSP!H202)","v":""},{"$f":"IF(FSP!G202=\"\",0,FSP!I202)","v":0},null,{"$f":"IF(PS!B204=\"\",\"\",PS!C204)","v":""},{"$f":"IF(PS!B204=\"\",\"\",PS!D204)","v":""},null,{"$f":"IF(PS!F204=\"\",\"\",PS!G204)","v":""},{"$f":"IF(PS!F204=\"\",\"\",PS!H204)","v":""},null,{"$f":"IF(LP!A202=\"\",\"\",LP!B202)","v":""},{"$f":"IF(LP!A202=\"\",0,LP!C202)","v":0},null,{"$f":"IF(LP!E202=\"\",\"\",LP!F202)","v":""},{"$f":"IF(LP!E202=\"\",0,LP!G202)","v":0},null,{"$f":"IF(LP!I202=\"\",\"\",LP!J202)","v":""},{"$f":"IF(LP!I202=\"\",0,LP!K202)","v":0},null,{"$f":"IF(BPBPS!B202=\"\",\"\",BPBPS!C202)","v":""},{"$f":"IF(BPBPS!B202=\"\",0,BPBPS!D202)","v":0},null,{"$f":"IF(BPBPS!F202=\"\",\"\",BPBPS!G202)","v":""},{"$f":"IF(BPBPS!H202=\"\",0,BPBPS!H202)","v":0},null,{"$f":"IF(BPBPS!J202=\"\",\"\",BPBPS!K202)","v":""},{"$f":"IF(BPBPS!J202=\"\",0,BPBPS!L202)","v":0},null,{"$f":"IF(SSGP!B202=\"\",\"\",SSGP!C202)","v":""},{"$f":"IF(SSGP!B202=\"\",0,SSGP!D202)","v":0},null,{"$f":"IF(SSGP!F202=\"\",\"\",SSGP!G202)","v":""},{"$f":"IF(SSGP!F202=\"\",0,SSGP!H202)","v":0}]

{"sheet":"D","index":9,"n_rows":202,"n_cols":53,"rows_kept":202,"cut":false,"hidden":false,"merged":[[0,30,0,31],[0,33,0,34],[0,36,0,37],[0,51,0,52],[0,39,0,40],[0,42,0,43],[0,45,0,46],[0,48,0,49],[0,17,0,19],[0,21,0,22],[0,24,0,25],[0,27,0,28],[0,1,0,3],[0,5,0,7],[0,9,0,11],[0,13,0,15]]}
[null,"Wittkowskipokal",null,null,null,"Peperpokal",null,null,null,"Königspokal",null,null,null,"Schülerpokal",null,null,null,"Schimmelpfennigpokal",null,null,null,"Freihandpokal",null,null,"Preisschießen KK",null,null,"Preisschießen LG",null,null,"Luftpistole Jugend",null,null,"Luftpistole Schützen",null,null,"Luftpistole Damen",null,null,"Bogenpokal",null,null,"Bogenpokal\n-Schüler-",null,null,"Bogenpreisschießen",null,null,"Sauenschießen",null,null,"Glückspreisschießen"]
[null,"Vor- und Nachname:","Ringe:","schlech.\nEinzelschuss",null,"Vor- und Nachname:","Ringe:","schlech.\nEinzelschuss",null,"Vor- und Nachname:","Ringe:","schlech.\nEinzelschuss",null,"Vor- und Nachname:","Ringe:","schlech.\nEinzelschuss",null,"Vor- und Nachname:","Ringe:","schlech.\nEinzelschuss",null,"Vor- und Nachname:","Ringe:",null,"Vor- und Nachname:","Teiler:",null,"Vor- und Nachname:","Teiler:",null,"Vor- und Nachname:","Ringe:",null,"Vor- und Nachname:","Ringe:",null,"Vor- und Nachname:","Ringe:",null,"Vor- und Nachname:","Ringe:",null,"Vor- und Nachname:","Ringe:",null,"Vor- und Nachname:","Ringe:",null,"Vor- und Nachname:","Ringe:",null,"Vor- und Nachname:","Überdeckung:"]
[1,"",0,0,null,"",0,0,null,"",0,0,null,"",0,0,null,"",0,0,null,"",0,null,"","",null,"","",null,"",0,null,"",0,null,"",0,null,"",0,null,"",0,null,"",0,null,"",0,null,"",0]
[2,"",0,0,null,"",0,0,null,"",0,0,null,"",0,0,null,"",0,0,null,"",0,null,"","",null,"","",null,"",0,null,"",0,null,"",0,null,"",0,null,"",0,null,"",0,null,"",0,null,"",0]
[3,"",0,0,null,"",0,0,null,"",0,0,null,"",0,0,null,"",0,0,null,"",0,null,"","",null,"","",null,"",0,null,"",0,null,"",0,null,"",0,null,"",0,null,"",0,null,"",0,null,"",0]
[4,"",0,0,null,"",0,0,null,"",0,0,null,"",0,0,null,"",0,0,null,"",0,null,"","",null,"","",null,"",0,null,"",0,null,"",0,null,"",0,null,"",0,null,"",0,null,"",0,null,"",0]
[5,"",0,0,null,"",0,0,null,"",0,0,null,"",0,0,null,"",0,0,null,"",0,null,"","",null,"","",null,"",0,null,"",0,null,"",0,null,"",0,null,"",0,null,"",0,null,"",0,null,"",0]
[6,"",0,0,null,"",0,0,null,"",0,0,null,"",0,0,null,"",0,0,null,"",0,null,"","",null,"","",null,"",0,null,"",0,null,"",0,null,"",0,null,"",0,null,"",0,null,"",0,null,"",0]
[7,"",0,0,null,"",0,0,null,"",0,0,null,"",0,0,null,"",0,0,null,"",0,null,"","",null,"","",null,"",0,null,"",0,null,"",0,null,"",0,null,"",0,null,"",0,null,"",0,null,"",0]
[8,"",0,0,null,"",0,0,null,"",0,0,null,"",0,0,null,"",0,0,null,"",0,null,"","",null,"","",null,"",0,null,"",0,null,"",0,null,"",0,null,"",0,null,"",0,null,"",0,null,"",0]
[9,"",0,0,null,"",0,0,null,"",0,0,null,"",0,0,null,"",0,0,null,"",0,null,"","",null,"","",null,"",0,null,"",0,null,"",0,null,"",0,null,"",0,null,"",0,null,"",0,null,"",0]
[10,"",0,0,null,"",0,0,null,"",0,0,null,"",0,0,null,"",0,0,null,"",0,null,"","",null,"","",null,"",0,null,"",0,null,"",0,null,"",0,null,"",0,null,"",0,null,"",0,null,"",0]
[11,"",0,0,null,"",0,0,null,"",0,0,null,"",0,0,null,"",0,0,null,"",0,null,"","",null,"","",null,"",0,null,"",0,null,"",0,null,"",0,null,"",0,null,"",0,null,"",0,null,"",0]
[12,"",0,0,null,"",0,0,null,"",0,0,null,"",0,0,null,"",0,0,null,"",0,null,"","",null,"","",null,"",0,null,"",0,null,"",0,null,"",0,null,"",0,null,"",0,null,"",0,null,"",0]
[13,"",0,0,null,"",0,0,null,"",0,0,null,"",0,0,null,"",0,0,null,"",0,null,"","",null,"","",null,"",0,null,"",0,null,"",0,null,"",0,null,"",0,null,"",0,null,"",0,null,"",0]
[14,"",0,0,null,"",0,0,null,"",0,0,null,"",0,0,null,"",0,0,null,"",0,null,"","",null,"","",null,"",0,null,"",0,null,"",0,null,"",0,null,"",0,null,"",0,null,"",0,null,"",0]
[15,"",0,0,null,"",0,0,null,"",0,0,null,"",0,0,null,"",0,0,null,"",0,null,"","",null,"","",null,"",0,null,"",0,null,"",0,null,"",0,null,"",0,null,"",0,null,"",0,null,"",0]
[16,"",0,0,null,"",0,0,null,"",0,0,null,"",0,0,null,"",0,0,null,"",0,null,"","",null,"","",null,"",0,null,"",0,null,"",0,null,"",0,null,"",0,null,"",0,null,"",0,null,"",0]
[17,"",0,0,null,"",0,0,null,"",0,0,null,"",0,0,null,"",0,0,null,"",0,null,"","",null,"","",null,"",0,null,"",0,null,"",0,null,"",0,null,"",0,null,"",0,null,"",0,null,"",0]
[18,"",0,0,null,"",0,0,null,"",0,0,null,"",0,0,null,"",0,0,null,"",0,null,"","",null,"","",null,"",0,null,"",0,null,"",0,null,"",0,null,"",0,null,"",0,null,"",0,null,"",0]
[19,"",0,0,null,"",0,0,null,"",0,0,null,"",0,0,null,"",0,0,null,"",0,null,"","",null,"","",null,"",0,null,"",0,null,"",0,null,"",0,null,"",0,null,"",0,null,"",0,null,"",0]
[20,"",0,0,null,"",0,0,null,"",0,0,null,"",0,0,null,"",0,0,null,"",0,null,"","",null,"","",null,"",0,null,"",0,null,"",0,null,"",0,null,"",0,null,"",0,null,"",0,null,"",0]
[21,"",0,0,null,"",0,0,null,"",0,0,null,"",0,0,null,"",0,0,null,"",0,null,"","",null,"","",null,"",0,null,"",0,null,"",0,null,"",0,null,"",0,null,"",0,null,"",0,null,"",0]
[22,"",0,0,null,"",0,0,null,"",0,0,null,"",0,0,null,"",0,0,null,"",0,null,"","",null,"","",null,"",0,null,"",0,null,"",0,null,"",0,null,"",0,null,"",0,null,"",0,null,"",0]
[23,"",0,0,null,"",0,0,null,"",0,0,null,"",0,0,null,"",0,0,null,"",0,null,"","",null,"","",null,"",0,null,"",0,null,"",0,null,"",0,null,"",0,null,"",0,null,"",0,null,"",0]
[24,"",0,0,null,"",0,0,null,"",0,0,null,"",0,0,null,"",0,0,null,"",0,null,"","",null,"","",null,"",0,null,"",0,null,"",0,null,"",0,null,"",0,null,"",0,null,"",0,null,"",0]
[25,"",0,0,null,"",0,0,null,"",0,0,null,"",0,0,null,"",0,0,null,"",0,null,"","",null,"","",null,"",0,null,"",0,null,"",0,null,"",0,null,"",0,null,"",0,null,"",0,null,"",0]
[26,"",0,0,null,"",0,0,null,"",0,0,null,"",0,0,null,"",0,0,null,"",0,null,"","",null,"","",null,"",0,null,"",0,null,"",0,null,"",0,null,"",0,null,"",0,null,"",0,null,"",0]
[27,"",0,0,null,"",0,0,null,"",0,0,null,"",0,0,null,"",0,0,null,"",0,null,"","",null,"","",null,"",0,null,"",0,null,"",0,null,"",0,null,"",0,null,"",0,null,"",0,null,"",0]
[28,"",0,0,null,"",0,0,null,"",0,0,null,"",0,0,null,"",0,0,null,"",0,null,"","",null,"","",null,"",0,null,"",0,null,"",0,null,"",0,null,"",0,null,"",0,null,"",0,null,"",0]
[29,"",0,0,null,"",0,0,null,"",0,0,null,"",0,0,null,"",0,0,null,"",0,null,"","",null,"","",null,"",0,null,"",0,null,"",0,null,"",0,null,"",0,null,"",0,null,"",0,null,"",0]
[30,"",0,0,null,"",0,0,null,"",0,0,null,"",0,0,null,"",0,0,null,"",0,null,"","",null,"","",null,"",0,null,"",0,null,"",0,null,"",0,null,"",0,null,"",0,null,"",0,null,"",0]
[31,"",0,0,null,"",0,0,null,"",0,0,null,"",0,0,null,"",0,0,null,"",0,null,"","",null,"","",null,"",0,null,"",0,null,"",0,null,"",0,null,"",0,null,"",0,null,"",0,null,"",0]
[32,"",0,0,null,"",0,0,null,"",0,0,null,"",0,0,null,"",0,0,null,"",0,null,"","",null,"","",null,"",0,null,"",0,null,"",0,null,"",0,null,"",0,null,"",0,null,"",0,null,"",0]
[33,"",0,0,null,"",0,0,null,"",0,0,null,"",0,0,null,"",0,0,null,"",0,null,"","",null,"","",null,"",0,null,"",0,null,"",0,null,"",0,null,"",0,null,"",0,null,"",0,null,"",0]
[34,"",0,0,null,"",0,0,null,"",0,0,null,"",0,0,null,"",0,0,null,"",0,null,"","",null,"","",null,"",0,null,"",0,null,"",0,null,"",0,null,"",0,null,"",0,null,"",0,null,"",0]
[35,"",0,0,null,"",0,0,null,"",0,0,null,"",0,0,null,"",0,0,null,"",0,null,"","",null,"","",null,"",0,null,"",0,null,"",0,null,"",0,null,"",0,null,"",0,null,"",0,null,"",0]
[36,"",0,0,null,"",0,0,null,"",0,0,null,"",0,0,null,"",0,0,null,"",0,null,"","",null,"","",null,"",0,null,"",0,null,"",0,null,"",0,null,"",0,null,"",0,null,"",0,null,"",0]
[37,"",0,0,null,"",0,0,null,"",0,0,null,"",0,0,null,"",0,0,null,"",0,null,"","",null,"","",null,"",0,null,"",0,null,"",0,null,"",0,null,"",0,null,"",0,null,"",0,null,"",0]
[38,"",0,0,null,"",0,0,null,"",0,0,null,"",0,0,null,"",0,0,null,"",0,null,"","",null,"","",null,"",0,null,"",0,null,"",0,null,"",0,null,"",0,null,"",0,null,"",0,null,"",0]
[39,"",0,0,null,"",0,0,null,"",0,0,null,"",0,0,null,"",0,0,null,"",0,null,"","",null,"","",null,"",0,null,"",0,null,"",0,null,"",0,null,"",0,null,"",0,null,"",0,null,"",0]
[40,"",0,0,null,"",0,0,null,"",0,0,null,"",0,0,null,"",0,0,null,"",0,null,"","",null,"","",null,"",0,null,"",0,null,"",0,null,"",0,null,"",0,null,"",0,null,"",0,null,"",0]
[41,"",0,0,null,"",0,0,null,"",0,0,null,"",0,0,null,"",0,0,null,"",0,null,"","",null,"","",null,"",0,null,"",0,null,"",0,null,"",0,null,"",0,null,"",0,null,"",0,null,"",0]
[42,"",0,0,null,"",0,0,null,"",0,0,null,"",0,0,null,"",0,0,null,"",0,null,"","",null,"","",null,"",0,null,"",0,null,"",0,null,"",0,null,"",0,null,"",0,null,"",0,null,"",0]
[43,"",0,0,null,"",0,0,null,"",0,0,null,"",0,0,null,"",0,0,null,"",0,null,"","",null,"","",null,"",0,null,"",0,null,"",0,null,"",0,null,"",0,null,"",0,null,"",0,null,"",0]
[44,"",0,0,null,"",0,0,null,"",0,0,null,"",0,0,null,"",0,0,null,"",0,null,"","",null,"","",null,"",0,null,"",0,null,"",0,null,"",0,null,"",0,null,"",0,null,"",0,null,"",0]
[45,"",0,0,null,"",0,0,null,"",0,0,null,"",0,0,null,"",0,0,null,"",0,null,"","",null,"","",null,"",0,null,"",0,null,"",0,null,"",0,null,"",0,null,"",0,null,"",0,null,"",0]
[46,"",0,0,null,"",0,0,null,"",0,0,null,"",0,0,null,"",0,0,null,"",0,null,"","",null,"","",null,"",0,null,"",0,null,"",0,null,"",0,null,"",0,null,"",0,null,"",0,null,"",0]
[47,"",0,0,null,"",0,0,null,"",0,0,null,"",0,0,null,"",0,0,null,"",0,null,"","",null,"","",null,"",0,null,"",0,null,"",0,null,"",0,null,"",0,null,"",0,null,"",0,null,"",0]
[48,"",0,0,null,"",0,0,null,"",0,0,null,"",0,0,null,"",0,0,null,"",0,null,"","",null,"","",null,"",0,null,"",0,null,"",0,null,"",0,null,"",0,null,"",0,null,"",0,null,"",0]
[49,"",0,0,null,"",0,0,null,"",0,0,null,"",0,0,null,"",0,0,null,"",0,null,"","",null,"","",null,"",0,null,"",0,null,"",0,null,"",0,null,"",0,null,"",0,null,"",0,null,"",0]
[50,"",0,0,null,"",0,0,null,"",0,0,null,"",0,0,null,"",0,0,null,"",0,null,"","",null,"","",null,"",0,null,"",0,null,"",0,null,"",0,null,"",0,null,"",0,null,"",0,null,"",0]
[51,"",0,0,null,"",0,0,null,"",0,0,null,"",0,0,null,"",0,0,null,"",0,null,"","",null,"","",null,"",0,null,"",0,null,"",0,null,"",0,null,"",0,null,"",0,null,"",0,null,"",0]
[52,"",0,0,null,"",0,0,null,"",0,0,null,"",0,0,null,"",0,0,null,"",0,null,"","",null,"","",null,"",0,null,"",0,null,"",0,null,"",0,null,"",0,null,"",0,null,"",0,null,"",0]
[53,"",0,0,null,"",0,0,null,"",0,0,null,"",0,0,null,"",0,0,null,"",0,null,"","",null,"","",null,"",0,null,"",0,null,"",0,null,"",0,null,"",0,null,"",0,null,"",0,null,"",0]
[54,"",0,0,null,"",0,0,null,"",0,0,null,"",0,0,null,"",0,0,null,"",0,null,"","",null,"","",null,"",0,null,"",0,null,"",0,null,"",0,null,"",0,null,"",0,null,"",0,null,"",0]
[55,"",0,0,null,"",0,0,null,"",0,0,null,"",0,0,null,"",0,0,null,"",0,null,"","",null,"","",null,"",0,null,"",0,null,"",0,null,"",0,null,"",0,null,"",0,null,"",0,null,"",0]
[56,"",0,0,null,"",0,0,null,"",0,0,null,"",0,0,null,"",0,0,null,"",0,null,"","",null,"","",null,"",0,null,"",0,null,"",0,null,"",0,null,"",0,null,"",0,null,"",0,null,"",0]
[57,"",0,0,null,"",0,0,null,"",0,0,null,"",0,0,null,"",0,0,null,"",0,null,"","",null,"","",null,"",0,null,"",0,null,"",0,null,"",0,null,"",0,null,"",0,null,"",0,null,"",0]
[58,"",0,0,null,"",0,0,null,"",0,0,null,"",0,0,null,"",0,0,null,"",0,null,"","",null,"","",null,"",0,null,"",0,null,"",0,null,"",0,null,"",0,null,"",0,null,"",0,null,"",0]
[59,"",0,0,null,"",0,0,null,"",0,0,null,"",0,0,null,"",0,0,null,"",0,null,"","",null,"","",null,"",0,null,"",0,null,"",0,null,"",0,null,"",0,null,"",0,null,"",0,null,"",0]
[60,"",0,0,null,"",0,0,null,"",0,0,null,"",0,0,null,"",0,0,null,"",0,null,"","",null,"","",null,"",0,null,"",0,null,"",0,null,"",0,null,"",0,null,"",0,null,"",0,null,"",0]
[61,"",0,0,null,"",0,0,null,"",0,0,null,"",0,0,null,"",0,0,null,"",0,null,"","",null,"","",null,"",0,null,"",0,null,"",0,null,"",0,null,"",0,null,"",0,null,"",0,null,"",0]
[62,"",0,0,null,"",0,0,null,"",0,0,null,"",0,0,null,"",0,0,null,"",0,null,"","",null,"","",null,"",0,null,"",0,null,"",0,null,"",0,null,"",0,null,"",0,null,"",0,null,"",0]
[63,"",0,0,null,"",0,0,null,"",0,0,null,"",0,0,null,"",0,0,null,"",0,null,"","",null,"","",null,"",0,null,"",0,null,"",0,null,"",0,null,"",0,null,"",0,null,"",0,null,"",0]
[64,"",0,0,null,"",0,0,null,"",0,0,null,"",0,0,null,"",0,0,null,"",0,null,"","",null,"","",null,"",0,null,"",0,null,"",0,null,"",0,null,"",0,null,"",0,null,"",0,null,"",0]
[65,"",0,0,null,"",0,0,null,"",0,0,null,"",0,0,null,"",0,0,null,"",0,null,"","",null,"","",null,"",0,null,"",0,null,"",0,null,"",0,null,"",0,null,"",0,null,"",0,null,"",0]
[66,"",0,0,null,"",0,0,null,"",0,0,null,"",0,0,null,"",0,0,null,"",0,null,"","",null,"","",null,"",0,null,"",0,null,"",0,null,"",0,null,"",0,null,"",0,null,"",0,null,"",0]
[67,"",0,0,null,"",0,0,null,"",0,0,null,"",0,0,null,"",0,0,null,"",0,null,"","",null,"","",null,"",0,null,"",0,null,"",0,null,"",0,null,"",0,null,"",0,null,"",0,null,"",0]
[68,"",0,0,null,"",0,0,null,"",0,0,null,"",0,0,null,"",0,0,null,"",0,null,"","",null,"","",null,"",0,null,"",0,null,"",0,null,"",0,null,"",0,null,"",0,null,"",0,null,"",0]
[69,"",0,0,null,"",0,0,null,"",0,0,null,"",0,0,null,"",0,0,null,"",0,null,"","",null,"","",null,"",0,null,"",0,null,"",0,null,"",0,null,"",0,null,"",0,null,"",0,null,"",0]
[70,"",0,0,null,"",0,0,null,"",0,0,null,"",0,0,null,"",0,0,null,"",0,null,"","",null,"","",null,"",0,null,"",0,null,"",0,null,"",0,null,"",0,null,"",0,null,"",0,null,"",0]
[71,"",0,0,null,"",0,0,null,"",0,0,null,"",0,0,null,"",0,0,null,"",0,null,"","",null,"","",null,"",0,null,"",0,null,"",0,null,"",0,null,"",0,null,"",0,null,"",0,null,"",0]
[72,"",0,0,null,"",0,0,null,"",0,0,null,"",0,0,null,"",0,0,null,"",0,null,"","",null,"","",null,"",0,null,"",0,null,"",0,null,"",0,null,"",0,null,"",0,null,"",0,null,"",0]
[73,"",0,0,null,"",0,0,null,"",0,0,null,"",0,0,null,"",0,0,null,"",0,null,"","",null,"","",null,"",0,null,"",0,null,"",0,null,"",0,null,"",0,null,"",0,null,"",0,null,"",0]
[74,"",0,0,null,"",0,0,null,"",0,0,null,"",0,0,null,"",0,0,null,"",0,null,"","",null,"","",null,"",0,null,"",0,null,"",0,null,"",0,null,"",0,null,"",0,null,"",0,null,"",0]
[75,"",0,0,null,"",0,0,null,"",0,0,null,"",0,0,null,"",0,0,null,"",0,null,"","",null,"","",null,"",0,null,"",0,null,"",0,null,"",0,null,"",0,null,"",0,null,"",0,null,"",0]
[76,"",0,0,null,"",0,0,null,"",0,0,null,"",0,0,null,"",0,0,null,"",0,null,"","",null,"","",null,"",0,null,"",0,null,"",0,null,"",0,null,"",0,null,"",0,null,"",0,null,"",0]
[77,"",0,0,null,"",0,0,null,"",0,0,null,"",0,0,null,"",0,0,null,"",0,null,"","",null,"","",null,"",0,null,"",0,null,"",0,null,"",0,null,"",0,null,"",0,null,"",0,null,"",0]
[78,"",0,0,null,"",0,0,null,"",0,0,null,"",0,0,null,"",0,0,null,"",0,null,"","",null,"","",null,"",0,null,"",0,null,"",0,null,"",0,null,"",0,null,"",0,null,"",0,null,"",0]
[79,"",0,0,null,"",0,0,null,"",0,0,null,"",0,0,null,"",0,0,null,"",0,null,"","",null,"","",null,"",0,null,"",0,null,"",0,null,"",0,null,"",0,null,"",0,null,"",0,null,"",0]
[80,"",0,0,null,"",0,0,null,"",0,0,null,"",0,0,null,"",0,0,null,"",0,null,"","",null,"","",null,"",0,null,"",0,null,"",0,null,"",0,null,"",0,null,"",0,null,"",0,null,"",0]
[81,"",0,0,null,"",0,0,null,"",0,0,null,"",0,0,null,"",0,0,null,"",0,null,"","",null,"","",null,"",0,null,"",0,null,"",0,null,"",0,null,"",0,null,"",0,null,"",0,null,"",0]
[82,"",0,0,null,"",0,0,null,"",0,0,null,"",0,0,null,"",0,0,null,"",0,null,"","",null,"","",null,"",0,null,"",0,null,"",0,null,"",0,null,"",0,null,"",0,null,"",0,null,"",0]
[83,"",0,0,null,"",0,0,null,"",0,0,null,"",0,0,null,"",0,0,null,"",0,null,"","",null,"","",null,"",0,null,"",0,null,"",0,null,"",0,null,"",0,null,"",0,null,"",0,null,"",0]
[84,"",0,0,null,"",0,0,null,"",0,0,null,"",0,0,null,"",0,0,null,"",0,null,"","",null,"","",null,"",0,null,"",0,null,"",0,null,"",0,null,"",0,null,"",0,null,"",0,null,"",0]
[85,"",0,0,null,"",0,0,null,"",0,0,null,"",0,0,null,"",0,0,null,"",0,null,"","",null,"","",null,"",0,null,"",0,null,"",0,null,"",0,null,"",0,null,"",0,null,"",0,null,"",0]
[86,"",0,0,null,"",0,0,null,"",0,0,null,"",0,0,null,"",0,0,null,"",0,null,"","",null,"","",null,"",0,null,"",0,null,"",0,null,"",0,null,"",0,null,"",0,null,"",0,null,"",0]
[87,"",0,0,null,"",0,0,null,"",0,0,null,"",0,0,null,"",0,0,null,"",0,null,"","",null,"","",null,"",0,null,"",0,null,"",0,null,"",0,null,"",0,null,"",0,null,"",0,null,"",0]
[88,"",0,0,null,"",0,0,null,"",0,0,null,"",0,0,null,"",0,0,null,"",0,null,"","",null,"","",null,"",0,null,"",0,null,"",0,null,"",0,null,"",0,null,"",0,null,"",0,null,"",0]
[89,"",0,0,null,"",0,0,null,"",0,0,null,"",0,0,null,"",0,0,null,"",0,null,"","",null,"","",null,"",0,null,"",0,null,"",0,null,"",0,null,"",0,null,"",0,null,"",0,null,"",0]
[90,"",0,0,null,"",0,0,null,"",0,0,null,"",0,0,null,"",0,0,null,"",0,null,"","",null,"","",null,"",0,null,"",0,null,"",0,null,"",0,null,"",0,null,"",0,null,"",0,null,"",0]
[91,"",0,0,null,"",0,0,null,"",0,0,null,"",0,0,null,"",0,0,null,"",0,null,"","",null,"","",null,"",0,null,"",0,null,"",0,null,"",0,null,"",0,null,"",0,null,"",0,null,"",0]
[92,"",0,0,null,"",0,0,null,"",0,0,null,"",0,0,null,"",0,0,null,"",0,null,"","",null,"","",null,"",0,null,"",0,null,"",0,null,"",0,null,"",0,null,"",0,null,"",0,null,"",0]
[93,"",0,0,null,"",0,0,null,"",0,0,null,"",0,0,null,"",0,0,null,"",0,null,"","",null,"","",null,"",0,null,"",0,null,"",0,null,"",0,null,"",0,null,"",0,null,"",0,null,"",0]
[94,"",0,0,null,"",0,0,null,"",0,0,null,"",0,0,null,"",0,0,null,"",0,null,"","",null,"","",null,"",0,null,"",0,null,"",0,null,"",0,null,"",0,null,"",0,null,"",0,null,"",0]
[95,"",0,0,null,"",0,0,null,"",0,0,null,"",0,0,null,"",0,0,null,"",0,null,"","",null,"","",null,"",0,null,"",0,null,"",0,null,"",0,null,"",0,null,"",0,null,"",0,null,"",0]
[96,"",0,0,null,"",0,0,null,"",0,0,null,"",0,0,null,"",0,0,null,"",0,null,"","",null,"","",null,"",0,null,"",0,null,"",0,null,"",0,null,"",0,null,"",0,null,"",0,null,"",0]
[97,"",0,0,null,"",0,0,null,"",0,0,null,"",0,0,null,"",0,0,null,"",0,null,"","",null,"","",null,"",0,null,"",0,null,"",0,null,"",0,null,"",0,null,"",0,null,"",0,null,"",0]
[98,"",0,0,null,"",0,0,null,"",0,0,null,"",0,0,null,"",0,0,null,"",0,null,"","",null,"","",null,"",0,null,"",0,null,"",0,null,"",0,null,"",0,null,"",0,null,"",0,null,"",0]
[99,"",0,0,null,"",0,0,null,"",0,0,null,"",0,0,null,"",0,0,null,"",0,null,"","",null,"","",null,"",0,null,"",0,null,"",0,null,"",0,null,"",0,null,"",0,null,"",0,null,"",0]
[100,"",0,0,null,"",0,0,null,"",0,0,null,"",0,0,null,"",0,0,null,"",0,null,"","",null,"","",null,"",0,null,"",0,null,"",0,null,"",0,null,"",0,null,"",0,null,"",0,null,"",0]
[101,"",0,0,null,"",0,0,null,"",0,0,null,"",0,0,null,"",0,0,null,"",0,null,"","",null,"","",null,"",0,null,"",0,null,"",0,null,"",0,null,"",0,null,"",0,null,"",0,null,"",0]
[102,"",0,0,null,"",0,0,null,"",0,0,null,"",0,0,null,"",0,0,null,"",0,null,"","",null,"","",null,"",0,null,"",0,null,"",0,null,"",0,null,"",0,null,"",0,null,"",0,null,"",0]
[103,"",0,0,null,"",0,0,null,"",0,0,null,"",0,0,null,"",0,0,null,"",0,null,"","",null,"","",null,"",0,null,"",0,null,"",0,null,"",0,null,"",0,null,"",0,null,"",0,null,"",0]
[104,"",0,0,null,"",0,0,null,"",0,0,null,"",0,0,null,"",0,0,null,"",0,null,"","",null,"","",null,"",0,null,"",0,null,"",0,null,"",0,null,"",0,null,"",0,null,"",0,null,"",0]
[105,"",0,0,null,"",0,0,null,"",0,0,null,"",0,0,null,"",0,0,null,"",0,null,"","",null,"","",null,"",0,null,"",0,null,"",0,null,"",0,null,"",0,null,"",0,null,"",0,null,"",0]
[106,"",0,0,null,"",0,0,null,"",0,0,null,"",0,0,null,"",0,0,null,"",0,null,"","",null,"","",null,"",0,null,"",0,null,"",0,null,"",0,null,"",0,null,"",0,null,"",0,null,"",0]
[107,"",0,0,null,"",0,0,null,"",0,0,null,"",0,0,null,"",0,0,null,"",0,null,"","",null,"","",null,"",0,null,"",0,null,"",0,null,"",0,null,"",0,null,"",0,null,"",0,null,"",0]
[108,"",0,0,null,"",0,0,null,"",0,0,null,"",0,0,null,"",0,0,null,"",0,null,"","",null,"","",null,"",0,null,"",0,null,"",0,null,"",0,null,"",0,null,"",0,null,"",0,null,"",0]
[109,"",0,0,null,"",0,0,null,"",0,0,null,"",0,0,null,"",0,0,null,"",0,null,"","",null,"","",null,"",0,null,"",0,null,"",0,null,"",0,null,"",0,null,"",0,null,"",0,null,"",0]
[110,"",0,0,null,"",0,0,null,"",0,0,null,"",0,0,null,"",0,0,null,"",0,null,"","",null,"","",null,"",0,null,"",0,null,"",0,null,"",0,null,"",0,null,"",0,null,"",0,null,"",0]
[111,"",0,0,null,"",0,0,null,"",0,0,null,"",0,0,null,"",0,0,null,"",0,null,"","",null,"","",null,"",0,null,"",0,null,"",0,null,"",0,null,"",0,null,"",0,null,"",0,null,"",0]
[112,"",0,0,null,"",0,0,null,"",0,0,null,"",0,0,null,"",0,0,null,"",0,null,"","",null,"","",null,"",0,null,"",0,null,"",0,null,"",0,null,"",0,null,"",0,null,"",0,null,"",0]
[113,"",0,0,null,"",0,0,null,"",0,0,null,"",0,0,null,"",0,0,null,"",0,null,"","",null,"","",null,"",0,null,"",0,null,"",0,null,"",0,null,"",0,null,"",0,null,"",0,null,"",0]
[114,"",0,0,null,"",0,0,null,"",0,0,null,"",0,0,null,"",0,0,null,"",0,null,"","",null,"","",null,"",0,null,"",0,null,"",0,null,"",0,null,"",0,null,"",0,null,"",0,null,"",0]
[115,"",0,0,null,"",0,0,null,"",0,0,null,"",0,0,null,"",0,0,null,"",0,null,"","",null,"","",null,"",0,null,"",0,null,"",0,null,"",0,null,"",0,null,"",0,null,"",0,null,"",0]
[116,"",0,0,null,"",0,0,null,"",0,0,null,"",0,0,null,"",0,0,null,"",0,null,"","",null,"","",null,"",0,null,"",0,null,"",0,null,"",0,null,"",0,null,"",0,null,"",0,null,"",0]
[117,"",0,0,null,"",0,0,null,"",0,0,null,"",0,0,null,"",0,0,null,"",0,null,"","",null,"","",null,"",0,null,"",0,null,"",0,null,"",0,null,"",0,null,"",0,null,"",0,null,"",0]
[118,"",0,0,null,"",0,0,null,"",0,0,null,"",0,0,null,"",0,0,null,"",0,null,"","",null,"","",null,"",0,null,"",0,null,"",0,null,"",0,null,"",0,null,"",0,null,"",0,null,"",0]
[119,"",0,0,null,"",0,0,null,"",0,0,null,"",0,0,null,"",0,0,null,"",0,null,"","",null,"","",null,"",0,null,"",0,null,"",0,null,"",0,null,"",0,null,"",0,null,"",0,null,"",0]
[120,"",0,0,null,"",0,0,null,"",0,0,null,"",0,0,null,"",0,0,null,"",0,null,"","",null,"","",null,"",0,null,"",0,null,"",0,null,"",0,null,"",0,null,"",0,null,"",0,null,"",0]
[121,"",0,0,null,"",0,0,null,"",0,0,null,"",0,0,null,"",0,0,null,"",0,null,"","",null,"","",null,"",0,null,"",0,null,"",0,null,"",0,null,"",0,null,"",0,null,"",0,null,"",0]
[122,"",0,0,null,"",0,0,null,"",0,0,null,"",0,0,null,"",0,0,null,"",0,null,"","",null,"","",null,"",0,null,"",0,null,"",0,null,"",0,null,"",0,null,"",0,null,"",0,null,"",0]
[123,"",0,0,null,"",0,0,null,"",0,0,null,"",0,0,null,"",0,0,null,"",0,null,"","",null,"","",null,"",0,null,"",0,null,"",0,null,"",0,null,"",0,null,"",0,null,"",0,null,"",0]
[124,"",0,0,null,"",0,0,null,"",0,0,null,"",0,0,null,"",0,0,null,"",0,null,"","",null,"","",null,"",0,null,"",0,null,"",0,null,"",0,null,"",0,null,"",0,null,"",0,null,"",0]
[125,"",0,0,null,"",0,0,null,"",0,0,null,"",0,0,null,"",0,0,null,"",0,null,"","",null,"","",null,"",0,null,"",0,null,"",0,null,"",0,null,"",0,null,"",0,null,"",0,null,"",0]
[126,"",0,0,null,"",0,0,null,"",0,0,null,"",0,0,null,"",0,0,null,"",0,null,"","",null,"","",null,"",0,null,"",0,null,"",0,null,"",0,null,"",0,null,"",0,null,"",0,null,"",0]
[127,"",0,0,null,"",0,0,null,"",0,0,null,"",0,0,null,"",0,0,null,"",0,null,"","",null,"","",null,"",0,null,"",0,null,"",0,null,"",0,null,"",0,null,"",0,null,"",0,null,"",0]
[128,"",0,0,null,"",0,0,null,"",0,0,null,"",0,0,null,"",0,0,null,"",0,null,"","",null,"","",null,"",0,null,"",0,null,"",0,null,"",0,null,"",0,null,"",0,null,"",0,null,"",0]
[129,"",0,0,null,"",0,0,null,"",0,0,null,"",0,0,null,"",0,0,null,"",0,null,"","",null,"","",null,"",0,null,"",0,null,"",0,null,"",0,null,"",0,null,"",0,null,"",0,null,"",0]
[130,"",0,0,null,"",0,0,null,"",0,0,null,"",0,0,null,"",0,0,null,"",0,null,"","",null,"","",null,"",0,null,"",0,null,"",0,null,"",0,null,"",0,null,"",0,null,"",0,null,"",0]
[131,"",0,0,null,"",0,0,null,"",0,0,null,"",0,0,null,"",0,0,null,"",0,null,"","",null,"","",null,"",0,null,"",0,null,"",0,null,"",0,null,"",0,null,"",0,null,"",0,null,"",0]
[132,"",0,0,null,"",0,0,null,"",0,0,null,"",0,0,null,"",0,0,null,"",0,null,"","",null,"","",null,"",0,null,"",0,null,"",0,null,"",0,null,"",0,null,"",0,null,"",0,null,"",0]
[133,"",0,0,null,"",0,0,null,"",0,0,null,"",0,0,null,"",0,0,null,"",0,null,"","",null,"","",null,"",0,null,"",0,null,"",0,null,"",0,null,"",0,null,"",0,null,"",0,null,"",0]
[134,"",0,0,null,"",0,0,null,"",0,0,null,"",0,0,null,"",0,0,null,"",0,null,"","",null,"","",null,"",0,null,"",0,null,"",0,null,"",0,null,"",0,null,"",0,null,"",0,null,"",0]
[135,"",0,0,null,"",0,0,null,"",0,0,null,"",0,0,null,"",0,0,null,"",0,null,"","",null,"","",null,"",0,null,"",0,null,"",0,null,"",0,null,"",0,null,"",0,null,"",0,null,"",0]
[136,"",0,0,null,"",0,0,null,"",0,0,null,"",0,0,null,"",0,0,null,"",0,null,"","",null,"","",null,"",0,null,"",0,null,"",0,null,"",0,null,"",0,null,"",0,null,"",0,null,"",0]
[137,"",0,0,null,"",0,0,null,"",0,0,null,"",0,0,null,"",0,0,null,"",0,null,"","",null,"","",null,"",0,null,"",0,null,"",0,null,"",0,null,"",0,null,"",0,null,"",0,null,"",0]
[138,"",0,0,null,"",0,0,null,"",0,0,null,"",0,0,null,"",0,0,null,"",0,null,"","",null,"","",null,"",0,null,"",0,null,"",0,null,"",0,null,"",0,null,"",0,null,"",0,null,"",0]
[139,"",0,0,null,"",0,0,null,"",0,0,null,"",0,0,null,"",0,0,null,"",0,null,"","",null,"","",null,"",0,null,"",0,null,"",0,null,"",0,null,"",0,null,"",0,null,"",0,null,"",0]
[140,"",0,0,null,"",0,0,null,"",0,0,null,"",0,0,null,"",0,0,null,"",0,null,"","",null,"","",null,"",0,null,"",0,null,"",0,null,"",0,null,"",0,null,"",0,null,"",0,null,"",0]
[141,"",0,0,null,"",0,0,null,"",0,0,null,"",0,0,null,"",0,0,null,"",0,null,"","",null,"","",null,"",0,null,"",0,null,"",0,null,"",0,null,"",0,null,"",0,null,"",0,null,"",0]
[142,"",0,0,null,"",0,0,null,"",0,0,null,"",0,0,null,"",0,0,null,"",0,null,"","",null,"","",null,"",0,null,"",0,null,"",0,null,"",0,null,"",0,null,"",0,null,"",0,null,"",0]
[143,"",0,0,null,"",0,0,null,"",0,0,null,"",0,0,null,"",0,0,null,"",0,null,"","",null,"","",null,"",0,null,"",0,null,"",0,null,"",0,null,"",0,null,"",0,null,"",0,null,"",0]
[144,"",0,0,null,"",0,0,null,"",0,0,null,"",0,0,null,"",0,0,null,"",0,null,"","",null,"","",null,"",0,null,"",0,null,"",0,null,"",0,null,"",0,null,"",0,null,"",0,null,"",0]
[145,"",0,0,null,"",0,0,null,"",0,0,null,"",0,0,null,"",0,0,null,"",0,null,"","",null,"","",null,"",0,null,"",0,null,"",0,null,"",0,null,"",0,null,"",0,null,"",0,null,"",0]
[146,"",0,0,null,"",0,0,null,"",0,0,null,"",0,0,null,"",0,0,null,"",0,null,"","",null,"","",null,"",0,null,"",0,null,"",0,null,"",0,null,"",0,null,"",0,null,"",0,null,"",0]
[147,"",0,0,null,"",0,0,null,"",0,0,null,"",0,0,null,"",0,0,null,"",0,null,"","",null,"","",null,"",0,null,"",0,null,"",0,null,"",0,null,"",0,null,"",0,null,"",0,null,"",0]
[148,"",0,0,null,"",0,0,null,"",0,0,null,"",0,0,null,"",0,0,null,"",0,null,"","",null,"","",null,"",0,null,"",0,null,"",0,null,"",0,null,"",0,null,"",0,null,"",0,null,"",0]
[149,"",0,0,null,"",0,0,null,"",0,0,null,"",0,0,null,"",0,0,null,"",0,null,"","",null,"","",null,"",0,null,"",0,null,"",0,null,"",0,null,"",0,null,"",0,null,"",0,null,"",0]
[150,"",0,0,null,"",0,0,null,"",0,0,null,"",0,0,null,"",0,0,null,"",0,null,"","",null,"","",null,"",0,null,"",0,null,"",0,null,"",0,null,"",0,null,"",0,null,"",0,null,"",0]
[151,"",0,0,null,"",0,0,null,"",0,0,null,"",0,0,null,"",0,0,null,"",0,null,"","",null,"","",null,"",0,null,"",0,null,"",0,null,"",0,null,"",0,null,"",0,null,"",0,null,"",0]
[152,"",0,0,null,"",0,0,null,"",0,0,null,"",0,0,null,"",0,0,null,"",0,null,"","",null,"","",null,"",0,null,"",0,null,"",0,null,"",0,null,"",0,null,"",0,null,"",0,null,"",0]
[153,"",0,0,null,"",0,0,null,"",0,0,null,"",0,0,null,"",0,0,null,"",0,null,"","",null,"","",null,"",0,null,"",0,null,"",0,null,"",0,null,"",0,null,"",0,null,"",0,null,"",0]
[154,"",0,0,null,"",0,0,null,"",0,0,null,"",0,0,null,"",0,0,null,"",0,null,"","",null,"","",null,"",0,null,"",0,null,"",0,null,"",0,null,"",0,null,"",0,null,"",0,null,"",0]
[155,"",0,0,null,"",0,0,null,"",0,0,null,"",0,0,null,"",0,0,null,"",0,null,"","",null,"","",null,"",0,null,"",0,null,"",0,null,"",0,null,"",0,null,"",0,null,"",0,null,"",0]
[156,"",0,0,null,"",0,0,null,"",0,0,null,"",0,0,null,"",0,0,null,"",0,null,"","",null,"","",null,"",0,null,"",0,null,"",0,null,"",0,null,"",0,null,"",0,null,"",0,null,"",0]
[157,"",0,0,null,"",0,0,null,"",0,0,null,"",0,0,null,"",0,0,null,"",0,null,"","",null,"","",null,"",0,null,"",0,null,"",0,null,"",0,null,"",0,null,"",0,null,"",0,null,"",0]
[158,"",0,0,null,"",0,0,null,"",0,0,null,"",0,0,null,"",0,0,null,"",0,null,"","",null,"","",null,"",0,null,"",0,null,"",0,null,"",0,null,"",0,null,"",0,null,"",0,null,"",0]
[159,"",0,0,null,"",0,0,null,"",0,0,null,"",0,0,null,"",0,0,null,"",0,null,"","",null,"","",null,"",0,null,"",0,null,"",0,null,"",0,null,"",0,null,"",0,null,"",0,null,"",0]
[160,"",0,0,null,"",0,0,null,"",0,0,null,"",0,0,null,"",0,0,null,"",0,null,"","",null,"","",null,"",0,null,"",0,null,"",0,null,"",0,null,"",0,null,"",0,null,"",0,null,"",0]
[161,"",0,0,null,"",0,0,null,"",0,0,null,"",0,0,null,"",0,0,null,"",0,null,"","",null,"","",null,"",0,null,"",0,null,"",0,null,"",0,null,"",0,null,"",0,null,"",0,null,"",0]
[162,"",0,0,null,"",0,0,null,"",0,0,null,"",0,0,null,"",0,0,null,"",0,null,"","",null,"","",null,"",0,null,"",0,null,"",0,null,"",0,null,"",0,null,"",0,null,"",0,null,"",0]
[163,"",0,0,null,"",0,0,null,"",0,0,null,"",0,0,null,"",0,0,null,"",0,null,"","",null,"","",null,"",0,null,"",0,null,"",0,null,"",0,null,"",0,null,"",0,null,"",0,null,"",0]
[164,"",0,0,null,"",0,0,null,"",0,0,null,"",0,0,null,"",0,0,null,"",0,null,"","",null,"","",null,"",0,null,"",0,null,"",0,null,"",0,null,"",0,null,"",0,null,"",0,null,"",0]
[165,"",0,0,null,"",0,0,null,"",0,0,null,"",0,0,null,"",0,0,null,"",0,null,"","",null,"","",null,"",0,null,"",0,null,"",0,null,"",0,null,"",0,null,"",0,null,"",0,null,"",0]
[166,"",0,0,null,"",0,0,null,"",0,0,null,"",0,0,null,"",0,0,null,"",0,null,"","",null,"","",null,"",0,null,"",0,null,"",0,null,"",0,null,"",0,null,"",0,null,"",0,null,"",0]
[167,"",0,0,null,"",0,0,null,"",0,0,null,"",0,0,null,"",0,0,null,"",0,null,"","",null,"","",null,"",0,null,"",0,null,"",0,null,"",0,null,"",0,null,"",0,null,"",0,null,"",0]
[168,"",0,0,null,"",0,0,null,"",0,0,null,"",0,0,null,"",0,0,null,"",0,null,"","",null,"","",null,"",0,null,"",0,null,"",0,null,"",0,null,"",0,null,"",0,null,"",0,null,"",0]
[169,"",0,0,null,"",0,0,null,"",0,0,null,"",0,0,null,"",0,0,null,"",0,null,"","",null,"","",null,"",0,null,"",0,null,"",0,null,"",0,null,"",0,null,"",0,null,"",0,null,"",0]
[170,"",0,0,null,"",0,0,null,"",0,0,null,"",0,0,null,"",0,0,null,"",0,null,"","",null,"","",null,"",0,null,"",0,null,"",0,null,"",0,null,"",0,null,"",0,null,"",0,null,"",0]
[171,"",0,0,null,"",0,0,null,"",0,0,null,"",0,0,null,"",0,0,null,"",0,null,"","",null,"","",null,"",0,null,"",0,null,"",0,null,"",0,null,"",0,null,"",0,null,"",0,null,"",0]
[172,"",0,0,null,"",0,0,null,"",0,0,null,"",0,0,null,"",0,0,null,"",0,null,"","",null,"","",null,"",0,null,"",0,null,"",0,null,"",0,null,"",0,null,"",0,null,"",0,null,"",0]
[173,"",0,0,null,"",0,0,null,"",0,0,null,"",0,0,null,"",0,0,null,"",0,null,"","",null,"","",null,"",0,null,"",0,null,"",0,null,"",0,null,"",0,null,"",0,null,"",0,null,"",0]
[174,"",0,0,null,"",0,0,null,"",0,0,null,"",0,0,null,"",0,0,null,"",0,null,"","",null,"","",null,"",0,null,"",0,null,"",0,null,"",0,null,"",0,null,"",0,null,"",0,null,"",0]
[175,"",0,0,null,"",0,0,null,"",0,0,null,"",0,0,null,"",0,0,null,"",0,null,"","",null,"","",null,"",0,null,"",0,null,"",0,null,"",0,null,"",0,null,"",0,null,"",0,null,"",0]
[176,"",0,0,null,"",0,0,null,"",0,0,null,"",0,0,null,"",0,0,null,"",0,null,"","",null,"","",null,"",0,null,"",0,null,"",0,null,"",0,null,"",0,null,"",0,null,"",0,null,"",0]
[177,"",0,0,null,"",0,0,null,"",0,0,null,"",0,0,null,"",0,0,null,"",0,null,"","",null,"","",null,"",0,null,"",0,null,"",0,null,"",0,null,"",0,null,"",0,null,"",0,null,"",0]
[178,"",0,0,null,"",0,0,null,"",0,0,null,"",0,0,null,"",0,0,null,"",0,null,"","",null,"","",null,"",0,null,"",0,null,"",0,null,"",0,null,"",0,null,"",0,null,"",0,null,"",0]
[179,"",0,0,null,"",0,0,null,"",0,0,null,"",0,0,null,"",0,0,null,"",0,null,"","",null,"","",null,"",0,null,"",0,null,"",0,null,"",0,null,"",0,null,"",0,null,"",0,null,"",0]
[180,"",0,0,null,"",0,0,null,"",0,0,null,"",0,0,null,"",0,0,null,"",0,null,"","",null,"","",null,"",0,null,"",0,null,"",0,null,"",0,null,"",0,null,"",0,null,"",0,null,"",0]
[181,"",0,0,null,"",0,0,null,"",0,0,null,"",0,0,null,"",0,0,null,"",0,null,"","",null,"","",null,"",0,null,"",0,null,"",0,null,"",0,null,"",0,null,"",0,null,"",0,null,"",0]
[182,"",0,0,null,"",0,0,null,"",0,0,null,"",0,0,null,"",0,0,null,"",0,null,"","",null,"","",null,"",0,null,"",0,null,"",0,null,"",0,null,"",0,null,"",0,null,"",0,null,"",0]
[183,"",0,0,null,"",0,0,null,"",0,0,null,"",0,0,null,"",0,0,null,"",0,null,"","",null,"","",null,"",0,null,"",0,null,"",0,null,"",0,null,"",0,null,"",0,null,"",0,null,"",0]
[184,"",0,0,null,"",0,0,null,"",0,0,null,"",0,0,null,"",0,0,null,"",0,null,"","",null,"","",null,"",0,null,"",0,null,"",0,null,"",0,null,"",0,null,"",0,null,"",0,null,"",0]
[185,"",0,0,null,"",0,0,null,"",0,0,null,"",0,0,null,"",0,0,null,"",0,null,"","",null,"","",null,"",0,null,"",0,null,"",0,null,"",0,null,"",0,null,"",0,null,"",0,null,"",0]
[186,"",0,0,null,"",0,0,null,"",0,0,null,"",0,0,null,"",0,0,null,"",0,null,"","",null,"","",null,"",0,null,"",0,null,"",0,null,"",0,null,"",0,null,"",0,null,"",0,null,"",0]
[187,"",0,0,null,"",0,0,null,"",0,0,null,"",0,0,null,"",0,0,null,"",0,null,"","",null,"","",null,"",0,null,"",0,null,"",0,null,"",0,null,"",0,null,"",0,null,"",0,null,"",0]
[188,"",0,0,null,"",0,0,null,"",0,0,null,"",0,0,null,"",0,0,null,"",0,null,"","",null,"","",null,"",0,null,"",0,null,"",0,null,"",0,null,"",0,null,"",0,null,"",0,null,"",0]
[189,"",0,0,null,"",0,0,null,"",0,0,null,"",0,0,null,"",0,0,null,"",0,null,"","",null,"","",null,"",0,null,"",0,null,"",0,null,"",0,null,"",0,null,"",0,null,"",0,null,"",0]
[190,"",0,0,null,"",0,0,null,"",0,0,null,"",0,0,null,"",0,0,null,"",0,null,"","",null,"","",null,"",0,null,"",0,null,"",0,null,"",0,null,"",0,null,"",0,null,"",0,null,"",0]
[191,"",0,0,null,"",0,0,null,"",0,0,null,"",0,0,null,"",0,0,null,"",0,null,"","",null,"","",null,"",0,null,"",0,null,"",0,null,"",0,null,"",0,null,"",0,null,"",0,null,"",0]
[192,"",0,0,null,"",0,0,null,"",0,0,null,"",0,0,null,"",0,0,null,"",0,null,"","",null,"","",null,"",0,null,"",0,null,"",0,null,"",0,null,"",0,null,"",0,null,"",0,null,"",0]
[193,"",0,0,null,"",0,0,null,"",0,0,null,"",0,0,null,"",0,0,null,"",0,null,"","",null,"","",null,"",0,null,"",0,null,"",0,null,"",0,null,"",0,null,"",0,null,"",0,null,"",0]
[194,"",0,0,null,"",0,0,null,"",0,0,null,"",0,0,null,"",0,0,null,"",0,null,"","",null,"","",null,"",0,null,"",0,null,"",0,null,"",0,null,"",0,null,"",0,null,"",0,null,"",0]
[195,"",0,0,null,"",0,0,null,"",0,0,null,"",0,0,null,"",0,0,null,"",0,null,"","",null,"","",null,"",0,null,"",0,null,"",0,null,"",0,null,"",0,null,"",0,null,"",0,null,"",0]
[196,"",0,0,null,"",0,0,null,"",0,0,null,"",0,0,null,"",0,0,null,"",0,null,"","",null,"","",null,"",0,null,"",0,null,"",0,null,"",0,null,"",0,null,"",0,null,"",0,null,"",0]
[197,"",0,0,null,"",0,0,null,"",0,0,null,"",0,0,null,"",0,0,null,"",0,null,"","",null,"","",null,"",0,null,"",0,null,"",0,null,"",0,null,"",0,null,"",0,null,"",0,null,"",0]
[198,"",0,0,null,"",0,0,null,"",0,0,null,"",0,0,null,"",0,0,null,"",0,null,"","",null,"","",null,"",0,null,"",0,null,"",0,null,"",0,null,"",0,null,"",0,null,"",0,null,"",0]
[199,"",0,0,null,"",0,0,null,"",0,0,null,"",0,0,null,"",0,0,null,"",0,null,"","",null,"","",null,"",0,null,"",0,null,"",0,null,"",0,null,"",0,null,"",0,null,"",0,null,"",0]
[200,"",0,0,null,"",0,0,null,"",0,0,null,"",0,0,null,"",0,0,null,"",0,null,"","",null,"","",null,"",0,null,"",0,null,"",0,null,"",0,null,"",0,null,"",0,null,"",0,null,"",0]

{"sheet":"Ergebnisse","index":10,"n_rows":28,"n_cols":7,"rows_kept":28,"cut":false,"hidden":false,"merged":[[0,1,0,4],[1,1,2,4],[15,1,15,2],[12,1,12,2],[13,1,13,2],[3,1,3,2],[4,1,4,2],[5,1,5,2],[6,1,6,2],[7,1,7,2],[8,1,8,2],[28,1,28,4],[16,1,17,4],[18,1,22,1],[23,1,27,1],[9,1,9,2],[14,1,14,2],[11,1,11,2],[10,1,10,2]]}
[null,{"$f":"CONCATENATE(\"Abschießen\",\" \",TEXT(TODAY(),\"JJJJ\"))","v":"Abschießen 2018"}]
[null,"Pokalschießen"]
[]
[null,{"$f":"CONCATENATE(TEXT(TODAY(),\"TTTT, TT. MMM. JJJJ\"))","v":"Dienstag, 23. Okt. 2018"},null,"Name:","Ringe:"]
[null,"Wittkowskipokal :",null,{"$f":"IF(D!B3=\"\",\"Keine Teilnahme\",D!B3)","v":"Keine Teilnahme"},{"$f":"IF(D!C3=0,\"\",D!C3)","v":""}]
[null,"Peperpokal :",null,{"$f":"IF(D!F3=\"\",\"Keine Teilnahme\",D!F3)","v":"Keine Teilnahme"},{"$f":"IF(D!G3=0,\"\",D!G3)","v":""}]
[null,"Königspokal (bis 18 Jahre) :",null,{"$f":"IF(D!J3=\"\",\"Keine Teilnahme\",D!J3)","v":"Keine Teilnahme"},{"$f":"IF(D!K3=0,\"\",D!K3)","v":""}]
[null,"Schülerpokal :",null,{"$f":"IF(D!N3=\"\",\"Keine Teilnahme\",D!N3)","v":"Keine Teilnahme"},{"$f":"IF(D!O3=0,\"\",D!O3)","v":""}]
[null,"Schimmelpfennigpokal :",null,{"$f":"IF(D!R3=\"\",\"Keine Teilnahme\",D!R3)","v":"Keine Teilnahme"},{"$f":"IF(D!S3=0,\"\",D!S3)","v":""}]
[null,"Freihandpokal :",null,{"$f":"IF(D!V3=\"\",\"Keine Teilnahme\",D!V3)","v":"Keine Teilnahme"},{"$f":"IF(D!W3=0,\"\",D!W3)","v":""}]
[null,"Luftpistole - Jugend :",null,{"$f":"IF(D!AE3=\"\",\"Keine Teilnahme\",D!AE3)","v":"Keine Teilnahme"},{"$f":"IF(D!AF3=0,\"\",D!AF3)","v":""}]
[null,"Luftpistole - Schützen :",null,{"$f":"IF(D!AH3=\"\",\"Keine Teilnahme\",D!AH3)","v":"Keine Teilnahme"},{"$f":"IF(D!AI3=0,\"\",D!AI3)","v":""}]
[null,"Luftpistole - Damen :",null,{"$f":"IF(D!AK3=\"\",\"Keine Teilnahme\",D!AK3)","v":"Keine Teilnahme"},{"$f":"IF(D!AL3=0,\"\",D!AL3)","v":""}]
[null,"Bogenpokal :",null,{"$f":"IF(D!AN3=\"\",\"Keine Teilnahme\",D!AN3)","v":"Keine Teilnahme"},{"$f":"IF(D!AO3=0,\"\",D!AO3)","v":""}]
[null,"Bogenpokal (Schüler) :",null,{"$f":"IF(D!AQ3=\"\",\"Keine Teilnahme\",D!AQ3)","v":"Keine Teilnahme"},{"$f":"IF(D!AR3=0,\"\",D!AR3)","v":""}]
[]
[null,"Sau und Glücksschießen"]
[]
[null,"Sauenschießen :","1.",{"$f":"IF(D!AW3=\"\",\"Keine Teilnahme\",D!AW3)","v":"Keine Teilnahme"},{"$f":"IF(D!AX3=0,\"\",D!AX3)","v":""},null,"<== Preisbegrenzung mit \"x\" festlegen"]
[null,null,"2.",{"$f":"IF(D!AW4=\"\",\"\",D!AW4)","v":""},{"$f":"IF(D!AX4=0,\"\",D!AX4)","v":""},null,"<== Preisbegrenzung mit \"x\" festlegen"]
[null,null,"3.",{"$f":"IF(D!AW5=\"\",\"\",D!AW5)","v":""},{"$f":"IF(D!AX5=0,\"\",D!AX5)","v":""},null,"<== Preisbegrenzung mit \"x\" festlegen"]
[null,null,"4.",{"$f":"IF(D!AW6=\"\",\"\",D!AW6)","v":""},{"$f":"IF(D!AX6=0,\"\",D!AX6)","v":""},"x","<== Preisbegrenzung mit \"x\" festlegen"]
[null,null,"5.",{"$f":"IF(D!AW7=\"\",\"\",D!AW7)","v":""},{"$f":"IF(D!AX7=0,\"\",D!AX7)","v":""},"x","<== Preisbegrenzung mit \"x\" festlegen"]
[null,"Glückspreisschießen :","1.",{"$f":"IF(D!AZ3=\"\",\"Keine Teilnahme\",D!AZ3)","v":"Keine Teilnahme"},{"$f":"IF(D!BA3=0,\"\",D!BA3)","v":""},null,"<== Preisbegrenzung mit \"x\" festlegen"]
[null,null,"2.",{"$f":"IF(D!AZ4=\"\",\"\",D!AZ4)","v":""},{"$f":"IF(D!BA4=0,\"\",D!BA4)","v":""},null,"<== Preisbegrenzung mit \"x\" festlegen"]
[null,null,"3.",{"$f":"IF(D!AZ5=\"\",\"\",D!AZ5)","v":""},{"$f":"IF(D!BA5=0,\"\",D!BA5)","v":""},null,"<== Preisbegrenzung mit \"x\" festlegen"]
[null,null,"4.",{"$f":"IF(D!AZ6=\"\",\"\",D!AZ6)","v":""},{"$f":"IF(D!BA6=0,\"\",D!BA6)","v":""},"x","<== Preisbegrenzung mit \"x\" festlegen"]
[null,null,"5.",{"$f":"IF(D!AZ7=\"\",\"\",D!AZ7)","v":""},{"$f":"IF(D!BA7=0,\"\",D!BA7)","v":""},"x","<== Preisbegrenzung mit \"x\" festlegen"]

{"sheet":"Ergebnisse Preis","index":11,"n_rows":28,"n_cols":10,"rows_kept":28,"cut":false,"hidden":false,"merged":[[0,0,0,6],[1,4,1,6],[1,0,1,2]]}
[{"$f":"CONCATENATE(\"Abschießen\",\" \",TEXT(TODAY(),\"JJJJ\"))","v":"Abschießen 2018"}]
["\nPreisschießen - KK",null,null,null,"\nPreisschießen - LG",null,null,"KK","LG"]
["Platz","Name:","Teiler:",null,"Platz","Name:","Teiler:"]
[1,{"$f":"IF(D!Y3=\"\",\"Keine Teilnahme\",D!Y3)","v":"Keine Teilnahme"},{"$f":"IF(D!Z3=\"\",\"\",D!Z3)","v":""},null,1,{"$f":"IF(D!AB3=\"\",\"Keine Teilnahme\",D!AB3)","v":"Keine Teilnahme"},{"$f":"IF(D!AC3=\"\",\"\",D!AC3)","v":""},null,null,"<== Preisbegrenzung mit \"x\" festlegen"]
[2,{"$f":"IF(D!Y4=\"\",\"\",D!Y4)","v":""},{"$f":"IF(D!Z4=\"\",\"\",D!Z4)","v":""},null,2,{"$f":"IF(D!AB4=\"\",\"\",D!AB4)","v":""},{"$f":"IF(D!AC4=\"\",\"\",D!AC4)","v":""},null,null,"<== Preisbegrenzung mit \"x\" festlegen"]
[3,{"$f":"IF(D!Y5=\"\",\"\",D!Y5)","v":""},{"$f":"IF(D!Z5=\"\",\"\",D!Z5)","v":""},null,3,{"$f":"IF(D!AB5=\"\",\"\",D!AB5)","v":""},{"$f":"IF(D!AC5=\"\",\"\",D!AC5)","v":""},null,null,"<== Preisbegrenzung mit \"x\" festlegen"]
[4,{"$f":"IF(D!Y6=\"\",\"\",D!Y6)","v":""},{"$f":"IF(D!Z6=\"\",\"\",D!Z6)","v":""},null,4,{"$f":"IF(D!AB6=\"\",\"\",D!AB6)","v":""},{"$f":"IF(D!AC6=\"\",\"\",D!AC6)","v":""},null,"x","<== Preisbegrenzung mit \"x\" festlegen"]
[5,{"$f":"IF(D!Y7=\"\",\"\",D!Y7)","v":""},{"$f":"IF(D!Z7=\"\",\"\",D!Z7)","v":""},null,5,{"$f":"IF(D!AB7=\"\",\"\",D!AB7)","v":""},{"$f":"IF(D!AC7=\"\",\"\",D!AC7)","v":""},null,"x","<== Preisbegrenzung mit \"x\" festlegen"]
[6,{"$f":"IF(D!Y8=\"\",\"\",D!Y8)","v":""},{"$f":"IF(D!Z8=\"\",\"\",D!Z8)","v":""},null,6,{"$f":"IF(D!AB8=\"\",\"\",D!AB8)","v":""},{"$f":"IF(D!AC8=\"\",\"\",D!AC8)","v":""},null,"x","<== Preisbegrenzung mit \"x\" festlegen"]
[7,{"$f":"IF(D!Y9=\"\",\"\",D!Y9)","v":""},{"$f":"IF(D!Z9=\"\",\"\",D!Z9)","v":""},null,7,{"$f":"IF(D!AB9=\"\",\"\",D!AB9)","v":""},{"$f":"IF(D!AC9=\"\",\"\",D!AC9)","v":""},null,"x","<== Preisbegrenzung mit \"x\" festlegen"]
[8,{"$f":"IF(D!Y10=\"\",\"\",D!Y10)","v":""},{"$f":"IF(D!Z10=\"\",\"\",D!Z10)","v":""},null,8,{"$f":"IF(D!AB10=\"\",\"\",D!AB10)","v":""},{"$f":"IF(D!AC10=\"\",\"\",D!AC10)","v":""},null,"x","<== Preisbegrenzung mit \"x\" festlegen"]
[9,{"$f":"IF(D!Y11=\"\",\"\",D!Y11)","v":""},{"$f":"IF(D!Z11=\"\",\"\",D!Z11)","v":""},null,9,{"$f":"IF(D!AB11=\"\",\"\",D!AB11)","v":""},{"$f":"IF(D!AC11=\"\",\"\",D!AC11)","v":""},null,"x","<== Preisbegrenzung mit \"x\" festlegen"]
[10,{"$f":"IF(D!Y12=\"\",\"\",D!Y12)","v":""},{"$f":"IF(D!Z12=\"\",\"\",D!Z12)","v":""},null,10,{"$f":"IF(D!AB12=\"\",\"\",D!AB12)","v":""},{"$f":"IF(D!AC12=\"\",\"\",D!AC12)","v":""},null,"x","<== Preisbegrenzung mit \"x\" festlegen"]
[11,{"$f":"IF(D!Y13=\"\",\"\",D!Y13)","v":""},{"$f":"IF(D!Z13=\"\",\"\",D!Z13)","v":""},null,11,{"$f":"IF(D!AB13=\"\",\"\",D!AB13)","v":""},{"$f":"IF(D!AC13=\"\",\"\",D!AC13)","v":""},null,"x","<== Preisbegrenzung mit \"x\" festlegen"]
[12,{"$f":"IF(D!Y14=\"\",\"\",D!Y14)","v":""},{"$f":"IF(D!Z14=\"\",\"\",D!Z14)","v":""},null,12,{"$f":"IF(D!AB14=\"\",\"\",D!AB14)","v":""},{"$f":"IF(D!AC14=\"\",\"\",D!AC14)","v":""},null,"x","<== Preisbegrenzung mit \"x\" festlegen"]
[13,{"$f":"IF(D!Y15=\"\",\"\",D!Y15)","v":""},{"$f":"IF(D!Z15=\"\",\"\",D!Z15)","v":""},null,13,{"$f":"IF(D!AB15=\"\",\"\",D!AB15)","v":""},{"$f":"IF(D!AC15=\"\",\"\",D!AC15)","v":""},null,"x","<== Preisbegrenzung mit \"x\" festlegen"]
[14,{"$f":"IF(D!Y16=\"\",\"\",D!Y16)","v":""},{"$f":"IF(D!Z16=\"\",\"\",D!Z16)","v":""},null,14,{"$f":"IF(D!AB16=\"\",\"\",D!AB16)","v":""},{"$f":"IF(D!AC16=\"\",\"\",D!AC16)","v":""},null,"x","<== Preisbegrenzung mit \"x\" festlegen"]
[15,{"$f":"IF(D!Y17=\"\",\"\",D!Y17)","v":""},{"$f":"IF(D!Z17=\"\",\"\",D!Z17)","v":""},null,15,{"$f":"IF(D!AB17=\"\",\"\",D!AB17)","v":""},{"$f":"IF(D!AC17=\"\",\"\",D!AC17)","v":""},null,"x","<== Preisbegrenzung mit \"x\" festlegen"]
[16,{"$f":"IF(D!Y18=\"\",\"\",D!Y18)","v":""},{"$f":"IF(D!Z18=\"\",\"\",D!Z18)","v":""},null,16,{"$f":"IF(D!AB18=\"\",\"\",D!AB18)","v":""},{"$f":"IF(D!AC18=\"\",\"\",D!AC18)","v":""},"x","x","<== Preisbegrenzung mit \"x\" festlegen"]
[17,{"$f":"IF(D!Y19=\"\",\"\",D!Y19)","v":""},{"$f":"IF(D!Z19=\"\",\"\",D!Z19)","v":""},null,17,{"$f":"IF(D!AB19=\"\",\"\",D!AB19)","v":""},{"$f":"IF(D!AC19=\"\",\"\",D!AC19)","v":""},"x","x","<== Preisbegrenzung mit \"x\" festlegen"]
[18,{"$f":"IF(D!Y20=\"\",\"\",D!Y20)","v":""},{"$f":"IF(D!Z20=\"\",\"\",D!Z20)","v":""},null,18,{"$f":"IF(D!AB20=\"\",\"\",D!AB20)","v":""},{"$f":"IF(D!AC20=\"\",\"\",D!AC20)","v":""},"x","x","<== Preisbegrenzung mit \"x\" festlegen"]
[19,{"$f":"IF(D!Y21=\"\",\"\",D!Y21)","v":""},{"$f":"IF(D!Z21=\"\",\"\",D!Z21)","v":""},null,19,{"$f":"IF(D!AB21=\"\",\"\",D!AB21)","v":""},{"$f":"IF(D!AC21=\"\",\"\",D!AC21)","v":""},"x","x","<== Preisbegrenzung mit \"x\" festlegen"]
[20,{"$f":"IF(D!Y22=\"\",\"\",D!Y22)","v":""},{"$f":"IF(D!Z22=\"\",\"\",D!Z22)","v":""},null,20,{"$f":"IF(D!AB22=\"\",\"\",D!AB22)","v":""},{"$f":"IF(D!AC22=\"\",\"\",D!AC22)","v":""},"x","x","<== Preisbegrenzung mit \"x\" festlegen"]
[21,{"$f":"IF(D!Y23=\"\",\"\",D!Y23)","v":""},{"$f":"IF(D!Z23=\"\",\"\",D!Z23)","v":""},null,21,{"$f":"IF(D!AB23=\"\",\"\",D!AB23)","v":""},{"$f":"IF(D!AC23=\"\",\"\",D!AC23)","v":""},"x","x","<== Preisbegrenzung mit \"x\" festlegen"]
[22,{"$f":"IF(D!Y24=\"\",\"\",D!Y24)","v":""},{"$f":"IF(D!Z24=\"\",\"\",D!Z24)","v":""},null,22,{"$f":"IF(D!AB24=\"\",\"\",D!AB24)","v":""},{"$f":"IF(D!AC24=\"\",\"\",D!AC24)","v":""},"x","x","<== Preisbegrenzung mit \"x\" festlegen"]
[23,{"$f":"IF(D!Y25=\"\",\"\",D!Y25)","v":""},{"$f":"IF(D!Z25=\"\",\"\",D!Z25)","v":""},null,23,{"$f":"IF(D!AB25=\"\",\"\",D!AB25)","v":""},{"$f":"IF(D!AC25=\"\",\"\",D!AC25)","v":""},"x","x","<== Preisbegrenzung mit \"x\" festlegen"]
[24,{"$f":"IF(D!Y26=\"\",\"\",D!Y26)","v":""},{"$f":"IF(D!Z26=\"\",\"\",D!Z26)","v":""},null,24,{"$f":"IF(D!AB26=\"\",\"\",D!AB26)","v":""},{"$f":"IF(D!AC26=\"\",\"\",D!AC26)","v":""},"x","x","<== Preisbegrenzung mit \"x\" festlegen"]
[25,{"$f":"IF(D!Y27=\"\",\"\",D!Y27)","v":""},{"$f":"IF(D!Z27=\"\",\"\",D!Z27)","v":""},null,25,{"$f":"IF(D!AB27=\"\",\"\",D!AB27)","v":""},{"$f":"IF(D!AC27=\"\",\"\",D!AC27)","v":""},"x","x","<== Preisbegrenzung mit \"x\" festlegen"]

{"sheet":"Schnüre","index":12,"n_rows":55,"n_cols":14,"rows_kept":55,"cut":false,"hidden":false,"merged":[[28,0,28,3],[28,5,28,8],[0,0,0,14],[1,0,1,3],[1,5,1,8],[1,10,1,13]]}
["Schnüre und Eicheln"]
["Wittkowskipokal (KK)",null,null,null,null,"Peperpokal (KK)",null,null,null,null,"Königspokal (LG)\n(bis 18 Jahre)"]
["Vor- und Nachname:","Ringe:","schlechtester\nEinzelschuss","Würde bekommen:",null,"Vor- und Nachname:","Ringe:","schlechtester\nEinzelschuss","Würde bekommen:",null,"Vor- und Nachname:","Ringe:","schlechtester\nEinzelschuss","Würde bekommen:"]
[{"$f":"IF(WPP!B3=\"\",\"Keine Teilnahme\",WPP!C3)","v":"Keine Teilnahme"},{"$f":"IF(WPP!B3=\"\",\"\",WPP!D3)","v":""},{"$f":"IF(WPP!B3=\"\",\"\",WPP!E3)","v":""},{"$f":"IF(AND(B4=\"\",C4=\"\"),\"\",IF(AND(B4>=97,C4>=9),\"Halsbandorden\",IF(AND(B4>=95,C4>=9),\"Plakette\",IF(AND(B4>=93,C4>=8),\"2. Goldene Eichel\",IF(AND(B4>=91,C4>=8),\"1. Goldene Eichel\",IF(AND(B4>=89,C4>=8),\"Goldene Schnur\",IF(AND(B4>=87,C4>=7),\"2. Silberne Eichel\",IF(AND(B4>=84,C4>=7),\"1. Silberne Eichel\",IF(AND(B4>=81,C4>=7),\"Silberne Schnur\",IF(AND(B4>=78,C4>=6),\"2. Grüne Eichel\",IF(AND(B4>=75,C4>=6),\"1. Grüne Eichel\",IF(AND(B4>=72,C4>=6),\"Grüne Schnur\",\"gibt NIX :-(\"))))))))))))","v":""},null,{"$f":"IF(WPP!G3=\"\",\"Keine Teilnahme\",WPP!H3)","v":"Keine Teilnahme"},{"$f":"IF(WPP!G3=\"\",\"\",WPP!I3)","v":""},{"$f":"IF(WPP!G3=\"\",\"\",WPP!J3)","v":""},{"$f":"IF(AND(G4=\"\",H4=\"\"),\"\",IF(AND(G4>=97,H4>=9),\"Halsbandorden\",IF(AND(G4>=95,H4>=9),\"Plakette\",IF(AND(G4>=93,H4>=8),\"2. Goldene Eichel\",IF(AND(G4>=91,H4>=8),\"1. Goldene Eichel\",IF(AND(G4>=89,H4>=8),\"Goldene Schnur\",IF(AND(G4>=87,H4>=7),\"2. Silberne Eichel\",IF(AND(G4>=84,H4>=7),\"1. Silberne Eichel\",IF(AND(G4>=81,H4>=7),\"Silberne Schnur\",IF(AND(G4>=78,H4>=6),\"2. Grüne Eichel\",IF(AND(G4>=75,H4>=6),\"1. Grüne Eichel\",IF(AND(G4>=72,H4>=6),\"Grüne Schnur\",\"gibt NIX :-(\"))))))))))))","v":""},null,{"$f":"IF(KSP!B3=\"\",\"Keine Teilnahme\",KSP!C3)","v":"Keine Teilnahme"},{"$f":"IF(KSP!B3=\"\",\"\",KSP!D3)","v":""},{"$f":"IF(KSP!B3=\"\",\"\",KSP!E3)","v":""},{"$f":"IF(L4=\"\",\"\",IF(L4>=88,\"Halsbandorden\",IF(L4>=85,\"Plakette\",IF(L4>=82,\"2. Goldene Eichel\",IF(L4>=81,\"1. Goldene Eichel\",IF(L4>=80,\"Goldene Schnur\",IF(L4>=75,\"2. Silberne Eichel\",IF(L4>=73,\"1. Silberne Eichel\",IF(L4>=71,\"Silberne Schnur\",IF(L4>=68,\"2. Grüne Eichel\",IF(L4>=65,\"1. Grüne Eichel\",IF(L4>=63,\"Grüne Schnur\",\"gibt NIX :-(\"))))))))))))","v":""}]
[{"$f":"IF(WPP!B4=\"\",\"\",WPP!C4)","v":""},{"$f":"IF(WPP!B4=\"\",\"\",WPP!D4)","v":""},{"$f":"IF(WPP!B4=\"\",\"\",WPP!E4)","v":""},{"$f":"IF(AND(B5=\"\",C5=\"\"),\"\",IF(AND(B5>=97,C5>=9),\"Halsbandorden\",IF(AND(B5>=95,C5>=9),\"Plakette\",IF(AND(B5>=93,C5>=8),\"2. Goldene Eichel\",IF(AND(B5>=91,C5>=8),\"1. Goldene Eichel\",IF(AND(B5>=89,C5>=8),\"Goldene Schnur\",IF(AND(B5>=87,C5>=7),\"2. Silberne Eichel\",IF(AND(B5>=84,C5>=7),\"1. Silberne Eichel\",IF(AND(B5>=81,C5>=7),\"Silberne Schnur\",IF(AND(B5>=78,C5>=6),\"2. Grüne Eichel\",IF(AND(B5>=75,C5>=6),\"1. Grüne Eichel\",IF(AND(B5>=72,C5>=6),\"Grüne Schnur\",\"gibt NIX :-(\"))))))))))))","v":""},null,{"$f":"IF(WPP!G4=\"\",\"\",WPP!H4)","v":""},{"$f":"IF(WPP!G4=\"\",\"\",WPP!I4)","v":""},{"$f":"IF(WPP!G4=\"\",\"\",WPP!J4)","v":""},{"$f":"IF(AND(G5=\"\",H5=\"\"),\"\",IF(AND(G5>=97,H5>=9),\"Halsbandorden\",IF(AND(G5>=95,H5>=9),\"Plakette\",IF(AND(G5>=93,H5>=8),\"2. Goldene Eichel\",IF(AND(G5>=91,H5>=8),\"1. Goldene Eichel\",IF(AND(G5>=89,H5>=8),\"Goldene Schnur\",IF(AND(G5>=87,H5>=7),\"2. Silberne Eichel\",IF(AND(G5>=84,H5>=7),\"1. Silberne Eichel\",IF(AND(G5>=81,H5>=7),\"Silberne Schnur\",IF(AND(G5>=78,H5>=6),\"2. Grüne Eichel\",IF(AND(G5>=75,H5>=6),\"1. Grüne Eichel\",IF(AND(G5>=72,H5>=6),\"Grüne Schnur\",\"gibt NIX :-(\"))))))))))))","v":""},null,{"$f":"IF(KSP!B4=\"\",\"\",KSP!C4)","v":""},{"$f":"IF(KSP!B4=\"\",\"\",KSP!D4)","v":""},{"$f":"IF(KSP!B4=\"\",\"\",KSP!E4)","v":""},{"$f":"IF(L5=\"\",\"\",IF(L5>=88,\"Halsbandorden\",IF(L5>=85,\"Plakette\",IF(L5>=82,\"2. Goldene Eichel\",IF(L5>=81,\"1. Goldene Eichel\",IF(L5>=80,\"Goldene Schnur\",IF(L5>=75,\"2. Silberne Eichel\",IF(L5>=73,\"1. Silberne Eichel\",IF(L5>=71,\"Silberne Schnur\",IF(L5>=68,\"2. Grüne Eichel\",IF(L5>=65,\"1. Grüne Eichel\",IF(L5>=63,\"Grüne Schnur\",\"gibt NIX :-(\"))))))))))))","v":""}]
[{"$f":"IF(WPP!B5=\"\",\"\",WPP!C5)","v":""},{"$f":"IF(WPP!B5=\"\",\"\",WPP!D5)","v":""},{"$f":"IF(WPP!B5=\"\",\"\",WPP!E5)","v":""},"",null,{"$f":"IF(WPP!G5=\"\",\"\",WPP!H5)","v":""},{"$f":"IF(WPP!G5=\"\",\"\",WPP!I5)","v":""},{"$f":"IF(WPP!G5=\"\",\"\",WPP!J5)","v":""},"",null,{"$f":"IF(KSP!B5=\"\",\"\",KSP!C5)","v":""},{"$f":"IF(KSP!B5=\"\",\"\",KSP!D5)","v":""},{"$f":"IF(KSP!B5=\"\",\"\",KSP!E5)","v":""},""]
[{"$f":"IF(WPP!B6=\"\",\"\",WPP!C6)","v":""},{"$f":"IF(WPP!B6=\"\",\"\",WPP!D6)","v":""},{"$f":"IF(WPP!B6=\"\",\"\",WPP!E6)","v":""},"",null,{"$f":"IF(WPP!G6=\"\",\"\",WPP!H6)","v":""},{"$f":"IF(WPP!G6=\"\",\"\",WPP!I6)","v":""},{"$f":"IF(WPP!G6=\"\",\"\",WPP!J6)","v":""},"",null,{"$f":"IF(KSP!B6=\"\",\"\",KSP!C6)","v":""},{"$f":"IF(KSP!B6=\"\",\"\",KSP!D6)","v":""},{"$f":"IF(KSP!B6=\"\",\"\",KSP!E6)","v":""},""]
[{"$f":"IF(WPP!B7=\"\",\"\",WPP!C7)","v":""},{"$f":"IF(WPP!B7=\"\",\"\",WPP!D7)","v":""},{"$f":"IF(WPP!B7=\"\",\"\",WPP!E7)","v":""},"",null,{"$f":"IF(WPP!G7=\"\",\"\",WPP!H7)","v":""},{"$f":"IF(WPP!G7=\"\",\"\",WPP!I7)","v":""},{"$f":"IF(WPP!G7=\"\",\"\",WPP!J7)","v":""},"",null,{"$f":"IF(KSP!B7=\"\",\"\",KSP!C7)","v":""},{"$f":"IF(KSP!B7=\"\",\"\",KSP!D7)","v":""},{"$f":"IF(KSP!B7=\"\",\"\",KSP!E7)","v":""},""]
[{"$f":"IF(WPP!B8=\"\",\"\",WPP!C8)","v":""},{"$f":"IF(WPP!B8=\"\",\"\",WPP!D8)","v":""},{"$f":"IF(WPP!B8=\"\",\"\",WPP!E8)","v":""},"",null,{"$f":"IF(WPP!G8=\"\",\"\",WPP!H8)","v":""},{"$f":"IF(WPP!G8=\"\",\"\",WPP!I8)","v":""},{"$f":"IF(WPP!G8=\"\",\"\",WPP!J8)","v":""},"",null,{"$f":"IF(KSP!B8=\"\",\"\",KSP!C8)","v":""},{"$f":"IF(KSP!B8=\"\",\"\",KSP!D8)","v":""},{"$f":"IF(KSP!B8=\"\",\"\",KSP!E8)","v":""},""]
[{"$f":"IF(WPP!B9=\"\",\"\",WPP!C9)","v":""},{"$f":"IF(WPP!B9=\"\",\"\",WPP!D9)","v":""},{"$f":"IF(WPP!B9=\"\",\"\",WPP!E9)","v":""},"",null,{"$f":"IF(WPP!G9=\"\",\"\",WPP!H9)","v":""},{"$f":"IF(WPP!G9=\"\",\"\",WPP!I9)","v":""},{"$f":"IF(WPP!G9=\"\",\"\",WPP!J9)","v":""},"",null,{"$f":"IF(KSP!B9=\"\",\"\",KSP!C9)","v":""},{"$f":"IF(KSP!B9=\"\",\"\",KSP!D9)","v":""},{"$f":"IF(KSP!B9=\"\",\"\",KSP!E9)","v":""},""]
[{"$f":"IF(WPP!B10=\"\",\"\",WPP!C10)","v":""},{"$f":"IF(WPP!B10=\"\",\"\",WPP!D10)","v":""},{"$f":"IF(WPP!B10=\"\",\"\",WPP!E10)","v":""},"",null,{"$f":"IF(WPP!G10=\"\",\"\",WPP!H10)","v":""},{"$f":"IF(WPP!G10=\"\",\"\",WPP!I10)","v":""},{"$f":"IF(WPP!G10=\"\",\"\",WPP!J10)","v":""},"",null,{"$f":"IF(KSP!B10=\"\",\"\",KSP!C10)","v":""},{"$f":"IF(KSP!B10=\"\",\"\",KSP!D10)","v":""},{"$f":"IF(KSP!B10=\"\",\"\",KSP!E10)","v":""},""]
[{"$f":"IF(WPP!B11=\"\",\"\",WPP!C11)","v":""},{"$f":"IF(WPP!B11=\"\",\"\",WPP!D11)","v":""},{"$f":"IF(WPP!B11=\"\",\"\",WPP!E11)","v":""},"",null,{"$f":"IF(WPP!G11=\"\",\"\",WPP!H11)","v":""},{"$f":"IF(WPP!G11=\"\",\"\",WPP!I11)","v":""},{"$f":"IF(WPP!G11=\"\",\"\",WPP!J11)","v":""},"",null,{"$f":"IF(KSP!B11=\"\",\"\",KSP!C11)","v":""},{"$f":"IF(KSP!B11=\"\",\"\",KSP!D11)","v":""},{"$f":"IF(KSP!B11=\"\",\"\",KSP!E11)","v":""},""]
[{"$f":"IF(WPP!B12=\"\",\"\",WPP!C12)","v":""},{"$f":"IF(WPP!B12=\"\",\"\",WPP!D12)","v":""},{"$f":"IF(WPP!B12=\"\",\"\",WPP!E12)","v":""},"",null,{"$f":"IF(WPP!G12=\"\",\"\",WPP!H12)","v":""},{"$f":"IF(WPP!G12=\"\",\"\",WPP!I12)","v":""},{"$f":"IF(WPP!G12=\"\",\"\",WPP!J12)","v":""},"",null,{"$f":"IF(KSP!B12=\"\",\"\",KSP!C12)","v":""},{"$f":"IF(KSP!B12=\"\",\"\",KSP!D12)","v":""},{"$f":"IF(KSP!B12=\"\",\"\",KSP!E12)","v":""},""]
[{"$f":"IF(WPP!B13=\"\",\"\",WPP!C13)","v":""},{"$f":"IF(WPP!B13=\"\",\"\",WPP!D13)","v":""},{"$f":"IF(WPP!B13=\"\",\"\",WPP!E13)","v":""},"",null,{"$f":"IF(WPP!G13=\"\",\"\",WPP!H13)","v":""},{"$f":"IF(WPP!G13=\"\",\"\",WPP!I13)","v":""},{"$f":"IF(WPP!G13=\"\",\"\",WPP!J13)","v":""},"",null,{"$f":"IF(KSP!B13=\"\",\"\",KSP!C13)","v":""},{"$f":"IF(KSP!B13=\"\",\"\",KSP!D13)","v":""},{"$f":"IF(KSP!B13=\"\",\"\",KSP!E13)","v":""},""]
[{"$f":"IF(WPP!B14=\"\",\"\",WPP!C14)","v":""},{"$f":"IF(WPP!B14=\"\",\"\",WPP!D14)","v":""},{"$f":"IF(WPP!B14=\"\",\"\",WPP!E14)","v":""},"",null,{"$f":"IF(WPP!G14=\"\",\"\",WPP!H14)","v":""},{"$f":"IF(WPP!G14=\"\",\"\",WPP!I14)","v":""},{"$f":"IF(WPP!G14=\"\",\"\",WPP!J14)","v":""},"",null,{"$f":"IF(KSP!B14=\"\",\"\",KSP!C14)","v":""},{"$f":"IF(KSP!B14=\"\",\"\",KSP!D14)","v":""},{"$f":"IF(KSP!B14=\"\",\"\",KSP!E14)","v":""},""]
[{"$f":"IF(WPP!B15=\"\",\"\",WPP!C15)","v":""},{"$f":"IF(WPP!B15=\"\",\"\",WPP!D15)","v":""},{"$f":"IF(WPP!B15=\"\",\"\",WPP!E15)","v":""},"",null,{"$f":"IF(WPP!G15=\"\",\"\",WPP!H15)","v":""},{"$f":"IF(WPP!G15=\"\",\"\",WPP!I15)","v":""},{"$f":"IF(WPP!G15=\"\",\"\",WPP!J15)","v":""},"",null,{"$f":"IF(KSP!B15=\"\",\"\",KSP!C15)","v":""},{"$f":"IF(KSP!B15=\"\",\"\",KSP!D15)","v":""},{"$f":"IF(KSP!B15=\"\",\"\",KSP!E15)","v":""},""]
[{"$f":"IF(WPP!B16=\"\",\"\",WPP!C16)","v":""},{"$f":"IF(WPP!B16=\"\",\"\",WPP!D16)","v":""},{"$f":"IF(WPP!B16=\"\",\"\",WPP!E16)","v":""},"",null,{"$f":"IF(WPP!G16=\"\",\"\",WPP!H16)","v":""},{"$f":"IF(WPP!G16=\"\",\"\",WPP!I16)","v":""},{"$f":"IF(WPP!G16=\"\",\"\",WPP!J16)","v":""},"",null,{"$f":"IF(KSP!B16=\"\",\"\",KSP!C16)","v":""},{"$f":"IF(KSP!B16=\"\",\"\",KSP!D16)","v":""},{"$f":"IF(KSP!B16=\"\",\"\",KSP!E16)","v":""},""]
[{"$f":"IF(WPP!B17=\"\",\"\",WPP!C17)","v":""},{"$f":"IF(WPP!B17=\"\",\"\",WPP!D17)","v":""},{"$f":"IF(WPP!B17=\"\",\"\",WPP!E17)","v":""},"",null,{"$f":"IF(WPP!G17=\"\",\"\",WPP!H17)","v":""},{"$f":"IF(WPP!G17=\"\",\"\",WPP!I17)","v":""},{"$f":"IF(WPP!G17=\"\",\"\",WPP!J17)","v":""},"",null,{"$f":"IF(KSP!B17=\"\",\"\",KSP!C17)","v":""},{"$f":"IF(KSP!B17=\"\",\"\",KSP!D17)","v":""},{"$f":"IF(KSP!B17=\"\",\"\",KSP!E17)","v":""},""]
[{"$f":"IF(WPP!B18=\"\",\"\",WPP!C18)","v":""},{"$f":"IF(WPP!B18=\"\",\"\",WPP!D18)","v":""},{"$f":"IF(WPP!B18=\"\",\"\",WPP!E18)","v":""},"",null,{"$f":"IF(WPP!G18=\"\",\"\",WPP!H18)","v":""},{"$f":"IF(WPP!G18=\"\",\"\",WPP!I18)","v":""},{"$f":"IF(WPP!G18=\"\",\"\",WPP!J18)","v":""},"",null,{"$f":"IF(KSP!B18=\"\",\"\",KSP!C18)","v":""},{"$f":"IF(KSP!B18=\"\",\"\",KSP!D18)","v":""},{"$f":"IF(KSP!B18=\"\",\"\",KSP!E18)","v":""},""]
[{"$f":"IF(WPP!B19=\"\",\"\",WPP!C19)","v":""},{"$f":"IF(WPP!B19=\"\",\"\",WPP!D19)","v":""},{"$f":"IF(WPP!B19=\"\",\"\",WPP!E19)","v":""},"",null,{"$f":"IF(WPP!G19=\"\",\"\",WPP!H19)","v":""},{"$f":"IF(WPP!G19=\"\",\"\",WPP!I19)","v":""},{"$f":"IF(WPP!G19=\"\",\"\",WPP!J19)","v":""},"",null,{"$f":"IF(KSP!B19=\"\",\"\",KSP!C19)","v":""},{"$f":"IF(KSP!B19=\"\",\"\",KSP!D19)","v":""},{"$f":"IF(KSP!B19=\"\",\"\",KSP!E19)","v":""},""]
[{"$f":"IF(WPP!B20=\"\",\"\",WPP!C20)","v":""},{"$f":"IF(WPP!B20=\"\",\"\",WPP!D20)","v":""},{"$f":"IF(WPP!B20=\"\",\"\",WPP!E20)","v":""},"",null,{"$f":"IF(WPP!G20=\"\",\"\",WPP!H20)","v":""},{"$f":"IF(WPP!G20=\"\",\"\",WPP!I20)","v":""},{"$f":"IF(WPP!G20=\"\",\"\",WPP!J20)","v":""},"",null,{"$f":"IF(KSP!B20=\"\",\"\",KSP!C20)","v":""},{"$f":"IF(KSP!B20=\"\",\"\",KSP!D20)","v":""},{"$f":"IF(KSP!B20=\"\",\"\",KSP!E20)","v":""},""]
[{"$f":"IF(WPP!B21=\"\",\"\",WPP!C21)","v":""},{"$f":"IF(WPP!B21=\"\",\"\",WPP!D21)","v":""},{"$f":"IF(WPP!B21=\"\",\"\",WPP!E21)","v":""},"",null,{"$f":"IF(WPP!G21=\"\",\"\",WPP!H21)","v":""},{"$f":"IF(WPP!G21=\"\",\"\",WPP!I21)","v":""},{"$f":"IF(WPP!G21=\"\",\"\",WPP!J21)","v":""},"",null,{"$f":"IF(KSP!B21=\"\",\"\",KSP!C21)","v":""},{"$f":"IF(KSP!B21=\"\",\"\",KSP!D21)","v":""},{"$f":"IF(KSP!B21=\"\",\"\",KSP!E21)","v":""},""]
[{"$f":"IF(WPP!B22=\"\",\"\",WPP!C22)","v":""},{"$f":"IF(WPP!B22=\"\",\"\",WPP!D22)","v":""},{"$f":"IF(WPP!B22=\"\",\"\",WPP!E22)","v":""},"",null,{"$f":"IF(WPP!G22=\"\",\"\",WPP!H22)","v":""},{"$f":"IF(WPP!G22=\"\",\"\",WPP!I22)","v":""},{"$f":"IF(WPP!G22=\"\",\"\",WPP!J22)","v":""},"",null,{"$f":"IF(KSP!B22=\"\",\"\",KSP!C22)","v":""},{"$f":"IF(KSP!B22=\"\",\"\",KSP!D22)","v":""},{"$f":"IF(KSP!B22=\"\",\"\",KSP!E22)","v":""},""]
[{"$f":"IF(WPP!B23=\"\",\"\",WPP!C23)","v":""},{"$f":"IF(WPP!B23=\"\",\"\",WPP!D23)","v":""},{"$f":"IF(WPP!B23=\"\",\"\",WPP!E23)","v":""},"",null,{"$f":"IF(WPP!G23=\"\",\"\",WPP!H23)","v":""},{"$f":"IF(WPP!G23=\"\",\"\",WPP!I23)","v":""},{"$f":"IF(WPP!G23=\"\",\"\",WPP!J23)","v":""},"",null,{"$f":"IF(KSP!B23=\"\",\"\",KSP!C23)","v":""},{"$f":"IF(KSP!B23=\"\",\"\",KSP!D23)","v":""},{"$f":"IF(KSP!B23=\"\",\"\",KSP!E23)","v":""},""]
[{"$f":"IF(WPP!B24=\"\",\"\",WPP!C24)","v":""},{"$f":"IF(WPP!B24=\"\",\"\",WPP!D24)","v":""},{"$f":"IF(WPP!B24=\"\",\"\",WPP!E24)","v":""},"",null,{"$f":"IF(WPP!G24=\"\",\"\",WPP!H24)","v":""},{"$f":"IF(WPP!G24=\"\",\"\",WPP!I24)","v":""},{"$f":"IF(WPP!G24=\"\",\"\",WPP!J24)","v":""},"",null,{"$f":"IF(KSP!B24=\"\",\"\",KSP!C24)","v":""},{"$f":"IF(KSP!B24=\"\",\"\",KSP!D24)","v":""},{"$f":"IF(KSP!B24=\"\",\"\",KSP!E24)","v":""},""]
[{"$f":"IF(WPP!B25=\"\",\"\",WPP!C25)","v":""},{"$f":"IF(WPP!B25=\"\",\"\",WPP!D25)","v":""},{"$f":"IF(WPP!B25=\"\",\"\",WPP!E25)","v":""},"",null,{"$f":"IF(WPP!G25=\"\",\"\",WPP!H25)","v":""},{"$f":"IF(WPP!G25=\"\",\"\",WPP!I25)","v":""},{"$f":"IF(WPP!G25=\"\",\"\",WPP!J25)","v":""},"",null,{"$f":"IF(KSP!B25=\"\",\"\",KSP!C25)","v":""},{"$f":"IF(KSP!B25=\"\",\"\",KSP!D25)","v":""},{"$f":"IF(KSP!B25=\"\",\"\",KSP!E25)","v":""},""]
[{"$f":"IF(WPP!B26=\"\",\"\",WPP!C26)","v":""},{"$f":"IF(WPP!B26=\"\",\"\",WPP!D26)","v":""},{"$f":"IF(WPP!B26=\"\",\"\",WPP!E26)","v":""},"",null,{"$f":"IF(WPP!G26=\"\",\"\",WPP!H26)","v":""},{"$f":"IF(WPP!G26=\"\",\"\",WPP!I26)","v":""},{"$f":"IF(WPP!G26=\"\",\"\",WPP!J26)","v":""},"",null,{"$f":"IF(KSP!B26=\"\",\"\",KSP!C26)","v":""},{"$f":"IF(KSP!B26=\"\",\"\",KSP!D26)","v":""},{"$f":"IF(KSP!B26=\"\",\"\",KSP!E26)","v":""},""]
[{"$f":"IF(WPP!B27=\"\",\"\",WPP!C27)","v":""},{"$f":"IF(WPP!B27=\"\",\"\",WPP!D27)","v":""},{"$f":"IF(WPP!B27=\"\",\"\",WPP!E27)","v":""},"",null,{"$f":"IF(WPP!G27=\"\",\"\",WPP!H27)","v":""},{"$f":"IF(WPP!G27=\"\",\"\",WPP!I27)","v":""},{"$f":"IF(WPP!G27=\"\",\"\",WPP!J27)","v":""},"",null,{"$f":"IF(KSP!B27=\"\",\"\",KSP!C27)","v":""},{"$f":"IF(KSP!B27=\"\",\"\",KSP!D27)","v":""},{"$f":"IF(KSP!B27=\"\",\"\",KSP!E27)","v":""},""]
["Schülerpokal (LG)",null,null,null,null,"Schimmelpfennigpokal (KK)"]
["Vor- und Nachname:","Ringe:","schlechtester\nEinzelschuss","Würde bekommen:",null,"Vor- und Nachname:","Ringe:","schlechtester\nEinzelschuss","Würde bekommen:"]
[{"$f":"IF(KSP!G3=\"\",\"Keine Teilnahme\",KSP!H3)","v":"Keine Teilnahme"},{"$f":"IF(KSP!G3=\"\",\"\",KSP!I3)","v":""},{"$f":"IF(KSP!G3=\"\",\"\",KSP!J3)","v":""},{"$f":"IF(B31=\"\",\"\",IF(B31>=88,\"Halsbandorden\",IF(B31>=85,\"Plakette\",IF(B31>=82,\"2. Goldene Eichel\",IF(B31>=81,\"1. Goldene Eichel\",IF(B31>=80,\"Goldene Schnur\",IF(B31>=75,\"2. Silberne Eichel\",IF(B31>=73,\"1. Silberne Eichel\",IF(B31>=71,\"Silberne Schnur\",IF(B31>=68,\"2. Grüne Eichel\",IF(B31>=65,\"1. Grüne Eichel\",IF(B31>=63,\"Grüne Schnur\",\"gibt NIX :-(\"))))))))))))","v":""},null,{"$f":"IF(FSP!B3=\"\",\"Keine Teilnahme\",FSP!C3)","v":"Keine Teilnahme"},{"$f":"IF(FSP!B3=\"\",\"\",FSP!D3)","v":""},{"$f":"IF(FSP!B3=\"\",\"\",FSP!E3)","v":""},{"$f":"IF(AND(G31=\"\",H31=\"\"),\"\",IF(AND(G31>=97,H31>=9),\"Halsbandorden\",IF(AND(G31>=95,H31>=9),\"Plakette\",IF(AND(G31>=93,H31>=8),\"2. Goldene Eichel\",IF(AND(G31>=91,H31>=8),\"1. Goldene Eichel\",IF(AND(G31>=89,H31>=8),\"Goldene Schnur\",IF(AND(G31>=87,H31>=7),\"2. Silberne Eichel\",IF(AND(G31>=84,H31>=7),\"1. Silberne Eichel\",IF(AND(G31>=81,H31>=7),\"Silberne Schnur\",IF(AND(G31>=78,H31>=6),\"2. Grüne Eichel\",IF(AND(G31>=75,H31>=6),\"1. Grüne Eichel\",IF(AND(G31>=72,H31>=6),\"Grüne Schnur\",\"gibt NIX :-(\"))))))))))))","v":""}]
[{"$f":"IF(KSP!G4=\"\",\"\",KSP!H4)","v":""},{"$f":"IF(KSP!G4=\"\",\"\",KSP!I4)","v":""},{"$f":"IF(KSP!G4=\"\",\"\",KSP!J4)","v":""},{"$f":"IF(B32=\"\",\"\",IF(B32>=88,\"Halsbandorden\",IF(B32>=85,\"Plakette\",IF(B32>=82,\"2. Goldene Eichel\",IF(B32>=81,\"1. Goldene Eichel\",IF(B32>=80,\"Goldene Schnur\",IF(B32>=75,\"2. Silberne Eichel\",IF(B32>=73,\"1. Silberne Eichel\",IF(B32>=71,\"Silberne Schnur\",IF(B32>=68,\"2. Grüne Eichel\",IF(B32>=65,\"1. Grüne Eichel\",IF(B32>=63,\"Grüne Schnur\",\"gibt NIX :-(\"))))))))))))","v":""},null,{"$f":"IF(FSP!B4=\"\",\"\",FSP!C4)","v":""},{"$f":"IF(FSP!B4=\"\",\"\",FSP!D4)","v":""},{"$f":"IF(FSP!B4=\"\",\"\",FSP!E4)","v":""},{"$f":"IF(AND(G32=\"\",H32=\"\"),\"\",IF(AND(G32>=97,H32>=9),\"Halsbandorden\",IF(AND(G32>=95,H32>=9),\"Plakette\",IF(AND(G32>=93,H32>=8),\"2. Goldene Eichel\",IF(AND(G32>=91,H32>=8),\"1. Goldene Eichel\",IF(AND(G32>=89,H32>=8),\"Goldene Schnur\",IF(AND(G32>=87,H32>=7),\"2. Silberne Eichel\",IF(AND(G32>=84,H32>=7),\"1. Silberne Eichel\",IF(AND(G32>=81,H32>=7),\"Silberne Schnur\",IF(AND(G32>=78,H32>=6),\"2. Grüne Eichel\",IF(AND(G32>=75,H32>=6),\"1. Grüne Eichel\",IF(AND(G32>=72,H32>=6),\"Grüne Schnur\",\"gibt NIX :-(\"))))))))))))","v":""}]
[{"$f":"IF(KSP!G5=\"\",\"\",KSP!H5)","v":""},{"$f":"IF(KSP!G5=\"\",\"\",KSP!I5)","v":""},{"$f":"IF(KSP!G5=\"\",\"\",KSP!J5)","v":""},"",null,{"$f":"IF(FSP!B5=\"\",\"\",FSP!C5)","v":""},{"$f":"IF(FSP!B5=\"\",\"\",FSP!D5)","v":""},{"$f":"IF(FSP!B5=\"\",\"\",FSP!E5)","v":""},""]
[{"$f":"IF(KSP!G6=\"\",\"\",KSP!H6)","v":""},{"$f":"IF(KSP!G6=\"\",\"\",KSP!I6)","v":""},{"$f":"IF(KSP!G6=\"\",\"\",KSP!J6)","v":""},"",null,{"$f":"IF(FSP!B6=\"\",\"\",FSP!C6)","v":""},{"$f":"IF(FSP!B6=\"\",\"\",FSP!D6)","v":""},{"$f":"IF(FSP!B6=\"\",\"\",FSP!E6)","v":""},""]
[{"$f":"IF(KSP!G7=\"\",\"\",KSP!H7)","v":""},{"$f":"IF(KSP!G7=\"\",\"\",KSP!I7)","v":""},{"$f":"IF(KSP!G7=\"\",\"\",KSP!J7)","v":""},"",null,{"$f":"IF(FSP!B7=\"\",\"\",FSP!C7)","v":""},{"$f":"IF(FSP!B7=\"\",\"\",FSP!D7)","v":""},{"$f":"IF(FSP!B7=\"\",\"\",FSP!E7)","v":""},""]
[{"$f":"IF(KSP!G8=\"\",\"\",KSP!H8)","v":""},{"$f":"IF(KSP!G8=\"\",\"\",KSP!I8)","v":""},{"$f":"IF(KSP!G8=\"\",\"\",KSP!J8)","v":""},"",null,{"$f":"IF(FSP!B8=\"\",\"\",FSP!C8)","v":""},{"$f":"IF(FSP!B8=\"\",\"\",FSP!D8)","v":""},{"$f":"IF(FSP!B8=\"\",\"\",FSP!E8)","v":""},""]
[{"$f":"IF(KSP!G9=\"\",\"\",KSP!H9)","v":""},{"$f":"IF(KSP!G9=\"\",\"\",KSP!I9)","v":""},{"$f":"IF(KSP!G9=\"\",\"\",KSP!J9)","v":""},"",null,{"$f":"IF(FSP!B9=\"\",\"\",FSP!C9)","v":""},{"$f":"IF(FSP!B9=\"\",\"\",FSP!D9)","v":""},{"$f":"IF(FSP!B9=\"\",\"\",FSP!E9)","v":""},""]
[{"$f":"IF(KSP!G10=\"\",\"\",KSP!H10)","v":""},{"$f":"IF(KSP!G10=\"\",\"\",KSP!I10)","v":""},{"$f":"IF(KSP!G10=\"\",\"\",KSP!J10)","v":""},"",null,{"$f":"IF(FSP!B10=\"\",\"\",FSP!C10)","v":""},{"$f":"IF(FSP!B10=\"\",\"\",FSP!D10)","v":""},{"$f":"IF(FSP!B10=\"\",\"\",FSP!E10)","v":""},""]
[{"$f":"IF(KSP!G11=\"\",\"\",KSP!H11)","v":""},{"$f":"IF(KSP!G11=\"\",\"\",KSP!I11)","v":""},{"$f":"IF(KSP!G11=\"\",\"\",KSP!J11)","v":""},"",null,{"$f":"IF(FSP!B11=\"\",\"\",FSP!C11)","v":""},{"$f":"IF(FSP!B11=\"\",\"\",FSP!D11)","v":""},{"$f":"IF(FSP!B11=\"\",\"\",FSP!E11)","v":""},""]
[{"$f":"IF(KSP!G12=\"\",\"\",KSP!H12)","v":""},{"$f":"IF(KSP!G12=\"\",\"\",KSP!I12)","v":""},{"$f":"IF(KSP!G12=\"\",\"\",KSP!J12)","v":""},"",null,{"$f":"IF(FSP!B12=\"\",\"\",FSP!C12)","v":""},{"$f":"IF(FSP!B12=\"\",\"\",FSP!D12)","v":""},{"$f":"IF(FSP!B12=\"\",\"\",FSP!E12)","v":""},""]
[{"$f":"IF(KSP!G13=\"\",\"\",KSP!H13)","v":""},{"$f":"IF(KSP!G13=\"\",\"\",KSP!I13)","v":""},{"$f":"IF(KSP!G13=\"\",\"\",KSP!J13)","v":""},"",null,{"$f":"IF(FSP!B13=\"\",\"\",FSP!C13)","v":""},{"$f":"IF(FSP!B13=\"\",\"\",FSP!D13)","v":""},{"$f":"IF(FSP!B13=\"\",\"\",FSP!E13)","v":""},""]
[{"$f":"IF(KSP!G14=\"\",\"\",KSP!H14)","v":""},{"$f":"IF(KSP!G14=\"\",\"\",KSP!I14)","v":""},{"$f":"IF(KSP!G14=\"\",\"\",KSP!J14)","v":""},"",null,{"$f":"IF(FSP!B14=\"\",\"\",FSP!C14)","v":""},{"$f":"IF(FSP!B14=\"\",\"\",FSP!D14)","v":""},{"$f":"IF(FSP!B14=\"\",\"\",FSP!E14)","v":""},""]
[{"$f":"IF(KSP!G15=\"\",\"\",KSP!H15)","v":""},{"$f":"IF(KSP!G15=\"\",\"\",KSP!I15)","v":""},{"$f":"IF(KSP!G15=\"\",\"\",KSP!J15)","v":""},"",null,{"$f":"IF(FSP!B15=\"\",\"\",FSP!C15)","v":""},{"$f":"IF(FSP!B15=\"\",\"\",FSP!D15)","v":""},{"$f":"IF(FSP!B15=\"\",\"\",FSP!E15)","v":""},""]
[{"$f":"IF(KSP!G16=\"\",\"\",KSP!H16)","v":""},{"$f":"IF(KSP!G16=\"\",\"\",KSP!I16)","v":""},{"$f":"IF(KSP!G16=\"\",\"\",KSP!J16)","v":""},"",null,{"$f":"IF(FSP!B16=\"\",\"\",FSP!C16)","v":""},{"$f":"IF(FSP!B16=\"\",\"\",FSP!D16)","v":""},{"$f":"IF(FSP!B16=\"\",\"\",FSP!E16)","v":""},""]
[{"$f":"IF(KSP!G17=\"\",\"\",KSP!H17)","v":""},{"$f":"IF(KSP!G17=\"\",\"\",KSP!I17)","v":""},{"$f":"IF(KSP!G17=\"\",\"\",KSP!J17)","v":""},"",null,{"$f":"IF(FSP!B17=\"\",\"\",FSP!C17)","v":""},{"$f":"IF(FSP!B17=\"\",\"\",FSP!D17)","v":""},{"$f":"IF(FSP!B17=\"\",\"\",FSP!E17)","v":""},""]
[{"$f":"IF(KSP!G18=\"\",\"\",KSP!H18)","v":""},{"$f":"IF(KSP!G18=\"\",\"\",KSP!I18)","v":""},{"$f":"IF(KSP!G18=\"\",\"\",KSP!J18)","v":""},"",null,{"$f":"IF(FSP!B18=\"\",\"\",FSP!C18)","v":""},{"$f":"IF(FSP!B18=\"\",\"\",FSP!D18)","v":""},{"$f":"IF(FSP!B18=\"\",\"\",FSP!E18)","v":""},""]
[{"$f":"IF(KSP!G19=\"\",\"\",KSP!H19)","v":""},{"$f":"IF(KSP!G19=\"\",\"\",KSP!I19)","v":""},{"$f":"IF(KSP!G19=\"\",\"\",KSP!J19)","v":""},"",null,{"$f":"IF(FSP!B19=\"\",\"\",FSP!C19)","v":""},{"$f":"IF(FSP!B19=\"\",\"\",FSP!D19)","v":""},{"$f":"IF(FSP!B19=\"\",\"\",FSP!E19)","v":""},""]
[{"$f":"IF(KSP!G20=\"\",\"\",KSP!H20)","v":""},{"$f":"IF(KSP!G20=\"\",\"\",KSP!I20)","v":""},{"$f":"IF(KSP!G20=\"\",\"\",KSP!J20)","v":""},"",null,{"$f":"IF(FSP!B20=\"\",\"\",FSP!C20)","v":""},{"$f":"IF(FSP!B20=\"\",\"\",FSP!D20)","v":""},{"$f":"IF(FSP!B20=\"\",\"\",FSP!E20)","v":""},""]
[{"$f":"IF(KSP!G21=\"\",\"\",KSP!H21)","v":""},{"$f":"IF(KSP!G21=\"\",\"\",KSP!I21)","v":""},{"$f":"IF(KSP!G21=\"\",\"\",KSP!J21)","v":""},"",null,{"$f":"IF(FSP!B21=\"\",\"\",FSP!C21)","v":""},{"$f":"IF(FSP!B21=\"\",\"\",FSP!D21)","v":""},{"$f":"IF(FSP!B21=\"\",\"\",FSP!E21)","v":""},""]
[{"$f":"IF(KSP!G22=\"\",\"\",KSP!H22)","v":""},{"$f":"IF(KSP!G22=\"\",\"\",KSP!I22)","v":""},{"$f":"IF(KSP!G22=\"\",\"\",KSP!J22)","v":""},"",null,{"$f":"IF(FSP!B22=\"\",\"\",FSP!C22)","v":""},{"$f":"IF(FSP!B22=\"\",\"\",FSP!D22)","v":""},{"$f":"IF(FSP!B22=\"\",\"\",FSP!E22)","v":""},""]
[{"$f":"IF(KSP!G23=\"\",\"\",KSP!H23)","v":""},{"$f":"IF(KSP!G23=\"\",\"\",KSP!I23)","v":""},{"$f":"IF(KSP!G23=\"\",\"\",KSP!J23)","v":""},"",null,{"$f":"IF(FSP!B23=\"\",\"\",FSP!C23)","v":""},{"$f":"IF(FSP!B23=\"\",\"\",FSP!D23)","v":""},{"$f":"IF(FSP!B23=\"\",\"\",FSP!E23)","v":""},""]
[{"$f":"IF(KSP!G24=\"\",\"\",KSP!H24)","v":""},{"$f":"IF(KSP!G24=\"\",\"\",KSP!I24)","v":""},{"$f":"IF(KSP!G24=\"\",\"\",KSP!J24)","v":""},"",null,{"$f":"IF(FSP!B24=\"\",\"\",FSP!C24)","v":""},{"$f":"IF(FSP!B24=\"\",\"\",FSP!D24)","v":""},{"$f":"IF(FSP!B24=\"\",\"\",FSP!E24)","v":""},""]
[{"$f":"IF(KSP!G25=\"\",\"\",KSP!H25)","v":""},{"$f":"IF(KSP!G25=\"\",\"\",KSP!I25)","v":""},{"$f":"IF(KSP!G25=\"\",\"\",KSP!J25)","v":""},"",null,{"$f":"IF(FSP!B25=\"\",\"\",FSP!C25)","v":""},{"$f":"IF(FSP!B25=\"\",\"\",FSP!D25)","v":""},{"$f":"IF(FSP!B25=\"\",\"\",FSP!E25)","v":""},""]
[{"$f":"IF(KSP!G26=\"\",\"\",KSP!H26)","v":""},{"$f":"IF(KSP!G26=\"\",\"\",KSP!I26)","v":""},{"$f":"IF(KSP!G26=\"\",\"\",KSP!J26)","v":""},"",null,{"$f":"IF(FSP!B26=\"\",\"\",FSP!C26)","v":""},{"$f":"IF(FSP!B26=\"\",\"\",FSP!D26)","v":""},{"$f":"IF(FSP!B26=\"\",\"\",FSP!E26)","v":""},""]
[{"$f":"IF(KSP!G27=\"\",\"\",KSP!H27)","v":""},{"$f":"IF(KSP!G27=\"\",\"\",KSP!I27)","v":""},{"$f":"IF(KSP!G27=\"\",\"\",KSP!J27)","v":""},"",null,{"$f":"IF(FSP!B27=\"\",\"\",FSP!C27)","v":""},{"$f":"IF(FSP!B27=\"\",\"\",FSP!D27)","v":""},{"$f":"IF(FSP!B27=\"\",\"\",FSP!E27)","v":""},""]

{"sheet":"Info","index":13,"n_rows":1,"n_cols":1,"rows_kept":1,"cut":false,"hidden":false,"merged":[[0,0,3,8]]}
["Informationen zum \nSchießbetrieb beim Abschießen"]

{"sheet":"Kasse","index":14,"n_rows":25,"n_cols":4,"rows_kept":25,"cut":false,"hidden":false,"merged":[[0,0,0,3],[1,1,1,3]]}
["Kassen-/ und Verkaufsübersicht"]
[null,{"$f":"HM!E5","v":"Abschießen 2018"}]
[null,"gesamt Einnahmen Abschießen:",{"$f":"HM!D218","v":0},"Anzahl\nTeilnehmer"]
[null,"Einnahmen Preisschießen KK:",{"$f":"HM!D214","v":0},{"$f":"COUNTA(HM!B10:B209)","v":0}]
[null,"Einnahmen Preisschießen LG:",{"$f":"HM!D215","v":0}]
[null,"Einnahmen Sauenschießen:",{"$f":"(HM!P211*HM!D251)+(HM!Q211*HM!D252)","v":0}]
[null,"Einnahmen Glückspreisschießen:",{"$f":"HM!R211*HM!D253","v":0}]
[null,"Einnahmen Munition:",{"$f":"HM!D213","v":0}]
[]
[]
[null,"gelöste Scheiben:","gelöst:","Einnahmen:"]
[null,"Munition \"RWS\"",{"$f":"SUM(HM!D211:E211)","v":0},{"$f":"C8","v":0}]
[null,"Wittkowskipokal",{"$f":"HM!F211","v":0},{"$f":"C13*HM!D238","v":0}]
[null,"Peperpokal",{"$f":"HM!G211","v":0},{"$f":"C14*HM!D239","v":0}]
[null,"Königspokal (Jugend bis 18 Jahre)",{"$f":"HM!H211","v":0},{"$f":"C15*HM!D240","v":0}]
[null,"Schülerpokal (bis 14 Jahre) = Frei",{"$f":"HM!I211","v":0},"Frei"]
[null,"Freihandpokal (ab 16 Jahre)",{"$f":"HM!J211","v":0},{"$f":"C17*HM!D242","v":0}]
[null,"Schimmelpfennigpokal (16 bis 21 Jahre)",{"$f":"HM!K211","v":0},{"$f":"C18*HM!D243","v":0}]
[null,"Luftpistole",{"$f":"HM!L211","v":0},{"$f":"C19*HM!D244","v":0}]
[null,"Preisschießen KK",{"$f":"HM!M211","v":0},{"$f":"C20*HM!D247","v":0}]
[null,"Preisschießen KK (nachgelöst)",{"$f":"HM!N211","v":0},{"$f":"C21*HM!D248","v":0}]
[null,"Preisschießen LG bis 18 Jahre (Satzweise)",{"$f":"HM!O211","v":0},{"$f":"C22*HM!D249","v":0}]
[null,"Sauenschießen",{"$f":"HM!P211","v":0},{"$f":"C23*HM!D251","v":0}]
[null,"Sauenschießen (nachgelöst)",{"$f":"HM!Q211","v":0},{"$f":"C24*HM!D252","v":0}]
[null,"Glückspreisschießen (ohne Limit)",{"$f":"HM!R211","v":0},{"$f":"C25*HM!D253","v":0}]