{"text_format":"1","workbook":"xlsx","n_sheets":17,"sheets":["HM","JTP","JSP","CFP","DWP","ALP","PS","LP","BPBPS","SSGP","Sammler","D","Ergebnisse","Ergebnisse Preis","Schnüre","Info","Kasse"],"not_rendered":{"charts":0,"images":44,"macros":1,"external_links":0,"defined_names":13,"comments":0,"pivot_tables":0},"unopened":[],"bounds":{"document_bytes":16777216,"sheet_cells":100000,"rows_first":2000,"rows_last":500,"rows_between":2000,"halvings":0,"cell_chars":16384,"cell_head_chars":4096},"cells_cut":0,"cells_raw":0,"read":"whole","date_system":"1900"}

{"sheet":"HM","index":0,"n_rows":256,"n_cols":22,"rows_kept":256,"cut":false,"hidden":false,"merged":[[250,3,250,4],[215,5,215,6],[255,3,255,4],[217,3,217,6],[214,3,214,4],[214,5,214,6],[212,3,212,4],[213,3,213,4],[212,5,212,6],[213,5,213,6],[256,3,256,4],[216,3,216,4],[241,3,241,4],[242,3,242,4],[249,3,249,4],[243,3,243,4],[244,3,244,4],[245,3,245,4],[252,3,252,4],[253,3,253,4],[254,3,254,4],[251,3,251,4],[0,0,0,1],[247,3,247,4],[248,3,248,4],[4,4,6,14],[211,3,211,4],[235,3,235,4],[236,3,236,4],[237,3,237,4],[238,3,238,4],[246,3,246,4],[239,3,239,4],[240,3,240,4],[233,1,233,4],[215,3,215,4],[216,5,216,6],[211,6,211,7]]}
["© 2010 - Rolf Marquardt"]
[]
[]
[]
[null,null,null,null,{"$f":"CONCATENATE(\"Anschießen\",\" \",TEXT(TODAY(),\"JJJJ\"))","v":"Anschießen 2018"}]
[]
[]
[]
["Lfd.\nNr.:","Vor- und Nachname:",null,"Munition \"RWS\"","Munition \"2. Wahl\"","Jubiläumspokal  (ab 21 Jahre)","Culemannpokal KK  (Jugend 16 bis 20 Jahre)","Schülerpokal   (bis 14 Jahre) = Frei","Jugendpokal  (15 bis 20 Jahre LG - Freihand)","Freihandpokal   (ab 16 Jahre)","Damenpokal  (LG - Freihand)","Trudelpokal  (Damen ab 21 Jahre)","Auflagepokal  (LG alle ab 21 Jahre)","Bundesorden  (ab 21 Jahre)","Luftpistole","Preisschießen KK","Preisschießen KK  (nachgelöst)","Preisschießen LG   bis 18 Jahre (Satzweise)","Sauenschießen  (Freihand - ab 12 Jahre)","Sauenschießen  (nachgelöst)","Glückspreisschießen  (ohne Limit)","    Summe"]
[1,null,null,null,null,null,null,null,null,null,null,null,null,null,null,null,null,null,null,null,null,{"$f":"IF(B10=\"\",\"\",SUM(D10*$D$236)+SUM(E10*$D$237)+SUM(F10*$D$238)+SUM(G10*$D$243)+SUM(H10*$D$241)+SUM(I10*$D$240)+SUM(J10*$D$242)+SUM(K10*$D$254)+SUM(L10*$D$239)+SUM(M10*$D$255)+SUM(N10*$D$256)+SUM(O10*$D$244)+SUM(P10*$D$247)+SUM(Q10*$D$248)+SUM(R10*$D$249)+SUM(S10*$D$251)+SUM(T10*$D$252)+SUM(U10*$D$253))","v":""}]
[2,null,null,null,null,null,null,null,null,null,null,null,null,null,null,null,null,null,null,null,null,""]
[3,null,null,null,null,null,null,null,null,null,null,null,null,null,null,null,null,null,null,null,null,""]
[4,null,null,null,null,null,null,null,null,null,null,null,null,null,null,null,null,null,null,null,null,""]
[5,null,null,null,null,null,null,null,null,null,null,null,null,null,null,null,null,null,null,null,null,""]
[6,null,null,null,null,null,null,null,null,null,null,null,null,null,null,null,null,null,null,null,null,""]
[7,null,null,null,null,null,null,null,null,null,null,null,null,null,null,null,null,null,null,null,null,""]
[8,null,null,null,null,null,null,null,null,null,null,null,null,null,null,null,null,null,null,null,null,""]
[9,null,null,null,null,null,null,null,null,null,null,null,null,null,null,null,null,null,null,null,null,""]
[10,null,null,null,null,null,null,null,null,null,null,null,null,null,null,null,null,null,null,null,null,""]
[11,null,null,null,null,null,null,null,null,null,null,null,null,null,null,null,null,null,null,null,null,""]
[12,null,null,null,null,null,null,null,null,null,null,null,null,null,null,null,null,null,null,null,null,""]
[13,null,null,null,null,null,null,null,null,null,null,null,null,null,null,null,null,null,null,null,null,""]
[14,null,null,null,null,null,null,null,null,null,null,null,null,null,null,null,null,null,null,null,null,""]
[15,null,null,null,null,null,null,null,null,null,null,null,null,null,null,null,null,null,null,null,null,""]
[16,null,null,null,null,null,null,null,null,null,null,null,null,null,null,null,null,null,null,null,null,""]
[17,null,null,null,null,null,null,null,null,null,null,null,null,null,null,null,null,null,null,null,null,""]
[18,null,null,null,null,null,null,null,null,null,null,null,null,null,null,null,null,null,null,null,null,""]
[19,null,null,null,null,null,null,null,null,null,null,null,null,null,null,null,null,null,null,null,null,""]
[20,null,null,null,null,null,null,null,null,null,null,null,null,null,null,null,null,null,null,null,null,""]
[21,null,null,null,null,null,null,null,null,null,null,null,null,null,null,null,null,null,null,null,null,""]
[22,null,null,null,null,null,null,null,null,null,null,null,null,null,null,null,null,null,null,null,null,""]
[23,null,null,null,null,null,null,null,null,null,null,null,null,null,null,null,null,null,null,null,null,""]
[24,null,null,null,null,null,null,null,null,null,null,null,null,null,null,null,null,null,null,null,null,""]
[25,null,null,null,null,null,null,null,null,null,null,null,null,null,null,null,null,null,null,null,null,""]
[26,null,null,null,null,null,null,null,null,null,null,null,null,null,null,null,null,null,null,null,null,""]
[27,null,null,null,null,null,null,null,null,null,null,null,null,null,null,null,null,null,null,null,null,""]
[28,null,null,null,null,null,null,null,null,null,null,null,null,null,null,null,null,null,null,null,null,""]
[29,null,null,null,null,null,null,null,null,null,null,null,null,null,null,null,null,null,null,null,null,""]
[30,null,null,null,null,null,null,null,null,null,null,null,null,null,null,null,null,null,null,null,null,""]
[31,null,null,null,null,null,null,null,null,null,null,null,null,null,null,null,null,null,null,null,null,""]
[32,null,null,null,null,null,null,null,null,null,null,null,null,null,null,null,null,null,null,null,null,""]
[33,null,null,null,null,null,null,null,null,null,null,null,null,null,null,null,null,null,null,null,null,""]
[34,null,null,null,null,null,null,null,null,null,null,null,null,null,null,null,null,null,null,null,null,""]
[35,null,null,null,null,null,null,null,null,null,null,null,null,null,null,null,null,null,null,null,null,""]
[36,null,null,null,null,null,null,null,null,null,null,null,null,null,null,null,null,null,null,null,null,""]
[37,null,null,null,null,null,null,null,null,null,null,null,null,null,null,null,null,null,null,null,null,""]
[38,null,null,null,null,null,null,null,null,null,null,null,null,null,null,null,null,null,null,null,null,""]
[39,null,null,null,null,null,null,null,null,null,null,null,null,null,null,null,null,null,null,null,null,""]
[40,null,null,null,null,null,null,null,null,null,null,null,null,null,null,null,null,null,null,null,null,""]
[41,null,null,null,null,null,null,null,null,null,null,null,null,null,null,null,null,null,null,null,null,""]
[42,null,null,null,null,null,null,null,null,null,null,null,null,null,null,null,null,null,null,null,null,""]
[43,null,null,null,null,null,null,null,null,null,null,null,null,null,null,null,null,null,null,null,null,""]
[44,null,null,null,null,null,null,null,null,null,null,null,null,null,null,null,null,null,null,null,null,""]
[45,null,null,null,null,null,null,null,null,null,null,null,null,null,null,null,null,null,null,null,null,""]
[46,null,null,null,null,null,null,null,null,null,null,null,null,null,null,null,null,null,null,null,null,""]
[47,null,null,null,null,null,null,null,null,null,null,null,null,null,null,null,null,null,null,null,null,""]
[48,null,null,null,null,null,null,null,null,null,null,null,null,null,null,null,null,null,null,null,null,""]
[49,null,null,null,null,null,null,null,null,null,null,null,null,null,null,null,null,null,null,null,null,""]
[50,null,null,null,null,null,null,null,null,null,null,null,null,null,null,null,null,null,null,null,null,""]
[51,null,null,null,null,null,null,null,null,null,null,null,null,null,null,null,null,null,null,null,null,""]
[52,null,null,null,null,null,null,null,null,null,null,null,null,null,null,null,null,null,null,null,null,""]
[53,null,null,null,null,null,null,null,null,null,null,null,null,null,null,null,null,null,null,null,null,""]
[54,null,null,null,null,null,null,null,null,null,null,null,null,null,null,null,null,null,null,null,null,""]
[55,null,null,null,null,null,null,null,null,null,null,null,null,null,null,null,null,null,null,null,null,""]
[56,null,null,null,null,null,null,null,null,null,null,null,null,null,null,null,null,null,null,null,null,""]
[57,null,null,null,null,null,null,null,null,null,null,null,null,null,null,null,null,null,null,null,null,""]
[58,null,null,null,null,null,null,null,null,null,null,null,null,null,null,null,null,null,null,null,null,""]
[59,null,null,null,null,null,null,null,null,null,null,null,null,null,null,null,null,null,null,null,null,""]
[60,null,null,null,null,null,null,null,null,null,null,null,null,null,null,null,null,null,null,null,null,""]
[61,null,null,null,null,null,null,null,null,null,null,null,null,null,null,null,null,null,null,null,null,""]
[62,null,null,null,null,null,null,null,null,null,null,null,null,null,null,null,null,null,null,null,null,""]
[63,null,null,null,null,null,null,null,null,null,null,null,null,null,null,null,null,null,null,null,null,""]
[64,null,null,null,null,null,null,null,null,null,null,null,null,null,null,null,null,null,null,null,null,""]
[65,null,null,null,null,null,null,null,null,null,null,null,null,null,null,null,null,null,null,null,null,{"$f":"IF(B74=\"\",\"\",SUM(D74*$D$236)+SUM(E74*$D$237)+SUM(F74*$D$238)+SUM(G74*$D$243)+SUM(H74*$D$241)+SUM(I74*$D$240)+SUM(J74*$D$242)+SUM(K74*$D$254)+SUM(L74*$D$239)+SUM(M74*$D$255)+SUM(N74*$D$256)+SUM(O74*$D$244)+SUM(P74*$D$247)+SUM(Q74*$D$248)+SUM(R74*$D$249)+SUM(S74*$D$251)+SUM(T74*$D$252)+SUM(U74*$D$253))","v":""}]
[66,null,null,null,null,null,null,null,null,null,null,null,null,null,null,null,null,null,null,null,null,""]
[67,null,null,null,null,null,null,null,null,null,null,null,null,null,null,null,null,null,null,null,null,""]
[68,null,null,null,null,null,null,null,null,null,null,null,null,null,null,null,null,null,null,null,null,""]
[69,null,null,null,null,null,null,null,null,null,null,null,null,null,null,null,null,null,null,null,null,""]
[70,null,null,null,null,null,null,null,null,null,null,null,null,null,null,null,null,null,null,null,null,""]
[71,null,null,null,null,null,null,null,null,null,null,null,null,null,null,null,null,null,null,null,null,""]
[72,null,null,null,null,null,null,null,null,null,null,null,null,null,null,null,null,null,null,null,null,""]
[73,null,null,null,null,null,null,null,null,null,null,null,null,null,null,null,null,null,null,null,null,""]
[74,null,null,null,null,null,null,null,null,null,null,null,null,null,null,null,null,null,null,null,null,""]
[75,null,null,null,null,null,null,null,null,null,null,null,null,null,null,null,null,null,null,null,null,""]
[76,null,null,null,null,null,null,null,null,null,null,null,null,null,null,null,null,null,null,null,null,""]
[77,null,null,null,null,null,null,null,null,null,null,null,null,null,null,null,null,null,null,null,null,""]
[78,null,null,null,null,null,null,null,null,null,null,null,null,null,null,null,null,null,null,null,null,""]
[79,null,null,null,null,null,null,null,null,null,null,null,null,null,null,null,null,null,null,null,null,""]
[80,null,null,null,null,null,null,null,null,null,null,null,null,null,null,null,null,null,null,null,null,""]
[81,null,null,null,null,null,null,null,null,null,null,null,null,null,null,null,null,null,null,null,null,""]
[82,null,null,null,null,null,null,null,null,null,null,null,null,null,null,null,null,null,null,null,null,""]
[83,null,null,null,null,null,null,null,null,null,null,null,null,null,null,null,null,null,null,null,null,""]
[84,null,null,null,null,null,null,null,null,null,null,null,null,null,null,null,null,null,null,null,null,""]
[85,null,null,null,null,null,null,null,null,null,null,null,null,null,null,null,null,null,null,null,null,""]
[86,null,null,null,null,null,null,null,null,null,null,null,null,null,null,null,null,null,null,null,null,""]
[87,null,null,null,null,null,null,null,null,null,null,null,null,null,null,null,null,null,null,null,null,""]
[88,null,null,null,null,null,null,null,null,null,null,null,null,null,null,null,null,null,null,null,null,""]
[89,null,null,null,null,null,null,null,null,null,null,null,null,null,null,null,null,null,null,null,null,""]
[90,null,null,null,null,null,null,null,null,null,null,null,null,null,null,null,null,null,null,null,null,""]
[91,null,null,null,null,null,null,null,null,null,null,null,null,null,null,null,null,null,null,null,null,""]
[92,null,null,null,null,null,null,null,null,null,null,null,null,null,null,null,null,null,null,null,null,""]
[93,null,null,null,null,null,null,null,null,null,null,null,null,null,null,null,null,null,null,null,null,""]
[94,null,null,null,null,null,null,null,null,null,null,null,null,null,null,null,null,null,null,null,null,""]
[95,null,null,null,null,null,null,null,null,null,null,null,null,null,null,null,null,null,null,null,null,""]
[96,null,null,null,null,null,null,null,null,null,null,null,null,null,null,null,null,null,null,null,null,""]
[97,null,null,null,null,null,null,null,null,null,null,null,null,null,null,null,null,null,null,null,null,""]
[98,null,null,null,null,null,null,null,null,null,null,null,null,null,null,null,null,null,null,null,null,""]
[99,null,null,null,null,null,null,null,null,null,null,null,null,null,null,null,null,null,null,null,null,""]
[100,null,null,null,null,null,null,null,null,null,null,null,null,null,null,null,null,null,null,null,null,""]
[101,null,null,null,null,null,null,null,null,null,null,null,null,null,null,null,null,null,null,null,null,""]
[102,null,null,null,null,null,null,null,null,null,null,null,null,null,null,null,null,null,null,null,null,""]
[103,null,null,null,null,null,null,null,null,null,null,null,null,null,null,null,null,null,null,null,null,""]
[104,null,null,null,null,null,null,null,null,null,null,null,null,null,null,null,null,null,null,null,null,""]
[105,null,null,null,null,null,null,null,null,null,null,null,null,null,null,null,null,null,null,null,null,""]
[106,null,null,null,null,null,null,null,null,null,null,null,null,null,null,null,null,null,null,null,null,""]
[107,null,null,null,null,null,null,null,null,null,null,null,null,null,null,null,null,null,null,null,null,""]
[108,null,null,null,null,null,null,null,null,null,null,null,null,null,null,null,null,null,null,null,null,""]
[109,null,null,null,null,null,null,null,null,null,null,null,null,null,null,null,null,null,null,null,null,""]
[110,null,null,null,null,null,null,null,null,null,null,null,null,null,null,null,null,null,null,null,null,""]
[111,null,null,null,null,null,null,null,null,null,null,null,null,null,null,null,null,null,null,null,null,""]
[112,null,null,null,null,null,null,null,null,null,null,null,null,null,null,null,null,null,null,null,null,""]
[113,null,null,null,null,null,null,null,null,null,null,null,null,null,null,null,null,null,null,null,null,""]
[114,null,null,null,null,null,null,null,null,null,null,null,null,null,null,null,null,null,null,null,null,""]
[115,null,null,null,null,null,null,null,null,null,null,null,null,null,null,null,null,null,null,null,null,""]
[116,null,null,null,null,null,null,null,null,null,null,null,null,null,null,null,null,null,null,null,null,""]
[117,null,null,null,null,null,null,null,null,null,null,null,null,null,null,null,null,null,null,null,null,""]
[118,null,null,null,null,null,null,null,null,null,null,null,null,null,null,null,null,null,null,null,null,""]
[119,null,null,null,null,null,null,null,null,null,null,null,null,null,null,null,null,null,null,null,null,""]
[120,null,null,null,null,null,null,null,null,null,null,null,null,null,null,null,null,null,null,null,null,""]
[121,null,null,null,null,null,null,null,null,null,null,null,null,null,null,null,null,null,null,null,null,""]
[122,null,null,null,null,null,null,null,null,null,null,null,null,null,null,null,null,null,null,null,null,""]
[123,null,null,null,null,null,null,null,null,null,null,null,null,null,null,null,null,null,null,null,null,""]
[124,null,null,null,null,null,null,null,null,null,null,null,null,null,null,null,null,null,null,null,null,""]
[125,null,null,null,null,null,null,null,null,null,null,null,null,null,null,null,null,null,null,null,null,""]
[126,null,null,null,null,null,null,null,null,null,null,null,null,null,null,null,null,null,null,null,null,""]
[127,null,null,null,null,null,null,null,null,null,null,null,null,null,null,null,null,null,null,null,null,""]
[128,null,null,null,null,null,null,null,null,null,null,null,null,null,null,null,null,null,null,null,null,""]
[129,null,null,null,null,null,null,null,null,null,null,null,null,null,null,null,null,null,null,null,null,{"$f":"IF(B138=\"\",\"\",SUM(D138*$D$236)+SUM(E138*$D$237)+SUM(F138*$D$238)+SUM(G138*$D$243)+SUM(H138*$D$241)+SUM(I138*$D$240)+SUM(J138*$D$242)+SUM(K138*$D$254)+SUM(L138*$D$239)+SUM(M138*$D$255)+SUM(N138*$D$256)+SUM(O138*$D$244)+SUM(P138*$D$247)+SUM(Q138*$D$248)+SUM(R138*$D$249)+SUM(S138*$D$251)+SUM(T138*$D$252)+SUM(U138*$D$253))","v":""}]
[130,null,null,null,null,null,null,null,null,null,null,null,null,null,null,null,null,null,null,null,null,""]
[131,null,null,null,null,null,null,null,null,null,null,null,null,null,null,null,null,null,null,null,null,""]
[132,null,null,null,null,null,null,null,null,null,null,null,null,null,null,null,null,null,null,null,null,""]
[133,null,null,null,null,null,null,null,null,null,null,null,null,null,null,null,null,null,null,null,null,""]
[134,null,null,null,null,null,null,null,null,null,null,null,null,null,null,null,null,null,null,null,null,""]
[135,null,null,null,null,null,null,null,null,null,null,null,null,null,null,null,null,null,null,null,null,""]
[136,null,null,null,null,null,null,null,null,null,null,null,null,null,null,null,null,null,null,null,null,""]
[137,null,null,null,null,null,null,null,null,null,null,null,null,null,null,null,null,null,null,null,null,""]
[138,null,null,null,null,null,null,null,null,null,null,null,null,null,null,null,null,null,null,null,null,""]
[139,null,null,null,null,null,null,null,null,null,null,null,null,null,null,null,null,null,null,null,null,""]
[140,null,null,null,null,null,null,null,null,null,null,null,null,null,null,null,null,null,null,null,null,""]
[141,null,null,null,null,null,null,null,null,null,null,null,null,null,null,null,null,null,null,null,null,""]
[142,null,null,null,null,null,null,null,null,null,null,null,null,null,null,null,null,null,null,null,null,""]
[143,null,null,null,null,null,null,null,null,null,null,null,null,null,null,null,null,null,null,null,null,""]
[144,null,null,null,null,null,null,null,null,null,null,null,null,null,null,null,null,null,null,null,null,""]
[145,null,null,null,null,null,null,null,null,null,null,null,null,null,null,null,null,null,null,null,null,""]
[146,null,null,null,null,null,null,null,null,null,null,null,null,null,null,null,null,null,null,null,null,""]
[147,null,null,null,null,null,null,null,null,null,null,null,null,null,null,null,null,null,null,null,null,""]
[148,null,null,null,null,null,null,null,null,null,null,null,null,null,null,null,null,null,null,null,null,""]
[149,null,null,null,null,null,null,null,null,null,null,null,null,null,null,null,null,null,null,null,null,""]
[150,null,null,null,null,null,null,null,null,null,null,null,null,null,null,null,null,null,null,null,null,""]
[151,null,null,null,null,null,null,null,null,null,null,null,null,null,null,null,null,null,null,null,null,""]
[152,null,null,null,null,null,null,null,null,null,null,null,null,null,null,null,null,null,null,null,null,""]
[153,null,null,null,null,null,null,null,null,null,null,null,null,null,null,null,null,null,null,null,null,""]
[154,null,null,null,null,null,null,null,null,null,null,null,null,null,null,null,null,null,null,null,null,""]
[155,null,null,null,null,null,null,null,null,null,null,null,null,null,null,null,null,null,null,null,null,""]
[156,null,null,null,null,null,null,null,null,null,null,null,null,null,null,null,null,null,null,null,null,""]
[157,null,null,null,null,null,null,null,null,null,null,null,null,null,null,null,null,null,null,null,null,""]
[158,null,null,null,null,null,null,null,null,null,null,null,null,null,null,null,null,null,null,null,null,""]
[159,null,null,null,null,null,null,null,null,null,null,null,null,null,null,null,null,null,null,null,null,""]
[160,null,null,null,null,null,null,null,null,null,null,null,null,null,null,null,null,null,null,null,null,""]
[161,null,null,null,null,null,null,null,null,null,null,null,null,null,null,null,null,null,null,null,null,""]
[162,null,null,null,null,null,null,null,null,null,null,null,null,null,null,null,null,null,null,null,null,""]
[163,null,null,null,null,null,null,null,null,null,null,null,null,null,null,null,null,null,null,null,null,""]
[164,null,null,null,null,null,null,null,null,null,null,null,null,null,null,null,null,null,null,null,null,""]
[165,null,null,null,null,null,null,null,null,null,null,null,null,null,null,null,null,null,null,null,null,""]
[166,null,null,null,null,null,null,null,null,null,null,null,null,null,null,null,null,null,null,null,null,""]
[167,null,null,null,null,null,null,null,null,null,null,null,null,null,null,null,null,null,null,null,null,""]
[168,null,null,null,null,null,null,null,null,null,null,null,null,null,null,null,null,null,null,null,null,""]
[169,null,null,null,null,null,null,null,null,null,null,null,null,null,null,null,null,null,null,null,null,""]
[170,null,null,null,null,null,null,null,null,null,null,null,null,null,null,null,null,null,null,null,null,""]
[171,null,null,null,null,null,null,null,null,null,null,null,null,null,null,null,null,null,null,null,null,""]
[172,null,null,null,null,null,null,null,null,null,null,null,null,null,null,null,null,null,null,null,null,""]
[173,null,null,null,null,null,null,null,null,null,null,null,null,null,null,null,null,null,null,null,null,""]
[174,null,null,null,null,null,null,null,null,null,null,null,null,null,null,null,null,null,null,null,null,""]
[175,null,null,null,null,null,null,null,null,null,null,null,null,null,null,null,null,null,null,null,null,""]
[176,null,null,null,null,null,null,null,null,null,null,null,null,null,null,null,null,null,null,null,null,""]
[177,null,null,null,null,null,null,null,null,null,null,null,null,null,null,null,null,null,null,null,null,""]
[178,null,null,null,null,null,null,null,null,null,null,null,null,null,null,null,null,null,null,null,null,""]
[179,null,null,null,null,null,null,null,null,null,null,null,null,null,null,null,null,null,null,null,null,""]
[180,null,null,null,null,null,null,null,null,null,null,null,null,null,null,null,null,null,null,null,null,""]
[181,null,null,null,null,null,null,null,null,null,null,null,null,null,null,null,null,null,null,null,null,""]
[182,null,null,null,null,null,null,null,null,null,null,null,null,null,null,null,null,null,null,null,null,""]
[183,null,null,null,null,null,null,null,null,null,null,null,null,null,null,null,null,null,null,null,null,""]
[184,null,null,null,null,null,null,null,null,null,null,null,null,null,null,null,null,null,null,null,null,""]
[185,null,null,null,null,null,null,null,null,null,null,null,null,null,null,null,null,null,null,null,null,""]
[186,null,null,null,null,null,null,null,null,null,null,null,null,null,null,null,null,null,null,null,null,""]
[187,null,null,null,null,null,null,null,null,null,null,null,null,null,null,null,null,null,null,null,null,""]
[188,null,null,null,null,null,null,null,null,null,null,null,null,null,null,null,null,null,null,null,null,""]
[189,null,null,null,null,null,null,null,null,null,null,null,null,null,null,null,null,null,null,null,null,""]
[190,null,null,null,null,null,null,null,null,null,null,null,null,null,null,null,null,null,null,null,null,""]
[191,null,null,null,null,null,null,null,null,null,null,null,null,null,null,null,null,null,null,null,null,""]
[192,null,null,null,null,null,null,null,null,null,null,null,null,null,null,null,null,null,null,null,null,""]
[193,null,null,null,null,null,null,null,null,null,null,null,null,null,null,null,null,null,null,null,null,{"$f":"IF(B202=\"\",\"\",SUM(D202*$D$236)+SUM(E202*$D$237)+SUM(F202*$D$238)+SUM(G202*$D$243)+SUM(H202*$D$241)+SUM(I202*$D$240)+SUM(J202*$D$242)+SUM(K202*$D$254)+SUM(L202*$D$239)+SUM(M202*$D$255)+SUM(N202*$D$256)+SUM(O202*$D$244)+SUM(P202*$D$247)+SUM(Q202*$D$248)+SUM(R202*$D$249)+SUM(S202*$D$251)+SUM(T202*$D$252)+SUM(U202*$D$253))","v":""}]
[194,null,null,null,null,null,null,null,null,null,null,null,null,null,null,null,null,null,null,null,null,""]
[195,null,null,null,null,null,null,null,null,null,null,null,null,null,null,null,null,null,null,null,null,""]
[196,null,null,null,null,null,null,null,null,null,null,null,null,null,null,null,null,null,null,null,null,""]
[197,null,null,null,null,null,null,null,null,null,null,null,null,null,null,null,null,null,null,null,null,""]
[198,null,null,null,null,null,null,null,null,null,null,null,null,null,null,null,null,null,null,null,null,""]
[199,null,null,null,null,null,null,null,null,null,null,null,null,null,null,null,null,null,null,null,null,""]
[200,null,null,null,null,null,null,null,null,null,null,null,null,null,null,null,null,null,null,null,null,{"$f":"IF(B209=\"\",\"\",SUM(D209*$D$236)+SUM(E209*$D$237)+SUM(F209*$D$238)+SUM(G209*$D$243)+SUM(H209*$D$241)+SUM(I209*$D$240)+SUM(J209*$D$242)+SUM(K209*$D$254)+SUM(L209*$D$239)+SUM(M209*$D$255)+SUM(N209*$D$256)+SUM(O209*$D$244)+SUM(P209*$D$247)+SUM(Q209*$D$248)+SUM(R209*$D$249)+SUM(S209*$D$251)+SUM(T209*$D$252)+SUM(U209*$D$253))","v":""}]
[]
[null,"Summen:",null,{"$f":"SUM(D10:D209)","v":0},{"$f":"SUM(E10:E209)","v":0},0,0,0,0,0,0,0,0,0,0,0,0,0,0,0,{"$f":"SUM(U10:U209)","v":0},{"$f":"SUM(V10:V209)","v":0}]
[]
[null,"Einnahmen Munition",null,{"$f":"SUM(D211*$D$236)+SUM(E211*$D$237)","v":0},null,60]
[null,"Einnahmen Preisschießen KK",null,{"$f":"SUM(P211*$D$247)+SUM(Q211*$D$248)","v":0},null,{"$f":"D214*$F$213/100","v":0}]
[null,"Einnahmen Preisschießen LG",null,{"$f":"SUM(R211*$D$249)","v":0},null,{"$f":"D215*$F$213/100","v":0}]
[null,"Einnahmen Sauenschießen",null,{"$f":"SUM(S211*$D$251)+SUM(T211*$D$252)","v":0},null,{"$f":"D216*$F$213/100","v":0}]
[null,"Einnahmen Glückspreisschießen",null,{"$f":"SUM(U211*$D$253)","v":0},null,{"$f":"D217*$F$213/100","v":0}]
[null,"Einnahmen gesamt",null,{"$f":"SUM(V10:V209)","v":0}]
[]
[]
[]
[]
[]
[]
[]
[]
[]
[]
[]
[]
[]
[]
[]
[null,"Preise"]
[null,{"$f":"TODAY()","v":"2018-10-23"}]
[null,"Munition \"RWS\"",null,6]
[null,"Munition \"2. Wahl\"",null,6]
[null,"Jubiläumspokal",null,2]
[null,"Trudelpokal",null,2]
[null,"Jugendpokal",null,1.5]
[null,"Schülerpokal",null,0]
[null,"Freihandpokal",null,2]
[null,"Culemannpokal",null,2]
[null,"Luftpistole",null,2]
[]
[]
[null,"Preisschießen KK",null,8]
[null,"Preisschießen KK nachgelöst",null,1]
[null,"Preisschießen LG",null,3]
[]
[null,"Sauenschießen",null,5]
[null,"Sauenschießen nachgelöst",null,1]
[null,"Glückspreisschießen",null,1]
[null,"Damenpokal",null,2]
[null,"Auflagepokal",null,2]
[null,"Bundesorden",null,8]

{"sheet":"JTP","index":1,"n_rows":202,"n_cols":10,"rows_kept":202,"cut":false,"hidden":false,"merged":[[0,1,0,4],[0,6,0,9]]}
[null,"Jubiläumspokal\n(nur Schützen)",null,null,null,null,"Trudelpokal\n(nur Damen)"]
[null,"Lfd.\nNr.:","Vor- und Nachname:","Ringe:","schlechtester\nEinzelschuss",null,"Lfd.\nNr.:","Vor- und Nachname:","Ringe:","schlechtester\nEinzelschuss"]
[null,null,{"$f":"IF(B3=\"\",\"\",VLOOKUP(B3,HM!$A$10:$B$209,2))","v":""},null,null,1,null,{"$f":"IF(G3=\"\",\"\",VLOOKUP(G3,HM!$A$10:$B$209,2))","v":""}]
[null,null,{"$f":"IF(B4=\"\",\"\",VLOOKUP(B4,HM!$A$10:$B$209,2))","v":""},null,null,2,null,{"$f":"IF(G4=\"\",\"\",VLOOKUP(G4,HM!$A$10:$B$209,2))","v":""}]
[null,null,{"$f":"IF(B5=\"\",\"\",VLOOKUP(B5,HM!$A$10:$B$209,2))","v":""},null,null,3,null,{"$f":"IF(G5=\"\",\"\",VLOOKUP(G5,HM!$A$10:$B$209,2))","v":""}]
[null,null,{"$f":"IF(B6=\"\",\"\",VLOOKUP(B6,HM!$A$10:$B$209,2))","v":""},null,null,4,null,{"$f":"IF(G6=\"\",\"\",VLOOKUP(G6,HM!$A$10:$B$209,2))","v":""}]
[null,null,{"$f":"IF(B7=\"\",\"\",VLOOKUP(B7,HM!$A$10:$B$209,2))","v":""},null,null,5,null,{"$f":"IF(G7=\"\",\"\",VLOOKUP(G7,HM!$A$10:$B$209,2))","v":""}]
[null,null,{"$f":"IF(B8=\"\",\"\",VLOOKUP(B8,HM!$A$10:$B$209,2))","v":""},null,null,6,null,{"$f":"IF(G8=\"\",\"\",VLOOKUP(G8,HM!$A$10:$B$209,2))","v":""}]
[null,null,{"$f":"IF(B9=\"\",\"\",VLOOKUP(B9,HM!$A$10:$B$209,2))","v":""},null,null,7,null,{"$f":"IF(G9=\"\",\"\",VLOOKUP(G9,HM!$A$10:$B$209,2))","v":""}]
[null,null,{"$f":"IF(B10=\"\",\"\",VLOOKUP(B10,HM!$A$10:$B$209,2))","v":""},null,null,8,null,{"$f":"IF(G10=\"\",\"\",VLOOKUP(G10,HM!$A$10:$B$209,2))","v":""}]
[null,null,{"$f":"IF(B11=\"\",\"\",VLOOKUP(B11,HM!$A$10:$B$209,2))","v":""},null,null,9,null,{"$f":"IF(G11=\"\",\"\",VLOOKUP(G11,HM!$A$10:$B$209,2))","v":""}]
[null,null,{"$f":"IF(B12=\"\",\"\",VLOOKUP(B12,HM!$A$10:$B$209,2))","v":""},null,null,10,null,{"$f":"IF(G12=\"\",\"\",VLOOKUP(G12,HM!$A$10:$B$209,2))","v":""}]
[null,null,{"$f":"IF(B13=\"\",\"\",VLOOKUP(B13,HM!$A$10:$B$209,2))","v":""},null,null,11,null,{"$f":"IF(G13=\"\",\"\",VLOOKUP(G13,HM!$A$10:$B$209,2))","v":""}]
[null,null,{"$f":"IF(B14=\"\",\"\",VLOOKUP(B14,HM!$A$10:$B$209,2))","v":""},null,null,12,null,{"$f":"IF(G14=\"\",\"\",VLOOKUP(G14,HM!$A$10:$B$209,2))","v":""}]
[null,null,{"$f":"IF(B15=\"\",\"\",VLOOKUP(B15,HM!$A$10:$B$209,2))","v":""},null,null,13,null,{"$f":"IF(G15=\"\",\"\",VLOOKUP(G15,HM!$A$10:$B$209,2))","v":""}]
[null,null,{"$f":"IF(B16=\"\",\"\",VLOOKUP(B16,HM!$A$10:$B$209,2))","v":""},null,null,14,null,{"$f":"IF(G16=\"\",\"\",VLOOKUP(G16,HM!$A$10:$B$209,2))","v":""}]
[null,null,{"$f":"IF(B17=\"\",\"\",VLOOKUP(B17,HM!$A$10:$B$209,2))","v":""},null,null,15,null,{"$f":"IF(G17=\"\",\"\",VLOOKUP(G17,HM!$A$10:$B$209,2))","v":""}]
[null,null,{"$f":"IF(B18=\"\",\"\",VLOOKUP(B18,HM!$A$10:$B$209,2))","v":""},null,null,16,null,{"$f":"IF(G18=\"\",\"\",VLOOKUP(G18,HM!$A$10:$B$209,2))","v":""}]
[null,null,{"$f":"IF(B19=\"\",\"\",VLOOKUP(B19,HM!$A$10:$B$209,2))","v":""},null,null,17,null,{"$f":"IF(G19=\"\",\"\",VLOOKUP(G19,HM!$A$10:$B$209,2))","v":""}]
[null,null,{"$f":"IF(B20=\"\",\"\",VLOOKUP(B20,HM!$A$10:$B$209,2))","v":""},null,null,18,null,{"$f":"IF(G20=\"\",\"\",VLOOKUP(G20,HM!$A$10:$B$209,2))","v":""}]
[null,null,{"$f":"IF(B21=\"\",\"\",VLOOKUP(B21,HM!$A$10:$B$209,2))","v":""},null,null,19,null,{"$f":"IF(G21=\"\",\"\",VLOOKUP(G21,HM!$A$10:$B$209,2))","v":""}]
[null,null,{"$f":"IF(B22=\"\",\"\",VLOOKUP(B22,HM!$A$10:$B$209,2))","v":""},null,null,20,null,{"$f":"IF(G22=\"\",\"\",VLOOKUP(G22,HM!$A$10:$B$209,2))","v":""}]
[null,null,{"$f":"IF(B23=\"\",\"\",VLOOKUP(B23,HM!$A$10:$B$209,2))","v":""},null,null,21,null,{"$f":"IF(G23=\"\",\"\",VLOOKUP(G23,HM!$A$10:$B$209,2))","v":""}]
[null,null,{"$f":"IF(B24=\"\",\"\",VLOOKUP(B24,HM!$A$10:$B$209,2))","v":""},null,null,22,null,{"$f":"IF(G24=\"\",\"\",VLOOKUP(G24,HM!$A$10:$B$209,2))","v":""}]
[null,null,{"$f":"IF(B25=\"\",\"\",VLOOKUP(B25,HM!$A$10:$B$209,2))","v":""},null,null,23,null,{"$f":"IF(G25=\"\",\"\",VLOOKUP(G25,HM!$A$10:$B$209,2))","v":""}]
[null,null,{"$f":"IF(B26=\"\",\"\",VLOOKUP(B26,HM!$A$10:$B$209,2))","v":""},null,null,24,null,{"$f":"IF(G26=\"\",\"\",VLOOKUP(G26,HM!$A$10:$B$209,2))","v":""}]
[null,null,{"$f":"IF(B27=\"\",\"\",VLOOKUP(B27,HM!$A$10:$B$209,2))","v":""},null,null,25,null,{"$f":"IF(G27=\"\",\"\",VLOOKUP(G27,HM!$A$10:$B$209,2))","v":""}]
[null,null,{"$f":"IF(B28=\"\",\"\",VLOOKUP(B28,HM!$A$10:$B$209,2))","v":""},null,null,26,null,{"$f":"IF(G28=\"\",\"\",VLOOKUP(G28,HM!$A$10:$B$209,2))","v":""}]
[null,null,{"$f":"IF(B29=\"\",\"\",VLOOKUP(B29,HM!$A$10:$B$209,2))","v":""},null,null,27,null,{"$f":"IF(G29=\"\",\"\",VLOOKUP(G29,HM!$A$10:$B$209,2))","v":""}]
[null,null,{"$f":"IF(B30=\"\",\"\",VLOOKUP(B30,HM!$A$10:$B$209,2))","v":""},null,null,28,null,{"$f":"IF(G30=\"\",\"\",VLOOKUP(G30,HM!$A$10:$B$209,2))","v":""}]
[null,null,{"$f":"IF(B31=\"\",\"\",VLOOKUP(B31,HM!$A$10:$B$209,2))","v":""},null,null,29,null,{"$f":"IF(G31=\"\",\"\",VLOOKUP(G31,HM!$A$10:$B$209,2))","v":""}]
[null,null,{"$f":"IF(B32=\"\",\"\",VLOOKUP(B32,HM!$A$10:$B$209,2))","v":""},null,null,30,null,{"$f":"IF(G32=\"\",\"\",VLOOKUP(G32,HM!$A$10:$B$209,2))","v":""}]
[null,null,{"$f":"IF(B33=\"\",\"\",VLOOKUP(B33,HM!$A$10:$B$209,2))","v":""},null,null,31,null,{"$f":"IF(G33=\"\",\"\",VLOOKUP(G33,HM!$A$10:$B$209,2))","v":""}]
[null,null,{"$f":"IF(B34=\"\",\"\",VLOOKUP(B34,HM!$A$10:$B$209,2))","v":""},null,null,32,null,{"$f":"IF(G34=\"\",\"\",VLOOKUP(G34,HM!$A$10:$B$209,2))","v":""}]
[null,null,{"$f":"IF(B35=\"\",\"\",VLOOKUP(B35,HM!$A$10:$B$209,2))","v":""},null,null,33,null,{"$f":"IF(G35=\"\",\"\",VLOOKUP(G35,HM!$A$10:$B$209,2))","v":""}]
[null,null,{"$f":"IF(B36=\"\",\"\",VLOOKUP(B36,HM!$A$10:$B$209,2))","v":""},null,null,34,null,{"$f":"IF(G36=\"\",\"\",VLOOKUP(G36,HM!$A$10:$B$209,2))","v":""}]
[null,null,{"$f":"IF(B37=\"\",\"\",VLOOKUP(B37,HM!$A$10:$B$209,2))","v":""},null,null,35,null,{"$f":"IF(G37=\"\",\"\",VLOOKUP(G37,HM!$A$10:$B$209,2))","v":""}]
[null,null,{"$f":"IF(B38=\"\",\"\",VLOOKUP(B38,HM!$A$10:$B$209,2))","v":""},null,null,36,null,{"$f":"IF(G38=\"\",\"\",VLOOKUP(G38,HM!$A$10:$B$209,2))","v":""}]
[null,null,{"$f":"IF(B39=\"\",\"\",VLOOKUP(B39,HM!$A$10:$B$209,2))","v":""},null,null,37,null,{"$f":"IF(G39=\"\",\"\",VLOOKUP(G39,HM!$A$10:$B$209,2))","v":""}]
[null,null,{"$f":"IF(B40=\"\",\"\",VLOOKUP(B40,HM!$A$10:$B$209,2))","v":""},null,null,38,null,{"$f":"IF(G40=\"\",\"\",VLOOKUP(G40,HM!$A$10:$B$209,2))","v":""}]
[null,null,{"$f":"IF(B41=\"\",\"\",VLOOKUP(B41,HM!$A$10:$B$209,2))","v":""},null,null,39,null,{"$f":"IF(G41=\"\",\"\",VLOOKUP(G41,HM!$A$10:$B$209,2))","v":""}]
[null,null,{"$f":"IF(B42=\"\",\"\",VLOOKUP(B42,HM!$A$10:$B$209,2))","v":""},null,null,40,null,{"$f":"IF(G42=\"\",\"\",VLOOKUP(G42,HM!$A$10:$B$209,2))","v":""}]
[null,null,{"$f":"IF(B43=\"\",\"\",VLOOKUP(B43,HM!$A$10:$B$209,2))","v":""},null,null,41,null,{"$f":"IF(G43=\"\",\"\",VLOOKUP(G43,HM!$A$10:$B$209,2))","v":""}]
[null,null,{"$f":"IF(B44=\"\",\"\",VLOOKUP(B44,HM!$A$10:$B$209,2))","v":""},null,null,42,null,{"$f":"IF(G44=\"\",\"\",VLOOKUP(G44,HM!$A$10:$B$209,2))","v":""}]
[null,null,{"$f":"IF(B45=\"\",\"\",VLOOKUP(B45,HM!$A$10:$B$209,2))","v":""},null,null,43,null,{"$f":"IF(G45=\"\",\"\",VLOOKUP(G45,HM!$A$10:$B$209,2))","v":""}]
[null,null,{"$f":"IF(B46=\"\",\"\",VLOOKUP(B46,HM!$A$10:$B$209,2))","v":""},null,null,44,null,{"$f":"IF(G46=\"\",\"\",VLOOKUP(G46,HM!$A$10:$B$209,2))","v":""}]
[null,null,{"$f":"IF(B47=\"\",\"\",VLOOKUP(B47,HM!$A$10:$B$209,2))","v":""},null,null,45,null,{"$f":"IF(G47=\"\",\"\",VLOOKUP(G47,HM!$A$10:$B$209,2))","v":""}]
[null,null,{"$f":"IF(B48=\"\",\"\",VLOOKUP(B48,HM!$A$10:$B$209,2))","v":""},null,null,46,null,{"$f":"IF(G48=\"\",\"\",VLOOKUP(G48,HM!$A$10:$B$209,2))","v":""}]
[null,null,{"$f":"IF(B49=\"\",\"\",VLOOKUP(B49,HM!$A$10:$B$209,2))","v":""},null,null,47,null,{"$f":"IF(G49=\"\",\"\",VLOOKUP(G49,HM!$A$10:$B$209,2))","v":""}]
[null,null,{"$f":"IF(B50=\"\",\"\",VLOOKUP(B50,HM!$A$10:$B$209,2))","v":""},null,null,48,null,{"$f":"IF(G50=\"\",\"\",VLOOKUP(G50,HM!$A$10:$B$209,2))","v":""}]
[null,null,{"$f":"IF(B51=\"\",\"\",VLOOKUP(B51,HM!$A$10:$B$209,2))","v":""},null,null,49,null,{"$f":"IF(G51=\"\",\"\",VLOOKUP(G51,HM!$A$10:$B$209,2))","v":""}]
[null,null,{"$f":"IF(B52=\"\",\"\",VLOOKUP(B52,HM!$A$10:$B$209,2))","v":""},null,null,50,null,{"$f":"IF(G52=\"\",\"\",VLOOKUP(G52,HM!$A$10:$B$209,2))","v":""}]
[null,null,{"$f":"IF(B53=\"\",\"\",VLOOKUP(B53,HM!$A$10:$B$209,2))","v":""},null,null,51,null,{"$f":"IF(G53=\"\",\"\",VLOOKUP(G53,HM!$A$10:$B$209,2))","v":""}]
[null,null,{"$f":"IF(B54=\"\",\"\",VLOOKUP(B54,HM!$A$10:$B$209,2))","v":""},null,null,52,null,{"$f":"IF(G54=\"\",\"\",VLOOKUP(G54,HM!$A$10:$B$209,2))","v":""}]
[null,null,{"$f":"IF(B55=\"\",\"\",VLOOKUP(B55,HM!$A$10:$B$209,2))","v":""},null,null,53,null,{"$f":"IF(G55=\"\",\"\",VLOOKUP(G55,HM!$A$10:$B$209,2))","v":""}]
[null,null,{"$f":"IF(B56=\"\",\"\",VLOOKUP(B56,HM!$A$10:$B$209,2))","v":""},null,null,54,null,{"$f":"IF(G56=\"\",\"\",VLOOKUP(G56,HM!$A$10:$B$209,2))","v":""}]
[null,null,{"$f":"IF(B57=\"\",\"\",VLOOKUP(B57,HM!$A$10:$B$209,2))","v":""},null,null,55,null,{"$f":"IF(G57=\"\",\"\",VLOOKUP(G57,HM!$A$10:$B$209,2))","v":""}]
[null,null,{"$f":"IF(B58=\"\",\"\",VLOOKUP(B58,HM!$A$10:$B$209,2))","v":""},null,null,56,null,{"$f":"IF(G58=\"\",\"\",VLOOKUP(G58,HM!$A$10:$B$209,2))","v":""}]
[null,null,{"$f":"IF(B59=\"\",\"\",VLOOKUP(B59,HM!$A$10:$B$209,2))","v":""},null,null,57,null,{"$f":"IF(G59=\"\",\"\",VLOOKUP(G59,HM!$A$10:$B$209,2))","v":""}]
[null,null,{"$f":"IF(B60=\"\",\"\",VLOOKUP(B60,HM!$A$10:$B$209,2))","v":""},null,null,58,null,{"$f":"IF(G60=\"\",\"\",VLOOKUP(G60,HM!$A$10:$B$209,2))","v":""}]
[null,null,{"$f":"IF(B61=\"\",\"\",VLOOKUP(B61,HM!$A$10:$B$209,2))","v":""},null,null,59,null,{"$f":"IF(G61=\"\",\"\",VLOOKUP(G61,HM!$A$10:$B$209,2))","v":""}]
[null,null,{"$f":"IF(B62=\"\",\"\",VLOOKUP(B62,HM!$A$10:$B$209,2))","v":""},null,null,60,null,{"$f":"IF(G62=\"\",\"\",VLOOKUP(G62,HM!$A$10:$B$209,2))","v":""}]
[null,null,{"$f":"IF(B63=\"\",\"\",VLOOKUP(B63,HM!$A$10:$B$209,2))","v":""},null,null,61,null,{"$f":"IF(G63=\"\",\"\",VLOOKUP(G63,HM!$A$10:$B$209,2))","v":""}]
[null,null,{"$f":"IF(B64=\"\",\"\",VLOOKUP(B64,HM!$A$10:$B$209,2))","v":""},null,null,62,null,{"$f":"IF(G64=\"\",\"\",VLOOKUP(G64,HM!$A$10:$B$209,2))","v":""}]
[null,null,{"$f":"IF(B65=\"\",\"\",VLOOKUP(B65,HM!$A$10:$B$209,2))","v":""},null,null,63,null,{"$f":"IF(G65=\"\",\"\",VLOOKUP(G65,HM!$A$10:$B$209,2))","v":""}]
[null,null,{"$f":"IF(B66=\"\",\"\",VLOOKUP(B66,HM!$A$10:$B$209,2))","v":""},null,null,64,null,{"$f":"IF(G66=\"\",\"\",VLOOKUP(G66,HM!$A$10:$B$209,2))","v":""}]
[null,null,{"$f":"IF(B67=\"\",\"\",VLOOKUP(B67,HM!$A$10:$B$209,2))","v":""},null,null,65,null,{"$f":"IF(G67=\"\",\"\",VLOOKUP(G67,HM!$A$10:$B$209,2))","v":""}]
[null,null,{"$f":"IF(B68=\"\",\"\",VLOOKUP(B68,HM!$A$10:$B$209,2))","v":""},null,null,66,null,{"$f":"IF(G68=\"\",\"\",VLOOKUP(G68,HM!$A$10:$B$209,2))","v":""}]
[null,null,{"$f":"IF(B69=\"\",\"\",VLOOKUP(B69,HM!$A$10:$B$209,2))","v":""},null,null,67,null,{"$f":"IF(G69=\"\",\"\",VLOOKUP(G69,HM!$A$10:$B$209,2))","v":""}]
[null,null,{"$f":"IF(B70=\"\",\"\",VLOOKUP(B70,HM!$A$10:$B$209,2))","v":""},null,null,68,null,{"$f":"IF(G70=\"\",\"\",VLOOKUP(G70,HM!$A$10:$B$209,2))","v":""}]
[null,null,{"$f":"IF(B71=\"\",\"\",VLOOKUP(B71,HM!$A$10:$B$209,2))","v":""},null,null,69,null,{"$f":"IF(G71=\"\",\"\",VLOOKUP(G71,HM!$A$10:$B$209,2))","v":""}]
[null,null,{"$f":"IF(B72=\"\",\"\",VLOOKUP(B72,HM!$A$10:$B$209,2))","v":""},null,null,70,null,{"$f":"IF(G72=\"\",\"\",VLOOKUP(G72,HM!$A$10:$B$209,2))","v":""}]
[null,null,{"$f":"IF(B73=\"\",\"\",VLOOKUP(B73,HM!$A$10:$B$209,2))","v":""},null,null,71,null,{"$f":"IF(G73=\"\",\"\",VLOOKUP(G73,HM!$A$10:$B$209,2))","v":""}]
[null,null,{"$f":"IF(B74=\"\",\"\",VLOOKUP(B74,HM!$A$10:$B$209,2))","v":""},null,null,72,null,{"$f":"IF(G74=\"\",\"\",VLOOKUP(G74,HM!$A$10:$B$209,2))","v":""}]
[null,null,{"$f":"IF(B75=\"\",\"\",VLOOKUP(B75,HM!$A$10:$B$209,2))","v":""},null,null,73,null,{"$f":"IF(G75=\"\",\"\",VLOOKUP(G75,HM!$A$10:$B$209,2))","v":""}]
[null,null,{"$f":"IF(B76=\"\",\"\",VLOOKUP(B76,HM!$A$10:$B$209,2))","v":""},null,null,74,null,{"$f":"IF(G76=\"\",\"\",VLOOKUP(G76,HM!$A$10:$B$209,2))","v":""}]
[null,null,{"$f":"IF(B77=\"\",\"\",VLOOKUP(B77,HM!$A$10:$B$209,2))","v":""},null,null,75,null,{"$f":"IF(G77=\"\",\"\",VLOOKUP(G77,HM!$A$10:$B$209,2))","v":""}]
[null,null,{"$f":"IF(B78=\"\",\"\",VLOOKUP(B78,HM!$A$10:$B$209,2))","v":""},null,null,76,null,{"$f":"IF(G78=\"\",\"\",VLOOKUP(G78,HM!$A$10:$B$209,2))","v":""}]
[null,null,{"$f":"IF(B79=\"\",\"\",VLOOKUP(B79,HM!$A$10:$B$209,2))","v":""},null,null,77,null,{"$f":"IF(G79=\"\",\"\",VLOOKUP(G79,HM!$A$10:$B$209,2))","v":""}]
[null,null,{"$f":"IF(B80=\"\",\"\",VLOOKUP(B80,HM!$A$10:$B$209,2))","v":""},null,null,78,null,{"$f":"IF(G80=\"\",\"\",VLOOKUP(G80,HM!$A$10:$B$209,2))","v":""}]
[null,null,{"$f":"IF(B81=\"\",\"\",VLOOKUP(B81,HM!$A$10:$B$209,2))","v":""},null,null,79,null,{"$f":"IF(G81=\"\",\"\",VLOOKUP(G81,HM!$A$10:$B$209,2))","v":""}]
[null,null,{"$f":"IF(B82=\"\",\"\",VLOOKUP(B82,HM!$A$10:$B$209,2))","v":""},null,null,80,null,{"$f":"IF(G82=\"\",\"\",VLOOKUP(G82,HM!$A$10:$B$209,2))","v":""}]
[null,null,{"$f":"IF(B83=\"\",\"\",VLOOKUP(B83,HM!$A$10:$B$209,2))","v":""},null,null,81,null,{"$f":"IF(G83=\"\",\"\",VLOOKUP(G83,HM!$A$10:$B$209,2))","v":""}]
[null,null,{"$f":"IF(B84=\"\",\"\",VLOOKUP(B84,HM!$A$10:$B$209,2))","v":""},null,null,82,null,{"$f":"IF(G84=\"\",\"\",VLOOKUP(G84,HM!$A$10:$B$209,2))","v":""}]
[null,null,{"$f":"IF(B85=\"\",\"\",VLOOKUP(B85,HM!$A$10:$B$209,2))","v":""},null,null,83,null,{"$f":"IF(G85=\"\",\"\",VLOOKUP(G85,HM!$A$10:$B$209,2))","v":""}]
[null,null,{"$f":"IF(B86=\"\",\"\",VLOOKUP(B86,HM!$A$10:$B$209,2))","v":""},null,null,84,null,{"$f":"IF(G86=\"\",\"\",VLOOKUP(G86,HM!$A$10:$B$209,2))","v":""}]
[null,null,{"$f":"IF(B87=\"\",\"\",VLOOKUP(B87,HM!$A$10:$B$209,2))","v":""},null,null,85,null,{"$f":"IF(G87=\"\",\"\",VLOOKUP(G87,HM!$A$10:$B$209,2))","v":""}]
[null,null,{"$f":"IF(B88=\"\",\"\",VLOOKUP(B88,HM!$A$10:$B$209,2))","v":""},null,null,86,null,{"$f":"IF(G88=\"\",\"\",VLOOKUP(G88,HM!$A$10:$B$209,2))","v":""}]
[null,null,{"$f":"IF(B89=\"\",\"\",VLOOKUP(B89,HM!$A$10:$B$209,2))","v":""},null,null,87,null,{"$f":"IF(G89=\"\",\"\",VLOOKUP(G89,HM!$A$10:$B$209,2))","v":""}]
[null,null,{"$f":"IF(B90=\"\",\"\",VLOOKUP(B90,HM!$A$10:$B$209,2))","v":""},null,null,88,null,{"$f":"IF(G90=\"\",\"\",VLOOKUP(G90,HM!$A$10:$B$209,2))","v":""}]
[null,null,{"$f":"IF(B91=\"\",\"\",VLOOKUP(B91,HM!$A$10:$B$209,2))","v":""},null,null,89,null,{"$f":"IF(G91=\"\",\"\",VLOOKUP(G91,HM!$A$10:$B$209,2))","v":""}]
[null,null,{"$f":"IF(B92=\"\",\"\",VLOOKUP(B92,HM!$A$10:$B$209,2))","v":""},null,null,90,null,{"$f":"IF(G92=\"\",\"\",VLOOKUP(G92,HM!$A$10:$B$209,2))","v":""}]
[null,null,{"$f":"IF(B93=\"\",\"\",VLOOKUP(B93,HM!$A$10:$B$209,2))","v":""},null,null,91,null,{"$f":"IF(G93=\"\",\"\",VLOOKUP(G93,HM!$A$10:$B$209,2))","v":""}]
[null,null,{"$f":"IF(B94=\"\",\"\",VLOOKUP(B94,HM!$A$10:$B$209,2))","v":""},null,null,92,null,{"$f":"IF(G94=\"\",\"\",VLOOKUP(G94,HM!$A$10:$B$209,2))","v":""}]
[null,null,{"$f":"IF(B95=\"\",\"\",VLOOKUP(B95,HM!$A$10:$B$209,2))","v":""},null,null,93,null,{"$f":"IF(G95=\"\",\"\",VLOOKUP(G95,HM!$A$10:$B$209,2))","v":""}]
[null,null,{"$f":"IF(B96=\"\",\"\",VLOOKUP(B96,HM!$A$10:$B$209,2))","v":""},null,null,94,null,{"$f":"IF(G96=\"\",\"\",VLOOKUP(G96,HM!$A$10:$B$209,2))","v":""}]
[null,null,{"$f":"IF(B97=\"\",\"\",VLOOKUP(B97,HM!$A$10:$B$209,2))","v":""},null,null,95,null,{"$f":"IF(G97=\"\",\"\",VLOOKUP(G97,HM!$A$10:$B$209,2))","v":""}]
[null,null,{"$f":"IF(B98=\"\",\"\",VLOOKUP(B98,HM!$A$10:$B$209,2))","v":""},null,null,96,null,{"$f":"IF(G98=\"\",\"\",VLOOKUP(G98,HM!$A$10:$B$209,2))","v":""}]
[null,null,{"$f":"IF(B99=\"\",\"\",VLOOKUP(B99,HM!$A$10:$B$209,2))","v":""},null,null,97,null,{"$f":"IF(G99=\"\",\"\",VLOOKUP(G99,HM!$A$10:$B$209,2))","v":""}]
[null,null,{"$f":"IF(B100=\"\",\"\",VLOOKUP(B100,HM!$A$10:$B$209,2))","v":""},null,null,98,null,{"$f":"IF(G100=\"\",\"\",VLOOKUP(G100,HM!$A$10:$B$209,2))","v":""}]
[null,null,{"$f":"IF(B101=\"\",\"\",VLOOKUP(B101,HM!$A$10:$B$209,2))","v":""},null,null,99,null,{"$f":"IF(G101=\"\",\"\",VLOOKUP(G101,HM!$A$10:$B$209,2))","v":""}]
[null,null,{"$f":"IF(B102=\"\",\"\",VLOOKUP(B102,HM!$A$10:$B$209,2))","v":""},null,null,100,null,{"$f":"IF(G102=\"\",\"\",VLOOKUP(G102,HM!$A$10:$B$209,2))","v":""}]
[null,null,{"$f":"IF(B103=\"\",\"\",VLOOKUP(B103,HM!$A$10:$B$209,2))","v":""},null,null,101,null,{"$f":"IF(G103=\"\",\"\",VLOOKUP(G103,HM!$A$10:$B$209,2))","v":""}]
[null,null,{"$f":"IF(B104=\"\",\"\",VLOOKUP(B104,HM!$A$10:$B$209,2))","v":""},null,null,102,null,{"$f":"IF(G104=\"\",\"\",VLOOKUP(G104,HM!$A$10:$B$209,2))","v":""}]
[null,null,{"$f":"IF(B105=\"\",\"\",VLOOKUP(B105,HM!$A$10:$B$209,2))","v":""},null,null,103,null,{"$f":"IF(G105=\"\",\"\",VLOOKUP(G105,HM!$A$10:$B$209,2))","v":""}]
[null,null,{"$f":"IF(B106=\"\",\"\",VLOOKUP(B106,HM!$A$10:$B$209,2))","v":""},null,null,104,null,{"$f":"IF(G106=\"\",\"\",VLOOKUP(G106,HM!$A$10:$B$209,2))","v":""}]
[null,null,{"$f":"IF(B107=\"\",\"\",VLOOKUP(B107,HM!$A$10:$B$209,2))","v":""},null,null,105,null,{"$f":"IF(G107=\"\",\"\",VLOOKUP(G107,HM!$A$10:$B$209,2))","v":""}]
[null,null,{"$f":"IF(B108=\"\",\"\",VLOOKUP(B108,HM!$A$10:$B$209,2))","v":""},null,null,106,null,{"$f":"IF(G108=\"\",\"\",VLOOKUP(G108,HM!$A$10:$B$209,2))","v":""}]
[null,null,{"$f":"IF(B109=\"\",\"\",VLOOKUP(B109,HM!$A$10:$B$209,2))","v":""},null,null,107,null,{"$f":"IF(G109=\"\",\"\",VLOOKUP(G109,HM!$A$10:$B$209,2))","v":""}]
[null,null,{"$f":"IF(B110=\"\",\"\",VLOOKUP(B110,HM!$A$10:$B$209,2))","v":""},null,null,108,null,{"$f":"IF(G110=\"\",\"\",VLOOKUP(G110,HM!$A$10:$B$209,2))","v":""}]
[null,null,{"$f":"IF(B111=\"\",\"\",VLOOKUP(B111,HM!$A$10:$B$209,2))","v":""},null,null,109,null,{"$f":"IF(G111=\"\",\"\",VLOOKUP(G111,HM!$A$10:$B$209,2))","v":""}]
[null,null,{"$f":"IF(B112=\"\",\"\",VLOOKUP(B112,HM!$A$10:$B$209,2))","v":""},null,null,110,null,{"$f":"IF(G112=\"\",\"\",VLOOKUP(G112,HM!$A$10:$B$209,2))","v":""}]
[null,null,{"$f":"IF(B113=\"\",\"\",VLOOKUP(B113,HM!$A$10:$B$209,2))","v":""},null,null,111,null,{"$f":"IF(G113=\"\",\"\",VLOOKUP(G113,HM!$A$10:$B$209,2))","v":""}]
[null,null,{"$f":"IF(B114=\"\",\"\",VLOOKUP(B114,HM!$A$10:$B$209,2))","v":""},null,null,112,null,{"$f":"IF(G114=\"\",\"\",VLOOKUP(G114,HM!$A$10:$B$209,2))","v":""}]
[null,null,{"$f":"IF(B115=\"\",\"\",VLOOKUP(B115,HM!$A$10:$B$209,2))","v":""},null,null,113,null,{"$f":"IF(G115=\"\",\"\",VLOOKUP(G115,HM!$A$10:$B$209,2))","v":""}]
[null,null,{"$f":"IF(B116=\"\",\"\",VLOOKUP(B116,HM!$A$10:$B$209,2))","v":""},null,null,114,null,{"$f":"IF(G116=\"\",\"\",VLOOKUP(G116,HM!$A$10:$B$209,2))","v":""}]
[null,null,{"$f":"IF(B117=\"\",\"\",VLOOKUP(B117,HM!$A$10:$B$209,2))","v":""},null,null,115,null,{"$f":"IF(G117=\"\",\"\",VLOOKUP(G117,HM!$A$10:$B$209,2))","v":""}]
[null,null,{"$f":"IF(B118=\"\",\"\",VLOOKUP(B118,HM!$A$10:$B$209,2))","v":""},null,null,116,null,{"$f":"IF(G118=\"\",\"\",VLOOKUP(G118,HM!$A$10:$B$209,2))","v":""}]
[null,null,{"$f":"IF(B119=\"\",\"\",VLOOKUP(B119,HM!$A$10:$B$209,2))","v":""},null,null,117,null,{"$f":"IF(G119=\"\",\"\",VLOOKUP(G119,HM!$A$10:$B$209,2))","v":""}]
[null,null,{"$f":"IF(B120=\"\",\"\",VLOOKUP(B120,HM!$A$10:$B$209,2))","v":""},null,null,118,null,{"$f":"IF(G120=\"\",\"\",VLOOKUP(G120,HM!$A$10:$B$209,2))","v":""}]
[null,null,{"$f":"IF(B121=\"\",\"\",VLOOKUP(B121,HM!$A$10:$B$209,2))","v":""},null,null,119,null,{"$f":"IF(G121=\"\",\"\",VLOOKUP(G121,HM!$A$10:$B$209,2))","v":""}]
[null,null,{"$f":"IF(B122=\"\",\"\",VLOOKUP(B122,HM!$A$10:$B$209,2))","v":""},null,null,120,null,{"$f":"IF(G122=\"\",\"\",VLOOKUP(G122,HM!$A$10:$B$209,2))","v":""}]
[null,null,{"$f":"IF(B123=\"\",\"\",VLOOKUP(B123,HM!$A$10:$B$209,2))","v":""},null,null,121,null,{"$f":"IF(G123=\"\",\"\",VLOOKUP(G123,HM!$A$10:$B$209,2))","v":""}]
[null,null,{"$f":"IF(B124=\"\",\"\",VLOOKUP(B124,HM!$A$10:$B$209,2))","v":""},null,null,122,null,{"$f":"IF(G124=\"\",\"\",VLOOKUP(G124,HM!$A$10:$B$209,2))","v":""}]
[null,null,{"$f":"IF(B125=\"\",\"\",VLOOKUP(B125,HM!$A$10:$B$209,2))","v":""},null,null,123,null,{"$f":"IF(G125=\"\",\"\",VLOOKUP(G125,HM!$A$10:$B$209,2))","v":""}]
[null,null,{"$f":"IF(B126=\"\",\"\",VLOOKUP(B126,HM!$A$10:$B$209,2))","v":""},null,null,124,null,{"$f":"IF(G126=\"\",\"\",VLOOKUP(G126,HM!$A$10:$B$209,2))","v":""}]
[null,null,{"$f":"IF(B127=\"\",\"\",VLOOKUP(B127,HM!$A$10:$B$209,2))","v":""},null,null,125,null,{"$f":"IF(G127=\"\",\"\",VLOOKUP(G127,HM!$A$10:$B$209,2))","v":""}]
[null,null,{"$f":"IF(B128=\"\",\"\",VLOOKUP(B128,HM!$A$10:$B$209,2))","v":""},null,null,126,null,{"$f":"IF(G128=\"\",\"\",VLOOKUP(G128,HM!$A$10:$B$209,2))","v":""}]
[null,null,{"$f":"IF(B129=\"\",\"\",VLOOKUP(B129,HM!$A$10:$B$209,2))","v":""},null,null,127,null,{"$f":"IF(G129=\"\",\"\",VLOOKUP(G129,HM!$A$10:$B$209,2))","v":""}]
[null,null,{"$f":"IF(B130=\"\",\"\",VLOOKUP(B130,HM!$A$10:$B$209,2))","v":""},null,null,128,null,{"$f":"IF(G130=\"\",\"\",VLOOKUP(G130,HM!$A$10:$B$209,2))","v":""}]
[null,null,{"$f":"IF(B131=\"\",\"\",VLOOKUP(B131,HM!$A$10:$B$209,2))","v":""},null,null,129,null,{"$f":"IF(G131=\"\",\"\",VLOOKUP(G131,HM!$A$10:$B$209,2))","v":""}]
[null,null,{"$f":"IF(B132=\"\",\"\",VLOOKUP(B132,HM!$A$10:$B$209,2))","v":""},null,null,130,null,{"$f":"IF(G132=\"\",\"\",VLOOKUP(G132,HM!$A$10:$B$209,2))","v":""}]
[null,null,{"$f":"IF(B133=\"\",\"\",VLOOKUP(B133,HM!$A$10:$B$209,2))","v":""},null,null,131,null,{"$f":"IF(G133=\"\",\"\",VLOOKUP(G133,HM!$A$10:$B$209,2))","v":""}]
[null,null,{"$f":"IF(B134=\"\",\"\",VLOOKUP(B134,HM!$A$10:$B$209,2))","v":""},null,null,132,null,{"$f":"IF(G134=\"\",\"\",VLOOKUP(G134,HM!$A$10:$B$209,2))","v":""}]
[null,null,{"$f":"IF(B135=\"\",\"\",VLOOKUP(B135,HM!$A$10:$B$209,2))","v":""},null,null,133,null,{"$f":"IF(G135=\"\",\"\",VLOOKUP(G135,HM!$A$10:$B$209,2))","v":""}]
[null,null,{"$f":"IF(B136=\"\",\"\",VLOOKUP(B136,HM!$A$10:$B$209,2))","v":""},null,null,134,null,{"$f":"IF(G136=\"\",\"\",VLOOKUP(G136,HM!$A$10:$B$209,2))","v":""}]
[null,null,{"$f":"IF(B137=\"\",\"\",VLOOKUP(B137,HM!$A$10:$B$209,2))","v":""},null,null,135,null,{"$f":"IF(G137=\"\",\"\",VLOOKUP(G137,HM!$A$10:$B$209,2))","v":""}]
[null,null,{"$f":"IF(B138=\"\",\"\",VLOOKUP(B138,HM!$A$10:$B$209,2))","v":""},null,null,136,null,{"$f":"IF(G138=\"\",\"\",VLOOKUP(G138,HM!$A$10:$B$209,2))","v":""}]
[null,null,{"$f":"IF(B139=\"\",\"\",VLOOKUP(B139,HM!$A$10:$B$209,2))","v":""},null,null,137,null,{"$f":"IF(G139=\"\",\"\",VLOOKUP(G139,HM!$A$10:$B$209,2))","v":""}]
[null,null,{"$f":"IF(B140=\"\",\"\",VLOOKUP(B140,HM!$A$10:$B$209,2))","v":""},null,null,138,null,{"$f":"IF(G140=\"\",\"\",VLOOKUP(G140,HM!$A$10:$B$209,2))","v":""}]
[null,null,{"$f":"IF(B141=\"\",\"\",VLOOKUP(B141,HM!$A$10:$B$209,2))","v":""},null,null,139,null,{"$f":"IF(G141=\"\",\"\",VLOOKUP(G141,HM!$A$10:$B$209,2))","v":""}]
[null,null,{"$f":"IF(B142=\"\",\"\",VLOOKUP(B142,HM!$A$10:$B$209,2))","v":""},null,null,140,null,{"$f":"IF(G142=\"\",\"\",VLOOKUP(G142,HM!$A$10:$B$209,2))","v":""}]
[null,null,{"$f":"IF(B143=\"\",\"\",VLOOKUP(B143,HM!$A$10:$B$209,2))","v":""},null,null,141,null,{"$f":"IF(G143=\"\",\"\",VLOOKUP(G143,HM!$A$10:$B$209,2))","v":""}]
[null,null,{"$f":"IF(B144=\"\",\"\",VLOOKUP(B144,HM!$A$10:$B$209,2))","v":""},null,null,142,null,{"$f":"IF(G144=\"\",\"\",VLOOKUP(G144,HM!$A$10:$B$209,2))","v":""}]
[null,null,{"$f":"IF(B145=\"\",\"\",VLOOKUP(B145,HM!$A$10:$B$209,2))","v":""},null,null,143,null,{"$f":"IF(G145=\"\",\"\",VLOOKUP(G145,HM!$A$10:$B$209,2))","v":""}]
[null,null,{"$f":"IF(B146=\"\",\"\",VLOOKUP(B146,HM!$A$10:$B$209,2))","v":""},null,null,144,null,{"$f":"IF(G146=\"\",\"\",VLOOKUP(G146,HM!$A$10:$B$209,2))","v":""}]
[null,null,{"$f":"IF(B147=\"\",\"\",VLOOKUP(B147,HM!$A$10:$B$209,2))","v":""},null,null,145,null,{"$f":"IF(G147=\"\",\"\",VLOOKUP(G147,HM!$A$10:$B$209,2))","v":""}]
[null,null,{"$f":"IF(B148=\"\",\"\",VLOOKUP(B148,HM!$A$10:$B$209,2))","v":""},null,null,146,null,{"$f":"IF(G148=\"\",\"\",VLOOKUP(G148,HM!$A$10:$B$209,2))","v":""}]
[null,null,{"$f":"IF(B149=\"\",\"\",VLOOKUP(B149,HM!$A$10:$B$209,2))","v":""},null,null,147,null,{"$f":"IF(G149=\"\",\"\",VLOOKUP(G149,HM!$A$10:$B$209,2))","v":""}]
[null,null,{"$f":"IF(B150=\"\",\"\",VLOOKUP(B150,HM!$A$10:$B$209,2))","v":""},null,null,148,null,{"$f":"IF(G150=\"\",\"\",VLOOKUP(G150,HM!$A$10:$B$209,2))","v":""}]
[null,null,{"$f":"IF(B151=\"\",\"\",VLOOKUP(B151,HM!$A$10:$B$209,2))","v":""},null,null,149,null,{"$f":"IF(G151=\"\",\"\",VLOOKUP(G151,HM!$A$10:$B$209,2))","v":""}]
[null,null,{"$f":"IF(B152=\"\",\"\",VLOOKUP(B152,HM!$A$10:$B$209,2))","v":""},null,null,150,null,{"$f":"IF(G152=\"\",\"\",VLOOKUP(G152,HM!$A$10:$B$209,2))","v":""}]
[null,null,{"$f":"IF(B153=\"\",\"\",VLOOKUP(B153,HM!$A$10:$B$209,2))","v":""},null,null,151,null,{"$f":"IF(G153=\"\",\"\",VLOOKUP(G153,HM!$A$10:$B$209,2))","v":""}]
[null,null,{"$f":"IF(B154=\"\",\"\",VLOOKUP(B154,HM!$A$10:$B$209,2))","v":""},null,null,152,null,{"$f":"IF(G154=\"\",\"\",VLOOKUP(G154,HM!$A$10:$B$209,2))","v":""}]
[null,null,{"$f":"IF(B155=\"\",\"\",VLOOKUP(B155,HM!$A$10:$B$209,2))","v":""},null,null,153,null,{"$f":"IF(G155=\"\",\"\",VLOOKUP(G155,HM!$A$10:$B$209,2))","v":""}]
[null,null,{"$f":"IF(B156=\"\",\"\",VLOOKUP(B156,HM!$A$10:$B$209,2))","v":""},null,null,154,null,{"$f":"IF(G156=\"\",\"\",VLOOKUP(G156,HM!$A$10:$B$209,2))","v":""}]
[null,null,{"$f":"IF(B157=\"\",\"\",VLOOKUP(B157,HM!$A$10:$B$209,2))","v":""},null,null,155,null,{"$f":"IF(G157=\"\",\"\",VLOOKUP(G157,HM!$A$10:$B$209,2))","v":""}]
[null,null,{"$f":"IF(B158=\"\",\"\",VLOOKUP(B158,HM!$A$10:$B$209,2))","v":""},null,null,156,null,{"$f":"IF(G158=\"\",\"\",VLOOKUP(G158,HM!$A$10:$B$209,2))","v":""}]
[null,null,{"$f":"IF(B159=\"\",\"\",VLOOKUP(B159,HM!$A$10:$B$209,2))","v":""},null,null,157,null,{"$f":"IF(G159=\"\",\"\",VLOOKUP(G159,HM!$A$10:$B$209,2))","v":""}]
[null,null,{"$f":"IF(B160=\"\",\"\",VLOOKUP(B160,HM!$A$10:$B$209,2))","v":""},null,null,158,null,{"$f":"IF(G160=\"\",\"\",VLOOKUP(G160,HM!$A$10:$B$209,2))","v":""}]
[null,null,{"$f":"IF(B161=\"\",\"\",VLOOKUP(B161,HM!$A$10:$B$209,2))","v":""},null,null,159,null,{"$f":"IF(G161=\"\",\"\",VLOOKUP(G161,HM!$A$10:$B$209,2))","v":""}]
[null,null,{"$f":"IF(B162=\"\",\"\",VLOOKUP(B162,HM!$A$10:$B$209,2))","v":""},null,null,160,null,{"$f":"IF(G162=\"\",\"\",VLOOKUP(G162,HM!$A$10:$B$209,2))","v":""}]
[null,null,{"$f":"IF(B163=\"\",\"\",VLOOKUP(B163,HM!$A$10:$B$209,2))","v":""},null,null,161,null,{"$f":"IF(G163=\"\",\"\",VLOOKUP(G163,HM!$A$10:$B$209,2))","v":""}]
[null,null,{"$f":"IF(B164=\"\",\"\",VLOOKUP(B164,HM!$A$10:$B$209,2))","v":""},null,null,162,null,{"$f":"IF(G164=\"\",\"\",VLOOKUP(G164,HM!$A$10:$B$209,2))","v":""}]
[null,null,{"$f":"IF(B165=\"\",\"\",VLOOKUP(B165,HM!$A$10:$B$209,2))","v":""},null,null,163,null,{"$f":"IF(G165=\"\",\"\",VLOOKUP(G165,HM!$A$10:$B$209,2))","v":""}]
[null,null,{"$f":"IF(B166=\"\",\"\",VLOOKUP(B166,HM!$A$10:$B$209,2))","v":""},null,null,164,null,{"$f":"IF(G166=\"\",\"\",VLOOKUP(G166,HM!$A$10:$B$209,2))","v":""}]
[null,null,{"$f":"IF(B167=\"\",\"\",VLOOKUP(B167,HM!$A$10:$B$209,2))","v":""},null,null,165,null,{"$f":"IF(G167=\"\",\"\",VLOOKUP(G167,HM!$A$10:$B$209,2))","v":""}]
[null,null,{"$f":"IF(B168=\"\",\"\",VLOOKUP(B168,HM!$A$10:$B$209,2))","v":""},null,null,166,null,{"$f":"IF(G168=\"\",\"\",VLOOKUP(G168,HM!$A$10:$B$209,2))","v":""}]
[null,null,{"$f":"IF(B169=\"\",\"\",VLOOKUP(B169,HM!$A$10:$B$209,2))","v":""},null,null,167,null,{"$f":"IF(G169=\"\",\"\",VLOOKUP(G169,HM!$A$10:$B$209,2))","v":""}]
[null,null,{"$f":"IF(B170=\"\",\"\",VLOOKUP(B170,HM!$A$10:$B$209,2))","v":""},null,null,168,null,{"$f":"IF(G170=\"\",\"\",VLOOKUP(G170,HM!$A$10:$B$209,2))","v":""}]
[null,null,{"$f":"IF(B171=\"\",\"\",VLOOKUP(B171,HM!$A$10:$B$209,2))","v":""},null,null,169,null,{"$f":"IF(G171=\"\",\"\",VLOOKUP(G171,HM!$A$10:$B$209,2))","v":""}]
[null,null,{"$f":"IF(B172=\"\",\"\",VLOOKUP(B172,HM!$A$10:$B$209,2))","v":""},null,null,170,null,{"$f":"IF(G172=\"\",\"\",VLOOKUP(G172,HM!$A$10:$B$209,2))","v":""}]
[null,null,{"$f":"IF(B173=\"\",\"\",VLOOKUP(B173,HM!$A$10:$B$209,2))","v":""},null,null,171,null,{"$f":"IF(G173=\"\",\"\",VLOOKUP(G173,HM!$A$10:$B$209,2))","v":""}]
[null,null,{"$f":"IF(B174=\"\",\"\",VLOOKUP(B174,HM!$A$10:$B$209,2))","v":""},null,null,172,null,{"$f":"IF(G174=\"\",\"\",VLOOKUP(G174,HM!$A$10:$B$209,2))","v":""}]
[null,null,{"$f":"IF(B175=\"\",\"\",VLOOKUP(B175,HM!$A$10:$B$209,2))","v":""},null,null,173,null,{"$f":"IF(G175=\"\",\"\",VLOOKUP(G175,HM!$A$10:$B$209,2))","v":""}]
[null,null,{"$f":"IF(B176=\"\",\"\",VLOOKUP(B176,HM!$A$10:$B$209,2))","v":""},null,null,174,null,{"$f":"IF(G176=\"\",\"\",VLOOKUP(G176,HM!$A$10:$B$209,2))","v":""}]
[null,null,{"$f":"IF(B177=\"\",\"\",VLOOKUP(B177,HM!$A$10:$B$209,2))","v":""},null,null,175,null,{"$f":"IF(G177=\"\",\"\",VLOOKUP(G177,HM!$A$10:$B$209,2))","v":""}]
[null,null,{"$f":"IF(B178=\"\",\"\",VLOOKUP(B178,HM!$A$10:$B$209,2))","v":""},null,null,176,null,{"$f":"IF(G178=\"\",\"\",VLOOKUP(G178,HM!$A$10:$B$209,2))","v":""}]
[null,null,{"$f":"IF(B179=\"\",\"\",VLOOKUP(B179,HM!$A$10:$B$209,2))","v":""},null,null,177,null,{"$f":"IF(G179=\"\",\"\",VLOOKUP(G179,HM!$A$10:$B$209,2))","v":""}]
[null,null,{"$f":"IF(B180=\"\",\"\",VLOOKUP(B180,HM!$A$10:$B$209,2))","v":""},null,null,178,null,{"$f":"IF(G180=\"\",\"\",VLOOKUP(G180,HM!$A$10:$B$209,2))","v":""}]
[null,null,{"$f":"IF(B181=\"\",\"\",VLOOKUP(B181,HM!$A$10:$B$209,2))","v":""},null,null,179,null,{"$f":"IF(G181=\"\",\"\",VLOOKUP(G181,HM!$A$10:$B$209,2))","v":""}]
[null,null,{"$f":"IF(B182=\"\",\"\",VLOOKUP(B182,HM!$A$10:$B$209,2))","v":""},null,null,180,null,{"$f":"IF(G182=\"\",\"\",VLOOKUP(G182,HM!$A$10:$B$209,2))","v":""}]
[null,null,{"$f":"IF(B183=\"\",\"\",VLOOKUP(B183,HM!$A$10:$B$209,2))","v":""},null,null,181,null,{"$f":"IF(G183=\"\",\"\",VLOOKUP(G183,HM!$A$10:$B$209,2))","v":""}]
[null,null,{"$f":"IF(B184=\"\",\"\",VLOOKUP(B184,HM!$A$10:$B$209,2))","v":""},null,null,182,null,{"$f":"IF(G184=\"\",\"\",VLOOKUP(G184,HM!$A$10:$B$209,2))","v":""}]
[null,null,{"$f":"IF(B185=\"\",\"\",VLOOKUP(B185,HM!$A$10:$B$209,2))","v":""},null,null,183,null,{"$f":"IF(G185=\"\",\"\",VLOOKUP(G185,HM!$A$10:$B$209,2))","v":""}]
[null,null,{"$f":"IF(B186=\"\",\"\",VLOOKUP(B186,HM!$A$10:$B$209,2))","v":""},null,null,184,null,{"$f":"IF(G186=\"\",\"\",VLOOKUP(G186,HM!$A$10:$B$209,2))","v":""}]
[null,null,{"$f":"IF(B187=\"\",\"\",VLOOKUP(B187,HM!$A$10:$B$209,2))","v":""},null,null,185,null,{"$f":"IF(G187=\"\",\"\",VLOOKUP(G187,HM!$A$10:$B$209,2))","v":""}]
[null,null,{"$f":"IF(B188=\"\",\"\",VLOOKUP(B188,HM!$A$10:$B$209,2))","v":""},null,null,186,null,{"$f":"IF(G188=\"\",\"\",VLOOKUP(G188,HM!$A$10:$B$209,2))","v":""}]
[null,null,{"$f":"IF(B189=\"\",\"\",VLOOKUP(B189,HM!$A$10:$B$209,2))","v":""},null,null,187,null,{"$f":"IF(G189=\"\",\"\",VLOOKUP(G189,HM!$A$10:$B$209,2))","v":""}]
[null,null,{"$f":"IF(B190=\"\",\"\",VLOOKUP(B190,HM!$A$10:$B$209,2))","v":""},null,null,188,null,{"$f":"IF(G190=\"\",\"\",VLOOKUP(G190,HM!$A$10:$B$209,2))","v":""}]
[null,null,{"$f":"IF(B191=\"\",\"\",VLOOKUP(B191,HM!$A$10:$B$209,2))","v":""},null,null,189,null,{"$f":"IF(G191=\"\",\"\",VLOOKUP(G191,HM!$A$10:$B$209,2))","v":""}]
[null,null,{"$f":"IF(B192=\"\",\"\",VLOOKUP(B192,HM!$A$10:$B$209,2))","v":""},null,null,190,null,{"$f":"IF(G192=\"\",\"\",VLOOKUP(G192,HM!$A$10:$B$209,2))","v":""}]
[null,null,{"$f":"IF(B193=\"\",\"\",VLOOKUP(B193,HM!$A$10:$B$209,2))","v":""},null,null,191,null,{"$f":"IF(G193=\"\",\"\",VLOOKUP(G193,HM!$A$10:$B$209,2))","v":""}]
[null,null,{"$f":"IF(B194=\"\",\"\",VLOOKUP(B194,HM!$A$10:$B$209,2))","v":""},null,null,192,null,{"$f":"IF(G194=\"\",\"\",VLOOKUP(G194,HM!$A$10:$B$209,2))","v":""}]
[null,null,{"$f":"IF(B195=\"\",\"\",VLOOKUP(B195,HM!$A$10:$B$209,2))","v":""},null,null,193,null,{"$f":"IF(G195=\"\",\"\",VLOOKUP(G195,HM!$A$10:$B$209,2))","v":""}]
[null,null,{"$f":"IF(B196=\"\",\"\",VLOOKUP(B196,HM!$A$10:$B$209,2))","v":""},null,null,194,null,{"$f":"IF(G196=\"\",\"\",VLOOKUP(G196,HM!$A$10:$B$209,2))","v":""}]
[null,null,{"$f":"IF(B197=\"\",\"\",VLOOKUP(B197,HM!$A$10:$B$209,2))","v":""},null,null,195,null,{"$f":"IF(G197=\"\",\"\",VLOOKUP(G197,HM!$A$10:$B$209,2))","v":""}]
[null,null,{"$f":"IF(B198=\"\",\"\",VLOOKUP(B198,HM!$A$10:$B$209,2))","v":""},null,null,196,null,{"$f":"IF(G198=\"\",\"\",VLOOKUP(G198,HM!$A$10:$B$209,2))","v":""}]
[null,null,{"$f":"IF(B199=\"\",\"\",VLOOKUP(B199,HM!$A$10:$B$209,2))","v":""},null,null,197,null,{"$f":"IF(G199=\"\",\"\",VLOOKUP(G199,HM!$A$10:$B$209,2))","v":""}]
[null,null,{"$f":"IF(B200=\"\",\"\",VLOOKUP(B200,HM!$A$10:$B$209,2))","v":""},null,null,198,null,{"$f":"IF(G200=\"\",\"\",VLOOKUP(G200,HM!$A$10:$B$209,2))","v":""}]
[null,null,{"$f":"IF(B201=\"\",\"\",VLOOKUP(B201,HM!$A$10:$B$209,2))","v":""},null,null,199,null,{"$f":"IF(G201=\"\",\"\",VLOOKUP(G201,HM!$A$10:$B$209,2))","v":""}]
[null,null,{"$f":"IF(B202=\"\",\"\",VLOOKUP(B202,HM!$A$10:$B$209,2))","v":""},null,null,200,null,{"$f":"IF(G202=\"\",\"\",VLOOKUP(G202,HM!$A$10:$B$209,2))","v":""}]

{"sheet":"JSP","index":2,"n_rows":202,"n_cols":10,"rows_kept":202,"cut":false,"hidden":false,"merged":[[0,1,0,4],[0,6,0,9]]}
[null,"Jugendpokal\n(15 bis 20 Jahre)",null,null,null,null,"Schülerpokal\n(bis 14 Jahre)"]
[null,"Lfd.\nNr.:","Vor- und Nachname:","Ringe:","schlechtester\nEinzelschuss",null,"Lfd.\nNr.:","Vor- und Nachname:","Ringe:","schlechtester\nEinzelschuss"]
[null,null,{"$f":"IF(B3=\"\",\"\",VLOOKUP(B3,HM!$A$10:$B$209,2))","v":""},null,null,1,null,{"$f":"IF(G3=\"\",\"\",VLOOKUP(G3,HM!$A$10:$B$209,2))","v":""}]
[null,null,{"$f":"IF(B4=\"\",\"\",VLOOKUP(B4,HM!$A$10:$B$209,2))","v":""},null,null,2,null,{"$f":"IF(G4=\"\",\"\",VLOOKUP(G4,HM!$A$10:$B$209,2))","v":""}]
[null,null,{"$f":"IF(B5=\"\",\"\",VLOOKUP(B5,HM!$A$10:$B$209,2))","v":""},null,null,3,null,{"$f":"IF(G5=\"\",\"\",VLOOKUP(G5,HM!$A$10:$B$209,2))","v":""}]
[null,null,{"$f":"IF(B6=\"\",\"\",VLOOKUP(B6,HM!$A$10:$B$209,2))","v":""},null,null,4,null,{"$f":"IF(G6=\"\",\"\",VLOOKUP(G6,HM!$A$10:$B$209,2))","v":""}]
[null,null,{"$f":"IF(B7=\"\",\"\",VLOOKUP(B7,HM!$A$10:$B$209,2))","v":""},null,null,5,null,{"$f":"IF(G7=\"\",\"\",VLOOKUP(G7,HM!$A$10:$B$209,2))","v":""}]
[null,null,{"$f":"IF(B8=\"\",\"\",VLOOKUP(B8,HM!$A$10:$B$209,2))","v":""},null,null,6,null,{"$f":"IF(G8=\"\",\"\",VLOOKUP(G8,HM!$A$10:$B$209,2))","v":""}]
[null,null,{"$f":"IF(B9=\"\",\"\",VLOOKUP(B9,HM!$A$10:$B$209,2))","v":""},null,null,7,null,{"$f":"IF(G9=\"\",\"\",VLOOKUP(G9,HM!$A$10:$B$209,2))","v":""}]
[null,null,{"$f":"IF(B10=\"\",\"\",VLOOKUP(B10,HM!$A$10:$B$209,2))","v":""},null,null,8,null,{"$f":"IF(G10=\"\",\"\",VLOOKUP(G10,HM!$A$10:$B$209,2))","v":""}]
[null,null,{"$f":"IF(B11=\"\",\"\",VLOOKUP(B11,HM!$A$10:$B$209,2))","v":""},null,null,9,null,{"$f":"IF(G11=\"\",\"\",VLOOKUP(G11,HM!$A$10:$B$209,2))","v":""}]
[null,null,{"$f":"IF(B12=\"\",\"\",VLOOKUP(B12,HM!$A$10:$B$209,2))","v":""},null,null,10,null,{"$f":"IF(G12=\"\",\"\",VLOOKUP(G12,HM!$A$10:$B$209,2))","v":""}]
[null,null,{"$f":"IF(B13=\"\",\"\",VLOOKUP(B13,HM!$A$10:$B$209,2))","v":""},null,null,11,null,{"$f":"IF(G13=\"\",\"\",VLOOKUP(G13,HM!$A$10:$B$209,2))","v":""}]
[null,null,{"$f":"IF(B14=\"\",\"\",VLOOKUP(B14,HM!$A$10:$B$209,2))","v":""},null,null,12,null,{"$f":"IF(G14=\"\",\"\",VLOOKUP(G14,HM!$A$10:$B$209,2))","v":""}]
[null,null,{"$f":"IF(B15=\"\",\"\",VLOOKUP(B15,HM!$A$10:$B$209,2))","v":""},null,null,13,null,{"$f":"IF(G15=\"\",\"\",VLOOKUP(G15,HM!$A$10:$B$209,2))","v":""}]
[null,null,{"$f":"IF(B16=\"\",\"\",VLOOKUP(B16,HM!$A$10:$B$209,2))","v":""},null,null,14,null,{"$f":"IF(G16=\"\",\"\",VLOOKUP(G16,HM!$A$10:$B$209,2))","v":""}]
[null,null,{"$f":"IF(B17=\"\",\"\",VLOOKUP(B17,HM!$A$10:$B$209,2))","v":""},null,null,15,null,{"$f":"IF(G17=\"\",\"\",VLOOKUP(G17,HM!$A$10:$B$209,2))","v":""}]
[null,null,{"$f":"IF(B18=\"\",\"\",VLOOKUP(B18,HM!$A$10:$B$209,2))","v":""},null,null,16,null,{"$f":"IF(G18=\"\",\"\",VLOOKUP(G18,HM!$A$10:$B$209,2))","v":""}]
[null,null,{"$f":"IF(B19=\"\",\"\",VLOOKUP(B19,HM!$A$10:$B$209,2))","v":""},null,null,17,null,{"$f":"IF(G19=\"\",\"\",VLOOKUP(G19,HM!$A$10:$B$209,2))","v":""}]
[null,null,{"$f":"IF(B20=\"\",\"\",VLOOKUP(B20,HM!$A$10:$B$209,2))","v":""},null,null,18,null,{"$f":"IF(G20=\"\",\"\",VLOOKUP(G20,HM!$A$10:$B$209,2))","v":""}]
[null,null,{"$f":"IF(B21=\"\",\"\",VLOOKUP(B21,HM!$A$10:$B$209,2))","v":""},null,null,19,null,{"$f":"IF(G21=\"\",\"\",VLOOKUP(G21,HM!$A$10:$B$209,2))","v":""}]
[null,null,{"$f":"IF(B22=\"\",\"\",VLOOKUP(B22,HM!$A$10:$B$209,2))","v":""},null,null,20,null,{"$f":"IF(G22=\"\",\"\",VLOOKUP(G22,HM!$A$10:$B$209,2))","v":""}]
[null,null,{"$f":"IF(B23=\"\",\"\",VLOOKUP(B23,HM!$A$10:$B$209,2))","v":""},null,null,21,null,{"$f":"IF(G23=\"\",\"\",VLOOKUP(G23,HM!$A$10:$B$209,2))","v":""}]
[null,null,{"$f":"IF(B24=\"\",\"\",VLOOKUP(B24,HM!$A$10:$B$209,2))","v":""},null,null,22,null,{"$f":"IF(G24=\"\",\"\",VLOOKUP(G24,HM!$A$10:$B$209,2))","v":""}]
[null,null,{"$f":"IF(B25=\"\",\"\",VLOOKUP(B25,HM!$A$10:$B$209,2))","v":""},null,null,23,null,{"$f":"IF(G25=\"\",\"\",VLOOKUP(G25,HM!$A$10:$B$209,2))","v":""}]
[null,null,{"$f":"IF(B26=\"\",\"\",VLOOKUP(B26,HM!$A$10:$B$209,2))","v":""},null,null,24,null,{"$f":"IF(G26=\"\",\"\",VLOOKUP(G26,HM!$A$10:$B$209,2))","v":""}]
[null,null,{"$f":"IF(B27=\"\",\"\",VLOOKUP(B27,HM!$A$10:$B$209,2))","v":""},null,null,25,null,{"$f":"IF(G27=\"\",\"\",VLOOKUP(G27,HM!$A$10:$B$209,2))","v":""}]
[null,null,{"$f":"IF(B28=\"\",\"\",VLOOKUP(B28,HM!$A$10:$B$209,2))","v":""},null,null,26,null,{"$f":"IF(G28=\"\",\"\",VLOOKUP(G28,HM!$A$10:$B$209,2))","v":""}]
[null,null,{"$f":"IF(B29=\"\",\"\",VLOOKUP(B29,HM!$A$10:$B$209,2))","v":""},null,null,27,null,{"$f":"IF(G29=\"\",\"\",VLOOKUP(G29,HM!$A$10:$B$209,2))","v":""}]
[null,null,{"$f":"IF(B30=\"\",\"\",VLOOKUP(B30,HM!$A$10:$B$209,2))","v":""},null,null,28,null,{"$f":"IF(G30=\"\",\"\",VLOOKUP(G30,HM!$A$10:$B$209,2))","v":""}]
[null,null,{"$f":"IF(B31=\"\",\"\",VLOOKUP(B31,HM!$A$10:$B$209,2))","v":""},null,null,29,null,{"$f":"IF(G31=\"\",\"\",VLOOKUP(G31,HM!$A$10:$B$209,2))","v":""}]
[null,null,{"$f":"IF(B32=\"\",\"\",VLOOKUP(B32,HM!$A$10:$B$209,2))","v":""},null,null,30,null,{"$f":"IF(G32=\"\",\"\",VLOOKUP(G32,HM!$A$10:$B$209,2))","v":""}]
[null,null,{"$f":"IF(B33=\"\",\"\",VLOOKUP(B33,HM!$A$10:$B$209,2))","v":""},null,null,31,null,{"$f":"IF(G33=\"\",\"\",VLOOKUP(G33,HM!$A$10:$B$209,2))","v":""}]
[null,null,{"$f":"IF(B34=\"\",\"\",VLOOKUP(B34,HM!$A$10:$B$209,2))","v":""},null,null,32,null,{"$f":"IF(G34=\"\",\"\",VLOOKUP(G34,HM!$A$10:$B$209,2))","v":""}]
[null,null,{"$f":"IF(B35=\"\",\"\",VLOOKUP(B35,HM!$A$10:$B$209,2))","v":""},null,null,33,null,{"$f":"IF(G35=\"\",\"\",VLOOKUP(G35,HM!$A$10:$B$209,2))","v":""}]
[null,null,{"$f":"IF(B36=\"\",\"\",VLOOKUP(B36,HM!$A$10:$B$209,2))","v":""},null,null,34,null,{"$f":"IF(G36=\"\",\"\",VLOOKUP(G36,HM!$A$10:$B$209,2))","v":""}]
[null,null,{"$f":"IF(B37=\"\",\"\",VLOOKUP(B37,HM!$A$10:$B$209,2))","v":""},null,null,35,null,{"$f":"IF(G37=\"\",\"\",VLOOKUP(G37,HM!$A$10:$B$209,2))","v":""}]
[null,null,{"$f":"IF(B38=\"\",\"\",VLOOKUP(B38,HM!$A$10:$B$209,2))","v":""},null,null,36,null,{"$f":"IF(G38=\"\",\"\",VLOOKUP(G38,HM!$A$10:$B$209,2))","v":""}]
[null,null,{"$f":"IF(B39=\"\",\"\",VLOOKUP(B39,HM!$A$10:$B$209,2))","v":""},null,null,37,null,{"$f":"IF(G39=\"\",\"\",VLOOKUP(G39,HM!$A$10:$B$209,2))","v":""}]
[null,null,{"$f":"IF(B40=\"\",\"\",VLOOKUP(B40,HM!$A$10:$B$209,2))","v":""},null,null,38,null,{"$f":"IF(G40=\"\",\"\",VLOOKUP(G40,HM!$A$10:$B$209,2))","v":""}]
[null,null,{"$f":"IF(B41=\"\",\"\",VLOOKUP(B41,HM!$A$10:$B$209,2))","v":""},null,null,39,null,{"$f":"IF(G41=\"\",\"\",VLOOKUP(G41,HM!$A$10:$B$209,2))","v":""}]
[null,null,{"$f":"IF(B42=\"\",\"\",VLOOKUP(B42,HM!$A$10:$B$209,2))","v":""},null,null,40,null,{"$f":"IF(G42=\"\",\"\",VLOOKUP(G42,HM!$A$10:$B$209,2))","v":""}]
[null,null,{"$f":"IF(B43=\"\",\"\",VLOOKUP(B43,HM!$A$10:$B$209,2))","v":""},null,null,41,null,{"$f":"IF(G43=\"\",\"\",VLOOKUP(G43,HM!$A$10:$B$209,2))","v":""}]
[null,null,{"$f":"IF(B44=\"\",\"\",VLOOKUP(B44,HM!$A$10:$B$209,2))","v":""},null,null,42,null,{"$f":"IF(G44=\"\",\"\",VLOOKUP(G44,HM!$A$10:$B$209,2))","v":""}]
[null,null,{"$f":"IF(B45=\"\",\"\",VLOOKUP(B45,HM!$A$10:$B$209,2))","v":""},null,null,43,null,{"$f":"IF(G45=\"\",\"\",VLOOKUP(G45,HM!$A$10:$B$209,2))","v":""}]
[null,null,{"$f":"IF(B46=\"\",\"\",VLOOKUP(B46,HM!$A$10:$B$209,2))","v":""},null,null,44,null,{"$f":"IF(G46=\"\",\"\",VLOOKUP(G46,HM!$A$10:$B$209,2))","v":""}]
[null,null,{"$f":"IF(B47=\"\",\"\",VLOOKUP(B47,HM!$A$10:$B$209,2))","v":""},null,null,45,null,{"$f":"IF(G47=\"\",\"\",VLOOKUP(G47,HM!$A$10:$B$209,2))","v":""}]
[null,null,{"$f":"IF(B48=\"\",\"\",VLOOKUP(B48,HM!$A$10:$B$209,2))","v":""},null,null,46,null,{"$f":"IF(G48=\"\",\"\",VLOOKUP(G48,HM!$A$10:$B$209,2))","v":""}]
[null,null,{"$f":"IF(B49=\"\",\"\",VLOOKUP(B49,HM!$A$10:$B$209,2))","v":""},null,null,47,null,{"$f":"IF(G49=\"\",\"\",VLOOKUP(G49,HM!$A$10:$B$209,2))","v":""}]
[null,null,{"$f":"IF(B50=\"\",\"\",VLOOKUP(B50,HM!$A$10:$B$209,2))","v":""},null,null,48,null,{"$f":"IF(G50=\"\",\"\",VLOOKUP(G50,HM!$A$10:$B$209,2))","v":""}]
[null,null,{"$f":"IF(B51=\"\",\"\",VLOOKUP(B51,HM!$A$10:$B$209,2))","v":""},null,null,49,null,{"$f":"IF(G51=\"\",\"\",VLOOKUP(G51,HM!$A$10:$B$209,2))","v":""}]
[null,null,{"$f":"IF(B52=\"\",\"\",VLOOKUP(B52,HM!$A$10:$B$209,2))","v":""},null,null,50,null,{"$f":"IF(G52=\"\",\"\",VLOOKUP(G52,HM!$A$10:$B$209,2))","v":""}]
[null,null,{"$f":"IF(B53=\"\",\"\",VLOOKUP(B53,HM!$A$10:$B$209,2))","v":""},null,null,51,null,{"$f":"IF(G53=\"\",\"\",VLOOKUP(G53,HM!$A$10:$B$209,2))","v":""}]
[null,null,{"$f":"IF(B54=\"\",\"\",VLOOKUP(B54,HM!$A$10:$B$209,2))","v":""},null,null,52,null,{"$f":"IF(G54=\"\",\"\",VLOOKUP(G54,HM!$A$10:$B$209,2))","v":""}]
[null,null,{"$f":"IF(B55=\"\",\"\",VLOOKUP(B55,HM!$A$10:$B$209,2))","v":""},null,null,53,null,{"$f":"IF(G55=\"\",\"\",VLOOKUP(G55,HM!$A$10:$B$209,2))","v":""}]
[null,null,{"$f":"IF(B56=\"\",\"\",VLOOKUP(B56,HM!$A$10:$B$209,2))","v":""},null,null,54,null,{"$f":"IF(G56=\"\",\"\",VLOOKUP(G56,HM!$A$10:$B$209,2))","v":""}]
[null,null,{"$f":"IF(B57=\"\",\"\",VLOOKUP(B57,HM!$A$10:$B$209,2))","v":""},null,null,55,null,{"$f":"IF(G57=\"\",\"\",VLOOKUP(G57,HM!$A$10:$B$209,2))","v":""}]
[null,null,{"$f":"IF(B58=\"\",\"\",VLOOKUP(B58,HM!$A$10:$B$209,2))","v":""},null,null,56,null,{"$f":"IF(G58=\"\",\"\",VLOOKUP(G58,HM!$A$10:$B$209,2))","v":""}]
[null,null,{"$f":"IF(B59=\"\",\"\",VLOOKUP(B59,HM!$A$10:$B$209,2))","v":""},null,null,57,null,{"$f":"IF(G59=\"\",\"\",VLOOKUP(G59,HM!$A$10:$B$209,2))","v":""}]
[null,null,{"$f":"IF(B60=\"\",\"\",VLOOKUP(B60,HM!$A$10:$B$209,2))","v":""},null,null,58,null,{"$f":"IF(G60=\"\",\"\",VLOOKUP(G60,HM!$A$10:$B$209,2))","v":""}]
[null,null,{"$f":"IF(B61=\"\",\"\",VLOOKUP(B61,HM!$A$10:$B$209,2))","v":""},null,null,59,null,{"$f":"IF(G61=\"\",\"\",VLOOKUP(G61,HM!$A$10:$B$209,2))","v":""}]
[null,null,{"$f":"IF(B62=\"\",\"\",VLOOKUP(B62,HM!$A$10:$B$209,2))","v":""},null,null,60,null,{"$f":"IF(G62=\"\",\"\",VLOOKUP(G62,HM!$A$10:$B$209,2))","v":""}]
[null,null,{"$f":"IF(B63=\"\",\"\",VLOOKUP(B63,HM!$A$10:$B$209,2))","v":""},null,null,61,null,{"$f":"IF(G63=\"\",\"\",VLOOKUP(G63,HM!$A$10:$B$209,2))","v":""}]
[null,null,{"$f":"IF(B64=\"\",\"\",VLOOKUP(B64,HM!$A$10:$B$209,2))","v":""},null,null,62,null,{"$f":"IF(G64=\"\",\"\",VLOOKUP(G64,HM!$A$10:$B$209,2))","v":""}]
[null,null,{"$f":"IF(B65=\"\",\"\",VLOOKUP(B65,HM!$A$10:$B$209,2))","v":""},null,null,63,null,{"$f":"IF(G65=\"\",\"\",VLOOKUP(G65,HM!$A$10:$B$209,2))","v":""}]
[null,null,{"$f":"IF(B66=\"\",\"\",VLOOKUP(B66,HM!$A$10:$B$209,2))","v":""},null,null,64,null,{"$f":"IF(G66=\"\",\"\",VLOOKUP(G66,HM!$A$10:$B$209,2))","v":""}]
[null,null,{"$f":"IF(B67=\"\",\"\",VLOOKUP(B67,HM!$A$10:$B$209,2))","v":""},null,null,65,null,{"$f":"IF(G67=\"\",\"\",VLOOKUP(G67,HM!$A$10:$B$209,2))","v":""}]
[null,null,{"$f":"IF(B68=\"\",\"\",VLOOKUP(B68,HM!$A$10:$B$209,2))","v":""},null,null,66,null,{"$f":"IF(G68=\"\",\"\",VLOOKUP(G68,HM!$A$10:$B$209,2))","v":""}]
[null,null,{"$f":"IF(B69=\"\",\"\",VLOOKUP(B69,HM!$A$10:$B$209,2))","v":""},null,null,67,null,{"$f":"IF(G69=\"\",\"\",VLOOKUP(G69,HM!$A$10:$B$209,2))","v":""}]
[null,null,{"$f":"IF(B70=\"\",\"\",VLOOKUP(B70,HM!$A$10:$B$209,2))","v":""},null,null,68,null,{"$f":"IF(G70=\"\",\"\",VLOOKUP(G70,HM!$A$10:$B$209,2))","v":""}]
[null,null,{"$f":"IF(B71=\"\",\"\",VLOOKUP(B71,HM!$A$10:$B$209,2))","v":""},null,null,69,null,{"$f":"IF(G71=\"\",\"\",VLOOKUP(G71,HM!$A$10:$B$209,2))","v":""}]
[null,null,{"$f":"IF(B72=\"\",\"\",VLOOKUP(B72,HM!$A$10:$B$209,2))","v":""},null,null,70,null,{"$f":"IF(G72=\"\",\"\",VLOOKUP(G72,HM!$A$10:$B$209,2))","v":""}]
[null,null,{"$f":"IF(B73=\"\",\"\",VLOOKUP(B73,HM!$A$10:$B$209,2))","v":""},null,null,71,null,{"$f":"IF(G73=\"\",\"\",VLOOKUP(G73,HM!$A$10:$B$209,2))","v":""}]
[null,null,{"$f":"IF(B74=\"\",\"\",VLOOKUP(B74,HM!$A$10:$B$209,2))","v":""},null,null,72,null,{"$f":"IF(G74=\"\",\"\",VLOOKUP(G74,HM!$A$10:$B$209,2))","v":""}]
[null,null,{"$f":"IF(B75=\"\",\"\",VLOOKUP(B75,HM!$A$10:$B$209,2))","v":""},null,null,73,null,{"$f":"IF(G75=\"\",\"\",VLOOKUP(G75,HM!$A$10:$B$209,2))","v":""}]
[null,null,{"$f":"IF(B76=\"\",\"\",VLOOKUP(B76,HM!$A$10:$B$209,2))","v":""},null,null,74,null,{"$f":"IF(G76=\"\",\"\",VLOOKUP(G76,HM!$A$10:$B$209,2))","v":""}]
[null,null,{"$f":"IF(B77=\"\",\"\",VLOOKUP(B77,HM!$A$10:$B$209,2))","v":""},null,null,75,null,{"$f":"IF(G77=\"\",\"\",VLOOKUP(G77,HM!$A$10:$B$209,2))","v":""}]
[null,null,{"$f":"IF(B78=\"\",\"\",VLOOKUP(B78,HM!$A$10:$B$209,2))","v":""},null,null,76,null,{"$f":"IF(G78=\"\",\"\",VLOOKUP(G78,HM!$A$10:$B$209,2))","v":""}]
[null,null,{"$f":"IF(B79=\"\",\"\",VLOOKUP(B79,HM!$A$10:$B$209,2))","v":""},null,null,77,null,{"$f":"IF(G79=\"\",\"\",VLOOKUP(G79,HM!$A$10:$B$209,2))","v":""}]
[null,null,{"$f":"IF(B80=\"\",\"\",VLOOKUP(B80,HM!$A$10:$B$209,2))","v":""},null,null,78,null,{"$f":"IF(G80=\"\",\"\",VLOOKUP(G80,HM!$A$10:$B$209,2))","v":""}]
[null,null,{"$f":"IF(B81=\"\",\"\",VLOOKUP(B81,HM!$A$10:$B$209,2))","v":""},null,null,79,null,{"$f":"IF(G81=\"\",\"\",VLOOKUP(G81,HM!$A$10:$B$209,2))","v":""}]
[null,null,{"$f":"IF(B82=\"\",\"\",VLOOKUP(B82,HM!$A$10:$B$209,2))","v":""},null,null,80,null,{"$f":"IF(G82=\"\",\"\",VLOOKUP(G82,HM!$A$10:$B$209,2))","v":""}]
[null,null,{"$f":"IF(B83=\"\",\"\",VLOOKUP(B83,HM!$A$10:$B$209,2))","v":""},null,null,81,null,{"$f":"IF(G83=\"\",\"\",VLOOKUP(G83,HM!$A$10:$B$209,2))","v":""}]
[null,null,{"$f":"IF(B84=\"\",\"\",VLOOKUP(B84,HM!$A$10:$B$209,2))","v":""},null,null,82,null,{"$f":"IF(G84=\"\",\"\",VLOOKUP(G84,HM!$A$10:$B$209,2))","v":""}]
[null,null,{"$f":"IF(B85=\"\",\"\",VLOOKUP(B85,HM!$A$10:$B$209,2))","v":""},null,null,83,null,{"$f":"IF(G85=\"\",\"\",VLOOKUP(G85,HM!$A$10:$B$209,2))","v":""}]
[null,null,{"$f":"IF(B86=\"\",\"\",VLOOKUP(B86,HM!$A$10:$B$209,2))","v":""},null,null,84,null,{"$f":"IF(G86=\"\",\"\",VLOOKUP(G86,HM!$A$10:$B$209,2))","v":""}]
[null,null,{"$f":"IF(B87=\"\",\"\",VLOOKUP(B87,HM!$A$10:$B$209,2))","v":""},null,null,85,null,{"$f":"IF(G87=\"\",\"\",VLOOKUP(G87,HM!$A$10:$B$209,2))","v":""}]
[null,null,{"$f":"IF(B88=\"\",\"\",VLOOKUP(B88,HM!$A$10:$B$209,2))","v":""},null,null,86,null,{"$f":"IF(G88=\"\",\"\",VLOOKUP(G88,HM!$A$10:$B$209,2))","v":""}]
[null,null,{"$f":"IF(B89=\"\",\"\",VLOOKUP(B89,HM!$A$10:$B$209,2))","v":""},null,null,87,null,{"$f":"IF(G89=\"\",\"\",VLOOKUP(G89,HM!$A$10:$B$209,2))","v":""}]
[null,null,{"$f":"IF(B90=\"\",\"\",VLOOKUP(B90,HM!$A$10:$B$209,2))","v":""},null,null,88,null,{"$f":"IF(G90=\"\",\"\",VLOOKUP(G90,HM!$A$10:$B$209,2))","v":""}]
[null,null,{"$f":"IF(B91=\"\",\"\",VLOOKUP(B91,HM!$A$10:$B$209,2))","v":""},null,null,89,null,{"$f":"IF(G91=\"\",\"\",VLOOKUP(G91,HM!$A$10:$B$209,2))","v":""}]
[null,null,{"$f":"IF(B92=\"\",\"\",VLOOKUP(B92,HM!$A$10:$B$209,2))","v":""},null,null,90,null,{"$f":"IF(G92=\"\",\"\",VLOOKUP(G92,HM!$A$10:$B$209,2))","v":""}]
[null,null,{"$f":"IF(B93=\"\",\"\",VLOOKUP(B93,HM!$A$10:$B$209,2))","v":""},null,null,91,null,{"$f":"IF(G93=\"\",\"\",VLOOKUP(G93,HM!$A$10:$B$209,2))","v":""}]
[null,null,{"$f":"IF(B94=\"\",\"\",VLOOKUP(B94,HM!$A$10:$B$209,2))","v":""},null,null,92,null,{"$f":"IF(G94=\"\",\"\",VLOOKUP(G94,HM!$A$10:$B$209,2))","v":""}]
[null,null,{"$f":"IF(B95=\"\",\"\",VLOOKUP(B95,HM!$A$10:$B$209,2))","v":""},null,null,93,null,{"$f":"IF(G95=\"\",\"\",VLOOKUP(G95,HM!$A$10:$B$209,2))","v":""}]
[null,null,{"$f":"IF(B96=\"\",\"\",VLOOKUP(B96,HM!$A$10:$B$209,2))","v":""},null,null,94,null,{"$f":"IF(G96=\"\",\"\",VLOOKUP(G96,HM!$A$10:$B$209,2))","v":""}]
[null,null,{"$f":"IF(B97=\"\",\"\",VLOOKUP(B97,HM!$A$10:$B$209,2))","v":""},null,null,95,null,{"$f":"IF(G97=\"\",\"\",VLOOKUP(G97,HM!$A$10:$B$209,2))","v":""}]
[null,null,{"$f":"IF(B98=\"\",\"\",VLOOKUP(B98,HM!$A$10:$B$209,2))","v":""},null,null,96,null,{"$f":"IF(G98=\"\",\"\",VLOOKUP(G98,HM!$A$10:$B$209,2))","v":""}]
[null,null,{"$f":"IF(B99=\"\",\"\",VLOOKUP(B99,HM!$A$10:$B$209,2))","v":""},null,null,97,null,{"$f":"IF(G99=\"\",\"\",VLOOKUP(G99,HM!$A$10:$B$209,2))","v":""}]
[null,null,{"$f":"IF(B100=\"\",\"\",VLOOKUP(B100,HM!$A$10:$B$209,2))","v":""},null,null,98,null,{"$f":"IF(G100=\"\",\"\",VLOOKUP(G100,HM!$A$10:$B$209,2))","v":""}]
[null,null,{"$f":"IF(B101=\"\",\"\",VLOOKUP(B101,HM!$A$10:$B$209,2))","v":""},null,null,99,null,{"$f":"IF(G101=\"\",\"\",VLOOKUP(G101,HM!$A$10:$B$209,2))","v":""}]
[null,null,{"$f":"IF(B102=\"\",\"\",VLOOKUP(B102,HM!$A$10:$B$209,2))","v":""},null,null,100,null,{"$f":"IF(G102=\"\",\"\",VLOOKUP(G102,HM!$A$10:$B$209,2))","v":""}]
[null,null,{"$f":"IF(B103=\"\",\"\",VLOOKUP(B103,HM!$A$10:$B$209,2))","v":""},null,null,101,null,{"$f":"IF(G103=\"\",\"\",VLOOKUP(G103,HM!$A$10:$B$209,2))","v":""}]
[null,null,{"$f":"IF(B104=\"\",\"\",VLOOKUP(B104,HM!$A$10:$B$209,2))","v":""},null,null,102,null,{"$f":"IF(G104=\"\",\"\",VLOOKUP(G104,HM!$A$10:$B$209,2))","v":""}]
[null,null,{"$f":"IF(B105=\"\",\"\",VLOOKUP(B105,HM!$A$10:$B$209,2))","v":""},null,null,103,null,{"$f":"IF(G105=\"\",\"\",VLOOKUP(G105,HM!$A$10:$B$209,2))","v":""}]
[null,null,{"$f":"IF(B106=\"\",\"\",VLOOKUP(B106,HM!$A$10:$B$209,2))","v":""},null,null,104,null,{"$f":"IF(G106=\"\",\"\",VLOOKUP(G106,HM!$A$10:$B$209,2))","v":""}]
[null,null,{"$f":"IF(B107=\"\",\"\",VLOOKUP(B107,HM!$A$10:$B$209,2))","v":""},null,null,105,null,{"$f":"IF(G107=\"\",\"\",VLOOKUP(G107,HM!$A$10:$B$209,2))","v":""}]
[null,null,{"$f":"IF(B108=\"\",\"\",VLOOKUP(B108,HM!$A$10:$B$209,2))","v":""},null,null,106,null,{"$f":"IF(G108=\"\",\"\",VLOOKUP(G108,HM!$A$10:$B$209,2))","v":""}]
[null,null,{"$f":"IF(B109=\"\",\"\",VLOOKUP(B109,HM!$A$10:$B$209,2))","v":""},null,null,107,null,{"$f":"IF(G109=\"\",\"\",VLOOKUP(G109,HM!$A$10:$B$209,2))","v":""}]
[null,null,{"$f":"IF(B110=\"\",\"\",VLOOKUP(B110,HM!$A$10:$B$209,2))","v":""},null,null,108,null,{"$f":"IF(G110=\"\",\"\",VLOOKUP(G110,HM!$A$10:$B$209,2))","v":""}]
[null,null,{"$f":"IF(B111=\"\",\"\",VLOOKUP(B111,HM!$A$10:$B$209,2))","v":""},null,null,109,null,{"$f":"IF(G111=\"\",\"\",VLOOKUP(G111,HM!$A$10:$B$209,2))","v":""}]
[null,null,{"$f":"IF(B112=\"\",\"\",VLOOKUP(B112,HM!$A$10:$B$209,2))","v":""},null,null,110,null,{"$f":"IF(G112=\"\",\"\",VLOOKUP(G112,HM!$A$10:$B$209,2))","v":""}]
[null,null,{"$f":"IF(B113=\"\",\"\",VLOOKUP(B113,HM!$A$10:$B$209,2))","v":""},null,null,111,null,{"$f":"IF(G113=\"\",\"\",VLOOKUP(G113,HM!$A$10:$B$209,2))","v":""}]
[null,null,{"$f":"IF(B114=\"\",\"\",VLOOKUP(B114,HM!$A$10:$B$209,2))","v":""},null,null,112,null,{"$f":"IF(G114=\"\",\"\",VLOOKUP(G114,HM!$A$10:$B$209,2))","v":""}]
[null,null,{"$f":"IF(B115=\"\",\"\",VLOOKUP(B115,HM!$A$10:$B$209,2))","v":""},null,null,113,null,{"$f":"IF(G115=\"\",\"\",VLOOKUP(G115,HM!$A$10:$B$209,2))","v":""}]
[null,null,{"$f":"IF(B116=\"\",\"\",VLOOKUP(B116,HM!$A$10:$B$209,2))","v":""},null,null,114,null,{"$f":"IF(G116=\"\",\"\",VLOOKUP(G116,HM!$A$10:$B$209,2))","v":""}]
[null,null,{"$f":"IF(B117=\"\",\"\",VLOOKUP(B117,HM!$A$10:$B$209,2))","v":""},null,null,115,null,{"$f":"IF(G117=\"\",\"\",VLOOKUP(G117,HM!$A$10:$B$209,2))","v":""}]
[null,null,{"$f":"IF(B118=\"\",\"\",VLOOKUP(B118,HM!$A$10:$B$209,2))","v":""},null,null,116,null,{"$f":"IF(G118=\"\",\"\",VLOOKUP(G118,HM!$A$10:$B$209,2))","v":""}]
[null,null,{"$f":"IF(B119=\"\",\"\",VLOOKUP(B119,HM!$A$10:$B$209,2))","v":""},null,null,117,null,{"$f":"IF(G119=\"\",\"\",VLOOKUP(G119,HM!$A$10:$B$209,2))","v":""}]
[null,null,{"$f":"IF(B120=\"\",\"\",VLOOKUP(B120,HM!$A$10:$B$209,2))","v":""},null,null,118,null,{"$f":"IF(G120=\"\",\"\",VLOOKUP(G120,HM!$A$10:$B$209,2))","v":""}]
[null,null,{"$f":"IF(B121=\"\",\"\",VLOOKUP(B121,HM!$A$10:$B$209,2))","v":""},null,null,119,null,{"$f":"IF(G121=\"\",\"\",VLOOKUP(G121,HM!$A$10:$B$209,2))","v":""}]
[null,null,{"$f":"IF(B122=\"\",\"\",VLOOKUP(B122,HM!$A$10:$B$209,2))","v":""},null,null,120,null,{"$f":"IF(G122=\"\",\"\",VLOOKUP(G122,HM!$A$10:$B$209,2))","v":""}]
[null,null,{"$f":"IF(B123=\"\",\"\",VLOOKUP(B123,HM!$A$10:$B$209,2))","v":""},null,null,121,null,{"$f":"IF(G123=\"\",\"\",VLOOKUP(G123,HM!$A$10:$B$209,2))","v":""}]
[null,null,{"$f":"IF(B124=\"\",\"\",VLOOKUP(B124,HM!$A$10:$B$209,2))","v":""},null,null,122,null,{"$f":"IF(G124=\"\",\"\",VLOOKUP(G124,HM!$A$10:$B$209,2))","v":""}]
[null,null,{"$f":"IF(B125=\"\",\"\",VLOOKUP(B125,HM!$A$10:$B$209,2))","v":""},null,null,123,null,{"$f":"IF(G125=\"\",\"\",VLOOKUP(G125,HM!$A$10:$B$209,2))","v":""}]
[null,null,{"$f":"IF(B126=\"\",\"\",VLOOKUP(B126,HM!$A$10:$B$209,2))","v":""},null,null,124,null,{"$f":"IF(G126=\"\",\"\",VLOOKUP(G126,HM!$A$10:$B$209,2))","v":""}]
[null,null,{"$f":"IF(B127=\"\",\"\",VLOOKUP(B127,HM!$A$10:$B$209,2))","v":""},null,null,125,null,{"$f":"IF(G127=\"\",\"\",VLOOKUP(G127,HM!$A$10:$B$209,2))","v":""}]
[null,null,{"$f":"IF(B128=\"\",\"\",VLOOKUP(B128,HM!$A$10:$B$209,2))","v":""},null,null,126,null,{"$f":"IF(G128=\"\",\"\",VLOOKUP(G128,HM!$A$10:$B$209,2))","v":""}]
[null,null,{"$f":"IF(B129=\"\",\"\",VLOOKUP(B129,HM!$A$10:$B$209,2))","v":""},null,null,127,null,{"$f":"IF(G129=\"\",\"\",VLOOKUP(G129,HM!$A$10:$B$209,2))","v":""}]
[null,null,{"$f":"IF(B130=\"\",\"\",VLOOKUP(B130,HM!$A$10:$B$209,2))","v":""},null,null,128,null,{"$f":"IF(G130=\"\",\"\",VLOOKUP(G130,HM!$A$10:$B$209,2))","v":""}]
[null,null,{"$f":"IF(B131=\"\",\"\",VLOOKUP(B131,HM!$A$10:$B$209,2))","v":""},null,null,129,null,{"$f":"IF(G131=\"\",\"\",VLOOKUP(G131,HM!$A$10:$B$209,2))","v":""}]
[null,null,{"$f":"IF(B132=\"\",\"\",VLOOKUP(B132,HM!$A$10:$B$209,2))","v":""},null,null,130,null,{"$f":"IF(G132=\"\",\"\",VLOOKUP(G132,HM!$A$10:$B$209,2))","v":""}]
[null,null,{"$f":"IF(B133=\"\",\"\",VLOOKUP(B133,HM!$A$10:$B$209,2))","v":""},null,null,131,null,{"$f":"IF(G133=\"\",\"\",VLOOKUP(G133,HM!$A$10:$B$209,2))","v":""}]
[null,null,{"$f":"IF(B134=\"\",\"\",VLOOKUP(B134,HM!$A$10:$B$209,2))","v":""},null,null,132,null,{"$f":"IF(G134=\"\",\"\",VLOOKUP(G134,HM!$A$10:$B$209,2))","v":""}]
[null,null,{"$f":"IF(B135=\"\",\"\",VLOOKUP(B135,HM!$A$10:$B$209,2))","v":""},null,null,133,null,{"$f":"IF(G135=\"\",\"\",VLOOKUP(G135,HM!$A$10:$B$209,2))","v":""}]
[null,null,{"$f":"IF(B136=\"\",\"\",VLOOKUP(B136,HM!$A$10:$B$209,2))","v":""},null,null,134,null,{"$f":"IF(G136=\"\",\"\",VLOOKUP(G136,HM!$A$10:$B$209,2))","v":""}]
[null,null,{"$f":"IF(B137=\"\",\"\",VLOOKUP(B137,HM!$A$10:$B$209,2))","v":""},null,null,135,null,{"$f":"IF(G137=\"\",\"\",VLOOKUP(G137,HM!$A$10:$B$209,2))","v":""}]
[null,null,{"$f":"IF(B138=\"\",\"\",VLOOKUP(B138,HM!$A$10:$B$209,2))","v":""},null,null,136,null,{"$f":"IF(G138=\"\",\"\",VLOOKUP(G138,HM!$A$10:$B$209,2))","v":""}]
[null,null,{"$f":"IF(B139=\"\",\"\",VLOOKUP(B139,HM!$A$10:$B$209,2))","v":""},null,null,137,null,{"$f":"IF(G139=\"\",\"\",VLOOKUP(G139,HM!$A$10:$B$209,2))","v":""}]
[null,null,{"$f":"IF(B140=\"\",\"\",VLOOKUP(B140,HM!$A$10:$B$209,2))","v":""},null,null,138,null,{"$f":"IF(G140=\"\",\"\",VLOOKUP(G140,HM!$A$10:$B$209,2))","v":""}]
[null,null,{"$f":"IF(B141=\"\",\"\",VLOOKUP(B141,HM!$A$10:$B$209,2))","v":""},null,null,139,null,{"$f":"IF(G141=\"\",\"\",VLOOKUP(G141,HM!$A$10:$B$209,2))","v":""}]
[null,null,{"$f":"IF(B142=\"\",\"\",VLOOKUP(B142,HM!$A$10:$B$209,2))","v":""},null,null,140,null,{"$f":"IF(G142=\"\",\"\",VLOOKUP(G142,HM!$A$10:$B$209,2))","v":""}]
[null,null,{"$f":"IF(B143=\"\",\"\",VLOOKUP(B143,HM!$A$10:$B$209,2))","v":""},null,null,141,null,{"$f":"IF(G143=\"\",\"\",VLOOKUP(G143,HM!$A$10:$B$209,2))","v":""}]
[null,null,{"$f":"IF(B144=\"\",\"\",VLOOKUP(B144,HM!$A$10:$B$209,2))","v":""},null,null,142,null,{"$f":"IF(G144=\"\",\"\",VLOOKUP(G144,HM!$A$10:$B$209,2))","v":""}]
[null,null,{"$f":"IF(B145=\"\",\"\",VLOOKUP(B145,HM!$A$10:$B$209,2))","v":""},null,null,143,null,{"$f":"IF(G145=\"\",\"\",VLOOKUP(G145,HM!$A$10:$B$209,2))","v":""}]
[null,null,{"$f":"IF(B146=\"\",\"\",VLOOKUP(B146,HM!$A$10:$B$209,2))","v":""},null,null,144,null,{"$f":"IF(G146=\"\",\"\",VLOOKUP(G146,HM!$A$10:$B$209,2))","v":""}]
[null,null,{"$f":"IF(B147=\"\",\"\",VLOOKUP(B147,HM!$A$10:$B$209,2))","v":""},null,null,145,null,{"$f":"IF(G147=\"\",\"\",VLOOKUP(G147,HM!$A$10:$B$209,2))","v":""}]
[null,null,{"$f":"IF(B148=\"\",\"\",VLOOKUP(B148,HM!$A$10:$B$209,2))","v":""},null,null,146,null,{"$f":"IF(G148=\"\",\"\",VLOOKUP(G148,HM!$A$10:$B$209,2))","v":""}]
[null,null,{"$f":"IF(B149=\"\",\"\",VLOOKUP(B149,HM!$A$10:$B$209,2))","v":""},null,null,147,null,{"$f":"IF(G149=\"\",\"\",VLOOKUP(G149,HM!$A$10:$B$209,2))","v":""}]
[null,null,{"$f":"IF(B150=\"\",\"\",VLOOKUP(B150,HM!$A$10:$B$209,2))","v":""},null,null,148,null,{"$f":"IF(G150=\"\",\"\",VLOOKUP(G150,HM!$A$10:$B$209,2))","v":""}]
[null,null,{"$f":"IF(B151=\"\",\"\",VLOOKUP(B151,HM!$A$10:$B$209,2))","v":""},null,null,149,null,{"$f":"IF(G151=\"\",\"\",VLOOKUP(G151,HM!$A$10:$B$209,2))","v":""}]
[null,null,{"$f":"IF(B152=\"\",\"\",VLOOKUP(B152,HM!$A$10:$B$209,2))","v":""},null,null,150,null,{"$f":"IF(G152=\"\",\"\",VLOOKUP(G152,HM!$A$10:$B$209,2))","v":""}]
[null,null,{"$f":"IF(B153=\"\",\"\",VLOOKUP(B153,HM!$A$10:$B$209,2))","v":""},null,null,151,null,{"$f":"IF(G153=\"\",\"\",VLOOKUP(G153,HM!$A$10:$B$209,2))","v":""}]
[null,null,{"$f":"IF(B154=\"\",\"\",VLOOKUP(B154,HM!$A$10:$B$209,2))","v":""},null,null,152,null,{"$f":"IF(G154=\"\",\"\",VLOOKUP(G154,HM!$A$10:$B$209,2))","v":""}]
[null,null,{"$f":"IF(B155=\"\",\"\",VLOOKUP(B155,HM!$A$10:$B$209,2))","v":""},null,null,153,null,{"$f":"IF(G155=\"\",\"\",VLOOKUP(G155,HM!$A$10:$B$209,2))","v":""}]
[null,null,{"$f":"IF(B156=\"\",\"\",VLOOKUP(B156,HM!$A$10:$B$209,2))","v":""},null,null,154,null,{"$f":"IF(G156=\"\",\"\",VLOOKUP(G156,HM!$A$10:$B$209,2))","v":""}]
[null,null,{"$f":"IF(B157=\"\",\"\",VLOOKUP(B157,HM!$A$10:$B$209,2))","v":""},null,null,155,null,{"$f":"IF(G157=\"\",\"\",VLOOKUP(G157,HM!$A$10:$B$209,2))","v":""}]
[null,null,{"$f":"IF(B158=\"\",\"\",VLOOKUP(B158,HM!$A$10:$B$209,2))","v":""},null,null,156,null,{"$f":"IF(G158=\"\",\"\",VLOOKUP(G158,HM!$A$10:$B$209,2))","v":""}]
[null,null,{"$f":"IF(B159=\"\",\"\",VLOOKUP(B159,HM!$A$10:$B$209,2))","v":""},null,null,157,null,{"$f":"IF(G159=\"\",\"\",VLOOKUP(G159,HM!$A$10:$B$209,2))","v":""}]
[null,null,{"$f":"IF(B160=\"\",\"\",VLOOKUP(B160,HM!$A$10:$B$209,2))","v":""},null,null,158,null,{"$f":"IF(G160=\"\",\"\",VLOOKUP(G160,HM!$A$10:$B$209,2))","v":""}]
[null,null,{"$f":"IF(B161=\"\",\"\",VLOOKUP(B161,HM!$A$10:$B$209,2))","v":""},null,null,159,null,{"$f":"IF(G161=\"\",\"\",VLOOKUP(G161,HM!$A$10:$B$209,2))","v":""}]
[null,null,{"$f":"IF(B162=\"\",\"\",VLOOKUP(B162,HM!$A$10:$B$209,2))","v":""},null,null,160,null,{"$f":"IF(G162=\"\",\"\",VLOOKUP(G162,HM!$A$10:$B$209,2))","v":""}]
[null,null,{"$f":"IF(B163=\"\",\"\",VLOOKUP(B163,HM!$A$10:$B$209,2))","v":""},null,null,161,null,{"$f":"IF(G163=\"\",\"\",VLOOKUP(G163,HM!$A$10:$B$209,2))","v":""}]
[null,null,{"$f":"IF(B164=\"\",\"\",VLOOKUP(B164,HM!$A$10:$B$209,2))","v":""},null,null,162,null,{"$f":"IF(G164=\"\",\"\",VLOOKUP(G164,HM!$A$10:$B$209,2))","v":""}]
[null,null,{"$f":"IF(B165=\"\",\"\",VLOOKUP(B165,HM!$A$10:$B$209,2))","v":""},null,null,163,null,{"$f":"IF(G165=\"\",\"\",VLOOKUP(G165,HM!$A$10:$B$209,2))","v":""}]
[null,null,{"$f":"IF(B166=\"\",\"\",VLOOKUP(B166,HM!$A$10:$B$209,2))","v":""},null,null,164,null,{"$f":"IF(G166=\"\",\"\",VLOOKUP(G166,HM!$A$10:$B$209,2))","v":""}]
[null,null,{"$f":"IF(B167=\"\",\"\",VLOOKUP(B167,HM!$A$10:$B$209,2))","v":""},null,null,165,null,{"$f":"IF(G167=\"\",\"\",VLOOKUP(G167,HM!$A$10:$B$209,2))","v":""}]
[null,null,{"$f":"IF(B168=\"\",\"\",VLOOKUP(B168,HM!$A$10:$B$209,2))","v":""},null,null,166,null,{"$f":"IF(G168=\"\",\"\",VLOOKUP(G168,HM!$A$10:$B$209,2))","v":""}]
[null,null,{"$f":"IF(B169=\"\",\"\",VLOOKUP(B169,HM!$A$10:$B$209,2))","v":""},null,null,167,null,{"$f":"IF(G169=\"\",\"\",VLOOKUP(G169,HM!$A$10:$B$209,2))","v":""}]
[null,null,{"$f":"IF(B170=\"\",\"\",VLOOKUP(B170,HM!$A$10:$B$209,2))","v":""},null,null,168,null,{"$f":"IF(G170=\"\",\"\",VLOOKUP(G170,HM!$A$10:$B$209,2))","v":""}]
[null,null,{"$f":"IF(B171=\"\",\"\",VLOOKUP(B171,HM!$A$10:$B$209,2))","v":""},null,null,169,null,{"$f":"IF(G171=\"\",\"\",VLOOKUP(G171,HM!$A$10:$B$209,2))","v":""}]
[null,null,{"$f":"IF(B172=\"\",\"\",VLOOKUP(B172,HM!$A$10:$B$209,2))","v":""},null,null,170,null,{"$f":"IF(G172=\"\",\"\",VLOOKUP(G172,HM!$A$10:$B$209,2))","v":""}]
[null,null,{"$f":"IF(B173=\"\",\"\",VLOOKUP(B173,HM!$A$10:$B$209,2))","v":""},null,null,171,null,{"$f":"IF(G173=\"\",\"\",VLOOKUP(G173,HM!$A$10:$B$209,2))","v":""}]
[null,null,{"$f":"IF(B174=\"\",\"\",VLOOKUP(B174,HM!$A$10:$B$209,2))","v":""},null,null,172,null,{"$f":"IF(G174=\"\",\"\",VLOOKUP(G174,HM!$A$10:$B$209,2))","v":""}]
[null,null,{"$f":"IF(B175=\"\",\"\",VLOOKUP(B175,HM!$A$10:$B$209,2))","v":""},null,null,173,null,{"$f":"IF(G175=\"\",\"\",VLOOKUP(G175,HM!$A$10:$B$209,2))","v":""}]
[null,null,{"$f":"IF(B176=\"\",\"\",VLOOKUP(B176,HM!$A$10:$B$209,2))","v":""},null,null,174,null,{"$f":"IF(G176=\"\",\"\",VLOOKUP(G176,HM!$A$10:$B$209,2))","v":""}]
[null,null,{"$f":"IF(B177=\"\",\"\",VLOOKUP(B177,HM!$A$10:$B$209,2))","v":""},null,null,175,null,{"$f":"IF(G177=\"\",\"\",VLOOKUP(G177,HM!$A$10:$B$209,2))","v":""}]
[null,null,{"$f":"IF(B178=\"\",\"\",VLOOKUP(B178,HM!$A$10:$B$209,2))","v":""},null,null,176,null,{"$f":"IF(G178=\"\",\"\",VLOOKUP(G178,HM!$A$10:$B$209,2))","v":""}]
[null,null,{"$f":"IF(B179=\"\",\"\",VLOOKUP(B179,HM!$A$10:$B$209,2))","v":""},null,null,177,null,{"$f":"IF(G179=\"\",\"\",VLOOKUP(G179,HM!$A$10:$B$209,2))","v":""}]
[null,null,{"$f":"IF(B180=\"\",\"\",VLOOKUP(B180,HM!$A$10:$B$209,2))","v":""},null,null,178,null,{"$f":"IF(G180=\"\",\"\",VLOOKUP(G180,HM!$A$10:$B$209,2))","v":""}]
[null,null,{"$f":"IF(B181=\"\",\"\",VLOOKUP(B181,HM!$A$10:$B$209,2))","v":""},null,null,179,null,{"$f":"IF(G181=\"\",\"\",VLOOKUP(G181,HM!$A$10:$B$209,2))","v":""}]
[null,null,{"$f":"IF(B182=\"\",\"\",VLOOKUP(B182,HM!$A$10:$B$209,2))","v":""},null,null,180,null,{"$f":"IF(G182=\"\",\"\",VLOOKUP(G182,HM!$A$10:$B$209,2))","v":""}]
[null,null,{"$f":"IF(B183=\"\",\"\",VLOOKUP(B183,HM!$A$10:$B$209,2))","v":""},null,null,181,null,{"$f":"IF(G183=\"\",\"\",VLOOKUP(G183,HM!$A$10:$B$209,2))","v":""}]
[null,null,{"$f":"IF(B184=\"\",\"\",VLOOKUP(B184,HM!$A$10:$B$209,2))","v":""},null,null,182,null,{"$f":"IF(G184=\"\",\"\",VLOOKUP(G184,HM!$A$10:$B$209,2))","v":""}]
[null,null,{"$f":"IF(B185=\"\",\"\",VLOOKUP(B185,HM!$A$10:$B$209,2))","v":""},null,null,183,null,{"$f":"IF(G185=\"\",\"\",VLOOKUP(G185,HM!$A$10:$B$209,2))","v":""}]
[null,null,{"$f":"IF(B186=\"\",\"\",VLOOKUP(B186,HM!$A$10:$B$209,2))","v":""},null,null,184,null,{"$f":"IF(G186=\"\",\"\",VLOOKUP(G186,HM!$A$10:$B$209,2))","v":""}]
[null,null,{"$f":"IF(B187=\"\",\"\",VLOOKUP(B187,HM!$A$10:$B$209,2))","v":""},null,null,185,null,{"$f":"IF(G187=\"\",\"\",VLOOKUP(G187,HM!$A$10:$B$209,2))","v":""}]
[null,null,{"$f":"IF(B188=\"\",\"\",VLOOKUP(B188,HM!$A$10:$B$209,2))","v":""},null,null,186,null,{"$f":"IF(G188=\"\",\"\",VLOOKUP(G188,HM!$A$10:$B$209,2))","v":""}]
[null,null,{"$f":"IF(B189=\"\",\"\",VLOOKUP(B189,HM!$A$10:$B$209,2))","v":""},null,null,187,null,{"$f":"IF(G189=\"\",\"\",VLOOKUP(G189,HM!$A$10:$B$209,2))","v":""}]
[null,null,{"$f":"IF(B190=\"\",\"\",VLOOKUP(B190,HM!$A$10:$B$209,2))","v":""},null,null,188,null,{"$f":"IF(G190=\"\",\"\",VLOOKUP(G190,HM!$A$10:$B$209,2))","v":""}]
[null,null,{"$f":"IF(B191=\"\",\"\",VLOOKUP(B191,HM!$A$10:$B$209,2))","v":""},null,null,189,null,{"$f":"IF(G191=\"\",\"\",VLOOKUP(G191,HM!$A$10:$B$209,2))","v":""}]
[null,null,{"$f":"IF(B192=\"\",\"\",VLOOKUP(B192,HM!$A$10:$B$209,2))","v":""},null,null,190,null,{"$f":"IF(G192=\"\",\"\",VLOOKUP(G192,HM!$A$10:$B$209,2))","v":""}]
[null,null,{"$f":"IF(B193=\"\",\"\",VLOOKUP(B193,HM!$A$10:$B$209,2))","v":""},null,null,191,null,{"$f":"IF(G193=\"\",\"\",VLOOKUP(G193,HM!$A$10:$B$209,2))","v":""}]
[null,null,{"$f":"IF(B194=\"\",\"\",VLOOKUP(B194,HM!$A$10:$B$209,2))","v":""},null,null,192,null,{"$f":"IF(G194=\"\",\"\",VLOOKUP(G194,HM!$A$10:$B$209,2))","v":""}]
[null,null,{"$f":"IF(B195=\"\",\"\",VLOOKUP(B195,HM!$A$10:$B$209,2))","v":""},null,null,193,null,{"$f":"IF(G195=\"\",\"\",VLOOKUP(G195,HM!$A$10:$B$209,2))","v":""}]
[null,null,{"$f":"IF(B196=\"\",\"\",VLOOKUP(B196,HM!$A$10:$B$209,2))","v":""},null,null,194,null,{"$f":"IF(G196=\"\",\"\",VLOOKUP(G196,HM!$A$10:$B$209,2))","v":""}]
[null,null,{"$f":"IF(B197=\"\",\"\",VLOOKUP(B197,HM!$A$10:$B$209,2))","v":""},null,null,195,null,{"$f":"IF(G197=\"\",\"\",VLOOKUP(G197,HM!$A$10:$B$209,2))","v":""}]
[null,null,{"$f":"IF(B198=\"\",\"\",VLOOKUP(B198,HM!$A$10:$B$209,2))","v":""},null,null,196,null,{"$f":"IF(G198=\"\",\"\",VLOOKUP(G198,HM!$A$10:$B$209,2))","v":""}]
[null,null,{"$f":"IF(B199=\"\",\"\",VLOOKUP(B199,HM!$A$10:$B$209,2))","v":""},null,null,197,null,{"$f":"IF(G199=\"\",\"\",VLOOKUP(G199,HM!$A$10:$B$209,2))","v":""}]
[null,null,{"$f":"IF(B200=\"\",\"\",VLOOKUP(B200,HM!$A$10:$B$209,2))","v":""},null,null,198,null,{"$f":"IF(G200=\"\",\"\",VLOOKUP(G200,HM!$A$10:$B$209,2))","v":""}]
[null,null,{"$f":"IF(B201=\"\",\"\",VLOOKUP(B201,HM!$A$10:$B$209,2))","v":""},null,null,199,null,{"$f":"IF(G201=\"\",\"\",VLOOKUP(G201,HM!$A$10:$B$209,2))","v":""}]
[null,null,{"$f":"IF(B202=\"\",\"\",VLOOKUP(B202,HM!$A$10:$B$209,2))","v":""},null,null,200,null,{"$f":"IF(G202=\"\",\"\",VLOOKUP(G202,HM!$A$10:$B$209,2))","v":""}]

{"sheet":"CFP","index":3,"n_rows":202,"n_cols":9,"rows_kept":202,"cut":false,"hidden":false,"merged":[[0,1,0,4],[0,6,0,8]]}
[null,"Culemannpokal\n(Jugend 16 bis 20 Jahre)",null,null,null,null,"Freihandpokal\n(alle ab 16 Jahre)"]
[null,"Lfd.\nNr.:","Vor- und Nachname:","Ringe:","schlechtester\nEinzelschuss",null,"Lfd.\nNr.:","Vor- und Nachname:","Ringe:"]
[null,null,{"$f":"IF(B3=\"\",\"\",VLOOKUP(B3,HM!$A$10:$B$209,2))","v":""},null,null,1,null,{"$f":"IF(G3=\"\",\"\",VLOOKUP(G3,HM!$A$10:$B$209,2))","v":""}]
[null,null,{"$f":"IF(B4=\"\",\"\",VLOOKUP(B4,HM!$A$10:$B$209,2))","v":""},null,null,2,null,{"$f":"IF(G4=\"\",\"\",VLOOKUP(G4,HM!$A$10:$B$209,2))","v":""}]
[null,null,{"$f":"IF(B5=\"\",\"\",VLOOKUP(B5,HM!$A$10:$B$209,2))","v":""},null,null,3,null,{"$f":"IF(G5=\"\",\"\",VLOOKUP(G5,HM!$A$10:$B$209,2))","v":""}]
[null,null,{"$f":"IF(B6=\"\",\"\",VLOOKUP(B6,HM!$A$10:$B$209,2))","v":""},null,null,4,null,{"$f":"IF(G6=\"\",\"\",VLOOKUP(G6,HM!$A$10:$B$209,2))","v":""}]
[null,null,{"$f":"IF(B7=\"\",\"\",VLOOKUP(B7,HM!$A$10:$B$209,2))","v":""},null,null,5,null,{"$f":"IF(G7=\"\",\"\",VLOOKUP(G7,HM!$A$10:$B$209,2))","v":""}]
[null,null,{"$f":"IF(B8=\"\",\"\",VLOOKUP(B8,HM!$A$10:$B$209,2))","v":""},null,null,6,null,{"$f":"IF(G8=\"\",\"\",VLOOKUP(G8,HM!$A$10:$B$209,2))","v":""}]
[null,null,{"$f":"IF(B9=\"\",\"\",VLOOKUP(B9,HM!$A$10:$B$209,2))","v":""},null,null,7,null,{"$f":"IF(G9=\"\",\"\",VLOOKUP(G9,HM!$A$10:$B$209,2))","v":""}]
[null,null,{"$f":"IF(B10=\"\",\"\",VLOOKUP(B10,HM!$A$10:$B$209,2))","v":""},null,null,8,null,{"$f":"IF(G10=\"\",\"\",VLOOKUP(G10,HM!$A$10:$B$209,2))","v":""}]
[null,null,{"$f":"IF(B11=\"\",\"\",VLOOKUP(B11,HM!$A$10:$B$209,2))","v":""},null,null,9,null,{"$f":"IF(G11=\"\",\"\",VLOOKUP(G11,HM!$A$10:$B$209,2))","v":""}]
[null,null,{"$f":"IF(B12=\"\",\"\",VLOOKUP(B12,HM!$A$10:$B$209,2))","v":""},null,null,10,null,{"$f":"IF(G12=\"\",\"\",VLOOKUP(G12,HM!$A$10:$B$209,2))","v":""}]
[null,null,{"$f":"IF(B13=\"\",\"\",VLOOKUP(B13,HM!$A$10:$B$209,2))","v":""},null,null,11,null,{"$f":"IF(G13=\"\",\"\",VLOOKUP(G13,HM!$A$10:$B$209,2))","v":""}]
[null,null,{"$f":"IF(B14=\"\",\"\",VLOOKUP(B14,HM!$A$10:$B$209,2))","v":""},null,null,12,null,{"$f":"IF(G14=\"\",\"\",VLOOKUP(G14,HM!$A$10:$B$209,2))","v":""}]
[null,null,{"$f":"IF(B15=\"\",\"\",VLOOKUP(B15,HM!$A$10:$B$209,2))","v":""},null,null,13,null,{"$f":"IF(G15=\"\",\"\",VLOOKUP(G15,HM!$A$10:$B$209,2))","v":""}]
[null,null,{"$f":"IF(B16=\"\",\"\",VLOOKUP(B16,HM!$A$10:$B$209,2))","v":""},null,null,14,null,{"$f":"IF(G16=\"\",\"\",VLOOKUP(G16,HM!$A$10:$B$209,2))","v":""}]
[null,null,{"$f":"IF(B17=\"\",\"\",VLOOKUP(B17,HM!$A$10:$B$209,2))","v":""},null,null,15,null,{"$f":"IF(G17=\"\",\"\",VLOOKUP(G17,HM!$A$10:$B$209,2))","v":""}]
[null,null,{"$f":"IF(B18=\"\",\"\",VLOOKUP(B18,HM!$A$10:$B$209,2))","v":""},null,null,16,null,{"$f":"IF(G18=\"\",\"\",VLOOKUP(G18,HM!$A$10:$B$209,2))","v":""}]
[null,null,{"$f":"IF(B19=\"\",\"\",VLOOKUP(B19,HM!$A$10:$B$209,2))","v":""},null,null,17,null,{"$f":"IF(G19=\"\",\"\",VLOOKUP(G19,HM!$A$10:$B$209,2))","v":""}]
[null,null,{"$f":"IF(B20=\"\",\"\",VLOOKUP(B20,HM!$A$10:$B$209,2))","v":""},null,null,18,null,{"$f":"IF(G20=\"\",\"\",VLOOKUP(G20,HM!$A$10:$B$209,2))","v":""}]
[null,null,{"$f":"IF(B21=\"\",\"\",VLOOKUP(B21,HM!$A$10:$B$209,2))","v":""},null,null,19,null,{"$f":"IF(G21=\"\",\"\",VLOOKUP(G21,HM!$A$10:$B$209,2))","v":""}]
[null,null,{"$f":"IF(B22=\"\",\"\",VLOOKUP(B22,HM!$A$10:$B$209,2))","v":""},null,null,20,null,{"$f":"IF(G22=\"\",\"\",VLOOKUP(G22,HM!$A$10:$B$209,2))","v":""}]
[null,null,{"$f":"IF(B23=\"\",\"\",VLOOKUP(B23,HM!$A$10:$B$209,2))","v":""},null,null,21,null,{"$f":"IF(G23=\"\",\"\",VLOOKUP(G23,HM!$A$10:$B$209,2))","v":""}]
[null,null,{"$f":"IF(B24=\"\",\"\",VLOOKUP(B24,HM!$A$10:$B$209,2))","v":""},null,null,22,null,{"$f":"IF(G24=\"\",\"\",VLOOKUP(G24,HM!$A$10:$B$209,2))","v":""}]
[null,null,{"$f":"IF(B25=\"\",\"\",VLOOKUP(B25,HM!$A$10:$B$209,2))","v":""},null,null,23,null,{"$f":"IF(G25=\"\",\"\",VLOOKUP(G25,HM!$A$10:$B$209,2))","v":""}]
[null,null,{"$f":"IF(B26=\"\",\"\",VLOOKUP(B26,HM!$A$10:$B$209,2))","v":""},null,null,24,null,{"$f":"IF(G26=\"\",\"\",VLOOKUP(G26,HM!$A$10:$B$209,2))","v":""}]
[null,null,{"$f":"IF(B27=\"\",\"\",VLOOKUP(B27,HM!$A$10:$B$209,2))","v":""},null,null,25,null,{"$f":"IF(G27=\"\",\"\",VLOOKUP(G27,HM!$A$10:$B$209,2))","v":""}]
[null,null,{"$f":"IF(B28=\"\",\"\",VLOOKUP(B28,HM!$A$10:$B$209,2))","v":""},null,null,26,null,{"$f":"IF(G28=\"\",\"\",VLOOKUP(G28,HM!$A$10:$B$209,2))","v":""}]
[null,null,{"$f":"IF(B29=\"\",\"\",VLOOKUP(B29,HM!$A$10:$B$209,2))","v":""},null,null,27,null,{"$f":"IF(G29=\"\",\"\",VLOOKUP(G29,HM!$A$10:$B$209,2))","v":""}]
[null,null,{"$f":"IF(B30=\"\",\"\",VLOOKUP(B30,HM!$A$10:$B$209,2))","v":""},null,null,28,null,{"$f":"IF(G30=\"\",\"\",VLOOKUP(G30,HM!$A$10:$B$209,2))","v":""}]
[null,null,{"$f":"IF(B31=\"\",\"\",VLOOKUP(B31,HM!$A$10:$B$209,2))","v":""},null,null,29,null,{"$f":"IF(G31=\"\",\"\",VLOOKUP(G31,HM!$A$10:$B$209,2))","v":""}]
[null,null,{"$f":"IF(B32=\"\",\"\",VLOOKUP(B32,HM!$A$10:$B$209,2))","v":""},null,null,30,null,{"$f":"IF(G32=\"\",\"\",VLOOKUP(G32,HM!$A$10:$B$209,2))","v":""}]
[null,null,{"$f":"IF(B33=\"\",\"\",VLOOKUP(B33,HM!$A$10:$B$209,2))","v":""},null,null,31,null,{"$f":"IF(G33=\"\",\"\",VLOOKUP(G33,HM!$A$10:$B$209,2))","v":""}]
[null,null,{"$f":"IF(B34=\"\",\"\",VLOOKUP(B34,HM!$A$10:$B$209,2))","v":""},null,null,32,null,{"$f":"IF(G34=\"\",\"\",VLOOKUP(G34,HM!$A$10:$B$209,2))","v":""}]
[null,null,{"$f":"IF(B35=\"\",\"\",VLOOKUP(B35,HM!$A$10:$B$209,2))","v":""},null,null,33,null,{"$f":"IF(G35=\"\",\"\",VLOOKUP(G35,HM!$A$10:$B$209,2))","v":""}]
[null,null,{"$f":"IF(B36=\"\",\"\",VLOOKUP(B36,HM!$A$10:$B$209,2))","v":""},null,null,34,null,{"$f":"IF(G36=\"\",\"\",VLOOKUP(G36,HM!$A$10:$B$209,2))","v":""}]
[null,null,{"$f":"IF(B37=\"\",\"\",VLOOKUP(B37,HM!$A$10:$B$209,2))","v":""},null,null,35,null,{"$f":"IF(G37=\"\",\"\",VLOOKUP(G37,HM!$A$10:$B$209,2))","v":""}]
[null,null,{"$f":"IF(B38=\"\",\"\",VLOOKUP(B38,HM!$A$10:$B$209,2))","v":""},null,null,36,null,{"$f":"IF(G38=\"\",\"\",VLOOKUP(G38,HM!$A$10:$B$209,2))","v":""}]
[null,null,{"$f":"IF(B39=\"\",\"\",VLOOKUP(B39,HM!$A$10:$B$209,2))","v":""},null,null,37,null,{"$f":"IF(G39=\"\",\"\",VLOOKUP(G39,HM!$A$10:$B$209,2))","v":""}]
[null,null,{"$f":"IF(B40=\"\",\"\",VLOOKUP(B40,HM!$A$10:$B$209,2))","v":""},null,null,38,null,{"$f":"IF(G40=\"\",\"\",VLOOKUP(G40,HM!$A$10:$B$209,2))","v":""}]
[null,null,{"$f":"IF(B41=\"\",\"\",VLOOKUP(B41,HM!$A$10:$B$209,2))","v":""},null,null,39,null,{"$f":"IF(G41=\"\",\"\",VLOOKUP(G41,HM!$A$10:$B$209,2))","v":""}]
[null,null,{"$f":"IF(B42=\"\",\"\",VLOOKUP(B42,HM!$A$10:$B$209,2))","v":""},null,null,40,null,{"$f":"IF(G42=\"\",\"\",VLOOKUP(G42,HM!$A$10:$B$209,2))","v":""}]
[null,null,{"$f":"IF(B43=\"\",\"\",VLOOKUP(B43,HM!$A$10:$B$209,2))","v":""},null,null,41,null,{"$f":"IF(G43=\"\",\"\",VLOOKUP(G43,HM!$A$10:$B$209,2))","v":""}]
[null,null,{"$f":"IF(B44=\"\",\"\",VLOOKUP(B44,HM!$A$10:$B$209,2))","v":""},null,null,42,null,{"$f":"IF(G44=\"\",\"\",VLOOKUP(G44,HM!$A$10:$B$209,2))","v":""}]
[null,null,{"$f":"IF(B45=\"\",\"\",VLOOKUP(B45,HM!$A$10:$B$209,2))","v":""},null,null,43,null,{"$f":"IF(G45=\"\",\"\",VLOOKUP(G45,HM!$A$10:$B$209,2))","v":""}]
[null,null,{"$f":"IF(B46=\"\",\"\",VLOOKUP(B46,HM!$A$10:$B$209,2))","v":""},null,null,44,null,{"$f":"IF(G46=\"\",\"\",VLOOKUP(G46,HM!$A$10:$B$209,2))","v":""}]
[null,null,{"$f":"IF(B47=\"\",\"\",VLOOKUP(B47,HM!$A$10:$B$209,2))","v":""},null,null,45,null,{"$f":"IF(G47=\"\",\"\",VLOOKUP(G47,HM!$A$10:$B$209,2))","v":""}]
[null,null,{"$f":"IF(B48=\"\",\"\",VLOOKUP(B48,HM!$A$10:$B$209,2))","v":""},null,null,46,null,{"$f":"IF(G48=\"\",\"\",VLOOKUP(G48,HM!$A$10:$B$209,2))","v":""}]
[null,null,{"$f":"IF(B49=\"\",\"\",VLOOKUP(B49,HM!$A$10:$B$209,2))","v":""},null,null,47,null,{"$f":"IF(G49=\"\",\"\",VLOOKUP(G49,HM!$A$10:$B$209,2))","v":""}]
[null,null,{"$f":"IF(B50=\"\",\"\",VLOOKUP(B50,HM!$A$10:$B$209,2))","v":""},null,null,48,null,{"$f":"IF(G50=\"\",\"\",VLOOKUP(G50,HM!$A$10:$B$209,2))","v":""}]
[null,null,{"$f":"IF(B51=\"\",\"\",VLOOKUP(B51,HM!$A$10:$B$209,2))","v":""},null,null,49,null,{"$f":"IF(G51=\"\",\"\",VLOOKUP(G51,HM!$A$10:$B$209,2))","v":""}]
[null,null,{"$f":"IF(B52=\"\",\"\",VLOOKUP(B52,HM!$A$10:$B$209,2))","v":""},null,null,50,null,{"$f":"IF(G52=\"\",\"\",VLOOKUP(G52,HM!$A$10:$B$209,2))","v":""}]
[null,null,{"$f":"IF(B53=\"\",\"\",VLOOKUP(B53,HM!$A$10:$B$209,2))","v":""},null,null,51,null,{"$f":"IF(G53=\"\",\"\",VLOOKUP(G53,HM!$A$10:$B$209,2))","v":""}]
[null,null,{"$f":"IF(B54=\"\",\"\",VLOOKUP(B54,HM!$A$10:$B$209,2))","v":""},null,null,52,null,{"$f":"IF(G54=\"\",\"\",VLOOKUP(G54,HM!$A$10:$B$209,2))","v":""}]
[null,null,{"$f":"IF(B55=\"\",\"\",VLOOKUP(B55,HM!$A$10:$B$209,2))","v":""},null,null,53,null,{"$f":"IF(G55=\"\",\"\",VLOOKUP(G55,HM!$A$10:$B$209,2))","v":""}]
[null,null,{"$f":"IF(B56=\"\",\"\",VLOOKUP(B56,HM!$A$10:$B$209,2))","v":""},null,null,54,null,{"$f":"IF(G56=\"\",\"\",VLOOKUP(G56,HM!$A$10:$B$209,2))","v":""}]
[null,null,{"$f":"IF(B57=\"\",\"\",VLOOKUP(B57,HM!$A$10:$B$209,2))","v":""},null,null,55,null,{"$f":"IF(G57=\"\",\"\",VLOOKUP(G57,HM!$A$10:$B$209,2))","v":""}]
[null,null,{"$f":"IF(B58=\"\",\"\",VLOOKUP(B58,HM!$A$10:$B$209,2))","v":""},null,null,56,null,{"$f":"IF(G58=\"\",\"\",VLOOKUP(G58,HM!$A$10:$B$209,2))","v":""}]
[null,null,{"$f":"IF(B59=\"\",\"\",VLOOKUP(B59,HM!$A$10:$B$209,2))","v":""},null,null,57,null,{"$f":"IF(G59=\"\",\"\",VLOOKUP(G59,HM!$A$10:$B$209,2))","v":""}]
[null,null,{"$f":"IF(B60=\"\",\"\",VLOOKUP(B60,HM!$A$10:$B$209,2))","v":""},null,null,58,null,{"$f":"IF(G60=\"\",\"\",VLOOKUP(G60,HM!$A$10:$B$209,2))","v":""}]
[null,null,{"$f":"IF(B61=\"\",\"\",VLOOKUP(B61,HM!$A$10:$B$209,2))","v":""},null,null,59,null,{"$f":"IF(G61=\"\",\"\",VLOOKUP(G61,HM!$A$10:$B$209,2))","v":""}]
[null,null,{"$f":"IF(B62=\"\",\"\",VLOOKUP(B62,HM!$A$10:$B$209,2))","v":""},null,null,60,null,{"$f":"IF(G62=\"\",\"\",VLOOKUP(G62,HM!$A$10:$B$209,2))","v":""}]
[null,null,{"$f":"IF(B63=\"\",\"\",VLOOKUP(B63,HM!$A$10:$B$209,2))","v":""},null,null,61,null,{"$f":"IF(G63=\"\",\"\",VLOOKUP(G63,HM!$A$10:$B$209,2))","v":""}]
[null,null,{"$f":"IF(B64=\"\",\"\",VLOOKUP(B64,HM!$A$10:$B$209,2))","v":""},null,null,62,null,{"$f":"IF(G64=\"\",\"\",VLOOKUP(G64,HM!$A$10:$B$209,2))","v":""}]
[null,null,{"$f":"IF(B65=\"\",\"\",VLOOKUP(B65,HM!$A$10:$B$209,2))","v":""},null,null,63,null,{"$f":"IF(G65=\"\",\"\",VLOOKUP(G65,HM!$A$10:$B$209,2))","v":""}]
[null,null,{"$f":"IF(B66=\"\",\"\",VLOOKUP(B66,HM!$A$10:$B$209,2))","v":""},null,null,64,null,{"$f":"IF(G66=\"\",\"\",VLOOKUP(G66,HM!$A$10:$B$209,2))","v":""}]
[null,null,{"$f":"IF(B67=\"\",\"\",VLOOKUP(B67,HM!$A$10:$B$209,2))","v":""},null,null,65,null,{"$f":"IF(G67=\"\",\"\",VLOOKUP(G67,HM!$A$10:$B$209,2))","v":""}]
[null,null,{"$f":"IF(B68=\"\",\"\",VLOOKUP(B68,HM!$A$10:$B$209,2))","v":""},null,null,66,null,{"$f":"IF(G68=\"\",\"\",VLOOKUP(G68,HM!$A$10:$B$209,2))","v":""}]
[null,null,{"$f":"IF(B69=\"\",\"\",VLOOKUP(B69,HM!$A$10:$B$209,2))","v":""},null,null,67,null,{"$f":"IF(G69=\"\",\"\",VLOOKUP(G69,HM!$A$10:$B$209,2))","v":""}]
[null,null,{"$f":"IF(B70=\"\",\"\",VLOOKUP(B70,HM!$A$10:$B$209,2))","v":""},null,null,68,null,{"$f":"IF(G70=\"\",\"\",VLOOKUP(G70,HM!$A$10:$B$209,2))","v":""}]
[null,null,{"$f":"IF(B71=\"\",\"\",VLOOKUP(B71,HM!$A$10:$B$209,2))","v":""},null,null,69,null,{"$f":"IF(G71=\"\",\"\",VLOOKUP(G71,HM!$A$10:$B$209,2))","v":""}]
[null,null,{"$f":"IF(B72=\"\",\"\",VLOOKUP(B72,HM!$A$10:$B$209,2))","v":""},null,null,70,null,{"$f":"IF(G72=\"\",\"\",VLOOKUP(G72,HM!$A$10:$B$209,2))","v":""}]
[null,null,{"$f":"IF(B73=\"\",\"\",VLOOKUP(B73,HM!$A$10:$B$209,2))","v":""},null,null,71,null,{"$f":"IF(G73=\"\",\"\",VLOOKUP(G73,HM!$A$10:$B$209,2))","v":""}]
[null,null,{"$f":"IF(B74=\"\",\"\",VLOOKUP(B74,HM!$A$10:$B$209,2))","v":""},null,null,72,null,{"$f":"IF(G74=\"\",\"\",VLOOKUP(G74,HM!$A$10:$B$209,2))","v":""}]
[null,null,{"$f":"IF(B75=\"\",\"\",VLOOKUP(B75,HM!$A$10:$B$209,2))","v":""},null,null,73,null,{"$f":"IF(G75=\"\",\"\",VLOOKUP(G75,HM!$A$10:$B$209,2))","v":""}]
[null,null,{"$f":"IF(B76=\"\",\"\",VLOOKUP(B76,HM!$A$10:$B$209,2))","v":""},null,null,74,null,{"$f":"IF(G76=\"\",\"\",VLOOKUP(G76,HM!$A$10:$B$209,2))","v":""}]
[null,null,{"$f":"IF(B77=\"\",\"\",VLOOKUP(B77,HM!$A$10:$B$209,2))","v":""},null,null,75,null,{"$f":"IF(G77=\"\",\"\",VLOOKUP(G77,HM!$A$10:$B$209,2))","v":""}]
[null,null,{"$f":"IF(B78=\"\",\"\",VLOOKUP(B78,HM!$A$10:$B$209,2))","v":""},null,null,76,null,{"$f":"IF(G78=\"\",\"\",VLOOKUP(G78,HM!$A$10:$B$209,2))","v":""}]
[null,null,{"$f":"IF(B79=\"\",\"\",VLOOKUP(B79,HM!$A$10:$B$209,2))","v":""},null,null,77,null,{"$f":"IF(G79=\"\",\"\",VLOOKUP(G79,HM!$A$10:$B$209,2))","v":""}]
[null,null,{"$f":"IF(B80=\"\",\"\",VLOOKUP(B80,HM!$A$10:$B$209,2))","v":""},null,null,78,null,{"$f":"IF(G80=\"\",\"\",VLOOKUP(G80,HM!$A$10:$B$209,2))","v":""}]
[null,null,{"$f":"IF(B81=\"\",\"\",VLOOKUP(B81,HM!$A$10:$B$209,2))","v":""},null,null,79,null,{"$f":"IF(G81=\"\",\"\",VLOOKUP(G81,HM!$A$10:$B$209,2))","v":""}]
[null,null,{"$f":"IF(B82=\"\",\"\",VLOOKUP(B82,HM!$A$10:$B$209,2))","v":""},null,null,80,null,{"$f":"IF(G82=\"\",\"\",VLOOKUP(G82,HM!$A$10:$B$209,2))","v":""}]
[null,null,{"$f":"IF(B83=\"\",\"\",VLOOKUP(B83,HM!$A$10:$B$209,2))","v":""},null,null,81,null,{"$f":"IF(G83=\"\",\"\",VLOOKUP(G83,HM!$A$10:$B$209,2))","v":""}]
[null,null,{"$f":"IF(B84=\"\",\"\",VLOOKUP(B84,HM!$A$10:$B$209,2))","v":""},null,null,82,null,{"$f":"IF(G84=\"\",\"\",VLOOKUP(G84,HM!$A$10:$B$209,2))","v":""}]
[null,null,{"$f":"IF(B85=\"\",\"\",VLOOKUP(B85,HM!$A$10:$B$209,2))","v":""},null,null,83,null,{"$f":"IF(G85=\"\",\"\",VLOOKUP(G85,HM!$A$10:$B$209,2))","v":""}]
[null,null,{"$f":"IF(B86=\"\",\"\",VLOOKUP(B86,HM!$A$10:$B$209,2))","v":""},null,null,84,null,{"$f":"IF(G86=\"\",\"\",VLOOKUP(G86,HM!$A$10:$B$209,2))","v":""}]
[null,null,{"$f":"IF(B87=\"\",\"\",VLOOKUP(B87,HM!$A$10:$B$209,2))","v":""},null,null,85,null,{"$f":"IF(G87=\"\",\"\",VLOOKUP(G87,HM!$A$10:$B$209,2))","v":""}]
[null,null,{"$f":"IF(B88=\"\",\"\",VLOOKUP(B88,HM!$A$10:$B$209,2))","v":""},null,null,86,null,{"$f":"IF(G88=\"\",\"\",VLOOKUP(G88,HM!$A$10:$B$209,2))","v":""}]
[null,null,{"$f":"IF(B89=\"\",\"\",VLOOKUP(B89,HM!$A$10:$B$209,2))","v":""},null,null,87,null,{"$f":"IF(G89=\"\",\"\",VLOOKUP(G89,HM!$A$10:$B$209,2))","v":""}]
[null,null,{"$f":"IF(B90=\"\",\"\",VLOOKUP(B90,HM!$A$10:$B$209,2))","v":""},null,null,88,null,{"$f":"IF(G90=\"\",\"\",VLOOKUP(G90,HM!$A$10:$B$209,2))","v":""}]
[null,null,{"$f":"IF(B91=\"\",\"\",VLOOKUP(B91,HM!$A$10:$B$209,2))","v":""},null,null,89,null,{"$f":"IF(G91=\"\",\"\",VLOOKUP(G91,HM!$A$10:$B$209,2))","v":""}]
[null,null,{"$f":"IF(B92=\"\",\"\",VLOOKUP(B92,HM!$A$10:$B$209,2))","v":""},null,null,90,null,{"$f":"IF(G92=\"\",\"\",VLOOKUP(G92,HM!$A$10:$B$209,2))","v":""}]
[null,null,{"$f":"IF(B93=\"\",\"\",VLOOKUP(B93,HM!$A$10:$B$209,2))","v":""},null,null,91,null,{"$f":"IF(G93=\"\",\"\",VLOOKUP(G93,HM!$A$10:$B$209,2))","v":""}]
[null,null,{"$f":"IF(B94=\"\",\"\",VLOOKUP(B94,HM!$A$10:$B$209,2))","v":""},null,null,92,null,{"$f":"IF(G94=\"\",\"\",VLOOKUP(G94,HM!$A$10:$B$209,2))","v":""}]
[null,null,{"$f":"IF(B95=\"\",\"\",VLOOKUP(B95,HM!$A$10:$B$209,2))","v":""},null,null,93,null,{"$f":"IF(G95=\"\",\"\",VLOOKUP(G95,HM!$A$10:$B$209,2))","v":""}]
[null,null,{"$f":"IF(B96=\"\",\"\",VLOOKUP(B96,HM!$A$10:$B$209,2))","v":""},null,null,94,null,{"$f":"IF(G96=\"\",\"\",VLOOKUP(G96,HM!$A$10:$B$209,2))","v":""}]
[null,null,{"$f":"IF(B97=\"\",\"\",VLOOKUP(B97,HM!$A$10:$B$209,2))","v":""},null,null,95,null,{"$f":"IF(G97=\"\",\"\",VLOOKUP(G97,HM!$A$10:$B$209,2))","v":""}]
[null,null,{"$f":"IF(B98=\"\",\"\",VLOOKUP(B98,HM!$A$10:$B$209,2))","v":""},null,null,96,null,{"$f":"IF(G98=\"\",\"\",VLOOKUP(G98,HM!$A$10:$B$209,2))","v":""}]
[null,null,{"$f":"IF(B99=\"\",\"\",VLOOKUP(B99,HM!$A$10:$B$209,2))","v":""},null,null,97,null,{"$f":"IF(G99=\"\",\"\",VLOOKUP(G99,HM!$A$10:$B$209,2))","v":""}]
[null,null,{"$f":"IF(B100=\"\",\"\",VLOOKUP(B100,HM!$A$10:$B$209,2))","v":""},null,null,98,null,{"$f":"IF(G100=\"\",\"\",VLOOKUP(G100,HM!$A$10:$B$209,2))","v":""}]
[null,null,{"$f":"IF(B101=\"\",\"\",VLOOKUP(B101,HM!$A$10:$B$209,2))","v":""},null,null,99,null,{"$f":"IF(G101=\"\",\"\",VLOOKUP(G101,HM!$A$10:$B$209,2))","v":""}]
[null,null,{"$f":"IF(B102=\"\",\"\",VLOOKUP(B102,HM!$A$10:$B$209,2))","v":""},null,null,100,null,{"$f":"IF(G102=\"\",\"\",VLOOKUP(G102,HM!$A$10:$B$209,2))","v":""}]
[null,null,{"$f":"IF(B103=\"\",\"\",VLOOKUP(B103,HM!$A$10:$B$209,2))","v":""},null,null,101,null,{"$f":"IF(G103=\"\",\"\",VLOOKUP(G103,HM!$A$10:$B$209,2))","v":""}]
[null,null,{"$f":"IF(B104=\"\",\"\",VLOOKUP(B104,HM!$A$10:$B$209,2))","v":""},null,null,102,null,{"$f":"IF(G104=\"\",\"\",VLOOKUP(G104,HM!$A$10:$B$209,2))","v":""}]
[null,null,{"$f":"IF(B105=\"\",\"\",VLOOKUP(B105,HM!$A$10:$B$209,2))","v":""},null,null,103,null,{"$f":"IF(G105=\"\",\"\",VLOOKUP(G105,HM!$A$10:$B$209,2))","v":""}]
[null,null,{"$f":"IF(B106=\"\",\"\",VLOOKUP(B106,HM!$A$10:$B$209,2))","v":""},null,null,104,null,{"$f":"IF(G106=\"\",\"\",VLOOKUP(G106,HM!$A$10:$B$209,2))","v":""}]
[null,null,{"$f":"IF(B107=\"\",\"\",VLOOKUP(B107,HM!$A$10:$B$209,2))","v":""},null,null,105,null,{"$f":"IF(G107=\"\",\"\",VLOOKUP(G107,HM!$A$10:$B$209,2))","v":""}]
[null,null,{"$f":"IF(B108=\"\",\"\",VLOOKUP(B108,HM!$A$10:$B$209,2))","v":""},null,null,106,null,{"$f":"IF(G108=\"\",\"\",VLOOKUP(G108,HM!$A$10:$B$209,2))","v":""}]
[null,null,{"$f":"IF(B109=\"\",\"\",VLOOKUP(B109,HM!$A$10:$B$209,2))","v":""},null,null,107,null,{"$f":"IF(G109=\"\",\"\",VLOOKUP(G109,HM!$A$10:$B$209,2))","v":""}]
[null,null,{"$f":"IF(B110=\"\",\"\",VLOOKUP(B110,HM!$A$10:$B$209,2))","v":""},null,null,108,null,{"$f":"IF(G110=\"\",\"\",VLOOKUP(G110,HM!$A$10:$B$209,2))","v":""}]
[null,null,{"$f":"IF(B111=\"\",\"\",VLOOKUP(B111,HM!$A$10:$B$209,2))","v":""},null,null,109,null,{"$f":"IF(G111=\"\",\"\",VLOOKUP(G111,HM!$A$10:$B$209,2))","v":""}]
[null,null,{"$f":"IF(B112=\"\",\"\",VLOOKUP(B112,HM!$A$10:$B$209,2))","v":""},null,null,110,null,{"$f":"IF(G112=\"\",\"\",VLOOKUP(G112,HM!$A$10:$B$209,2))","v":""}]
[null,null,{"$f":"IF(B113=\"\",\"\",VLOOKUP(B113,HM!$A$10:$B$209,2))","v":""},null,null,111,null,{"$f":"IF(G113=\"\",\"\",VLOOKUP(G113,HM!$A$10:$B$209,2))","v":""}]
[null,null,{"$f":"IF(B114=\"\",\"\",VLOOKUP(B114,HM!$A$10:$B$209,2))","v":""},null,null,112,null,{"$f":"IF(G114=\"\",\"\",VLOOKUP(G114,HM!$A$10:$B$209,2))","v":""}]
[null,null,{"$f":"IF(B115=\"\",\"\",VLOOKUP(B115,HM!$A$10:$B$209,2))","v":""},null,null,113,null,{"$f":"IF(G115=\"\",\"\",VLOOKUP(G115,HM!$A$10:$B$209,2))","v":""}]
[null,null,{"$f":"IF(B116=\"\",\"\",VLOOKUP(B116,HM!$A$10:$B$209,2))","v":""},null,null,114,null,{"$f":"IF(G116=\"\",\"\",VLOOKUP(G116,HM!$A$10:$B$209,2))","v":""}]
[null,null,{"$f":"IF(B117=\"\",\"\",VLOOKUP(B117,HM!$A$10:$B$209,2))","v":""},null,null,115,null,{"$f":"IF(G117=\"\",\"\",VLOOKUP(G117,HM!$A$10:$B$209,2))","v":""}]
[null,null,{"$f":"IF(B118=\"\",\"\",VLOOKUP(B118,HM!$A$10:$B$209,2))","v":""},null,null,116,null,{"$f":"IF(G118=\"\",\"\",VLOOKUP(G118,HM!$A$10:$B$209,2))","v":""}]
[null,null,{"$f":"IF(B119=\"\",\"\",VLOOKUP(B119,HM!$A$10:$B$209,2))","v":""},null,null,117,null,{"$f":"IF(G119=\"\",\"\",VLOOKUP(G119,HM!$A$10:$B$209,2))","v":""}]
[null,null,{"$f":"IF(B120=\"\",\"\",VLOOKUP(B120,HM!$A$10:$B$209,2))","v":""},null,null,118,null,{"$f":"IF(G120=\"\",\"\",VLOOKUP(G120,HM!$A$10:$B$209,2))","v":""}]
[null,null,{"$f":"IF(B121=\"\",\"\",VLOOKUP(B121,HM!$A$10:$B$209,2))","v":""},null,null,119,null,{"$f":"IF(G121=\"\",\"\",VLOOKUP(G121,HM!$A$10:$B$209,2))","v":""}]
[null,null,{"$f":"IF(B122=\"\",\"\",VLOOKUP(B122,HM!$A$10:$B$209,2))","v":""},null,null,120,null,{"$f":"IF(G122=\"\",\"\",VLOOKUP(G122,HM!$A$10:$B$209,2))","v":""}]
[null,null,{"$f":"IF(B123=\"\",\"\",VLOOKUP(B123,HM!$A$10:$B$209,2))","v":""},null,null,121,null,{"$f":"IF(G123=\"\",\"\",VLOOKUP(G123,HM!$A$10:$B$209,2))","v":""}]
[null,null,{"$f":"IF(B124=\"\",\"\",VLOOKUP(B124,HM!$A$10:$B$209,2))","v":""},null,null,122,null,{"$f":"IF(G124=\"\",\"\",VLOOKUP(G124,HM!$A$10:$B$209,2))","v":""}]
[null,null,{"$f":"IF(B125=\"\",\"\",VLOOKUP(B125,HM!$A$10:$B$209,2))","v":""},null,null,123,null,{"$f":"IF(G125=\"\",\"\",VLOOKUP(G125,HM!$A$10:$B$209,2))","v":""}]
[null,null,{"$f":"IF(B126=\"\",\"\",VLOOKUP(B126,HM!$A$10:$B$209,2))","v":""},null,null,124,null,{"$f":"IF(G126=\"\",\"\",VLOOKUP(G126,HM!$A$10:$B$209,2))","v":""}]
[null,null,{"$f":"IF(B127=\"\",\"\",VLOOKUP(B127,HM!$A$10:$B$209,2))","v":""},null,null,125,null,{"$f":"IF(G127=\"\",\"\",VLOOKUP(G127,HM!$A$10:$B$209,2))","v":""}]
[null,null,{"$f":"IF(B128=\"\",\"\",VLOOKUP(B128,HM!$A$10:$B$209,2))","v":""},null,null,126,null,{"$f":"IF(G128=\"\",\"\",VLOOKUP(G128,HM!$A$10:$B$209,2))","v":""}]
[null,null,{"$f":"IF(B129=\"\",\"\",VLOOKUP(B129,HM!$A$10:$B$209,2))","v":""},null,null,127,null,{"$f":"IF(G129=\"\",\"\",VLOOKUP(G129,HM!$A$10:$B$209,2))","v":""}]
[null,null,{"$f":"IF(B130=\"\",\"\",VLOOKUP(B130,HM!$A$10:$B$209,2))","v":""},null,null,128,null,{"$f":"IF(G130=\"\",\"\",VLOOKUP(G130,HM!$A$10:$B$209,2))","v":""}]
[null,null,{"$f":"IF(B131=\"\",\"\",VLOOKUP(B131,HM!$A$10:$B$209,2))","v":""},null,null,129,null,{"$f":"IF(G131=\"\",\"\",VLOOKUP(G131,HM!$A$10:$B$209,2))","v":""}]
[null,null,{"$f":"IF(B132=\"\",\"\",VLOOKUP(B132,HM!$A$10:$B$209,2))","v":""},null,null,130,null,{"$f":"IF(G132=\"\",\"\",VLOOKUP(G132,HM!$A$10:$B$209,2))","v":""}]
[null,null,{"$f":"IF(B133=\"\",\"\",VLOOKUP(B133,HM!$A$10:$B$209,2))","v":""},null,null,131,null,{"$f":"IF(G133=\"\",\"\",VLOOKUP(G133,HM!$A$10:$B$209,2))","v":""}]
[null,null,{"$f":"IF(B134=\"\",\"\",VLOOKUP(B134,HM!$A$10:$B$209,2))","v":""},null,null,132,null,{"$f":"IF(G134=\"\",\"\",VLOOKUP(G134,HM!$A$10:$B$209,2))","v":""}]
[null,null,{"$f":"IF(B135=\"\",\"\",VLOOKUP(B135,HM!$A$10:$B$209,2))","v":""},null,null,133,null,{"$f":"IF(G135=\"\",\"\",VLOOKUP(G135,HM!$A$10:$B$209,2))","v":""}]
[null,null,{"$f":"IF(B136=\"\",\"\",VLOOKUP(B136,HM!$A$10:$B$209,2))","v":""},null,null,134,null,{"$f":"IF(G136=\"\",\"\",VLOOKUP(G136,HM!$A$10:$B$209,2))","v":""}]
[null,null,{"$f":"IF(B137=\"\",\"\",VLOOKUP(B137,HM!$A$10:$B$209,2))","v":""},null,null,135,null,{"$f":"IF(G137=\"\",\"\",VLOOKUP(G137,HM!$A$10:$B$209,2))","v":""}]
[null,null,{"$f":"IF(B138=\"\",\"\",VLOOKUP(B138,HM!$A$10:$B$209,2))","v":""},null,null,136,null,{"$f":"IF(G138=\"\",\"\",VLOOKUP(G138,HM!$A$10:$B$209,2))","v":""}]
[null,null,{"$f":"IF(B139=\"\",\"\",VLOOKUP(B139,HM!$A$10:$B$209,2))","v":""},null,null,137,null,{"$f":"IF(G139=\"\",\"\",VLOOKUP(G139,HM!$A$10:$B$209,2))","v":""}]
[null,null,{"$f":"IF(B140=\"\",\"\",VLOOKUP(B140,HM!$A$10:$B$209,2))","v":""},null,null,138,null,{"$f":"IF(G140=\"\",\"\",VLOOKUP(G140,HM!$A$10:$B$209,2))","v":""}]
[null,null,{"$f":"IF(B141=\"\",\"\",VLOOKUP(B141,HM!$A$10:$B$209,2))","v":""},null,null,139,null,{"$f":"IF(G141=\"\",\"\",VLOOKUP(G141,HM!$A$10:$B$209,2))","v":""}]
[null,null,{"$f":"IF(B142=\"\",\"\",VLOOKUP(B142,HM!$A$10:$B$209,2))","v":""},null,null,140,null,{"$f":"IF(G142=\"\",\"\",VLOOKUP(G142,HM!$A$10:$B$209,2))","v":""}]
[null,null,{"$f":"IF(B143=\"\",\"\",VLOOKUP(B143,HM!$A$10:$B$209,2))","v":""},null,null,141,null,{"$f":"IF(G143=\"\",\"\",VLOOKUP(G143,HM!$A$10:$B$209,2))","v":""}]
[null,null,{"$f":"IF(B144=\"\",\"\",VLOOKUP(B144,HM!$A$10:$B$209,2))","v":""},null,null,142,null,{"$f":"IF(G144=\"\",\"\",VLOOKUP(G144,HM!$A$10:$B$209,2))","v":""}]
[null,null,{"$f":"IF(B145=\"\",\"\",VLOOKUP(B145,HM!$A$10:$B$209,2))","v":""},null,null,143,null,{"$f":"IF(G145=\"\",\"\",VLOOKUP(G145,HM!$A$10:$B$209,2))","v":""}]
[null,null,{"$f":"IF(B146=\"\",\"\",VLOOKUP(B146,HM!$A$10:$B$209,2))","v":""},null,null,144,null,{"$f":"IF(G146=\"\",\"\",VLOOKUP(G146,HM!$A$10:$B$209,2))","v":""}]
[null,null,{"$f":"IF(B147=\"\",\"\",VLOOKUP(B147,HM!$A$10:$B$209,2))","v":""},null,null,145,null,{"$f":"IF(G147=\"\",\"\",VLOOKUP(G147,HM!$A$10:$B$209,2))","v":""}]
[null,null,{"$f":"IF(B148=\"\",\"\",VLOOKUP(B148,HM!$A$10:$B$209,2))","v":""},null,null,146,null,{"$f":"IF(G148=\"\",\"\",VLOOKUP(G148,HM!$A$10:$B$209,2))","v":""}]
[null,null,{"$f":"IF(B149=\"\",\"\",VLOOKUP(B149,HM!$A$10:$B$209,2))","v":""},null,null,147,null,{"$f":"IF(G149=\"\",\"\",VLOOKUP(G149,HM!$A$10:$B$209,2))","v":""}]
[null,null,{"$f":"IF(B150=\"\",\"\",VLOOKUP(B150,HM!$A$10:$B$209,2))","v":""},null,null,148,null,{"$f":"IF(G150=\"\",\"\",VLOOKUP(G150,HM!$A$10:$B$209,2))","v":""}]
[null,null,{"$f":"IF(B151=\"\",\"\",VLOOKUP(B151,HM!$A$10:$B$209,2))","v":""},null,null,149,null,{"$f":"IF(G151=\"\",\"\",VLOOKUP(G151,HM!$A$10:$B$209,2))","v":""}]
[null,null,{"$f":"IF(B152=\"\",\"\",VLOOKUP(B152,HM!$A$10:$B$209,2))","v":""},null,null,150,null,{"$f":"IF(G152=\"\",\"\",VLOOKUP(G152,HM!$A$10:$B$209,2))","v":""}]
[null,null,{"$f":"IF(B153=\"\",\"\",VLOOKUP(B153,HM!$A$10:$B$209,2))","v":""},null,null,151,null,{"$f":"IF(G153=\"\",\"\",VLOOKUP(G153,HM!$A$10:$B$209,2))","v":""}]
[null,null,{"$f":"IF(B154=\"\",\"\",VLOOKUP(B154,HM!$A$10:$B$209,2))","v":""},null,null,152,null,{"$f":"IF(G154=\"\",\"\",VLOOKUP(G154,HM!$A$10:$B$209,2))","v":""}]
[null,null,{"$f":"IF(B155=\"\",\"\",VLOOKUP(B155,HM!$A$10:$B$209,2))","v":""},null,null,153,null,{"$f":"IF(G155=\"\",\"\",VLOOKUP(G155,HM!$A$10:$B$209,2))","v":""}]
[null,null,{"$f":"IF(B156=\"\",\"\",VLOOKUP(B156,HM!$A$10:$B$209,2))","v":""},null,null,154,null,{"$f":"IF(G156=\"\",\"\",VLOOKUP(G156,HM!$A$10:$B$209,2))","v":""}]
[null,null,{"$f":"IF(B157=\"\",\"\",VLOOKUP(B157,HM!$A$10:$B$209,2))","v":""},null,null,155,null,{"$f":"IF(G157=\"\",\"\",VLOOKUP(G157,HM!$A$10:$B$209,2))","v":""}]
[null,null,{"$f":"IF(B158=\"\",\"\",VLOOKUP(B158,HM!$A$10:$B$209,2))","v":""},null,null,156,null,{"$f":"IF(G158=\"\",\"\",VLOOKUP(G158,HM!$A$10:$B$209,2))","v":""}]
[null,null,{"$f":"IF(B159=\"\",\"\",VLOOKUP(B159,HM!$A$10:$B$209,2))","v":""},null,null,157,null,{"$f":"IF(G159=\"\",\"\",VLOOKUP(G159,HM!$A$10:$B$209,2))","v":""}]
[null,null,{"$f":"IF(B160=\"\",\"\",VLOOKUP(B160,HM!$A$10:$B$209,2))","v":""},null,null,158,null,{"$f":"IF(G160=\"\",\"\",VLOOKUP(G160,HM!$A$10:$B$209,2))","v":""}]
[null,null,{"$f":"IF(B161=\"\",\"\",VLOOKUP(B161,HM!$A$10:$B$209,2))","v":""},null,null,159,null,{"$f":"IF(G161=\"\",\"\",VLOOKUP(G161,HM!$A$10:$B$209,2))","v":""}]
[null,null,{"$f":"IF(B162=\"\",\"\",VLOOKUP(B162,HM!$A$10:$B$209,2))","v":""},null,null,160,null,{"$f":"IF(G162=\"\",\"\",VLOOKUP(G162,HM!$A$10:$B$209,2))","v":""}]
[null,null,{"$f":"IF(B163=\"\",\"\",VLOOKUP(B163,HM!$A$10:$B$209,2))","v":""},null,null,161,null,{"$f":"IF(G163=\"\",\"\",VLOOKUP(G163,HM!$A$10:$B$209,2))","v":""}]
[null,null,{"$f":"IF(B164=\"\",\"\",VLOOKUP(B164,HM!$A$10:$B$209,2))","v":""},null,null,162,null,{"$f":"IF(G164=\"\",\"\",VLOOKUP(G164,HM!$A$10:$B$209,2))","v":""}]
[null,null,{"$f":"IF(B165=\"\",\"\",VLOOKUP(B165,HM!$A$10:$B$209,2))","v":""},null,null,163,null,{"$f":"IF(G165=\"\",\"\",VLOOKUP(G165,HM!$A$10:$B$209,2))","v":""}]
[null,null,{"$f":"IF(B166=\"\",\"\",VLOOKUP(B166,HM!$A$10:$B$209,2))","v":""},null,null,164,null,{"$f":"IF(G166=\"\",\"\",VLOOKUP(G166,HM!$A$10:$B$209,2))","v":""}]
[null,null,{"$f":"IF(B167=\"\",\"\",VLOOKUP(B167,HM!$A$10:$B$209,2))","v":""},null,null,165,null,{"$f":"IF(G167=\"\",\"\",VLOOKUP(G167,HM!$A$10:$B$209,2))","v":""}]
[null,null,{"$f":"IF(B168=\"\",\"\",VLOOKUP(B168,HM!$A$10:$B$209,2))","v":""},null,null,166,null,{"$f":"IF(G168=\"\",\"\",VLOOKUP(G168,HM!$A$10:$B$209,2))","v":""}]
[null,null,{"$f":"IF(B169=\"\",\"\",VLOOKUP(B169,HM!$A$10:$B$209,2))","v":""},null,null,167,null,{"$f":"IF(G169=\"\",\"\",VLOOKUP(G169,HM!$A$10:$B$209,2))","v":""}]
[null,null,{"$f":"IF(B170=\"\",\"\",VLOOKUP(B170,HM!$A$10:$B$209,2))","v":""},null,null,168,null,{"$f":"IF(G170=\"\",\"\",VLOOKUP(G170,HM!$A$10:$B$209,2))","v":""}]
[null,null,{"$f":"IF(B171=\"\",\"\",VLOOKUP(B171,HM!$A$10:$B$209,2))","v":""},null,null,169,null,{"$f":"IF(G171=\"\",\"\",VLOOKUP(G171,HM!$A$10:$B$209,2))","v":""}]
[null,null,{"$f":"IF(B172=\"\",\"\",VLOOKUP(B172,HM!$A$10:$B$209,2))","v":""},null,null,170,null,{"$f":"IF(G172=\"\",\"\",VLOOKUP(G172,HM!$A$10:$B$209,2))","v":""}]
[null,null,{"$f":"IF(B173=\"\",\"\",VLOOKUP(B173,HM!$A$10:$B$209,2))","v":""},null,null,171,null,{"$f":"IF(G173=\"\",\"\",VLOOKUP(G173,HM!$A$10:$B$209,2))","v":""}]
[null,null,{"$f":"IF(B174=\"\",\"\",VLOOKUP(B174,HM!$A$10:$B$209,2))","v":""},null,null,172,null,{"$f":"IF(G174=\"\",\"\",VLOOKUP(G174,HM!$A$10:$B$209,2))","v":""}]
[null,null,{"$f":"IF(B175=\"\",\"\",VLOOKUP(B175,HM!$A$10:$B$209,2))","v":""},null,null,173,null,{"$f":"IF(G175=\"\",\"\",VLOOKUP(G175,HM!$A$10:$B$209,2))","v":""}]
[null,null,{"$f":"IF(B176=\"\",\"\",VLOOKUP(B176,HM!$A$10:$B$209,2))","v":""},null,null,174,null,{"$f":"IF(G176=\"\",\"\",VLOOKUP(G176,HM!$A$10:$B$209,2))","v":""}]
[null,null,{"$f":"IF(B177=\"\",\"\",VLOOKUP(B177,HM!$A$10:$B$209,2))","v":""},null,null,175,null,{"$f":"IF(G177=\"\",\"\",VLOOKUP(G177,HM!$A$10:$B$209,2))","v":""}]
[null,null,{"$f":"IF(B178=\"\",\"\",VLOOKUP(B178,HM!$A$10:$B$209,2))","v":""},null,null,176,null,{"$f":"IF(G178=\"\",\"\",VLOOKUP(G178,HM!$A$10:$B$209,2))","v":""}]
[null,null,{"$f":"IF(B179=\"\",\"\",VLOOKUP(B179,HM!$A$10:$B$209,2))","v":""},null,null,177,null,{"$f":"IF(G179=\"\",\"\",VLOOKUP(G179,HM!$A$10:$B$209,2))","v":""}]
[null,null,{"$f":"IF(B180=\"\",\"\",VLOOKUP(B180,HM!$A$10:$B$209,2))","v":""},null,null,178,null,{"$f":"IF(G180=\"\",\"\",VLOOKUP(G180,HM!$A$10:$B$209,2))","v":""}]
[null,null,{"$f":"IF(B181=\"\",\"\",VLOOKUP(B181,HM!$A$10:$B$209,2))","v":""},null,null,179,null,{"$f":"IF(G181=\"\",\"\",VLOOKUP(G181,HM!$A$10:$B$209,2))","v":""}]
[null,null,{"$f":"IF(B182=\"\",\"\",VLOOKUP(B182,HM!$A$10:$B$209,2))","v":""},null,null,180,null,{"$f":"IF(G182=\"\",\"\",VLOOKUP(G182,HM!$A$10:$B$209,2))","v":""}]
[null,null,{"$f":"IF(B183=\"\",\"\",VLOOKUP(B183,HM!$A$10:$B$209,2))","v":""},null,null,181,null,{"$f":"IF(G183=\"\",\"\",VLOOKUP(G183,HM!$A$10:$B$209,2))","v":""}]
[null,null,{"$f":"IF(B184=\"\",\"\",VLOOKUP(B184,HM!$A$10:$B$209,2))","v":""},null,null,182,null,{"$f":"IF(G184=\"\",\"\",VLOOKUP(G184,HM!$A$10:$B$209,2))","v":""}]
[null,null,{"$f":"IF(B185=\"\",\"\",VLOOKUP(B185,HM!$A$10:$B$209,2))","v":""},null,null,183,null,{"$f":"IF(G185=\"\",\"\",VLOOKUP(G185,HM!$A$10:$B$209,2))","v":""}]
[null,null,{"$f":"IF(B186=\"\",\"\",VLOOKUP(B186,HM!$A$10:$B$209,2))","v":""},null,null,184,null,{"$f":"IF(G186=\"\",\"\",VLOOKUP(G186,HM!$A$10:$B$209,2))","v":""}]
[null,null,{"$f":"IF(B187=\"\",\"\",VLOOKUP(B187,HM!$A$10:$B$209,2))","v":""},null,null,185,null,{"$f":"IF(G187=\"\",\"\",VLOOKUP(G187,HM!$A$10:$B$209,2))","v":""}]
[null,null,{"$f":"IF(B188=\"\",\"\",VLOOKUP(B188,HM!$A$10:$B$209,2))","v":""},null,null,186,null,{"$f":"IF(G188=\"\",\"\",VLOOKUP(G188,HM!$A$10:$B$209,2))","v":""}]
[null,null,{"$f":"IF(B189=\"\",\"\",VLOOKUP(B189,HM!$A$10:$B$209,2))","v":""},null,null,187,null,{"$f":"IF(G189=\"\",\"\",VLOOKUP(G189,HM!$A$10:$B$209,2))","v":""}]
[null,null,{"$f":"IF(B190=\"\",\"\",VLOOKUP(B190,HM!$A$10:$B$209,2))","v":""},null,null,188,null,{"$f":"IF(G190=\"\",\"\",VLOOKUP(G190,HM!$A$10:$B$209,2))","v":""}]
[null,null,{"$f":"IF(B191=\"\",\"\",VLOOKUP(B191,HM!$A$10:$B$209,2))","v":""},null,null,189,null,{"$f":"IF(G191=\"\",\"\",VLOOKUP(G191,HM!$A$10:$B$209,2))","v":""}]
[null,null,{"$f":"IF(B192=\"\",\"\",VLOOKUP(B192,HM!$A$10:$B$209,2))","v":""},null,null,190,null,{"$f":"IF(G192=\"\",\"\",VLOOKUP(G192,HM!$A$10:$B$209,2))","v":""}]
[null,null,{"$f":"IF(B193=\"\",\"\",VLOOKUP(B193,HM!$A$10:$B$209,2))","v":""},null,null,191,null,{"$f":"IF(G193=\"\",\"\",VLOOKUP(G193,HM!$A$10:$B$209,2))","v":""}]
[null,null,{"$f":"IF(B194=\"\",\"\",VLOOKUP(B194,HM!$A$10:$B$209,2))","v":""},null,null,192,null,{"$f":"IF(G194=\"\",\"\",VLOOKUP(G194,HM!$A$10:$B$209,2))","v":""}]
[null,null,{"$f":"IF(B195=\"\",\"\",VLOOKUP(B195,HM!$A$10:$B$209,2))","v":""},null,null,193,null,{"$f":"IF(G195=\"\",\"\",VLOOKUP(G195,HM!$A$10:$B$209,2))","v":""}]
[null,null,{"$f":"IF(B196=\"\",\"\",VLOOKUP(B196,HM!$A$10:$B$209,2))","v":""},null,null,194,null,{"$f":"IF(G196=\"\",\"\",VLOOKUP(G196,HM!$A$10:$B$209,2))","v":""}]
[null,null,{"$f":"IF(B197=\"\",\"\",VLOOKUP(B197,HM!$A$10:$B$209,2))","v":""},null,null,195,null,{"$f":"IF(G197=\"\",\"\",VLOOKUP(G197,HM!$A$10:$B$209,2))","v":""}]
[null,null,{"$f":"IF(B198=\"\",\"\",VLOOKUP(B198,HM!$A$10:$B$209,2))","v":""},null,null,196,null,{"$f":"IF(G198=\"\",\"\",VLOOKUP(G198,HM!$A$10:$B$209,2))","v":""}]
[null,null,{"$f":"IF(B199=\"\",\"\",VLOOKUP(B199,HM!$A$10:$B$209,2))","v":""},null,null,197,null,{"$f":"IF(G199=\"\",\"\",VLOOKUP(G199,HM!$A$10:$B$209,2))","v":""}]
[null,null,{"$f":"IF(B200=\"\",\"\",VLOOKUP(B200,HM!$A$10:$B$209,2))","v":""},null,null,198,null,{"$f":"IF(G200=\"\",\"\",VLOOKUP(G200,HM!$A$10:$B$209,2))","v":""}]
[null,null,{"$f":"IF(B201=\"\",\"\",VLOOKUP(B201,HM!$A$10:$B$209,2))","v":""},null,null,199,null,{"$f":"IF(G201=\"\",\"\",VLOOKUP(G201,HM!$A$10:$B$209,2))","v":""}]
[null,null,{"$f":"IF(B202=\"\",\"\",VLOOKUP(B202,HM!$A$10:$B$209,2))","v":""},null,null,200,null,{"$f":"IF(G202=\"\",\"\",VLOOKUP(G202,HM!$A$10:$B$209,2))","v":""}]

{"sheet":"DWP","index":4,"n_rows":202,"n_cols":9,"rows_kept":202,"cut":false,"hidden":false,"merged":[[0,1,0,4],[0,6,0,8]]}
[null,"Damenpokal",null,null,null,null,"Wolfgang-Streich-Pokal\n(alle ab 16 Jahre)"]
[null,"Lfd.\nNr.:","Vor- und Nachname:","Ringe:","schlechtester\nEinzelschuss",null,"Lfd.\nNr.:","Vor- und Nachname:","Ringe:"]
[1,null,{"$f":"IF(B3=\"\",\"\",VLOOKUP(B3,HM!$A$10:$B$209,2))","v":""},null,null,null,null,{"$f":"IF(G3=\"\",\"\",VLOOKUP(G3,HM!$A$10:$B$209,2))","v":""}]
[2,null,{"$f":"IF(B4=\"\",\"\",VLOOKUP(B4,HM!$A$10:$B$209,2))","v":""},null,null,null,null,{"$f":"IF(G4=\"\",\"\",VLOOKUP(G4,HM!$A$10:$B$209,2))","v":""}]
[3,null,{"$f":"IF(B5=\"\",\"\",VLOOKUP(B5,HM!$A$10:$B$209,2))","v":""},null,null,null,null,{"$f":"IF(G5=\"\",\"\",VLOOKUP(G5,HM!$A$10:$B$209,2))","v":""}]
[4,null,{"$f":"IF(B6=\"\",\"\",VLOOKUP(B6,HM!$A$10:$B$209,2))","v":""},null,null,null,null,{"$f":"IF(G6=\"\",\"\",VLOOKUP(G6,HM!$A$10:$B$209,2))","v":""}]
[5,null,{"$f":"IF(B7=\"\",\"\",VLOOKUP(B7,HM!$A$10:$B$209,2))","v":""},null,null,null,null,{"$f":"IF(G7=\"\",\"\",VLOOKUP(G7,HM!$A$10:$B$209,2))","v":""}]
[6,null,{"$f":"IF(B8=\"\",\"\",VLOOKUP(B8,HM!$A$10:$B$209,2))","v":""},null,null,null,null,{"$f":"IF(G8=\"\",\"\",VLOOKUP(G8,HM!$A$10:$B$209,2))","v":""}]
[7,null,{"$f":"IF(B9=\"\",\"\",VLOOKUP(B9,HM!$A$10:$B$209,2))","v":""},null,null,null,null,{"$f":"IF(G9=\"\",\"\",VLOOKUP(G9,HM!$A$10:$B$209,2))","v":""}]
[8,null,{"$f":"IF(B10=\"\",\"\",VLOOKUP(B10,HM!$A$10:$B$209,2))","v":""},null,null,null,null,{"$f":"IF(G10=\"\",\"\",VLOOKUP(G10,HM!$A$10:$B$209,2))","v":""}]
[9,null,{"$f":"IF(B11=\"\",\"\",VLOOKUP(B11,HM!$A$10:$B$209,2))","v":""},null,null,null,null,{"$f":"IF(G11=\"\",\"\",VLOOKUP(G11,HM!$A$10:$B$209,2))","v":""}]
[10,null,{"$f":"IF(B12=\"\",\"\",VLOOKUP(B12,HM!$A$10:$B$209,2))","v":""},null,null,null,null,{"$f":"IF(G12=\"\",\"\",VLOOKUP(G12,HM!$A$10:$B$209,2))","v":""}]
[11,null,{"$f":"IF(B13=\"\",\"\",VLOOKUP(B13,HM!$A$10:$B$209,2))","v":""},null,null,null,null,{"$f":"IF(G13=\"\",\"\",VLOOKUP(G13,HM!$A$10:$B$209,2))","v":""}]
[12,null,{"$f":"IF(B14=\"\",\"\",VLOOKUP(B14,HM!$A$10:$B$209,2))","v":""},null,null,null,null,{"$f":"IF(G14=\"\",\"\",VLOOKUP(G14,HM!$A$10:$B$209,2))","v":""}]
[13,null,{"$f":"IF(B15=\"\",\"\",VLOOKUP(B15,HM!$A$10:$B$209,2))","v":""},null,null,null,null,{"$f":"IF(G15=\"\",\"\",VLOOKUP(G15,HM!$A$10:$B$209,2))","v":""}]
[14,null,{"$f":"IF(B16=\"\",\"\",VLOOKUP(B16,HM!$A$10:$B$209,2))","v":""},null,null,null,null,{"$f":"IF(G16=\"\",\"\",VLOOKUP(G16,HM!$A$10:$B$209,2))","v":""}]
[15,null,{"$f":"IF(B17=\"\",\"\",VLOOKUP(B17,HM!$A$10:$B$209,2))","v":""},null,null,null,null,{"$f":"IF(G17=\"\",\"\",VLOOKUP(G17,HM!$A$10:$B$209,2))","v":""}]
[16,null,{"$f":"IF(B18=\"\",\"\",VLOOKUP(B18,HM!$A$10:$B$209,2))","v":""},null,null,null,null,{"$f":"IF(G18=\"\",\"\",VLOOKUP(G18,HM!$A$10:$B$209,2))","v":""}]
[17,null,{"$f":"IF(B19=\"\",\"\",VLOOKUP(B19,HM!$A$10:$B$209,2))","v":""},null,null,null,null,{"$f":"IF(G19=\"\",\"\",VLOOKUP(G19,HM!$A$10:$B$209,2))","v":""}]
[18,null,{"$f":"IF(B20=\"\",\"\",VLOOKUP(B20,HM!$A$10:$B$209,2))","v":""},null,null,null,null,{"$f":"IF(G20=\"\",\"\",VLOOKUP(G20,HM!$A$10:$B$209,2))","v":""}]
[19,null,{"$f":"IF(B21=\"\",\"\",VLOOKUP(B21,HM!$A$10:$B$209,2))","v":""},null,null,null,null,{"$f":"IF(G21=\"\",\"\",VLOOKUP(G21,HM!$A$10:$B$209,2))","v":""}]
[20,null,{"$f":"IF(B22=\"\",\"\",VLOOKUP(B22,HM!$A$10:$B$209,2))","v":""},null,null,null,null,{"$f":"IF(G22=\"\",\"\",VLOOKUP(G22,HM!$A$10:$B$209,2))","v":""}]
[21,null,{"$f":"IF(B23=\"\",\"\",VLOOKUP(B23,HM!$A$10:$B$209,2))","v":""},null,null,null,null,{"$f":"IF(G23=\"\",\"\",VLOOKUP(G23,HM!$A$10:$B$209,2))","v":""}]
[22,null,{"$f":"IF(B24=\"\",\"\",VLOOKUP(B24,HM!$A$10:$B$209,2))","v":""},null,null,null,null,{"$f":"IF(G24=\"\",\"\",VLOOKUP(G24,HM!$A$10:$B$209,2))","v":""}]
[23,null,{"$f":"IF(B25=\"\",\"\",VLOOKUP(B25,HM!$A$10:$B$209,2))","v":""},null,null,null,null,{"$f":"IF(G25=\"\",\"\",VLOOKUP(G25,HM!$A$10:$B$209,2))","v":""}]
[24,null,{"$f":"IF(B26=\"\",\"\",VLOOKUP(B26,HM!$A$10:$B$209,2))","v":""},null,null,null,null,{"$f":"IF(G26=\"\",\"\",VLOOKUP(G26,HM!$A$10:$B$209,2))","v":""}]
[25,null,{"$f":"IF(B27=\"\",\"\",VLOOKUP(B27,HM!$A$10:$B$209,2))","v":""},null,null,null,null,{"$f":"IF(G27=\"\",\"\",VLOOKUP(G27,HM!$A$10:$B$209,2))","v":""}]
[26,null,{"$f":"IF(B28=\"\",\"\",VLOOKUP(B28,HM!$A$10:$B$209,2))","v":""},null,null,null,null,{"$f":"IF(G28=\"\",\"\",VLOOKUP(G28,HM!$A$10:$B$209,2))","v":""}]
[27,null,{"$f":"IF(B29=\"\",\"\",VLOOKUP(B29,HM!$A$10:$B$209,2))","v":""},null,null,null,null,{"$f":"IF(G29=\"\",\"\",VLOOKUP(G29,HM!$A$10:$B$209,2))","v":""}]
[28,null,{"$f":"IF(B30=\"\",\"\",VLOOKUP(B30,HM!$A$10:$B$209,2))","v":""},null,null,null,null,{"$f":"IF(G30=\"\",\"\",VLOOKUP(G30,HM!$A$10:$B$209,2))","v":""}]
[29,null,{"$f":"IF(B31=\"\",\"\",VLOOKUP(B31,HM!$A$10:$B$209,2))","v":""},null,null,null,null,{"$f":"IF(G31=\"\",\"\",VLOOKUP(G31,HM!$A$10:$B$209,2))","v":""}]
[30,null,{"$f":"IF(B32=\"\",\"\",VLOOKUP(B32,HM!$A$10:$B$209,2))","v":""},null,null,null,null,{"$f":"IF(G32=\"\",\"\",VLOOKUP(G32,HM!$A$10:$B$209,2))","v":""}]
[31,null,{"$f":"IF(B33=\"\",\"\",VLOOKUP(B33,HM!$A$10:$B$209,2))","v":""},null,null,null,null,{"$f":"IF(G33=\"\",\"\",VLOOKUP(G33,HM!$A$10:$B$209,2))","v":""}]
[32,null,{"$f":"IF(B34=\"\",\"\",VLOOKUP(B34,HM!$A$10:$B$209,2))","v":""},null,null,null,null,{"$f":"IF(G34=\"\",\"\",VLOOKUP(G34,HM!$A$10:$B$209,2))","v":""}]
[33,null,{"$f":"IF(B35=\"\",\"\",VLOOKUP(B35,HM!$A$10:$B$209,2))","v":""},null,null,null,null,{"$f":"IF(G35=\"\",\"\",VLOOKUP(G35,HM!$A$10:$B$209,2))","v":""}]
[34,null,{"$f":"IF(B36=\"\",\"\",VLOOKUP(B36,HM!$A$10:$B$209,2))","v":""},null,null,null,null,{"$f":"IF(G36=\"\",\"\",VLOOKUP(G36,HM!$A$10:$B$209,2))","v":""}]
[35,null,{"$f":"IF(B37=\"\",\"\",VLOOKUP(B37,HM!$A$10:$B$209,2))","v":""},null,null,null,null,{"$f":"IF(G37=\"\",\"\",VLOOKUP(G37,HM!$A$10:$B$209,2))","v":""}]
[36,null,{"$f":"IF(B38=\"\",\"\",VLOOKUP(B38,HM!$A$10:$B$209,2))","v":""},null,null,null,null,{"$f":"IF(G38=\"\",\"\",VLOOKUP(G38,HM!$A$10:$B$209,2))","v":""}]
[37,null,{"$f":"IF(B39=\"\",\"\",VLOOKUP(B39,HM!$A$10:$B$209,2))","v":""},null,null,null,null,{"$f":"IF(G39=\"\",\"\",VLOOKUP(G39,HM!$A$10:$B$209,2))","v":""}]
[38,null,{"$f":"IF(B40=\"\",\"\",VLOOKUP(B40,HM!$A$10:$B$209,2))","v":""},null,null,null,null,{"$f":"IF(G40=\"\",\"\",VLOOKUP(G40,HM!$A$10:$B$209,2))","v":""}]
[39,null,{"$f":"IF(B41=\"\",\"\",VLOOKUP(B41,HM!$A$10:$B$209,2))","v":""},null,null,null,null,{"$f":"IF(G41=\"\",\"\",VLOOKUP(G41,HM!$A$10:$B$209,2))","v":""}]
[40,null,{"$f":"IF(B42=\"\",\"\",VLOOKUP(B42,HM!$A$10:$B$209,2))","v":""},null,null,null,null,{"$f":"IF(G42=\"\",\"\",VLOOKUP(G42,HM!$A$10:$B$209,2))","v":""}]
[41,null,{"$f":"IF(B43=\"\",\"\",VLOOKUP(B43,HM!$A$10:$B$209,2))","v":""},null,null,null,null,{"$f":"IF(G43=\"\",\"\",VLOOKUP(G43,HM!$A$10:$B$209,2))","v":""}]
[42,null,{"$f":"IF(B44=\"\",\"\",VLOOKUP(B44,HM!$A$10:$B$209,2))","v":""},null,null,null,null,{"$f":"IF(G44=\"\",\"\",VLOOKUP(G44,HM!$A$10:$B$209,2))","v":""}]
[43,null,{"$f":"IF(B45=\"\",\"\",VLOOKUP(B45,HM!$A$10:$B$209,2))","v":""},null,null,null,null,{"$f":"IF(G45=\"\",\"\",VLOOKUP(G45,HM!$A$10:$B$209,2))","v":""}]
[44,null,{"$f":"IF(B46=\"\",\"\",VLOOKUP(B46,HM!$A$10:$B$209,2))","v":""},null,null,null,null,{"$f":"IF(G46=\"\",\"\",VLOOKUP(G46,HM!$A$10:$B$209,2))","v":""}]
[45,null,{"$f":"IF(B47=\"\",\"\",VLOOKUP(B47,HM!$A$10:$B$209,2))","v":""},null,null,null,null,{"$f":"IF(G47=\"\",\"\",VLOOKUP(G47,HM!$A$10:$B$209,2))","v":""}]
[46,null,{"$f":"IF(B48=\"\",\"\",VLOOKUP(B48,HM!$A$10:$B$209,2))","v":""},null,null,null,null,{"$f":"IF(G48=\"\",\"\",VLOOKUP(G48,HM!$A$10:$B$209,2))","v":""}]
[47,null,{"$f":"IF(B49=\"\",\"\",VLOOKUP(B49,HM!$A$10:$B$209,2))","v":""},null,null,null,null,{"$f":"IF(G49=\"\",\"\",VLOOKUP(G49,HM!$A$10:$B$209,2))","v":""}]
[48,null,{"$f":"IF(B50=\"\",\"\",VLOOKUP(B50,HM!$A$10:$B$209,2))","v":""},null,null,null,null,{"$f":"IF(G50=\"\",\"\",VLOOKUP(G50,HM!$A$10:$B$209,2))","v":""}]
[49,null,{"$f":"IF(B51=\"\",\"\",VLOOKUP(B51,HM!$A$10:$B$209,2))","v":""},null,null,null,null,{"$f":"IF(G51=\"\",\"\",VLOOKUP(G51,HM!$A$10:$B$209,2))","v":""}]
[50,null,{"$f":"IF(B52=\"\",\"\",VLOOKUP(B52,HM!$A$10:$B$209,2))","v":""},null,null,null,null,{"$f":"IF(G52=\"\",\"\",VLOOKUP(G52,HM!$A$10:$B$209,2))","v":""}]
[51,null,{"$f":"IF(B53=\"\",\"\",VLOOKUP(B53,HM!$A$10:$B$209,2))","v":""},null,null,null,null,{"$f":"IF(G53=\"\",\"\",VLOOKUP(G53,HM!$A$10:$B$209,2))","v":""}]
[52,null,{"$f":"IF(B54=\"\",\"\",VLOOKUP(B54,HM!$A$10:$B$209,2))","v":""},null,null,null,null,{"$f":"IF(G54=\"\",\"\",VLOOKUP(G54,HM!$A$10:$B$209,2))","v":""}]
[53,null,{"$f":"IF(B55=\"\",\"\",VLOOKUP(B55,HM!$A$10:$B$209,2))","v":""},null,null,null,null,{"$f":"IF(G55=\"\",\"\",VLOOKUP(G55,HM!$A$10:$B$209,2))","v":""}]
[54,null,{"$f":"IF(B56=\"\",\"\",VLOOKUP(B56,HM!$A$10:$B$209,2))","v":""},null,null,null,null,{"$f":"IF(G56=\"\",\"\",VLOOKUP(G56,HM!$A$10:$B$209,2))","v":""}]
[55,null,{"$f":"IF(B57=\"\",\"\",VLOOKUP(B57,HM!$A$10:$B$209,2))","v":""},null,null,null,null,{"$f":"IF(G57=\"\",\"\",VLOOKUP(G57,HM!$A$10:$B$209,2))","v":""}]
[56,null,{"$f":"IF(B58=\"\",\"\",VLOOKUP(B58,HM!$A$10:$B$209,2))","v":""},null,null,null,null,{"$f":"IF(G58=\"\",\"\",VLOOKUP(G58,HM!$A$10:$B$209,2))","v":""}]
[57,null,{"$f":"IF(B59=\"\",\"\",VLOOKUP(B59,HM!$A$10:$B$209,2))","v":""},null,null,null,null,{"$f":"IF(G59=\"\",\"\",VLOOKUP(G59,HM!$A$10:$B$209,2))","v":""}]
[58,null,{"$f":"IF(B60=\"\",\"\",VLOOKUP(B60,HM!$A$10:$B$209,2))","v":""},null,null,null,null,{"$f":"IF(G60=\"\",\"\",VLOOKUP(G60,HM!$A$10:$B$209,2))","v":""}]
[59,null,{"$f":"IF(B61=\"\",\"\",VLOOKUP(B61,HM!$A$10:$B$209,2))","v":""},null,null,null,null,{"$f":"IF(G61=\"\",\"\",VLOOKUP(G61,HM!$A$10:$B$209,2))","v":""}]
[60,null,{"$f":"IF(B62=\"\",\"\",VLOOKUP(B62,HM!$A$10:$B$209,2))","v":""},null,null,null,null,{"$f":"IF(G62=\"\",\"\",VLOOKUP(G62,HM!$A$10:$B$209,2))","v":""}]
[61,null,{"$f":"IF(B63=\"\",\"\",VLOOKUP(B63,HM!$A$10:$B$209,2))","v":""},null,null,null,null,{"$f":"IF(G63=\"\",\"\",VLOOKUP(G63,HM!$A$10:$B$209,2))","v":""}]
[62,null,{"$f":"IF(B64=\"\",\"\",VLOOKUP(B64,HM!$A$10:$B$209,2))","v":""},null,null,null,null,{"$f":"IF(G64=\"\",\"\",VLOOKUP(G64,HM!$A$10:$B$209,2))","v":""}]
[63,null,{"$f":"IF(B65=\"\",\"\",VLOOKUP(B65,HM!$A$10:$B$209,2))","v":""},null,null,null,null,{"$f":"IF(G65=\"\",\"\",VLOOKUP(G65,HM!$A$10:$B$209,2))","v":""}]
[64,null,{"$f":"IF(B66=\"\",\"\",VLOOKUP(B66,HM!$A$10:$B$209,2))","v":""},null,null,null,null,{"$f":"IF(G66=\"\",\"\",VLOOKUP(G66,HM!$A$10:$B$209,2))","v":""}]
[65,null,{"$f":"IF(B67=\"\",\"\",VLOOKUP(B67,HM!$A$10:$B$209,2))","v":""},null,null,null,null,{"$f":"IF(G67=\"\",\"\",VLOOKUP(G67,HM!$A$10:$B$209,2))","v":""}]
[66,null,{"$f":"IF(B68=\"\",\"\",VLOOKUP(B68,HM!$A$10:$B$209,2))","v":""},null,null,null,null,{"$f":"IF(G68=\"\",\"\",VLOOKUP(G68,HM!$A$10:$B$209,2))","v":""}]
[67,null,{"$f":"IF(B69=\"\",\"\",VLOOKUP(B69,HM!$A$10:$B$209,2))","v":""},null,null,null,null,{"$f":"IF(G69=\"\",\"\",VLOOKUP(G69,HM!$A$10:$B$209,2))","v":""}]
[68,null,{"$f":"IF(B70=\"\",\"\",VLOOKUP(B70,HM!$A$10:$B$209,2))","v":""},null,null,null,null,{"$f":"IF(G70=\"\",\"\",VLOOKUP(G70,HM!$A$10:$B$209,2))","v":""}]
[69,null,{"$f":"IF(B71=\"\",\"\",VLOOKUP(B71,HM!$A$10:$B$209,2))","v":""},null,null,null,null,{"$f":"IF(G71=\"\",\"\",VLOOKUP(G71,HM!$A$10:$B$209,2))","v":""}]
[70,null,{"$f":"IF(B72=\"\",\"\",VLOOKUP(B72,HM!$A$10:$B$209,2))","v":""},null,null,null,null,{"$f":"IF(G72=\"\",\"\",VLOOKUP(G72,HM!$A$10:$B$209,2))","v":""}]
[71,null,{"$f":"IF(B73=\"\",\"\",VLOOKUP(B73,HM!$A$10:$B$209,2))","v":""},null,null,null,null,{"$f":"IF(G73=\"\",\"\",VLOOKUP(G73,HM!$A$10:$B$209,2))","v":""}]
[72,null,{"$f":"IF(B74=\"\",\"\",VLOOKUP(B74,HM!$A$10:$B$209,2))","v":""},null,null,null,null,{"$f":"IF(G74=\"\",\"\",VLOOKUP(G74,HM!$A$10:$B$209,2))","v":""}]
[73,null,{"$f":"IF(B75=\"\",\"\",VLOOKUP(B75,HM!$A$10:$B$209,2))","v":""},null,null,null,null,{"$f":"IF(G75=\"\",\"\",VLOOKUP(G75,HM!$A$10:$B$209,2))","v":""}]
[74,null,{"$f":"IF(B76=\"\",\"\",VLOOKUP(B76,HM!$A$10:$B$209,2))","v":""},null,null,null,null,{"$f":"IF(G76=\"\",\"\",VLOOKUP(G76,HM!$A$10:$B$209,2))","v":""}]
[75,null,{"$f":"IF(B77=\"\",\"\",VLOOKUP(B77,HM!$A$10:$B$209,2))","v":""},null,null,null,null,{"$f":"IF(G77=\"\",\"\",VLOOKUP(G77,HM!$A$10:$B$209,2))","v":""}]
[76,null,{"$f":"IF(B78=\"\",\"\",VLOOKUP(B78,HM!$A$10:$B$209,2))","v":""},null,null,null,null,{"$f":"IF(G78=\"\",\"\",VLOOKUP(G78,HM!$A$10:$B$209,2))","v":""}]
[77,null,{"$f":"IF(B79=\"\",\"\",VLOOKUP(B79,HM!$A$10:$B$209,2))","v":""},null,null,null,null,{"$f":"IF(G79=\"\",\"\",VLOOKUP(G79,HM!$A$10:$B$209,2))","v":""}]
[78,null,{"$f":"IF(B80=\"\",\"\",VLOOKUP(B80,HM!$A$10:$B$209,2))","v":""},null,null,null,null,{"$f":"IF(G80=\"\",\"\",VLOOKUP(G80,HM!$A$10:$B$209,2))","v":""}]
[79,null,{"$f":"IF(B81=\"\",\"\",VLOOKUP(B81,HM!$A$10:$B$209,2))","v":""},null,null,null,null,{"$f":"IF(G81=\"\",\"\",VLOOKUP(G81,HM!$A$10:$B$209,2))","v":""}]
[80,null,{"$f":"IF(B82=\"\",\"\",VLOOKUP(B82,HM!$A$10:$B$209,2))","v":""},null,null,null,null,{"$f":"IF(G82=\"\",\"\",VLOOKUP(G82,HM!$A$10:$B$209,2))","v":""}]
[81,null,{"$f":"IF(B83=\"\",\"\",VLOOKUP(B83,HM!$A$10:$B$209,2))","v":""},null,null,null,null,{"$f":"IF(G83=\"\",\"\",VLOOKUP(G83,HM!$A$10:$B$209,2))","v":""}]
[82,null,{"$f":"IF(B84=\"\",\"\",VLOOKUP(B84,HM!$A$10:$B$209,2))","v":""},null,null,null,null,{"$f":"IF(G84=\"\",\"\",VLOOKUP(G84,HM!$A$10:$B$209,2))","v":""}]
[83,null,{"$f":"IF(B85=\"\",\"\",VLOOKUP(B85,HM!$A$10:$B$209,2))","v":""},null,null,null,null,{"$f":"IF(G85=\"\",\"\",VLOOKUP(G85,HM!$A$10:$B$209,2))","v":""}]
[84,null,{"$f":"IF(B86=\"\",\"\",VLOOKUP(B86,HM!$A$10:$B$209,2))","v":""},null,null,null,null,{"$f":"IF(G86=\"\",\"\",VLOOKUP(G86,HM!$A$10:$B$209,2))","v":""}]
[85,null,{"$f":"IF(B87=\"\",\"\",VLOOKUP(B87,HM!$A$10:$B$209,2))","v":""},null,null,null,null,{"$f":"IF(G87=\"\",\"\",VLOOKUP(G87,HM!$A$10:$B$209,2))","v":""}]
[86,null,{"$f":"IF(B88=\"\",\"\",VLOOKUP(B88,HM!$A$10:$B$209,2))","v":""},null,null,null,null,{"$f":"IF(G88=\"\",\"\",VLOOKUP(G88,HM!$A$10:$B$209,2))","v":""}]
[87,null,{"$f":"IF(B89=\"\",\"\",VLOOKUP(B89,HM!$A$10:$B$209,2))","v":""},null,null,null,null,{"$f":"IF(G89=\"\",\"\",VLOOKUP(G89,HM!$A$10:$B$209,2))","v":""}]
[88,null,{"$f":"IF(B90=\"\",\"\",VLOOKUP(B90,HM!$A$10:$B$209,2))","v":""},null,null,null,null,{"$f":"IF(G90=\"\",\"\",VLOOKUP(G90,HM!$A$10:$B$209,2))","v":""}]
[89,null,{"$f":"IF(B91=\"\",\"\",VLOOKUP(B91,HM!$A$10:$B$209,2))","v":""},null,null,null,null,{"$f":"IF(G91=\"\",\"\",VLOOKUP(G91,HM!$A$10:$B$209,2))","v":""}]
[90,null,{"$f":"IF(B92=\"\",\"\",VLOOKUP(B92,HM!$A$10:$B$209,2))","v":""},null,null,null,null,{"$f":"IF(G92=\"\",\"\",VLOOKUP(G92,HM!$A$10:$B$209,2))","v":""}]
[91,null,{"$f":"IF(B93=\"\",\"\",VLOOKUP(B93,HM!$A$10:$B$209,2))","v":""},null,null,null,null,{"$f":"IF(G93=\"\",\"\",VLOOKUP(G93,HM!$A$10:$B$209,2))","v":""}]
[92,null,{"$f":"IF(B94=\"\",\"\",VLOOKUP(B94,HM!$A$10:$B$209,2))","v":""},null,null,null,null,{"$f":"IF(G94=\"\",\"\",VLOOKUP(G94,HM!$A$10:$B$209,2))","v":""}]
[93,null,{"$f":"IF(B95=\"\",\"\",VLOOKUP(B95,HM!$A$10:$B$209,2))","v":""},null,null,null,null,{"$f":"IF(G95=\"\",\"\",VLOOKUP(G95,HM!$A$10:$B$209,2))","v":""}]
[94,null,{"$f":"IF(B96=\"\",\"\",VLOOKUP(B96,HM!$A$10:$B$209,2))","v":""},null,null,null,null,{"$f":"IF(G96=\"\",\"\",VLOOKUP(G96,HM!$A$10:$B$209,2))","v":""}]
[95,null,{"$f":"IF(B97=\"\",\"\",VLOOKUP(B97,HM!$A$10:$B$209,2))","v":""},null,null,null,null,{"$f":"IF(G97=\"\",\"\",VLOOKUP(G97,HM!$A$10:$B$209,2))","v":""}]
[96,null,{"$f":"IF(B98=\"\",\"\",VLOOKUP(B98,HM!$A$10:$B$209,2))","v":""},null,null,null,null,{"$f":"IF(G98=\"\",\"\",VLOOKUP(G98,HM!$A$10:$B$209,2))","v":""}]
[97,null,{"$f":"IF(B99=\"\",\"\",VLOOKUP(B99,HM!$A$10:$B$209,2))","v":""},null,null,null,null,{"$f":"IF(G99=\"\",\"\",VLOOKUP(G99,HM!$A$10:$B$209,2))","v":""}]
[98,null,{"$f":"IF(B100=\"\",\"\",VLOOKUP(B100,HM!$A$10:$B$209,2))","v":""},null,null,null,null,{"$f":"IF(G100=\"\",\"\",VLOOKUP(G100,HM!$A$10:$B$209,2))","v":""}]
[99,null,{"$f":"IF(B101=\"\",\"\",VLOOKUP(B101,HM!$A$10:$B$209,2))","v":""},null,null,null,null,{"$f":"IF(G101=\"\",\"\",VLOOKUP(G101,HM!$A$10:$B$209,2))","v":""}]
[100,null,{"$f":"IF(B102=\"\",\"\",VLOOKUP(B102,HM!$A$10:$B$209,2))","v":""},null,null,null,null,{"$f":"IF(G102=\"\",\"\",VLOOKUP(G102,HM!$A$10:$B$209,2))","v":""}]
[101,null,{"$f":"IF(B103=\"\",\"\",VLOOKUP(B103,HM!$A$10:$B$209,2))","v":""},null,null,null,null,{"$f":"IF(G103=\"\",\"\",VLOOKUP(G103,HM!$A$10:$B$209,2))","v":""}]
[102,null,{"$f":"IF(B104=\"\",\"\",VLOOKUP(B104,HM!$A$10:$B$209,2))","v":""},null,null,null,null,{"$f":"IF(G104=\"\",\"\",VLOOKUP(G104,HM!$A$10:$B$209,2))","v":""}]
[103,null,{"$f":"IF(B105=\"\",\"\",VLOOKUP(B105,HM!$A$10:$B$209,2))","v":""},null,null,null,null,{"$f":"IF(G105=\"\",\"\",VLOOKUP(G105,HM!$A$10:$B$209,2))","v":""}]
[104,null,{"$f":"IF(B106=\"\",\"\",VLOOKUP(B106,HM!$A$10:$B$209,2))","v":""},null,null,null,null,{"$f":"IF(G106=\"\",\"\",VLOOKUP(G106,HM!$A$10:$B$209,2))","v":""}]
[105,null,{"$f":"IF(B107=\"\",\"\",VLOOKUP(B107,HM!$A$10:$B$209,2))","v":""},null,null,null,null,{"$f":"IF(G107=\"\",\"\",VLOOKUP(G107,HM!$A$10:$B$209,2))","v":""}]
[106,null,{"$f":"IF(B108=\"\",\"\",VLOOKUP(B108,HM!$A$10:$B$209,2))","v":""},null,null,null,null,{"$f":"IF(G108=\"\",\"\",VLOOKUP(G108,HM!$A$10:$B$209,2))","v":""}]
[107,null,{"$f":"IF(B109=\"\",\"\",VLOOKUP(B109,HM!$A$10:$B$209,2))","v":""},null,null,null,null,{"$f":"IF(G109=\"\",\"\",VLOOKUP(G109,HM!$A$10:$B$209,2))","v":""}]
[108,null,{"$f":"IF(B110=\"\",\"\",VLOOKUP(B110,HM!$A$10:$B$209,2))","v":""},null,null,null,null,{"$f":"IF(G110=\"\",\"\",VLOOKUP(G110,HM!$A$10:$B$209,2))","v":""}]
[109,null,{"$f":"IF(B111=\"\",\"\",VLOOKUP(B111,HM!$A$10:$B$209,2))","v":""},null,null,null,null,{"$f":"IF(G111=\"\",\"\",VLOOKUP(G111,HM!$A$10:$B$209,2))","v":""}]
[110,null,{"$f":"IF(B112=\"\",\"\",VLOOKUP(B112,HM!$A$10:$B$209,2))","v":""},null,null,null,null,{"$f":"IF(G112=\"\",\"\",VLOOKUP(G112,HM!$A$10:$B$209,2))","v":""}]
[111,null,{"$f":"IF(B113=\"\",\"\",VLOOKUP(B113,HM!$A$10:$B$209,2))","v":""},null,null,null,null,{"$f":"IF(G113=\"\",\"\",VLOOKUP(G113,HM!$A$10:$B$209,2))","v":""}]
[112,null,{"$f":"IF(B114=\"\",\"\",VLOOKUP(B114,HM!$A$10:$B$209,2))","v":""},null,null,null,null,{"$f":"IF(G114=\"\",\"\",VLOOKUP(G114,HM!$A$10:$B$209,2))","v":""}]
[113,null,{"$f":"IF(B115=\"\",\"\",VLOOKUP(B115,HM!$A$10:$B$209,2))","v":""},null,null,null,null,{"$f":"IF(G115=\"\",\"\",VLOOKUP(G115,HM!$A$10:$B$209,2))","v":""}]
[114,null,{"$f":"IF(B116=\"\",\"\",VLOOKUP(B116,HM!$A$10:$B$209,2))","v":""},null,null,null,null,{"$f":"IF(G116=\"\",\"\",VLOOKUP(G116,HM!$A$10:$B$209,2))","v":""}]
[115,null,{"$f":"IF(B117=\"\",\"\",VLOOKUP(B117,HM!$A$10:$B$209,2))","v":""},null,null,null,null,{"$f":"IF(G117=\"\",\"\",VLOOKUP(G117,HM!$A$10:$B$209,2))","v":""}]
[116,null,{"$f":"IF(B118=\"\",\"\",VLOOKUP(B118,HM!$A$10:$B$209,2))","v":""},null,null,null,null,{"$f":"IF(G118=\"\",\"\",VLOOKUP(G118,HM!$A$10:$B$209,2))","v":""}]
[117,null,{"$f":"IF(B119=\"\",\"\",VLOOKUP(B119,HM!$A$10:$B$209,2))","v":""},null,null,null,null,{"$f":"IF(G119=\"\",\"\",VLOOKUP(G119,HM!$A$10:$B$209,2))","v":""}]
[118,null,{"$f":"IF(B120=\"\",\"\",VLOOKUP(B120,HM!$A$10:$B$209,2))","v":""},null,null,null,null,{"$f":"IF(G120=\"\",\"\",VLOOKUP(G120,HM!$A$10:$B$209,2))","v":""}]
[119,null,{"$f":"IF(B121=\"\",\"\",VLOOKUP(B121,HM!$A$10:$B$209,2))","v":""},null,null,null,null,{"$f":"IF(G121=\"\",\"\",VLOOKUP(G121,HM!$A$10:$B$209,2))","v":""}]
[120,null,{"$f":"IF(B122=\"\",\"\",VLOOKUP(B122,HM!$A$10:$B$209,2))","v":""},null,null,null,null,{"$f":"IF(G122=\"\",\"\",VLOOKUP(G122,HM!$A$10:$B$209,2))","v":""}]
[121,null,{"$f":"IF(B123=\"\",\"\",VLOOKUP(B123,HM!$A$10:$B$209,2))","v":""},null,null,null,null,{"$f":"IF(G123=\"\",\"\",VLOOKUP(G123,HM!$A$10:$B$209,2))","v":""}]
[122,null,{"$f":"IF(B124=\"\",\"\",VLOOKUP(B124,HM!$A$10:$B$209,2))","v":""},null,null,null,null,{"$f":"IF(G124=\"\",\"\",VLOOKUP(G124,HM!$A$10:$B$209,2))","v":""}]
[123,null,{"$f":"IF(B125=\"\",\"\",VLOOKUP(B125,HM!$A$10:$B$209,2))","v":""},null,null,null,null,{"$f":"IF(G125=\"\",\"\",VLOOKUP(G125,HM!$A$10:$B$209,2))","v":""}]
[124,null,{"$f":"IF(B126=\"\",\"\",VLOOKUP(B126,HM!$A$10:$B$209,2))","v":""},null,null,null,null,{"$f":"IF(G126=\"\",\"\",VLOOKUP(G126,HM!$A$10:$B$209,2))","v":""}]
[125,null,{"$f":"IF(B127=\"\",\"\",VLOOKUP(B127,HM!$A$10:$B$209,2))","v":""},null,null,null,null,{"$f":"IF(G127=\"\",\"\",VLOOKUP(G127,HM!$A$10:$B$209,2))","v":""}]
[126,null,{"$f":"IF(B128=\"\",\"\",VLOOKUP(B128,HM!$A$10:$B$209,2))","v":""},null,null,null,null,{"$f":"IF(G128=\"\",\"\",VLOOKUP(G128,HM!$A$10:$B$209,2))","v":""}]
[127,null,{"$f":"IF(B129=\"\",\"\",VLOOKUP(B129,HM!$A$10:$B$209,2))","v":""},null,null,null,null,{"$f":"IF(G129=\"\",\"\",VLOOKUP(G129,HM!$A$10:$B$209,2))","v":""}]
[128,null,{"$f":"IF(B130=\"\",\"\",VLOOKUP(B130,HM!$A$10:$B$209,2))","v":""},null,null,null,null,{"$f":"IF(G130=\"\",\"\",VLOOKUP(G130,HM!$A$10:$B$209,2))","v":""}]
[129,null,{"$f":"IF(B131=\"\",\"\",VLOOKUP(B131,HM!$A$10:$B$209,2))","v":""},null,null,null,null,{"$f":"IF(G131=\"\",\"\",VLOOKUP(G131,HM!$A$10:$B$209,2))","v":""}]
[130,null,{"$f":"IF(B132=\"\",\"\",VLOOKUP(B132,HM!$A$10:$B$209,2))","v":""},null,null,null,null,{"$f":"IF(G132=\"\",\"\",VLOOKUP(G132,HM!$A$10:$B$209,2))","v":""}]
[131,null,{"$f":"IF(B133=\"\",\"\",VLOOKUP(B133,HM!$A$10:$B$209,2))","v":""},null,null,null,null,{"$f":"IF(G133=\"\",\"\",VLOOKUP(G133,HM!$A$10:$B$209,2))","v":""}]
[132,null,{"$f":"IF(B134=\"\",\"\",VLOOKUP(B134,HM!$A$10:$B$209,2))","v":""},null,null,null,null,{"$f":"IF(G134=\"\",\"\",VLOOKUP(G134,HM!$A$10:$B$209,2))","v":""}]
[133,null,{"$f":"IF(B135=\"\",\"\",VLOOKUP(B135,HM!$A$10:$B$209,2))","v":""},null,null,null,null,{"$f":"IF(G135=\"\",\"\",VLOOKUP(G135,HM!$A$10:$B$209,2))","v":""}]
[134,null,{"$f":"IF(B136=\"\",\"\",VLOOKUP(B136,HM!$A$10:$B$209,2))","v":""},null,null,null,null,{"$f":"IF(G136=\"\",\"\",VLOOKUP(G136,HM!$A$10:$B$209,2))","v":""}]
[135,null,{"$f":"IF(B137=\"\",\"\",VLOOKUP(B137,HM!$A$10:$B$209,2))","v":""},null,null,null,null,{"$f":"IF(G137=\"\",\"\",VLOOKUP(G137,HM!$A$10:$B$209,2))","v":""}]
[136,null,{"$f":"IF(B138=\"\",\"\",VLOOKUP(B138,HM!$A$10:$B$209,2))","v":""},null,null,null,null,{"$f":"IF(G138=\"\",\"\",VLOOKUP(G138,HM!$A$10:$B$209,2))","v":""}]
[137,null,{"$f":"IF(B139=\"\",\"\",VLOOKUP(B139,HM!$A$10:$B$209,2))","v":""},null,null,null,null,{"$f":"IF(G139=\"\",\"\",VLOOKUP(G139,HM!$A$10:$B$209,2))","v":""}]
[138,null,{"$f":"IF(B140=\"\",\"\",VLOOKUP(B140,HM!$A$10:$B$209,2))","v":""},null,null,null,null,{"$f":"IF(G140=\"\",\"\",VLOOKUP(G140,HM!$A$10:$B$209,2))","v":""}]
[139,null,{"$f":"IF(B141=\"\",\"\",VLOOKUP(B141,HM!$A$10:$B$209,2))","v":""},null,null,null,null,{"$f":"IF(G141=\"\",\"\",VLOOKUP(G141,HM!$A$10:$B$209,2))","v":""}]
[140,null,{"$f":"IF(B142=\"\",\"\",VLOOKUP(B142,HM!$A$10:$B$209,2))","v":""},null,null,null,null,{"$f":"IF(G142=\"\",\"\",VLOOKUP(G142,HM!$A$10:$B$209,2))","v":""}]
[141,null,{"$f":"IF(B143=\"\",\"\",VLOOKUP(B143,HM!$A$10:$B$209,2))","v":""},null,null,null,null,{"$f":"IF(G143=\"\",\"\",VLOOKUP(G143,HM!$A$10:$B$209,2))","v":""}]
[142,null,{"$f":"IF(B144=\"\",\"\",VLOOKUP(B144,HM!$A$10:$B$209,2))","v":""},null,null,null,null,{"$f":"IF(G144=\"\",\"\",VLOOKUP(G144,HM!$A$10:$B$209,2))","v":""}]
[143,null,{"$f":"IF(B145=\"\",\"\",VLOOKUP(B145,HM!$A$10:$B$209,2))","v":""},null,null,null,null,{"$f":"IF(G145=\"\",\"\",VLOOKUP(G145,HM!$A$10:$B$209,2))","v":""}]
[144,null,{"$f":"IF(B146=\"\",\"\",VLOOKUP(B146,HM!$A$10:$B$209,2))","v":""},null,null,null,null,{"$f":"IF(G146=\"\",\"\",VLOOKUP(G146,HM!$A$10:$B$209,2))","v":""}]
[145,null,{"$f":"IF(B147=\"\",\"\",VLOOKUP(B147,HM!$A$10:$B$209,2))","v":""},null,null,null,null,{"$f":"IF(G147=\"\",\"\",VLOOKUP(G147,HM!$A$10:$B$209,2))","v":""}]
[146,null,{"$f":"IF(B148=\"\",\"\",VLOOKUP(B148,HM!$A$10:$B$209,2))","v":""},null,null,null,null,{"$f":"IF(G148=\"\",\"\",VLOOKUP(G148,HM!$A$10:$B$209,2))","v":""}]
[147,null,{"$f":"IF(B149=\"\",\"\",VLOOKUP(B149,HM!$A$10:$B$209,2))","v":""},null,null,null,null,{"$f":"IF(G149=\"\",\"\",VLOOKUP(G149,HM!$A$10:$B$209,2))","v":""}]
[148,null,{"$f":"IF(B150=\"\",\"\",VLOOKUP(B150,HM!$A$10:$B$209,2))","v":""},null,null,null,null,{"$f":"IF(G150=\"\",\"\",VLOOKUP(G150,HM!$A$10:$B$209,2))","v":""}]
[149,null,{"$f":"IF(B151=\"\",\"\",VLOOKUP(B151,HM!$A$10:$B$209,2))","v":""},null,null,null,null,{"$f":"IF(G151=\"\",\"\",VLOOKUP(G151,HM!$A$10:$B$209,2))","v":""}]
[150,null,{"$f":"IF(B152=\"\",\"\",VLOOKUP(B152,HM!$A$10:$B$209,2))","v":""},null,null,null,null,{"$f":"IF(G152=\"\",\"\",VLOOKUP(G152,HM!$A$10:$B$209,2))","v":""}]
[151,null,{"$f":"IF(B153=\"\",\"\",VLOOKUP(B153,HM!$A$10:$B$209,2))","v":""},null,null,null,null,{"$f":"IF(G153=\"\",\"\",VLOOKUP(G153,HM!$A$10:$B$209,2))","v":""}]
[152,null,{"$f":"IF(B154=\"\",\"\",VLOOKUP(B154,HM!$A$10:$B$209,2))","v":""},null,null,null,null,{"$f":"IF(G154=\"\",\"\",VLOOKUP(G154,HM!$A$10:$B$209,2))","v":""}]
[153,null,{"$f":"IF(B155=\"\",\"\",VLOOKUP(B155,HM!$A$10:$B$209,2))","v":""},null,null,null,null,{"$f":"IF(G155=\"\",\"\",VLOOKUP(G155,HM!$A$10:$B$209,2))","v":""}]
[154,null,{"$f":"IF(B156=\"\",\"\",VLOOKUP(B156,HM!$A$10:$B$209,2))","v":""},null,null,null,null,{"$f":"IF(G156=\"\",\"\",VLOOKUP(G156,HM!$A$10:$B$209,2))","v":""}]
[155,null,{"$f":"IF(B157=\"\",\"\",VLOOKUP(B157,HM!$A$10:$B$209,2))","v":""},null,null,null,null,{"$f":"IF(G157=\"\",\"\",VLOOKUP(G157,HM!$A$10:$B$209,2))","v":""}]
[156,null,{"$f":"IF(B158=\"\",\"\",VLOOKUP(B158,HM!$A$10:$B$209,2))","v":""},null,null,null,null,{"$f":"IF(G158=\"\",\"\",VLOOKUP(G158,HM!$A$10:$B$209,2))","v":""}]
[157,null,{"$f":"IF(B159=\"\",\"\",VLOOKUP(B159,HM!$A$10:$B$209,2))","v":""},null,null,null,null,{"$f":"IF(G159=\"\",\"\",VLOOKUP(G159,HM!$A$10:$B$209,2))","v":""}]
[158,null,{"$f":"IF(B160=\"\",\"\",VLOOKUP(B160,HM!$A$10:$B$209,2))","v":""},null,null,null,null,{"$f":"IF(G160=\"\",\"\",VLOOKUP(G160,HM!$A$10:$B$209,2))","v":""}]
[159,null,{"$f":"IF(B161=\"\",\"\",VLOOKUP(B161,HM!$A$10:$B$209,2))","v":""},null,null,null,null,{"$f":"IF(G161=\"\",\"\",VLOOKUP(G161,HM!$A$10:$B$209,2))","v":""}]
[160,null,{"$f":"IF(B162=\"\",\"\",VLOOKUP(B162,HM!$A$10:$B$209,2))","v":""},null,null,null,null,{"$f":"IF(G162=\"\",\"\",VLOOKUP(G162,HM!$A$10:$B$209,2))","v":""}]
[161,null,{"$f":"IF(B163=\"\",\"\",VLOOKUP(B163,HM!$A$10:$B$209,2))","v":""},null,null,null,null,{"$f":"IF(G163=\"\",\"\",VLOOKUP(G163,HM!$A$10:$B$209,2))","v":""}]
[162,null,{"$f":"IF(B164=\"\",\"\",VLOOKUP(B164,HM!$A$10:$B$209,2))","v":""},null,null,null,null,{"$f":"IF(G164=\"\",\"\",VLOOKUP(G164,HM!$A$10:$B$209,2))","v":""}]
[163,null,{"$f":"IF(B165=\"\",\"\",VLOOKUP(B165,HM!$A$10:$B$209,2))","v":""},null,null,null,null,{"$f":"IF(G165=\"\",\"\",VLOOKUP(G165,HM!$A$10:$B$209,2))","v":""}]
[164,null,{"$f":"IF(B166=\"\",\"\",VLOOKUP(B166,HM!$A$10:$B$209,2))","v":""},null,null,null,null,{"$f":"IF(G166=\"\",\"\",VLOOKUP(G166,HM!$A$10:$B$209,2))","v":""}]
[165,null,{"$f":"IF(B167=\"\",\"\",VLOOKUP(B167,HM!$A$10:$B$209,2))","v":""},null,null,null,null,{"$f":"IF(G167=\"\",\"\",VLOOKUP(G167,HM!$A$10:$B$209,2))","v":""}]
[166,null,{"$f":"IF(B168=\"\",\"\",VLOOKUP(B168,HM!$A$10:$B$209,2))","v":""},null,null,null,null,{"$f":"IF(G168=\"\",\"\",VLOOKUP(G168,HM!$A$10:$B$209,2))","v":""}]
[167,null,{"$f":"IF(B169=\"\",\"\",VLOOKUP(B169,HM!$A$10:$B$209,2))","v":""},null,null,null,null,{"$f":"IF(G169=\"\",\"\",VLOOKUP(G169,HM!$A$10:$B$209,2))","v":""}]
[168,null,{"$f":"IF(B170=\"\",\"\",VLOOKUP(B170,HM!$A$10:$B$209,2))","v":""},null,null,null,null,{"$f":"IF(G170=\"\",\"\",VLOOKUP(G170,HM!$A$10:$B$209,2))","v":""}]
[169,null,{"$f":"IF(B171=\"\",\"\",VLOOKUP(B171,HM!$A$10:$B$209,2))","v":""},null,null,null,null,{"$f":"IF(G171=\"\",\"\",VLOOKUP(G171,HM!$A$10:$B$209,2))","v":""}]
[170,null,{"$f":"IF(B172=\"\",\"\",VLOOKUP(B172,HM!$A$10:$B$209,2))","v":""},null,null,null,null,{"$f":"IF(G172=\"\",\"\",VLOOKUP(G172,HM!$A$10:$B$209,2))","v":""}]
[171,null,{"$f":"IF(B173=\"\",\"\",VLOOKUP(B173,HM!$A$10:$B$209,2))","v":""},null,null,null,null,{"$f":"IF(G173=\"\",\"\",VLOOKUP(G173,HM!$A$10:$B$209,2))","v":""}]
[172,null,{"$f":"IF(B174=\"\",\"\",VLOOKUP(B174,HM!$A$10:$B$209,2))","v":""},null,null,null,null,{"$f":"IF(G174=\"\",\"\",VLOOKUP(G174,HM!$A$10:$B$209,2))","v":""}]
[173,null,{"$f":"IF(B175=\"\",\"\",VLOOKUP(B175,HM!$A$10:$B$209,2))","v":""},null,null,null,null,{"$f":"IF(G175=\"\",\"\",VLOOKUP(G175,HM!$A$10:$B$209,2))","v":""}]
[174,null,{"$f":"IF(B176=\"\",\"\",VLOOKUP(B176,HM!$A$10:$B$209,2))","v":""},null,null,null,null,{"$f":"IF(G176=\"\",\"\",VLOOKUP(G176,HM!$A$10:$B$209,2))","v":""}]
[175,null,{"$f":"IF(B177=\"\",\"\",VLOOKUP(B177,HM!$A$10:$B$209,2))","v":""},null,null,null,null,{"$f":"IF(G177=\"\",\"\",VLOOKUP(G177,HM!$A$10:$B$209,2))","v":""}]
[176,null,{"$f":"IF(B178=\"\",\"\",VLOOKUP(B178,HM!$A$10:$B$209,2))","v":""},null,null,null,null,{"$f":"IF(G178=\"\",\"\",VLOOKUP(G178,HM!$A$10:$B$209,2))","v":""}]
[177,null,{"$f":"IF(B179=\"\",\"\",VLOOKUP(B179,HM!$A$10:$B$209,2))","v":""},null,null,null,null,{"$f":"IF(G179=\"\",\"\",VLOOKUP(G179,HM!$A$10:$B$209,2))","v":""}]
[178,null,{"$f":"IF(B180=\"\",\"\",VLOOKUP(B180,HM!$A$10:$B$209,2))","v":""},null,null,null,null,{"$f":"IF(G180=\"\",\"\",VLOOKUP(G180,HM!$A$10:$B$209,2))","v":""}]
[179,null,{"$f":"IF(B181=\"\",\"\",VLOOKUP(B181,HM!$A$10:$B$209,2))","v":""},null,null,null,null,{"$f":"IF(G181=\"\",\"\",VLOOKUP(G181,HM!$A$10:$B$209,2))","v":""}]
[180,null,{"$f":"IF(B182=\"\",\"\",VLOOKUP(B182,HM!$A$10:$B$209,2))","v":""},null,null,null,null,{"$f":"IF(G182=\"\",\"\",VLOOKUP(G182,HM!$A$10:$B$209,2))","v":""}]
[181,null,{"$f":"IF(B183=\"\",\"\",VLOOKUP(B183,HM!$A$10:$B$209,2))","v":""},null,null,null,null,{"$f":"IF(G183=\"\",\"\",VLOOKUP(G183,HM!$A$10:$B$209,2))","v":""}]
[182,null,{"$f":"IF(B184=\"\",\"\",VLOOKUP(B184,HM!$A$10:$B$209,2))","v":""},null,null,null,null,{"$f":"IF(G184=\"\",\"\",VLOOKUP(G184,HM!$A$10:$B$209,2))","v":""}]
[183,null,{"$f":"IF(B185=\"\",\"\",VLOOKUP(B185,HM!$A$10:$B$209,2))","v":""},null,null,null,null,{"$f":"IF(G185=\"\",\"\",VLOOKUP(G185,HM!$A$10:$B$209,2))","v":""}]
[184,null,{"$f":"IF(B186=\"\",\"\",VLOOKUP(B186,HM!$A$10:$B$209,2))","v":""},null,null,null,null,{"$f":"IF(G186=\"\",\"\",VLOOKUP(G186,HM!$A$10:$B$209,2))","v":""}]
[185,null,{"$f":"IF(B187=\"\",\"\",VLOOKUP(B187,HM!$A$10:$B$209,2))","v":""},null,null,null,null,{"$f":"IF(G187=\"\",\"\",VLOOKUP(G187,HM!$A$10:$B$209,2))","v":""}]
[186,null,{"$f":"IF(B188=\"\",\"\",VLOOKUP(B188,HM!$A$10:$B$209,2))","v":""},null,null,null,null,{"$f":"IF(G188=\"\",\"\",VLOOKUP(G188,HM!$A$10:$B$209,2))","v":""}]
[187,null,{"$f":"IF(B189=\"\",\"\",VLOOKUP(B189,HM!$A$10:$B$209,2))","v":""},null,null,null,null,{"$f":"IF(G189=\"\",\"\",VLOOKUP(G189,HM!$A$10:$B$209,2))","v":""}]
[188,null,{"$f":"IF(B190=\"\",\"\",VLOOKUP(B190,HM!$A$10:$B$209,2))","v":""},null,null,null,null,{"$f":"IF(G190=\"\",\"\",VLOOKUP(G190,HM!$A$10:$B$209,2))","v":""}]
[189,null,{"$f":"IF(B191=\"\",\"\",VLOOKUP(B191,HM!$A$10:$B$209,2))","v":""},null,null,null,null,{"$f":"IF(G191=\"\",\"\",VLOOKUP(G191,HM!$A$10:$B$209,2))","v":""}]
[190,null,{"$f":"IF(B192=\"\",\"\",VLOOKUP(B192,HM!$A$10:$B$209,2))","v":""},null,null,null,null,{"$f":"IF(G192=\"\",\"\",VLOOKUP(G192,HM!$A$10:$B$209,2))","v":""}]
[191,null,{"$f":"IF(B193=\"\",\"\",VLOOKUP(B193,HM!$A$10:$B$209,2))","v":""},null,null,null,null,{"$f":"IF(G193=\"\",\"\",VLOOKUP(G193,HM!$A$10:$B$209,2))","v":""}]
[192,null,{"$f":"IF(B194=\"\",\"\",VLOOKUP(B194,HM!$A$10:$B$209,2))","v":""},null,null,null,null,{"$f":"IF(G194=\"\",\"\",VLOOKUP(G194,HM!$A$10:$B$209,2))","v":""}]
[193,null,{"$f":"IF(B195=\"\",\"\",VLOOKUP(B195,HM!$A$10:$B$209,2))","v":""},null,null,null,null,{"$f":"IF(G195=\"\",\"\",VLOOKUP(G195,HM!$A$10:$B$209,2))","v":""}]
[194,null,{"$f":"IF(B196=\"\",\"\",VLOOKUP(B196,HM!$A$10:$B$209,2))","v":""},null,null,null,null,{"$f":"IF(G196=\"\",\"\",VLOOKUP(G196,HM!$A$10:$B$209,2))","v":""}]
[195,null,{"$f":"IF(B197=\"\",\"\",VLOOKUP(B197,HM!$A$10:$B$209,2))","v":""},null,null,null,null,{"$f":"IF(G197=\"\",\"\",VLOOKUP(G197,HM!$A$10:$B$209,2))","v":""}]
[196,null,{"$f":"IF(B198=\"\",\"\",VLOOKUP(B198,HM!$A$10:$B$209,2))","v":""},null,null,null,null,{"$f":"IF(G198=\"\",\"\",VLOOKUP(G198,HM!$A$10:$B$209,2))","v":""}]
[197,null,{"$f":"IF(B199=\"\",\"\",VLOOKUP(B199,HM!$A$10:$B$209,2))","v":""},null,null,null,null,{"$f":"IF(G199=\"\",\"\",VLOOKUP(G199,HM!$A$10:$B$209,2))","v":""}]
[198,null,{"$f":"IF(B200=\"\",\"\",VLOOKUP(B200,HM!$A$10:$B$209,2))","v":""},null,null,null,null,{"$f":"IF(G200=\"\",\"\",VLOOKUP(G200,HM!$A$10:$B$209,2))","v":""}]
[199,null,{"$f":"IF(B201=\"\",\"\",VLOOKUP(B201,HM!$A$10:$B$209,2))","v":""},null,null,null,null,{"$f":"IF(G201=\"\",\"\",VLOOKUP(G201,HM!$A$10:$B$209,2))","v":""}]
[200,null,{"$f":"IF(B202=\"\",\"\",VLOOKUP(B202,HM!$A$10:$B$209,2))","v":""},null,null,null,null,{"$f":"IF(G202=\"\",\"\",VLOOKUP(G202,HM!$A$10:$B$209,2))","v":""}]

{"sheet":"ALP","index":5,"n_rows":202,"n_cols":6,"rows_kept":202,"cut":false,"hidden":false,"merged":[[0,1,0,4]]}
[null,"Auflagepokal\n(alle ab 21 Jahre)"]
[null,"Lfd.\nNr.:","Vor- und Nachname:","Ringe:","Teiler:"]
[null,null,{"$f":"IF(B3=\"\",\"\",VLOOKUP(B3,HM!$A$10:$B$209,2))","v":""},null,null,1]
[null,null,{"$f":"IF(B4=\"\",\"\",VLOOKUP(B4,HM!$A$10:$B$209,2))","v":""},null,null,2]
[null,null,{"$f":"IF(B5=\"\",\"\",VLOOKUP(B5,HM!$A$10:$B$209,2))","v":""},null,null,3]
[null,null,{"$f":"IF(B6=\"\",\"\",VLOOKUP(B6,HM!$A$10:$B$209,2))","v":""},null,null,4]
[null,null,{"$f":"IF(B7=\"\",\"\",VLOOKUP(B7,HM!$A$10:$B$209,2))","v":""},null,null,5]
[null,null,{"$f":"IF(B8=\"\",\"\",VLOOKUP(B8,HM!$A$10:$B$209,2))","v":""},null,null,6]
[null,null,{"$f":"IF(B9=\"\",\"\",VLOOKUP(B9,HM!$A$10:$B$209,2))","v":""},null,null,7]
[null,null,{"$f":"IF(B10=\"\",\"\",VLOOKUP(B10,HM!$A$10:$B$209,2))","v":""},null,null,8]
[null,null,{"$f":"IF(B11=\"\",\"\",VLOOKUP(B11,HM!$A$10:$B$209,2))","v":""},null,null,9]
[null,null,{"$f":"IF(B12=\"\",\"\",VLOOKUP(B12,HM!$A$10:$B$209,2))","v":""},null,null,10]
[null,null,{"$f":"IF(B13=\"\",\"\",VLOOKUP(B13,HM!$A$10:$B$209,2))","v":""},null,null,11]
[null,null,{"$f":"IF(B14=\"\",\"\",VLOOKUP(B14,HM!$A$10:$B$209,2))","v":""},null,null,12]
[null,null,{"$f":"IF(B15=\"\",\"\",VLOOKUP(B15,HM!$A$10:$B$209,2))","v":""},null,null,13]
[null,null,{"$f":"IF(B16=\"\",\"\",VLOOKUP(B16,HM!$A$10:$B$209,2))","v":""},null,null,14]
[null,null,{"$f":"IF(B17=\"\",\"\",VLOOKUP(B17,HM!$A$10:$B$209,2))","v":""},null,null,15]
[null,null,{"$f":"IF(B18=\"\",\"\",VLOOKUP(B18,HM!$A$10:$B$209,2))","v":""},null,null,16]
[null,null,{"$f":"IF(B19=\"\",\"\",VLOOKUP(B19,HM!$A$10:$B$209,2))","v":""},null,null,17]
[null,null,{"$f":"IF(B20=\"\",\"\",VLOOKUP(B20,HM!$A$10:$B$209,2))","v":""},null,null,18]
[null,null,{"$f":"IF(B21=\"\",\"\",VLOOKUP(B21,HM!$A$10:$B$209,2))","v":""},null,null,19]
[null,null,{"$f":"IF(B22=\"\",\"\",VLOOKUP(B22,HM!$A$10:$B$209,2))","v":""},null,null,20]
[null,null,{"$f":"IF(B23=\"\",\"\",VLOOKUP(B23,HM!$A$10:$B$209,2))","v":""},null,null,21]
[null,null,{"$f":"IF(B24=\"\",\"\",VLOOKUP(B24,HM!$A$10:$B$209,2))","v":""},null,null,22]
[null,null,{"$f":"IF(B25=\"\",\"\",VLOOKUP(B25,HM!$A$10:$B$209,2))","v":""},null,null,23]
[null,null,{"$f":"IF(B26=\"\",\"\",VLOOKUP(B26,HM!$A$10:$B$209,2))","v":""},null,null,24]
[null,null,{"$f":"IF(B27=\"\",\"\",VLOOKUP(B27,HM!$A$10:$B$209,2))","v":""},null,null,25]
[null,null,{"$f":"IF(B28=\"\",\"\",VLOOKUP(B28,HM!$A$10:$B$209,2))","v":""},null,null,26]
[null,null,{"$f":"IF(B29=\"\",\"\",VLOOKUP(B29,HM!$A$10:$B$209,2))","v":""},null,null,27]
[null,null,{"$f":"IF(B30=\"\",\"\",VLOOKUP(B30,HM!$A$10:$B$209,2))","v":""},null,null,28]
[null,null,{"$f":"IF(B31=\"\",\"\",VLOOKUP(B31,HM!$A$10:$B$209,2))","v":""},null,null,29]
[null,null,{"$f":"IF(B32=\"\",\"\",VLOOKUP(B32,HM!$A$10:$B$209,2))","v":""},null,null,30]
[null,null,{"$f":"IF(B33=\"\",\"\",VLOOKUP(B33,HM!$A$10:$B$209,2))","v":""},null,null,31]
[null,null,{"$f":"IF(B34=\"\",\"\",VLOOKUP(B34,HM!$A$10:$B$209,2))","v":""},null,null,32]
[null,null,{"$f":"IF(B35=\"\",\"\",VLOOKUP(B35,HM!$A$10:$B$209,2))","v":""},null,null,33]
[null,null,{"$f":"IF(B36=\"\",\"\",VLOOKUP(B36,HM!$A$10:$B$209,2))","v":""},null,null,34]
[null,null,{"$f":"IF(B37=\"\",\"\",VLOOKUP(B37,HM!$A$10:$B$209,2))","v":""},null,null,35]
[null,null,{"$f":"IF(B38=\"\",\"\",VLOOKUP(B38,HM!$A$10:$B$209,2))","v":""},null,null,36]
[null,null,{"$f":"IF(B39=\"\",\"\",VLOOKUP(B39,HM!$A$10:$B$209,2))","v":""},null,null,37]
[null,null,{"$f":"IF(B40=\"\",\"\",VLOOKUP(B40,HM!$A$10:$B$209,2))","v":""},null,null,38]
[null,null,{"$f":"IF(B41=\"\",\"\",VLOOKUP(B41,HM!$A$10:$B$209,2))","v":""},null,null,39]
[null,null,{"$f":"IF(B42=\"\",\"\",VLOOKUP(B42,HM!$A$10:$B$209,2))","v":""},null,null,40]
[null,null,{"$f":"IF(B43=\"\",\"\",VLOOKUP(B43,HM!$A$10:$B$209,2))","v":""},null,null,41]
[null,null,{"$f":"IF(B44=\"\",\"\",VLOOKUP(B44,HM!$A$10:$B$209,2))","v":""},null,null,42]
[null,null,{"$f":"IF(B45=\"\",\"\",VLOOKUP(B45,HM!$A$10:$B$209,2))","v":""},null,null,43]
[null,null,{"$f":"IF(B46=\"\",\"\",VLOOKUP(B46,HM!$A$10:$B$209,2))","v":""},null,null,44]
[null,null,{"$f":"IF(B47=\"\",\"\",VLOOKUP(B47,HM!$A$10:$B$209,2))","v":""},null,null,45]
[null,null,{"$f":"IF(B48=\"\",\"\",VLOOKUP(B48,HM!$A$10:$B$209,2))","v":""},null,null,46]
[null,null,{"$f":"IF(B49=\"\",\"\",VLOOKUP(B49,HM!$A$10:$B$209,2))","v":""},null,null,47]
[null,null,{"$f":"IF(B50=\"\",\"\",VLOOKUP(B50,HM!$A$10:$B$209,2))","v":""},null,null,48]
[null,null,{"$f":"IF(B51=\"\",\"\",VLOOKUP(B51,HM!$A$10:$B$209,2))","v":""},null,null,49]
[null,null,{"$f":"IF(B52=\"\",\"\",VLOOKUP(B52,HM!$A$10:$B$209,2))","v":""},null,null,50]
[null,null,{"$f":"IF(B53=\"\",\"\",VLOOKUP(B53,HM!$A$10:$B$209,2))","v":""},null,null,51]
[null,null,{"$f":"IF(B54=\"\",\"\",VLOOKUP(B54,HM!$A$10:$B$209,2))","v":""},null,null,52]
[null,null,{"$f":"IF(B55=\"\",\"\",VLOOKUP(B55,HM!$A$10:$B$209,2))","v":""},null,null,53]
[null,null,{"$f":"IF(B56=\"\",\"\",VLOOKUP(B56,HM!$A$10:$B$209,2))","v":""},null,null,54]
[null,null,{"$f":"IF(B57=\"\",\"\",VLOOKUP(B57,HM!$A$10:$B$209,2))","v":""},null,null,55]
[null,null,{"$f":"IF(B58=\"\",\"\",VLOOKUP(B58,HM!$A$10:$B$209,2))","v":""},null,null,56]
[null,null,{"$f":"IF(B59=\"\",\"\",VLOOKUP(B59,HM!$A$10:$B$209,2))","v":""},null,null,57]
[null,null,{"$f":"IF(B60=\"\",\"\",VLOOKUP(B60,HM!$A$10:$B$209,2))","v":""},null,null,58]
[null,null,{"$f":"IF(B61=\"\",\"\",VLOOKUP(B61,HM!$A$10:$B$209,2))","v":""},null,null,59]
[null,null,{"$f":"IF(B62=\"\",\"\",VLOOKUP(B62,HM!$A$10:$B$209,2))","v":""},null,null,60]
[null,null,{"$f":"IF(B63=\"\",\"\",VLOOKUP(B63,HM!$A$10:$B$209,2))","v":""},null,null,61]
[null,null,{"$f":"IF(B64=\"\",\"\",VLOOKUP(B64,HM!$A$10:$B$209,2))","v":""},null,null,62]
[null,null,{"$f":"IF(B65=\"\",\"\",VLOOKUP(B65,HM!$A$10:$B$209,2))","v":""},null,null,63]
[null,null,{"$f":"IF(B66=\"\",\"\",VLOOKUP(B66,HM!$A$10:$B$209,2))","v":""},null,null,64]
[null,null,{"$f":"IF(B67=\"\",\"\",VLOOKUP(B67,HM!$A$10:$B$209,2))","v":""},null,null,65]
[null,null,{"$f":"IF(B68=\"\",\"\",VLOOKUP(B68,HM!$A$10:$B$209,2))","v":""},null,null,66]
[null,null,{"$f":"IF(B69=\"\",\"\",VLOOKUP(B69,HM!$A$10:$B$209,2))","v":""},null,null,67]
[null,null,{"$f":"IF(B70=\"\",\"\",VLOOKUP(B70,HM!$A$10:$B$209,2))","v":""},null,null,68]
[null,null,{"$f":"IF(B71=\"\",\"\",VLOOKUP(B71,HM!$A$10:$B$209,2))","v":""},null,null,69]
[null,null,{"$f":"IF(B72=\"\",\"\",VLOOKUP(B72,HM!$A$10:$B$209,2))","v":""},null,null,70]
[null,null,{"$f":"IF(B73=\"\",\"\",VLOOKUP(B73,HM!$A$10:$B$209,2))","v":""},null,null,71]
[null,null,{"$f":"IF(B74=\"\",\"\",VLOOKUP(B74,HM!$A$10:$B$209,2))","v":""},null,null,72]
[null,null,{"$f":"IF(B75=\"\",\"\",VLOOKUP(B75,HM!$A$10:$B$209,2))","v":""},null,null,73]
[null,null,{"$f":"IF(B76=\"\",\"\",VLOOKUP(B76,HM!$A$10:$B$209,2))","v":""},null,null,74]
[null,null,{"$f":"IF(B77=\"\",\"\",VLOOKUP(B77,HM!$A$10:$B$209,2))","v":""},null,null,75]
[null,null,{"$f":"IF(B78=\"\",\"\",VLOOKUP(B78,HM!$A$10:$B$209,2))","v":""},null,null,76]
[null,null,{"$f":"IF(B79=\"\",\"\",VLOOKUP(B79,HM!$A$10:$B$209,2))","v":""},null,null,77]
[null,null,{"$f":"IF(B80=\"\",\"\",VLOOKUP(B80,HM!$A$10:$B$209,2))","v":""},null,null,78]
[null,null,{"$f":"IF(B81=\"\",\"\",VLOOKUP(B81,HM!$A$10:$B$209,2))","v":""},null,null,79]
[null,null,{"$f":"IF(B82=\"\",\"\",VLOOKUP(B82,HM!$A$10:$B$209,2))","v":""},null,null,80]
[null,null,{"$f":"IF(B83=\"\",\"\",VLOOKUP(B83,HM!$A$10:$B$209,2))","v":""},null,null,81]
[null,null,{"$f":"IF(B84=\"\",\"\",VLOOKUP(B84,HM!$A$10:$B$209,2))","v":""},null,null,82]
[null,null,{"$f":"IF(B85=\"\",\"\",VLOOKUP(B85,HM!$A$10:$B$209,2))","v":""},null,null,83]
[null,null,{"$f":"IF(B86=\"\",\"\",VLOOKUP(B86,HM!$A$10:$B$209,2))","v":""},null,null,84]
[null,null,{"$f":"IF(B87=\"\",\"\",VLOOKUP(B87,HM!$A$10:$B$209,2))","v":""},null,null,85]
[null,null,{"$f":"IF(B88=\"\",\"\",VLOOKUP(B88,HM!$A$10:$B$209,2))","v":""},null,null,86]
[null,null,{"$f":"IF(B89=\"\",\"\",VLOOKUP(B89,HM!$A$10:$B$209,2))","v":""},null,null,87]
[null,null,{"$f":"IF(B90=\"\",\"\",VLOOKUP(B90,HM!$A$10:$B$209,2))","v":""},null,null,88]
[null,null,{"$f":"IF(B91=\"\",\"\",VLOOKUP(B91,HM!$A$10:$B$209,2))","v":""},null,null,89]
[null,null,{"$f":"IF(B92=\"\",\"\",VLOOKUP(B92,HM!$A$10:$B$209,2))","v":""},null,null,90]
[null,null,{"$f":"IF(B93=\"\",\"\",VLOOKUP(B93,HM!$A$10:$B$209,2))","v":""},null,null,91]
[null,null,{"$f":"IF(B94=\"\",\"\",VLOOKUP(B94,HM!$A$10:$B$209,2))","v":""},null,null,92]
[null,null,{"$f":"IF(B95=\"\",\"\",VLOOKUP(B95,HM!$A$10:$B$209,2))","v":""},null,null,93]
[null,null,{"$f":"IF(B96=\"\",\"\",VLOOKUP(B96,HM!$A$10:$B$209,2))","v":""},null,null,94]
[null,null,{"$f":"IF(B97=\"\",\"\",VLOOKUP(B97,HM!$A$10:$B$209,2))","v":""},null,null,95]
[null,null,{"$f":"IF(B98=\"\",\"\",VLOOKUP(B98,HM!$A$10:$B$209,2))","v":""},null,null,96]
[null,null,{"$f":"IF(B99=\"\",\"\",VLOOKUP(B99,HM!$A$10:$B$209,2))","v":""},null,null,97]
[null,null,{"$f":"IF(B100=\"\",\"\",VLOOKUP(B100,HM!$A$10:$B$209,2))","v":""},null,null,98]
[null,null,{"$f":"IF(B101=\"\",\"\",VLOOKUP(B101,HM!$A$10:$B$209,2))","v":""},null,null,99]
[null,null,{"$f":"IF(B102=\"\",\"\",VLOOKUP(B102,HM!$A$10:$B$209,2))","v":""},null,null,100]
[null,null,{"$f":"IF(B103=\"\",\"\",VLOOKUP(B103,HM!$A$10:$B$209,2))","v":""},null,null,101]
[null,null,{"$f":"IF(B104=\"\",\"\",VLOOKUP(B104,HM!$A$10:$B$209,2))","v":""},null,null,102]
[null,null,{"$f":"IF(B105=\"\",\"\",VLOOKUP(B105,HM!$A$10:$B$209,2))","v":""},null,null,103]
[null,null,{"$f":"IF(B106=\"\",\"\",VLOOKUP(B106,HM!$A$10:$B$209,2))","v":""},null,null,104]
[null,null,{"$f":"IF(B107=\"\",\"\",VLOOKUP(B107,HM!$A$10:$B$209,2))","v":""},null,null,105]
[null,null,{"$f":"IF(B108=\"\",\"\",VLOOKUP(B108,HM!$A$10:$B$209,2))","v":""},null,null,106]
[null,null,{"$f":"IF(B109=\"\",\"\",VLOOKUP(B109,HM!$A$10:$B$209,2))","v":""},null,null,107]
[null,null,{"$f":"IF(B110=\"\",\"\",VLOOKUP(B110,HM!$A$10:$B$209,2))","v":""},null,null,108]
[null,null,{"$f":"IF(B111=\"\",\"\",VLOOKUP(B111,HM!$A$10:$B$209,2))","v":""},null,null,109]
[null,null,{"$f":"IF(B112=\"\",\"\",VLOOKUP(B112,HM!$A$10:$B$209,2))","v":""},null,null,110]
[null,null,{"$f":"IF(B113=\"\",\"\",VLOOKUP(B113,HM!$A$10:$B$209,2))","v":""},null,null,111]
[null,null,{"$f":"IF(B114=\"\",\"\",VLOOKUP(B114,HM!$A$10:$B$209,2))","v":""},null,null,112]
[null,null,{"$f":"IF(B115=\"\",\"\",VLOOKUP(B115,HM!$A$10:$B$209,2))","v":""},null,null,113]
[null,null,{"$f":"IF(B116=\"\",\"\",VLOOKUP(B116,HM!$A$10:$B$209,2))","v":""},null,null,114]
[null,null,{"$f":"IF(B117=\"\",\"\",VLOOKUP(B117,HM!$A$10:$B$209,2))","v":""},null,null,115]
[null,null,{"$f":"IF(B118=\"\",\"\",VLOOKUP(B118,HM!$A$10:$B$209,2))","v":""},null,null,116]
[null,null,{"$f":"IF(B119=\"\",\"\",VLOOKUP(B119,HM!$A$10:$B$209,2))","v":""},null,null,117]
[null,null,{"$f":"IF(B120=\"\",\"\",VLOOKUP(B120,HM!$A$10:$B$209,2))","v":""},null,null,118]
[null,null,{"$f":"IF(B121=\"\",\"\",VLOOKUP(B121,HM!$A$10:$B$209,2))","v":""},null,null,119]
[null,null,{"$f":"IF(B122=\"\",\"\",VLOOKUP(B122,HM!$A$10:$B$209,2))","v":""},null,null,120]
[null,null,{"$f":"IF(B123=\"\",\"\",VLOOKUP(B123,HM!$A$10:$B$209,2))","v":""},null,null,121]
[null,null,{"$f":"IF(B124=\"\",\"\",VLOOKUP(B124,HM!$A$10:$B$209,2))","v":""},null,null,122]
[null,null,{"$f":"IF(B125=\"\",\"\",VLOOKUP(B125,HM!$A$10:$B$209,2))","v":""},null,null,123]
[null,null,{"$f":"IF(B126=\"\",\"\",VLOOKUP(B126,HM!$A$10:$B$209,2))","v":""},null,null,124]
[null,null,{"$f":"IF(B127=\"\",\"\",VLOOKUP(B127,HM!$A$10:$B$209,2))","v":""},null,null,125]
[null,null,{"$f":"IF(B128=\"\",\"\",VLOOKUP(B128,HM!$A$10:$B$209,2))","v":""},null,null,126]
[null,null,{"$f":"IF(B129=\"\",\"\",VLOOKUP(B129,HM!$A$10:$B$209,2))","v":""},null,null,127]
[null,null,{"$f":"IF(B130=\"\",\"\",VLOOKUP(B130,HM!$A$10:$B$209,2))","v":""},null,null,128]
[null,null,{"$f":"IF(B131=\"\",\"\",VLOOKUP(B131,HM!$A$10:$B$209,2))","v":""},null,null,129]
[null,null,{"$f":"IF(B132=\"\",\"\",VLOOKUP(B132,HM!$A$10:$B$209,2))","v":""},null,null,130]
[null,null,{"$f":"IF(B133=\"\",\"\",VLOOKUP(B133,HM!$A$10:$B$209,2))","v":""},null,null,131]
[null,null,{"$f":"IF(B134=\"\",\"\",VLOOKUP(B134,HM!$A$10:$B$209,2))","v":""},null,null,132]
[null,null,{"$f":"IF(B135=\"\",\"\",VLOOKUP(B135,HM!$A$10:$B$209,2))","v":""},null,null,133]
[null,null,{"$f":"IF(B136=\"\",\"\",VLOOKUP(B136,HM!$A$10:$B$209,2))","v":""},null,null,134]
[null,null,{"$f":"IF(B137=\"\",\"\",VLOOKUP(B137,HM!$A$10:$B$209,2))","v":""},null,null,135]
[null,null,{"$f":"IF(B138=\"\",\"\",VLOOKUP(B138,HM!$A$10:$B$209,2))","v":""},null,null,136]
[null,null,{"$f":"IF(B139=\"\",\"\",VLOOKUP(B139,HM!$A$10:$B$209,2))","v":""},null,null,137]
[null,null,{"$f":"IF(B140=\"\",\"\",VLOOKUP(B140,HM!$A$10:$B$209,2))","v":""},null,null,138]
[null,null,{"$f":"IF(B141=\"\",\"\",VLOOKUP(B141,HM!$A$10:$B$209,2))","v":""},null,null,139]
[null,null,{"$f":"IF(B142=\"\",\"\",VLOOKUP(B142,HM!$A$10:$B$209,2))","v":""},null,null,140]
[null,null,{"$f":"IF(B143=\"\",\"\",VLOOKUP(B143,HM!$A$10:$B$209,2))","v":""},null,null,141]
[null,null,{"$f":"IF(B144=\"\",\"\",VLOOKUP(B144,HM!$A$10:$B$209,2))","v":""},null,null,142]
[null,null,{"$f":"IF(B145=\"\",\"\",VLOOKUP(B145,HM!$A$10:$B$209,2))","v":""},null,null,143]
[null,null,{"$f":"IF(B146=\"\",\"\",VLOOKUP(B146,HM!$A$10:$B$209,2))","v":""},null,null,144]
[null,null,{"$f":"IF(B147=\"\",\"\",VLOOKUP(B147,HM!$A$10:$B$209,2))","v":""},null,null,145]
[null,null,{"$f":"IF(B148=\"\",\"\",VLOOKUP(B148,HM!$A$10:$B$209,2))","v":""},null,null,146]
[null,null,{"$f":"IF(B149=\"\",\"\",VLOOKUP(B149,HM!$A$10:$B$209,2))","v":""},null,null,147]
[null,null,{"$f":"IF(B150=\"\",\"\",VLOOKUP(B150,HM!$A$10:$B$209,2))","v":""},null,null,148]
[null,null,{"$f":"IF(B151=\"\",\"\",VLOOKUP(B151,HM!$A$10:$B$209,2))","v":""},null,null,149]
[null,null,{"$f":"IF(B152=\"\",\"\",VLOOKUP(B152,HM!$A$10:$B$209,2))","v":""},null,null,150]
[null,null,{"$f":"IF(B153=\"\",\"\",VLOOKUP(B153,HM!$A$10:$B$209,2))","v":""},null,null,151]
[null,null,{"$f":"IF(B154=\"\",\"\",VLOOKUP(B154,HM!$A$10:$B$209,2))","v":""},null,null,152]
[null,null,{"$f":"IF(B155=\"\",\"\",VLOOKUP(B155,HM!$A$10:$B$209,2))","v":""},null,null,153]
[null,null,{"$f":"IF(B156=\"\",\"\",VLOOKUP(B156,HM!$A$10:$B$209,2))","v":""},null,null,154]
[null,null,{"$f":"IF(B157=\"\",\"\",VLOOKUP(B157,HM!$A$10:$B$209,2))","v":""},null,null,155]
[null,null,{"$f":"IF(B158=\"\",\"\",VLOOKUP(B158,HM!$A$10:$B$209,2))","v":""},null,null,156]
[null,null,{"$f":"IF(B159=\"\",\"\",VLOOKUP(B159,HM!$A$10:$B$209,2))","v":""},null,null,157]
[null,null,{"$f":"IF(B160=\"\",\"\",VLOOKUP(B160,HM!$A$10:$B$209,2))","v":""},null,null,158]
[null,null,{"$f":"IF(B161=\"\",\"\",VLOOKUP(B161,HM!$A$10:$B$209,2))","v":""},null,null,159]
[null,null,{"$f":"IF(B162=\"\",\"\",VLOOKUP(B162,HM!$A$10:$B$209,2))","v":""},null,null,160]
[null,null,{"$f":"IF(B163=\"\",\"\",VLOOKUP(B163,HM!$A$10:$B$209,2))","v":""},null,null,161]
[null,null,{"$f":"IF(B164=\"\",\"\",VLOOKUP(B164,HM!$A$10:$B$209,2))","v":""},null,null,162]
[null,null,{"$f":"IF(B165=\"\",\"\",VLOOKUP(B165,HM!$A$10:$B$209,2))","v":""},null,null,163]
[null,null,{"$f":"IF(B166=\"\",\"\",VLOOKUP(B166,HM!$A$10:$B$209,2))","v":""},null,null,164]
[null,null,{"$f":"IF(B167=\"\",\"\",VLOOKUP(B167,HM!$A$10:$B$209,2))","v":""},null,null,165]
[null,null,{"$f":"IF(B168=\"\",\"\",VLOOKUP(B168,HM!$A$10:$B$209,2))","v":""},null,null,166]
[null,null,{"$f":"IF(B169=\"\",\"\",VLOOKUP(B169,HM!$A$10:$B$209,2))","v":""},null,null,167]
[null,null,{"$f":"IF(B170=\"\",\"\",VLOOKUP(B170,HM!$A$10:$B$209,2))","v":""},null,null,168]
[null,null,{"$f":"IF(B171=\"\",\"\",VLOOKUP(B171,HM!$A$10:$B$209,2))","v":""},null,null,169]
[null,null,{"$f":"IF(B172=\"\",\"\",VLOOKUP(B172,HM!$A$10:$B$209,2))","v":""},null,null,170]
[null,null,{"$f":"IF(B173=\"\",\"\",VLOOKUP(B173,HM!$A$10:$B$209,2))","v":""},null,null,171]
[null,null,{"$f":"IF(B174=\"\",\"\",VLOOKUP(B174,HM!$A$10:$B$209,2))","v":""},null,null,172]
[null,null,{"$f":"IF(B175=\"\",\"\",VLOOKUP(B175,HM!$A$10:$B$209,2))","v":""},null,null,173]
[null,null,{"$f":"IF(B176=\"\",\"\",VLOOKUP(B176,HM!$A$10:$B$209,2))","v":""},null,null,174]
[null,null,{"$f":"IF(B177=\"\",\"\",VLOOKUP(B177,HM!$A$10:$B$209,2))","v":""},null,null,175]
[null,null,{"$f":"IF(B178=\"\",\"\",VLOOKUP(B178,HM!$A$10:$B$209,2))","v":""},null,null,176]
[null,null,{"$f":"IF(B179=\"\",\"\",VLOOKUP(B179,HM!$A$10:$B$209,2))","v":""},null,null,177]
[null,null,{"$f":"IF(B180=\"\",\"\",VLOOKUP(B180,HM!$A$10:$B$209,2))","v":""},null,null,178]
[null,null,{"$f":"IF(B181=\"\",\"\",VLOOKUP(B181,HM!$A$10:$B$209,2))","v":""},null,null,179]
[null,null,{"$f":"IF(B182=\"\",\"\",VLOOKUP(B182,HM!$A$10:$B$209,2))","v":""},null,null,180]
[null,null,{"$f":"IF(B183=\"\",\"\",VLOOKUP(B183,HM!$A$10:$B$209,2))","v":""},null,null,181]
[null,null,{"$f":"IF(B184=\"\",\"\",VLOOKUP(B184,HM!$A$10:$B$209,2))","v":""},null,null,182]
[null,null,{"$f":"IF(B185=\"\",\"\",VLOOKUP(B185,HM!$A$10:$B$209,2))","v":""},null,null,183]
[null,null,{"$f":"IF(B186=\"\",\"\",VLOOKUP(B186,HM!$A$10:$B$209,2))","v":""},null,null,184]
[null,null,{"$f":"IF(B187=\"\",\"\",VLOOKUP(B187,HM!$A$10:$B$209,2))","v":""},null,null,185]
[null,null,{"$f":"IF(B188=\"\",\"\",VLOOKUP(B188,HM!$A$10:$B$209,2))","v":""},null,null,186]
[null,null,{"$f":"IF(B189=\"\",\"\",VLOOKUP(B189,HM!$A$10:$B$209,2))","v":""},null,null,187]
[null,null,{"$f":"IF(B190=\"\",\"\",VLOOKUP(B190,HM!$A$10:$B$209,2))","v":""},null,null,188]
[null,null,{"$f":"IF(B191=\"\",\"\",VLOOKUP(B191,HM!$A$10:$B$209,2))","v":""},null,null,189]
[null,null,{"$f":"IF(B192=\"\",\"\",VLOOKUP(B192,HM!$A$10:$B$209,2))","v":""},null,null,190]
[null,null,{"$f":"IF(B193=\"\",\"\",VLOOKUP(B193,HM!$A$10:$B$209,2))","v":""},null,null,191]
[null,null,{"$f":"IF(B194=\"\",\"\",VLOOKUP(B194,HM!$A$10:$B$209,2))","v":""},null,null,192]
[null,null,{"$f":"IF(B195=\"\",\"\",VLOOKUP(B195,HM!$A$10:$B$209,2))","v":""},null,null,193]
[null,null,{"$f":"IF(B196=\"\",\"\",VLOOKUP(B196,HM!$A$10:$B$209,2))","v":""},null,null,194]
[null,null,{"$f":"IF(B197=\"\",\"\",VLOOKUP(B197,HM!$A$10:$B$209,2))","v":""},null,null,195]
[null,null,{"$f":"IF(B198=\"\",\"\",VLOOKUP(B198,HM!$A$10:$B$209,2))","v":""},null,null,196]
[null,null,{"$f":"IF(B199=\"\",\"\",VLOOKUP(B199,HM!$A$10:$B$209,2))","v":""},null,null,197]
[null,null,{"$f":"IF(B200=\"\",\"\",VLOOKUP(B200,HM!$A$10:$B$209,2))","v":""},null,null,198]
[null,null,{"$f":"IF(B201=\"\",\"\",VLOOKUP(B201,HM!$A$10:$B$209,2))","v":""},null,null,199]
[null,null,{"$f":"IF(B202=\"\",\"\",VLOOKUP(B202,HM!$A$10:$B$209,2))","v":""},null,null,200]

{"sheet":"PS","index":6,"n_rows":204,"n_cols":8,"rows_kept":204,"cut":false,"hidden":false,"merged":[[2,1,2,3],[2,5,2,7]]}
[]
[]
[null,"KK",null,null,null,"LG"]
[null,"Lfd. Nr.:","Vor- und Nachname:","Teiler:",null,"Lfd. Nr.:","Vor- und Nachname:","Teiler:"]
[null,null,{"$f":"IF(B5=\"\",\"\",VLOOKUP(B5,HM!$A$10:$B$209,2))","v":""},null,1,null,{"$f":"IF(F5=\"\",\"\",VLOOKUP(F5,HM!$A$10:$B$209,2))","v":""}]
[null,null,{"$f":"IF(B6=\"\",\"\",VLOOKUP(B6,HM!$A$10:$B$209,2))","v":""},null,2,null,{"$f":"IF(F6=\"\",\"\",VLOOKUP(F6,HM!$A$10:$B$209,2))","v":""}]
[null,null,{"$f":"IF(B7=\"\",\"\",VLOOKUP(B7,HM!$A$10:$B$209,2))","v":""},null,3,null,{"$f":"IF(F7=\"\",\"\",VLOOKUP(F7,HM!$A$10:$B$209,2))","v":""}]
[null,null,{"$f":"IF(B8=\"\",\"\",VLOOKUP(B8,HM!$A$10:$B$209,2))","v":""},null,4,null,{"$f":"IF(F8=\"\",\"\",VLOOKUP(F8,HM!$A$10:$B$209,2))","v":""}]
[null,null,{"$f":"IF(B9=\"\",\"\",VLOOKUP(B9,HM!$A$10:$B$209,2))","v":""},null,5,null,{"$f":"IF(F9=\"\",\"\",VLOOKUP(F9,HM!$A$10:$B$209,2))","v":""}]
[null,null,{"$f":"IF(B10=\"\",\"\",VLOOKUP(B10,HM!$A$10:$B$209,2))","v":""},null,6,null,{"$f":"IF(F10=\"\",\"\",VLOOKUP(F10,HM!$A$10:$B$209,2))","v":""}]
[null,null,{"$f":"IF(B11=\"\",\"\",VLOOKUP(B11,HM!$A$10:$B$209,2))","v":""},null,7,null,{"$f":"IF(F11=\"\",\"\",VLOOKUP(F11,HM!$A$10:$B$209,2))","v":""}]
[null,null,{"$f":"IF(B12=\"\",\"\",VLOOKUP(B12,HM!$A$10:$B$209,2))","v":""},null,8,null,{"$f":"IF(F12=\"\",\"\",VLOOKUP(F12,HM!$A$10:$B$209,2))","v":""}]
[null,null,{"$f":"IF(B13=\"\",\"\",VLOOKUP(B13,HM!$A$10:$B$209,2))","v":""},null,9,null,{"$f":"IF(F13=\"\",\"\",VLOOKUP(F13,HM!$A$10:$B$209,2))","v":""}]
[null,null,{"$f":"IF(B14=\"\",\"\",VLOOKUP(B14,HM!$A$10:$B$209,2))","v":""},null,10,null,{"$f":"IF(F14=\"\",\"\",VLOOKUP(F14,HM!$A$10:$B$209,2))","v":""}]
[null,null,{"$f":"IF(B15=\"\",\"\",VLOOKUP(B15,HM!$A$10:$B$209,2))","v":""},null,11,null,{"$f":"IF(F15=\"\",\"\",VLOOKUP(F15,HM!$A$10:$B$209,2))","v":""}]
[null,null,{"$f":"IF(B16=\"\",\"\",VLOOKUP(B16,HM!$A$10:$B$209,2))","v":""},null,12,null,{"$f":"IF(F16=\"\",\"\",VLOOKUP(F16,HM!$A$10:$B$209,2))","v":""}]
[null,null,{"$f":"IF(B17=\"\",\"\",VLOOKUP(B17,HM!$A$10:$B$209,2))","v":""},null,13,null,{"$f":"IF(F17=\"\",\"\",VLOOKUP(F17,HM!$A$10:$B$209,2))","v":""}]
[null,null,{"$f":"IF(B18=\"\",\"\",VLOOKUP(B18,HM!$A$10:$B$209,2))","v":""},null,14,null,{"$f":"IF(F18=\"\",\"\",VLOOKUP(F18,HM!$A$10:$B$209,2))","v":""}]
[null,null,{"$f":"IF(B19=\"\",\"\",VLOOKUP(B19,HM!$A$10:$B$209,2))","v":""},null,15,null,{"$f":"IF(F19=\"\",\"\",VLOOKUP(F19,HM!$A$10:$B$209,2))","v":""}]
[null,null,{"$f":"IF(B20=\"\",\"\",VLOOKUP(B20,HM!$A$10:$B$209,2))","v":""},null,16,null,{"$f":"IF(F20=\"\",\"\",VLOOKUP(F20,HM!$A$10:$B$209,2))","v":""}]
[null,null,{"$f":"IF(B21=\"\",\"\",VLOOKUP(B21,HM!$A$10:$B$209,2))","v":""},null,17,null,{"$f":"IF(F21=\"\",\"\",VLOOKUP(F21,HM!$A$10:$B$209,2))","v":""}]
[null,null,{"$f":"IF(B22=\"\",\"\",VLOOKUP(B22,HM!$A$10:$B$209,2))","v":""},null,18,null,{"$f":"IF(F22=\"\",\"\",VLOOKUP(F22,HM!$A$10:$B$209,2))","v":""}]
[null,null,{"$f":"IF(B23=\"\",\"\",VLOOKUP(B23,HM!$A$10:$B$209,2))","v":""},null,19,null,{"$f":"IF(F23=\"\",\"\",VLOOKUP(F23,HM!$A$10:$B$209,2))","v":""}]
[null,null,{"$f":"IF(B24=\"\",\"\",VLOOKUP(B24,HM!$A$10:$B$209,2))","v":""},null,20,null,{"$f":"IF(F24=\"\",\"\",VLOOKUP(F24,HM!$A$10:$B$209,2))","v":""}]
[null,null,{"$f":"IF(B25=\"\",\"\",VLOOKUP(B25,HM!$A$10:$B$209,2))","v":""},null,21,null,{"$f":"IF(F25=\"\",\"\",VLOOKUP(F25,HM!$A$10:$B$209,2))","v":""}]
[null,null,{"$f":"IF(B26=\"\",\"\",VLOOKUP(B26,HM!$A$10:$B$209,2))","v":""},null,22,null,{"$f":"IF(F26=\"\",\"\",VLOOKUP(F26,HM!$A$10:$B$209,2))","v":""}]
[null,null,{"$f":"IF(B27=\"\",\"\",VLOOKUP(B27,HM!$A$10:$B$209,2))","v":""},null,23,null,{"$f":"IF(F27=\"\",\"\",VLOOKUP(F27,HM!$A$10:$B$209,2))","v":""}]
[null,null,{"$f":"IF(B28=\"\",\"\",VLOOKUP(B28,HM!$A$10:$B$209,2))","v":""},null,24,null,{"$f":"IF(F28=\"\",\"\",VLOOKUP(F28,HM!$A$10:$B$209,2))","v":""}]
[null,null,{"$f":"IF(B29=\"\",\"\",VLOOKUP(B29,HM!$A$10:$B$209,2))","v":""},null,25,null,{"$f":"IF(F29=\"\",\"\",VLOOKUP(F29,HM!$A$10:$B$209,2))","v":""}]
[null,null,{"$f":"IF(B30=\"\",\"\",VLOOKUP(B30,HM!$A$10:$B$209,2))","v":""},null,26,null,{"$f":"IF(F30=\"\",\"\",VLOOKUP(F30,HM!$A$10:$B$209,2))","v":""}]
[null,null,{"$f":"IF(B31=\"\",\"\",VLOOKUP(B31,HM!$A$10:$B$209,2))","v":""},null,27,null,{"$f":"IF(F31=\"\",\"\",VLOOKUP(F31,HM!$A$10:$B$209,2))","v":""}]
[null,null,{"$f":"IF(B32=\"\",\"\",VLOOKUP(B32,HM!$A$10:$B$209,2))","v":""},null,28,null,{"$f":"IF(F32=\"\",\"\",VLOOKUP(F32,HM!$A$10:$B$209,2))","v":""}]
[null,null,{"$f":"IF(B33=\"\",\"\",VLOOKUP(B33,HM!$A$10:$B$209,2))","v":""},null,29,null,{"$f":"IF(F33=\"\",\"\",VLOOKUP(F33,HM!$A$10:$B$209,2))","v":""}]
[null,null,{"$f":"IF(B34=\"\",\"\",VLOOKUP(B34,HM!$A$10:$B$209,2))","v":""},null,30,null,{"$f":"IF(F34=\"\",\"\",VLOOKUP(F34,HM!$A$10:$B$209,2))","v":""}]
[null,null,{"$f":"IF(B35=\"\",\"\",VLOOKUP(B35,HM!$A$10:$B$209,2))","v":""},null,31,null,{"$f":"IF(F35=\"\",\"\",VLOOKUP(F35,HM!$A$10:$B$209,2))","v":""}]
[null,null,{"$f":"IF(B36=\"\",\"\",VLOOKUP(B36,HM!$A$10:$B$209,2))","v":""},null,32,null,{"$f":"IF(F36=\"\",\"\",VLOOKUP(F36,HM!$A$10:$B$209,2))","v":""}]
[null,null,{"$f":"IF(B37=\"\",\"\",VLOOKUP(B37,HM!$A$10:$B$209,2))","v":""},null,33,null,{"$f":"IF(F37=\"\",\"\",VLOOKUP(F37,HM!$A$10:$B$209,2))","v":""}]
[null,null,{"$f":"IF(B38=\"\",\"\",VLOOKUP(B38,HM!$A$10:$B$209,2))","v":""},null,34,null,{"$f":"IF(F38=\"\",\"\",VLOOKUP(F38,HM!$A$10:$B$209,2))","v":""}]
[null,null,{"$f":"IF(B39=\"\",\"\",VLOOKUP(B39,HM!$A$10:$B$209,2))","v":""},null,35,null,{"$f":"IF(F39=\"\",\"\",VLOOKUP(F39,HM!$A$10:$B$209,2))","v":""}]
[null,null,{"$f":"IF(B40=\"\",\"\",VLOOKUP(B40,HM!$A$10:$B$209,2))","v":""},null,36,null,{"$f":"IF(F40=\"\",\"\",VLOOKUP(F40,HM!$A$10:$B$209,2))","v":""}]
[null,null,{"$f":"IF(B41=\"\",\"\",VLOOKUP(B41,HM!$A$10:$B$209,2))","v":""},null,37,null,{"$f":"IF(F41=\"\",\"\",VLOOKUP(F41,HM!$A$10:$B$209,2))","v":""}]
[null,null,{"$f":"IF(B42=\"\",\"\",VLOOKUP(B42,HM!$A$10:$B$209,2))","v":""},null,38,null,{"$f":"IF(F42=\"\",\"\",VLOOKUP(F42,HM!$A$10:$B$209,2))","v":""}]
[null,null,{"$f":"IF(B43=\"\",\"\",VLOOKUP(B43,HM!$A$10:$B$209,2))","v":""},null,39,null,{"$f":"IF(F43=\"\",\"\",VLOOKUP(F43,HM!$A$10:$B$209,2))","v":""}]
[null,null,{"$f":"IF(B44=\"\",\"\",VLOOKUP(B44,HM!$A$10:$B$209,2))","v":""},null,40,null,{"$f":"IF(F44=\"\",\"\",VLOOKUP(F44,HM!$A$10:$B$209,2))","v":""}]
[null,null,{"$f":"IF(B45=\"\",\"\",VLOOKUP(B45,HM!$A$10:$B$209,2))","v":""},null,41,null,{"$f":"IF(F45=\"\",\"\",VLOOKUP(F45,HM!$A$10:$B$209,2))","v":""}]
[null,null,{"$f":"IF(B46=\"\",\"\",VLOOKUP(B46,HM!$A$10:$B$209,2))","v":""},null,42,null,{"$f":"IF(F46=\"\",\"\",VLOOKUP(F46,HM!$A$10:$B$209,2))","v":""}]
[null,null,{"$f":"IF(B47=\"\",\"\",VLOOKUP(B47,HM!$A$10:$B$209,2))","v":""},null,43,null,{"$f":"IF(F47=\"\",\"\",VLOOKUP(F47,HM!$A$10:$B$209,2))","v":""}]
[null,null,{"$f":"IF(B48=\"\",\"\",VLOOKUP(B48,HM!$A$10:$B$209,2))","v":""},null,44,null,{"$f":"IF(F48=\"\",\"\",VLOOKUP(F48,HM!$A$10:$B$209,2))","v":""}]
[null,null,{"$f":"IF(B49=\"\",\"\",VLOOKUP(B49,HM!$A$10:$B$209,2))","v":""},null,45,null,{"$f":"IF(F49=\"\",\"\",VLOOKUP(F49,HM!$A$10:$B$209,2))","v":""}]
[null,null,{"$f":"IF(B50=\"\",\"\",VLOOKUP(B50,HM!$A$10:$B$209,2))","v":""},null,46,null,{"$f":"IF(F50=\"\",\"\",VLOOKUP(F50,HM!$A$10:$B$209,2))","v":""}]
[null,null,{"$f":"IF(B51=\"\",\"\",VLOOKUP(B51,HM!$A$10:$B$209,2))","v":""},null,47,null,{"$f":"IF(F51=\"\",\"\",VLOOKUP(F51,HM!$A$10:$B$209,2))","v":""}]
[null,null,{"$f":"IF(B52=\"\",\"\",VLOOKUP(B52,HM!$A$10:$B$209,2))","v":""},null,48,null,{"$f":"IF(F52=\"\",\"\",VLOOKUP(F52,HM!$A$10:$B$209,2))","v":""}]
[null,null,{"$f":"IF(B53=\"\",\"\",VLOOKUP(B53,HM!$A$10:$B$209,2))","v":""},null,49,null,{"$f":"IF(F53=\"\",\"\",VLOOKUP(F53,HM!$A$10:$B$209,2))","v":""}]
[null,null,{"$f":"IF(B54=\"\",\"\",VLOOKUP(B54,HM!$A$10:$B$209,2))","v":""},null,50,null,{"$f":"IF(F54=\"\",\"\",VLOOKUP(F54,HM!$A$10:$B$209,2))","v":""}]
[null,null,{"$f":"IF(B55=\"\",\"\",VLOOKUP(B55,HM!$A$10:$B$209,2))","v":""},null,51,null,{"$f":"IF(F55=\"\",\"\",VLOOKUP(F55,HM!$A$10:$B$209,2))","v":""}]
[null,null,{"$f":"IF(B56=\"\",\"\",VLOOKUP(B56,HM!$A$10:$B$209,2))","v":""},null,52,null,{"$f":"IF(F56=\"\",\"\",VLOOKUP(F56,HM!$A$10:$B$209,2))","v":""}]
[null,null,{"$f":"IF(B57=\"\",\"\",VLOOKUP(B57,HM!$A$10:$B$209,2))","v":""},null,53,null,{"$f":"IF(F57=\"\",\"\",VLOOKUP(F57,HM!$A$10:$B$209,2))","v":""}]
[null,null,{"$f":"IF(B58=\"\",\"\",VLOOKUP(B58,HM!$A$10:$B$209,2))","v":""},null,54,null,{"$f":"IF(F58=\"\",\"\",VLOOKUP(F58,HM!$A$10:$B$209,2))","v":""}]
[null,null,{"$f":"IF(B59=\"\",\"\",VLOOKUP(B59,HM!$A$10:$B$209,2))","v":""},null,55,null,{"$f":"IF(F59=\"\",\"\",VLOOKUP(F59,HM!$A$10:$B$209,2))","v":""}]
[null,null,{"$f":"IF(B60=\"\",\"\",VLOOKUP(B60,HM!$A$10:$B$209,2))","v":""},null,56,null,{"$f":"IF(F60=\"\",\"\",VLOOKUP(F60,HM!$A$10:$B$209,2))","v":""}]
[null,null,{"$f":"IF(B61=\"\",\"\",VLOOKUP(B61,HM!$A$10:$B$209,2))","v":""},null,57,null,{"$f":"IF(F61=\"\",\"\",VLOOKUP(F61,HM!$A$10:$B$209,2))","v":""}]
[null,null,{"$f":"IF(B62=\"\",\"\",VLOOKUP(B62,HM!$A$10:$B$209,2))","v":""},null,58,null,{"$f":"IF(F62=\"\",\"\",VLOOKUP(F62,HM!$A$10:$B$209,2))","v":""}]
[null,null,{"$f":"IF(B63=\"\",\"\",VLOOKUP(B63,HM!$A$10:$B$209,2))","v":""},null,59,null,{"$f":"IF(F63=\"\",\"\",VLOOKUP(F63,HM!$A$10:$B$209,2))","v":""}]
[null,null,{"$f":"IF(B64=\"\",\"\",VLOOKUP(B64,HM!$A$10:$B$209,2))","v":""},null,60,null,{"$f":"IF(F64=\"\",\"\",VLOOKUP(F64,HM!$A$10:$B$209,2))","v":""}]
[null,null,{"$f":"IF(B65=\"\",\"\",VLOOKUP(B65,HM!$A$10:$B$209,2))","v":""},null,61,null,{"$f":"IF(F65=\"\",\"\",VLOOKUP(F65,HM!$A$10:$B$209,2))","v":""}]
[null,null,{"$f":"IF(B66=\"\",\"\",VLOOKUP(B66,HM!$A$10:$B$209,2))","v":""},null,62,null,{"$f":"IF(F66=\"\",\"\",VLOOKUP(F66,HM!$A$10:$B$209,2))","v":""}]
[null,null,{"$f":"IF(B67=\"\",\"\",VLOOKUP(B67,HM!$A$10:$B$209,2))","v":""},null,63,null,{"$f":"IF(F67=\"\",\"\",VLOOKUP(F67,HM!$A$10:$B$209,2))","v":""}]
[null,null,{"$f":"IF(B68=\"\",\"\",VLOOKUP(B68,HM!$A$10:$B$209,2))","v":""},null,64,null,{"$f":"IF(F68=\"\",\"\",VLOOKUP(F68,HM!$A$10:$B$209,2))","v":""}]
[null,null,{"$f":"IF(B69=\"\",\"\",VLOOKUP(B69,HM!$A$10:$B$209,2))","v":""},null,65,null,{"$f":"IF(F69=\"\",\"\",VLOOKUP(F69,HM!$A$10:$B$209,2))","v":""}]
[null,null,{"$f":"IF(B70=\"\",\"\",VLOOKUP(B70,HM!$A$10:$B$209,2))","v":""},null,66,null,{"$f":"IF(F70=\"\",\"\",VLOOKUP(F70,HM!$A$10:$B$209,2))","v":""}]
[null,null,{"$f":"IF(B71=\"\",\"\",VLOOKUP(B71,HM!$A$10:$B$209,2))","v":""},null,67,null,{"$f":"IF(F71=\"\",\"\",VLOOKUP(F71,HM!$A$10:$B$209,2))","v":""}]
[null,null,{"$f":"IF(B72=\"\",\"\",VLOOKUP(B72,HM!$A$10:$B$209,2))","v":""},null,68,null,{"$f":"IF(F72=\"\",\"\",VLOOKUP(F72,HM!$A$10:$B$209,2))","v":""}]
[null,null,{"$f":"IF(B73=\"\",\"\",VLOOKUP(B73,HM!$A$10:$B$209,2))","v":""},null,69,null,{"$f":"IF(F73=\"\",\"\",VLOOKUP(F73,HM!$A$10:$B$209,2))","v":""}]
[null,null,{"$f":"IF(B74=\"\",\"\",VLOOKUP(B74,HM!$A$10:$B$209,2))","v":""},null,70,null,{"$f":"IF(F74=\"\",\"\",VLOOKUP(F74,HM!$A$10:$B$209,2))","v":""}]
[null,null,{"$f":"IF(B75=\"\",\"\",VLOOKUP(B75,HM!$A$10:$B$209,2))","v":""},null,71,null,{"$f":"IF(F75=\"\",\"\",VLOOKUP(F75,HM!$A$10:$B$209,2))","v":""}]
[null,null,{"$f":"IF(B76=\"\",\"\",VLOOKUP(B76,HM!$A$10:$B$209,2))","v":""},null,72,null,{"$f":"IF(F76=\"\",\"\",VLOOKUP(F76,HM!$A$10:$B$209,2))","v":""}]
[null,null,{"$f":"IF(B77=\"\",\"\",VLOOKUP(B77,HM!$A$10:$B$209,2))","v":""},null,73,null,{"$f":"IF(F77=\"\",\"\",VLOOKUP(F77,HM!$A$10:$B$209,2))","v":""}]
[null,null,{"$f":"IF(B78=\"\",\"\",VLOOKUP(B78,HM!$A$10:$B$209,2))","v":""},null,74,null,{"$f":"IF(F78=\"\",\"\",VLOOKUP(F78,HM!$A$10:$B$209,2))","v":""}]
[null,null,{"$f":"IF(B79=\"\",\"\",VLOOKUP(B79,HM!$A$10:$B$209,2))","v":""},null,75,null,{"$f":"IF(F79=\"\",\"\",VLOOKUP(F79,HM!$A$10:$B$209,2))","v":""}]
[null,null,{"$f":"IF(B80=\"\",\"\",VLOOKUP(B80,HM!$A$10:$B$209,2))","v":""},null,76,null,{"$f":"IF(F80=\"\",\"\",VLOOKUP(F80,HM!$A$10:$B$209,2))","v":""}]
[null,null,{"$f":"IF(B81=\"\",\"\",VLOOKUP(B81,HM!$A$10:$B$209,2))","v":""},null,77,null,{"$f":"IF(F81=\"\",\"\",VLOOKUP(F81,HM!$A$10:$B$209,2))","v":""}]
[null,null,{"$f":"IF(B82=\"\",\"\",VLOOKUP(B82,HM!$A$10:$B$209,2))","v":""},null,78,null,{"$f":"IF(F82=\"\",\"\",VLOOKUP(F82,HM!$A$10:$B$209,2))","v":""}]
[null,null,{"$f":"IF(B83=\"\",\"\",VLOOKUP(B83,HM!$A$10:$B$209,2))","v":""},null,79,null,{"$f":"IF(F83=\"\",\"\",VLOOKUP(F83,HM!$A$10:$B$209,2))","v":""}]
[null,null,{"$f":"IF(B84=\"\",\"\",VLOOKUP(B84,HM!$A$10:$B$209,2))","v":""},null,80,null,{"$f":"IF(F84=\"\",\"\",VLOOKUP(F84,HM!$A$10:$B$209,2))","v":""}]
[null,null,{"$f":"IF(B85=\"\",\"\",VLOOKUP(B85,HM!$A$10:$B$209,2))","v":""},null,81,null,{"$f":"IF(F85=\"\",\"\",VLOOKUP(F85,HM!$A$10:$B$209,2))","v":""}]
[null,null,{"$f":"IF(B86=\"\",\"\",VLOOKUP(B86,HM!$A$10:$B$209,2))","v":""},null,82,null,{"$f":"IF(F86=\"\",\"\",VLOOKUP(F86,HM!$A$10:$B$209,2))","v":""}]
[null,null,{"$f":"IF(B87=\"\",\"\",VLOOKUP(B87,HM!$A$10:$B$209,2))","v":""},null,83,null,{"$f":"IF(F87=\"\",\"\",VLOOKUP(F87,HM!$A$10:$B$209,2))","v":""}]
[null,null,{"$f":"IF(B88=\"\",\"\",VLOOKUP(B88,HM!$A$10:$B$209,2))","v":""},null,84,null,{"$f":"IF(F88=\"\",\"\",VLOOKUP(F88,HM!$A$10:$B$209,2))","v":""}]
[null,null,{"$f":"IF(B89=\"\",\"\",VLOOKUP(B89,HM!$A$10:$B$209,2))","v":""},null,85,null,{"$f":"IF(F89=\"\",\"\",VLOOKUP(F89,HM!$A$10:$B$209,2))","v":""}]
[null,null,{"$f":"IF(B90=\"\",\"\",VLOOKUP(B90,HM!$A$10:$B$209,2))","v":""},null,86,null,{"$f":"IF(F90=\"\",\"\",VLOOKUP(F90,HM!$A$10:$B$209,2))","v":""}]
[null,null,{"$f":"IF(B91=\"\",\"\",VLOOKUP(B91,HM!$A$10:$B$209,2))","v":""},null,87,null,{"$f":"IF(F91=\"\",\"\",VLOOKUP(F91,HM!$A$10:$B$209,2))","v":""}]
[null,null,{"$f":"IF(B92=\"\",\"\",VLOOKUP(B92,HM!$A$10:$B$209,2))","v":""},null,88,null,{"$f":"IF(F92=\"\",\"\",VLOOKUP(F92,HM!$A$10:$B$209,2))","v":""}]
[null,null,{"$f":"IF(B93=\"\",\"\",VLOOKUP(B93,HM!$A$10:$B$209,2))","v":""},null,89,null,{"$f":"IF(F93=\"\",\"\",VLOOKUP(F93,HM!$A$10:$B$209,2))","v":""}]
[null,null,{"$f":"IF(B94=\"\",\"\",VLOOKUP(B94,HM!$A$10:$B$209,2))","v":""},null,90,null,{"$f":"IF(F94=\"\",\"\",VLOOKUP(F94,HM!$A$10:$B$209,2))","v":""}]
[null,null,{"$f":"IF(B95=\"\",\"\",VLOOKUP(B95,HM!$A$10:$B$209,2))","v":""},null,91,null,{"$f":"IF(F95=\"\",\"\",VLOOKUP(F95,HM!$A$10:$B$209,2))","v":""}]
[null,null,{"$f":"IF(B96=\"\",\"\",VLOOKUP(B96,HM!$A$10:$B$209,2))","v":""},null,92,null,{"$f":"IF(F96=\"\",\"\",VLOOKUP(F96,HM!$A$10:$B$209,2))","v":""}]
[null,null,{"$f":"IF(B97=\"\",\"\",VLOOKUP(B97,HM!$A$10:$B$209,2))","v":""},null,93,null,{"$f":"IF(F97=\"\",\"\",VLOOKUP(F97,HM!$A$10:$B$209,2))","v":""}]
[null,null,{"$f":"IF(B98=\"\",\"\",VLOOKUP(B98,HM!$A$10:$B$209,2))","v":""},null,94,null,{"$f":"IF(F98=\"\",\"\",VLOOKUP(F98,HM!$A$10:$B$209,2))","v":""}]
[null,null,{"$f":"IF(B99=\"\",\"\",VLOOKUP(B99,HM!$A$10:$B$209,2))","v":""},null,95,null,{"$f":"IF(F99=\"\",\"\",VLOOKUP(F99,HM!$A$10:$B$209,2))","v":""}]
[null,null,{"$f":"IF(B100=\"\",\"\",VLOOKUP(B100,HM!$A$10:$B$209,2))","v":""},null,96,null,{"$f":"IF(F100=\"\",\"\",VLOOKUP(F100,HM!$A$10:$B$209,2))","v":""}]
[null,null,{"$f":"IF(B101=\"\",\"\",VLOOKUP(B101,HM!$A$10:$B$209,2))","v":""},null,97,null,{"$f":"IF(F101=\"\",\"\",VLOOKUP(F101,HM!$A$10:$B$209,2))","v":""}]
[null,null,{"$f":"IF(B102=\"\",\"\",VLOOKUP(B102,HM!$A$10:$B$209,2))","v":""},null,98,null,{"$f":"IF(F102=\"\",\"\",VLOOKUP(F102,HM!$A$10:$B$209,2))","v":""}]
[null,null,{"$f":"IF(B103=\"\",\"\",VLOOKUP(B103,HM!$A$10:$B$209,2))","v":""},null,99,null,{"$f":"IF(F103=\"\",\"\",VLOOKUP(F103,HM!$A$10:$B$209,2))","v":""}]
[null,null,{"$f":"IF(B104=\"\",\"\",VLOOKUP(B104,HM!$A$10:$B$209,2))","v":""},null,100,null,{"$f":"IF(F104=\"\",\"\",VLOOKUP(F104,HM!$A$10:$B$209,2))","v":""}]
[null,null,{"$f":"IF(B105=\"\",\"\",VLOOKUP(B105,HM!$A$10:$B$209,2))","v":""},null,101,null,{"$f":"IF(F105=\"\",\"\",VLOOKUP(F105,HM!$A$10:$B$209,2))","v":""}]
[null,null,{"$f":"IF(B106=\"\",\"\",VLOOKUP(B106,HM!$A$10:$B$209,2))","v":""},null,102,null,{"$f":"IF(F106=\"\",\"\",VLOOKUP(F106,HM!$A$10:$B$209,2))","v":""}]
[null,null,{"$f":"IF(B107=\"\",\"\",VLOOKUP(B107,HM!$A$10:$B$209,2))","v":""},null,103,null,{"$f":"IF(F107=\"\",\"\",VLOOKUP(F107,HM!$A$10:$B$209,2))","v":""}]
[null,null,{"$f":"IF(B108=\"\",\"\",VLOOKUP(B108,HM!$A$10:$B$209,2))","v":""},null,104,null,{"$f":"IF(F108=\"\",\"\",VLOOKUP(F108,HM!$A$10:$B$209,2))","v":""}]
[null,null,{"$f":"IF(B109=\"\",\"\",VLOOKUP(B109,HM!$A$10:$B$209,2))","v":""},null,105,null,{"$f":"IF(F109=\"\",\"\",VLOOKUP(F109,HM!$A$10:$B$209,2))","v":""}]
[null,null,{"$f":"IF(B110=\"\",\"\",VLOOKUP(B110,HM!$A$10:$B$209,2))","v":""},null,106,null,{"$f":"IF(F110=\"\",\"\",VLOOKUP(F110,HM!$A$10:$B$209,2))","v":""}]
[null,null,{"$f":"IF(B111=\"\",\"\",VLOOKUP(B111,HM!$A$10:$B$209,2))","v":""},null,107,null,{"$f":"IF(F111=\"\",\"\",VLOOKUP(F111,HM!$A$10:$B$209,2))","v":""}]
[null,null,{"$f":"IF(B112=\"\",\"\",VLOOKUP(B112,HM!$A$10:$B$209,2))","v":""},null,108,null,{"$f":"IF(F112=\"\",\"\",VLOOKUP(F112,HM!$A$10:$B$209,2))","v":""}]
[null,null,{"$f":"IF(B113=\"\",\"\",VLOOKUP(B113,HM!$A$10:$B$209,2))","v":""},null,109,null,{"$f":"IF(F113=\"\",\"\",VLOOKUP(F113,HM!$A$10:$B$209,2))","v":""}]
[null,null,{"$f":"IF(B114=\"\",\"\",VLOOKUP(B114,HM!$A$10:$B$209,2))","v":""},null,110,null,{"$f":"IF(F114=\"\",\"\",VLOOKUP(F114,HM!$A$10:$B$209,2))","v":""}]
[null,null,{"$f":"IF(B115=\"\",\"\",VLOOKUP(B115,HM!$A$10:$B$209,2))","v":""},null,111,null,{"$f":"IF(F115=\"\",\"\",VLOOKUP(F115,HM!$A$10:$B$209,2))","v":""}]
[null,null,{"$f":"IF(B116=\"\",\"\",VLOOKUP(B116,HM!$A$10:$B$209,2))","v":""},null,112,null,{"$f":"IF(F116=\"\",\"\",VLOOKUP(F116,HM!$A$10:$B$209,2))","v":""}]
[null,null,{"$f":"IF(B117=\"\",\"\",VLOOKUP(B117,HM!$A$10:$B$209,2))","v":""},null,113,null,{"$f":"IF(F117=\"\",\"\",VLOOKUP(F117,HM!$A$10:$B$209,2))","v":""}]
[null,null,{"$f":"IF(B118=\"\",\"\",VLOOKUP(B118,HM!$A$10:$B$209,2))","v":""},null,114,null,{"$f":"IF(F118=\"\",\"\",VLOOKUP(F118,HM!$A$10:$B$209,2))","v":""}]
[null,null,{"$f":"IF(B119=\"\",\"\",VLOOKUP(B119,HM!$A$10:$B$209,2))","v":""},null,115,null,{"$f":"IF(F119=\"\",\"\",VLOOKUP(F119,HM!$A$10:$B$209,2))","v":""}]
[null,null,{"$f":"IF(B120=\"\",\"\",VLOOKUP(B120,HM!$A$10:$B$209,2))","v":""},null,116,null,{"$f":"IF(F120=\"\",\"\",VLOOKUP(F120,HM!$A$10:$B$209,2))","v":""}]
[null,null,{"$f":"IF(B121=\"\",\"\",VLOOKUP(B121,HM!$A$10:$B$209,2))","v":""},null,117,null,{"$f":"IF(F121=\"\",\"\",VLOOKUP(F121,HM!$A$10:$B$209,2))","v":""}]
[null,null,{"$f":"IF(B122=\"\",\"\",VLOOKUP(B122,HM!$A$10:$B$209,2))","v":""},null,118,null,{"$f":"IF(F122=\"\",\"\",VLOOKUP(F122,HM!$A$10:$B$209,2))","v":""}]
[null,null,{"$f":"IF(B123=\"\",\"\",VLOOKUP(B123,HM!$A$10:$B$209,2))","v":""},null,119,null,{"$f":"IF(F123=\"\",\"\",VLOOKUP(F123,HM!$A$10:$B$209,2))","v":""}]
[null,null,{"$f":"IF(B124=\"\",\"\",VLOOKUP(B124,HM!$A$10:$B$209,2))","v":""},null,120,null,{"$f":"IF(F124=\"\",\"\",VLOOKUP(F124,HM!$A$10:$B$209,2))","v":""}]
[null,null,{"$f":"IF(B125=\"\",\"\",VLOOKUP(B125,HM!$A$10:$B$209,2))","v":""},null,121,null,{"$f":"IF(F125=\"\",\"\",VLOOKUP(F125,HM!$A$10:$B$209,2))","v":""}]
[null,null,{"$f":"IF(B126=\"\",\"\",VLOOKUP(B126,HM!$A$10:$B$209,2))","v":""},null,122,null,{"$f":"IF(F126=\"\",\"\",VLOOKUP(F126,HM!$A$10:$B$209,2))","v":""}]
[null,null,{"$f":"IF(B127=\"\",\"\",VLOOKUP(B127,HM!$A$10:$B$209,2))","v":""},null,123,null,{"$f":"IF(F127=\"\",\"\",VLOOKUP(F127,HM!$A$10:$B$209,2))","v":""}]
[null,null,{"$f":"IF(B128=\"\",\"\",VLOOKUP(B128,HM!$A$10:$B$209,2))","v":""},null,124,null,{"$f":"IF(F128=\"\",\"\",VLOOKUP(F128,HM!$A$10:$B$209,2))","v":""}]
[null,null,{"$f":"IF(B129=\"\",\"\",VLOOKUP(B129,HM!$A$10:$B$209,2))","v":""},null,125,null,{"$f":"IF(F129=\"\",\"\",VLOOKUP(F129,HM!$A$10:$B$209,2))","v":""}]
[null,null,{"$f":"IF(B130=\"\",\"\",VLOOKUP(B130,HM!$A$10:$B$209,2))","v":""},null,126,null,{"$f":"IF(F130=\"\",\"\",VLOOKUP(F130,HM!$A$10:$B$209,2))","v":""}]
[null,null,{"$f":"IF(B131=\"\",\"\",VLOOKUP(B131,HM!$A$10:$B$209,2))","v":""},null,127,null,{"$f":"IF(F131=\"\",\"\",VLOOKUP(F131,HM!$A$10:$B$209,2))","v":""}]
[null,null,{"$f":"IF(B132=\"\",\"\",VLOOKUP(B132,HM!$A$10:$B$209,2))","v":""},null,128,null,{"$f":"IF(F132=\"\",\"\",VLOOKUP(F132,HM!$A$10:$B$209,2))","v":""}]
[null,null,{"$f":"IF(B133=\"\",\"\",VLOOKUP(B133,HM!$A$10:$B$209,2))","v":""},null,129,null,{"$f":"IF(F133=\"\",\"\",VLOOKUP(F133,HM!$A$10:$B$209,2))","v":""}]
[null,null,{"$f":"IF(B134=\"\",\"\",VLOOKUP(B134,HM!$A$10:$B$209,2))","v":""},null,130,null,{"$f":"IF(F134=\"\",\"\",VLOOKUP(F134,HM!$A$10:$B$209,2))","v":""}]
[null,null,{"$f":"IF(B135=\"\",\"\",VLOOKUP(B135,HM!$A$10:$B$209,2))","v":""},null,131,null,{"$f":"IF(F135=\"\",\"\",VLOOKUP(F135,HM!$A$10:$B$209,2))","v":""}]
[null,null,{"$f":"IF(B136=\"\",\"\",VLOOKUP(B136,HM!$A$10:$B$209,2))","v":""},null,132,null,{"$f":"IF(F136=\"\",\"\",VLOOKUP(F136,HM!$A$10:$B$209,2))","v":""}]
[null,null,{"$f":"IF(B137=\"\",\"\",VLOOKUP(B137,HM!$A$10:$B$209,2))","v":""},null,133,null,{"$f":"IF(F137=\"\",\"\",VLOOKUP(F137,HM!$A$10:$B$209,2))","v":""}]
[null,null,{"$f":"IF(B138=\"\",\"\",VLOOKUP(B138,HM!$A$10:$B$209,2))","v":""},null,134,null,{"$f":"IF(F138=\"\",\"\",VLOOKUP(F138,HM!$A$10:$B$209,2))","v":""}]
[null,null,{"$f":"IF(B139=\"\",\"\",VLOOKUP(B139,HM!$A$10:$B$209,2))","v":""},null,135,null,{"$f":"IF(F139=\"\",\"\",VLOOKUP(F139,HM!$A$10:$B$209,2))","v":""}]
[null,null,{"$f":"IF(B140=\"\",\"\",VLOOKUP(B140,HM!$A$10:$B$209,2))","v":""},null,136,null,{"$f":"IF(F140=\"\",\"\",VLOOKUP(F140,HM!$A$10:$B$209,2))","v":""}]
[null,null,{"$f":"IF(B141=\"\",\"\",VLOOKUP(B141,HM!$A$10:$B$209,2))","v":""},null,137,null,{"$f":"IF(F141=\"\",\"\",VLOOKUP(F141,HM!$A$10:$B$209,2))","v":""}]
[null,null,{"$f":"IF(B142=\"\",\"\",VLOOKUP(B142,HM!$A$10:$B$209,2))","v":""},null,138,null,{"$f":"IF(F142=\"\",\"\",VLOOKUP(F142,HM!$A$10:$B$209,2))","v":""}]
[null,null,{"$f":"IF(B143=\"\",\"\",VLOOKUP(B143,HM!$A$10:$B$209,2))","v":""},null,139,null,{"$f":"IF(F143=\"\",\"\",VLOOKUP(F143,HM!$A$10:$B$209,2))","v":""}]
[null,null,{"$f":"IF(B144=\"\",\"\",VLOOKUP(B144,HM!$A$10:$B$209,2))","v":""},null,140,null,{"$f":"IF(F144=\"\",\"\",VLOOKUP(F144,HM!$A$10:$B$209,2))","v":""}]
[null,null,{"$f":"IF(B145=\"\",\"\",VLOOKUP(B145,HM!$A$10:$B$209,2))","v":""},null,141,null,{"$f":"IF(F145=\"\",\"\",VLOOKUP(F145,HM!$A$10:$B$209,2))","v":""}]
[null,null,{"$f":"IF(B146=\"\",\"\",VLOOKUP(B146,HM!$A$10:$B$209,2))","v":""},null,142,null,{"$f":"IF(F146=\"\",\"\",VLOOKUP(F146,HM!$A$10:$B$209,2))","v":""}]
[null,null,{"$f":"IF(B147=\"\",\"\",VLOOKUP(B147,HM!$A$10:$B$209,2))","v":""},null,143,null,{"$f":"IF(F147=\"\",\"\",VLOOKUP(F147,HM!$A$10:$B$209,2))","v":""}]
[null,null,{"$f":"IF(B148=\"\",\"\",VLOOKUP(B148,HM!$A$10:$B$209,2))","v":""},null,144,null,{"$f":"IF(F148=\"\",\"\",VLOOKUP(F148,HM!$A$10:$B$209,2))","v":""}]
[null,null,{"$f":"IF(B149=\"\",\"\",VLOOKUP(B149,HM!$A$10:$B$209,2))","v":""},null,145,null,{"$f":"IF(F149=\"\",\"\",VLOOKUP(F149,HM!$A$10:$B$209,2))","v":""}]
[null,null,{"$f":"IF(B150=\"\",\"\",VLOOKUP(B150,HM!$A$10:$B$209,2))","v":""},null,146,null,{"$f":"IF(F150=\"\",\"\",VLOOKUP(F150,HM!$A$10:$B$209,2))","v":""}]
[null,null,{"$f":"IF(B151=\"\",\"\",VLOOKUP(B151,HM!$A$10:$B$209,2))","v":""},null,147,null,{"$f":"IF(F151=\"\",\"\",VLOOKUP(F151,HM!$A$10:$B$209,2))","v":""}]
[null,null,{"$f":"IF(B152=\"\",\"\",VLOOKUP(B152,HM!$A$10:$B$209,2))","v":""},null,148,null,{"$f":"IF(F152=\"\",\"\",VLOOKUP(F152,HM!$A$10:$B$209,2))","v":""}]
[null,null,{"$f":"IF(B153=\"\",\"\",VLOOKUP(B153,HM!$A$10:$B$209,2))","v":""},null,149,null,{"$f":"IF(F153=\"\",\"\",VLOOKUP(F153,HM!$A$10:$B$209,2))","v":""}]
[null,null,{"$f":"IF(B154=\"\",\"\",VLOOKUP(B154,HM!$A$10:$B$209,2))","v":""},null,150,null,{"$f":"IF(F154=\"\",\"\",VLOOKUP(F154,HM!$A$10:$B$209,2))","v":""}]
[null,null,{"$f":"IF(B155=\"\",\"\",VLOOKUP(B155,HM!$A$10:$B$209,2))","v":""},null,151,null,{"$f":"IF(F155=\"\",\"\",VLOOKUP(F155,HM!$A$10:$B$209,2))","v":""}]
[null,null,{"$f":"IF(B156=\"\",\"\",VLOOKUP(B156,HM!$A$10:$B$209,2))","v":""},null,152,null,{"$f":"IF(F156=\"\",\"\",VLOOKUP(F156,HM!$A$10:$B$209,2))","v":""}]
[null,null,{"$f":"IF(B157=\"\",\"\",VLOOKUP(B157,HM!$A$10:$B$209,2))","v":""},null,153,null,{"$f":"IF(F157=\"\",\"\",VLOOKUP(F157,HM!$A$10:$B$209,2))","v":""}]
[null,null,{"$f":"IF(B158=\"\",\"\",VLOOKUP(B158,HM!$A$10:$B$209,2))","v":""},null,154,null,{"$f":"IF(F158=\"\",\"\",VLOOKUP(F158,HM!$A$10:$B$209,2))","v":""}]
[null,null,{"$f":"IF(B159=\"\",\"\",VLOOKUP(B159,HM!$A$10:$B$209,2))","v":""},null,155,null,{"$f":"IF(F159=\"\",\"\",VLOOKUP(F159,HM!$A$10:$B$209,2))","v":""}]
[null,null,{"$f":"IF(B160=\"\",\"\",VLOOKUP(B160,HM!$A$10:$B$209,2))","v":""},null,156,null,{"$f":"IF(F160=\"\",\"\",VLOOKUP(F160,HM!$A$10:$B$209,2))","v":""}]
[null,null,{"$f":"IF(B161=\"\",\"\",VLOOKUP(B161,HM!$A$10:$B$209,2))","v":""},null,157,null,{"$f":"IF(F161=\"\",\"\",VLOOKUP(F161,HM!$A$10:$B$209,2))","v":""}]
[null,null,{"$f":"IF(B162=\"\",\"\",VLOOKUP(B162,HM!$A$10:$B$209,2))","v":""},null,158,null,{"$f":"IF(F162=\"\",\"\",VLOOKUP(F162,HM!$A$10:$B$209,2))","v":""}]
[null,null,{"$f":"IF(B163=\"\",\"\",VLOOKUP(B163,HM!$A$10:$B$209,2))","v":""},null,159,null,{"$f":"IF(F163=\"\",\"\",VLOOKUP(F163,HM!$A$10:$B$209,2))","v":""}]
[null,null,{"$f":"IF(B164=\"\",\"\",VLOOKUP(B164,HM!$A$10:$B$209,2))","v":""},null,160,null,{"$f":"IF(F164=\"\",\"\",VLOOKUP(F164,HM!$A$10:$B$209,2))","v":""}]
[null,null,{"$f":"IF(B165=\"\",\"\",VLOOKUP(B165,HM!$A$10:$B$209,2))","v":""},null,161,null,{"$f":"IF(F165=\"\",\"\",VLOOKUP(F165,HM!$A$10:$B$209,2))","v":""}]
[null,null,{"$f":"IF(B166=\"\",\"\",VLOOKUP(B166,HM!$A$10:$B$209,2))","v":""},null,162,null,{"$f":"IF(F166=\"\",\"\",VLOOKUP(F166,HM!$A$10:$B$209,2))","v":""}]
[null,null,{"$f":"IF(B167=\"\",\"\",VLOOKUP(B167,HM!$A$10:$B$209,2))","v":""},null,163,null,{"$f":"IF(F167=\"\",\"\",VLOOKUP(F167,HM!$A$10:$B$209,2))","v":""}]
[null,null,{"$f":"IF(B168=\"\",\"\",VLOOKUP(B168,HM!$A$10:$B$209,2))","v":""},null,164,null,{"$f":"IF(F168=\"\",\"\",VLOOKUP(F168,HM!$A$10:$B$209,2))","v":""}]
[null,null,{"$f":"IF(B169=\"\",\"\",VLOOKUP(B169,HM!$A$10:$B$209,2))","v":""},null,165,null,{"$f":"IF(F169=\"\",\"\",VLOOKUP(F169,HM!$A$10:$B$209,2))","v":""}]
[null,null,{"$f":"IF(B170=\"\",\"\",VLOOKUP(B170,HM!$A$10:$B$209,2))","v":""},null,166,null,{"$f":"IF(F170=\"\",\"\",VLOOKUP(F170,HM!$A$10:$B$209,2))","v":""}]
[null,null,{"$f":"IF(B171=\"\",\"\",VLOOKUP(B171,HM!$A$10:$B$209,2))","v":""},null,167,null,{"$f":"IF(F171=\"\",\"\",VLOOKUP(F171,HM!$A$10:$B$209,2))","v":""}]
[null,null,{"$f":"IF(B172=\"\",\"\",VLOOKUP(B172,HM!$A$10:$B$209,2))","v":""},null,168,null,{"$f":"IF(F172=\"\",\"\",VLOOKUP(F172,HM!$A$10:$B$209,2))","v":""}]
[null,null,{"$f":"IF(B173=\"\",\"\",VLOOKUP(B173,HM!$A$10:$B$209,2))","v":""},null,169,null,{"$f":"IF(F173=\"\",\"\",VLOOKUP(F173,HM!$A$10:$B$209,2))","v":""}]
[null,null,{"$f":"IF(B174=\"\",\"\",VLOOKUP(B174,HM!$A$10:$B$209,2))","v":""},null,170,null,{"$f":"IF(F174=\"\",\"\",VLOOKUP(F174,HM!$A$10:$B$209,2))","v":""}]
[null,null,{"$f":"IF(B175=\"\",\"\",VLOOKUP(B175,HM!$A$10:$B$209,2))","v":""},null,171,null,{"$f":"IF(F175=\"\",\"\",VLOOKUP(F175,HM!$A$10:$B$209,2))","v":""}]
[null,null,{"$f":"IF(B176=\"\",\"\",VLOOKUP(B176,HM!$A$10:$B$209,2))","v":""},null,172,null,{"$f":"IF(F176=\"\",\"\",VLOOKUP(F176,HM!$A$10:$B$209,2))","v":""}]
[null,null,{"$f":"IF(B177=\"\",\"\",VLOOKUP(B177,HM!$A$10:$B$209,2))","v":""},null,173,null,{"$f":"IF(F177=\"\",\"\",VLOOKUP(F177,HM!$A$10:$B$209,2))","v":""}]
[null,null,{"$f":"IF(B178=\"\",\"\",VLOOKUP(B178,HM!$A$10:$B$209,2))","v":""},null,174,null,{"$f":"IF(F178=\"\",\"\",VLOOKUP(F178,HM!$A$10:$B$209,2))","v":""}]
[null,null,{"$f":"IF(B179=\"\",\"\",VLOOKUP(B179,HM!$A$10:$B$209,2))","v":""},null,175,null,{"$f":"IF(F179=\"\",\"\",VLOOKUP(F179,HM!$A$10:$B$209,2))","v":""}]
[null,null,{"$f":"IF(B180=\"\",\"\",VLOOKUP(B180,HM!$A$10:$B$209,2))","v":""},null,176,null,{"$f":"IF(F180=\"\",\"\",VLOOKUP(F180,HM!$A$10:$B$209,2))","v":""}]
[null,null,{"$f":"IF(B181=\"\",\"\",VLOOKUP(B181,HM!$A$10:$B$209,2))","v":""},null,177,null,{"$f":"IF(F181=\"\",\"\",VLOOKUP(F181,HM!$A$10:$B$209,2))","v":""}]
[null,null,{"$f":"IF(B182=\"\",\"\",VLOOKUP(B182,HM!$A$10:$B$209,2))","v":""},null,178,null,{"$f":"IF(F182=\"\",\"\",VLOOKUP(F182,HM!$A$10:$B$209,2))","v":""}]
[null,null,{"$f":"IF(B183=\"\",\"\",VLOOKUP(B183,HM!$A$10:$B$209,2))","v":""},null,179,null,{"$f":"IF(F183=\"\",\"\",VLOOKUP(F183,HM!$A$10:$B$209,2))","v":""}]
[null,null,{"$f":"IF(B184=\"\",\"\",VLOOKUP(B184,HM!$A$10:$B$209,2))","v":""},null,180,null,{"$f":"IF(F184=\"\",\"\",VLOOKUP(F184,HM!$A$10:$B$209,2))","v":""}]
[null,null,{"$f":"IF(B185=\"\",\"\",VLOOKUP(B185,HM!$A$10:$B$209,2))","v":""},null,181,null,{"$f":"IF(F185=\"\",\"\",VLOOKUP(F185,HM!$A$10:$B$209,2))","v":""}]
[null,null,{"$f":"IF(B186=\"\",\"\",VLOOKUP(B186,HM!$A$10:$B$209,2))","v":""},null,182,null,{"$f":"IF(F186=\"\",\"\",VLOOKUP(F186,HM!$A$10:$B$209,2))","v":""}]
[null,null,{"$f":"IF(B187=\"\",\"\",VLOOKUP(B187,HM!$A$10:$B$209,2))","v":""},null,183,null,{"$f":"IF(F187=\"\",\"\",VLOOKUP(F187,HM!$A$10:$B$209,2))","v":""}]
[null,null,{"$f":"IF(B188=\"\",\"\",VLOOKUP(B188,HM!$A$10:$B$209,2))","v":""},null,184,null,{"$f":"IF(F188=\"\",\"\",VLOOKUP(F188,HM!$A$10:$B$209,2))","v":""}]
[null,null,{"$f":"IF(B189=\"\",\"\",VLOOKUP(B189,HM!$A$10:$B$209,2))","v":""},null,185,null,{"$f":"IF(F189=\"\",\"\",VLOOKUP(F189,HM!$A$10:$B$209,2))","v":""}]
[null,null,{"$f":"IF(B190=\"\",\"\",VLOOKUP(B190,HM!$A$10:$B$209,2))","v":""},null,186,null,{"$f":"IF(F190=\"\",\"\",VLOOKUP(F190,HM!$A$10:$B$209,2))","v":""}]
[null,null,{"$f":"IF(B191=\"\",\"\",VLOOKUP(B191,HM!$A$10:$B$209,2))","v":""},null,187,null,{"$f":"IF(F191=\"\",\"\",VLOOKUP(F191,HM!$A$10:$B$209,2))","v":""}]
[null,null,{"$f":"IF(B192=\"\",\"\",VLOOKUP(B192,HM!$A$10:$B$209,2))","v":""},null,188,null,{"$f":"IF(F192=\"\",\"\",VLOOKUP(F192,HM!$A$10:$B$209,2))","v":""}]
[null,null,{"$f":"IF(B193=\"\",\"\",VLOOKUP(B193,HM!$A$10:$B$209,2))","v":""},null,189,null,{"$f":"IF(F193=\"\",\"\",VLOOKUP(F193,HM!$A$10:$B$209,2))","v":""}]
[null,null,{"$f":"IF(B194=\"\",\"\",VLOOKUP(B194,HM!$A$10:$B$209,2))","v":""},null,190,null,{"$f":"IF(F194=\"\",\"\",VLOOKUP(F194,HM!$A$10:$B$209,2))","v":""}]
[null,null,{"$f":"IF(B195=\"\",\"\",VLOOKUP(B195,HM!$A$10:$B$209,2))","v":""},null,191,null,{"$f":"IF(F195=\"\",\"\",VLOOKUP(F195,HM!$A$10:$B$209,2))","v":""}]
[null,null,{"$f":"IF(B196=\"\",\"\",VLOOKUP(B196,HM!$A$10:$B$209,2))","v":""},null,192,null,{"$f":"IF(F196=\"\",\"\",VLOOKUP(F196,HM!$A$10:$B$209,2))","v":""}]
[null,null,{"$f":"IF(B197=\"\",\"\",VLOOKUP(B197,HM!$A$10:$B$209,2))","v":""},null,193,null,{"$f":"IF(F197=\"\",\"\",VLOOKUP(F197,HM!$A$10:$B$209,2))","v":""}]
[null,null,{"$f":"IF(B198=\"\",\"\",VLOOKUP(B198,HM!$A$10:$B$209,2))","v":""},null,194,null,{"$f":"IF(F198=\"\",\"\",VLOOKUP(F198,HM!$A$10:$B$209,2))","v":""}]
[null,null,{"$f":"IF(B199=\"\",\"\",VLOOKUP(B199,HM!$A$10:$B$209,2))","v":""},null,195,null,{"$f":"IF(F199=\"\",\"\",VLOOKUP(F199,HM!$A$10:$B$209,2))","v":""}]
[null,null,{"$f":"IF(B200=\"\",\"\",VLOOKUP(B200,HM!$A$10:$B$209,2))","v":""},null,196,null,{"$f":"IF(F200=\"\",\"\",VLOOKUP(F200,HM!$A$10:$B$209,2))","v":""}]
[null,null,{"$f":"IF(B201=\"\",\"\",VLOOKUP(B201,HM!$A$10:$B$209,2))","v":""},null,197,null,{"$f":"IF(F201=\"\",\"\",VLOOKUP(F201,HM!$A$10:$B$209,2))","v":""}]
[null,null,{"$f":"IF(B202=\"\",\"\",VLOOKUP(B202,HM!$A$10:$B$209,2))","v":""},null,198,null,{"$f":"IF(F202=\"\",\"\",VLOOKUP(F202,HM!$A$10:$B$209,2))","v":""}]
[null,null,{"$f":"IF(B203=\"\",\"\",VLOOKUP(B203,HM!$A$10:$B$209,2))","v":""},null,199,null,{"$f":"IF(F203=\"\",\"\",VLOOKUP(F203,HM!$A$10:$B$209,2))","v":""}]
[null,null,{"$f":"IF(B204=\"\",\"\",VLOOKUP(B204,HM!$A$10:$B$209,2))","v":""},null,200,null,{"$f":"IF(F204=\"\",\"\",VLOOKUP(F204,HM!$A$10:$B$209,2))","v":""}]

{"sheet":"LP","index":7,"n_rows":202,"n_cols":11,"rows_kept":202,"cut":false,"hidden":false,"merged":[[0,0,0,2],[0,4,0,6],[0,8,0,10]]}
["Luftpistole \nJugend",null,null,null,"Luftpistole \nSchützen",null,null,null,"Luftpistole\nDamen"]
["Lfd. \nNr.:","Vor- und Nachname:","Ringe",null,"Lfd. \nNr.:","Vor- und Nachname:","Ringe",null,"Lfd. Nr.:","Vor- und Nachname:","Ringe"]
[null,{"$f":"IF(A3=\"\",\"\",VLOOKUP(A3,HM!$A$10:$B$209,2))","v":""},null,1,null,{"$f":"IF(E3=\"\",\"\",VLOOKUP(E3,HM!$A$10:$B$209,2))","v":""},null,1,null,{"$f":"IF(I3=\"\",\"\",VLOOKUP(I3,HM!$A$10:$B$209,2))","v":""}]
[null,{"$f":"IF(A4=\"\",\"\",VLOOKUP(A4,HM!$A$10:$B$209,2))","v":""},null,2,null,{"$f":"IF(E4=\"\",\"\",VLOOKUP(E4,HM!$A$10:$B$209,2))","v":""},null,2,null,{"$f":"IF(I4=\"\",\"\",VLOOKUP(I4,HM!$A$10:$B$209,2))","v":""}]
[null,{"$f":"IF(A5=\"\",\"\",VLOOKUP(A5,HM!$A$10:$B$209,2))","v":""},null,3,null,{"$f":"IF(E5=\"\",\"\",VLOOKUP(E5,HM!$A$10:$B$209,2))","v":""},null,3,null,{"$f":"IF(I5=\"\",\"\",VLOOKUP(I5,HM!$A$10:$B$209,2))","v":""}]
[null,{"$f":"IF(A6=\"\",\"\",VLOOKUP(A6,HM!$A$10:$B$209,2))","v":""},null,4,null,{"$f":"IF(E6=\"\",\"\",VLOOKUP(E6,HM!$A$10:$B$209,2))","v":""},null,4,null,{"$f":"IF(I6=\"\",\"\",VLOOKUP(I6,HM!$A$10:$B$209,2))","v":""}]
[null,{"$f":"IF(A7=\"\",\"\",VLOOKUP(A7,HM!$A$10:$B$209,2))","v":""},null,5,null,{"$f":"IF(E7=\"\",\"\",VLOOKUP(E7,HM!$A$10:$B$209,2))","v":""},null,5,null,{"$f":"IF(I7=\"\",\"\",VLOOKUP(I7,HM!$A$10:$B$209,2))","v":""}]
[null,{"$f":"IF(A8=\"\",\"\",VLOOKUP(A8,HM!$A$10:$B$209,2))","v":""},null,6,null,{"$f":"IF(E8=\"\",\"\",VLOOKUP(E8,HM!$A$10:$B$209,2))","v":""},null,6,null,{"$f":"IF(I8=\"\",\"\",VLOOKUP(I8,HM!$A$10:$B$209,2))","v":""}]
[null,{"$f":"IF(A9=\"\",\"\",VLOOKUP(A9,HM!$A$10:$B$209,2))","v":""},null,7,null,{"$f":"IF(E9=\"\",\"\",VLOOKUP(E9,HM!$A$10:$B$209,2))","v":""},null,7,null,{"$f":"IF(I9=\"\",\"\",VLOOKUP(I9,HM!$A$10:$B$209,2))","v":""}]
[null,{"$f":"IF(A10=\"\",\"\",VLOOKUP(A10,HM!$A$10:$B$209,2))","v":""},null,8,null,{"$f":"IF(E10=\"\",\"\",VLOOKUP(E10,HM!$A$10:$B$209,2))","v":""},null,8,null,{"$f":"IF(I10=\"\",\"\",VLOOKUP(I10,HM!$A$10:$B$209,2))","v":""}]
[null,{"$f":"IF(A11=\"\",\"\",VLOOKUP(A11,HM!$A$10:$B$209,2))","v":""},null,9,null,{"$f":"IF(E11=\"\",\"\",VLOOKUP(E11,HM!$A$10:$B$209,2))","v":""},null,9,null,{"$f":"IF(I11=\"\",\"\",VLOOKUP(I11,HM!$A$10:$B$209,2))","v":""}]
[null,{"$f":"IF(A12=\"\",\"\",VLOOKUP(A12,HM!$A$10:$B$209,2))","v":""},null,10,null,{"$f":"IF(E12=\"\",\"\",VLOOKUP(E12,HM!$A$10:$B$209,2))","v":""},null,10,null,{"$f":"IF(I12=\"\",\"\",VLOOKUP(I12,HM!$A$10:$B$209,2))","v":""}]
[null,{"$f":"IF(A13=\"\",\"\",VLOOKUP(A13,HM!$A$10:$B$209,2))","v":""},null,11,null,{"$f":"IF(E13=\"\",\"\",VLOOKUP(E13,HM!$A$10:$B$209,2))","v":""},null,11,null,{"$f":"IF(I13=\"\",\"\",VLOOKUP(I13,HM!$A$10:$B$209,2))","v":""}]
[null,{"$f":"IF(A14=\"\",\"\",VLOOKUP(A14,HM!$A$10:$B$209,2))","v":""},null,12,null,{"$f":"IF(E14=\"\",\"\",VLOOKUP(E14,HM!$A$10:$B$209,2))","v":""},null,12,null,{"$f":"IF(I14=\"\",\"\",VLOOKUP(I14,HM!$A$10:$B$209,2))","v":""}]
[null,{"$f":"IF(A15=\"\",\"\",VLOOKUP(A15,HM!$A$10:$B$209,2))","v":""},null,13,null,{"$f":"IF(E15=\"\",\"\",VLOOKUP(E15,HM!$A$10:$B$209,2))","v":""},null,13,null,{"$f":"IF(I15=\"\",\"\",VLOOKUP(I15,HM!$A$10:$B$209,2))","v":""}]
[null,{"$f":"IF(A16=\"\",\"\",VLOOKUP(A16,HM!$A$10:$B$209,2))","v":""},null,14,null,{"$f":"IF(E16=\"\",\"\",VLOOKUP(E16,HM!$A$10:$B$209,2))","v":""},null,14,null,{"$f":"IF(I16=\"\",\"\",VLOOKUP(I16,HM!$A$10:$B$209,2))","v":""}]
[null,{"$f":"IF(A17=\"\",\"\",VLOOKUP(A17,HM!$A$10:$B$209,2))","v":""},null,15,null,{"$f":"IF(E17=\"\",\"\",VLOOKUP(E17,HM!$A$10:$B$209,2))","v":""},null,15,null,{"$f":"IF(I17=\"\",\"\",VLOOKUP(I17,HM!$A$10:$B$209,2))","v":""}]
[null,{"$f":"IF(A18=\"\",\"\",VLOOKUP(A18,HM!$A$10:$B$209,2))","v":""},null,16,null,{"$f":"IF(E18=\"\",\"\",VLOOKUP(E18,HM!$A$10:$B$209,2))","v":""},null,16,null,{"$f":"IF(I18=\"\",\"\",VLOOKUP(I18,HM!$A$10:$B$209,2))","v":""}]
[null,{"$f":"IF(A19=\"\",\"\",VLOOKUP(A19,HM!$A$10:$B$209,2))","v":""},null,17,null,{"$f":"IF(E19=\"\",\"\",VLOOKUP(E19,HM!$A$10:$B$209,2))","v":""},null,17,null,{"$f":"IF(I19=\"\",\"\",VLOOKUP(I19,HM!$A$10:$B$209,2))","v":""}]
[null,{"$f":"IF(A20=\"\",\"\",VLOOKUP(A20,HM!$A$10:$B$209,2))","v":""},null,18,null,{"$f":"IF(E20=\"\",\"\",VLOOKUP(E20,HM!$A$10:$B$209,2))","v":""},null,18,null,{"$f":"IF(I20=\"\",\"\",VLOOKUP(I20,HM!$A$10:$B$209,2))","v":""}]
[null,{"$f":"IF(A21=\"\",\"\",VLOOKUP(A21,HM!$A$10:$B$209,2))","v":""},null,19,null,{"$f":"IF(E21=\"\",\"\",VLOOKUP(E21,HM!$A$10:$B$209,2))","v":""},null,19,null,{"$f":"IF(I21=\"\",\"\",VLOOKUP(I21,HM!$A$10:$B$209,2))","v":""}]
[null,{"$f":"IF(A22=\"\",\"\",VLOOKUP(A22,HM!$A$10:$B$209,2))","v":""},null,20,null,{"$f":"IF(E22=\"\",\"\",VLOOKUP(E22,HM!$A$10:$B$209,2))","v":""},null,20,null,{"$f":"IF(I22=\"\",\"\",VLOOKUP(I22,HM!$A$10:$B$209,2))","v":""}]
[null,{"$f":"IF(A23=\"\",\"\",VLOOKUP(A23,HM!$A$10:$B$209,2))","v":""},null,21,null,{"$f":"IF(E23=\"\",\"\",VLOOKUP(E23,HM!$A$10:$B$209,2))","v":""},null,21,null,{"$f":"IF(I23=\"\",\"\",VLOOKUP(I23,HM!$A$10:$B$209,2))","v":""}]
[null,{"$f":"IF(A24=\"\",\"\",VLOOKUP(A24,HM!$A$10:$B$209,2))","v":""},null,22,null,{"$f":"IF(E24=\"\",\"\",VLOOKUP(E24,HM!$A$10:$B$209,2))","v":""},null,22,null,{"$f":"IF(I24=\"\",\"\",VLOOKUP(I24,HM!$A$10:$B$209,2))","v":""}]
[null,{"$f":"IF(A25=\"\",\"\",VLOOKUP(A25,HM!$A$10:$B$209,2))","v":""},null,23,null,{"$f":"IF(E25=\"\",\"\",VLOOKUP(E25,HM!$A$10:$B$209,2))","v":""},null,23,null,{"$f":"IF(I25=\"\",\"\",VLOOKUP(I25,HM!$A$10:$B$209,2))","v":""}]
[null,{"$f":"IF(A26=\"\",\"\",VLOOKUP(A26,HM!$A$10:$B$209,2))","v":""},null,24,null,{"$f":"IF(E26=\"\",\"\",VLOOKUP(E26,HM!$A$10:$B$209,2))","v":""},null,24,null,{"$f":"IF(I26=\"\",\"\",VLOOKUP(I26,HM!$A$10:$B$209,2))","v":""}]
[null,{"$f":"IF(A27=\"\",\"\",VLOOKUP(A27,HM!$A$10:$B$209,2))","v":""},null,25,null,{"$f":"IF(E27=\"\",\"\",VLOOKUP(E27,HM!$A$10:$B$209,2))","v":""},null,25,null,{"$f":"IF(I27=\"\",\"\",VLOOKUP(I27,HM!$A$10:$B$209,2))","v":""}]
[null,{"$f":"IF(A28=\"\",\"\",VLOOKUP(A28,HM!$A$10:$B$209,2))","v":""},null,26,null,{"$f":"IF(E28=\"\",\"\",VLOOKUP(E28,HM!$A$10:$B$209,2))","v":""},null,26,null,{"$f":"IF(I28=\"\",\"\",VLOOKUP(I28,HM!$A$10:$B$209,2))","v":""}]
[null,{"$f":"IF(A29=\"\",\"\",VLOOKUP(A29,HM!$A$10:$B$209,2))","v":""},null,27,null,{"$f":"IF(E29=\"\",\"\",VLOOKUP(E29,HM!$A$10:$B$209,2))","v":""},null,27,null,{"$f":"IF(I29=\"\",\"\",VLOOKUP(I29,HM!$A$10:$B$209,2))","v":""}]
[null,{"$f":"IF(A30=\"\",\"\",VLOOKUP(A30,HM!$A$10:$B$209,2))","v":""},null,28,null,{"$f":"IF(E30=\"\",\"\",VLOOKUP(E30,HM!$A$10:$B$209,2))","v":""},null,28,null,{"$f":"IF(I30=\"\",\"\",VLOOKUP(I30,HM!$A$10:$B$209,2))","v":""}]
[null,{"$f":"IF(A31=\"\",\"\",VLOOKUP(A31,HM!$A$10:$B$209,2))","v":""},null,29,null,{"$f":"IF(E31=\"\",\"\",VLOOKUP(E31,HM!$A$10:$B$209,2))","v":""},null,29,null,{"$f":"IF(I31=\"\",\"\",VLOOKUP(I31,HM!$A$10:$B$209,2))","v":""}]
[null,{"$f":"IF(A32=\"\",\"\",VLOOKUP(A32,HM!$A$10:$B$209,2))","v":""},null,30,null,{"$f":"IF(E32=\"\",\"\",VLOOKUP(E32,HM!$A$10:$B$209,2))","v":""},null,30,null,{"$f":"IF(I32=\"\",\"\",VLOOKUP(I32,HM!$A$10:$B$209,2))","v":""}]
[null,{"$f":"IF(A33=\"\",\"\",VLOOKUP(A33,HM!$A$10:$B$209,2))","v":""},null,31,null,{"$f":"IF(E33=\"\",\"\",VLOOKUP(E33,HM!$A$10:$B$209,2))","v":""},null,31,null,{"$f":"IF(I33=\"\",\"\",VLOOKUP(I33,HM!$A$10:$B$209,2))","v":""}]
[null,{"$f":"IF(A34=\"\",\"\",VLOOKUP(A34,HM!$A$10:$B$209,2))","v":""},null,32,null,{"$f":"IF(E34=\"\",\"\",VLOOKUP(E34,HM!$A$10:$B$209,2))","v":""},null,32,null,{"$f":"IF(I34=\"\",\"\",VLOOKUP(I34,HM!$A$10:$B$209,2))","v":""}]
[null,{"$f":"IF(A35=\"\",\"\",VLOOKUP(A35,HM!$A$10:$B$209,2))","v":""},null,33,null,{"$f":"IF(E35=\"\",\"\",VLOOKUP(E35,HM!$A$10:$B$209,2))","v":""},null,33,null,{"$f":"IF(I35=\"\",\"\",VLOOKUP(I35,HM!$A$10:$B$209,2))","v":""}]
[null,{"$f":"IF(A36=\"\",\"\",VLOOKUP(A36,HM!$A$10:$B$209,2))","v":""},null,34,null,{"$f":"IF(E36=\"\",\"\",VLOOKUP(E36,HM!$A$10:$B$209,2))","v":""},null,34,null,{"$f":"IF(I36=\"\",\"\",VLOOKUP(I36,HM!$A$10:$B$209,2))","v":""}]
[null,{"$f":"IF(A37=\"\",\"\",VLOOKUP(A37,HM!$A$10:$B$209,2))","v":""},null,35,null,{"$f":"IF(E37=\"\",\"\",VLOOKUP(E37,HM!$A$10:$B$209,2))","v":""},null,35,null,{"$f":"IF(I37=\"\",\"\",VLOOKUP(I37,HM!$A$10:$B$209,2))","v":""}]
[null,{"$f":"IF(A38=\"\",\"\",VLOOKUP(A38,HM!$A$10:$B$209,2))","v":""},null,36,null,{"$f":"IF(E38=\"\",\"\",VLOOKUP(E38,HM!$A$10:$B$209,2))","v":""},null,36,null,{"$f":"IF(I38=\"\",\"\",VLOOKUP(I38,HM!$A$10:$B$209,2))","v":""}]
[null,{"$f":"IF(A39=\"\",\"\",VLOOKUP(A39,HM!$A$10:$B$209,2))","v":""},null,37,null,{"$f":"IF(E39=\"\",\"\",VLOOKUP(E39,HM!$A$10:$B$209,2))","v":""},null,37,null,{"$f":"IF(I39=\"\",\"\",VLOOKUP(I39,HM!$A$10:$B$209,2))","v":""}]
[null,{"$f":"IF(A40=\"\",\"\",VLOOKUP(A40,HM!$A$10:$B$209,2))","v":""},null,38,null,{"$f":"IF(E40=\"\",\"\",VLOOKUP(E40,HM!$A$10:$B$209,2))","v":""},null,38,null,{"$f":"IF(I40=\"\",\"\",VLOOKUP(I40,HM!$A$10:$B$209,2))","v":""}]
[null,{"$f":"IF(A41=\"\",\"\",VLOOKUP(A41,HM!$A$10:$B$209,2))","v":""},null,39,null,{"$f":"IF(E41=\"\",\"\",VLOOKUP(E41,HM!$A$10:$B$209,2))","v":""},null,39,null,{"$f":"IF(I41=\"\",\"\",VLOOKUP(I41,HM!$A$10:$B$209,2))","v":""}]
[null,{"$f":"IF(A42=\"\",\"\",VLOOKUP(A42,HM!$A$10:$B$209,2))","v":""},null,40,null,{"$f":"IF(E42=\"\",\"\",VLOOKUP(E42,HM!$A$10:$B$209,2))","v":""},null,40,null,{"$f":"IF(I42=\"\",\"\",VLOOKUP(I42,HM!$A$10:$B$209,2))","v":""}]
[null,{"$f":"IF(A43=\"\",\"\",VLOOKUP(A43,HM!$A$10:$B$209,2))","v":""},null,41,null,{"$f":"IF(E43=\"\",\"\",VLOOKUP(E43,HM!$A$10:$B$209,2))","v":""},null,41,null,{"$f":"IF(I43=\"\",\"\",VLOOKUP(I43,HM!$A$10:$B$209,2))","v":""}]
[null,{"$f":"IF(A44=\"\",\"\",VLOOKUP(A44,HM!$A$10:$B$209,2))","v":""},null,42,null,{"$f":"IF(E44=\"\",\"\",VLOOKUP(E44,HM!$A$10:$B$209,2))","v":""},null,42,null,{"$f":"IF(I44=\"\",\"\",VLOOKUP(I44,HM!$A$10:$B$209,2))","v":""}]
[null,{"$f":"IF(A45=\"\",\"\",VLOOKUP(A45,HM!$A$10:$B$209,2))","v":""},null,43,null,{"$f":"IF(E45=\"\",\"\",VLOOKUP(E45,HM!$A$10:$B$209,2))","v":""},null,43,null,{"$f":"IF(I45=\"\",\"\",VLOOKUP(I45,HM!$A$10:$B$209,2))","v":""}]
[null,{"$f":"IF(A46=\"\",\"\",VLOOKUP(A46,HM!$A$10:$B$209,2))","v":""},null,44,null,{"$f":"IF(E46=\"\",\"\",VLOOKUP(E46,HM!$A$10:$B$209,2))","v":""},null,44,null,{"$f":"IF(I46=\"\",\"\",VLOOKUP(I46,HM!$A$10:$B$209,2))","v":""}]
[null,{"$f":"IF(A47=\"\",\"\",VLOOKUP(A47,HM!$A$10:$B$209,2))","v":""},null,45,null,{"$f":"IF(E47=\"\",\"\",VLOOKUP(E47,HM!$A$10:$B$209,2))","v":""},null,45,null,{"$f":"IF(I47=\"\",\"\",VLOOKUP(I47,HM!$A$10:$B$209,2))","v":""}]
[null,{"$f":"IF(A48=\"\",\"\",VLOOKUP(A48,HM!$A$10:$B$209,2))","v":""},null,46,null,{"$f":"IF(E48=\"\",\"\",VLOOKUP(E48,HM!$A$10:$B$209,2))","v":""},null,46,null,{"$f":"IF(I48=\"\",\"\",VLOOKUP(I48,HM!$A$10:$B$209,2))","v":""}]
[null,{"$f":"IF(A49=\"\",\"\",VLOOKUP(A49,HM!$A$10:$B$209,2))","v":""},null,47,null,{"$f":"IF(E49=\"\",\"\",VLOOKUP(E49,HM!$A$10:$B$209,2))","v":""},null,47,null,{"$f":"IF(I49=\"\",\"\",VLOOKUP(I49,HM!$A$10:$B$209,2))","v":""}]
[null,{"$f":"IF(A50=\"\",\"\",VLOOKUP(A50,HM!$A$10:$B$209,2))","v":""},null,48,null,{"$f":"IF(E50=\"\",\"\",VLOOKUP(E50,HM!$A$10:$B$209,2))","v":""},null,48,null,{"$f":"IF(I50=\"\",\"\",VLOOKUP(I50,HM!$A$10:$B$209,2))","v":""}]
[null,{"$f":"IF(A51=\"\",\"\",VLOOKUP(A51,HM!$A$10:$B$209,2))","v":""},null,49,null,{"$f":"IF(E51=\"\",\"\",VLOOKUP(E51,HM!$A$10:$B$209,2))","v":""},null,49,null,{"$f":"IF(I51=\"\",\"\",VLOOKUP(I51,HM!$A$10:$B$209,2))","v":""}]
[null,{"$f":"IF(A52=\"\",\"\",VLOOKUP(A52,HM!$A$10:$B$209,2))","v":""},null,50,null,{"$f":"IF(E52=\"\",\"\",VLOOKUP(E52,HM!$A$10:$B$209,2))","v":""},null,50,null,{"$f":"IF(I52=\"\",\"\",VLOOKUP(I52,HM!$A$10:$B$209,2))","v":""}]
[null,{"$f":"IF(A53=\"\",\"\",VLOOKUP(A53,HM!$A$10:$B$209,2))","v":""},null,51,null,{"$f":"IF(E53=\"\",\"\",VLOOKUP(E53,HM!$A$10:$B$209,2))","v":""},null,51,null,{"$f":"IF(I53=\"\",\"\",VLOOKUP(I53,HM!$A$10:$B$209,2))","v":""}]
[null,{"$f":"IF(A54=\"\",\"\",VLOOKUP(A54,HM!$A$10:$B$209,2))","v":""},null,52,null,{"$f":"IF(E54=\"\",\"\",VLOOKUP(E54,HM!$A$10:$B$209,2))","v":""},null,52,null,{"$f":"IF(I54=\"\",\"\",VLOOKUP(I54,HM!$A$10:$B$209,2))","v":""}]
[null,{"$f":"IF(A55=\"\",\"\",VLOOKUP(A55,HM!$A$10:$B$209,2))","v":""},null,53,null,{"$f":"IF(E55=\"\",\"\",VLOOKUP(E55,HM!$A$10:$B$209,2))","v":""},null,53,null,{"$f":"IF(I55=\"\",\"\",VLOOKUP(I55,HM!$A$10:$B$209,2))","v":""}]
[null,{"$f":"IF(A56=\"\",\"\",VLOOKUP(A56,HM!$A$10:$B$209,2))","v":""},null,54,null,{"$f":"IF(E56=\"\",\"\",VLOOKUP(E56,HM!$A$10:$B$209,2))","v":""},null,54,null,{"$f":"IF(I56=\"\",\"\",VLOOKUP(I56,HM!$A$10:$B$209,2))","v":""}]
[null,{"$f":"IF(A57=\"\",\"\",VLOOKUP(A57,HM!$A$10:$B$209,2))","v":""},null,55,null,{"$f":"IF(E57=\"\",\"\",VLOOKUP(E57,HM!$A$10:$B$209,2))","v":""},null,55,null,{"$f":"IF(I57=\"\",\"\",VLOOKUP(I57,HM!$A$10:$B$209,2))","v":""}]
[null,{"$f":"IF(A58=\"\",\"\",VLOOKUP(A58,HM!$A$10:$B$209,2))","v":""},null,56,null,{"$f":"IF(E58=\"\",\"\",VLOOKUP(E58,HM!$A$10:$B$209,2))","v":""},null,56,null,{"$f":"IF(I58=\"\",\"\",VLOOKUP(I58,HM!$A$10:$B$209,2))","v":""}]
[null,{"$f":"IF(A59=\"\",\"\",VLOOKUP(A59,HM!$A$10:$B$209,2))","v":""},null,57,null,{"$f":"IF(E59=\"\",\"\",VLOOKUP(E59,HM!$A$10:$B$209,2))","v":""},null,57,null,{"$f":"IF(I59=\"\",\"\",VLOOKUP(I59,HM!$A$10:$B$209,2))","v":""}]
[null,{"$f":"IF(A60=\"\",\"\",VLOOKUP(A60,HM!$A$10:$B$209,2))","v":""},null,58,null,{"$f":"IF(E60=\"\",\"\",VLOOKUP(E60,HM!$A$10:$B$209,2))","v":""},null,58,null,{"$f":"IF(I60=\"\",\"\",VLOOKUP(I60,HM!$A$10:$B$209,2))","v":""}]
[null,{"$f":"IF(A61=\"\",\"\",VLOOKUP(A61,HM!$A$10:$B$209,2))","v":""},null,59,null,{"$f":"IF(E61=\"\",\"\",VLOOKUP(E61,HM!$A$10:$B$209,2))","v":""},null,59,null,{"$f":"IF(I61=\"\",\"\",VLOOKUP(I61,HM!$A$10:$B$209,2))","v":""}]
[null,{"$f":"IF(A62=\"\",\"\",VLOOKUP(A62,HM!$A$10:$B$209,2))","v":""},null,60,null,{"$f":"IF(E62=\"\",\"\",VLOOKUP(E62,HM!$A$10:$B$209,2))","v":""},null,60,null,{"$f":"IF(I62=\"\",\"\",VLOOKUP(I62,HM!$A$10:$B$209,2))","v":""}]
[null,{"$f":"IF(A63=\"\",\"\",VLOOKUP(A63,HM!$A$10:$B$209,2))","v":""},null,61,null,{"$f":"IF(E63=\"\",\"\",VLOOKUP(E63,HM!$A$10:$B$209,2))","v":""},null,61,null,{"$f":"IF(I63=\"\",\"\",VLOOKUP(I63,HM!$A$10:$B$209,2))","v":""}]
[null,{"$f":"IF(A64=\"\",\"\",VLOOKUP(A64,HM!$A$10:$B$209,2))","v":""},null,62,null,{"$f":"IF(E64=\"\",\"\",VLOOKUP(E64,HM!$A$10:$B$209,2))","v":""},null,62,null,{"$f":"IF(I64=\"\",\"\",VLOOKUP(I64,HM!$A$10:$B$209,2))","v":""}]
[null,{"$f":"IF(A65=\"\",\"\",VLOOKUP(A65,HM!$A$10:$B$209,2))","v":""},null,63,null,{"$f":"IF(E65=\"\",\"\",VLOOKUP(E65,HM!$A$10:$B$209,2))","v":""},null,63,null,{"$f":"IF(I65=\"\",\"\",VLOOKUP(I65,HM!$A$10:$B$209,2))","v":""}]
[null,{"$f":"IF(A66=\"\",\"\",VLOOKUP(A66,HM!$A$10:$B$209,2))","v":""},null,64,null,{"$f":"IF(E66=\"\",\"\",VLOOKUP(E66,HM!$A$10:$B$209,2))","v":""},null,64,null,{"$f":"IF(I66=\"\",\"\",VLOOKUP(I66,HM!$A$10:$B$209,2))","v":""}]
[null,{"$f":"IF(A67=\"\",\"\",VLOOKUP(A67,HM!$A$10:$B$209,2))","v":""},null,65,null,{"$f":"IF(E67=\"\",\"\",VLOOKUP(E67,HM!$A$10:$B$209,2))","v":""},null,65,null,{"$f":"IF(I67=\"\",\"\",VLOOKUP(I67,HM!$A$10:$B$209,2))","v":""}]
[null,{"$f":"IF(A68=\"\",\"\",VLOOKUP(A68,HM!$A$10:$B$209,2))","v":""},null,66,null,{"$f":"IF(E68=\"\",\"\",VLOOKUP(E68,HM!$A$10:$B$209,2))","v":""},null,66,null,{"$f":"IF(I68=\"\",\"\",VLOOKUP(I68,HM!$A$10:$B$209,2))","v":""}]
[null,{"$f":"IF(A69=\"\",\"\",VLOOKUP(A69,HM!$A$10:$B$209,2))","v":""},null,67,null,{"$f":"IF(E69=\"\",\"\",VLOOKUP(E69,HM!$A$10:$B$209,2))","v":""},null,67,null,{"$f":"IF(I69=\"\",\"\",VLOOKUP(I69,HM!$A$10:$B$209,2))","v":""}]
[null,{"$f":"IF(A70=\"\",\"\",VLOOKUP(A70,HM!$A$10:$B$209,2))","v":""},null,68,null,{"$f":"IF(E70=\"\",\"\",VLOOKUP(E70,HM!$A$10:$B$209,2))","v":""},null,68,null,{"$f":"IF(I70=\"\",\"\",VLOOKUP(I70,HM!$A$10:$B$209,2))","v":""}]
[null,{"$f":"IF(A71=\"\",\"\",VLOOKUP(A71,HM!$A$10:$B$209,2))","v":""},null,69,null,{"$f":"IF(E71=\"\",\"\",VLOOKUP(E71,HM!$A$10:$B$209,2))","v":""},null,69,null,{"$f":"IF(I71=\"\",\"\",VLOOKUP(I71,HM!$A$10:$B$209,2))","v":""}]
[null,{"$f":"IF(A72=\"\",\"\",VLOOKUP(A72,HM!$A$10:$B$209,2))","v":""},null,70,null,{"$f":"IF(E72=\"\",\"\",VLOOKUP(E72,HM!$A$10:$B$209,2))","v":""},null,70,null,{"$f":"IF(I72=\"\",\"\",VLOOKUP(I72,HM!$A$10:$B$209,2))","v":""}]
[null,{"$f":"IF(A73=\"\",\"\",VLOOKUP(A73,HM!$A$10:$B$209,2))","v":""},null,71,null,{"$f":"IF(E73=\"\",\"\",VLOOKUP(E73,HM!$A$10:$B$209,2))","v":""},null,71,null,{"$f":"IF(I73=\"\",\"\",VLOOKUP(I73,HM!$A$10:$B$209,2))","v":""}]
[null,{"$f":"IF(A74=\"\",\"\",VLOOKUP(A74,HM!$A$10:$B$209,2))","v":""},null,72,null,{"$f":"IF(E74=\"\",\"\",VLOOKUP(E74,HM!$A$10:$B$209,2))","v":""},null,72,null,{"$f":"IF(I74=\"\",\"\",VLOOKUP(I74,HM!$A$10:$B$209,2))","v":""}]
[null,{"$f":"IF(A75=\"\",\"\",VLOOKUP(A75,HM!$A$10:$B$209,2))","v":""},null,73,null,{"$f":"IF(E75=\"\",\"\",VLOOKUP(E75,HM!$A$10:$B$209,2))","v":""},null,73,null,{"$f":"IF(I75=\"\",\"\",VLOOKUP(I75,HM!$A$10:$B$209,2))","v":""}]
[null,{"$f":"IF(A76=\"\",\"\",VLOOKUP(A76,HM!$A$10:$B$209,2))","v":""},null,74,null,{"$f":"IF(E76=\"\",\"\",VLOOKUP(E76,HM!$A$10:$B$209,2))","v":""},null,74,null,{"$f":"IF(I76=\"\",\"\",VLOOKUP(I76,HM!$A$10:$B$209,2))","v":""}]
[null,{"$f":"IF(A77=\"\",\"\",VLOOKUP(A77,HM!$A$10:$B$209,2))","v":""},null,75,null,{"$f":"IF(E77=\"\",\"\",VLOOKUP(E77,HM!$A$10:$B$209,2))","v":""},null,75,null,{"$f":"IF(I77=\"\",\"\",VLOOKUP(I77,HM!$A$10:$B$209,2))","v":""}]
[null,{"$f":"IF(A78=\"\",\"\",VLOOKUP(A78,HM!$A$10:$B$209,2))","v":""},null,76,null,{"$f":"IF(E78=\"\",\"\",VLOOKUP(E78,HM!$A$10:$B$209,2))","v":""},null,76,null,{"$f":"IF(I78=\"\",\"\",VLOOKUP(I78,HM!$A$10:$B$209,2))","v":""}]
[null,{"$f":"IF(A79=\"\",\"\",VLOOKUP(A79,HM!$A$10:$B$209,2))","v":""},null,77,null,{"$f":"IF(E79=\"\",\"\",VLOOKUP(E79,HM!$A$10:$B$209,2))","v":""},null,77,null,{"$f":"IF(I79=\"\",\"\",VLOOKUP(I79,HM!$A$10:$B$209,2))","v":""}]
[null,{"$f":"IF(A80=\"\",\"\",VLOOKUP(A80,HM!$A$10:$B$209,2))","v":""},null,78,null,{"$f":"IF(E80=\"\",\"\",VLOOKUP(E80,HM!$A$10:$B$209,2))","v":""},null,78,null,{"$f":"IF(I80=\"\",\"\",VLOOKUP(I80,HM!$A$10:$B$209,2))","v":""}]
[null,{"$f":"IF(A81=\"\",\"\",VLOOKUP(A81,HM!$A$10:$B$209,2))","v":""},null,79,null,{"$f":"IF(E81=\"\",\"\",VLOOKUP(E81,HM!$A$10:$B$209,2))","v":""},null,79,null,{"$f":"IF(I81=\"\",\"\",VLOOKUP(I81,HM!$A$10:$B$209,2))","v":""}]
[null,{"$f":"IF(A82=\"\",\"\",VLOOKUP(A82,HM!$A$10:$B$209,2))","v":""},null,80,null,{"$f":"IF(E82=\"\",\"\",VLOOKUP(E82,HM!$A$10:$B$209,2))","v":""},null,80,null,{"$f":"IF(I82=\"\",\"\",VLOOKUP(I82,HM!$A$10:$B$209,2))","v":""}]
[null,{"$f":"IF(A83=\"\",\"\",VLOOKUP(A83,HM!$A$10:$B$209,2))","v":""},null,81,null,{"$f":"IF(E83=\"\",\"\",VLOOKUP(E83,HM!$A$10:$B$209,2))","v":""},null,81,null,{"$f":"IF(I83=\"\",\"\",VLOOKUP(I83,HM!$A$10:$B$209,2))","v":""}]
[null,{"$f":"IF(A84=\"\",\"\",VLOOKUP(A84,HM!$A$10:$B$209,2))","v":""},null,82,null,{"$f":"IF(E84=\"\",\"\",VLOOKUP(E84,HM!$A$10:$B$209,2))","v":""},null,82,null,{"$f":"IF(I84=\"\",\"\",VLOOKUP(I84,HM!$A$10:$B$209,2))","v":""}]
[null,{"$f":"IF(A85=\"\",\"\",VLOOKUP(A85,HM!$A$10:$B$209,2))","v":""},null,83,null,{"$f":"IF(E85=\"\",\"\",VLOOKUP(E85,HM!$A$10:$B$209,2))","v":""},null,83,null,{"$f":"IF(I85=\"\",\"\",VLOOKUP(I85,HM!$A$10:$B$209,2))","v":""}]
[null,{"$f":"IF(A86=\"\",\"\",VLOOKUP(A86,HM!$A$10:$B$209,2))","v":""},null,84,null,{"$f":"IF(E86=\"\",\"\",VLOOKUP(E86,HM!$A$10:$B$209,2))","v":""},null,84,null,{"$f":"IF(I86=\"\",\"\",VLOOKUP(I86,HM!$A$10:$B$209,2))","v":""}]
[null,{"$f":"IF(A87=\"\",\"\",VLOOKUP(A87,HM!$A$10:$B$209,2))","v":""},null,85,null,{"$f":"IF(E87=\"\",\"\",VLOOKUP(E87,HM!$A$10:$B$209,2))","v":""},null,85,null,{"$f":"IF(I87=\"\",\"\",VLOOKUP(I87,HM!$A$10:$B$209,2))","v":""}]
[null,{"$f":"IF(A88=\"\",\"\",VLOOKUP(A88,HM!$A$10:$B$209,2))","v":""},null,86,null,{"$f":"IF(E88=\"\",\"\",VLOOKUP(E88,HM!$A$10:$B$209,2))","v":""},null,86,null,{"$f":"IF(I88=\"\",\"\",VLOOKUP(I88,HM!$A$10:$B$209,2))","v":""}]
[null,{"$f":"IF(A89=\"\",\"\",VLOOKUP(A89,HM!$A$10:$B$209,2))","v":""},null,87,null,{"$f":"IF(E89=\"\",\"\",VLOOKUP(E89,HM!$A$10:$B$209,2))","v":""},null,87,null,{"$f":"IF(I89=\"\",\"\",VLOOKUP(I89,HM!$A$10:$B$209,2))","v":""}]
[null,{"$f":"IF(A90=\"\",\"\",VLOOKUP(A90,HM!$A$10:$B$209,2))","v":""},null,88,null,{"$f":"IF(E90=\"\",\"\",VLOOKUP(E90,HM!$A$10:$B$209,2))","v":""},null,88,null,{"$f":"IF(I90=\"\",\"\",VLOOKUP(I90,HM!$A$10:$B$209,2))","v":""}]
[null,{"$f":"IF(A91=\"\",\"\",VLOOKUP(A91,HM!$A$10:$B$209,2))","v":""},null,89,null,{"$f":"IF(E91=\"\",\"\",VLOOKUP(E91,HM!$A$10:$B$209,2))","v":""},null,89,null,{"$f":"IF(I91=\"\",\"\",VLOOKUP(I91,HM!$A$10:$B$209,2))","v":""}]
[null,{"$f":"IF(A92=\"\",\"\",VLOOKUP(A92,HM!$A$10:$B$209,2))","v":""},null,90,null,{"$f":"IF(E92=\"\",\"\",VLOOKUP(E92,HM!$A$10:$B$209,2))","v":""},null,90,null,{"$f":"IF(I92=\"\",\"\",VLOOKUP(I92,HM!$A$10:$B$209,2))","v":""}]
[null,{"$f":"IF(A93=\"\",\"\",VLOOKUP(A93,HM!$A$10:$B$209,2))","v":""},null,91,null,{"$f":"IF(E93=\"\",\"\",VLOOKUP(E93,HM!$A$10:$B$209,2))","v":""},null,91,null,{"$f":"IF(I93=\"\",\"\",VLOOKUP(I93,HM!$A$10:$B$209,2))","v":""}]
[null,{"$f":"IF(A94=\"\",\"\",VLOOKUP(A94,HM!$A$10:$B$209,2))","v":""},null,92,null,{"$f":"IF(E94=\"\",\"\",VLOOKUP(E94,HM!$A$10:$B$209,2))","v":""},null,92,null,{"$f":"IF(I94=\"\",\"\",VLOOKUP(I94,HM!$A$10:$B$209,2))","v":""}]
[null,{"$f":"IF(A95=\"\",\"\",VLOOKUP(A95,HM!$A$10:$B$209,2))","v":""},null,93,null,{"$f":"IF(E95=\"\",\"\",VLOOKUP(E95,HM!$A$10:$B$209,2))","v":""},null,93,null,{"$f":"IF(I95=\"\",\"\",VLOOKUP(I95,HM!$A$10:$B$209,2))","v":""}]
[null,{"$f":"IF(A96=\"\",\"\",VLOOKUP(A96,HM!$A$10:$B$209,2))","v":""},null,94,null,{"$f":"IF(E96=\"\",\"\",VLOOKUP(E96,HM!$A$10:$B$209,2))","v":""},null,94,null,{"$f":"IF(I96=\"\",\"\",VLOOKUP(I96,HM!$A$10:$B$209,2))","v":""}]
[null,{"$f":"IF(A97=\"\",\"\",VLOOKUP(A97,HM!$A$10:$B$209,2))","v":""},null,95,null,{"$f":"IF(E97=\"\",\"\",VLOOKUP(E97,HM!$A$10:$B$209,2))","v":""},null,95,null,{"$f":"IF(I97=\"\",\"\",VLOOKUP(I97,HM!$A$10:$B$209,2))","v":""}]
[null,{"$f":"IF(A98=\"\",\"\",VLOOKUP(A98,HM!$A$10:$B$209,2))","v":""},null,96,null,{"$f":"IF(E98=\"\",\"\",VLOOKUP(E98,HM!$A$10:$B$209,2))","v":""},null,96,null,{"$f":"IF(I98=\"\",\"\",VLOOKUP(I98,HM!$A$10:$B$209,2))","v":""}]
[null,{"$f":"IF(A99=\"\",\"\",VLOOKUP(A99,HM!$A$10:$B$209,2))","v":""},null,97,null,{"$f":"IF(E99=\"\",\"\",VLOOKUP(E99,HM!$A$10:$B$209,2))","v":""},null,97,null,{"$f":"IF(I99=\"\",\"\",VLOOKUP(I99,HM!$A$10:$B$209,2))","v":""}]
[null,{"$f":"IF(A100=\"\",\"\",VLOOKUP(A100,HM!$A$10:$B$209,2))","v":""},null,98,null,{"$f":"IF(E100=\"\",\"\",VLOOKUP(E100,HM!$A$10:$B$209,2))","v":""},null,98,null,{"$f":"IF(I100=\"\",\"\",VLOOKUP(I100,HM!$A$10:$B$209,2))","v":""}]
[null,{"$f":"IF(A101=\"\",\"\",VLOOKUP(A101,HM!$A$10:$B$209,2))","v":""},null,99,null,{"$f":"IF(E101=\"\",\"\",VLOOKUP(E101,HM!$A$10:$B$209,2))","v":""},null,99,null,{"$f":"IF(I101=\"\",\"\",VLOOKUP(I101,HM!$A$10:$B$209,2))","v":""}]
[null,{"$f":"IF(A102=\"\",\"\",VLOOKUP(A102,HM!$A$10:$B$209,2))","v":""},null,100,null,{"$f":"IF(E102=\"\",\"\",VLOOKUP(E102,HM!$A$10:$B$209,2))","v":""},null,100,null,{"$f":"IF(I102=\"\",\"\",VLOOKUP(I102,HM!$A$10:$B$209,2))","v":""}]
[null,{"$f":"IF(A103=\"\",\"\",VLOOKUP(A103,HM!$A$10:$B$209,2))","v":""},null,101,null,{"$f":"IF(E103=\"\",\"\",VLOOKUP(E103,HM!$A$10:$B$209,2))","v":""},null,101,null,{"$f":"IF(I103=\"\",\"\",VLOOKUP(I103,HM!$A$10:$B$209,2))","v":""}]
[null,{"$f":"IF(A104=\"\",\"\",VLOOKUP(A104,HM!$A$10:$B$209,2))","v":""},null,102,null,{"$f":"IF(E104=\"\",\"\",VLOOKUP(E104,HM!$A$10:$B$209,2))","v":""},null,102,null,{"$f":"IF(I104=\"\",\"\",VLOOKUP(I104,HM!$A$10:$B$209,2))","v":""}]
[null,{"$f":"IF(A105=\"\",\"\",VLOOKUP(A105,HM!$A$10:$B$209,2))","v":""},null,103,null,{"$f":"IF(E105=\"\",\"\",VLOOKUP(E105,HM!$A$10:$B$209,2))","v":""},null,103,null,{"$f":"IF(I105=\"\",\"\",VLOOKUP(I105,HM!$A$10:$B$209,2))","v":""}]
[null,{"$f":"IF(A106=\"\",\"\",VLOOKUP(A106,HM!$A$10:$B$209,2))","v":""},null,104,null,{"$f":"IF(E106=\"\",\"\",VLOOKUP(E106,HM!$A$10:$B$209,2))","v":""},null,104,null,{"$f":"IF(I106=\"\",\"\",VLOOKUP(I106,HM!$A$10:$B$209,2))","v":""}]
[null,{"$f":"IF(A107=\"\",\"\",VLOOKUP(A107,HM!$A$10:$B$209,2))","v":""},null,105,null,{"$f":"IF(E107=\"\",\"\",VLOOKUP(E107,HM!$A$10:$B$209,2))","v":""},null,105,null,{"$f":"IF(I107=\"\",\"\",VLOOKUP(I107,HM!$A$10:$B$209,2))","v":""}]
[null,{"$f":"IF(A108=\"\",\"\",VLOOKUP(A108,HM!$A$10:$B$209,2))","v":""},null,106,null,{"$f":"IF(E108=\"\",\"\",VLOOKUP(E108,HM!$A$10:$B$209,2))","v":""},null,106,null,{"$f":"IF(I108=\"\",\"\",VLOOKUP(I108,HM!$A$10:$B$209,2))","v":""}]
[null,{"$f":"IF(A109=\"\",\"\",VLOOKUP(A109,HM!$A$10:$B$209,2))","v":""},null,107,null,{"$f":"IF(E109=\"\",\"\",VLOOKUP(E109,HM!$A$10:$B$209,2))","v":""},null,107,null,{"$f":"IF(I109=\"\",\"\",VLOOKUP(I109,HM!$A$10:$B$209,2))","v":""}]
[null,{"$f":"IF(A110=\"\",\"\",VLOOKUP(A110,HM!$A$10:$B$209,2))","v":""},null,108,null,{"$f":"IF(E110=\"\",\"\",VLOOKUP(E110,HM!$A$10:$B$209,2))","v":""},null,108,null,{"$f":"IF(I110=\"\",\"\",VLOOKUP(I110,HM!$A$10:$B$209,2))","v":""}]
[null,{"$f":"IF(A111=\"\",\"\",VLOOKUP(A111,HM!$A$10:$B$209,2))","v":""},null,109,null,{"$f":"IF(E111=\"\",\"\",VLOOKUP(E111,HM!$A$10:$B$209,2))","v":""},null,109,null,{"$f":"IF(I111=\"\",\"\",VLOOKUP(I111,HM!$A$10:$B$209,2))","v":""}]
[null,{"$f":"IF(A112=\"\",\"\",VLOOKUP(A112,HM!$A$10:$B$209,2))","v":""},null,110,null,{"$f":"IF(E112=\"\",\"\",VLOOKUP(E112,HM!$A$10:$B$209,2))","v":""},null,110,null,{"$f":"IF(I112=\"\",\"\",VLOOKUP(I112,HM!$A$10:$B$209,2))","v":""}]
[null,{"$f":"IF(A113=\"\",\"\",VLOOKUP(A113,HM!$A$10:$B$209,2))","v":""},null,111,null,{"$f":"IF(E113=\"\",\"\",VLOOKUP(E113,HM!$A$10:$B$209,2))","v":""},null,111,null,{"$f":"IF(I113=\"\",\"\",VLOOKUP(I113,HM!$A$10:$B$209,2))","v":""}]
[null,{"$f":"IF(A114=\"\",\"\",VLOOKUP(A114,HM!$A$10:$B$209,2))","v":""},null,112,null,{"$f":"IF(E114=\"\",\"\",VLOOKUP(E114,HM!$A$10:$B$209,2))","v":""},null,112,null,{"$f":"IF(I114=\"\",\"\",VLOOKUP(I114,HM!$A$10:$B$209,2))","v":""}]
[null,{"$f":"IF(A115=\"\",\"\",VLOOKUP(A115,HM!$A$10:$B$209,2))","v":""},null,113,null,{"$f":"IF(E115=\"\",\"\",VLOOKUP(E115,HM!$A$10:$B$209,2))","v":""},null,113,null,{"$f":"IF(I115=\"\",\"\",VLOOKUP(I115,HM!$A$10:$B$209,2))","v":""}]
[null,{"$f":"IF(A116=\"\",\"\",VLOOKUP(A116,HM!$A$10:$B$209,2))","v":""},null,114,null,{"$f":"IF(E116=\"\",\"\",VLOOKUP(E116,HM!$A$10:$B$209,2))","v":""},null,114,null,{"$f":"IF(I116=\"\",\"\",VLOOKUP(I116,HM!$A$10:$B$209,2))","v":""}]
[null,{"$f":"IF(A117=\"\",\"\",VLOOKUP(A117,HM!$A$10:$B$209,2))","v":""},null,115,null,{"$f":"IF(E117=\"\",\"\",VLOOKUP(E117,HM!$A$10:$B$209,2))","v":""},null,115,null,{"$f":"IF(I117=\"\",\"\",VLOOKUP(I117,HM!$A$10:$B$209,2))","v":""}]
[null,{"$f":"IF(A118=\"\",\"\",VLOOKUP(A118,HM!$A$10:$B$209,2))","v":""},null,116,null,{"$f":"IF(E118=\"\",\"\",VLOOKUP(E118,HM!$A$10:$B$209,2))","v":""},null,116,null,{"$f":"IF(I118=\"\",\"\",VLOOKUP(I118,HM!$A$10:$B$209,2))","v":""}]
[null,{"$f":"IF(A119=\"\",\"\",VLOOKUP(A119,HM!$A$10:$B$209,2))","v":""},null,117,null,{"$f":"IF(E119=\"\",\"\",VLOOKUP(E119,HM!$A$10:$B$209,2))","v":""},null,117,null,{"$f":"IF(I119=\"\",\"\",VLOOKUP(I119,HM!$A$10:$B$209,2))","v":""}]
[null,{"$f":"IF(A120=\"\",\"\",VLOOKUP(A120,HM!$A$10:$B$209,2))","v":""},null,118,null,{"$f":"IF(E120=\"\",\"\",VLOOKUP(E120,HM!$A$10:$B$209,2))","v":""},null,118,null,{"$f":"IF(I120=\"\",\"\",VLOOKUP(I120,HM!$A$10:$B$209,2))","v":""}]
[null,{"$f":"IF(A121=\"\",\"\",VLOOKUP(A121,HM!$A$10:$B$209,2))","v":""},null,119,null,{"$f":"IF(E121=\"\",\"\",VLOOKUP(E121,HM!$A$10:$B$209,2))","v":""},null,119,null,{"$f":"IF(I121=\"\",\"\",VLOOKUP(I121,HM!$A$10:$B$209,2))","v":""}]
[null,{"$f":"IF(A122=\"\",\"\",VLOOKUP(A122,HM!$A$10:$B$209,2))","v":""},null,120,null,{"$f":"IF(E122=\"\",\"\",VLOOKUP(E122,HM!$A$10:$B$209,2))","v":""},null,120,null,{"$f":"IF(I122=\"\",\"\",VLOOKUP(I122,HM!$A$10:$B$209,2))","v":""}]
[null,{"$f":"IF(A123=\"\",\"\",VLOOKUP(A123,HM!$A$10:$B$209,2))","v":""},null,121,null,{"$f":"IF(E123=\"\",\"\",VLOOKUP(E123,HM!$A$10:$B$209,2))","v":""},null,121,null,{"$f":"IF(I123=\"\",\"\",VLOOKUP(I123,HM!$A$10:$B$209,2))","v":""}]
[null,{"$f":"IF(A124=\"\",\"\",VLOOKUP(A124,HM!$A$10:$B$209,2))","v":""},null,122,null,{"$f":"IF(E124=\"\",\"\",VLOOKUP(E124,HM!$A$10:$B$209,2))","v":""},null,122,null,{"$f":"IF(I124=\"\",\"\",VLOOKUP(I124,HM!$A$10:$B$209,2))","v":""}]
[null,{"$f":"IF(A125=\"\",\"\",VLOOKUP(A125,HM!$A$10:$B$209,2))","v":""},null,123,null,{"$f":"IF(E125=\"\",\"\",VLOOKUP(E125,HM!$A$10:$B$209,2))","v":""},null,123,null,{"$f":"IF(I125=\"\",\"\",VLOOKUP(I125,HM!$A$10:$B$209,2))","v":""}]
[null,{"$f":"IF(A126=\"\",\"\",VLOOKUP(A126,HM!$A$10:$B$209,2))","v":""},null,124,null,{"$f":"IF(E126=\"\",\"\",VLOOKUP(E126,HM!$A$10:$B$209,2))","v":""},null,124,null,{"$f":"IF(I126=\"\",\"\",VLOOKUP(I126,HM!$A$10:$B$209,2))","v":""}]
[null,{"$f":"IF(A127=\"\",\"\",VLOOKUP(A127,HM!$A$10:$B$209,2))","v":""},null,125,null,{"$f":"IF(E127=\"\",\"\",VLOOKUP(E127,HM!$A$10:$B$209,2))","v":""},null,125,null,{"$f":"IF(I127=\"\",\"\",VLOOKUP(I127,HM!$A$10:$B$209,2))","v":""}]
[null,{"$f":"IF(A128=\"\",\"\",VLOOKUP(A128,HM!$A$10:$B$209,2))","v":""},null,126,null,{"$f":"IF(E128=\"\",\"\",VLOOKUP(E128,HM!$A$10:$B$209,2))","v":""},null,126,null,{"$f":"IF(I128=\"\",\"\",VLOOKUP(I128,HM!$A$10:$B$209,2))","v":""}]
[null,{"$f":"IF(A129=\"\",\"\",VLOOKUP(A129,HM!$A$10:$B$209,2))","v":""},null,127,null,{"$f":"IF(E129=\"\",\"\",VLOOKUP(E129,HM!$A$10:$B$209,2))","v":""},null,127,null,{"$f":"IF(I129=\"\",\"\",VLOOKUP(I129,HM!$A$10:$B$209,2))","v":""}]
[null,{"$f":"IF(A130=\"\",\"\",VLOOKUP(A130,HM!$A$10:$B$209,2))","v":""},null,128,null,{"$f":"IF(E130=\"\",\"\",VLOOKUP(E130,HM!$A$10:$B$209,2))","v":""},null,128,null,{"$f":"IF(I130=\"\",\"\",VLOOKUP(I130,HM!$A$10:$B$209,2))","v":""}]
[null,{"$f":"IF(A131=\"\",\"\",VLOOKUP(A131,HM!$A$10:$B$209,2))","v":""},null,129,null,{"$f":"IF(E131=\"\",\"\",VLOOKUP(E131,HM!$A$10:$B$209,2))","v":""},null,129,null,{"$f":"IF(I131=\"\",\"\",VLOOKUP(I131,HM!$A$10:$B$209,2))","v":""}]
[null,{"$f":"IF(A132=\"\",\"\",VLOOKUP(A132,HM!$A$10:$B$209,2))","v":""},null,130,null,{"$f":"IF(E132=\"\",\"\",VLOOKUP(E132,HM!$A$10:$B$209,2))","v":""},null,130,null,{"$f":"IF(I132=\"\",\"\",VLOOKUP(I132,HM!$A$10:$B$209,2))","v":""}]
[null,{"$f":"IF(A133=\"\",\"\",VLOOKUP(A133,HM!$A$10:$B$209,2))","v":""},null,131,null,{"$f":"IF(E133=\"\",\"\",VLOOKUP(E133,HM!$A$10:$B$209,2))","v":""},null,131,null,{"$f":"IF(I133=\"\",\"\",VLOOKUP(I133,HM!$A$10:$B$209,2))","v":""}]
[null,{"$f":"IF(A134=\"\",\"\",VLOOKUP(A134,HM!$A$10:$B$209,2))","v":""},null,132,null,{"$f":"IF(E134=\"\",\"\",VLOOKUP(E134,HM!$A$10:$B$209,2))","v":""},null,132,null,{"$f":"IF(I134=\"\",\"\",VLOOKUP(I134,HM!$A$10:$B$209,2))","v":""}]
[null,{"$f":"IF(A135=\"\",\"\",VLOOKUP(A135,HM!$A$10:$B$209,2))","v":""},null,133,null,{"$f":"IF(E135=\"\",\"\",VLOOKUP(E135,HM!$A$10:$B$209,2))","v":""},null,133,null,{"$f":"IF(I135=\"\",\"\",VLOOKUP(I135,HM!$A$10:$B$209,2))","v":""}]
[null,{"$f":"IF(A136=\"\",\"\",VLOOKUP(A136,HM!$A$10:$B$209,2))","v":""},null,134,null,{"$f":"IF(E136=\"\",\"\",VLOOKUP(E136,HM!$A$10:$B$209,2))","v":""},null,134,null,{"$f":"IF(I136=\"\",\"\",VLOOKUP(I136,HM!$A$10:$B$209,2))","v":""}]
[null,{"$f":"IF(A137=\"\",\"\",VLOOKUP(A137,HM!$A$10:$B$209,2))","v":""},null,135,null,{"$f":"IF(E137=\"\",\"\",VLOOKUP(E137,HM!$A$10:$B$209,2))","v":""},null,135,null,{"$f":"IF(I137=\"\",\"\",VLOOKUP(I137,HM!$A$10:$B$209,2))","v":""}]
[null,{"$f":"IF(A138=\"\",\"\",VLOOKUP(A138,HM!$A$10:$B$209,2))","v":""},null,136,null,{"$f":"IF(E138=\"\",\"\",VLOOKUP(E138,HM!$A$10:$B$209,2))","v":""},null,136,null,{"$f":"IF(I138=\"\",\"\",VLOOKUP(I138,HM!$A$10:$B$209,2))","v":""}]
[null,{"$f":"IF(A139=\"\",\"\",VLOOKUP(A139,HM!$A$10:$B$209,2))","v":""},null,137,null,{"$f":"IF(E139=\"\",\"\",VLOOKUP(E139,HM!$A$10:$B$209,2))","v":""},null,137,null,{"$f":"IF(I139=\"\",\"\",VLOOKUP(I139,HM!$A$10:$B$209,2))","v":""}]
[null,{"$f":"IF(A140=\"\",\"\",VLOOKUP(A140,HM!$A$10:$B$209,2))","v":""},null,138,null,{"$f":"IF(E140=\"\",\"\",VLOOKUP(E140,HM!$A$10:$B$209,2))","v":""},null,138,null,{"$f":"IF(I140=\"\",\"\",VLOOKUP(I140,HM!$A$10:$B$209,2))","v":""}]
[null,{"$f":"IF(A141=\"\",\"\",VLOOKUP(A141,HM!$A$10:$B$209,2))","v":""},null,139,null,{"$f":"IF(E141=\"\",\"\",VLOOKUP(E141,HM!$A$10:$B$209,2))","v":""},null,139,null,{"$f":"IF(I141=\"\",\"\",VLOOKUP(I141,HM!$A$10:$B$209,2))","v":""}]
[null,{"$f":"IF(A142=\"\",\"\",VLOOKUP(A142,HM!$A$10:$B$209,2))","v":""},null,140,null,{"$f":"IF(E142=\"\",\"\",VLOOKUP(E142,HM!$A$10:$B$209,2))","v":""},null,140,null,{"$f":"IF(I142=\"\",\"\",VLOOKUP(I142,HM!$A$10:$B$209,2))","v":""}]
[null,{"$f":"IF(A143=\"\",\"\",VLOOKUP(A143,HM!$A$10:$B$209,2))","v":""},null,141,null,{"$f":"IF(E143=\"\",\"\",VLOOKUP(E143,HM!$A$10:$B$209,2))","v":""},null,141,null,{"$f":"IF(I143=\"\",\"\",VLOOKUP(I143,HM!$A$10:$B$209,2))","v":""}]
[null,{"$f":"IF(A144=\"\",\"\",VLOOKUP(A144,HM!$A$10:$B$209,2))","v":""},null,142,null,{"$f":"IF(E144=\"\",\"\",VLOOKUP(E144,HM!$A$10:$B$209,2))","v":""},null,142,null,{"$f":"IF(I144=\"\",\"\",VLOOKUP(I144,HM!$A$10:$B$209,2))","v":""}]
[null,{"$f":"IF(A145=\"\",\"\",VLOOKUP(A145,HM!$A$10:$B$209,2))","v":""},null,143,null,{"$f":"IF(E145=\"\",\"\",VLOOKUP(E145,HM!$A$10:$B$209,2))","v":""},null,143,null,{"$f":"IF(I145=\"\",\"\",VLOOKUP(I145,HM!$A$10:$B$209,2))","v":""}]
[null,{"$f":"IF(A146=\"\",\"\",VLOOKUP(A146,HM!$A$10:$B$209,2))","v":""},null,144,null,{"$f":"IF(E146=\"\",\"\",VLOOKUP(E146,HM!$A$10:$B$209,2))","v":""},null,144,null,{"$f":"IF(I146=\"\",\"\",VLOOKUP(I146,HM!$A$10:$B$209,2))","v":""}]
[null,{"$f":"IF(A147=\"\",\"\",VLOOKUP(A147,HM!$A$10:$B$209,2))","v":""},null,145,null,{"$f":"IF(E147=\"\",\"\",VLOOKUP(E147,HM!$A$10:$B$209,2))","v":""},null,145,null,{"$f":"IF(I147=\"\",\"\",VLOOKUP(I147,HM!$A$10:$B$209,2))","v":""}]
[null,{"$f":"IF(A148=\"\",\"\",VLOOKUP(A148,HM!$A$10:$B$209,2))","v":""},null,146,null,{"$f":"IF(E148=\"\",\"\",VLOOKUP(E148,HM!$A$10:$B$209,2))","v":""},null,146,null,{"$f":"IF(I148=\"\",\"\",VLOOKUP(I148,HM!$A$10:$B$209,2))","v":""}]
[null,{"$f":"IF(A149=\"\",\"\",VLOOKUP(A149,HM!$A$10:$B$209,2))","v":""},null,147,null,{"$f":"IF(E149=\"\",\"\",VLOOKUP(E149,HM!$A$10:$B$209,2))","v":""},null,147,null,{"$f":"IF(I149=\"\",\"\",VLOOKUP(I149,HM!$A$10:$B$209,2))","v":""}]
[null,{"$f":"IF(A150=\"\",\"\",VLOOKUP(A150,HM!$A$10:$B$209,2))","v":""},null,148,null,{"$f":"IF(E150=\"\",\"\",VLOOKUP(E150,HM!$A$10:$B$209,2))","v":""},null,148,null,{"$f":"IF(I150=\"\",\"\",VLOOKUP(I150,HM!$A$10:$B$209,2))","v":""}]
[null,{"$f":"IF(A151=\"\",\"\",VLOOKUP(A151,HM!$A$10:$B$209,2))","v":""},null,149,null,{"$f":"IF(E151=\"\",\"\",VLOOKUP(E151,HM!$A$10:$B$209,2))","v":""},null,149,null,{"$f":"IF(I151=\"\",\"\",VLOOKUP(I151,HM!$A$10:$B$209,2))","v":""}]
[null,{"$f":"IF(A152=\"\",\"\",VLOOKUP(A152,HM!$A$10:$B$209,2))","v":""},null,150,null,{"$f":"IF(E152=\"\",\"\",VLOOKUP(E152,HM!$A$10:$B$209,2))","v":""},null,150,null,{"$f":"IF(I152=\"\",\"\",VLOOKUP(I152,HM!$A$10:$B$209,2))","v":""}]
[null,{"$f":"IF(A153=\"\",\"\",VLOOKUP(A153,HM!$A$10:$B$209,2))","v":""},null,151,null,{"$f":"IF(E153=\"\",\"\",VLOOKUP(E153,HM!$A$10:$B$209,2))","v":""},null,151,null,{"$f":"IF(I153=\"\",\"\",VLOOKUP(I153,HM!$A$10:$B$209,2))","v":""}]
[null,{"$f":"IF(A154=\"\",\"\",VLOOKUP(A154,HM!$A$10:$B$209,2))","v":""},null,152,null,{"$f":"IF(E154=\"\",\"\",VLOOKUP(E154,HM!$A$10:$B$209,2))","v":""},null,152,null,{"$f":"IF(I154=\"\",\"\",VLOOKUP(I154,HM!$A$10:$B$209,2))","v":""}]
[null,{"$f":"IF(A155=\"\",\"\",VLOOKUP(A155,HM!$A$10:$B$209,2))","v":""},null,153,null,{"$f":"IF(E155=\"\",\"\",VLOOKUP(E155,HM!$A$10:$B$209,2))","v":""},null,153,null,{"$f":"IF(I155=\"\",\"\",VLOOKUP(I155,HM!$A$10:$B$209,2))","v":""}]
[null,{"$f":"IF(A156=\"\",\"\",VLOOKUP(A156,HM!$A$10:$B$209,2))","v":""},null,154,null,{"$f":"IF(E156=\"\",\"\",VLOOKUP(E156,HM!$A$10:$B$209,2))","v":""},null,154,null,{"$f":"IF(I156=\"\",\"\",VLOOKUP(I156,HM!$A$10:$B$209,2))","v":""}]
[null,{"$f":"IF(A157=\"\",\"\",VLOOKUP(A157,HM!$A$10:$B$209,2))","v":""},null,155,null,{"$f":"IF(E157=\"\",\"\",VLOOKUP(E157,HM!$A$10:$B$209,2))","v":""},null,155,null,{"$f":"IF(I157=\"\",\"\",VLOOKUP(I157,HM!$A$10:$B$209,2))","v":""}]
[null,{"$f":"IF(A158=\"\",\"\",VLOOKUP(A158,HM!$A$10:$B$209,2))","v":""},null,156,null,{"$f":"IF(E158=\"\",\"\",VLOOKUP(E158,HM!$A$10:$B$209,2))","v":""},null,156,null,{"$f":"IF(I158=\"\",\"\",VLOOKUP(I158,HM!$A$10:$B$209,2))","v":""}]
[null,{"$f":"IF(A159=\"\",\"\",VLOOKUP(A159,HM!$A$10:$B$209,2))","v":""},null,157,null,{"$f":"IF(E159=\"\",\"\",VLOOKUP(E159,HM!$A$10:$B$209,2))","v":""},null,157,null,{"$f":"IF(I159=\"\",\"\",VLOOKUP(I159,HM!$A$10:$B$209,2))","v":""}]
[null,{"$f":"IF(A160=\"\",\"\",VLOOKUP(A160,HM!$A$10:$B$209,2))","v":""},null,158,null,{"$f":"IF(E160=\"\",\"\",VLOOKUP(E160,HM!$A$10:$B$209,2))","v":""},null,158,null,{"$f":"IF(I160=\"\",\"\",VLOOKUP(I160,HM!$A$10:$B$209,2))","v":""}]
[null,{"$f":"IF(A161=\"\",\"\",VLOOKUP(A161,HM!$A$10:$B$209,2))","v":""},null,159,null,{"$f":"IF(E161=\"\",\"\",VLOOKUP(E161,HM!$A$10:$B$209,2))","v":""},null,159,null,{"$f":"IF(I161=\"\",\"\",VLOOKUP(I161,HM!$A$10:$B$209,2))","v":""}]
[null,{"$f":"IF(A162=\"\",\"\",VLOOKUP(A162,HM!$A$10:$B$209,2))","v":""},null,160,null,{"$f":"IF(E162=\"\",\"\",VLOOKUP(E162,HM!$A$10:$B$209,2))","v":""},null,160,null,{"$f":"IF(I162=\"\",\"\",VLOOKUP(I162,HM!$A$10:$B$209,2))","v":""}]
[null,{"$f":"IF(A163=\"\",\"\",VLOOKUP(A163,HM!$A$10:$B$209,2))","v":""},null,161,null,{"$f":"IF(E163=\"\",\"\",VLOOKUP(E163,HM!$A$10:$B$209,2))","v":""},null,161,null,{"$f":"IF(I163=\"\",\"\",VLOOKUP(I163,HM!$A$10:$B$209,2))","v":""}]
[null,{"$f":"IF(A164=\"\",\"\",VLOOKUP(A164,HM!$A$10:$B$209,2))","v":""},null,162,null,{"$f":"IF(E164=\"\",\"\",VLOOKUP(E164,HM!$A$10:$B$209,2))","v":""},null,162,null,{"$f":"IF(I164=\"\",\"\",VLOOKUP(I164,HM!$A$10:$B$209,2))","v":""}]
[null,{"$f":"IF(A165=\"\",\"\",VLOOKUP(A165,HM!$A$10:$B$209,2))","v":""},null,163,null,{"$f":"IF(E165=\"\",\"\",VLOOKUP(E165,HM!$A$10:$B$209,2))","v":""},null,163,null,{"$f":"IF(I165=\"\",\"\",VLOOKUP(I165,HM!$A$10:$B$209,2))","v":""}]
[null,{"$f":"IF(A166=\"\",\"\",VLOOKUP(A166,HM!$A$10:$B$209,2))","v":""},null,164,null,{"$f":"IF(E166=\"\",\"\",VLOOKUP(E166,HM!$A$10:$B$209,2))","v":""},null,164,null,{"$f":"IF(I166=\"\",\"\",VLOOKUP(I166,HM!$A$10:$B$209,2))","v":""}]
[null,{"$f":"IF(A167=\"\",\"\",VLOOKUP(A167,HM!$A$10:$B$209,2))","v":""},null,165,null,{"$f":"IF(E167=\"\",\"\",VLOOKUP(E167,HM!$A$10:$B$209,2))","v":""},null,165,null,{"$f":"IF(I167=\"\",\"\",VLOOKUP(I167,HM!$A$10:$B$209,2))","v":""}]
[null,{"$f":"IF(A168=\"\",\"\",VLOOKUP(A168,HM!$A$10:$B$209,2))","v":""},null,166,null,{"$f":"IF(E168=\"\",\"\",VLOOKUP(E168,HM!$A$10:$B$209,2))","v":""},null,166,null,{"$f":"IF(I168=\"\",\"\",VLOOKUP(I168,HM!$A$10:$B$209,2))","v":""}]
[null,{"$f":"IF(A169=\"\",\"\",VLOOKUP(A169,HM!$A$10:$B$209,2))","v":""},null,167,null,{"$f":"IF(E169=\"\",\"\",VLOOKUP(E169,HM!$A$10:$B$209,2))","v":""},null,167,null,{"$f":"IF(I169=\"\",\"\",VLOOKUP(I169,HM!$A$10:$B$209,2))","v":""}]
[null,{"$f":"IF(A170=\"\",\"\",VLOOKUP(A170,HM!$A$10:$B$209,2))","v":""},null,168,null,{"$f":"IF(E170=\"\",\"\",VLOOKUP(E170,HM!$A$10:$B$209,2))","v":""},null,168,null,{"$f":"IF(I170=\"\",\"\",VLOOKUP(I170,HM!$A$10:$B$209,2))","v":""}]
[null,{"$f":"IF(A171=\"\",\"\",VLOOKUP(A171,HM!$A$10:$B$209,2))","v":""},null,169,null,{"$f":"IF(E171=\"\",\"\",VLOOKUP(E171,HM!$A$10:$B$209,2))","v":""},null,169,null,{"$f":"IF(I171=\"\",\"\",VLOOKUP(I171,HM!$A$10:$B$209,2))","v":""}]
[null,{"$f":"IF(A172=\"\",\"\",VLOOKUP(A172,HM!$A$10:$B$209,2))","v":""},null,170,null,{"$f":"IF(E172=\"\",\"\",VLOOKUP(E172,HM!$A$10:$B$209,2))","v":""},null,170,null,{"$f":"IF(I172=\"\",\"\",VLOOKUP(I172,HM!$A$10:$B$209,2))","v":""}]
[null,{"$f":"IF(A173=\"\",\"\",VLOOKUP(A173,HM!$A$10:$B$209,2))","v":""},null,171,null,{"$f":"IF(E173=\"\",\"\",VLOOKUP(E173,HM!$A$10:$B$209,2))","v":""},null,171,null,{"$f":"IF(I173=\"\",\"\",VLOOKUP(I173,HM!$A$10:$B$209,2))","v":""}]
[null,{"$f":"IF(A174=\"\",\"\",VLOOKUP(A174,HM!$A$10:$B$209,2))","v":""},null,172,null,{"$f":"IF(E174=\"\",\"\",VLOOKUP(E174,HM!$A$10:$B$209,2))","v":""},null,172,null,{"$f":"IF(I174=\"\",\"\",VLOOKUP(I174,HM!$A$10:$B$209,2))","v":""}]
[null,{"$f":"IF(A175=\"\",\"\",VLOOKUP(A175,HM!$A$10:$B$209,2))","v":""},null,173,null,{"$f":"IF(E175=\"\",\"\",VLOOKUP(E175,HM!$A$10:$B$209,2))","v":""},null,173,null,{"$f":"IF(I175=\"\",\"\",VLOOKUP(I175,HM!$A$10:$B$209,2))","v":""}]
[null,{"$f":"IF(A176=\"\",\"\",VLOOKUP(A176,HM!$A$10:$B$209,2))","v":""},null,174,null,{"$f":"IF(E176=\"\",\"\",VLOOKUP(E176,HM!$A$10:$B$209,2))","v":""},null,174,null,{"$f":"IF(I176=\"\",\"\",VLOOKUP(I176,HM!$A$10:$B$209,2))","v":""}]
[null,{"$f":"IF(A177=\"\",\"\",VLOOKUP(A177,HM!$A$10:$B$209,2))","v":""},null,175,null,{"$f":"IF(E177=\"\",\"\",VLOOKUP(E177,HM!$A$10:$B$209,2))","v":""},null,175,null,{"$f":"IF(I177=\"\",\"\",VLOOKUP(I177,HM!$A$10:$B$209,2))","v":""}]
[null,{"$f":"IF(A178=\"\",\"\",VLOOKUP(A178,HM!$A$10:$B$209,2))","v":""},null,176,null,{"$f":"IF(E178=\"\",\"\",VLOOKUP(E178,HM!$A$10:$B$209,2))","v":""},null,176,null,{"$f":"IF(I178=\"\",\"\",VLOOKUP(I178,HM!$A$10:$B$209,2))","v":""}]
[null,{"$f":"IF(A179=\"\",\"\",VLOOKUP(A179,HM!$A$10:$B$209,2))","v":""},null,177,null,{"$f":"IF(E179=\"\",\"\",VLOOKUP(E179,HM!$A$10:$B$209,2))","v":""},null,177,null,{"$f":"IF(I179=\"\",\"\",VLOOKUP(I179,HM!$A$10:$B$209,2))","v":""}]
[null,{"$f":"IF(A180=\"\",\"\",VLOOKUP(A180,HM!$A$10:$B$209,2))","v":""},null,178,null,{"$f":"IF(E180=\"\",\"\",VLOOKUP(E180,HM!$A$10:$B$209,2))","v":""},null,178,null,{"$f":"IF(I180=\"\",\"\",VLOOKUP(I180,HM!$A$10:$B$209,2))","v":""}]
[null,{"$f":"IF(A181=\"\",\"\",VLOOKUP(A181,HM!$A$10:$B$209,2))","v":""},null,179,null,{"$f":"IF(E181=\"\",\"\",VLOOKUP(E181,HM!$A$10:$B$209,2))","v":""},null,179,null,{"$f":"IF(I181=\"\",\"\",VLOOKUP(I181,HM!$A$10:$B$209,2))","v":""}]
[null,{"$f":"IF(A182=\"\",\"\",VLOOKUP(A182,HM!$A$10:$B$209,2))","v":""},null,180,null,{"$f":"IF(E182=\"\",\"\",VLOOKUP(E182,HM!$A$10:$B$209,2))","v":""},null,180,null,{"$f":"IF(I182=\"\",\"\",VLOOKUP(I182,HM!$A$10:$B$209,2))","v":""}]
[null,{"$f":"IF(A183=\"\",\"\",VLOOKUP(A183,HM!$A$10:$B$209,2))","v":""},null,181,null,{"$f":"IF(E183=\"\",\"\",VLOOKUP(E183,HM!$A$10:$B$209,2))","v":""},null,181,null,{"$f":"IF(I183=\"\",\"\",VLOOKUP(I183,HM!$A$10:$B$209,2))","v":""}]
[null,{"$f":"IF(A184=\"\",\"\",VLOOKUP(A184,HM!$A$10:$B$209,2))","v":""},null,182,null,{"$f":"IF(E184=\"\",\"\",VLOOKUP(E184,HM!$A$10:$B$209,2))","v":""},null,182,null,{"$f":"IF(I184=\"\",\"\",VLOOKUP(I184,HM!$A$10:$B$209,2))","v":""}]
[null,{"$f":"IF(A185=\"\",\"\",VLOOKUP(A185,HM!$A$10:$B$209,2))","v":""},null,183,null,{"$f":"IF(E185=\"\",\"\",VLOOKUP(E185,HM!$A$10:$B$209,2))","v":""},null,183,null,{"$f":"IF(I185=\"\",\"\",VLOOKUP(I185,HM!$A$10:$B$209,2))","v":""}]
[null,{"$f":"IF(A186=\"\",\"\",VLOOKUP(A186,HM!$A$10:$B$209,2))","v":""},null,184,null,{"$f":"IF(E186=\"\",\"\",VLOOKUP(E186,HM!$A$10:$B$209,2))","v":""},null,184,null,{"$f":"IF(I186=\"\",\"\",VLOOKUP(I186,HM!$A$10:$B$209,2))","v":""}]
[null,{"$f":"IF(A187=\"\",\"\",VLOOKUP(A187,HM!$A$10:$B$209,2))","v":""},null,185,null,{"$f":"IF(E187=\"\",\"\",VLOOKUP(E187,HM!$A$10:$B$209,2))","v":""},null,185,null,{"$f":"IF(I187=\"\",\"\",VLOOKUP(I187,HM!$A$10:$B$209,2))","v":""}]
[null,{"$f":"IF(A188=\"\",\"\",VLOOKUP(A188,HM!$A$10:$B$209,2))","v":""},null,186,null,{"$f":"IF(E188=\"\",\"\",VLOOKUP(E188,HM!$A$10:$B$209,2))","v":""},null,186,null,{"$f":"IF(I188=\"\",\"\",VLOOKUP(I188,HM!$A$10:$B$209,2))","v":""}]
[null,{"$f":"IF(A189=\"\",\"\",VLOOKUP(A189,HM!$A$10:$B$209,2))","v":""},null,187,null,{"$f":"IF(E189=\"\",\"\",VLOOKUP(E189,HM!$A$10:$B$209,2))","v":""},null,187,null,{"$f":"IF(I189=\"\",\"\",VLOOKUP(I189,HM!$A$10:$B$209,2))","v":""}]
[null,{"$f":"IF(A190=\"\",\"\",VLOOKUP(A190,HM!$A$10:$B$209,2))","v":""},null,188,null,{"$f":"IF(E190=\"\",\"\",VLOOKUP(E190,HM!$A$10:$B$209,2))","v":""},null,188,null,{"$f":"IF(I190=\"\",\"\",VLOOKUP(I190,HM!$A$10:$B$209,2))","v":""}]
[null,{"$f":"IF(A191=\"\",\"\",VLOOKUP(A191,HM!$A$10:$B$209,2))","v":""},null,189,null,{"$f":"IF(E191=\"\",\"\",VLOOKUP(E191,HM!$A$10:$B$209,2))","v":""},null,189,null,{"$f":"IF(I191=\"\",\"\",VLOOKUP(I191,HM!$A$10:$B$209,2))","v":""}]
[null,{"$f":"IF(A192=\"\",\"\",VLOOKUP(A192,HM!$A$10:$B$209,2))","v":""},null,190,null,{"$f":"IF(E192=\"\",\"\",VLOOKUP(E192,HM!$A$10:$B$209,2))","v":""},null,190,null,{"$f":"IF(I192=\"\",\"\",VLOOKUP(I192,HM!$A$10:$B$209,2))","v":""}]
[null,{"$f":"IF(A193=\"\",\"\",VLOOKUP(A193,HM!$A$10:$B$209,2))","v":""},null,191,null,{"$f":"IF(E193=\"\",\"\",VLOOKUP(E193,HM!$A$10:$B$209,2))","v":""},null,191,null,{"$f":"IF(I193=\"\",\"\",VLOOKUP(I193,HM!$A$10:$B$209,2))","v":""}]
[null,{"$f":"IF(A194=\"\",\"\",VLOOKUP(A194,HM!$A$10:$B$209,2))","v":""},null,192,null,{"$f":"IF(E194=\"\",\"\",VLOOKUP(E194,HM!$A$10:$B$209,2))","v":""},null,192,null,{"$f":"IF(I194=\"\",\"\",VLOOKUP(I194,HM!$A$10:$B$209,2))","v":""}]
[null,{"$f":"IF(A195=\"\",\"\",VLOOKUP(A195,HM!$A$10:$B$209,2))","v":""},null,193,null,{"$f":"IF(E195=\"\",\"\",VLOOKUP(E195,HM!$A$10:$B$209,2))","v":""},null,193,null,{"$f":"IF(I195=\"\",\"\",VLOOKUP(I195,HM!$A$10:$B$209,2))","v":""}]
[null,{"$f":"IF(A196=\"\",\"\",VLOOKUP(A196,HM!$A$10:$B$209,2))","v":""},null,194,null,{"$f":"IF(E196=\"\",\"\",VLOOKUP(E196,HM!$A$10:$B$209,2))","v":""},null,194,null,{"$f":"IF(I196=\"\",\"\",VLOOKUP(I196,HM!$A$10:$B$209,2))","v":""}]
[null,{"$f":"IF(A197=\"\",\"\",VLOOKUP(A197,HM!$A$10:$B$209,2))","v":""},null,195,null,{"$f":"IF(E197=\"\",\"\",VLOOKUP(E197,HM!$A$10:$B$209,2))","v":""},null,195,null,{"$f":"IF(I197=\"\",\"\",VLOOKUP(I197,HM!$A$10:$B$209,2))","v":""}]
[null,{"$f":"IF(A198=\"\",\"\",VLOOKUP(A198,HM!$A$10:$B$209,2))","v":""},null,196,null,{"$f":"IF(E198=\"\",\"\",VLOOKUP(E198,HM!$A$10:$B$209,2))","v":""},null,196,null,{"$f":"IF(I198=\"\",\"\",VLOOKUP(I198,HM!$A$10:$B$209,2))","v":""}]
[null,{"$f":"IF(A199=\"\",\"\",VLOOKUP(A199,HM!$A$10:$B$209,2))","v":""},null,197,null,{"$f":"IF(E199=\"\",\"\",VLOOKUP(E199,HM!$A$10:$B$209,2))","v":""},null,197,null,{"$f":"IF(I199=\"\",\"\",VLOOKUP(I199,HM!$A$10:$B$209,2))","v":""}]
[null,{"$f":"IF(A200=\"\",\"\",VLOOKUP(A200,HM!$A$10:$B$209,2))","v":""},null,198,null,{"$f":"IF(E200=\"\",\"\",VLOOKUP(E200,HM!$A$10:$B$209,2))","v":""},null,198,null,{"$f":"IF(I200=\"\",\"\",VLOOKUP(I200,HM!$A$10:$B$209,2))","v":""}]
[null,{"$f":"IF(A201=\"\",\"\",VLOOKUP(A201,HM!$A$10:$B$209,2))","v":""},null,199,null,{"$f":"IF(E201=\"\",\"\",VLOOKUP(E201,HM!$A$10:$B$209,2))","v":""},null,199,null,{"$f":"IF(I201=\"\",\"\",VLOOKUP(I201,HM!$A$10:$B$209,2))","v":""}]
[null,{"$f":"IF(A202=\"\",\"\",VLOOKUP(A202,HM!$A$10:$B$209,2))","v":""},null,200,null,{"$f":"IF(E202=\"\",\"\",VLOOKUP(E202,HM!$A$10:$B$209,2))","v":""},null,200,null,{"$f":"IF(I202=\"\",\"\",VLOOKUP(I202,HM!$A$10:$B$209,2))","v":""}]

{"sheet":"BPBPS","index":8,"n_rows":202,"n_cols":12,"rows_kept":202,"cut":false,"hidden":false,"merged":[[0,1,0,3],[0,5,0,7],[0,9,0,11]]}
[null,"Bogenpokal",null,null,null,"Bogenpokal\n- Schüler -",null,null,null,"Bogen\nPreisschießen"]
[null,"Lfd. \nNr.:","Vor- und Nachname:","Ringe",null,"Lfd. \nNr.:","Vor- und Nachname:","Ringe",null,"Lfd. \nNr.:","Vor- und Nachname:","Ringe"]
[1,null,{"$f":"IF(B3=\"\",\"\",VLOOKUP(B3,HM!$A$10:$B$209,2))","v":""},null,1,null,{"$f":"IF(F3=\"\",\"\",VLOOKUP(F3,HM!$A$10:$B$209,2))","v":""},null,1,null,{"$f":"IF(J3=\"\",\"\",VLOOKUP(J3,HM!$A$10:$B$209,2))","v":""}]
[2,null,{"$f":"IF(B4=\"\",\"\",VLOOKUP(B4,HM!$A$10:$B$209,2))","v":""},null,2,null,{"$f":"IF(F4=\"\",\"\",VLOOKUP(F4,HM!$A$10:$B$209,2))","v":""},null,2,null,{"$f":"IF(J4=\"\",\"\",VLOOKUP(J4,HM!$A$10:$B$209,2))","v":""}]
[3,null,{"$f":"IF(B5=\"\",\"\",VLOOKUP(B5,HM!$A$10:$B$209,2))","v":""},null,3,null,{"$f":"IF(F5=\"\",\"\",VLOOKUP(F5,HM!$A$10:$B$209,2))","v":""},null,3,null,{"$f":"IF(J5=\"\",\"\",VLOOKUP(J5,HM!$A$10:$B$209,2))","v":""}]
[4,null,{"$f":"IF(B6=\"\",\"\",VLOOKUP(B6,HM!$A$10:$B$209,2))","v":""},null,4,null,{"$f":"IF(F6=\"\",\"\",VLOOKUP(F6,HM!$A$10:$B$209,2))","v":""},null,4,null,{"$f":"IF(J6=\"\",\"\",VLOOKUP(J6,HM!$A$10:$B$209,2))","v":""}]
[5,null,{"$f":"IF(B7=\"\",\"\",VLOOKUP(B7,HM!$A$10:$B$209,2))","v":""},null,5,null,{"$f":"IF(F7=\"\",\"\",VLOOKUP(F7,HM!$A$10:$B$209,2))","v":""},null,5,null,{"$f":"IF(J7=\"\",\"\",VLOOKUP(J7,HM!$A$10:$B$209,2))","v":""}]
[6,null,{"$f":"IF(B8=\"\",\"\",VLOOKUP(B8,HM!$A$10:$B$209,2))","v":""},null,6,null,{"$f":"IF(F8=\"\",\"\",VLOOKUP(F8,HM!$A$10:$B$209,2))","v":""},null,6,null,{"$f":"IF(J8=\"\",\"\",VLOOKUP(J8,HM!$A$10:$B$209,2))","v":""}]
[7,null,{"$f":"IF(B9=\"\",\"\",VLOOKUP(B9,HM!$A$10:$B$209,2))","v":""},null,7,null,{"$f":"IF(F9=\"\",\"\",VLOOKUP(F9,HM!$A$10:$B$209,2))","v":""},null,7,null,{"$f":"IF(J9=\"\",\"\",VLOOKUP(J9,HM!$A$10:$B$209,2))","v":""}]
[8,null,{"$f":"IF(B10=\"\",\"\",VLOOKUP(B10,HM!$A$10:$B$209,2))","v":""},null,8,null,{"$f":"IF(F10=\"\",\"\",VLOOKUP(F10,HM!$A$10:$B$209,2))","v":""},null,8,null,{"$f":"IF(J10=\"\",\"\",VLOOKUP(J10,HM!$A$10:$B$209,2))","v":""}]
[9,null,{"$f":"IF(B11=\"\",\"\",VLOOKUP(B11,HM!$A$10:$B$209,2))","v":""},null,9,null,{"$f":"IF(F11=\"\",\"\",VLOOKUP(F11,HM!$A$10:$B$209,2))","v":""},null,9,null,{"$f":"IF(J11=\"\",\"\",VLOOKUP(J11,HM!$A$10:$B$209,2))","v":""}]
[10,null,{"$f":"IF(B12=\"\",\"\",VLOOKUP(B12,HM!$A$10:$B$209,2))","v":""},null,10,null,{"$f":"IF(F12=\"\",\"\",VLOOKUP(F12,HM!$A$10:$B$209,2))","v":""},null,10,null,{"$f":"IF(J12=\"\",\"\",VLOOKUP(J12,HM!$A$10:$B$209,2))","v":""}]
[11,null,{"$f":"IF(B13=\"\",\"\",VLOOKUP(B13,HM!$A$10:$B$209,2))","v":""},null,11,null,{"$f":"IF(F13=\"\",\"\",VLOOKUP(F13,HM!$A$10:$B$209,2))","v":""},null,11,null,{"$f":"IF(J13=\"\",\"\",VLOOKUP(J13,HM!$A$10:$B$209,2))","v":""}]
[12,null,{"$f":"IF(B14=\"\",\"\",VLOOKUP(B14,HM!$A$10:$B$209,2))","v":""},null,12,null,{"$f":"IF(F14=\"\",\"\",VLOOKUP(F14,HM!$A$10:$B$209,2))","v":""},null,12,null,{"$f":"IF(J14=\"\",\"\",VLOOKUP(J14,HM!$A$10:$B$209,2))","v":""}]
[13,null,{"$f":"IF(B15=\"\",\"\",VLOOKUP(B15,HM!$A$10:$B$209,2))","v":""},null,13,null,{"$f":"IF(F15=\"\",\"\",VLOOKUP(F15,HM!$A$10:$B$209,2))","v":""},null,13,null,{"$f":"IF(J15=\"\",\"\",VLOOKUP(J15,HM!$A$10:$B$209,2))","v":""}]
[14,null,{"$f":"IF(B16=\"\",\"\",VLOOKUP(B16,HM!$A$10:$B$209,2))","v":""},null,14,null,{"$f":"IF(F16=\"\",\"\",VLOOKUP(F16,HM!$A$10:$B$209,2))","v":""},null,14,null,{"$f":"IF(J16=\"\",\"\",VLOOKUP(J16,HM!$A$10:$B$209,2))","v":""}]
[15,null,{"$f":"IF(B17=\"\",\"\",VLOOKUP(B17,HM!$A$10:$B$209,2))","v":""},null,15,null,{"$f":"IF(F17=\"\",\"\",VLOOKUP(F17,HM!$A$10:$B$209,2))","v":""},null,15,null,{"$f":"IF(J17=\"\",\"\",VLOOKUP(J17,HM!$A$10:$B$209,2))","v":""}]
[16,null,{"$f":"IF(B18=\"\",\"\",VLOOKUP(B18,HM!$A$10:$B$209,2))","v":""},null,16,null,{"$f":"IF(F18=\"\",\"\",VLOOKUP(F18,HM!$A$10:$B$209,2))","v":""},null,16,null,{"$f":"IF(J18=\"\",\"\",VLOOKUP(J18,HM!$A$10:$B$209,2))","v":""}]
[17,null,{"$f":"IF(B19=\"\",\"\",VLOOKUP(B19,HM!$A$10:$B$209,2))","v":""},null,17,null,{"$f":"IF(F19=\"\",\"\",VLOOKUP(F19,HM!$A$10:$B$209,2))","v":""},null,17,null,{"$f":"IF(J19=\"\",\"\",VLOOKUP(J19,HM!$A$10:$B$209,2))","v":""}]
[18,null,{"$f":"IF(B20=\"\",\"\",VLOOKUP(B20,HM!$A$10:$B$209,2))","v":""},null,18,null,{"$f":"IF(F20=\"\",\"\",VLOOKUP(F20,HM!$A$10:$B$209,2))","v":""},null,18,null,{"$f":"IF(J20=\"\",\"\",VLOOKUP(J20,HM!$A$10:$B$209,2))","v":""}]
[19,null,{"$f":"IF(B21=\"\",\"\",VLOOKUP(B21,HM!$A$10:$B$209,2))","v":""},null,19,null,{"$f":"IF(F21=\"\",\"\",VLOOKUP(F21,HM!$A$10:$B$209,2))","v":""},null,19,null,{"$f":"IF(J21=\"\",\"\",VLOOKUP(J21,HM!$A$10:$B$209,2))","v":""}]
[20,null,{"$f":"IF(B22=\"\",\"\",VLOOKUP(B22,HM!$A$10:$B$209,2))","v":""},null,20,null,{"$f":"IF(F22=\"\",\"\",VLOOKUP(F22,HM!$A$10:$B$209,2))","v":""},null,20,null,{"$f":"IF(J22=\"\",\"\",VLOOKUP(J22,HM!$A$10:$B$209,2))","v":""}]
[21,null,{"$f":"IF(B23=\"\",\"\",VLOOKUP(B23,HM!$A$10:$B$209,2))","v":""},null,21,null,{"$f":"IF(F23=\"\",\"\",VLOOKUP(F23,HM!$A$10:$B$209,2))","v":""},null,21,null,{"$f":"IF(J23=\"\",\"\",VLOOKUP(J23,HM!$A$10:$B$209,2))","v":""}]
[22,null,{"$f":"IF(B24=\"\",\"\",VLOOKUP(B24,HM!$A$10:$B$209,2))","v":""},null,22,null,{"$f":"IF(F24=\"\",\"\",VLOOKUP(F24,HM!$A$10:$B$209,2))","v":""},null,22,null,{"$f":"IF(J24=\"\",\"\",VLOOKUP(J24,HM!$A$10:$B$209,2))","v":""}]
[23,null,{"$f":"IF(B25=\"\",\"\",VLOOKUP(B25,HM!$A$10:$B$209,2))","v":""},null,23,null,{"$f":"IF(F25=\"\",\"\",VLOOKUP(F25,HM!$A$10:$B$209,2))","v":""},null,23,null,{"$f":"IF(J25=\"\",\"\",VLOOKUP(J25,HM!$A$10:$B$209,2))","v":""}]
[24,null,{"$f":"IF(B26=\"\",\"\",VLOOKUP(B26,HM!$A$10:$B$209,2))","v":""},null,24,null,{"$f":"IF(F26=\"\",\"\",VLOOKUP(F26,HM!$A$10:$B$209,2))","v":""},null,24,null,{"$f":"IF(J26=\"\",\"\",VLOOKUP(J26,HM!$A$10:$B$209,2))","v":""}]
[25,null,{"$f":"IF(B27=\"\",\"\",VLOOKUP(B27,HM!$A$10:$B$209,2))","v":""},null,25,null,{"$f":"IF(F27=\"\",\"\",VLOOKUP(F27,HM!$A$10:$B$209,2))","v":""},null,25,null,{"$f":"IF(J27=\"\",\"\",VLOOKUP(J27,HM!$A$10:$B$209,2))","v":""}]
[26,null,{"$f":"IF(B28=\"\",\"\",VLOOKUP(B28,HM!$A$10:$B$209,2))","v":""},null,26,null,{"$f":"IF(F28=\"\",\"\",VLOOKUP(F28,HM!$A$10:$B$209,2))","v":""},null,26,null,{"$f":"IF(J28=\"\",\"\",VLOOKUP(J28,HM!$A$10:$B$209,2))","v":""}]
[27,null,{"$f":"IF(B29=\"\",\"\",VLOOKUP(B29,HM!$A$10:$B$209,2))","v":""},null,27,null,{"$f":"IF(F29=\"\",\"\",VLOOKUP(F29,HM!$A$10:$B$209,2))","v":""},null,27,null,{"$f":"IF(J29=\"\",\"\",VLOOKUP(J29,HM!$A$10:$B$209,2))","v":""}]
[28,null,{"$f":"IF(B30=\"\",\"\",VLOOKUP(B30,HM!$A$10:$B$209,2))","v":""},null,28,null,{"$f":"IF(F30=\"\",\"\",VLOOKUP(F30,HM!$A$10:$B$209,2))","v":""},null,28,null,{"$f":"IF(J30=\"\",\"\",VLOOKUP(J30,HM!$A$10:$B$209,2))","v":""}]
[29,null,{"$f":"IF(B31=\"\",\"\",VLOOKUP(B31,HM!$A$10:$B$209,2))","v":""},null,29,null,{"$f":"IF(F31=\"\",\"\",VLOOKUP(F31,HM!$A$10:$B$209,2))","v":""},null,29,null,{"$f":"IF(J31=\"\",\"\",VLOOKUP(J31,HM!$A$10:$B$209,2))","v":""}]
[30,null,{"$f":"IF(B32=\"\",\"\",VLOOKUP(B32,HM!$A$10:$B$209,2))","v":""},null,30,null,{"$f":"IF(F32=\"\",\"\",VLOOKUP(F32,HM!$A$10:$B$209,2))","v":""},null,30,null,{"$f":"IF(J32=\"\",\"\",VLOOKUP(J32,HM!$A$10:$B$209,2))","v":""}]
[31,null,{"$f":"IF(B33=\"\",\"\",VLOOKUP(B33,HM!$A$10:$B$209,2))","v":""},null,31,null,{"$f":"IF(F33=\"\",\"\",VLOOKUP(F33,HM!$A$10:$B$209,2))","v":""},null,31,null,{"$f":"IF(J33=\"\",\"\",VLOOKUP(J33,HM!$A$10:$B$209,2))","v":""}]
[32,null,{"$f":"IF(B34=\"\",\"\",VLOOKUP(B34,HM!$A$10:$B$209,2))","v":""},null,32,null,{"$f":"IF(F34=\"\",\"\",VLOOKUP(F34,HM!$A$10:$B$209,2))","v":""},null,32,null,{"$f":"IF(J34=\"\",\"\",VLOOKUP(J34,HM!$A$10:$B$209,2))","v":""}]
[33,null,{"$f":"IF(B35=\"\",\"\",VLOOKUP(B35,HM!$A$10:$B$209,2))","v":""},null,33,null,{"$f":"IF(F35=\"\",\"\",VLOOKUP(F35,HM!$A$10:$B$209,2))","v":""},null,33,null,{"$f":"IF(J35=\"\",\"\",VLOOKUP(J35,HM!$A$10:$B$209,2))","v":""}]
[34,null,{"$f":"IF(B36=\"\",\"\",VLOOKUP(B36,HM!$A$10:$B$209,2))","v":""},null,34,null,{"$f":"IF(F36=\"\",\"\",VLOOKUP(F36,HM!$A$10:$B$209,2))","v":""},null,34,null,{"$f":"IF(J36=\"\",\"\",VLOOKUP(J36,HM!$A$10:$B$209,2))","v":""}]
[35,null,{"$f":"IF(B37=\"\",\"\",VLOOKUP(B37,HM!$A$10:$B$209,2))","v":""},null,35,null,{"$f":"IF(F37=\"\",\"\",VLOOKUP(F37,HM!$A$10:$B$209,2))","v":""},null,35,null,{"$f":"IF(J37=\"\",\"\",VLOOKUP(J37,HM!$A$10:$B$209,2))","v":""}]
[36,null,{"$f":"IF(B38=\"\",\"\",VLOOKUP(B38,HM!$A$10:$B$209,2))","v":""},null,36,null,{"$f":"IF(F38=\"\",\"\",VLOOKUP(F38,HM!$A$10:$B$209,2))","v":""},null,36,null,{"$f":"IF(J38=\"\",\"\",VLOOKUP(J38,HM!$A$10:$B$209,2))","v":""}]
[37,null,{"$f":"IF(B39=\"\",\"\",VLOOKUP(B39,HM!$A$10:$B$209,2))","v":""},null,37,null,{"$f":"IF(F39=\"\",\"\",VLOOKUP(F39,HM!$A$10:$B$209,2))","v":""},null,37,null,{"$f":"IF(J39=\"\",\"\",VLOOKUP(J39,HM!$A$10:$B$209,2))","v":""}]
[38,null,{"$f":"IF(B40=\"\",\"\",VLOOKUP(B40,HM!$A$10:$B$209,2))","v":""},null,38,null,{"$f":"IF(F40=\"\",\"\",VLOOKUP(F40,HM!$A$10:$B$209,2))","v":""},null,38,null,{"$f":"IF(J40=\"\",\"\",VLOOKUP(J40,HM!$A$10:$B$209,2))","v":""}]
[39,null,{"$f":"IF(B41=\"\",\"\",VLOOKUP(B41,HM!$A$10:$B$209,2))","v":""},null,39,null,{"$f":"IF(F41=\"\",\"\",VLOOKUP(F41,HM!$A$10:$B$209,2))","v":""},null,39,null,{"$f":"IF(J41=\"\",\"\",VLOOKUP(J41,HM!$A$10:$B$209,2))","v":""}]
[40,null,{"$f":"IF(B42=\"\",\"\",VLOOKUP(B42,HM!$A$10:$B$209,2))","v":""},null,40,null,{"$f":"IF(F42=\"\",\"\",VLOOKUP(F42,HM!$A$10:$B$209,2))","v":""},null,40,null,{"$f":"IF(J42=\"\",\"\",VLOOKUP(J42,HM!$A$10:$B$209,2))","v":""}]
[41,null,{"$f":"IF(B43=\"\",\"\",VLOOKUP(B43,HM!$A$10:$B$209,2))","v":""},null,41,null,{"$f":"IF(F43=\"\",\"\",VLOOKUP(F43,HM!$A$10:$B$209,2))","v":""},null,41,null,{"$f":"IF(J43=\"\",\"\",VLOOKUP(J43,HM!$A$10:$B$209,2))","v":""}]
[42,null,{"$f":"IF(B44=\"\",\"\",VLOOKUP(B44,HM!$A$10:$B$209,2))","v":""},null,42,null,{"$f":"IF(F44=\"\",\"\",VLOOKUP(F44,HM!$A$10:$B$209,2))","v":""},null,42,null,{"$f":"IF(J44=\"\",\"\",VLOOKUP(J44,HM!$A$10:$B$209,2))","v":""}]
[43,null,{"$f":"IF(B45=\"\",\"\",VLOOKUP(B45,HM!$A$10:$B$209,2))","v":""},null,43,null,{"$f":"IF(F45=\"\",\"\",VLOOKUP(F45,HM!$A$10:$B$209,2))","v":""},null,43,null,{"$f":"IF(J45=\"\",\"\",VLOOKUP(J45,HM!$A$10:$B$209,2))","v":""}]
[44,null,{"$f":"IF(B46=\"\",\"\",VLOOKUP(B46,HM!$A$10:$B$209,2))","v":""},null,44,null,{"$f":"IF(F46=\"\",\"\",VLOOKUP(F46,HM!$A$10:$B$209,2))","v":""},null,44,null,{"$f":"IF(J46=\"\",\"\",VLOOKUP(J46,HM!$A$10:$B$209,2))","v":""}]
[45,null,{"$f":"IF(B47=\"\",\"\",VLOOKUP(B47,HM!$A$10:$B$209,2))","v":""},null,45,null,{"$f":"IF(F47=\"\",\"\",VLOOKUP(F47,HM!$A$10:$B$209,2))","v":""},null,45,null,{"$f":"IF(J47=\"\",\"\",VLOOKUP(J47,HM!$A$10:$B$209,2))","v":""}]
[46,null,{"$f":"IF(B48=\"\",\"\",VLOOKUP(B48,HM!$A$10:$B$209,2))","v":""},null,46,null,{"$f":"IF(F48=\"\",\"\",VLOOKUP(F48,HM!$A$10:$B$209,2))","v":""},null,46,null,{"$f":"IF(J48=\"\",\"\",VLOOKUP(J48,HM!$A$10:$B$209,2))","v":""}]
[47,null,{"$f":"IF(B49=\"\",\"\",VLOOKUP(B49,HM!$A$10:$B$209,2))","v":""},null,47,null,{"$f":"IF(F49=\"\",\"\",VLOOKUP(F49,HM!$A$10:$B$209,2))","v":""},null,47,null,{"$f":"IF(J49=\"\",\"\",VLOOKUP(J49,HM!$A$10:$B$209,2))","v":""}]
[48,null,{"$f":"IF(B50=\"\",\"\",VLOOKUP(B50,HM!$A$10:$B$209,2))","v":""},null,48,null,{"$f":"IF(F50=\"\",\"\",VLOOKUP(F50,HM!$A$10:$B$209,2))","v":""},null,48,null,{"$f":"IF(J50=\"\",\"\",VLOOKUP(J50,HM!$A$10:$B$209,2))","v":""}]
[49,null,{"$f":"IF(B51=\"\",\"\",VLOOKUP(B51,HM!$A$10:$B$209,2))","v":""},null,49,null,{"$f":"IF(F51=\"\",\"\",VLOOKUP(F51,HM!$A$10:$B$209,2))","v":""},null,49,null,{"$f":"IF(J51=\"\",\"\",VLOOKUP(J51,HM!$A$10:$B$209,2))","v":""}]
[50,null,{"$f":"IF(B52=\"\",\"\",VLOOKUP(B52,HM!$A$10:$B$209,2))","v":""},null,50,null,{"$f":"IF(F52=\"\",\"\",VLOOKUP(F52,HM!$A$10:$B$209,2))","v":""},null,50,null,{"$f":"IF(J52=\"\",\"\",VLOOKUP(J52,HM!$A$10:$B$209,2))","v":""}]
[51,null,{"$f":"IF(B53=\"\",\"\",VLOOKUP(B53,HM!$A$10:$B$209,2))","v":""},null,51,null,{"$f":"IF(F53=\"\",\"\",VLOOKUP(F53,HM!$A$10:$B$209,2))","v":""},null,51,null,{"$f":"IF(J53=\"\",\"\",VLOOKUP(J53,HM!$A$10:$B$209,2))","v":""}]
[52,null,{"$f":"IF(B54=\"\",\"\",VLOOKUP(B54,HM!$A$10:$B$209,2))","v":""},null,52,null,{"$f":"IF(F54=\"\",\"\",VLOOKUP(F54,HM!$A$10:$B$209,2))","v":""},null,52,null,{"$f":"IF(J54=\"\",\"\",VLOOKUP(J54,HM!$A$10:$B$209,2))","v":""}]
[53,null,{"$f":"IF(B55=\"\",\"\",VLOOKUP(B55,HM!$A$10:$B$209,2))","v":""},null,53,null,{"$f":"IF(F55=\"\",\"\",VLOOKUP(F55,HM!$A$10:$B$209,2))","v":""},null,53,null,{"$f":"IF(J55=\"\",\"\",VLOOKUP(J55,HM!$A$10:$B$209,2))","v":""}]
[54,null,{"$f":"IF(B56=\"\",\"\",VLOOKUP(B56,HM!$A$10:$B$209,2))","v":""},null,54,null,{"$f":"IF(F56=\"\",\"\",VLOOKUP(F56,HM!$A$10:$B$209,2))","v":""},null,54,null,{"$f":"IF(J56=\"\",\"\",VLOOKUP(J56,HM!$A$10:$B$209,2))","v":""}]
[55,null,{"$f":"IF(B57=\"\",\"\",VLOOKUP(B57,HM!$A$10:$B$209,2))","v":""},null,55,null,{"$f":"IF(F57=\"\",\"\",VLOOKUP(F57,HM!$A$10:$B$209,2))","v":""},null,55,null,{"$f":"IF(J57=\"\",\"\",VLOOKUP(J57,HM!$A$10:$B$209,2))","v":""}]
[56,null,{"$f":"IF(B58=\"\",\"\",VLOOKUP(B58,HM!$A$10:$B$209,2))","v":""},null,56,null,{"$f":"IF(F58=\"\",\"\",VLOOKUP(F58,HM!$A$10:$B$209,2))","v":""},null,56,null,{"$f":"IF(J58=\"\",\"\",VLOOKUP(J58,HM!$A$10:$B$209,2))","v":""}]
[57,null,{"$f":"IF(B59=\"\",\"\",VLOOKUP(B59,HM!$A$10:$B$209,2))","v":""},null,57,null,{"$f":"IF(F59=\"\",\"\",VLOOKUP(F59,HM!$A$10:$B$209,2))","v":""},null,57,null,{"$f":"IF(J59=\"\",\"\",VLOOKUP(J59,HM!$A$10:$B$209,2))","v":""}]
[58,null,{"$f":"IF(B60=\"\",\"\",VLOOKUP(B60,HM!$A$10:$B$209,2))","v":""},null,58,null,{"$f":"IF(F60=\"\",\"\",VLOOKUP(F60,HM!$A$10:$B$209,2))","v":""},null,58,null,{"$f":"IF(J60=\"\",\"\",VLOOKUP(J60,HM!$A$10:$B$209,2))","v":""}]
[59,null,{"$f":"IF(B61=\"\",\"\",VLOOKUP(B61,HM!$A$10:$B$209,2))","v":""},null,59,null,{"$f":"IF(F61=\"\",\"\",VLOOKUP(F61,HM!$A$10:$B$209,2))","v":""},null,59,null,{"$f":"IF(J61=\"\",\"\",VLOOKUP(J61,HM!$A$10:$B$209,2))","v":""}]
[60,null,{"$f":"IF(B62=\"\",\"\",VLOOKUP(B62,HM!$A$10:$B$209,2))","v":""},null,60,null,{"$f":"IF(F62=\"\",\"\",VLOOKUP(F62,HM!$A$10:$B$209,2))","v":""},null,60,null,{"$f":"IF(J62=\"\",\"\",VLOOKUP(J62,HM!$A$10:$B$209,2))","v":""}]
[61,null,{"$f":"IF(B63=\"\",\"\",VLOOKUP(B63,HM!$A$10:$B$209,2))","v":""},null,61,null,{"$f":"IF(F63=\"\",\"\",VLOOKUP(F63,HM!$A$10:$B$209,2))","v":""},null,61,null,{"$f":"IF(J63=\"\",\"\",VLOOKUP(J63,HM!$A$10:$B$209,2))","v":""}]
[62,null,{"$f":"IF(B64=\"\",\"\",VLOOKUP(B64,HM!$A$10:$B$209,2))","v":""},null,62,null,{"$f":"IF(F64=\"\",\"\",VLOOKUP(F64,HM!$A$10:$B$209,2))","v":""},null,62,null,{"$f":"IF(J64=\"\",\"\",VLOOKUP(J64,HM!$A$10:$B$209,2))","v":""}]
[63,null,{"$f":"IF(B65=\"\",\"\",VLOOKUP(B65,HM!$A$10:$B$209,2))","v":""},null,63,null,{"$f":"IF(F65=\"\",\"\",VLOOKUP(F65,HM!$A$10:$B$209,2))","v":""},null,63,null,{"$f":"IF(J65=\"\",\"\",VLOOKUP(J65,HM!$A$10:$B$209,2))","v":""}]
[64,null,{"$f":"IF(B66=\"\",\"\",VLOOKUP(B66,HM!$A$10:$B$209,2))","v":""},null,64,null,{"$f":"IF(F66=\"\",\"\",VLOOKUP(F66,HM!$A$10:$B$209,2))","v":""},null,64,null,{"$f":"IF(J66=\"\",\"\",VLOOKUP(J66,HM!$A$10:$B$209,2))","v":""}]
[65,null,{"$f":"IF(B67=\"\",\"\",VLOOKUP(B67,HM!$A$10:$B$209,2))","v":""},null,65,null,{"$f":"IF(F67=\"\",\"\",VLOOKUP(F67,HM!$A$10:$B$209,2))","v":""},null,65,null,{"$f":"IF(J67=\"\",\"\",VLOOKUP(J67,HM!$A$10:$B$209,2))","v":""}]
[66,null,{"$f":"IF(B68=\"\",\"\",VLOOKUP(B68,HM!$A$10:$B$209,2))","v":""},null,66,null,{"$f":"IF(F68=\"\",\"\",VLOOKUP(F68,HM!$A$10:$B$209,2))","v":""},null,66,null,{"$f":"IF(J68=\"\",\"\",VLOOKUP(J68,HM!$A$10:$B$209,2))","v":""}]
[67,null,{"$f":"IF(B69=\"\",\"\",VLOOKUP(B69,HM!$A$10:$B$209,2))","v":""},null,67,null,{"$f":"IF(F69=\"\",\"\",VLOOKUP(F69,HM!$A$10:$B$209,2))","v":""},null,67,null,{"$f":"IF(J69=\"\",\"\",VLOOKUP(J69,HM!$A$10:$B$209,2))","v":""}]
[68,null,{"$f":"IF(B70=\"\",\"\",VLOOKUP(B70,HM!$A$10:$B$209,2))","v":""},null,68,null,{"$f":"IF(F70=\"\",\"\",VLOOKUP(F70,HM!$A$10:$B$209,2))","v":""},null,68,null,{"$f":"IF(J70=\"\",\"\",VLOOKUP(J70,HM!$A$10:$B$209,2))","v":""}]
[69,null,{"$f":"IF(B71=\"\",\"\",VLOOKUP(B71,HM!$A$10:$B$209,2))","v":""},null,69,null,{"$f":"IF(F71=\"\",\"\",VLOOKUP(F71,HM!$A$10:$B$209,2))","v":""},null,69,null,{"$f":"IF(J71=\"\",\"\",VLOOKUP(J71,HM!$A$10:$B$209,2))","v":""}]
[70,null,{"$f":"IF(B72=\"\",\"\",VLOOKUP(B72,HM!$A$10:$B$209,2))","v":""},null,70,null,{"$f":"IF(F72=\"\",\"\",VLOOKUP(F72,HM!$A$10:$B$209,2))","v":""},null,70,null,{"$f":"IF(J72=\"\",\"\",VLOOKUP(J72,HM!$A$10:$B$209,2))","v":""}]
[71,null,{"$f":"IF(B73=\"\",\"\",VLOOKUP(B73,HM!$A$10:$B$209,2))","v":""},null,71,null,{"$f":"IF(F73=\"\",\"\",VLOOKUP(F73,HM!$A$10:$B$209,2))","v":""},null,71,null,{"$f":"IF(J73=\"\",\"\",VLOOKUP(J73,HM!$A$10:$B$209,2))","v":""}]
[72,null,{"$f":"IF(B74=\"\",\"\",VLOOKUP(B74,HM!$A$10:$B$209,2))","v":""},null,72,null,{"$f":"IF(F74=\"\",\"\",VLOOKUP(F74,HM!$A$10:$B$209,2))","v":""},null,72,null,{"$f":"IF(J74=\"\",\"\",VLOOKUP(J74,HM!$A$10:$B$209,2))","v":""}]
[73,null,{"$f":"IF(B75=\"\",\"\",VLOOKUP(B75,HM!$A$10:$B$209,2))","v":""},null,73,null,{"$f":"IF(F75=\"\",\"\",VLOOKUP(F75,HM!$A$10:$B$209,2))","v":""},null,73,null,{"$f":"IF(J75=\"\",\"\",VLOOKUP(J75,HM!$A$10:$B$209,2))","v":""}]
[74,null,{"$f":"IF(B76=\"\",\"\",VLOOKUP(B76,HM!$A$10:$B$209,2))","v":""},null,74,null,{"$f":"IF(F76=\"\",\"\",VLOOKUP(F76,HM!$A$10:$B$209,2))","v":""},null,74,null,{"$f":"IF(J76=\"\",\"\",VLOOKUP(J76,HM!$A$10:$B$209,2))","v":""}]
[75,null,{"$f":"IF(B77=\"\",\"\",VLOOKUP(B77,HM!$A$10:$B$209,2))","v":""},null,75,null,{"$f":"IF(F77=\"\",\"\",VLOOKUP(F77,HM!$A$10:$B$209,2))","v":""},null,75,null,{"$f":"IF(J77=\"\",\"\",VLOOKUP(J77,HM!$A$10:$B$209,2))","v":""}]
[76,null,{"$f":"IF(B78=\"\",\"\",VLOOKUP(B78,HM!$A$10:$B$209,2))","v":""},null,76,null,{"$f":"IF(F78=\"\",\"\",VLOOKUP(F78,HM!$A$10:$B$209,2))","v":""},null,76,null,{"$f":"IF(J78=\"\",\"\",VLOOKUP(J78,HM!$A$10:$B$209,2))","v":""}]
[77,null,{"$f":"IF(B79=\"\",\"\",VLOOKUP(B79,HM!$A$10:$B$209,2))","v":""},null,77,null,{"$f":"IF(F79=\"\",\"\",VLOOKUP(F79,HM!$A$10:$B$209,2))","v":""},null,77,null,{"$f":"IF(J79=\"\",\"\",VLOOKUP(J79,HM!$A$10:$B$209,2))","v":""}]
[78,null,{"$f":"IF(B80=\"\",\"\",VLOOKUP(B80,HM!$A$10:$B$209,2))","v":""},null,78,null,{"$f":"IF(F80=\"\",\"\",VLOOKUP(F80,HM!$A$10:$B$209,2))","v":""},null,78,null,{"$f":"IF(J80=\"\",\"\",VLOOKUP(J80,HM!$A$10:$B$209,2))","v":""}]
[79,null,{"$f":"IF(B81=\"\",\"\",VLOOKUP(B81,HM!$A$10:$B$209,2))","v":""},null,79,null,{"$f":"IF(F81=\"\",\"\",VLOOKUP(F81,HM!$A$10:$B$209,2))","v":""},null,79,null,{"$f":"IF(J81=\"\",\"\",VLOOKUP(J81,HM!$A$10:$B$209,2))","v":""}]
[80,null,{"$f":"IF(B82=\"\",\"\",VLOOKUP(B82,HM!$A$10:$B$209,2))","v":""},null,80,null,{"$f":"IF(F82=\"\",\"\",VLOOKUP(F82,HM!$A$10:$B$209,2))","v":""},null,80,null,{"$f":"IF(J82=\"\",\"\",VLOOKUP(J82,HM!$A$10:$B$209,2))","v":""}]
[81,null,{"$f":"IF(B83=\"\",\"\",VLOOKUP(B83,HM!$A$10:$B$209,2))","v":""},null,81,null,{"$f":"IF(F83=\"\",\"\",VLOOKUP(F83,HM!$A$10:$B$209,2))","v":""},null,81,null,{"$f":"IF(J83=\"\",\"\",VLOOKUP(J83,HM!$A$10:$B$209,2))","v":""}]
[82,null,{"$f":"IF(B84=\"\",\"\",VLOOKUP(B84,HM!$A$10:$B$209,2))","v":""},null,82,null,{"$f":"IF(F84=\"\",\"\",VLOOKUP(F84,HM!$A$10:$B$209,2))","v":""},null,82,null,{"$f":"IF(J84=\"\",\"\",VLOOKUP(J84,HM!$A$10:$B$209,2))","v":""}]
[83,null,{"$f":"IF(B85=\"\",\"\",VLOOKUP(B85,HM!$A$10:$B$209,2))","v":""},null,83,null,{"$f":"IF(F85=\"\",\"\",VLOOKUP(F85,HM!$A$10:$B$209,2))","v":""},null,83,null,{"$f":"IF(J85=\"\",\"\",VLOOKUP(J85,HM!$A$10:$B$209,2))","v":""}]
[84,null,{"$f":"IF(B86=\"\",\"\",VLOOKUP(B86,HM!$A$10:$B$209,2))","v":""},null,84,null,{"$f":"IF(F86=\"\",\"\",VLOOKUP(F86,HM!$A$10:$B$209,2))","v":""},null,84,null,{"$f":"IF(J86=\"\",\"\",VLOOKUP(J86,HM!$A$10:$B$209,2))","v":""}]
[85,null,{"$f":"IF(B87=\"\",\"\",VLOOKUP(B87,HM!$A$10:$B$209,2))","v":""},null,85,null,{"$f":"IF(F87=\"\",\"\",VLOOKUP(F87,HM!$A$10:$B$209,2))","v":""},null,85,null,{"$f":"IF(J87=\"\",\"\",VLOOKUP(J87,HM!$A$10:$B$209,2))","v":""}]
[86,null,{"$f":"IF(B88=\"\",\"\",VLOOKUP(B88,HM!$A$10:$B$209,2))","v":""},null,86,null,{"$f":"IF(F88=\"\",\"\",VLOOKUP(F88,HM!$A$10:$B$209,2))","v":""},null,86,null,{"$f":"IF(J88=\"\",\"\",VLOOKUP(J88,HM!$A$10:$B$209,2))","v":""}]
[87,null,{"$f":"IF(B89=\"\",\"\",VLOOKUP(B89,HM!$A$10:$B$209,2))","v":""},null,87,null,{"$f":"IF(F89=\"\",\"\",VLOOKUP(F89,HM!$A$10:$B$209,2))","v":""},null,87,null,{"$f":"IF(J89=\"\",\"\",VLOOKUP(J89,HM!$A$10:$B$209,2))","v":""}]
[88,null,{"$f":"IF(B90=\"\",\"\",VLOOKUP(B90,HM!$A$10:$B$209,2))","v":""},null,88,null,{"$f":"IF(F90=\"\",\"\",VLOOKUP(F90,HM!$A$10:$B$209,2))","v":""},null,88,null,{"$f":"IF(J90=\"\",\"\",VLOOKUP(J90,HM!$A$10:$B$209,2))","v":""}]
[89,null,{"$f":"IF(B91=\"\",\"\",VLOOKUP(B91,HM!$A$10:$B$209,2))","v":""},null,89,null,{"$f":"IF(F91=\"\",\"\",VLOOKUP(F91,HM!$A$10:$B$209,2))","v":""},null,89,null,{"$f":"IF(J91=\"\",\"\",VLOOKUP(J91,HM!$A$10:$B$209,2))","v":""}]
[90,null,{"$f":"IF(B92=\"\",\"\",VLOOKUP(B92,HM!$A$10:$B$209,2))","v":""},null,90,null,{"$f":"IF(F92=\"\",\"\",VLOOKUP(F92,HM!$A$10:$B$209,2))","v":""},null,90,null,{"$f":"IF(J92=\"\",\"\",VLOOKUP(J92,HM!$A$10:$B$209,2))","v":""}]
[91,null,{"$f":"IF(B93=\"\",\"\",VLOOKUP(B93,HM!$A$10:$B$209,2))","v":""},null,91,null,{"$f":"IF(F93=\"\",\"\",VLOOKUP(F93,HM!$A$10:$B$209,2))","v":""},null,91,null,{"$f":"IF(J93=\"\",\"\",VLOOKUP(J93,HM!$A$10:$B$209,2))","v":""}]
[92,null,{"$f":"IF(B94=\"\",\"\",VLOOKUP(B94,HM!$A$10:$B$209,2))","v":""},null,92,null,{"$f":"IF(F94=\"\",\"\",VLOOKUP(F94,HM!$A$10:$B$209,2))","v":""},null,92,null,{"$f":"IF(J94=\"\",\"\",VLOOKUP(J94,HM!$A$10:$B$209,2))","v":""}]
[93,null,{"$f":"IF(B95=\"\",\"\",VLOOKUP(B95,HM!$A$10:$B$209,2))","v":""},null,93,null,{"$f":"IF(F95=\"\",\"\",VLOOKUP(F95,HM!$A$10:$B$209,2))","v":""},null,93,null,{"$f":"IF(J95=\"\",\"\",VLOOKUP(J95,HM!$A$10:$B$209,2))","v":""}]
[94,null,{"$f":"IF(B96=\"\",\"\",VLOOKUP(B96,HM!$A$10:$B$209,2))","v":""},null,94,null,{"$f":"IF(F96=\"\",\"\",VLOOKUP(F96,HM!$A$10:$B$209,2))","v":""},null,94,null,{"$f":"IF(J96=\"\",\"\",VLOOKUP(J96,HM!$A$10:$B$209,2))","v":""}]
[95,null,{"$f":"IF(B97=\"\",\"\",VLOOKUP(B97,HM!$A$10:$B$209,2))","v":""},null,95,null,{"$f":"IF(F97=\"\",\"\",VLOOKUP(F97,HM!$A$10:$B$209,2))","v":""},null,95,null,{"$f":"IF(J97=\"\",\"\",VLOOKUP(J97,HM!$A$10:$B$209,2))","v":""}]
[96,null,{"$f":"IF(B98=\"\",\"\",VLOOKUP(B98,HM!$A$10:$B$209,2))","v":""},null,96,null,{"$f":"IF(F98=\"\",\"\",VLOOKUP(F98,HM!$A$10:$B$209,2))","v":""},null,96,null,{"$f":"IF(J98=\"\",\"\",VLOOKUP(J98,HM!$A$10:$B$209,2))","v":""}]
[97,null,{"$f":"IF(B99=\"\",\"\",VLOOKUP(B99,HM!$A$10:$B$209,2))","v":""},null,97,null,{"$f":"IF(F99=\"\",\"\",VLOOKUP(F99,HM!$A$10:$B$209,2))","v":""},null,97,null,{"$f":"IF(J99=\"\",\"\",VLOOKUP(J99,HM!$A$10:$B$209,2))","v":""}]
[98,null,{"$f":"IF(B100=\"\",\"\",VLOOKUP(B100,HM!$A$10:$B$209,2))","v":""},null,98,null,{"$f":"IF(F100=\"\",\"\",VLOOKUP(F100,HM!$A$10:$B$209,2))","v":""},null,98,null,{"$f":"IF(J100=\"\",\"\",VLOOKUP(J100,HM!$A$10:$B$209,2))","v":""}]
[99,null,{"$f":"IF(B101=\"\",\"\",VLOOKUP(B101,HM!$A$10:$B$209,2))","v":""},null,99,null,{"$f":"IF(F101=\"\",\"\",VLOOKUP(F101,HM!$A$10:$B$209,2))","v":""},null,99,null,{"$f":"IF(J101=\"\",\"\",VLOOKUP(J101,HM!$A$10:$B$209,2))","v":""}]
[100,null,{"$f":"IF(B102=\"\",\"\",VLOOKUP(B102,HM!$A$10:$B$209,2))","v":""},null,100,null,{"$f":"IF(F102=\"\",\"\",VLOOKUP(F102,HM!$A$10:$B$209,2))","v":""},null,100,null,{"$f":"IF(J102=\"\",\"\",VLOOKUP(J102,HM!$A$10:$B$209,2))","v":""}]
[101,null,{"$f":"IF(B103=\"\",\"\",VLOOKUP(B103,HM!$A$10:$B$209,2))","v":""},null,101,null,{"$f":"IF(F103=\"\",\"\",VLOOKUP(F103,HM!$A$10:$B$209,2))","v":""},null,101,null,{"$f":"IF(J103=\"\",\"\",VLOOKUP(J103,HM!$A$10:$B$209,2))","v":""}]
[102,null,{"$f":"IF(B104=\"\",\"\",VLOOKUP(B104,HM!$A$10:$B$209,2))","v":""},null,102,null,{"$f":"IF(F104=\"\",\"\",VLOOKUP(F104,HM!$A$10:$B$209,2))","v":""},null,102,null,{"$f":"IF(J104=\"\",\"\",VLOOKUP(J104,HM!$A$10:$B$209,2))","v":""}]
[103,null,{"$f":"IF(B105=\"\",\"\",VLOOKUP(B105,HM!$A$10:$B$209,2))","v":""},null,103,null,{"$f":"IF(F105=\"\",\"\",VLOOKUP(F105,HM!$A$10:$B$209,2))","v":""},null,103,null,{"$f":"IF(J105=\"\",\"\",VLOOKUP(J105,HM!$A$10:$B$209,2))","v":""}]
[104,null,{"$f":"IF(B106=\"\",\"\",VLOOKUP(B106,HM!$A$10:$B$209,2))","v":""},null,104,null,{"$f":"IF(F106=\"\",\"\",VLOOKUP(F106,HM!$A$10:$B$209,2))","v":""},null,104,null,{"$f":"IF(J106=\"\",\"\",VLOOKUP(J106,HM!$A$10:$B$209,2))","v":""}]
[105,null,{"$f":"IF(B107=\"\",\"\",VLOOKUP(B107,HM!$A$10:$B$209,2))","v":""},null,105,null,{"$f":"IF(F107=\"\",\"\",VLOOKUP(F107,HM!$A$10:$B$209,2))","v":""},null,105,null,{"$f":"IF(J107=\"\",\"\",VLOOKUP(J107,HM!$A$10:$B$209,2))","v":""}]
[106,null,{"$f":"IF(B108=\"\",\"\",VLOOKUP(B108,HM!$A$10:$B$209,2))","v":""},null,106,null,{"$f":"IF(F108=\"\",\"\",VLOOKUP(F108,HM!$A$10:$B$209,2))","v":""},null,106,null,{"$f":"IF(J108=\"\",\"\",VLOOKUP(J108,HM!$A$10:$B$209,2))","v":""}]
[107,null,{"$f":"IF(B109=\"\",\"\",VLOOKUP(B109,HM!$A$10:$B$209,2))","v":""},null,107,null,{"$f":"IF(F109=\"\",\"\",VLOOKUP(F109,HM!$A$10:$B$209,2))","v":""},null,107,null,{"$f":"IF(J109=\"\",\"\",VLOOKUP(J109,HM!$A$10:$B$209,2))","v":""}]
[108,null,{"$f":"IF(B110=\"\",\"\",VLOOKUP(B110,HM!$A$10:$B$209,2))","v":""},null,108,null,{"$f":"IF(F110=\"\",\"\",VLOOKUP(F110,HM!$A$10:$B$209,2))","v":""},null,108,null,{"$f":"IF(J110=\"\",\"\",VLOOKUP(J110,HM!$A$10:$B$209,2))","v":""}]
[109,null,{"$f":"IF(B111=\"\",\"\",VLOOKUP(B111,HM!$A$10:$B$209,2))","v":""},null,109,null,{"$f":"IF(F111=\"\",\"\",VLOOKUP(F111,HM!$A$10:$B$209,2))","v":""},null,109,null,{"$f":"IF(J111=\"\",\"\",VLOOKUP(J111,HM!$A$10:$B$209,2))","v":""}]
[110,null,{"$f":"IF(B112=\"\",\"\",VLOOKUP(B112,HM!$A$10:$B$209,2))","v":""},null,110,null,{"$f":"IF(F112=\"\",\"\",VLOOKUP(F112,HM!$A$10:$B$209,2))","v":""},null,110,null,{"$f":"IF(J112=\"\",\"\",VLOOKUP(J112,HM!$A$10:$B$209,2))","v":""}]
[111,null,{"$f":"IF(B113=\"\",\"\",VLOOKUP(B113,HM!$A$10:$B$209,2))","v":""},null,111,null,{"$f":"IF(F113=\"\",\"\",VLOOKUP(F113,HM!$A$10:$B$209,2))","v":""},null,111,null,{"$f":"IF(J113=\"\",\"\",VLOOKUP(J113,HM!$A$10:$B$209,2))","v":""}]
[112,null,{"$f":"IF(B114=\"\",\"\",VLOOKUP(B114,HM!$A$10:$B$209,2))","v":""},null,112,null,{"$f":"IF(F114=\"\",\"\",VLOOKUP(F114,HM!$A$10:$B$209,2))","v":""},null,112,null,{"$f":"IF(J114=\"\",\"\",VLOOKUP(J114,HM!$A$10:$B$209,2))","v":""}]
[113,null,{"$f":"IF(B115=\"\",\"\",VLOOKUP(B115,HM!$A$10:$B$209,2))","v":""},null,113,null,{"$f":"IF(F115=\"\",\"\",VLOOKUP(F115,HM!$A$10:$B$209,2))","v":""},null,113,null,{"$f":"IF(J115=\"\",\"\",VLOOKUP(J115,HM!$A$10:$B$209,2))","v":""}]
[114,null,{"$f":"IF(B116=\"\",\"\",VLOOKUP(B116,HM!$A$10:$B$209,2))","v":""},null,114,null,{"$f":"IF(F116=\"\",\"\",VLOOKUP(F116,HM!$A$10:$B$209,2))","v":""},null,114,null,{"$f":"IF(J116=\"\",\"\",VLOOKUP(J116,HM!$A$10:$B$209,2))","v":""}]
[115,null,{"$f":"IF(B117=\"\",\"\",VLOOKUP(B117,HM!$A$10:$B$209,2))","v":""},null,115,null,{"$f":"IF(F117=\"\",\"\",VLOOKUP(F117,HM!$A$10:$B$209,2))","v":""},null,115,null,{"$f":"IF(J117=\"\",\"\",VLOOKUP(J117,HM!$A$10:$B$209,2))","v":""}]
[116,null,{"$f":"IF(B118=\"\",\"\",VLOOKUP(B118,HM!$A$10:$B$209,2))","v":""},null,116,null,{"$f":"IF(F118=\"\",\"\",VLOOKUP(F118,HM!$A$10:$B$209,2))","v":""},null,116,null,{"$f":"IF(J118=\"\",\"\",VLOOKUP(J118,HM!$A$10:$B$209,2))","v":""}]
[117,null,{"$f":"IF(B119=\"\",\"\",VLOOKUP(B119,HM!$A$10:$B$209,2))","v":""},null,117,null,{"$f":"IF(F119=\"\",\"\",VLOOKUP(F119,HM!$A$10:$B$209,2))","v":""},null,117,null,{"$f":"IF(J119=\"\",\"\",VLOOKUP(J119,HM!$A$10:$B$209,2))","v":""}]
[118,null,{"$f":"IF(B120=\"\",\"\",VLOOKUP(B120,HM!$A$10:$B$209,2))","v":""},null,118,null,{"$f":"IF(F120=\"\",\"\",VLOOKUP(F120,HM!$A$10:$B$209,2))","v":""},null,118,null,{"$f":"IF(J120=\"\",\"\",VLOOKUP(J120,HM!$A$10:$B$209,2))","v":""}]
[119,null,{"$f":"IF(B121=\"\",\"\",VLOOKUP(B121,HM!$A$10:$B$209,2))","v":""},null,119,null,{"$f":"IF(F121=\"\",\"\",VLOOKUP(F121,HM!$A$10:$B$209,2))","v":""},null,119,null,{"$f":"IF(J121=\"\",\"\",VLOOKUP(J121,HM!$A$10:$B$209,2))","v":""}]
[120,null,{"$f":"IF(B122=\"\",\"\",VLOOKUP(B122,HM!$A$10:$B$209,2))","v":""},null,120,null,{"$f":"IF(F122=\"\",\"\",VLOOKUP(F122,HM!$A$10:$B$209,2))","v":""},null,120,null,{"$f":"IF(J122=\"\",\"\",VLOOKUP(J122,HM!$A$10:$B$209,2))","v":""}]
[121,null,{"$f":"IF(B123=\"\",\"\",VLOOKUP(B123,HM!$A$10:$B$209,2))","v":""},null,121,null,{"$f":"IF(F123=\"\",\"\",VLOOKUP(F123,HM!$A$10:$B$209,2))","v":""},null,121,null,{"$f":"IF(J123=\"\",\"\",VLOOKUP(J123,HM!$A$10:$B$209,2))","v":""}]
[122,null,{"$f":"IF(B124=\"\",\"\",VLOOKUP(B124,HM!$A$10:$B$209,2))","v":""},null,122,null,{"$f":"IF(F124=\"\",\"\",VLOOKUP(F124,HM!$A$10:$B$209,2))","v":""},null,122,null,{"$f":"IF(J124=\"\",\"\",VLOOKUP(J124,HM!$A$10:$B$209,2))","v":""}]
[123,null,{"$f":"IF(B125=\"\",\"\",VLOOKUP(B125,HM!$A$10:$B$209,2))","v":""},null,123,null,{"$f":"IF(F125=\"\",\"\",VLOOKUP(F125,HM!$A$10:$B$209,2))","v":""},null,123,null,{"$f":"IF(J125=\"\",\"\",VLOOKUP(J125,HM!$A$10:$B$209,2))","v":""}]
[124,null,{"$f":"IF(B126=\"\",\"\",VLOOKUP(B126,HM!$A$10:$B$209,2))","v":""},null,124,null,{"$f":"IF(F126=\"\",\"\",VLOOKUP(F126,HM!$A$10:$B$209,2))","v":""},null,124,null,{"$f":"IF(J126=\"\",\"\",VLOOKUP(J126,HM!$A$10:$B$209,2))","v":""}]
[125,null,{"$f":"IF(B127=\"\",\"\",VLOOKUP(B127,HM!$A$10:$B$209,2))","v":""},null,125,null,{"$f":"IF(F127=\"\",\"\",VLOOKUP(F127,HM!$A$10:$B$209,2))","v":""},null,125,null,{"$f":"IF(J127=\"\",\"\",VLOOKUP(J127,HM!$A$10:$B$209,2))","v":""}]
[126,null,{"$f":"IF(B128=\"\",\"\",VLOOKUP(B128,HM!$A$10:$B$209,2))","v":""},null,126,null,{"$f":"IF(F128=\"\",\"\",VLOOKUP(F128,HM!$A$10:$B$209,2))","v":""},null,126,null,{"$f":"IF(J128=\"\",\"\",VLOOKUP(J128,HM!$A$10:$B$209,2))","v":""}]
[127,null,{"$f":"IF(B129=\"\",\"\",VLOOKUP(B129,HM!$A$10:$B$209,2))","v":""},null,127,null,{"$f":"IF(F129=\"\",\"\",VLOOKUP(F129,HM!$A$10:$B$209,2))","v":""},null,127,null,{"$f":"IF(J129=\"\",\"\",VLOOKUP(J129,HM!$A$10:$B$209,2))","v":""}]
[128,null,{"$f":"IF(B130=\"\",\"\",VLOOKUP(B130,HM!$A$10:$B$209,2))","v":""},null,128,null,{"$f":"IF(F130=\"\",\"\",VLOOKUP(F130,HM!$A$10:$B$209,2))","v":""},null,128,null,{"$f":"IF(J130=\"\",\"\",VLOOKUP(J130,HM!$A$10:$B$209,2))","v":""}]
[129,null,{"$f":"IF(B131=\"\",\"\",VLOOKUP(B131,HM!$A$10:$B$209,2))","v":""},null,129,null,{"$f":"IF(F131=\"\",\"\",VLOOKUP(F131,HM!$A$10:$B$209,2))","v":""},null,129,null,{"$f":"IF(J131=\"\",\"\",VLOOKUP(J131,HM!$A$10:$B$209,2))","v":""}]
[130,null,{"$f":"IF(B132=\"\",\"\",VLOOKUP(B132,HM!$A$10:$B$209,2))","v":""},null,130,null,{"$f":"IF(F132=\"\",\"\",VLOOKUP(F132,HM!$A$10:$B$209,2))","v":""},null,130,null,{"$f":"IF(J132=\"\",\"\",VLOOKUP(J132,HM!$A$10:$B$209,2))","v":""}]
[131,null,{"$f":"IF(B133=\"\",\"\",VLOOKUP(B133,HM!$A$10:$B$209,2))","v":""},null,131,null,{"$f":"IF(F133=\"\",\"\",VLOOKUP(F133,HM!$A$10:$B$209,2))","v":""},null,131,null,{"$f":"IF(J133=\"\",\"\",VLOOKUP(J133,HM!$A$10:$B$209,2))","v":""}]
[132,null,{"$f":"IF(B134=\"\",\"\",VLOOKUP(B134,HM!$A$10:$B$209,2))","v":""},null,132,null,{"$f":"IF(F134=\"\",\"\",VLOOKUP(F134,HM!$A$10:$B$209,2))","v":""},null,132,null,{"$f":"IF(J134=\"\",\"\",VLOOKUP(J134,HM!$A$10:$B$209,2))","v":""}]
[133,null,{"$f":"IF(B135=\"\",\"\",VLOOKUP(B135,HM!$A$10:$B$209,2))","v":""},null,133,null,{"$f":"IF(F135=\"\",\"\",VLOOKUP(F135,HM!$A$10:$B$209,2))","v":""},null,133,null,{"$f":"IF(J135=\"\",\"\",VLOOKUP(J135,HM!$A$10:$B$209,2))","v":""}]
[134,null,{"$f":"IF(B136=\"\",\"\",VLOOKUP(B136,HM!$A$10:$B$209,2))","v":""},null,134,null,{"$f":"IF(F136=\"\",\"\",VLOOKUP(F136,HM!$A$10:$B$209,2))","v":""},null,134,null,{"$f":"IF(J136=\"\",\"\",VLOOKUP(J136,HM!$A$10:$B$209,2))","v":""}]
[135,null,{"$f":"IF(B137=\"\",\"\",VLOOKUP(B137,HM!$A$10:$B$209,2))","v":""},null,135,null,{"$f":"IF(F137=\"\",\"\",VLOOKUP(F137,HM!$A$10:$B$209,2))","v":""},null,135,null,{"$f":"IF(J137=\"\",\"\",VLOOKUP(J137,HM!$A$10:$B$209,2))","v":""}]
[136,null,{"$f":"IF(B138=\"\",\"\",VLOOKUP(B138,HM!$A$10:$B$209,2))","v":""},null,136,null,{"$f":"IF(F138=\"\",\"\",VLOOKUP(F138,HM!$A$10:$B$209,2))","v":""},null,136,null,{"$f":"IF(J138=\"\",\"\",VLOOKUP(J138,HM!$A$10:$B$209,2))","v":""}]
[137,null,{"$f":"IF(B139=\"\",\"\",VLOOKUP(B139,HM!$A$10:$B$209,2))","v":""},null,137,null,{"$f":"IF(F139=\"\",\"\",VLOOKUP(F139,HM!$A$10:$B$209,2))","v":""},null,137,null,{"$f":"IF(J139=\"\",\"\",VLOOKUP(J139,HM!$A$10:$B$209,2))","v":""}]
[138,null,{"$f":"IF(B140=\"\",\"\",VLOOKUP(B140,HM!$A$10:$B$209,2))","v":""},null,138,null,{"$f":"IF(F140=\"\",\"\",VLOOKUP(F140,HM!$A$10:$B$209,2))","v":""},null,138,null,{"$f":"IF(J140=\"\",\"\",VLOOKUP(J140,HM!$A$10:$B$209,2))","v":""}]
[139,null,{"$f":"IF(B141=\"\",\"\",VLOOKUP(B141,HM!$A$10:$B$209,2))","v":""},null,139,null,{"$f":"IF(F141=\"\",\"\",VLOOKUP(F141,HM!$A$10:$B$209,2))","v":""},null,139,null,{"$f":"IF(J141=\"\",\"\",VLOOKUP(J141,HM!$A$10:$B$209,2))","v":""}]
[140,null,{"$f":"IF(B142=\"\",\"\",VLOOKUP(B142,HM!$A$10:$B$209,2))","v":""},null,140,null,{"$f":"IF(F142=\"\",\"\",VLOOKUP(F142,HM!$A$10:$B$209,2))","v":""},null,140,null,{"$f":"IF(J142=\"\",\"\",VLOOKUP(J142,HM!$A$10:$B$209,2))","v":""}]
[141,null,{"$f":"IF(B143=\"\",\"\",VLOOKUP(B143,HM!$A$10:$B$209,2))","v":""},null,141,null,{"$f":"IF(F143=\"\",\"\",VLOOKUP(F143,HM!$A$10:$B$209,2))","v":""},null,141,null,{"$f":"IF(J143=\"\",\"\",VLOOKUP(J143,HM!$A$10:$B$209,2))","v":""}]
[142,null,{"$f":"IF(B144=\"\",\"\",VLOOKUP(B144,HM!$A$10:$B$209,2))","v":""},null,142,null,{"$f":"IF(F144=\"\",\"\",VLOOKUP(F144,HM!$A$10:$B$209,2))","v":""},null,142,null,{"$f":"IF(J144=\"\",\"\",VLOOKUP(J144,HM!$A$10:$B$209,2))","v":""}]
[143,null,{"$f":"IF(B145=\"\",\"\",VLOOKUP(B145,HM!$A$10:$B$209,2))","v":""},null,143,null,{"$f":"IF(F145=\"\",\"\",VLOOKUP(F145,HM!$A$10:$B$209,2))","v":""},null,143,null,{"$f":"IF(J145=\"\",\"\",VLOOKUP(J145,HM!$A$10:$B$209,2))","v":""}]
[144,null,{"$f":"IF(B146=\"\",\"\",VLOOKUP(B146,HM!$A$10:$B$209,2))","v":""},null,144,null,{"$f":"IF(F146=\"\",\"\",VLOOKUP(F146,HM!$A$10:$B$209,2))","v":""},null,144,null,{"$f":"IF(J146=\"\",\"\",VLOOKUP(J146,HM!$A$10:$B$209,2))","v":""}]
[145,null,{"$f":"IF(B147=\"\",\"\",VLOOKUP(B147,HM!$A$10:$B$209,2))","v":""},null,145,null,{"$f":"IF(F147=\"\",\"\",VLOOKUP(F147,HM!$A$10:$B$209,2))","v":""},null,145,null,{"$f":"IF(J147=\"\",\"\",VLOOKUP(J147,HM!$A$10:$B$209,2))","v":""}]
[146,null,{"$f":"IF(B148=\"\",\"\",VLOOKUP(B148,HM!$A$10:$B$209,2))","v":""},null,146,null,{"$f":"IF(F148=\"\",\"\",VLOOKUP(F148,HM!$A$10:$B$209,2))","v":""},null,146,null,{"$f":"IF(J148=\"\",\"\",VLOOKUP(J148,HM!$A$10:$B$209,2))","v":""}]
[147,null,{"$f":"IF(B149=\"\",\"\",VLOOKUP(B149,HM!$A$10:$B$209,2))","v":""},null,147,null,{"$f":"IF(F149=\"\",\"\",VLOOKUP(F149,HM!$A$10:$B$209,2))","v":""},null,147,null,{"$f":"IF(J149=\"\",\"\",VLOOKUP(J149,HM!$A$10:$B$209,2))","v":""}]
[148,null,{"$f":"IF(B150=\"\",\"\",VLOOKUP(B150,HM!$A$10:$B$209,2))","v":""},null,148,null,{"$f":"IF(F150=\"\",\"\",VLOOKUP(F150,HM!$A$10:$B$209,2))","v":""},null,148,null,{"$f":"IF(J150=\"\",\"\",VLOOKUP(J150,HM!$A$10:$B$209,2))","v":""}]
[149,null,{"$f":"IF(B151=\"\",\"\",VLOOKUP(B151,HM!$A$10:$B$209,2))","v":""},null,149,null,{"$f":"IF(F151=\"\",\"\",VLOOKUP(F151,HM!$A$10:$B$209,2))","v":""},null,149,null,{"$f":"IF(J151=\"\",\"\",VLOOKUP(J151,HM!$A$10:$B$209,2))","v":""}]
[150,null,{"$f":"IF(B152=\"\",\"\",VLOOKUP(B152,HM!$A$10:$B$209,2))","v":""},null,150,null,{"$f":"IF(F152=\"\",\"\",VLOOKUP(F152,HM!$A$10:$B$209,2))","v":""},null,150,null,{"$f":"IF(J152=\"\",\"\",VLOOKUP(J152,HM!$A$10:$B$209,2))","v":""}]
[151,null,{"$f":"IF(B153=\"\",\"\",VLOOKUP(B153,HM!$A$10:$B$209,2))","v":""},null,151,null,{"$f":"IF(F153=\"\",\"\",VLOOKUP(F153,HM!$A$10:$B$209,2))","v":""},null,151,null,{"$f":"IF(J153=\"\",\"\",VLOOKUP(J153,HM!$A$10:$B$209,2))","v":""}]
[152,null,{"$f":"IF(B154=\"\",\"\",VLOOKUP(B154,HM!$A$10:$B$209,2))","v":""},null,152,null,{"$f":"IF(F154=\"\",\"\",VLOOKUP(F154,HM!$A$10:$B$209,2))","v":""},null,152,null,{"$f":"IF(J154=\"\",\"\",VLOOKUP(J154,HM!$A$10:$B$209,2))","v":""}]
[153,null,{"$f":"IF(B155=\"\",\"\",VLOOKUP(B155,HM!$A$10:$B$209,2))","v":""},null,153,null,{"$f":"IF(F155=\"\",\"\",VLOOKUP(F155,HM!$A$10:$B$209,2))","v":""},null,153,null,{"$f":"IF(J155=\"\",\"\",VLOOKUP(J155,HM!$A$10:$B$209,2))","v":""}]
[154,null,{"$f":"IF(B156=\"\",\"\",VLOOKUP(B156,HM!$A$10:$B$209,2))","v":""},null,154,null,{"$f":"IF(F156=\"\",\"\",VLOOKUP(F156,HM!$A$10:$B$209,2))","v":""},null,154,null,{"$f":"IF(J156=\"\",\"\",VLOOKUP(J156,HM!$A$10:$B$209,2))","v":""}]
[155,null,{"$f":"IF(B157=\"\",\"\",VLOOKUP(B157,HM!$A$10:$B$209,2))","v":""},null,155,null,{"$f":"IF(F157=\"\",\"\",VLOOKUP(F157,HM!$A$10:$B$209,2))","v":""},null,155,null,{"$f":"IF(J157=\"\",\"\",VLOOKUP(J157,HM!$A$10:$B$209,2))","v":""}]
[156,null,{"$f":"IF(B158=\"\",\"\",VLOOKUP(B158,HM!$A$10:$B$209,2))","v":""},null,156,null,{"$f":"IF(F158=\"\",\"\",VLOOKUP(F158,HM!$A$10:$B$209,2))","v":""},null,156,null,{"$f":"IF(J158=\"\",\"\",VLOOKUP(J158,HM!$A$10:$B$209,2))","v":""}]
[157,null,{"$f":"IF(B159=\"\",\"\",VLOOKUP(B159,HM!$A$10:$B$209,2))","v":""},null,157,null,{"$f":"IF(F159=\"\",\"\",VLOOKUP(F159,HM!$A$10:$B$209,2))","v":""},null,157,null,{"$f":"IF(J159=\"\",\"\",VLOOKUP(J159,HM!$A$10:$B$209,2))","v":""}]
[158,null,{"$f":"IF(B160=\"\",\"\",VLOOKUP(B160,HM!$A$10:$B$209,2))","v":""},null,158,null,{"$f":"IF(F160=\"\",\"\",VLOOKUP(F160,HM!$A$10:$B$209,2))","v":""},null,158,null,{"$f":"IF(J160=\"\",\"\",VLOOKUP(J160,HM!$A$10:$B$209,2))","v":""}]
[159,null,{"$f":"IF(B161=\"\",\"\",VLOOKUP(B161,HM!$A$10:$B$209,2))","v":""},null,159,null,{"$f":"IF(F161=\"\",\"\",VLOOKUP(F161,HM!$A$10:$B$209,2))","v":""},null,159,null,{"$f":"IF(J161=\"\",\"\",VLOOKUP(J161,HM!$A$10:$B$209,2))","v":""}]
[160,null,{"$f":"IF(B162=\"\",\"\",VLOOKUP(B162,HM!$A$10:$B$209,2))","v":""},null,160,null,{"$f":"IF(F162=\"\",\"\",VLOOKUP(F162,HM!$A$10:$B$209,2))","v":""},null,160,null,{"$f":"IF(J162=\"\",\"\",VLOOKUP(J162,HM!$A$10:$B$209,2))","v":""}]
[161,null,{"$f":"IF(B163=\"\",\"\",VLOOKUP(B163,HM!$A$10:$B$209,2))","v":""},null,161,null,{"$f":"IF(F163=\"\",\"\",VLOOKUP(F163,HM!$A$10:$B$209,2))","v":""},null,161,null,{"$f":"IF(J163=\"\",\"\",VLOOKUP(J163,HM!$A$10:$B$209,2))","v":""}]
[162,null,{"$f":"IF(B164=\"\",\"\",VLOOKUP(B164,HM!$A$10:$B$209,2))","v":""},null,162,null,{"$f":"IF(F164=\"\",\"\",VLOOKUP(F164,HM!$A$10:$B$209,2))","v":""},null,162,null,{"$f":"IF(J164=\"\",\"\",VLOOKUP(J164,HM!$A$10:$B$209,2))","v":""}]
[163,null,{"$f":"IF(B165=\"\",\"\",VLOOKUP(B165,HM!$A$10:$B$209,2))","v":""},null,163,null,{"$f":"IF(F165=\"\",\"\",VLOOKUP(F165,HM!$A$10:$B$209,2))","v":""},null,163,null,{"$f":"IF(J165=\"\",\"\",VLOOKUP(J165,HM!$A$10:$B$209,2))","v":""}]
[164,null,{"$f":"IF(B166=\"\",\"\",VLOOKUP(B166,HM!$A$10:$B$209,2))","v":""},null,164,null,{"$f":"IF(F166=\"\",\"\",VLOOKUP(F166,HM!$A$10:$B$209,2))","v":""},null,164,null,{"$f":"IF(J166=\"\",\"\",VLOOKUP(J166,HM!$A$10:$B$209,2))","v":""}]
[165,null,{"$f":"IF(B167=\"\",\"\",VLOOKUP(B167,HM!$A$10:$B$209,2))","v":""},null,165,null,{"$f":"IF(F167=\"\",\"\",VLOOKUP(F167,HM!$A$10:$B$209,2))","v":""},null,165,null,{"$f":"IF(J167=\"\",\"\",VLOOKUP(J167,HM!$A$10:$B$209,2))","v":""}]
[166,null,{"$f":"IF(B168=\"\",\"\",VLOOKUP(B168,HM!$A$10:$B$209,2))","v":""},null,166,null,{"$f":"IF(F168=\"\",\"\",VLOOKUP(F168,HM!$A$10:$B$209,2))","v":""},null,166,null,{"$f":"IF(J168=\"\",\"\",VLOOKUP(J168,HM!$A$10:$B$209,2))","v":""}]
[167,null,{"$f":"IF(B169=\"\",\"\",VLOOKUP(B169,HM!$A$10:$B$209,2))","v":""},null,167,null,{"$f":"IF(F169=\"\",\"\",VLOOKUP(F169,HM!$A$10:$B$209,2))","v":""},null,167,null,{"$f":"IF(J169=\"\",\"\",VLOOKUP(J169,HM!$A$10:$B$209,2))","v":""}]
[168,null,{"$f":"IF(B170=\"\",\"\",VLOOKUP(B170,HM!$A$10:$B$209,2))","v":""},null,168,null,{"$f":"IF(F170=\"\",\"\",VLOOKUP(F170,HM!$A$10:$B$209,2))","v":""},null,168,null,{"$f":"IF(J170=\"\",\"\",VLOOKUP(J170,HM!$A$10:$B$209,2))","v":""}]
[169,null,{"$f":"IF(B171=\"\",\"\",VLOOKUP(B171,HM!$A$10:$B$209,2))","v":""},null,169,null,{"$f":"IF(F171=\"\",\"\",VLOOKUP(F171,HM!$A$10:$B$209,2))","v":""},null,169,null,{"$f":"IF(J171=\"\",\"\",VLOOKUP(J171,HM!$A$10:$B$209,2))","v":""}]
[170,null,{"$f":"IF(B172=\"\",\"\",VLOOKUP(B172,HM!$A$10:$B$209,2))","v":""},null,170,null,{"$f":"IF(F172=\"\",\"\",VLOOKUP(F172,HM!$A$10:$B$209,2))","v":""},null,170,null,{"$f":"IF(J172=\"\",\"\",VLOOKUP(J172,HM!$A$10:$B$209,2))","v":""}]
[171,null,{"$f":"IF(B173=\"\",\"\",VLOOKUP(B173,HM!$A$10:$B$209,2))","v":""},null,171,null,{"$f":"IF(F173=\"\",\"\",VLOOKUP(F173,HM!$A$10:$B$209,2))","v":""},null,171,null,{"$f":"IF(J173=\"\",\"\",VLOOKUP(J173,HM!$A$10:$B$209,2))","v":""}]
[172,null,{"$f":"IF(B174=\"\",\"\",VLOOKUP(B174,HM!$A$10:$B$209,2))","v":""},null,172,null,{"$f":"IF(F174=\"\",\"\",VLOOKUP(F174,HM!$A$10:$B$209,2))","v":""},null,172,null,{"$f":"IF(J174=\"\",\"\",VLOOKUP(J174,HM!$A$10:$B$209,2))","v":""}]
[173,null,{"$f":"IF(B175=\"\",\"\",VLOOKUP(B175,HM!$A$10:$B$209,2))","v":""},null,173,null,{"$f":"IF(F175=\"\",\"\",VLOOKUP(F175,HM!$A$10:$B$209,2))","v":""},null,173,null,{"$f":"IF(J175=\"\",\"\",VLOOKUP(J175,HM!$A$10:$B$209,2))","v":""}]
[174,null,{"$f":"IF(B176=\"\",\"\",VLOOKUP(B176,HM!$A$10:$B$209,2))","v":""},null,174,null,{"$f":"IF(F176=\"\",\"\",VLOOKUP(F176,HM!$A$10:$B$209,2))","v":""},null,174,null,{"$f":"IF(J176=\"\",\"\",VLOOKUP(J176,HM!$A$10:$B$209,2))","v":""}]
[175,null,{"$f":"IF(B177=\"\",\"\",VLOOKUP(B177,HM!$A$10:$B$209,2))","v":""},null,175,null,{"$f":"IF(F177=\"\",\"\",VLOOKUP(F177,HM!$A$10:$B$209,2))","v":""},null,175,null,{"$f":"IF(J177=\"\",\"\",VLOOKUP(J177,HM!$A$10:$B$209,2))","v":""}]
[176,null,{"$f":"IF(B178=\"\",\"\",VLOOKUP(B178,HM!$A$10:$B$209,2))","v":""},null,176,null,{"$f":"IF(F178=\"\",\"\",VLOOKUP(F178,HM!$A$10:$B$209,2))","v":""},null,176,null,{"$f":"IF(J178=\"\",\"\",VLOOKUP(J178,HM!$A$10:$B$209,2))","v":""}]
[177,null,{"$f":"IF(B179=\"\",\"\",VLOOKUP(B179,HM!$A$10:$B$209,2))","v":""},null,177,null,{"$f":"IF(F179=\"\",\"\",VLOOKUP(F179,HM!$A$10:$B$209,2))","v":""},null,177,null,{"$f":"IF(J179=\"\",\"\",VLOOKUP(J179,HM!$A$10:$B$209,2))","v":""}]
[178,null,{"$f":"IF(B180=\"\",\"\",VLOOKUP(B180,HM!$A$10:$B$209,2))","v":""},null,178,null,{"$f":"IF(F180=\"\",\"\",VLOOKUP(F180,HM!$A$10:$B$209,2))","v":""},null,178,null,{"$f":"IF(J180=\"\",\"\",VLOOKUP(J180,HM!$A$10:$B$209,2))","v":""}]
[179,null,{"$f":"IF(B181=\"\",\"\",VLOOKUP(B181,HM!$A$10:$B$209,2))","v":""},null,179,null,{"$f":"IF(F181=\"\",\"\",VLOOKUP(F181,HM!$A$10:$B$209,2))","v":""},null,179,null,{"$f":"IF(J181=\"\",\"\",VLOOKUP(J181,HM!$A$10:$B$209,2))","v":""}]
[180,null,{"$f":"IF(B182=\"\",\"\",VLOOKUP(B182,HM!$A$10:$B$209,2))","v":""},null,180,null,{"$f":"IF(F182=\"\",\"\",VLOOKUP(F182,HM!$A$10:$B$209,2))","v":""},null,180,null,{"$f":"IF(J182=\"\",\"\",VLOOKUP(J182,HM!$A$10:$B$209,2))","v":""}]
[181,null,{"$f":"IF(B183=\"\",\"\",VLOOKUP(B183,HM!$A$10:$B$209,2))","v":""},null,181,null,{"$f":"IF(F183=\"\",\"\",VLOOKUP(F183,HM!$A$10:$B$209,2))","v":""},null,181,null,{"$f":"IF(J183=\"\",\"\",VLOOKUP(J183,HM!$A$10:$B$209,2))","v":""}]
[182,null,{"$f":"IF(B184=\"\",\"\",VLOOKUP(B184,HM!$A$10:$B$209,2))","v":""},null,182,null,{"$f":"IF(F184=\"\",\"\",VLOOKUP(F184,HM!$A$10:$B$209,2))","v":""},null,182,null,{"$f":"IF(J184=\"\",\"\",VLOOKUP(J184,HM!$A$10:$B$209,2))","v":""}]
[183,null,{"$f":"IF(B185=\"\",\"\",VLOOKUP(B185,HM!$A$10:$B$209,2))","v":""},null,183,null,{"$f":"IF(F185=\"\",\"\",VLOOKUP(F185,HM!$A$10:$B$209,2))","v":""},null,183,null,{"$f":"IF(J185=\"\",\"\",VLOOKUP(J185,HM!$A$10:$B$209,2))","v":""}]
[184,null,{"$f":"IF(B186=\"\",\"\",VLOOKUP(B186,HM!$A$10:$B$209,2))","v":""},null,184,null,{"$f":"IF(F186=\"\",\"\",VLOOKUP(F186,HM!$A$10:$B$209,2))","v":""},null,184,null,{"$f":"IF(J186=\"\",\"\",VLOOKUP(J186,HM!$A$10:$B$209,2))","v":""}]
[185,null,{"$f":"IF(B187=\"\",\"\",VLOOKUP(B187,HM!$A$10:$B$209,2))","v":""},null,185,null,{"$f":"IF(F187=\"\",\"\",VLOOKUP(F187,HM!$A$10:$B$209,2))","v":""},null,185,null,{"$f":"IF(J187=\"\",\"\",VLOOKUP(J187,HM!$A$10:$B$209,2))","v":""}]
[186,null,{"$f":"IF(B188=\"\",\"\",VLOOKUP(B188,HM!$A$10:$B$209,2))","v":""},null,186,null,{"$f":"IF(F188=\"\",\"\",VLOOKUP(F188,HM!$A$10:$B$209,2))","v":""},null,186,null,{"$f":"IF(J188=\"\",\"\",VLOOKUP(J188,HM!$A$10:$B$209,2))","v":""}]
[187,null,{"$f":"IF(B189=\"\",\"\",VLOOKUP(B189,HM!$A$10:$B$209,2))","v":""},null,187,null,{"$f":"IF(F189=\"\",\"\",VLOOKUP(F189,HM!$A$10:$B$209,2))","v":""},null,187,null,{"$f":"IF(J189=\"\",\"\",VLOOKUP(J189,HM!$A$10:$B$209,2))","v":""}]
[188,null,{"$f":"IF(B190=\"\",\"\",VLOOKUP(B190,HM!$A$10:$B$209,2))","v":""},null,188,null,{"$f":"IF(F190=\"\",\"\",VLOOKUP(F190,HM!$A$10:$B$209,2))","v":""},null,188,null,{"$f":"IF(J190=\"\",\"\",VLOOKUP(J190,HM!$A$10:$B$209,2))","v":""}]
[189,null,{"$f":"IF(B191=\"\",\"\",VLOOKUP(B191,HM!$A$10:$B$209,2))","v":""},null,189,null,{"$f":"IF(F191=\"\",\"\",VLOOKUP(F191,HM!$A$10:$B$209,2))","v":""},null,189,null,{"$f":"IF(J191=\"\",\"\",VLOOKUP(J191,HM!$A$10:$B$209,2))","v":""}]
[190,null,{"$f":"IF(B192=\"\",\"\",VLOOKUP(B192,HM!$A$10:$B$209,2))","v":""},null,190,null,{"$f":"IF(F192=\"\",\"\",VLOOKUP(F192,HM!$A$10:$B$209,2))","v":""},null,190,null,{"$f":"IF(J192=\"\",\"\",VLOOKUP(J192,HM!$A$10:$B$209,2))","v":""}]
[191,null,{"$f":"IF(B193=\"\",\"\",VLOOKUP(B193,HM!$A$10:$B$209,2))","v":""},null,191,null,{"$f":"IF(F193=\"\",\"\",VLOOKUP(F193,HM!$A$10:$B$209,2))","v":""},null,191,null,{"$f":"IF(J193=\"\",\"\",VLOOKUP(J193,HM!$A$10:$B$209,2))","v":""}]
[192,null,{"$f":"IF(B194=\"\",\"\",VLOOKUP(B194,HM!$A$10:$B$209,2))","v":""},null,192,null,{"$f":"IF(F194=\"\",\"\",VLOOKUP(F194,HM!$A$10:$B$209,2))","v":""},null,192,null,{"$f":"IF(J194=\"\",\"\",VLOOKUP(J194,HM!$A$10:$B$209,2))","v":""}]
[193,null,{"$f":"IF(B195=\"\",\"\",VLOOKUP(B195,HM!$A$10:$B$209,2))","v":""},null,193,null,{"$f":"IF(F195=\"\",\"\",VLOOKUP(F195,HM!$A$10:$B$209,2))","v":""},null,193,null,{"$f":"IF(J195=\"\",\"\",VLOOKUP(J195,HM!$A$10:$B$209,2))","v":""}]
[194,null,{"$f":"IF(B196=\"\",\"\",VLOOKUP(B196,HM!$A$10:$B$209,2))","v":""},null,194,null,{"$f":"IF(F196=\"\",\"\",VLOOKUP(F196,HM!$A$10:$B$209,2))","v":""},null,194,null,{"$f":"IF(J196=\"\",\"\",VLOOKUP(J196,HM!$A$10:$B$209,2))","v":""}]
[195,null,{"$f":"IF(B197=\"\",\"\",VLOOKUP(B197,HM!$A$10:$B$209,2))","v":""},null,195,null,{"$f":"IF(F197=\"\",\"\",VLOOKUP(F197,HM!$A$10:$B$209,2))","v":""},null,195,null,{"$f":"IF(J197=\"\",\"\",VLOOKUP(J197,HM!$A$10:$B$209,2))","v":""}]
[196,null,{"$f":"IF(B198=\"\",\"\",VLOOKUP(B198,HM!$A$10:$B$209,2))","v":""},null,196,null,{"$f":"IF(F198=\"\",\"\",VLOOKUP(F198,HM!$A$10:$B$209,2))","v":""},null,196,null,{"$f":"IF(J198=\"\",\"\",VLOOKUP(J198,HM!$A$10:$B$209,2))","v":""}]
[197,null,{"$f":"IF(B199=\"\",\"\",VLOOKUP(B199,HM!$A$10:$B$209,2))","v":""},null,197,null,{"$f":"IF(F199=\"\",\"\",VLOOKUP(F199,HM!$A$10:$B$209,2))","v":""},null,197,null,{"$f":"IF(J199=\"\",\"\",VLOOKUP(J199,HM!$A$10:$B$209,2))","v":""}]
[198,null,{"$f":"IF(B200=\"\",\"\",VLOOKUP(B200,HM!$A$10:$B$209,2))","v":""},null,198,null,{"$f":"IF(F200=\"\",\"\",VLOOKUP(F200,HM!$A$10:$B$209,2))","v":""},null,198,null,{"$f":"IF(J200=\"\",\"\",VLOOKUP(J200,HM!$A$10:$B$209,2))","v":""}]
[199,null,{"$f":"IF(B201=\"\",\"\",VLOOKUP(B201,HM!$A$10:$B$209,2))","v":""},null,199,null,{"$f":"IF(F201=\"\",\"\",VLOOKUP(F201,HM!$A$10:$B$209,2))","v":""},null,199,null,{"$f":"IF(J201=\"\",\"\",VLOOKUP(J201,HM!$A$10:$B$209,2))","v":""}]
[200,null,{"$f":"IF(B202=\"\",\"\",VLOOKUP(B202,HM!$A$10:$B$209,2))","v":""},null,200,null,{"$f":"IF(F202=\"\",\"\",VLOOKUP(F202,HM!$A$10:$B$209,2))","v":""},null,200,null,{"$f":"IF(J202=\"\",\"\",VLOOKUP(J202,HM!$A$10:$B$209,2))","v":""}]

{"sheet":"SSGP","index":9,"n_rows":202,"n_cols":8,"rows_kept":202,"cut":false,"hidden":false,"merged":[[0,1,0,3],[0,5,0,7]]}
[null,"Sauenschießen",null,null,null,"Glücks-\nPreisschießen"]
[null,"Lfd. \nNr.:","Vor- und Nachname:","Ringe",null,"Lfd. \nNr.:","Vor- und Nachname:","Überdeckung\nz.B. 1,5"]
[null,null,{"$f":"IF(B3=\"\",\"\",VLOOKUP(B3,HM!$A$10:$B$209,2))","v":""},null,1,null,{"$f":"IF(F3=\"\",\"\",VLOOKUP(F3,HM!$A$10:$B$209,2))","v":""}]
[null,null,{"$f":"IF(B4=\"\",\"\",VLOOKUP(B4,HM!$A$10:$B$209,2))","v":""},null,2,null,{"$f":"IF(F4=\"\",\"\",VLOOKUP(F4,HM!$A$10:$B$209,2))","v":""}]
[null,null,{"$f":"IF(B5=\"\",\"\",VLOOKUP(B5,HM!$A$10:$B$209,2))","v":""},null,3,null,{"$f":"IF(F5=\"\",\"\",VLOOKUP(F5,HM!$A$10:$B$209,2))","v":""}]
[null,null,{"$f":"IF(B6=\"\",\"\",VLOOKUP(B6,HM!$A$10:$B$209,2))","v":""},null,4,null,{"$f":"IF(F6=\"\",\"\",VLOOKUP(F6,HM!$A$10:$B$209,2))","v":""}]
[null,null,{"$f":"IF(B7=\"\",\"\",VLOOKUP(B7,HM!$A$10:$B$209,2))","v":""},null,5,null,{"$f":"IF(F7=\"\",\"\",VLOOKUP(F7,HM!$A$10:$B$209,2))","v":""}]
[null,null,{"$f":"IF(B8=\"\",\"\",VLOOKUP(B8,HM!$A$10:$B$209,2))","v":""},null,6,null,{"$f":"IF(F8=\"\",\"\",VLOOKUP(F8,HM!$A$10:$B$209,2))","v":""}]
[null,null,{"$f":"IF(B9=\"\",\"\",VLOOKUP(B9,HM!$A$10:$B$209,2))","v":""},null,7,null,{"$f":"IF(F9=\"\",\"\",VLOOKUP(F9,HM!$A$10:$B$209,2))","v":""}]
[null,null,{"$f":"IF(B10=\"\",\"\",VLOOKUP(B10,HM!$A$10:$B$209,2))","v":""},null,8,null,{"$f":"IF(F10=\"\",\"\",VLOOKUP(F10,HM!$A$10:$B$209,2))","v":""}]
[null,null,{"$f":"IF(B11=\"\",\"\",VLOOKUP(B11,HM!$A$10:$B$209,2))","v":""},null,9,null,{"$f":"IF(F11=\"\",\"\",VLOOKUP(F11,HM!$A$10:$B$209,2))","v":""}]
[null,null,{"$f":"IF(B12=\"\",\"\",VLOOKUP(B12,HM!$A$10:$B$209,2))","v":""},null,10,null,{"$f":"IF(F12=\"\",\"\",VLOOKUP(F12,HM!$A$10:$B$209,2))","v":""}]
[null,null,{"$f":"IF(B13=\"\",\"\",VLOOKUP(B13,HM!$A$10:$B$209,2))","v":""},null,11,null,{"$f":"IF(F13=\"\",\"\",VLOOKUP(F13,HM!$A$10:$B$209,2))","v":""}]
[null,null,{"$f":"IF(B14=\"\",\"\",VLOOKUP(B14,HM!$A$10:$B$209,2))","v":""},null,12,null,{"$f":"IF(F14=\"\",\"\",VLOOKUP(F14,HM!$A$10:$B$209,2))","v":""}]
[null,null,{"$f":"IF(B15=\"\",\"\",VLOOKUP(B15,HM!$A$10:$B$209,2))","v":""},null,13,null,{"$f":"IF(F15=\"\",\"\",VLOOKUP(F15,HM!$A$10:$B$209,2))","v":""}]
[null,null,{"$f":"IF(B16=\"\",\"\",VLOOKUP(B16,HM!$A$10:$B$209,2))","v":""},null,14,null,{"$f":"IF(F16=\"\",\"\",VLOOKUP(F16,HM!$A$10:$B$209,2))","v":""}]
[null,null,{"$f":"IF(B17=\"\",\"\",VLOOKUP(B17,HM!$A$10:$B$209,2))","v":""},null,15,null,{"$f":"IF(F17=\"\",\"\",VLOOKUP(F17,HM!$A$10:$B$209,2))","v":""}]
[null,null,{"$f":"IF(B18=\"\",\"\",VLOOKUP(B18,HM!$A$10:$B$209,2))","v":""},null,16,null,{"$f":"IF(F18=\"\",\"\",VLOOKUP(F18,HM!$A$10:$B$209,2))","v":""}]
[null,null,{"$f":"IF(B19=\"\",\"\",VLOOKUP(B19,HM!$A$10:$B$209,2))","v":""},null,17,null,{"$f":"IF(F19=\"\",\"\",VLOOKUP(F19,HM!$A$10:$B$209,2))","v":""}]
[null,null,{"$f":"IF(B20=\"\",\"\",VLOOKUP(B20,HM!$A$10:$B$209,2))","v":""},null,18,null,{"$f":"IF(F20=\"\",\"\",VLOOKUP(F20,HM!$A$10:$B$209,2))","v":""}]
[null,null,{"$f":"IF(B21=\"\",\"\",VLOOKUP(B21,HM!$A$10:$B$209,2))","v":""},null,19,null,{"$f":"IF(F21=\"\",\"\",VLOOKUP(F21,HM!$A$10:$B$209,2))","v":""}]
[null,null,{"$f":"IF(B22=\"\",\"\",VLOOKUP(B22,HM!$A$10:$B$209,2))","v":""},null,20,null,{"$f":"IF(F22=\"\",\"\",VLOOKUP(F22,HM!$A$10:$B$209,2))","v":""}]
[null,null,{"$f":"IF(B23=\"\",\"\",VLOOKUP(B23,HM!$A$10:$B$209,2))","v":""},null,21,null,{"$f":"IF(F23=\"\",\"\",VLOOKUP(F23,HM!$A$10:$B$209,2))","v":""}]
[null,null,{"$f":"IF(B24=\"\",\"\",VLOOKUP(B24,HM!$A$10:$B$209,2))","v":""},null,22,null,{"$f":"IF(F24=\"\",\"\",VLOOKUP(F24,HM!$A$10:$B$209,2))","v":""}]
[null,null,{"$f":"IF(B25=\"\",\"\",VLOOKUP(B25,HM!$A$10:$B$209,2))","v":""},null,23,null,{"$f":"IF(F25=\"\",\"\",VLOOKUP(F25,HM!$A$10:$B$209,2))","v":""}]
[null,null,{"$f":"IF(B26=\"\",\"\",VLOOKUP(B26,HM!$A$10:$B$209,2))","v":""},null,24,null,{"$f":"IF(F26=\"\",\"\",VLOOKUP(F26,HM!$A$10:$B$209,2))","v":""}]
[null,null,{"$f":"IF(B27=\"\",\"\",VLOOKUP(B27,HM!$A$10:$B$209,2))","v":""},null,25,null,{"$f":"IF(F27=\"\",\"\",VLOOKUP(F27,HM!$A$10:$B$209,2))","v":""}]
[null,null,{"$f":"IF(B28=\"\",\"\",VLOOKUP(B28,HM!$A$10:$B$209,2))","v":""},null,26,null,{"$f":"IF(F28=\"\",\"\",VLOOKUP(F28,HM!$A$10:$B$209,2))","v":""}]
[null,null,{"$f":"IF(B29=\"\",\"\",VLOOKUP(B29,HM!$A$10:$B$209,2))","v":""},null,27,null,{"$f":"IF(F29=\"\",\"\",VLOOKUP(F29,HM!$A$10:$B$209,2))","v":""}]
[null,null,{"$f":"IF(B30=\"\",\"\",VLOOKUP(B30,HM!$A$10:$B$209,2))","v":""},null,28,null,{"$f":"IF(F30=\"\",\"\",VLOOKUP(F30,HM!$A$10:$B$209,2))","v":""}]
[null,null,{"$f":"IF(B31=\"\",\"\",VLOOKUP(B31,HM!$A$10:$B$209,2))","v":""},null,29,null,{"$f":"IF(F31=\"\",\"\",VLOOKUP(F31,HM!$A$10:$B$209,2))","v":""}]
[null,null,{"$f":"IF(B32=\"\",\"\",VLOOKUP(B32,HM!$A$10:$B$209,2))","v":""},null,30,null,{"$f":"IF(F32=\"\",\"\",VLOOKUP(F32,HM!$A$10:$B$209,2))","v":""}]
[null,null,{"$f":"IF(B33=\"\",\"\",VLOOKUP(B33,HM!$A$10:$B$209,2))","v":""},null,31,null,{"$f":"IF(F33=\"\",\"\",VLOOKUP(F33,HM!$A$10:$B$209,2))","v":""}]
[null,null,{"$f":"IF(B34=\"\",\"\",VLOOKUP(B34,HM!$A$10:$B$209,2))","v":""},null,32,null,{"$f":"IF(F34=\"\",\"\",VLOOKUP(F34,HM!$A$10:$B$209,2))","v":""}]
[null,null,{"$f":"IF(B35=\"\",\"\",VLOOKUP(B35,HM!$A$10:$B$209,2))","v":""},null,33,null,{"$f":"IF(F35=\"\",\"\",VLOOKUP(F35,HM!$A$10:$B$209,2))","v":""}]
[null,null,{"$f":"IF(B36=\"\",\"\",VLOOKUP(B36,HM!$A$10:$B$209,2))","v":""},null,34,null,{"$f":"IF(F36=\"\",\"\",VLOOKUP(F36,HM!$A$10:$B$209,2))","v":""}]
[null,null,{"$f":"IF(B37=\"\",\"\",VLOOKUP(B37,HM!$A$10:$B$209,2))","v":""},null,35,null,{"$f":"IF(F37=\"\",\"\",VLOOKUP(F37,HM!$A$10:$B$209,2))","v":""}]
[null,null,{"$f":"IF(B38=\"\",\"\",VLOOKUP(B38,HM!$A$10:$B$209,2))","v":""},null,36,null,{"$f":"IF(F38=\"\",\"\",VLOOKUP(F38,HM!$A$10:$B$209,2))","v":""}]
[null,null,{"$f":"IF(B39=\"\",\"\",VLOOKUP(B39,HM!$A$10:$B$209,2))","v":""},null,37,null,{"$f":"IF(F39=\"\",\"\",VLOOKUP(F39,HM!$A$10:$B$209,2))","v":""}]
[null,null,{"$f":"IF(B40=\"\",\"\",VLOOKUP(B40,HM!$A$10:$B$209,2))","v":""},null,38,null,{"$f":"IF(F40=\"\",\"\",VLOOKUP(F40,HM!$A$10:$B$209,2))","v":""}]
[null,null,{"$f":"IF(B41=\"\",\"\",VLOOKUP(B41,HM!$A$10:$B$209,2))","v":""},null,39,null,{"$f":"IF(F41=\"\",\"\",VLOOKUP(F41,HM!$A$10:$B$209,2))","v":""}]
[null,null,{"$f":"IF(B42=\"\",\"\",VLOOKUP(B42,HM!$A$10:$B$209,2))","v":""},null,40,null,{"$f":"IF(F42=\"\",\"\",VLOOKUP(F42,HM!$A$10:$B$209,2))","v":""}]
[null,null,{"$f":"IF(B43=\"\",\"\",VLOOKUP(B43,HM!$A$10:$B$209,2))","v":""},null,41,null,{"$f":"IF(F43=\"\",\"\",VLOOKUP(F43,HM!$A$10:$B$209,2))","v":""}]
[null,null,{"$f":"IF(B44=\"\",\"\",VLOOKUP(B44,HM!$A$10:$B$209,2))","v":""},null,42,null,{"$f":"IF(F44=\"\",\"\",VLOOKUP(F44,HM!$A$10:$B$209,2))","v":""}]
[null,null,{"$f":"IF(B45=\"\",\"\",VLOOKUP(B45,HM!$A$10:$B$209,2))","v":""},null,43,null,{"$f":"IF(F45=\"\",\"\",VLOOKUP(F45,HM!$A$10:$B$209,2))","v":""}]
[null,null,{"$f":"IF(B46=\"\",\"\",VLOOKUP(B46,HM!$A$10:$B$209,2))","v":""},null,44,null,{"$f":"IF(F46=\"\",\"\",VLOOKUP(F46,HM!$A$10:$B$209,2))","v":""}]
[null,null,{"$f":"IF(B47=\"\",\"\",VLOOKUP(B47,HM!$A$10:$B$209,2))","v":""},null,45,null,{"$f":"IF(F47=\"\",\"\",VLOOKUP(F47,HM!$A$10:$B$209,2))","v":""}]
[null,null,{"$f":"IF(B48=\"\",\"\",VLOOKUP(B48,HM!$A$10:$B$209,2))","v":""},null,46,null,{"$f":"IF(F48=\"\",\"\",VLOOKUP(F48,HM!$A$10:$B$209,2))","v":""}]
[null,null,{"$f":"IF(B49=\"\",\"\",VLOOKUP(B49,HM!$A$10:$B$209,2))","v":""},null,47,null,{"$f":"IF(F49=\"\",\"\",VLOOKUP(F49,HM!$A$10:$B$209,2))","v":""}]
[null,null,{"$f":"IF(B50=\"\",\"\",VLOOKUP(B50,HM!$A$10:$B$209,2))","v":""},null,48,null,{"$f":"IF(F50=\"\",\"\",VLOOKUP(F50,HM!$A$10:$B$209,2))","v":""}]
[null,null,{"$f":"IF(B51=\"\",\"\",VLOOKUP(B51,HM!$A$10:$B$209,2))","v":""},null,49,null,{"$f":"IF(F51=\"\",\"\",VLOOKUP(F51,HM!$A$10:$B$209,2))","v":""}]
[null,null,{"$f":"IF(B52=\"\",\"\",VLOOKUP(B52,HM!$A$10:$B$209,2))","v":""},null,50,null,{"$f":"IF(F52=\"\",\"\",VLOOKUP(F52,HM!$A$10:$B$209,2))","v":""}]
[null,null,{"$f":"IF(B53=\"\",\"\",VLOOKUP(B53,HM!$A$10:$B$209,2))","v":""},null,51,null,{"$f":"IF(F53=\"\",\"\",VLOOKUP(F53,HM!$A$10:$B$209,2))","v":""}]
[null,null,{"$f":"IF(B54=\"\",\"\",VLOOKUP(B54,HM!$A$10:$B$209,2))","v":""},null,52,null,{"$f":"IF(F54=\"\",\"\",VLOOKUP(F54,HM!$A$10:$B$209,2))","v":""}]
[null,null,{"$f":"IF(B55=\"\",\"\",VLOOKUP(B55,HM!$A$10:$B$209,2))","v":""},null,53,null,{"$f":"IF(F55=\"\",\"\",VLOOKUP(F55,HM!$A$10:$B$209,2))","v":""}]
[null,null,{"$f":"IF(B56=\"\",\"\",VLOOKUP(B56,HM!$A$10:$B$209,2))","v":""},null,54,null,{"$f":"IF(F56=\"\",\"\",VLOOKUP(F56,HM!$A$10:$B$209,2))","v":""}]
[null,null,{"$f":"IF(B57=\"\",\"\",VLOOKUP(B57,HM!$A$10:$B$209,2))","v":""},null,55,null,{"$f":"IF(F57=\"\",\"\",VLOOKUP(F57,HM!$A$10:$B$209,2))","v":""}]
[null,null,{"$f":"IF(B58=\"\",\"\",VLOOKUP(B58,HM!$A$10:$B$209,2))","v":""},null,56,null,{"$f":"IF(F58=\"\",\"\",VLOOKUP(F58,HM!$A$10:$B$209,2))","v":""}]
[null,null,{"$f":"IF(B59=\"\",\"\",VLOOKUP(B59,HM!$A$10:$B$209,2))","v":""},null,57,null,{"$f":"IF(F59=\"\",\"\",VLOOKUP(F59,HM!$A$10:$B$209,2))","v":""}]
[null,null,{"$f":"IF(B60=\"\",\"\",VLOOKUP(B60,HM!$A$10:$B$209,2))","v":""},null,58,null,{"$f":"IF(F60=\"\",\"\",VLOOKUP(F60,HM!$A$10:$B$209,2))","v":""}]
[null,null,{"$f":"IF(B61=\"\",\"\",VLOOKUP(B61,HM!$A$10:$B$209,2))","v":""},null,59,null,{"$f":"IF(F61=\"\",\"\",VLOOKUP(F61,HM!$A$10:$B$209,2))","v":""}]
[null,null,{"$f":"IF(B62=\"\",\"\",VLOOKUP(B62,HM!$A$10:$B$209,2))","v":""},null,60,null,{"$f":"IF(F62=\"\",\"\",VLOOKUP(F62,HM!$A$10:$B$209,2))","v":""}]
[null,null,{"$f":"IF(B63=\"\",\"\",VLOOKUP(B63,HM!$A$10:$B$209,2))","v":""},null,61,null,{"$f":"IF(F63=\"\",\"\",VLOOKUP(F63,HM!$A$10:$B$209,2))","v":""}]
[null,null,{"$f":"IF(B64=\"\",\"\",VLOOKUP(B64,HM!$A$10:$B$209,2))","v":""},null,62,null,{"$f":"IF(F64=\"\",\"\",VLOOKUP(F64,HM!$A$10:$B$209,2))","v":""}]
[null,null,{"$f":"IF(B65=\"\",\"\",VLOOKUP(B65,HM!$A$10:$B$209,2))","v":""},null,63,null,{"$f":"IF(F65=\"\",\"\",VLOOKUP(F65,HM!$A$10:$B$209,2))","v":""}]
[null,null,{"$f":"IF(B66=\"\",\"\",VLOOKUP(B66,HM!$A$10:$B$209,2))","v":""},null,64,null,{"$f":"IF(F66=\"\",\"\",VLOOKUP(F66,HM!$A$10:$B$209,2))","v":""}]
[null,null,{"$f":"IF(B67=\"\",\"\",VLOOKUP(B67,HM!$A$10:$B$209,2))","v":""},null,65,null,{"$f":"IF(F67=\"\",\"\",VLOOKUP(F67,HM!$A$10:$B$209,2))","v":""}]
[null,null,{"$f":"IF(B68=\"\",\"\",VLOOKUP(B68,HM!$A$10:$B$209,2))","v":""},null,66,null,{"$f":"IF(F68=\"\",\"\",VLOOKUP(F68,HM!$A$10:$B$209,2))","v":""}]
[null,null,{"$f":"IF(B69=\"\",\"\",VLOOKUP(B69,HM!$A$10:$B$209,2))","v":""},null,67,null,{"$f":"IF(F69=\"\",\"\",VLOOKUP(F69,HM!$A$10:$B$209,2))","v":""}]
[null,null,{"$f":"IF(B70=\"\",\"\",VLOOKUP(B70,HM!$A$10:$B$209,2))","v":""},null,68,null,{"$f":"IF(F70=\"\",\"\",VLOOKUP(F70,HM!$A$10:$B$209,2))","v":""}]
[null,null,{"$f":"IF(B71=\"\",\"\",VLOOKUP(B71,HM!$A$10:$B$209,2))","v":""},null,69,null,{"$f":"IF(F71=\"\",\"\",VLOOKUP(F71,HM!$A$10:$B$209,2))","v":""}]
[null,null,{"$f":"IF(B72=\"\",\"\",VLOOKUP(B72,HM!$A$10:$B$209,2))","v":""},null,70,null,{"$f":"IF(F72=\"\",\"\",VLOOKUP(F72,HM!$A$10:$B$209,2))","v":""}]
[null,null,{"$f":"IF(B73=\"\",\"\",VLOOKUP(B73,HM!$A$10:$B$209,2))","v":""},null,71,null,{"$f":"IF(F73=\"\",\"\",VLOOKUP(F73,HM!$A$10:$B$209,2))","v":""}]
[null,null,{"$f":"IF(B74=\"\",\"\",VLOOKUP(B74,HM!$A$10:$B$209,2))","v":""},null,72,null,{"$f":"IF(F74=\"\",\"\",VLOOKUP(F74,HM!$A$10:$B$209,2))","v":""}]
[null,null,{"$f":"IF(B75=\"\",\"\",VLOOKUP(B75,HM!$A$10:$B$209,2))","v":""},null,73,null,{"$f":"IF(F75=\"\",\"\",VLOOKUP(F75,HM!$A$10:$B$209,2))","v":""}]
[null,null,{"$f":"IF(B76=\"\",\"\",VLOOKUP(B76,HM!$A$10:$B$209,2))","v":""},null,74,null,{"$f":"IF(F76=\"\",\"\",VLOOKUP(F76,HM!$A$10:$B$209,2))","v":""}]
[null,null,{"$f":"IF(B77=\"\",\"\",VLOOKUP(B77,HM!$A$10:$B$209,2))","v":""},null,75,null,{"$f":"IF(F77=\"\",\"\",VLOOKUP(F77,HM!$A$10:$B$209,2))","v":""}]
[null,null,{"$f":"IF(B78=\"\",\"\",VLOOKUP(B78,HM!$A$10:$B$209,2))","v":""},null,76,null,{"$f":"IF(F78=\"\",\"\",VLOOKUP(F78,HM!$A$10:$B$209,2))","v":""}]
[null,null,{"$f":"IF(B79=\"\",\"\",VLOOKUP(B79,HM!$A$10:$B$209,2))","v":""},null,77,null,{"$f":"IF(F79=\"\",\"\",VLOOKUP(F79,HM!$A$10:$B$209,2))","v":""}]
[null,null,{"$f":"IF(B80=\"\",\"\",VLOOKUP(B80,HM!$A$10:$B$209,2))","v":""},null,78,null,{"$f":"IF(F80=\"\",\"\",VLOOKUP(F80,HM!$A$10:$B$209,2))","v":""}]
[null,null,{"$f":"IF(B81=\"\",\"\",VLOOKUP(B81,HM!$A$10:$B$209,2))","v":""},null,79,null,{"$f":"IF(F81=\"\",\"\",VLOOKUP(F81,HM!$A$10:$B$209,2))","v":""}]
[null,null,{"$f":"IF(B82=\"\",\"\",VLOOKUP(B82,HM!$A$10:$B$209,2))","v":""},null,80,null,{"$f":"IF(F82=\"\",\"\",VLOOKUP(F82,HM!$A$10:$B$209,2))","v":""}]
[null,null,{"$f":"IF(B83=\"\",\"\",VLOOKUP(B83,HM!$A$10:$B$209,2))","v":""},null,81,null,{"$f":"IF(F83=\"\",\"\",VLOOKUP(F83,HM!$A$10:$B$209,2))","v":""}]
[null,null,{"$f":"IF(B84=\"\",\"\",VLOOKUP(B84,HM!$A$10:$B$209,2))","v":""},null,82,null,{"$f":"IF(F84=\"\",\"\",VLOOKUP(F84,HM!$A$10:$B$209,2))","v":""}]
[null,null,{"$f":"IF(B85=\"\",\"\",VLOOKUP(B85,HM!$A$10:$B$209,2))","v":""},null,83,null,{"$f":"IF(F85=\"\",\"\",VLOOKUP(F85,HM!$A$10:$B$209,2))","v":""}]
[null,null,{"$f":"IF(B86=\"\",\"\",VLOOKUP(B86,HM!$A$10:$B$209,2))","v":""},null,84,null,{"$f":"IF(F86=\"\",\"\",VLOOKUP(F86,HM!$A$10:$B$209,2))","v":""}]
[null,null,{"$f":"IF(B87=\"\",\"\",VLOOKUP(B87,HM!$A$10:$B$209,2))","v":""},null,85,null,{"$f":"IF(F87=\"\",\"\",VLOOKUP(F87,HM!$A$10:$B$209,2))","v":""}]
[null,null,{"$f":"IF(B88=\"\",\"\",VLOOKUP(B88,HM!$A$10:$B$209,2))","v":""},null,86,null,{"$f":"IF(F88=\"\",\"\",VLOOKUP(F88,HM!$A$10:$B$209,2))","v":""}]
[null,null,{"$f":"IF(B89=\"\",\"\",VLOOKUP(B89,HM!$A$10:$B$209,2))","v":""},null,87,null,{"$f":"IF(F89=\"\",\"\",VLOOKUP(F89,HM!$A$10:$B$209,2))","v":""}]
[null,null,{"$f":"IF(B90=\"\",\"\",VLOOKUP(B90,HM!$A$10:$B$209,2))","v":""},null,88,null,{"$f":"IF(F90=\"\",\"\",VLOOKUP(F90,HM!$A$10:$B$209,2))","v":""}]
[null,null,{"$f":"IF(B91=\"\",\"\",VLOOKUP(B91,HM!$A$10:$B$209,2))","v":""},null,89,null,{"$f":"IF(F91=\"\",\"\",VLOOKUP(F91,HM!$A$10:$B$209,2))","v":""}]
[null,null,{"$f":"IF(B92=\"\",\"\",VLOOKUP(B92,HM!$A$10:$B$209,2))","v":""},null,90,null,{"$f":"IF(F92=\"\",\"\",VLOOKUP(F92,HM!$A$10:$B$209,2))","v":""}]
[null,null,{"$f":"IF(B93=\"\",\"\",VLOOKUP(B93,HM!$A$10:$B$209,2))","v":""},null,91,null,{"$f":"IF(F93=\"\",\"\",VLOOKUP(F93,HM!$A$10:$B$209,2))","v":""}]
[null,null,{"$f":"IF(B94=\"\",\"\",VLOOKUP(B94,HM!$A$10:$B$209,2))","v":""},null,92,null,{"$f":"IF(F94=\"\",\"\",VLOOKUP(F94,HM!$A$10:$B$209,2))","v":""}]
[null,null,{"$f":"IF(B95=\"\",\"\",VLOOKUP(B95,HM!$A$10:$B$209,2))","v":""},null,93,null,{"$f":"IF(F95=\"\",\"\",VLOOKUP(F95,HM!$A$10:$B$209,2))","v":""}]
[null,null,{"$f":"IF(B96=\"\",\"\",VLOOKUP(B96,HM!$A$10:$B$209,2))","v":""},null,94,null,{"$f":"IF(F96=\"\",\"\",VLOOKUP(F96,HM!$A$10:$B$209,2))","v":""}]
[null,null,{"$f":"IF(B97=\"\",\"\",VLOOKUP(B97,HM!$A$10:$B$209,2))","v":""},null,95,null,{"$f":"IF(F97=\"\",\"\",VLOOKUP(F97,HM!$A$10:$B$209,2))","v":""}]
[null,null,{"$f":"IF(B98=\"\",\"\",VLOOKUP(B98,HM!$A$10:$B$209,2))","v":""},null,96,null,{"$f":"IF(F98=\"\",\"\",VLOOKUP(F98,HM!$A$10:$B$209,2))","v":""}]
[null,null,{"$f":"IF(B99=\"\",\"\",VLOOKUP(B99,HM!$A$10:$B$209,2))","v":""},null,97,null,{"$f":"IF(F99=\"\",\"\",VLOOKUP(F99,HM!$A$10:$B$209,2))","v":""}]
[null,null,{"$f":"IF(B100=\"\",\"\",VLOOKUP(B100,HM!$A$10:$B$209,2))","v":""},null,98,null,{"$f":"IF(F100=\"\",\"\",VLOOKUP(F100,HM!$A$10:$B$209,2))","v":""}]
[null,null,{"$f":"IF(B101=\"\",\"\",VLOOKUP(B101,HM!$A$10:$B$209,2))","v":""},null,99,null,{"$f":"IF(F101=\"\",\"\",VLOOKUP(F101,HM!$A$10:$B$209,2))","v":""}]
[null,null,{"$f":"IF(B102=\"\",\"\",VLOOKUP(B102,HM!$A$10:$B$209,2))","v":""},null,100,null,{"$f":"IF(F102=\"\",\"\",VLOOKUP(F102,HM!$A$10:$B$209,2))","v":""}]
[null,null,{"$f":"IF(B103=\"\",\"\",VLOOKUP(B103,HM!$A$10:$B$209,2))","v":""},null,101,null,{"$f":"IF(F103=\"\",\"\",VLOOKUP(F103,HM!$A$10:$B$209,2))","v":""}]
[null,null,{"$f":"IF(B104=\"\",\"\",VLOOKUP(B104,HM!$A$10:$B$209,2))","v":""},null,102,null,{"$f":"IF(F104=\"\",\"\",VLOOKUP(F104,HM!$A$10:$B$209,2))","v":""}]
[null,null,{"$f":"IF(B105=\"\",\"\",VLOOKUP(B105,HM!$A$10:$B$209,2))","v":""},null,103,null,{"$f":"IF(F105=\"\",\"\",VLOOKUP(F105,HM!$A$10:$B$209,2))","v":""}]
[null,null,{"$f":"IF(B106=\"\",\"\",VLOOKUP(B106,HM!$A$10:$B$209,2))","v":""},null,104,null,{"$f":"IF(F106=\"\",\"\",VLOOKUP(F106,HM!$A$10:$B$209,2))","v":""}]
[null,null,{"$f":"IF(B107=\"\",\"\",VLOOKUP(B107,HM!$A$10:$B$209,2))","v":""},null,105,null,{"$f":"IF(F107=\"\",\"\",VLOOKUP(F107,HM!$A$10:$B$209,2))","v":""}]
[null,null,{"$f":"IF(B108=\"\",\"\",VLOOKUP(B108,HM!$A$10:$B$209,2))","v":""},null,106,null,{"$f":"IF(F108=\"\",\"\",VLOOKUP(F108,HM!$A$10:$B$209,2))","v":""}]
[null,null,{"$f":"IF(B109=\"\",\"\",VLOOKUP(B109,HM!$A$10:$B$209,2))","v":""},null,107,null,{"$f":"IF(F109=\"\",\"\",VLOOKUP(F109,HM!$A$10:$B$209,2))","v":""}]
[null,null,{"$f":"IF(B110=\"\",\"\",VLOOKUP(B110,HM!$A$10:$B$209,2))","v":""},null,108,null,{"$f":"IF(F110=\"\",\"\",VLOOKUP(F110,HM!$A$10:$B$209,2))","v":""}]
[null,null,{"$f":"IF(B111=\"\",\"\",VLOOKUP(B111,HM!$A$10:$B$209,2))","v":""},null,109,null,{"$f":"IF(F111=\"\",\"\",VLOOKUP(F111,HM!$A$10:$B$209,2))","v":""}]
[null,null,{"$f":"IF(B112=\"\",\"\",VLOOKUP(B112,HM!$A$10:$B$209,2))","v":""},null,110,null,{"$f":"IF(F112=\"\",\"\",VLOOKUP(F112,HM!$A$10:$B$209,2))","v":""}]
[null,null,{"$f":"IF(B113=\"\",\"\",VLOOKUP(B113,HM!$A$10:$B$209,2))","v":""},null,111,null,{"$f":"IF(F113=\"\",\"\",VLOOKUP(F113,HM!$A$10:$B$209,2))","v":""}]
[null,null,{"$f":"IF(B114=\"\",\"\",VLOOKUP(B114,HM!$A$10:$B$209,2))","v":""},null,112,null,{"$f":"IF(F114=\"\",\"\",VLOOKUP(F114,HM!$A$10:$B$209,2))","v":""}]
[null,null,{"$f":"IF(B115=\"\",\"\",VLOOKUP(B115,HM!$A$10:$B$209,2))","v":""},null,113,null,{"$f":"IF(F115=\"\",\"\",VLOOKUP(F115,HM!$A$10:$B$209,2))","v":""}]
[null,null,{"$f":"IF(B116=\"\",\"\",VLOOKUP(B116,HM!$A$10:$B$209,2))","v":""},null,114,null,{"$f":"IF(F116=\"\",\"\",VLOOKUP(F116,HM!$A$10:$B$209,2))","v":""}]
[null,null,{"$f":"IF(B117=\"\",\"\",VLOOKUP(B117,HM!$A$10:$B$209,2))","v":""},null,115,null,{"$f":"IF(F117=\"\",\"\",VLOOKUP(F117,HM!$A$10:$B$209,2))","v":""}]
[null,null,{"$f":"IF(B118=\"\",\"\",VLOOKUP(B118,HM!$A$10:$B$209,2))","v":""},null,116,null,{"$f":"IF(F118=\"\",\"\",VLOOKUP(F118,HM!$A$10:$B$209,2))","v":""}]
[null,null,{"$f":"IF(B119=\"\",\"\",VLOOKUP(B119,HM!$A$10:$B$209,2))","v":""},null,117,null,{"$f":"IF(F119=\"\",\"\",VLOOKUP(F119,HM!$A$10:$B$209,2))","v":""}]
[null,null,{"$f":"IF(B120=\"\",\"\",VLOOKUP(B120,HM!$A$10:$B$209,2))","v":""},null,118,null,{"$f":"IF(F120=\"\",\"\",VLOOKUP(F120,HM!$A$10:$B$209,2))","v":""}]
[null,null,{"$f":"IF(B121=\"\",\"\",VLOOKUP(B121,HM!$A$10:$B$209,2))","v":""},null,119,null,{"$f":"IF(F121=\"\",\"\",VLOOKUP(F121,HM!$A$10:$B$209,2))","v":""}]
[null,null,{"$f":"IF(B122=\"\",\"\",VLOOKUP(B122,HM!$A$10:$B$209,2))","v":""},null,120,null,{"$f":"IF(F122=\"\",\"\",VLOOKUP(F122,HM!$A$10:$B$209,2))","v":""}]
[null,null,{"$f":"IF(B123=\"\",\"\",VLOOKUP(B123,HM!$A$10:$B$209,2))","v":""},null,121,null,{"$f":"IF(F123=\"\",\"\",VLOOKUP(F123,HM!$A$10:$B$209,2))","v":""}]
[null,null,{"$f":"IF(B124=\"\",\"\",VLOOKUP(B124,HM!$A$10:$B$209,2))","v":""},null,122,null,{"$f":"IF(F124=\"\",\"\",VLOOKUP(F124,HM!$A$10:$B$209,2))","v":""}]
[null,null,{"$f":"IF(B125=\"\",\"\",VLOOKUP(B125,HM!$A$10:$B$209,2))","v":""},null,123,null,{"$f":"IF(F125=\"\",\"\",VLOOKUP(F125,HM!$A$10:$B$209,2))","v":""}]
[null,null,{"$f":"IF(B126=\"\",\"\",VLOOKUP(B126,HM!$A$10:$B$209,2))","v":""},null,124,null,{"$f":"IF(F126=\"\",\"\",VLOOKUP(F126,HM!$A$10:$B$209,2))","v":""}]
[null,null,{"$f":"IF(B127=\"\",\"\",VLOOKUP(B127,HM!$A$10:$B$209,2))","v":""},null,125,null,{"$f":"IF(F127=\"\",\"\",VLOOKUP(F127,HM!$A$10:$B$209,2))","v":""}]
[null,null,{"$f":"IF(B128=\"\",\"\",VLOOKUP(B128,HM!$A$10:$B$209,2))","v":""},null,126,null,{"$f":"IF(F128=\"\",\"\",VLOOKUP(F128,HM!$A$10:$B$209,2))","v":""}]
[null,null,{"$f":"IF(B129=\"\",\"\",VLOOKUP(B129,HM!$A$10:$B$209,2))","v":""},null,127,null,{"$f":"IF(F129=\"\",\"\",VLOOKUP(F129,HM!$A$10:$B$209,2))","v":""}]
[null,null,{"$f":"IF(B130=\"\",\"\",VLOOKUP(B130,HM!$A$10:$B$209,2))","v":""},null,128,null,{"$f":"IF(F130=\"\",\"\",VLOOKUP(F130,HM!$A$10:$B$209,2))","v":""}]
[null,null,{"$f":"IF(B131=\"\",\"\",VLOOKUP(B131,HM!$A$10:$B$209,2))","v":""},null,129,null,{"$f":"IF(F131=\"\",\"\",VLOOKUP(F131,HM!$A$10:$B$209,2))","v":""}]
[null,null,{"$f":"IF(B132=\"\",\"\",VLOOKUP(B132,HM!$A$10:$B$209,2))","v":""},null,130,null,{"$f":"IF(F132=\"\",\"\",VLOOKUP(F132,HM!$A$10:$B$209,2))","v":""}]
[null,null,{"$f":"IF(B133=\"\",\"\",VLOOKUP(B133,HM!$A$10:$B$209,2))","v":""},null,131,null,{"$f":"IF(F133=\"\",\"\",VLOOKUP(F133,HM!$A$10:$B$209,2))","v":""}]
[null,null,{"$f":"IF(B134=\"\",\"\",VLOOKUP(B134,HM!$A$10:$B$209,2))","v":""},null,132,null,{"$f":"IF(F134=\"\",\"\",VLOOKUP(F134,HM!$A$10:$B$209,2))","v":""}]
[null,null,{"$f":"IF(B135=\"\",\"\",VLOOKUP(B135,HM!$A$10:$B$209,2))","v":""},null,133,null,{"$f":"IF(F135=\"\",\"\",VLOOKUP(F135,HM!$A$10:$B$209,2))","v":""}]
[null,null,{"$f":"IF(B136=\"\",\"\",VLOOKUP(B136,HM!$A$10:$B$209,2))","v":""},null,134,null,{"$f":"IF(F136=\"\",\"\",VLOOKUP(F136,HM!$A$10:$B$209,2))","v":""}]
[null,null,{"$f":"IF(B137=\"\",\"\",VLOOKUP(B137,HM!$A$10:$B$209,2))","v":""},null,135,null,{"$f":"IF(F137=\"\",\"\",VLOOKUP(F137,HM!$A$10:$B$209,2))","v":""}]
[null,null,{"$f":"IF(B138=\"\",\"\",VLOOKUP(B138,HM!$A$10:$B$209,2))","v":""},null,136,null,{"$f":"IF(F138=\"\",\"\",VLOOKUP(F138,HM!$A$10:$B$209,2))","v":""}]
[null,null,{"$f":"IF(B139=\"\",\"\",VLOOKUP(B139,HM!$A$10:$B$209,2))","v":""},null,137,null,{"$f":"IF(F139=\"\",\"\",VLOOKUP(F139,HM!$A$10:$B$209,2))","v":""}]
[null,null,{"$f":"IF(B140=\"\",\"\",VLOOKUP(B140,HM!$A$10:$B$209,2))","v":""},null,138,null,{"$f":"IF(F140=\"\",\"\",VLOOKUP(F140,HM!$A$10:$B$209,2))","v":""}]
[null,null,{"$f":"IF(B141=\"\",\"\",VLOOKUP(B141,HM!$A$10:$B$209,2))","v":""},null,139,null,{"$f":"IF(F141=\"\",\"\",VLOOKUP(F141,HM!$A$10:$B$209,2))","v":""}]
[null,null,{"$f":"IF(B142=\"\",\"\",VLOOKUP(B142,HM!$A$10:$B$209,2))","v":""},null,140,null,{"$f":"IF(F142=\"\",\"\",VLOOKUP(F142,HM!$A$10:$B$209,2))","v":""}]
[null,null,{"$f":"IF(B143=\"\",\"\",VLOOKUP(B143,HM!$A$10:$B$209,2))","v":""},null,141,null,{"$f":"IF(F143=\"\",\"\",VLOOKUP(F143,HM!$A$10:$B$209,2))","v":""}]
[null,null,{"$f":"IF(B144=\"\",\"\",VLOOKUP(B144,HM!$A$10:$B$209,2))","v":""},null,142,null,{"$f":"IF(F144=\"\",\"\",VLOOKUP(F144,HM!$A$10:$B$209,2))","v":""}]
[null,null,{"$f":"IF(B145=\"\",\"\",VLOOKUP(B145,HM!$A$10:$B$209,2))","v":""},null,143,null,{"$f":"IF(F145=\"\",\"\",VLOOKUP(F145,HM!$A$10:$B$209,2))","v":""}]
[null,null,{"$f":"IF(B146=\"\",\"\",VLOOKUP(B146,HM!$A$10:$B$209,2))","v":""},null,144,null,{"$f":"IF(F146=\"\",\"\",VLOOKUP(F146,HM!$A$10:$B$209,2))","v":""}]
[null,null,{"$f":"IF(B147=\"\",\"\",VLOOKUP(B147,HM!$A$10:$B$209,2))","v":""},null,145,null,{"$f":"IF(F147=\"\",\"\",VLOOKUP(F147,HM!$A$10:$B$209,2))","v":""}]
[null,null,{"$f":"IF(B148=\"\",\"\",VLOOKUP(B148,HM!$A$10:$B$209,2))","v":""},null,146,null,{"$f":"IF(F148=\"\",\"\",VLOOKUP(F148,HM!$A$10:$B$209,2))","v":""}]
[null,null,{"$f":"IF(B149=\"\",\"\",VLOOKUP(B149,HM!$A$10:$B$209,2))","v":""},null,147,null,{"$f":"IF(F149=\"\",\"\",VLOOKUP(F149,HM!$A$10:$B$209,2))","v":""}]
[null,null,{"$f":"IF(B150=\"\",\"\",VLOOKUP(B150,HM!$A$10:$B$209,2))","v":""},null,148,null,{"$f":"IF(F150=\"\",\"\",VLOOKUP(F150,HM!$A$10:$B$209,2))","v":""}]
[null,null,{"$f":"IF(B151=\"\",\"\",VLOOKUP(B151,HM!$A$10:$B$209,2))","v":""},null,149,null,{"$f":"IF(F151=\"\",\"\",VLOOKUP(F151,HM!$A$10:$B$209,2))","v":""}]
[null,null,{"$f":"IF(B152=\"\",\"\",VLOOKUP(B152,HM!$A$10:$B$209,2))","v":""},null,150,null,{"$f":"IF(F152=\"\",\"\",VLOOKUP(F152,HM!$A$10:$B$209,2))","v":""}]
[null,null,{"$f":"IF(B153=\"\",\"\",VLOOKUP(B153,HM!$A$10:$B$209,2))","v":""},null,151,null,{"$f":"IF(F153=\"\",\"\",VLOOKUP(F153,HM!$A$10:$B$209,2))","v":""}]
[null,null,{"$f":"IF(B154=\"\",\"\",VLOOKUP(B154,HM!$A$10:$B$209,2))","v":""},null,152,null,{"$f":"IF(F154=\"\",\"\",VLOOKUP(F154,HM!$A$10:$B$209,2))","v":""}]
[null,null,{"$f":"IF(B155=\"\",\"\",VLOOKUP(B155,HM!$A$10:$B$209,2))","v":""},null,153,null,{"$f":"IF(F155=\"\",\"\",VLOOKUP(F155,HM!$A$10:$B$209,2))","v":""}]
[null,null,{"$f":"IF(B156=\"\",\"\",VLOOKUP(B156,HM!$A$10:$B$209,2))","v":""},null,154,null,{"$f":"IF(F156=\"\",\"\",VLOOKUP(F156,HM!$A$10:$B$209,2))","v":""}]
[null,null,{"$f":"IF(B157=\"\",\"\",VLOOKUP(B157,HM!$A$10:$B$209,2))","v":""},null,155,null,{"$f":"IF(F157=\"\",\"\",VLOOKUP(F157,HM!$A$10:$B$209,2))","v":""}]
[null,null,{"$f":"IF(B158=\"\",\"\",VLOOKUP(B158,HM!$A$10:$B$209,2))","v":""},null,156,null,{"$f":"IF(F158=\"\",\"\",VLOOKUP(F158,HM!$A$10:$B$209,2))","v":""}]
[null,null,{"$f":"IF(B159=\"\",\"\",VLOOKUP(B159,HM!$A$10:$B$209,2))","v":""},null,157,null,{"$f":"IF(F159=\"\",\"\",VLOOKUP(F159,HM!$A$10:$B$209,2))","v":""}]
[null,null,{"$f":"IF(B160=\"\",\"\",VLOOKUP(B160,HM!$A$10:$B$209,2))","v":""},null,158,null,{"$f":"IF(F160=\"\",\"\",VLOOKUP(F160,HM!$A$10:$B$209,2))","v":""}]
[null,null,{"$f":"IF(B161=\"\",\"\",VLOOKUP(B161,HM!$A$10:$B$209,2))","v":""},null,159,null,{"$f":"IF(F161=\"\",\"\",VLOOKUP(F161,HM!$A$10:$B$209,2))","v":""}]
[null,null,{"$f":"IF(B162=\"\",\"\",VLOOKUP(B162,HM!$A$10:$B$209,2))","v":""},null,160,null,{"$f":"IF(F162=\"\",\"\",VLOOKUP(F162,HM!$A$10:$B$209,2))","v":""}]
[null,null,{"$f":"IF(B163=\"\",\"\",VLOOKUP(B163,HM!$A$10:$B$209,2))","v":""},null,161,null,{"$f":"IF(F163=\"\",\"\",VLOOKUP(F163,HM!$A$10:$B$209,2))","v":""}]
[null,null,{"$f":"IF(B164=\"\",\"\",VLOOKUP(B164,HM!$A$10:$B$209,2))","v":""},null,162,null,{"$f":"IF(F164=\"\",\"\",VLOOKUP(F164,HM!$A$10:$B$209,2))","v":""}]
[null,null,{"$f":"IF(B165=\"\",\"\",VLOOKUP(B165,HM!$A$10:$B$209,2))","v":""},null,163,null,{"$f":"IF(F165=\"\",\"\",VLOOKUP(F165,HM!$A$10:$B$209,2))","v":""}]
[null,null,{"$f":"IF(B166=\"\",\"\",VLOOKUP(B166,HM!$A$10:$B$209,2))","v":""},null,164,null,{"$f":"IF(F166=\"\",\"\",VLOOKUP(F166,HM!$A$10:$B$209,2))","v":""}]
[null,null,{"$f":"IF(B167=\"\",\"\",VLOOKUP(B167,HM!$A$10:$B$209,2))","v":""},null,165,null,{"$f":"IF(F167=\"\",\"\",VLOOKUP(F167,HM!$A$10:$B$209,2))","v":""}]
[null,null,{"$f":"IF(B168=\"\",\"\",VLOOKUP(B168,HM!$A$10:$B$209,2))","v":""},null,166,null,{"$f":"IF(F168=\"\",\"\",VLOOKUP(F168,HM!$A$10:$B$209,2))","v":""}]
[null,null,{"$f":"IF(B169=\"\",\"\",VLOOKUP(B169,HM!$A$10:$B$209,2))","v":""},null,167,null,{"$f":"IF(F169=\"\",\"\",VLOOKUP(F169,HM!$A$10:$B$209,2))","v":""}]
[null,null,{"$f":"IF(B170=\"\",\"\",VLOOKUP(B170,HM!$A$10:$B$209,2))","v":""},null,168,null,{"$f":"IF(F170=\"\",\"\",VLOOKUP(F170,HM!$A$10:$B$209,2))","v":""}]
[null,null,{"$f":"IF(B171=\"\",\"\",VLOOKUP(B171,HM!$A$10:$B$209,2))","v":""},null,169,null,{"$f":"IF(F171=\"\",\"\",VLOOKUP(F171,HM!$A$10:$B$209,2))","v":""}]
[null,null,{"$f":"IF(B172=\"\",\"\",VLOOKUP(B172,HM!$A$10:$B$209,2))","v":""},null,170,null,{"$f":"IF(F172=\"\",\"\",VLOOKUP(F172,HM!$A$10:$B$209,2))","v":""}]
[null,null,{"$f":"IF(B173=\"\",\"\",VLOOKUP(B173,HM!$A$10:$B$209,2))","v":""},null,171,null,{"$f":"IF(F173=\"\",\"\",VLOOKUP(F173,HM!$A$10:$B$209,2))","v":""}]
[null,null,{"$f":"IF(B174=\"\",\"\",VLOOKUP(B174,HM!$A$10:$B$209,2))","v":""},null,172,null,{"$f":"IF(F174=\"\",\"\",VLOOKUP(F174,HM!$A$10:$B$209,2))","v":""}]
[null,null,{"$f":"IF(B175=\"\",\"\",VLOOKUP(B175,HM!$A$10:$B$209,2))","v":""},null,173,null,{"$f":"IF(F175=\"\",\"\",VLOOKUP(F175,HM!$A$10:$B$209,2))","v":""}]
[null,null,{"$f":"IF(B176=\"\",\"\",VLOOKUP(B176,HM!$A$10:$B$209,2))","v":""},null,174,null,{"$f":"IF(F176=\"\",\"\",VLOOKUP(F176,HM!$A$10:$B$209,2))","v":""}]
[null,null,{"$f":"IF(B177=\"\",\"\",VLOOKUP(B177,HM!$A$10:$B$209,2))","v":""},null,175,null,{"$f":"IF(F177=\"\",\"\",VLOOKUP(F177,HM!$A$10:$B$209,2))","v":""}]
[null,null,{"$f":"IF(B178=\"\",\"\",VLOOKUP(B178,HM!$A$10:$B$209,2))","v":""},null,176,null,{"$f":"IF(F178=\"\",\"\",VLOOKUP(F178,HM!$A$10:$B$209,2))","v":""}]
[null,null,{"$f":"IF(B179=\"\",\"\",VLOOKUP(B179,HM!$A$10:$B$209,2))","v":""},null,177,null,{"$f":"IF(F179=\"\",\"\",VLOOKUP(F179,HM!$A$10:$B$209,2))","v":""}]
[null,null,{"$f":"IF(B180=\"\",\"\",VLOOKUP(B180,HM!$A$10:$B$209,2))","v":""},null,178,null,{"$f":"IF(F180=\"\",\"\",VLOOKUP(F180,HM!$A$10:$B$209,2))","v":""}]
[null,null,{"$f":"IF(B181=\"\",\"\",VLOOKUP(B181,HM!$A$10:$B$209,2))","v":""},null,179,null,{"$f":"IF(F181=\"\",\"\",VLOOKUP(F181,HM!$A$10:$B$209,2))","v":""}]
[null,null,{"$f":"IF(B182=\"\",\"\",VLOOKUP(B182,HM!$A$10:$B$209,2))","v":""},null,180,null,{"$f":"IF(F182=\"\",\"\",VLOOKUP(F182,HM!$A$10:$B$209,2))","v":""}]
[null,null,{"$f":"IF(B183=\"\",\"\",VLOOKUP(B183,HM!$A$10:$B$209,2))","v":""},null,181,null,{"$f":"IF(F183=\"\",\"\",VLOOKUP(F183,HM!$A$10:$B$209,2))","v":""}]
[null,null,{"$f":"IF(B184=\"\",\"\",VLOOKUP(B184,HM!$A$10:$B$209,2))","v":""},null,182,null,{"$f":"IF(F184=\"\",\"\",VLOOKUP(F184,HM!$A$10:$B$209,2))","v":""}]
[null,null,{"$f":"IF(B185=\"\",\"\",VLOOKUP(B185,HM!$A$10:$B$209,2))","v":""},null,183,null,{"$f":"IF(F185=\"\",\"\",VLOOKUP(F185,HM!$A$10:$B$209,2))","v":""}]
[null,null,{"$f":"IF(B186=\"\",\"\",VLOOKUP(B186,HM!$A$10:$B$209,2))","v":""},null,184,null,{"$f":"IF(F186=\"\",\"\",VLOOKUP(F186,HM!$A$10:$B$209,2))","v":""}]
[null,null,{"$f":"IF(B187=\"\",\"\",VLOOKUP(B187,HM!$A$10:$B$209,2))","v":""},null,185,null,{"$f":"IF(F187=\"\",\"\",VLOOKUP(F187,HM!$A$10:$B$209,2))","v":""}]
[null,null,{"$f":"IF(B188=\"\",\"\",VLOOKUP(B188,HM!$A$10:$B$209,2))","v":""},null,186,null,{"$f":"IF(F188=\"\",\"\",VLOOKUP(F188,HM!$A$10:$B$209,2))","v":""}]
[null,null,{"$f":"IF(B189=\"\",\"\",VLOOKUP(B189,HM!$A$10:$B$209,2))","v":""},null,187,null,{"$f":"IF(F189=\"\",\"\",VLOOKUP(F189,HM!$A$10:$B$209,2))","v":""}]
[null,null,{"$f":"IF(B190=\"\",\"\",VLOOKUP(B190,HM!$A$10:$B$209,2))","v":""},null,188,null,{"$f":"IF(F190=\"\",\"\",VLOOKUP(F190,HM!$A$10:$B$209,2))","v":""}]
[null,null,{"$f":"IF(B191=\"\",\"\",VLOOKUP(B191,HM!$A$10:$B$209,2))","v":""},null,189,null,{"$f":"IF(F191=\"\",\"\",VLOOKUP(F191,HM!$A$10:$B$209,2))","v":""}]
[null,null,{"$f":"IF(B192=\"\",\"\",VLOOKUP(B192,HM!$A$10:$B$209,2))","v":""},null,190,null,{"$f":"IF(F192=\"\",\"\",VLOOKUP(F192,HM!$A$10:$B$209,2))","v":""}]
[null,null,{"$f":"IF(B193=\"\",\"\",VLOOKUP(B193,HM!$A$10:$B$209,2))","v":""},null,191,null,{"$f":"IF(F193=\"\",\"\",VLOOKUP(F193,HM!$A$10:$B$209,2))","v":""}]
[null,null,{"$f":"IF(B194=\"\",\"\",VLOOKUP(B194,HM!$A$10:$B$209,2))","v":""},null,192,null,{"$f":"IF(F194=\"\",\"\",VLOOKUP(F194,HM!$A$10:$B$209,2))","v":""}]
[null,null,{"$f":"IF(B195=\"\",\"\",VLOOKUP(B195,HM!$A$10:$B$209,2))","v":""},null,193,null,{"$f":"IF(F195=\"\",\"\",VLOOKUP(F195,HM!$A$10:$B$209,2))","v":""}]
[null,null,{"$f":"IF(B196=\"\",\"\",VLOOKUP(B196,HM!$A$10:$B$209,2))","v":""},null,194,null,{"$f":"IF(F196=\"\",\"\",VLOOKUP(F196,HM!$A$10:$B$209,2))","v":""}]
[null,null,{"$f":"IF(B197=\"\",\"\",VLOOKUP(B197,HM!$A$10:$B$209,2))","v":""},null,195,null,{"$f":"IF(F197=\"\",\"\",VLOOKUP(F197,HM!$A$10:$B$209,2))","v":""}]
[null,null,{"$f":"IF(B198=\"\",\"\",VLOOKUP(B198,HM!$A$10:$B$209,2))","v":""},null,196,null,{"$f":"IF(F198=\"\",\"\",VLOOKUP(F198,HM!$A$10:$B$209,2))","v":""}]
[null,null,{"$f":"IF(B199=\"\",\"\",VLOOKUP(B199,HM!$A$10:$B$209,2))","v":""},null,197,null,{"$f":"IF(F199=\"\",\"\",VLOOKUP(F199,HM!$A$10:$B$209,2))","v":""}]
[null,null,{"$f":"IF(B200=\"\",\"\",VLOOKUP(B200,HM!$A$10:$B$209,2))","v":""},null,198,null,{"$f":"IF(F200=\"\",\"\",VLOOKUP(F200,HM!$A$10:$B$209,2))","v":""}]
[null,null,{"$f":"IF(B201=\"\",\"\",VLOOKUP(B201,HM!$A$10:$B$209,2))","v":""},null,199,null,{"$f":"IF(F201=\"\",\"\",VLOOKUP(F201,HM!$A$10:$B$209,2))","v":""}]
[null,null,{"$f":"IF(B202=\"\",\"\",VLOOKUP(B202,HM!$A$10:$B$209,2))","v":""},null,200,null,{"$f":"IF(F202=\"\",\"\",VLOOKUP(F202,HM!$A$10:$B$209,2))","v":""}]

{"sheet":"Sammler","index":10,"n_rows":202,"n_cols":64,"rows_kept":202,"cut":false,"hidden":false,"merged":[[0,28,0,29],[0,24,0,26],[0,31,0,33],[0,62,0,63],[0,53,0,54],[0,35,0,36],[0,38,0,39],[0,50,0,51],[0,41,0,42],[0,44,0,45],[0,47,0,48],[0,56,0,57],[0,59,0,60],[0,1,0,3],[0,5,0,7],[0,9,0,11],[0,13,0,15],[0,21,0,22],[0,17,0,19]]}
[null,"Jubiläumspokal",null,null,null,"Trudelpokal",null,null,null,"Jugendpokal",null,null,null,"Schülerpokal",null,null,null,"Culemannpokal",null,null,null,"Freihandpokal",null,null,"Damenpokal",null,null,null,"W.Streich Pokal",null,null,"Auflagepokal",null,null,null,"Preisschießen KK",null,null,"Preisschießen LG",null,null,"Luftpistole Jugend",null,null,"Luftpistole Schützen",null,null,"Luftpistole Damen",null,null,"Bogenpokal",null,null,"Bogenpokal\n-Schüler-",null,null,"Bogenpreisschießen",null,null,"Sauenschießen",null,null,"Glückspreisschießen"]
[null,"Vor- und Nachname:","Ringe:","schlecht.\nEinzelschuss",null,"Vor- und Nachname:","Ringe:","schlecht.\nEinzelschuss",null,"Vor- und Nachname:","Ringe:","schlecht.\nEinzelschuss",null,"Vor- und Nachname:","Ringe:","schlecht.\nEinzelschuss",null,"Vor- und Nachname:","Ringe:","schlecht.\nEinzelschuss",null,"Vor- und Nachname:","Ringe:",null,"Vor- und Nachname:","Ringe:","schlecht.\nEinzelschuss",null,"Vor- und Nachname:","Ringe:",null,"Vor- und Nachname:","Ringe:","Teiler:",null,"Vor- und Nachname:","Teiler:",null,"Vor- und Nachname:","Teiler:",null,"Vor- und Nachname:","Ringe:",null,"Vor- und Nachname:","Ringe:",null,"Vor- und Nachname:","Ringe:",null,"Vor- und Nachname:","Ringe:",null,"Vor- und Nachname:","Ringe:",null,"Vor- und Nachname:","Ringe:",null,"Vor- und Nachname:","Ringe:",null,"Vor- und Nachname:","Überdeckung:"]
[1,{"$f":"IF(JTP!B3=\"\",\"\",JTP!C3)","v":""},{"$f":"IF(JTP!B3=\"\",0,JTP!D3)","v":0},{"$f":"IF(JTP!B3=\"\",0,JTP!E3)","v":0},null,{"$f":"IF(JTP!G3=\"\",\"\",JTP!H3)","v":""},{"$f":"IF(JTP!G3=\"\",0,JTP!I3)","v":0},{"$f":"IF(JTP!G3=\"\",0,JTP!J3)","v":0},null,{"$f":"IF(JSP!B3=\"\",\"\",JSP!C3)","v":""},{"$f":"IF(JSP!B3=\"\",0,JSP!D3)","v":0},{"$f":"IF(JSP!B3=\"\",0,JSP!E3)","v":0},null,{"$f":"IF(JSP!G3=\"\",\"\",JSP!H3)","v":""},{"$f":"IF(JSP!G3=\"\",0,JSP!I3)","v":0},{"$f":"IF(JSP!G3=\"\",0,JSP!J3)","v":0},null,{"$f":"IF(CFP!B3=\"\",\"\",CFP!C3)","v":""},{"$f":"IF(CFP!B3=\"\",0,CFP!D3)","v":0},{"$f":"IF(CFP!B3=\"\",0,CFP!E3)","v":0},null,{"$f":"IF(CFP!G3=\"\",\"\",CFP!H3)","v":""},{"$f":"IF(CFP!G3=\"\",0,CFP!I3)","v":0},null,{"$f":"IF(DWP!B3=\"\",\"\",DWP!C3)","v":""},{"$f":"IF(DWP!D3=\"\",0,DWP!D3)","v":0},{"$f":"IF(DWP!D3=\"\",0,DWP!E3)","v":0},null,{"$f":"IF(DWP!G3=\"\",\"\",DWP!H3)","v":""},{"$f":"IF(DWP!I3=\"\",0,DWP!I3)","v":0},null,{"$f":"IF(ALP!B3=\"\",\"\",ALP!C3)","v":""},{"$f":"IF(ALP!D3=\"\",0,ALP!D3)","v":0},{"$f":"IF(ALP!E3=\"\",0,ALP!E3)","v":0},null,{"$f":"IF(PS!B5=\"\",\"\",PS!C5)","v":""},{"$f":"IF(PS!B5=\"\",\"\",PS!D5)","v":""},null,{"$f":"IF(PS!F5=\"\",\"\",PS!G5)","v":""},{"$f":"IF(PS!F5=\"\",\"\",PS!H5)","v":""},null,{"$f":"IF(LP!A3=\"\",\"\",LP!B3)","v":""},{"$f":"IF(LP!A3=\"\",0,LP!C3)","v":0},null,{"$f":"IF(LP!E3=\"\",\"\",LP!F3)","v":""},{"$f":"IF(LP!E3=\"\",0,LP!G3)","v":0},null,{"$f":"IF(LP!I3=\"\",\"\",LP!J3)","v":""},{"$f":"IF(LP!I3=\"\",0,LP!K3)","v":0},null,{"$f":"IF(BPBPS!B3=\"\",\"\",BPBPS!C3)","v":""},{"$f":"IF(BPBPS!B3=\"\",0,BPBPS!D3)","v":0},null,{"$f":"IF(BPBPS!F3=\"\",\"\",BPBPS!G3)","v":""},{"$f":"IF(BPBPS!H3=\"\",0,BPBPS!H3)","v":0},null,{"$f":"IF(BPBPS!J3=\"\",\"\",BPBPS!K3)","v":""},{"$f":"IF(BPBPS!J3=\"\",0,BPBPS!L3)","v":0},null,{"$f":"IF(SSGP!B3=\"\",\"\",SSGP!C3)","v":""},{"$f":"IF(SSGP!B3=\"\",0,SSGP!D3)","v":0},null,{"$f":"IF(SSGP!F3=\"\",\"\",SSGP!G3)","v":""},{"$f":"IF(SSGP!F3=\"\",0,SSGP!H3)","v":0}]
[2,{"$f":"IF(JTP!B4=\"\",\"\",JTP!C4)","v":""},{"$f":"IF(JTP!B4=\"\",0,JTP!D4)","v":0},{"$f":"IF(JTP!B4=\"\",0,JTP!E4)","v":0},null,{"$f":"IF(JTP!G4=\"\",\"\",JTP!H4)","v":""},{"$f":"IF(JTP!G4=\"\",0,JTP!I4)","v":0},{"$f":"IF(JTP!G4=\"\",0,JTP!J4)","v":0},null,{"$f":"IF(JSP!B4=\"\",\"\",JSP!C4)","v":""},{"$f":"IF(JSP!B4=\"\",0,JSP!D4)","v":0},{"$f":"IF(JSP!B4=\"\",0,JSP!E4)","v":0},null,{"$f":"IF(JSP!G4=\"\",\"\",JSP!H4)","v":""},{"$f":"IF(JSP!G4=\"\",0,JSP!I4)","v":0},{"$f":"IF(JSP!G4=\"\",0,JSP!J4)","v":0},null,{"$f":"IF(CFP!B4=\"\",\"\",CFP!C4)","v":""},{"$f":"IF(CFP!B4=\"\",0,CFP!D4)","v":0},{"$f":"IF(CFP!B4=\"\",0,CFP!E4)","v":0},null,{"$f":"IF(CFP!G4=\"\",\"\",CFP!H4)","v":""},{"$f":"IF(CFP!G4=\"\",0,CFP!I4)","v":0},null,{"$f":"IF(DWP!B4=\"\",\"\",DWP!C4)","v":""},{"$f":"IF(DWP!D4=\"\",0,DWP!D4)","v":0},{"$f":"IF(DWP!D4=\"\",0,DWP!E4)","v":0},null,{"$f":"IF(DWP!G4=\"\",\"\",DWP!H4)","v":""},{"$f":"IF(DWP!I4=\"\",0,DWP!I4)","v":0},null,{"$f":"IF(ALP!B4=\"\",\"\",ALP!C4)","v":""},{"$f":"IF(ALP!D4=\"\",0,ALP!D4)","v":0},{"$f":"IF(ALP!E4=\"\",0,ALP!E4)","v":0},null,{"$f":"IF(PS!B6=\"\",\"\",PS!C6)","v":""},{"$f":"IF(PS!B6=\"\",\"\",PS!D6)","v":""},null,{"$f":"IF(PS!F6=\"\",\"\",PS!G6)","v":""},{"$f":"IF(PS!F6=\"\",\"\",PS!H6)","v":""},null,{"$f":"IF(LP!A4=\"\",\"\",LP!B4)","v":""},{"$f":"IF(LP!A4=\"\",0,LP!C4)","v":0},null,{"$f":"IF(LP!E4=\"\",\"\",LP!F4)","v":""},{"$f":"IF(LP!E4=\"\",0,LP!G4)","v":0},null,{"$f":"IF(LP!I4=\"\",\"\",LP!J4)","v":""},{"$f":"IF(LP!I4=\"\",0,LP!K4)","v":0},null,{"$f":"IF(BPBPS!B4=\"\",\"\",BPBPS!C4)","v":""},{"$f":"IF(BPBPS!B4=\"\",0,BPBPS!D4)","v":0},null,{"$f":"IF(BPBPS!F4=\"\",\"\",BPBPS!G4)","v":""},{"$f":"IF(BPBPS!H4=\"\",0,BPBPS!H4)","v":0},null,{"$f":"IF(BPBPS!J4=\"\",\"\",BPBPS!K4)","v":""},{"$f":"IF(BPBPS!J4=\"\",0,BPBPS!L4)","v":0},null,{"$f":"IF(SSGP!B4=\"\",\"\",SSGP!C4)","v":""},{"$f":"IF(SSGP!B4=\"\",0,SSGP!D4)","v":0},null,{"$f":"IF(SSGP!F4=\"\",\"\",SSGP!G4)","v":""},{"$f":"IF(SSGP!F4=\"\",0,SSGP!H4)","v":0}]
[3,{"$f":"IF(JTP!B5=\"\",\"\",JTP!C5)","v":""},{"$f":"IF(JTP!B5=\"\",0,JTP!D5)","v":0},{"$f":"IF(JTP!B5=\"\",0,JTP!E5)","v":0},null,{"$f":"IF(JTP!G5=\"\",\"\",JTP!H5)","v":""},{"$f":"IF(JTP!G5=\"\",0,JTP!I5)","v":0},{"$f":"IF(JTP!G5=\"\",0,JTP!J5)","v":0},null,{"$f":"IF(JSP!B5=\"\",\"\",JSP!C5)","v":""},{"$f":"IF(JSP!B5=\"\",0,JSP!D5)","v":0},{"$f":"IF(JSP!B5=\"\",0,JSP!E5)","v":0},null,{"$f":"IF(JSP!G5=\"\",\"\",JSP!H5)","v":""},{"$f":"IF(JSP!G5=\"\",0,JSP!I5)","v":0},{"$f":"IF(JSP!G5=\"\",0,JSP!J5)","v":0},null,{"$f":"IF(CFP!B5=\"\",\"\",CFP!C5)","v":""},{"$f":"IF(CFP!B5=\"\",0,CFP!D5)","v":0},{"$f":"IF(CFP!B5=\"\",0,CFP!E5)","v":0},null,{"$f":"IF(CFP!G5=\"\",\"\",CFP!H5)","v":""},{"$f":"IF(CFP!G5=\"\",0,CFP!I5)","v":0},null,{"$f":"IF(DWP!B5=\"\",\"\",DWP!C5)","v":""},{"$f":"IF(DWP!D5=\"\",0,DWP!D5)","v":0},{"$f":"IF(DWP!D5=\"\",0,DWP!E5)","v":0},null,{"$f":"IF(DWP!G5=\"\",\"\",DWP!H5)","v":""},{"$f":"IF(DWP!I5=\"\",0,DWP!I5)","v":0},null,{"$f":"IF(ALP!B5=\"\",\"\",ALP!C5)","v":""},{"$f":"IF(ALP!D5=\"\",0,ALP!D5)","v":0},{"$f":"IF(ALP!E5=\"\",0,ALP!E5)","v":0},null,{"$f":"IF(PS!B7=\"\",\"\",PS!C7)","v":""},{"$f":"IF(PS!B7=\"\",\"\",PS!D7)","v":""},null,{"$f":"IF(PS!F7=\"\",\"\",PS!G7)","v":""},{"$f":"IF(PS!F7=\"\",\"\",PS!H7)","v":""},null,{"$f":"IF(LP!A5=\"\",\"\",LP!B5)","v":""},{"$f":"IF(LP!A5=\"\",0,LP!C5)","v":0},null,{"$f":"IF(LP!E5=\"\",\"\",LP!F5)","v":""},{"$f":"IF(LP!E5=\"\",0,LP!G5)","v":0},null,{"$f":"IF(LP!I5=\"\",\"\",LP!J5)","v":""},{"$f":"IF(LP!I5=\"\",0,LP!K5)","v":0},null,{"$f":"IF(BPBPS!B5=\"\",\"\",BPBPS!C5)","v":""},{"$f":"IF(BPBPS!B5=\"\",0,BPBPS!D5)","v":0},null,{"$f":"IF(BPBPS!F5=\"\",\"\",BPBPS!G5)","v":""},{"$f":"IF(BPBPS!H5=\"\",0,BPBPS!H5)","v":0},null,{"$f":"IF(BPBPS!J5=\"\",\"\",BPBPS!K5)","v":""},{"$f":"IF(BPBPS!J5=\"\",0,BPBPS!L5)","v":0},null,{"$f":"IF(SSGP!B5=\"\",\"\",SSGP!C5)","v":""},{"$f":"IF(SSGP!B5=\"\",0,SSGP!D5)","v":0},null,{"$f":"IF(SSGP!F5=\"\",\"\",SSGP!G5)","v":""},{"$f":"IF(SSGP!F5=\"\",0,SSGP!H5)","v":0}]
[4,{"$f":"IF(JTP!B6=\"\",\"\",JTP!C6)","v":""},{"$f":"IF(JTP!B6=\"\",0,JTP!D6)","v":0},{"$f":"IF(JTP!B6=\"\",0,JTP!E6)","v":0},null,{"$f":"IF(JTP!G6=\"\",\"\",JTP!H6)","v":""},{"$f":"IF(JTP!G6=\"\",0,JTP!I6)","v":0},{"$f":"IF(JTP!G6=\"\",0,JTP!J6)","v":0},null,{"$f":"IF(JSP!B6=\"\",\"\",JSP!C6)","v":""},{"$f":"IF(JSP!B6=\"\",0,JSP!D6)","v":0},{"$f":"IF(JSP!B6=\"\",0,JSP!E6)","v":0},null,{"$f":"IF(JSP!G6=\"\",\"\",JSP!H6)","v":""},{"$f":"IF(JSP!G6=\"\",0,JSP!I6)","v":0},{"$f":"IF(JSP!G6=\"\",0,JSP!J6)","v":0},null,{"$f":"IF(CFP!B6=\"\",\"\",CFP!C6)","v":""},{"$f":"IF(CFP!B6=\"\",0,CFP!D6)","v":0},{"$f":"IF(CFP!B6=\"\",0,CFP!E6)","v":0},null,{"$f":"IF(CFP!G6=\"\",\"\",CFP!H6)","v":""},{"$f":"IF(CFP!G6=\"\",0,CFP!I6)","v":0},null,{"$f":"IF(DWP!B6=\"\",\"\",DWP!C6)","v":""},{"$f":"IF(DWP!D6=\"\",0,DWP!D6)","v":0},{"$f":"IF(DWP!D6=\"\",0,DWP!E6)","v":0},null,{"$f":"IF(DWP!G6=\"\",\"\",DWP!H6)","v":""},{"$f":"IF(DWP!I6=\"\",0,DWP!I6)","v":0},null,{"$f":"IF(ALP!B6=\"\",\"\",ALP!C6)","v":""},{"$f":"IF(ALP!D6=\"\",0,ALP!D6)","v":0},{"$f":"IF(ALP!E6=\"\",0,ALP!E6)","v":0},null,{"$f":"IF(PS!B8=\"\",\"\",PS!C8)","v":""},{"$f":"IF(PS!B8=\"\",\"\",PS!D8)","v":""},null,{"$f":"IF(PS!F8=\"\",\"\",PS!G8)","v":""},{"$f":"IF(PS!F8=\"\",\"\",PS!H8)","v":""},null,{"$f":"IF(LP!A6=\"\",\"\",LP!B6)","v":""},{"$f":"IF(LP!A6=\"\",0,LP!C6)","v":0},null,{"$f":"IF(LP!E6=\"\",\"\",LP!F6)","v":""},{"$f":"IF(LP!E6=\"\",0,LP!G6)","v":0},null,{"$f":"IF(LP!I6=\"\",\"\",LP!J6)","v":""},{"$f":"IF(LP!I6=\"\",0,LP!K6)","v":0},null,{"$f":"IF(BPBPS!B6=\"\",\"\",BPBPS!C6)","v":""},{"$f":"IF(BPBPS!B6=\"\",0,BPBPS!D6)","v":0},null,{"$f":"IF(BPBPS!F6=\"\",\"\",BPBPS!G6)","v":""},{"$f":"IF(BPBPS!H6=\"\",0,BPBPS!H6)","v":0},null,{"$f":"IF(BPBPS!J6=\"\",\"\",BPBPS!K6)","v":""},{"$f":"IF(BPBPS!J6=\"\",0,BPBPS!L6)","v":0},null,{"$f":"IF(SSGP!B6=\"\",\"\",SSGP!C6)","v":""},{"$f":"IF(SSGP!B6=\"\",0,SSGP!D6)","v":0},null,{"$f":"IF(SSGP!F6=\"\",\"\",SSGP!G6)","v":""},{"$f":"IF(SSGP!F6=\"\",0,SSGP!H6)","v":0}]
[5,{"$f":"IF(JTP!B7=\"\",\"\",JTP!C7)","v":""},{"$f":"IF(JTP!B7=\"\",0,JTP!D7)","v":0},{"$f":"IF(JTP!B7=\"\",0,JTP!E7)","v":0},null,{"$f":"IF(JTP!G7=\"\",\"\",JTP!H7)","v":""},{"$f":"IF(JTP!G7=\"\",0,JTP!I7)","v":0},{"$f":"IF(JTP!G7=\"\",0,JTP!J7)","v":0},null,{"$f":"IF(JSP!B7=\"\",\"\",JSP!C7)","v":""},{"$f":"IF(JSP!B7=\"\",0,JSP!D7)","v":0},{"$f":"IF(JSP!B7=\"\",0,JSP!E7)","v":0},null,{"$f":"IF(JSP!G7=\"\",\"\",JSP!H7)","v":""},{"$f":"IF(JSP!G7=\"\",0,JSP!I7)","v":0},{"$f":"IF(JSP!G7=\"\",0,JSP!J7)","v":0},null,{"$f":"IF(CFP!B7=\"\",\"\",CFP!C7)","v":""},{"$f":"IF(CFP!B7=\"\",0,CFP!D7)","v":0},{"$f":"IF(CFP!B7=\"\",0,CFP!E7)","v":0},null,{"$f":"IF(CFP!G7=\"\",\"\",CFP!H7)","v":""},{"$f":"IF(CFP!G7=\"\",0,CFP!I7)","v":0},null,{"$f":"IF(DWP!B7=\"\",\"\",DWP!C7)","v":""},{"$f":"IF(DWP!D7=\"\",0,DWP!D7)","v":0},{"$f":"IF(DWP!D7=\"\",0,DWP!E7)","v":0},null,{"$f":"IF(DWP!G7=\"\",\"\",DWP!H7)","v":""},{"$f":"IF(DWP!I7=\"\",0,DWP!I7)","v":0},null,{"$f":"IF(ALP!B7=\"\",\"\",ALP!C7)","v":""},{"$f":"IF(ALP!D7=\"\",0,ALP!D7)","v":0},{"$f":"IF(ALP!E7=\"\",0,ALP!E7)","v":0},null,{"$f":"IF(PS!B9=\"\",\"\",PS!C9)","v":""},{"$f":"IF(PS!B9=\"\",\"\",PS!D9)","v":""},null,{"$f":"IF(PS!F9=\"\",\"\",PS!G9)","v":""},{"$f":"IF(PS!F9=\"\",\"\",PS!H9)","v":""},null,{"$f":"IF(LP!A7=\"\",\"\",LP!B7)","v":""},{"$f":"IF(LP!A7=\"\",0,LP!C7)","v":0},null,{"$f":"IF(LP!E7=\"\",\"\",LP!F7)","v":""},{"$f":"IF(LP!E7=\"\",0,LP!G7)","v":0},null,{"$f":"IF(LP!I7=\"\",\"\",LP!J7)","v":""},{"$f":"IF(LP!I7=\"\",0,LP!K7)","v":0},null,{"$f":"IF(BPBPS!B7=\"\",\"\",BPBPS!C7)","v":""},{"$f":"IF(BPBPS!B7=\"\",0,BPBPS!D7)","v":0},null,{"$f":"IF(BPBPS!F7=\"\",\"\",BPBPS!G7)","v":""},{"$f":"IF(BPBPS!H7=\"\",0,BPBPS!H7)","v":0},null,{"$f":"IF(BPBPS!J7=\"\",\"\",BPBPS!K7)","v":""},{"$f":"IF(BPBPS!J7=\"\",0,BPBPS!L7)","v":0},null,{"$f":"IF(SSGP!B7=\"\",\"\",SSGP!C7)","v":""},{"$f":"IF(SSGP!B7=\"\",0,SSGP!D7)","v":0},null,{"$f":"IF(SSGP!F7=\"\",\"\",SSGP!G7)","v":""},{"$f":"IF(SSGP!F7=\"\",0,SSGP!H7)","v":0}]
[6,{"$f":"IF(JTP!B8=\"\",\"\",JTP!C8)","v":""},{"$f":"IF(JTP!B8=\"\",0,JTP!D8)","v":0},{"$f":"IF(JTP!B8=\"\",0,JTP!E8)","v":0},null,{"$f":"IF(JTP!G8=\"\",\"\",JTP!H8)","v":""},{"$f":"IF(JTP!G8=\"\",0,JTP!I8)","v":0},{"$f":"IF(JTP!G8=\"\",0,JTP!J8)","v":0},null,{"$f":"IF(JSP!B8=\"\",\"\",JSP!C8)","v":""},{"$f":"IF(JSP!B8=\"\",0,JSP!D8)","v":0},{"$f":"IF(JSP!B8=\"\",0,JSP!E8)","v":0},null,{"$f":"IF(JSP!G8=\"\",\"\",JSP!H8)","v":""},{"$f":"IF(JSP!G8=\"\",0,JSP!I8)","v":0},{"$f":"IF(JSP!G8=\"\",0,JSP!J8)","v":0},null,{"$f":"IF(CFP!B8=\"\",\"\",CFP!C8)","v":""},{"$f":"IF(CFP!B8=\"\",0,CFP!D8)","v":0},{"$f":"IF(CFP!B8=\"\",0,CFP!E8)","v":0},null,{"$f":"IF(CFP!G8=\"\",\"\",CFP!H8)","v":""},{"$f":"IF(CFP!G8=\"\",0,CFP!I8)","v":0},null,{"$f":"IF(DWP!B8=\"\",\"\",DWP!C8)","v":""},{"$f":"IF(DWP!D8=\"\",0,DWP!D8)","v":0},{"$f":"IF(DWP!D8=\"\",0,DWP!E8)","v":0},null,{"$f":"IF(DWP!G8=\"\",\"\",DWP!H8)","v":""},{"$f":"IF(DWP!I8=\"\",0,DWP!I8)","v":0},null,{"$f":"IF(ALP!B8=\"\",\"\",ALP!C8)","v":""},{"$f":"IF(ALP!D8=\"\",0,ALP!D8)","v":0},{"$f":"IF(ALP!E8=\"\",0,ALP!E8)","v":0},null,{"$f":"IF(PS!B10=\"\",\"\",PS!C10)","v":""},{"$f":"IF(PS!B10=\"\",\"\",PS!D10)","v":""},null,{"$f":"IF(PS!F10=\"\",\"\",PS!G10)","v":""},{"$f":"IF(PS!F10=\"\",\"\",PS!H10)","v":""},null,{"$f":"IF(LP!A8=\"\",\"\",LP!B8)","v":""},{"$f":"IF(LP!A8=\"\",0,LP!C8)","v":0},null,{"$f":"IF(LP!E8=\"\",\"\",LP!F8)","v":""},{"$f":"IF(LP!E8=\"\",0,LP!G8)","v":0},null,{"$f":"IF(LP!I8=\"\",\"\",LP!J8)","v":""},{"$f":"IF(LP!I8=\"\",0,LP!K8)","v":0},null,{"$f":"IF(BPBPS!B8=\"\",\"\",BPBPS!C8)","v":""},{"$f":"IF(BPBPS!B8=\"\",0,BPBPS!D8)","v":0},null,{"$f":"IF(BPBPS!F8=\"\",\"\",BPBPS!G8)","v":""},{"$f":"IF(BPBPS!H8=\"\",0,BPBPS!H8)","v":0},null,{"$f":"IF(BPBPS!J8=\"\",\"\",BPBPS!K8)","v":""},{"$f":"IF(BPBPS!J8=\"\",0,BPBPS!L8)","v":0},null,{"$f":"IF(SSGP!B8=\"\",\"\",SSGP!C8)","v":""},{"$f":"IF(SSGP!B8=\"\",0,SSGP!D8)","v":0},null,{"$f":"IF(SSGP!F8=\"\",\"\",SSGP!G8)","v":""},{"$f":"IF(SSGP!F8=\"\",0,SSGP!H8)","v":0}]
[7,{"$f":"IF(JTP!B9=\"\",\"\",JTP!C9)","v":""},{"$f":"IF(JTP!B9=\"\",0,JTP!D9)","v":0},{"$f":"IF(JTP!B9=\"\",0,JTP!E9)","v":0},null,{"$f":"IF(JTP!G9=\"\",\"\",JTP!H9)","v":""},{"$f":"IF(JTP!G9=\"\",0,JTP!I9)","v":0},{"$f":"IF(JTP!G9=\"\",0,JTP!J9)","v":0},null,{"$f":"IF(JSP!B9=\"\",\"\",JSP!C9)","v":""},{"$f":"IF(JSP!B9=\"\",0,JSP!D9)","v":0},{"$f":"IF(JSP!B9=\"\",0,JSP!E9)","v":0},null,{"$f":"IF(JSP!G9=\"\",\"\",JSP!H9)","v":""},{"$f":"IF(JSP!G9=\"\",0,JSP!I9)","v":0},{"$f":"IF(JSP!G9=\"\",0,JSP!J9)","v":0},null,{"$f":"IF(CFP!B9=\"\",\"\",CFP!C9)","v":""},{"$f":"IF(CFP!B9=\"\",0,CFP!D9)","v":0},{"$f":"IF(CFP!B9=\"\",0,CFP!E9)","v":0},null,{"$f":"IF(CFP!G9=\"\",\"\",CFP!H9)","v":""},{"$f":"IF(CFP!G9=\"\",0,CFP!I9)","v":0},null,{"$f":"IF(DWP!B9=\"\",\"\",DWP!C9)","v":""},{"$f":"IF(DWP!D9=\"\",0,DWP!D9)","v":0},{"$f":"IF(DWP!D9=\"\",0,DWP!E9)","v":0},null,{"$f":"IF(DWP!G9=\"\",\"\",DWP!H9)","v":""},{"$f":"IF(DWP!I9=\"\",0,DWP!I9)","v":0},null,{"$f":"IF(ALP!B9=\"\",\"\",ALP!C9)","v":""},{"$f":"IF(ALP!D9=\"\",0,ALP!D9)","v":0},{"$f":"IF(ALP!E9=\"\",0,ALP!E9)","v":0},null,{"$f":"IF(PS!B11=\"\",\"\",PS!C11)","v":""},{"$f":"IF(PS!B11=\"\",\"\",PS!D11)","v":""},null,{"$f":"IF(PS!F11=\"\",\"\",PS!G11)","v":""},{"$f":"IF(PS!F11=\"\",\"\",PS!H11)","v":""},null,{"$f":"IF(LP!A9=\"\",\"\",LP!B9)","v":""},{"$f":"IF(LP!A9=\"\",0,LP!C9)","v":0},null,{"$f":"IF(LP!E9=\"\",\"\",LP!F9)","v":""},{"$f":"IF(LP!E9=\"\",0,LP!G9)","v":0},null,{"$f":"IF(LP!I9=\"\",\"\",LP!J9)","v":""},{"$f":"IF(LP!I9=\"\",0,LP!K9)","v":0},null,{"$f":"IF(BPBPS!B9=\"\",\"\",BPBPS!C9)","v":""},{"$f":"IF(BPBPS!B9=\"\",0,BPBPS!D9)","v":0},null,{"$f":"IF(BPBPS!F9=\"\",\"\",BPBPS!G9)","v":""},{"$f":"IF(BPBPS!H9=\"\",0,BPBPS!H9)","v":0},null,{"$f":"IF(BPBPS!J9=\"\",\"\",BPBPS!K9)","v":""},{"$f":"IF(BPBPS!J9=\"\",0,BPBPS!L9)","v":0},null,{"$f":"IF(SSGP!B9=\"\",\"\",SSGP!C9)","v":""},{"$f":"IF(SSGP!B9=\"\",0,SSGP!D9)","v":0},null,{"$f":"IF(SSGP!F9=\"\",\"\",SSGP!G9)","v":""},{"$f":"IF(SSGP!F9=\"\",0,SSGP!H9)","v":0}]
[8,{"$f":"IF(JTP!B10=\"\",\"\",JTP!C10)","v":""},{"$f":"IF(JTP!B10=\"\",0,JTP!D10)","v":0},{"$f":"IF(JTP!B10=\"\",0,JTP!E10)","v":0},null,{"$f":"IF(JTP!G10=\"\",\"\",JTP!H10)","v":""},{"$f":"IF(JTP!G10=\"\",0,JTP!I10)","v":0},{"$f":"IF(JTP!G10=\"\",0,JTP!J10)","v":0},null,{"$f":"IF(JSP!B10=\"\",\"\",JSP!C10)","v":""},{"$f":"IF(JSP!B10=\"\",0,JSP!D10)","v":0},{"$f":"IF(JSP!B10=\"\",0,JSP!E10)","v":0},null,{"$f":"IF(JSP!G10=\"\",\"\",JSP!H10)","v":""},{"$f":"IF(JSP!G10=\"\",0,JSP!I10)","v":0},{"$f":"IF(JSP!G10=\"\",0,JSP!J10)","v":0},null,{"$f":"IF(CFP!B10=\"\",\"\",CFP!C10)","v":""},{"$f":"IF(CFP!B10=\"\",0,CFP!D10)","v":0},{"$f":"IF(CFP!B10=\"\",0,CFP!E10)","v":0},null,{"$f":"IF(CFP!G10=\"\",\"\",CFP!H10)","v":""},{"$f":"IF(CFP!G10=\"\",0,CFP!I10)","v":0},null,{"$f":"IF(DWP!B10=\"\",\"\",DWP!C10)","v":""},{"$f":"IF(DWP!D10=\"\",0,DWP!D10)","v":0},{"$f":"IF(DWP!D10=\"\",0,DWP!E10)","v":0},null,{"$f":"IF(DWP!G10=\"\",\"\",DWP!H10)","v":""},{"$f":"IF(DWP!I10=\"\",0,DWP!I10)","v":0},null,{"$f":"IF(ALP!B10=\"\",\"\",ALP!C10)","v":""},{"$f":"IF(ALP!D10=\"\",0,ALP!D10)","v":0},{"$f":"IF(ALP!E10=\"\",0,ALP!E10)","v":0},null,{"$f":"IF(PS!B12=\"\",\"\",PS!C12)","v":""},{"$f":"IF(PS!B12=\"\",\"\",PS!D12)","v":""},null,{"$f":"IF(PS!F12=\"\",\"\",PS!G12)","v":""},{"$f":"IF(PS!F12=\"\",\"\",PS!H12)","v":""},null,{"$f":"IF(LP!A10=\"\",\"\",LP!B10)","v":""},{"$f":"IF(LP!A10=\"\",0,LP!C10)","v":0},null,{"$f":"IF(LP!E10=\"\",\"\",LP!F10)","v":""},{"$f":"IF(LP!E10=\"\",0,LP!G10)","v":0},null,{"$f":"IF(LP!I10=\"\",\"\",LP!J10)","v":""},{"$f":"IF(LP!I10=\"\",0,LP!K10)","v":0},null,{"$f":"IF(BPBPS!B10=\"\",\"\",BPBPS!C10)","v":""},{"$f":"IF(BPBPS!B10=\"\",0,BPBPS!D10)","v":0},null,{"$f":"IF(BPBPS!F10=\"\",\"\",BPBPS!G10)","v":""},{"$f":"IF(BPBPS!H10=\"\",0,BPBPS!H10)","v":0},null,{"$f":"IF(BPBPS!J10=\"\",\"\",BPBPS!K10)","v":""},{"$f":"IF(BPBPS!J10=\"\",0,BPBPS!L10)","v":0},null,{"$f":"IF(SSGP!B10=\"\",\"\",SSGP!C10)","v":""},{"$f":"IF(SSGP!B10=\"\",0,SSGP!D10)","v":0},null,{"$f":"IF(SSGP!F10=\"\",\"\",SSGP!G10)","v":""},{"$f":"IF(SSGP!F10=\"\",0,SSGP!H10)","v":0}]
[9,{"$f":"IF(JTP!B11=\"\",\"\",JTP!C11)","v":""},{"$f":"IF(JTP!B11=\"\",0,JTP!D11)","v":0},{"$f":"IF(JTP!B11=\"\",0,JTP!E11)","v":0},null,{"$f":"IF(JTP!G11=\"\",\"\",JTP!H11)","v":""},{"$f":"IF(JTP!G11=\"\",0,JTP!I11)","v":0},{"$f":"IF(JTP!G11=\"\",0,JTP!J11)","v":0},null,{"$f":"IF(JSP!B11=\"\",\"\",JSP!C11)","v":""},{"$f":"IF(JSP!B11=\"\",0,JSP!D11)","v":0},{"$f":"IF(JSP!B11=\"\",0,JSP!E11)","v":0},null,{"$f":"IF(JSP!G11=\"\",\"\",JSP!H11)","v":""},{"$f":"IF(JSP!G11=\"\",0,JSP!I11)","v":0},{"$f":"IF(JSP!G11=\"\",0,JSP!J11)","v":0},null,{"$f":"IF(CFP!B11=\"\",\"\",CFP!C11)","v":""},{"$f":"IF(CFP!B11=\"\",0,CFP!D11)","v":0},{"$f":"IF(CFP!B11=\"\",0,CFP!E11)","v":0},null,{"$f":"IF(CFP!G11=\"\",\"\",CFP!H11)","v":""},{"$f":"IF(CFP!G11=\"\",0,CFP!I11)","v":0},null,{"$f":"IF(DWP!B11=\"\",\"\",DWP!C11)","v":""},{"$f":"IF(DWP!D11=\"\",0,DWP!D11)","v":0},{"$f":"IF(DWP!D11=\"\",0,DWP!E11)","v":0},null,{"$f":"IF(DWP!G11=\"\",\"\",DWP!H11)","v":""},{"$f":"IF(DWP!I11=\"\",0,DWP!I11)","v":0},null,{"$f":"IF(ALP!B11=\"\",\"\",ALP!C11)","v":""},{"$f":"IF(ALP!D11=\"\",0,ALP!D11)","v":0},{"$f":"IF(ALP!E11=\"\",0,ALP!E11)","v":0},null,{"$f":"IF(PS!B13=\"\",\"\",PS!C13)","v":""},{"$f":"IF(PS!B13=\"\",\"\",PS!D13)","v":""},null,{"$f":"IF(PS!F13=\"\",\"\",PS!G13)","v":""},{"$f":"IF(PS!F13=\"\",\"\",PS!H13)","v":""},null,{"$f":"IF(LP!A11=\"\",\"\",LP!B11)","v":""},{"$f":"IF(LP!A11=\"\",0,LP!C11)","v":0},null,{"$f":"IF(LP!E11=\"\",\"\",LP!F11)","v":""},{"$f":"IF(LP!E11=\"\",0,LP!G11)","v":0},null,{"$f":"IF(LP!I11=\"\",\"\",LP!J11)","v":""},{"$f":"IF(LP!I11=\"\",0,LP!K11)","v":0},null,{"$f":"IF(BPBPS!B11=\"\",\"\",BPBPS!C11)","v":""},{"$f":"IF(BPBPS!B11=\"\",0,BPBPS!D11)","v":0},null,{"$f":"IF(BPBPS!F11=\"\",\"\",BPBPS!G11)","v":""},{"$f":"IF(BPBPS!H11=\"\",0,BPBPS!H11)","v":0},null,{"$f":"IF(BPBPS!J11=\"\",\"\",BPBPS!K11)","v":""},{"$f":"IF(BPBPS!J11=\"\",0,BPBPS!L11)","v":0},null,{"$f":"IF(SSGP!B11=\"\",\"\",SSGP!C11)","v":""},{"$f":"IF(SSGP!B11=\"\",0,SSGP!D11)","v":0},null,{"$f":"IF(SSGP!F11=\"\",\"\",SSGP!G11)","v":""},{"$f":"IF(SSGP!F11=\"\",0,SSGP!H11)","v":0}]
[10,{"$f":"IF(JTP!B12=\"\",\"\",JTP!C12)","v":""},{"$f":"IF(JTP!B12=\"\",0,JTP!D12)","v":0},{"$f":"IF(JTP!B12=\"\",0,JTP!E12)","v":0},null,{"$f":"IF(JTP!G12=\"\",\"\",JTP!H12)","v":""},{"$f":"IF(JTP!G12=\"\",0,JTP!I12)","v":0},{"$f":"IF(JTP!G12=\"\",0,JTP!J12)","v":0},null,{"$f":"IF(JSP!B12=\"\",\"\",JSP!C12)","v":""},{"$f":"IF(JSP!B12=\"\",0,JSP!D12)","v":0},{"$f":"IF(JSP!B12=\"\",0,JSP!E12)","v":0},null,{"$f":"IF(JSP!G12=\"\",\"\",JSP!H12)","v":""},{"$f":"IF(JSP!G12=\"\",0,JSP!I12)","v":0},{"$f":"IF(JSP!G12=\"\",0,JSP!J12)","v":0},null,{"$f":"IF(CFP!B12=\"\",\"\",CFP!C12)","v":""},{"$f":"IF(CFP!B12=\"\",0,CFP!D12)","v":0},{"$f":"IF(CFP!B12=\"\",0,CFP!E12)","v":0},null,{"$f":"IF(CFP!G12=\"\",\"\",CFP!H12)","v":""},{"$f":"IF(CFP!G12=\"\",0,CFP!I12)","v":0},null,{"$f":"IF(DWP!B12=\"\",\"\",DWP!C12)","v":""},{"$f":"IF(DWP!D12=\"\",0,DWP!D12)","v":0},{"$f":"IF(DWP!D12=\"\",0,DWP!E12)","v":0},null,{"$f":"IF(DWP!G12=\"\",\"\",DWP!H12)","v":""},{"$f":"IF(DWP!I12=\"\",0,DWP!I12)","v":0},null,{"$f":"IF(ALP!B12=\"\",\"\",ALP!C12)","v":""},{"$f":"IF(ALP!D12=\"\",0,ALP!D12)","v":0},{"$f":"IF(ALP!E12=\"\",0,ALP!E12)","v":0},null,{"$f":"IF(PS!B14=\"\",\"\",PS!C14)","v":""},{"$f":"IF(PS!B14=\"\",\"\",PS!D14)","v":""},null,{"$f":"IF(PS!F14=\"\",\"\",PS!G14)","v":""},{"$f":"IF(PS!F14=\"\",\"\",PS!H14)","v":""},null,{"$f":"IF(LP!A12=\"\",\"\",LP!B12)","v":""},{"$f":"IF(LP!A12=\"\",0,LP!C12)","v":0},null,{"$f":"IF(LP!E12=\"\",\"\",LP!F12)","v":""},{"$f":"IF(LP!E12=\"\",0,LP!G12)","v":0},null,{"$f":"IF(LP!I12=\"\",\"\",LP!J12)","v":""},{"$f":"IF(LP!I12=\"\",0,LP!K12)","v":0},null,{"$f":"IF(BPBPS!B12=\"\",\"\",BPBPS!C12)","v":""},{"$f":"IF(BPBPS!B12=\"\",0,BPBPS!D12)","v":0},null,{"$f":"IF(BPBPS!F12=\"\",\"\",BPBPS!G12)","v":""},{"$f":"IF(BPBPS!H12=\"\",0,BPBPS!H12)","v":0},null,{"$f":"IF(BPBPS!J12=\"\",\"\",BPBPS!K12)","v":""},{"$f":"IF(BPBPS!J12=\"\",0,BPBPS!L12)","v":0},null,{"$f":"IF(SSGP!B12=\"\",\"\",SSGP!C12)","v":""},{"$f":"IF(SSGP!B12=\"\",0,SSGP!D12)","v":0},null,{"$f":"IF(SSGP!F12=\"\",\"\",SSGP!G12)","v":""},{"$f":"IF(SSGP!F12=\"\",0,SSGP!H12)","v":0}]
[11,{"$f":"IF(JTP!B13=\"\",\"\",JTP!C13)","v":""},{"$f":"IF(JTP!B13=\"\",0,JTP!D13)","v":0},{"$f":"IF(JTP!B13=\"\",0,JTP!E13)","v":0},null,{"$f":"IF(JTP!G13=\"\",\"\",JTP!H13)","v":""},{"$f":"IF(JTP!G13=\"\",0,JTP!I13)","v":0},{"$f":"IF(JTP!G13=\"\",0,JTP!J13)","v":0},null,{"$f":"IF(JSP!B13=\"\",\"\",JSP!C13)","v":""},{"$f":"IF(JSP!B13=\"\",0,JSP!D13)","v":0},{"$f":"IF(JSP!B13=\"\",0,JSP!E13)","v":0},null,{"$f":"IF(JSP!G13=\"\",\"\",JSP!H13)","v":""},{"$f":"IF(JSP!G13=\"\",0,JSP!I13)","v":0},{"$f":"IF(JSP!G13=\"\",0,JSP!J13)","v":0},null,{"$f":"IF(CFP!B13=\"\",\"\",CFP!C13)","v":""},{"$f":"IF(CFP!B13=\"\",0,CFP!D13)","v":0},{"$f":"IF(CFP!B13=\"\",0,CFP!E13)","v":0},null,{"$f":"IF(CFP!G13=\"\",\"\",CFP!H13)","v":""},{"$f":"IF(CFP!G13=\"\",0,CFP!I13)","v":0},null,{"$f":"IF(DWP!B13=\"\",\"\",DWP!C13)","v":""},{"$f":"IF(DWP!D13=\"\",0,DWP!D13)","v":0},{"$f":"IF(DWP!D13=\"\",0,DWP!E13)","v":0},null,{"$f":"IF(DWP!G13=\"\",\"\",DWP!H13)","v":""},{"$f":"IF(DWP!I13=\"\",0,DWP!I13)","v":0},null,{"$f":"IF(ALP!B13=\"\",\"\",ALP!C13)","v":""},{"$f":"IF(ALP!D13=\"\",0,ALP!D13)","v":0},{"$f":"IF(ALP!E13=\"\",0,ALP!E13)","v":0},null,{"$f":"IF(PS!B15=\"\",\"\",PS!C15)","v":""},{"$f":"IF(PS!B15=\"\",\"\",PS!D15)","v":""},null,{"$f":"IF(PS!F15=\"\",\"\",PS!G15)","v":""},{"$f":"IF(PS!F15=\"\",\"\",PS!H15)","v":""},null,{"$f":"IF(LP!A13=\"\",\"\",LP!B13)","v":""},{"$f":"IF(LP!A13=\"\",0,LP!C13)","v":0},null,{"$f":"IF(LP!E13=\"\",\"\",LP!F13)","v":""},{"$f":"IF(LP!E13=\"\",0,LP!G13)","v":0},null,{"$f":"IF(LP!I13=\"\",\"\",LP!J13)","v":""},{"$f":"IF(LP!I13=\"\",0,LP!K13)","v":0},null,{"$f":"IF(BPBPS!B13=\"\",\"\",BPBPS!C13)","v":""},{"$f":"IF(BPBPS!B13=\"\",0,BPBPS!D13)","v":0},null,{"$f":"IF(BPBPS!F13=\"\",\"\",BPBPS!G13)","v":""},{"$f":"IF(BPBPS!H13=\"\",0,BPBPS!H13)","v":0},null,{"$f":"IF(BPBPS!J13=\"\",\"\",BPBPS!K13)","v":""},{"$f":"IF(BPBPS!J13=\"\",0,BPBPS!L13)","v":0},null,{"$f":"IF(SSGP!B13=\"\",\"\",SSGP!C13)","v":""},{"$f":"IF(SSGP!B13=\"\",0,SSGP!D13)","v":0},null,{"$f":"IF(SSGP!F13=\"\",\"\",SSGP!G13)","v":""},{"$f":"IF(SSGP!F13=\"\",0,SSGP!H13)","v":0}]
[12,{"$f":"IF(JTP!B14=\"\",\"\",JTP!C14)","v":""},{"$f":"IF(JTP!B14=\"\",0,JTP!D14)","v":0},{"$f":"IF(JTP!B14=\"\",0,JTP!E14)","v":0},null,{"$f":"IF(JTP!G14=\"\",\"\",JTP!H14)","v":""},{"$f":"IF(JTP!G14=\"\",0,JTP!I14)","v":0},{"$f":"IF(JTP!G14=\"\",0,JTP!J14)","v":0},null,{"$f":"IF(JSP!B14=\"\",\"\",JSP!C14)","v":""},{"$f":"IF(JSP!B14=\"\",0,JSP!D14)","v":0},{"$f":"IF(JSP!B14=\"\",0,JSP!E14)","v":0},null,{"$f":"IF(JSP!G14=\"\",\"\",JSP!H14)","v":""},{"$f":"IF(JSP!G14=\"\",0,JSP!I14)","v":0},{"$f":"IF(JSP!G14=\"\",0,JSP!J14)","v":0},null,{"$f":"IF(CFP!B14=\"\",\"\",CFP!C14)","v":""},{"$f":"IF(CFP!B14=\"\",0,CFP!D14)","v":0},{"$f":"IF(CFP!B14=\"\",0,CFP!E14)","v":0},null,{"$f":"IF(CFP!G14=\"\",\"\",CFP!H14)","v":""},{"$f":"IF(CFP!G14=\"\",0,CFP!I14)","v":0},null,{"$f":"IF(DWP!B14=\"\",\"\",DWP!C14)","v":""},{"$f":"IF(DWP!D14=\"\",0,DWP!D14)","v":0},{"$f":"IF(DWP!D14=\"\",0,DWP!E14)","v":0},null,{"$f":"IF(DWP!G14=\"\",\"\",DWP!H14)","v":""},{"$f":"IF(DWP!I14=\"\",0,DWP!I14)","v":0},null,{"$f":"IF(ALP!B14=\"\",\"\",ALP!C14)","v":""},{"$f":"IF(ALP!D14=\"\",0,ALP!D14)","v":0},{"$f":"IF(ALP!E14=\"\",0,ALP!E14)","v":0},null,{"$f":"IF(PS!B16=\"\",\"\",PS!C16)","v":""},{"$f":"IF(PS!B16=\"\",\"\",PS!D16)","v":""},null,{"$f":"IF(PS!F16=\"\",\"\",PS!G16)","v":""},{"$f":"IF(PS!F16=\"\",\"\",PS!H16)","v":""},null,{"$f":"IF(LP!A14=\"\",\"\",LP!B14)","v":""},{"$f":"IF(LP!A14=\"\",0,LP!C14)","v":0},null,{"$f":"IF(LP!E14=\"\",\"\",LP!F14)","v":""},{"$f":"IF(LP!E14=\"\",0,LP!G14)","v":0},null,{"$f":"IF(LP!I14=\"\",\"\",LP!J14)","v":""},{"$f":"IF(LP!I14=\"\",0,LP!K14)","v":0},null,{"$f":"IF(BPBPS!B14=\"\",\"\",BPBPS!C14)","v":""},{"$f":"IF(BPBPS!B14=\"\",0,BPBPS!D14)","v":0},null,{"$f":"IF(BPBPS!F14=\"\",\"\",BPBPS!G14)","v":""},{"$f":"IF(BPBPS!H14=\"\",0,BPBPS!H14)","v":0},null,{"$f":"IF(BPBPS!J14=\"\",\"\",BPBPS!K14)","v":""},{"$f":"IF(BPBPS!J14=\"\",0,BPBPS!L14)","v":0},null,{"$f":"IF(SSGP!B14=\"\",\"\",SSGP!C14)","v":""},{"$f":"IF(SSGP!B14=\"\",0,SSGP!D14)","v":0},null,{"$f":"IF(SSGP!F14=\"\",\"\",SSGP!G14)","v":""},{"$f":"IF(SSGP!F14=\"\",0,SSGP!H14)","v":0}]
[13,{"$f":"IF(JTP!B15=\"\",\"\",JTP!C15)","v":""},{"$f":"IF(JTP!B15=\"\",0,JTP!D15)","v":0},{"$f":"IF(JTP!B15=\"\",0,JTP!E15)","v":0},null,{"$f":"IF(JTP!G15=\"\",\"\",JTP!H15)","v":""},{"$f":"IF(JTP!G15=\"\",0,JTP!I15)","v":0},{"$f":"IF(JTP!G15=\"\",0,JTP!J15)","v":0},null,{"$f":"IF(JSP!B15=\"\",\"\",JSP!C15)","v":""},{"$f":"IF(JSP!B15=\"\",0,JSP!D15)","v":0},{"$f":"IF(JSP!B15=\"\",0,JSP!E15)","v":0},null,{"$f":"IF(JSP!G15=\"\",\"\",JSP!H15)","v":""},{"$f":"IF(JSP!G15=\"\",0,JSP!I15)","v":0},{"$f":"IF(JSP!G15=\"\",0,JSP!J15)","v":0},null,{"$f":"IF(CFP!B15=\"\",\"\",CFP!C15)","v":""},{"$f":"IF(CFP!B15=\"\",0,CFP!D15)","v":0},{"$f":"IF(CFP!B15=\"\",0,CFP!E15)","v":0},null,{"$f":"IF(CFP!G15=\"\",\"\",CFP!H15)","v":""},{"$f":"IF(CFP!G15=\"\",0,CFP!I15)","v":0},null,{"$f":"IF(DWP!B15=\"\",\"\",DWP!C15)","v":""},{"$f":"IF(DWP!D15=\"\",0,DWP!D15)","v":0},{"$f":"IF(DWP!D15=\"\",0,DWP!E15)","v":0},null,{"$f":"IF(DWP!G15=\"\",\"\",DWP!H15)","v":""},{"$f":"IF(DWP!I15=\"\",0,DWP!I15)","v":0},null,{"$f":"IF(ALP!B15=\"\",\"\",ALP!C15)","v":""},{"$f":"IF(ALP!D15=\"\",0,ALP!D15)","v":0},{"$f":"IF(ALP!E15=\"\",0,ALP!E15)","v":0},null,{"$f":"IF(PS!B17=\"\",\"\",PS!C17)","v":""},{"$f":"IF(PS!B17=\"\",\"\",PS!D17)","v":""},null,{"$f":"IF(PS!F17=\"\",\"\",PS!G17)","v":""},{"$f":"IF(PS!F17=\"\",\"\",PS!H17)","v":""},null,{"$f":"IF(LP!A15=\"\",\"\",LP!B15)","v":""},{"$f":"IF(LP!A15=\"\",0,LP!C15)","v":0},null,{"$f":"IF(LP!E15=\"\",\"\",LP!F15)","v":""},{"$f":"IF(LP!E15=\"\",0,LP!G15)","v":0},null,{"$f":"IF(LP!I15=\"\",\"\",LP!J15)","v":""},{"$f":"IF(LP!I15=\"\",0,LP!K15)","v":0},null,{"$f":"IF(BPBPS!B15=\"\",\"\",BPBPS!C15)","v":""},{"$f":"IF(BPBPS!B15=\"\",0,BPBPS!D15)","v":0},null,{"$f":"IF(BPBPS!F15=\"\",\"\",BPBPS!G15)","v":""},{"$f":"IF(BPBPS!H15=\"\",0,BPBPS!H15)","v":0},null,{"$f":"IF(BPBPS!J15=\"\",\"\",BPBPS!K15)","v":""},{"$f":"IF(BPBPS!J15=\"\",0,BPBPS!L15)","v":0},null,{"$f":"IF(SSGP!B15=\"\",\"\",SSGP!C15)","v":""},{"$f":"IF(SSGP!B15=\"\",0,SSGP!D15)","v":0},null,{"$f":"IF(SSGP!F15=\"\",\"\",SSGP!G15)","v":""},{"$f":"IF(SSGP!F15=\"\",0,SSGP!H15)","v":0}]
[14,{"$f":"IF(JTP!B16=\"\",\"\",JTP!C16)","v":""},{"$f":"IF(JTP!B16=\"\",0,JTP!D16)","v":0},{"$f":"IF(JTP!B16=\"\",0,JTP!E16)","v":0},null,{"$f":"IF(JTP!G16=\"\",\"\",JTP!H16)","v":""},{"$f":"IF(JTP!G16=\"\",0,JTP!I16)","v":0},{"$f":"IF(JTP!G16=\"\",0,JTP!J16)","v":0},null,{"$f":"IF(JSP!B16=\"\",\"\",JSP!C16)","v":""},{"$f":"IF(JSP!B16=\"\",0,JSP!D16)","v":0},{"$f":"IF(JSP!B16=\"\",0,JSP!E16)","v":0},null,{"$f":"IF(JSP!G16=\"\",\"\",JSP!H16)","v":""},{"$f":"IF(JSP!G16=\"\",0,JSP!I16)","v":0},{"$f":"IF(JSP!G16=\"\",0,JSP!J16)","v":0},null,{"$f":"IF(CFP!B16=\"\",\"\",CFP!C16)","v":""},{"$f":"IF(CFP!B16=\"\",0,CFP!D16)","v":0},{"$f":"IF(CFP!B16=\"\",0,CFP!E16)","v":0},null,{"$f":"IF(CFP!G16=\"\",\"\",CFP!H16)","v":""},{"$f":"IF(CFP!G16=\"\",0,CFP!I16)","v":0},null,{"$f":"IF(DWP!B16=\"\",\"\",DWP!C16)","v":""},{"$f":"IF(DWP!D16=\"\",0,DWP!D16)","v":0},{"$f":"IF(DWP!D16=\"\",0,DWP!E16)","v":0},null,{"$f":"IF(DWP!G16=\"\",\"\",DWP!H16)","v":""},{"$f":"IF(DWP!I16=\"\",0,DWP!I16)","v":0},null,{"$f":"IF(ALP!B16=\"\",\"\",ALP!C16)","v":""},{"$f":"IF(ALP!D16=\"\",0,ALP!D16)","v":0},{"$f":"IF(ALP!E16=\"\",0,ALP!E16)","v":0},null,{"$f":"IF(PS!B18=\"\",\"\",PS!C18)","v":""},{"$f":"IF(PS!B18=\"\",\"\",PS!D18)","v":""},null,{"$f":"IF(PS!F18=\"\",\"\",PS!G18)","v":""},{"$f":"IF(PS!F18=\"\",\"\",PS!H18)","v":""},null,{"$f":"IF(LP!A16=\"\",\"\",LP!B16)","v":""},{"$f":"IF(LP!A16=\"\",0,LP!C16)","v":0},null,{"$f":"IF(LP!E16=\"\",\"\",LP!F16)","v":""},{"$f":"IF(LP!E16=\"\",0,LP!G16)","v":0},null,{"$f":"IF(LP!I16=\"\",\"\",LP!J16)","v":""},{"$f":"IF(LP!I16=\"\",0,LP!K16)","v":0},null,{"$f":"IF(BPBPS!B16=\"\",\"\",BPBPS!C16)","v":""},{"$f":"IF(BPBPS!B16=\"\",0,BPBPS!D16)","v":0},null,{"$f":"IF(BPBPS!F16=\"\",\"\",BPBPS!G16)","v":""},{"$f":"IF(BPBPS!H16=\"\",0,BPBPS!H16)","v":0},null,{"$f":"IF(BPBPS!J16=\"\",\"\",BPBPS!K16)","v":""},{"$f":"IF(BPBPS!J16=\"\",0,BPBPS!L16)","v":0},null,{"$f":"IF(SSGP!B16=\"\",\"\",SSGP!C16)","v":""},{"$f":"IF(SSGP!B16=\"\",0,SSGP!D16)","v":0},null,{"$f":"IF(SSGP!F16=\"\",\"\",SSGP!G16)","v":""},{"$f":"IF(SSGP!F16=\"\",0,SSGP!H16)","v":0}]
[15,{"$f":"IF(JTP!B17=\"\",\"\",JTP!C17)","v":""},{"$f":"IF(JTP!B17=\"\",0,JTP!D17)","v":0},{"$f":"IF(JTP!B17=\"\",0,JTP!E17)","v":0},null,{"$f":"IF(JTP!G17=\"\",\"\",JTP!H17)","v":""},{"$f":"IF(JTP!G17=\"\",0,JTP!I17)","v":0},{"$f":"IF(JTP!G17=\"\",0,JTP!J17)","v":0},null,{"$f":"IF(JSP!B17=\"\",\"\",JSP!C17)","v":""},{"$f":"IF(JSP!B17=\"\",0,JSP!D17)","v":0},{"$f":"IF(JSP!B17=\"\",0,JSP!E17)","v":0},null,{"$f":"IF(JSP!G17=\"\",\"\",JSP!H17)","v":""},{"$f":"IF(JSP!G17=\"\",0,JSP!I17)","v":0},{"$f":"IF(JSP!G17=\"\",0,JSP!J17)","v":0},null,{"$f":"IF(CFP!B17=\"\",\"\",CFP!C17)","v":""},{"$f":"IF(CFP!B17=\"\",0,CFP!D17)","v":0},{"$f":"IF(CFP!B17=\"\",0,CFP!E17)","v":0},null,{"$f":"IF(CFP!G17=\"\",\"\",CFP!H17)","v":""},{"$f":"IF(CFP!G17=\"\",0,CFP!I17)","v":0},null,{"$f":"IF(DWP!B17=\"\",\"\",DWP!C17)","v":""},{"$f":"IF(DWP!D17=\"\",0,DWP!D17)","v":0},{"$f":"IF(DWP!D17=\"\",0,DWP!E17)","v":0},null,{"$f":"IF(DWP!G17=\"\",\"\",DWP!H17)","v":""},{"$f":"IF(DWP!I17=\"\",0,DWP!I17)","v":0},null,{"$f":"IF(ALP!B17=\"\",\"\",ALP!C17)","v":""},{"$f":"IF(ALP!D17=\"\",0,ALP!D17)","v":0},{"$f":"IF(ALP!E17=\"\",0,ALP!E17)","v":0},null,{"$f":"IF(PS!B19=\"\",\"\",PS!C19)","v":""},{"$f":"IF(PS!B19=\"\",\"\",PS!D19)","v":""},null,{"$f":"IF(PS!F19=\"\",\"\",PS!G19)","v":""},{"$f":"IF(PS!F19=\"\",\"\",PS!H19)","v":""},null,{"$f":"IF(LP!A17=\"\",\"\",LP!B17)","v":""},{"$f":"IF(LP!A17=\"\",0,LP!C17)","v":0},null,{"$f":"IF(LP!E17=\"\",\"\",LP!F17)","v":""},{"$f":"IF(LP!E17=\"\",0,LP!G17)","v":0},null,{"$f":"IF(LP!I17=\"\",\"\",LP!J17)","v":""},{"$f":"IF(LP!I17=\"\",0,LP!K17)","v":0},null,{"$f":"IF(BPBPS!B17=\"\",\"\",BPBPS!C17)","v":""},{"$f":"IF(BPBPS!B17=\"\",0,BPBPS!D17)","v":0},null,{"$f":"IF(BPBPS!F17=\"\",\"\",BPBPS!G17)","v":""},{"$f":"IF(BPBPS!H17=\"\",0,BPBPS!H17)","v":0},null,{"$f":"IF(BPBPS!J17=\"\",\"\",BPBPS!K17)","v":""},{"$f":"IF(BPBPS!J17=\"\",0,BPBPS!L17)","v":0},null,{"$f":"IF(SSGP!B17=\"\",\"\",SSGP!C17)","v":""},{"$f":"IF(SSGP!B17=\"\",0,SSGP!D17)","v":0},null,{"$f":"IF(SSGP!F17=\"\",\"\",SSGP!G17)","v":""},{"$f":"IF(SSGP!F17=\"\",0,SSGP!H17)","v":0}]
[16,{"$f":"IF(JTP!B18=\"\",\"\",JTP!C18)","v":""},{"$f":"IF(JTP!B18=\"\",0,JTP!D18)","v":0},{"$f":"IF(JTP!B18=\"\",0,JTP!E18)","v":0},null,{"$f":"IF(JTP!G18=\"\",\"\",JTP!H18)","v":""},{"$f":"IF(JTP!G18=\"\",0,JTP!I18)","v":0},{"$f":"IF(JTP!G18=\"\",0,JTP!J18)","v":0},null,{"$f":"IF(JSP!B18=\"\",\"\",JSP!C18)","v":""},{"$f":"IF(JSP!B18=\"\",0,JSP!D18)","v":0},{"$f":"IF(JSP!B18=\"\",0,JSP!E18)","v":0},null,{"$f":"IF(JSP!G18=\"\",\"\",JSP!H18)","v":""},{"$f":"IF(JSP!G18=\"\",0,JSP!I18)","v":0},{"$f":"IF(JSP!G18=\"\",0,JSP!J18)","v":0},null,{"$f":"IF(CFP!B18=\"\",\"\",CFP!C18)","v":""},{"$f":"IF(CFP!B18=\"\",0,CFP!D18)","v":0},{"$f":"IF(CFP!B18=\"\",0,CFP!E18)","v":0},null,{"$f":"IF(CFP!G18=\"\",\"\",CFP!H18)","v":""},{"$f":"IF(CFP!G18=\"\",0,CFP!I18)","v":0},null,{"$f":"IF(DWP!B18=\"\",\"\",DWP!C18)","v":""},{"$f":"IF(DWP!D18=\"\",0,DWP!D18)","v":0},{"$f":"IF(DWP!D18=\"\",0,DWP!E18)","v":0},null,{"$f":"IF(DWP!G18=\"\",\"\",DWP!H18)","v":""},{"$f":"IF(DWP!I18=\"\",0,DWP!I18)","v":0},null,{"$f":"IF(ALP!B18=\"\",\"\",ALP!C18)","v":""},{"$f":"IF(ALP!D18=\"\",0,ALP!D18)","v":0},{"$f":"IF(ALP!E18=\"\",0,ALP!E18)","v":0},null,{"$f":"IF(PS!B20=\"\",\"\",PS!C20)","v":""},{"$f":"IF(PS!B20=\"\",\"\",PS!D20)","v":""},null,{"$f":"IF(PS!F20=\"\",\"\",PS!G20)","v":""},{"$f":"IF(PS!F20=\"\",\"\",PS!H20)","v":""},null,{"$f":"IF(LP!A18=\"\",\"\",LP!B18)","v":""},{"$f":"IF(LP!A18=\"\",0,LP!C18)","v":0},null,{"$f":"IF(LP!E18=\"\",\"\",LP!F18)","v":""},{"$f":"IF(LP!E18=\"\",0,LP!G18)","v":0},null,{"$f":"IF(LP!I18=\"\",\"\",LP!J18)","v":""},{"$f":"IF(LP!I18=\"\",0,LP!K18)","v":0},null,{"$f":"IF(BPBPS!B18=\"\",\"\",BPBPS!C18)","v":""},{"$f":"IF(BPBPS!B18=\"\",0,BPBPS!D18)","v":0},null,{"$f":"IF(BPBPS!F18=\"\",\"\",BPBPS!G18)","v":""},{"$f":"IF(BPBPS!H18=\"\",0,BPBPS!H18)","v":0},null,{"$f":"IF(BPBPS!J18=\"\",\"\",BPBPS!K18)","v":""},{"$f":"IF(BPBPS!J18=\"\",0,BPBPS!L18)","v":0},null,{"$f":"IF(SSGP!B18=\"\",\"\",SSGP!C18)","v":""},{"$f":"IF(SSGP!B18=\"\",0,SSGP!D18)","v":0},null,{"$f":"IF(SSGP!F18=\"\",\"\",SSGP!G18)","v":""},{"$f":"IF(SSGP!F18=\"\",0,SSGP!H18)","v":0}]
[17,{"$f":"IF(JTP!B19=\"\",\"\",JTP!C19)","v":""},{"$f":"IF(JTP!B19=\"\",0,JTP!D19)","v":0},{"$f":"IF(JTP!B19=\"\",0,JTP!E19)","v":0},null,{"$f":"IF(JTP!G19=\"\",\"\",JTP!H19)","v":""},{"$f":"IF(JTP!G19=\"\",0,JTP!I19)","v":0},{"$f":"IF(JTP!G19=\"\",0,JTP!J19)","v":0},null,{"$f":"IF(JSP!B19=\"\",\"\",JSP!C19)","v":""},{"$f":"IF(JSP!B19=\"\",0,JSP!D19)","v":0},{"$f":"IF(JSP!B19=\"\",0,JSP!E19)","v":0},null,{"$f":"IF(JSP!G19=\"\",\"\",JSP!H19)","v":""},{"$f":"IF(JSP!G19=\"\",0,JSP!I19)","v":0},{"$f":"IF(JSP!G19=\"\",0,JSP!J19)","v":0},null,{"$f":"IF(CFP!B19=\"\",\"\",CFP!C19)","v":""},{"$f":"IF(CFP!B19=\"\",0,CFP!D19)","v":0},{"$f":"IF(CFP!B19=\"\",0,CFP!E19)","v":0},null,{"$f":"IF(CFP!G19=\"\",\"\",CFP!H19)","v":""},{"$f":"IF(CFP!G19=\"\",0,CFP!I19)","v":0},null,{"$f":"IF(DWP!B19=\"\",\"\",DWP!C19)","v":""},{"$f":"IF(DWP!D19=\"\",0,DWP!D19)","v":0},{"$f":"IF(DWP!D19=\"\",0,DWP!E19)","v":0},null,{"$f":"IF(DWP!G19=\"\",\"\",DWP!H19)","v":""},{"$f":"IF(DWP!I19=\"\",0,DWP!I19)","v":0},null,{"$f":"IF(ALP!B19=\"\",\"\",ALP!C19)","v":""},{"$f":"IF(ALP!D19=\"\",0,ALP!D19)","v":0},{"$f":"IF(ALP!E19=\"\",0,ALP!E19)","v":0},null,{"$f":"IF(PS!B21=\"\",\"\",PS!C21)","v":""},{"$f":"IF(PS!B21=\"\",\"\",PS!D21)","v":""},null,{"$f":"IF(PS!F21=\"\",\"\",PS!G21)","v":""},{"$f":"IF(PS!F21=\"\",\"\",PS!H21)","v":""},null,{"$f":"IF(LP!A19=\"\",\"\",LP!B19)","v":""},{"$f":"IF(LP!A19=\"\",0,LP!C19)","v":0},null,{"$f":"IF(LP!E19=\"\",\"\",LP!F19)","v":""},{"$f":"IF(LP!E19=\"\",0,LP!G19)","v":0},null,{"$f":"IF(LP!I19=\"\",\"\",LP!J19)","v":""},{"$f":"IF(LP!I19=\"\",0,LP!K19)","v":0},null,{"$f":"IF(BPBPS!B19=\"\",\"\",BPBPS!C19)","v":""},{"$f":"IF(BPBPS!B19=\"\",0,BPBPS!D19)","v":0},null,{"$f":"IF(BPBPS!F19=\"\",\"\",BPBPS!G19)","v":""},{"$f":"IF(BPBPS!H19=\"\",0,BPBPS!H19)","v":0},null,{"$f":"IF(BPBPS!J19=\"\",\"\",BPBPS!K19)","v":""},{"$f":"IF(BPBPS!J19=\"\",0,BPBPS!L19)","v":0},null,{"$f":"IF(SSGP!B19=\"\",\"\",SSGP!C19)","v":""},{"$f":"IF(SSGP!B19=\"\",0,SSGP!D19)","v":0},null,{"$f":"IF(SSGP!F19=\"\",\"\",SSGP!G19)","v":""},{"$f":"IF(SSGP!F19=\"\",0,SSGP!H19)","v":0}]
[18,{"$f":"IF(JTP!B20=\"\",\"\",JTP!C20)","v":""},{"$f":"IF(JTP!B20=\"\",0,JTP!D20)","v":0},{"$f":"IF(JTP!B20=\"\",0,JTP!E20)","v":0},null,{"$f":"IF(JTP!G20=\"\",\"\",JTP!H20)","v":""},{"$f":"IF(JTP!G20=\"\",0,JTP!I20)","v":0},{"$f":"IF(JTP!G20=\"\",0,JTP!J20)","v":0},null,{"$f":"IF(JSP!B20=\"\",\"\",JSP!C20)","v":""},{"$f":"IF(JSP!B20=\"\",0,JSP!D20)","v":0},{"$f":"IF(JSP!B20=\"\",0,JSP!E20)","v":0},null,{"$f":"IF(JSP!G20=\"\",\"\",JSP!H20)","v":""},{"$f":"IF(JSP!G20=\"\",0,JSP!I20)","v":0},{"$f":"IF(JSP!G20=\"\",0,JSP!J20)","v":0},null,{"$f":"IF(CFP!B20=\"\",\"\",CFP!C20)","v":""},{"$f":"IF(CFP!B20=\"\",0,CFP!D20)","v":0},{"$f":"IF(CFP!B20=\"\",0,CFP!E20)","v":0},null,{"$f":"IF(CFP!G20=\"\",\"\",CFP!H20)","v":""},{"$f":"IF(CFP!G20=\"\",0,CFP!I20)","v":0},null,{"$f":"IF(DWP!B20=\"\",\"\",DWP!C20)","v":""},{"$f":"IF(DWP!D20=\"\",0,DWP!D20)","v":0},{"$f":"IF(DWP!D20=\"\",0,DWP!E20)","v":0},null,{"$f":"IF(DWP!G20=\"\",\"\",DWP!H20)","v":""},{"$f":"IF(DWP!I20=\"\",0,DWP!I20)","v":0},null,{"$f":"IF(ALP!B20=\"\",\"\",ALP!C20)","v":""},{"$f":"IF(ALP!D20=\"\",0,ALP!D20)","v":0},{"$f":"IF(ALP!E20=\"\",0,ALP!E20)","v":0},null,{"$f":"IF(PS!B22=\"\",\"\",PS!C22)","v":""},{"$f":"IF(PS!B22=\"\",\"\",PS!D22)","v":""},null,{"$f":"IF(PS!F22=\"\",\"\",PS!G22)","v":""},{"$f":"IF(PS!F22=\"\",\"\",PS!H22)","v":""},null,{"$f":"IF(LP!A20=\"\",\"\",LP!B20)","v":""},{"$f":"IF(LP!A20=\"\",0,LP!C20)","v":0},null,{"$f":"IF(LP!E20=\"\",\"\",LP!F20)","v":""},{"$f":"IF(LP!E20=\"\",0,LP!G20)","v":0},null,{"$f":"IF(LP!I20=\"\",\"\",LP!J20)","v":""},{"$f":"IF(LP!I20=\"\",0,LP!K20)","v":0},null,{"$f":"IF(BPBPS!B20=\"\",\"\",BPBPS!C20)","v":""},{"$f":"IF(BPBPS!B20=\"\",0,BPBPS!D20)","v":0},null,{"$f":"IF(BPBPS!F20=\"\",\"\",BPBPS!G20)","v":""},{"$f":"IF(BPBPS!H20=\"\",0,BPBPS!H20)","v":0},null,{"$f":"IF(BPBPS!J20=\"\",\"\",BPBPS!K20)","v":""},{"$f":"IF(BPBPS!J20=\"\",0,BPBPS!L20)","v":0},null,{"$f":"IF(SSGP!B20=\"\",\"\",SSGP!C20)","v":""},{"$f":"IF(SSGP!B20=\"\",0,SSGP!D20)","v":0},null,{"$f":"IF(SSGP!F20=\"\",\"\",SSGP!G20)","v":""},{"$f":"IF(SSGP!F20=\"\",0,SSGP!H20)","v":0}]
[19,{"$f":"IF(JTP!B21=\"\",\"\",JTP!C21)","v":""},{"$f":"IF(JTP!B21=\"\",0,JTP!D21)","v":0},{"$f":"IF(JTP!B21=\"\",0,JTP!E21)","v":0},null,{"$f":"IF(JTP!G21=\"\",\"\",JTP!H21)","v":""},{"$f":"IF(JTP!G21=\"\",0,JTP!I21)","v":0},{"$f":"IF(JTP!G21=\"\",0,JTP!J21)","v":0},null,{"$f":"IF(JSP!B21=\"\",\"\",JSP!C21)","v":""},{"$f":"IF(JSP!B21=\"\",0,JSP!D21)","v":0},{"$f":"IF(JSP!B21=\"\",0,JSP!E21)","v":0},null,{"$f":"IF(JSP!G21=\"\",\"\",JSP!H21)","v":""},{"$f":"IF(JSP!G21=\"\",0,JSP!I21)","v":0},{"$f":"IF(JSP!G21=\"\",0,JSP!J21)","v":0},null,{"$f":"IF(CFP!B21=\"\",\"\",CFP!C21)","v":""},{"$f":"IF(CFP!B21=\"\",0,CFP!D21)","v":0},{"$f":"IF(CFP!B21=\"\",0,CFP!E21)","v":0},null,{"$f":"IF(CFP!G21=\"\",\"\",CFP!H21)","v":""},{"$f":"IF(CFP!G21=\"\",0,CFP!I21)","v":0},null,{"$f":"IF(DWP!B21=\"\",\"\",DWP!C21)","v":""},{"$f":"IF(DWP!D21=\"\",0,DWP!D21)","v":0},{"$f":"IF(DWP!D21=\"\",0,DWP!E21)","v":0},null,{"$f":"IF(DWP!G21=\"\",\"\",DWP!H21)","v":""},{"$f":"IF(DWP!I21=\"\",0,DWP!I21)","v":0},null,{"$f":"IF(ALP!B21=\"\",\"\",ALP!C21)","v":""},{"$f":"IF(ALP!D21=\"\",0,ALP!D21)","v":0},{"$f":"IF(ALP!E21=\"\",0,ALP!E21)","v":0},null,{"$f":"IF(PS!B23=\"\",\"\",PS!C23)","v":""},{"$f":"IF(PS!B23=\"\",\"\",PS!D23)","v":""},null,{"$f":"IF(PS!F23=\"\",\"\",PS!G23)","v":""},{"$f":"IF(PS!F23=\"\",\"\",PS!H23)","v":""},null,{"$f":"IF(LP!A21=\"\",\"\",LP!B21)","v":""},{"$f":"IF(LP!A21=\"\",0,LP!C21)","v":0},null,{"$f":"IF(LP!E21=\"\",\"\",LP!F21)","v":""},{"$f":"IF(LP!E21=\"\",0,LP!G21)","v":0},null,{"$f":"IF(LP!I21=\"\",\"\",LP!J21)","v":""},{"$f":"IF(LP!I21=\"\",0,LP!K21)","v":0},null,{"$f":"IF(BPBPS!B21=\"\",\"\",BPBPS!C21)","v":""},{"$f":"IF(BPBPS!B21=\"\",0,BPBPS!D21)","v":0},null,{"$f":"IF(BPBPS!F21=\"\",\"\",BPBPS!G21)","v":""},{"$f":"IF(BPBPS!H21=\"\",0,BPBPS!H21)","v":0},null,{"$f":"IF(BPBPS!J21=\"\",\"\",BPBPS!K21)","v":""},{"$f":"IF(BPBPS!J21=\"\",0,BPBPS!L21)","v":0},null,{"$f":"IF(SSGP!B21=\"\",\"\",SSGP!C21)","v":""},{"$f":"IF(SSGP!B21=\"\",0,SSGP!D21)","v":0},null,{"$f":"IF(SSGP!F21=\"\",\"\",SSGP!G21)","v":""},{"$f":"IF(SSGP!F21=\"\",0,SSGP!H21)","v":0}]
[20,{"$f":"IF(JTP!B22=\"\",\"\",JTP!C22)","v":""},{"$f":"IF(JTP!B22=\"\",0,JTP!D22)","v":0},{"$f":"IF(JTP!B22=\"\",0,JTP!E22)","v":0},null,{"$f":"IF(JTP!G22=\"\",\"\",JTP!H22)","v":""},{"$f":"IF(JTP!G22=\"\",0,JTP!I22)","v":0},{"$f":"IF(JTP!G22=\"\",0,JTP!J22)","v":0},null,{"$f":"IF(JSP!B22=\"\",\"\",JSP!C22)","v":""},{"$f":"IF(JSP!B22=\"\",0,JSP!D22)","v":0},{"$f":"IF(JSP!B22=\"\",0,JSP!E22)","v":0},null,{"$f":"IF(JSP!G22=\"\",\"\",JSP!H22)","v":""},{"$f":"IF(JSP!G22=\"\",0,JSP!I22)","v":0},{"$f":"IF(JSP!G22=\"\",0,JSP!J22)","v":0},null,{"$f":"IF(CFP!B22=\"\",\"\",CFP!C22)","v":""},{"$f":"IF(CFP!B22=\"\",0,CFP!D22)","v":0},{"$f":"IF(CFP!B22=\"\",0,CFP!E22)","v":0},null,{"$f":"IF(CFP!G22=\"\",\"\",CFP!H22)","v":""},{"$f":"IF(CFP!G22=\"\",0,CFP!I22)","v":0},null,{"$f":"IF(DWP!B22=\"\",\"\",DWP!C22)","v":""},{"$f":"IF(DWP!D22=\"\",0,DWP!D22)","v":0},{"$f":"IF(DWP!D22=\"\",0,DWP!E22)","v":0},null,{"$f":"IF(DWP!G22=\"\",\"\",DWP!H22)","v":""},{"$f":"IF(DWP!I22=\"\",0,DWP!I22)","v":0},null,{"$f":"IF(ALP!B22=\"\",\"\",ALP!C22)","v":""},{"$f":"IF(ALP!D22=\"\",0,ALP!D22)","v":0},{"$f":"IF(ALP!E22=\"\",0,ALP!E22)","v":0},null,{"$f":"IF(PS!B24=\"\",\"\",PS!C24)","v":""},{"$f":"IF(PS!B24=\"\",\"\",PS!D24)","v":""},null,{"$f":"IF(PS!F24=\"\",\"\",PS!G24)","v":""},{"$f":"IF(PS!F24=\"\",\"\",PS!H24)","v":""},null,{"$f":"IF(LP!A22=\"\",\"\",LP!B22)","v":""},{"$f":"IF(LP!A22=\"\",0,LP!C22)","v":0},null,{"$f":"IF(LP!E22=\"\",\"\",LP!F22)","v":""},{"$f":"IF(LP!E22=\"\",0,LP!G22)","v":0},null,{"$f":"IF(LP!I22=\"\",\"\",LP!J22)","v":""},{"$f":"IF(LP!I22=\"\",0,LP!K22)","v":0},null,{"$f":"IF(BPBPS!B22=\"\",\"\",BPBPS!C22)","v":""},{"$f":"IF(BPBPS!B22=\"\",0,BPBPS!D22)","v":0},null,{"$f":"IF(BPBPS!F22=\"\",\"\",BPBPS!G22)","v":""},{"$f":"IF(BPBPS!H22=\"\",0,BPBPS!H22)","v":0},null,{"$f":"IF(BPBPS!J22=\"\",\"\",BPBPS!K22)","v":""},{"$f":"IF(BPBPS!J22=\"\",0,BPBPS!L22)","v":0},null,{"$f":"IF(SSGP!B22=\"\",\"\",SSGP!C22)","v":""},{"$f":"IF(SSGP!B22=\"\",0,SSGP!D22)","v":0},null,{"$f":"IF(SSGP!F22=\"\",\"\",SSGP!G22)","v":""},{"$f":"IF(SSGP!F22=\"\",0,SSGP!H22)","v":0}]
[21,{"$f":"IF(JTP!B23=\"\",\"\",JTP!C23)","v":""},{"$f":"IF(JTP!B23=\"\",0,JTP!D23)","v":0},{"$f":"IF(JTP!B23=\"\",0,JTP!E23)","v":0},null,{"$f":"IF(JTP!G23=\"\",\"\",JTP!H23)","v":""},{"$f":"IF(JTP!G23=\"\",0,JTP!I23)","v":0},{"$f":"IF(JTP!G23=\"\",0,JTP!J23)","v":0},null,{"$f":"IF(JSP!B23=\"\",\"\",JSP!C23)","v":""},{"$f":"IF(JSP!B23=\"\",0,JSP!D23)","v":0},{"$f":"IF(JSP!B23=\"\",0,JSP!E23)","v":0},null,{"$f":"IF(JSP!G23=\"\",\"\",JSP!H23)","v":""},{"$f":"IF(JSP!G23=\"\",0,JSP!I23)","v":0},{"$f":"IF(JSP!G23=\"\",0,JSP!J23)","v":0},null,{"$f":"IF(CFP!B23=\"\",\"\",CFP!C23)","v":""},{"$f":"IF(CFP!B23=\"\",0,CFP!D23)","v":0},{"$f":"IF(CFP!B23=\"\",0,CFP!E23)","v":0},null,{"$f":"IF(CFP!G23=\"\",\"\",CFP!H23)","v":""},{"$f":"IF(CFP!G23=\"\",0,CFP!I23)","v":0},null,{"$f":"IF(DWP!B23=\"\",\"\",DWP!C23)","v":""},{"$f":"IF(DWP!D23=\"\",0,DWP!D23)","v":0},{"$f":"IF(DWP!D23=\"\",0,DWP!E23)","v":0},null,{"$f":"IF(DWP!G23=\"\",\"\",DWP!H23)","v":""},{"$f":"IF(DWP!I23=\"\",0,DWP!I23)","v":0},null,{"$f":"IF(ALP!B23=\"\",\"\",ALP!C23)","v":""},{"$f":"IF(ALP!D23=\"\",0,ALP!D23)","v":0},{"$f":"IF(ALP!E23=\"\",0,ALP!E23)","v":0},null,{"$f":"IF(PS!B25=\"\",\"\",PS!C25)","v":""},{"$f":"IF(PS!B25=\"\",\"\",PS!D25)","v":""},null,{"$f":"IF(PS!F25=\"\",\"\",PS!G25)","v":""},{"$f":"IF(PS!F25=\"\",\"\",PS!H25)","v":""},null,{"$f":"IF(LP!A23=\"\",\"\",LP!B23)","v":""},{"$f":"IF(LP!A23=\"\",0,LP!C23)","v":0},null,{"$f":"IF(LP!E23=\"\",\"\",LP!F23)","v":""},{"$f":"IF(LP!E23=\"\",0,LP!G23)","v":0},null,{"$f":"IF(LP!I23=\"\",\"\",LP!J23)","v":""},{"$f":"IF(LP!I23=\"\",0,LP!K23)","v":0},null,{"$f":"IF(BPBPS!B23=\"\",\"\",BPBPS!C23)","v":""},{"$f":"IF(BPBPS!B23=\"\",0,BPBPS!D23)","v":0},null,{"$f":"IF(BPBPS!F23=\"\",\"\",BPBPS!G23)","v":""},{"$f":"IF(BPBPS!H23=\"\",0,BPBPS!H23)","v":0},null,{"$f":"IF(BPBPS!J23=\"\",\"\",BPBPS!K23)","v":""},{"$f":"IF(BPBPS!J23=\"\",0,BPBPS!L23)","v":0},null,{"$f":"IF(SSGP!B23=\"\",\"\",SSGP!C23)","v":""},{"$f":"IF(SSGP!B23=\"\",0,SSGP!D23)","v":0},null,{"$f":"IF(SSGP!F23=\"\",\"\",SSGP!G23)","v":""},{"$f":"IF(SSGP!F23=\"\",0,SSGP!H23)","v":0}]
[22,{"$f":"IF(JTP!B24=\"\",\"\",JTP!C24)","v":""},{"$f":"IF(JTP!B24=\"\",0,JTP!D24)","v":0},{"$f":"IF(JTP!B24=\"\",0,JTP!E24)","v":0},null,{"$f":"IF(JTP!G24=\"\",\"\",JTP!H24)","v":""},{"$f":"IF(JTP!G24=\"\",0,JTP!I24)","v":0},{"$f":"IF(JTP!G24=\"\",0,JTP!J24)","v":0},null,{"$f":"IF(JSP!B24=\"\",\"\",JSP!C24)","v":""},{"$f":"IF(JSP!B24=\"\",0,JSP!D24)","v":0},{"$f":"IF(JSP!B24=\"\",0,JSP!E24)","v":0},null,{"$f":"IF(JSP!G24=\"\",\"\",JSP!H24)","v":""},{"$f":"IF(JSP!G24=\"\",0,JSP!I24)","v":0},{"$f":"IF(JSP!G24=\"\",0,JSP!J24)","v":0},null,{"$f":"IF(CFP!B24=\"\",\"\",CFP!C24)","v":""},{"$f":"IF(CFP!B24=\"\",0,CFP!D24)","v":0},{"$f":"IF(CFP!B24=\"\",0,CFP!E24)","v":0},null,{"$f":"IF(CFP!G24=\"\",\"\",CFP!H24)","v":""},{"$f":"IF(CFP!G24=\"\",0,CFP!I24)","v":0},null,{"$f":"IF(DWP!B24=\"\",\"\",DWP!C24)","v":""},{"$f":"IF(DWP!D24=\"\",0,DWP!D24)","v":0},{"$f":"IF(DWP!D24=\"\",0,DWP!E24)","v":0},null,{"$f":"IF(DWP!G24=\"\",\"\",DWP!H24)","v":""},{"$f":"IF(DWP!I24=\"\",0,DWP!I24)","v":0},null,{"$f":"IF(ALP!B24=\"\",\"\",ALP!C24)","v":""},{"$f":"IF(ALP!D24=\"\",0,ALP!D24)","v":0},{"$f":"IF(ALP!E24=\"\",0,ALP!E24)","v":0},null,{"$f":"IF(PS!B26=\"\",\"\",PS!C26)","v":""},{"$f":"IF(PS!B26=\"\",\"\",PS!D26)","v":""},null,{"$f":"IF(PS!F26=\"\",\"\",PS!G26)","v":""},{"$f":"IF(PS!F26=\"\",\"\",PS!H26)","v":""},null,{"$f":"IF(LP!A24=\"\",\"\",LP!B24)","v":""},{"$f":"IF(LP!A24=\"\",0,LP!C24)","v":0},null,{"$f":"IF(LP!E24=\"\",\"\",LP!F24)","v":""},{"$f":"IF(LP!E24=\"\",0,LP!G24)","v":0},null,{"$f":"IF(LP!I24=\"\",\"\",LP!J24)","v":""},{"$f":"IF(LP!I24=\"\",0,LP!K24)","v":0},null,{"$f":"IF(BPBPS!B24=\"\",\"\",BPBPS!C24)","v":""},{"$f":"IF(BPBPS!B24=\"\",0,BPBPS!D24)","v":0},null,{"$f":"IF(BPBPS!F24=\"\",\"\",BPBPS!G24)","v":""},{"$f":"IF(BPBPS!H24=\"\",0,BPBPS!H24)","v":0},null,{"$f":"IF(BPBPS!J24=\"\",\"\",BPBPS!K24)","v":""},{"$f":"IF(BPBPS!J24=\"\",0,BPBPS!L24)","v":0},null,{"$f":"IF(SSGP!B24=\"\",\"\",SSGP!C24)","v":""},{"$f":"IF(SSGP!B24=\"\",0,SSGP!D24)","v":0},null,{"$f":"IF(SSGP!F24=\"\",\"\",SSGP!G24)","v":""},{"$f":"IF(SSGP!F24=\"\",0,SSGP!H24)","v":0}]
[23,{"$f":"IF(JTP!B25=\"\",\"\",JTP!C25)","v":""},{"$f":"IF(JTP!B25=\"\",0,JTP!D25)","v":0},{"$f":"IF(JTP!B25=\"\",0,JTP!E25)","v":0},null,{"$f":"IF(JTP!G25=\"\",\"\",JTP!H25)","v":""},{"$f":"IF(JTP!G25=\"\",0,JTP!I25)","v":0},{"$f":"IF(JTP!G25=\"\",0,JTP!J25)","v":0},null,{"$f":"IF(JSP!B25=\"\",\"\",JSP!C25)","v":""},{"$f":"IF(JSP!B25=\"\",0,JSP!D25)","v":0},{"$f":"IF(JSP!B25=\"\",0,JSP!E25)","v":0},null,{"$f":"IF(JSP!G25=\"\",\"\",JSP!H25)","v":""},{"$f":"IF(JSP!G25=\"\",0,JSP!I25)","v":0},{"$f":"IF(JSP!G25=\"\",0,JSP!J25)","v":0},null,{"$f":"IF(CFP!B25=\"\",\"\",CFP!C25)","v":""},{"$f":"IF(CFP!B25=\"\",0,CFP!D25)","v":0},{"$f":"IF(CFP!B25=\"\",0,CFP!E25)","v":0},null,{"$f":"IF(CFP!G25=\"\",\"\",CFP!H25)","v":""},{"$f":"IF(CFP!G25=\"\",0,CFP!I25)","v":0},null,{"$f":"IF(DWP!B25=\"\",\"\",DWP!C25)","v":""},{"$f":"IF(DWP!D25=\"\",0,DWP!D25)","v":0},{"$f":"IF(DWP!D25=\"\",0,DWP!E25)","v":0},null,{"$f":"IF(DWP!G25=\"\",\"\",DWP!H25)","v":""},{"$f":"IF(DWP!I25=\"\",0,DWP!I25)","v":0},null,{"$f":"IF(ALP!B25=\"\",\"\",ALP!C25)","v":""},{"$f":"IF(ALP!D25=\"\",0,ALP!D25)","v":0},{"$f":"IF(ALP!E25=\"\",0,ALP!E25)","v":0},null,{"$f":"IF(PS!B27=\"\",\"\",PS!C27)","v":""},{"$f":"IF(PS!B27=\"\",\"\",PS!D27)","v":""},null,{"$f":"IF(PS!F27=\"\",\"\",PS!G27)","v":""},{"$f":"IF(PS!F27=\"\",\"\",PS!H27)","v":""},null,{"$f":"IF(LP!A25=\"\",\"\",LP!B25)","v":""},{"$f":"IF(LP!A25=\"\",0,LP!C25)","v":0},null,{"$f":"IF(LP!E25=\"\",\"\",LP!F25)","v":""},{"$f":"IF(LP!E25=\"\",0,LP!G25)","v":0},null,{"$f":"IF(LP!I25=\"\",\"\",LP!J25)","v":""},{"$f":"IF(LP!I25=\"\",0,LP!K25)","v":0},null,{"$f":"IF(BPBPS!B25=\"\",\"\",BPBPS!C25)","v":""},{"$f":"IF(BPBPS!B25=\"\",0,BPBPS!D25)","v":0},null,{"$f":"IF(BPBPS!F25=\"\",\"\",BPBPS!G25)","v":""},{"$f":"IF(BPBPS!H25=\"\",0,BPBPS!H25)","v":0},null,{"$f":"IF(BPBPS!J25=\"\",\"\",BPBPS!K25)","v":""},{"$f":"IF(BPBPS!J25=\"\",0,BPBPS!L25)","v":0},null,{"$f":"IF(SSGP!B25=\"\",\"\",SSGP!C25)","v":""},{"$f":"IF(SSGP!B25=\"\",0,SSGP!D25)","v":0},null,{"$f":"IF(SSGP!F25=\"\",\"\",SSGP!G25)","v":""},{"$f":"IF(SSGP!F25=\"\",0,SSGP!H25)","v":0}]
[24,{"$f":"IF(JTP!B26=\"\",\"\",JTP!C26)","v":""},{"$f":"IF(JTP!B26=\"\",0,JTP!D26)","v":0},{"$f":"IF(JTP!B26=\"\",0,JTP!E26)","v":0},null,{"$f":"IF(JTP!G26=\"\",\"\",JTP!H26)","v":""},{"$f":"IF(JTP!G26=\"\",0,JTP!I26)","v":0},{"$f":"IF(JTP!G26=\"\",0,JTP!J26)","v":0},null,{"$f":"IF(JSP!B26=\"\",\"\",JSP!C26)","v":""},{"$f":"IF(JSP!B26=\"\",0,JSP!D26)","v":0},{"$f":"IF(JSP!B26=\"\",0,JSP!E26)","v":0},null,{"$f":"IF(JSP!G26=\"\",\"\",JSP!H26)","v":""},{"$f":"IF(JSP!G26=\"\",0,JSP!I26)","v":0},{"$f":"IF(JSP!G26=\"\",0,JSP!J26)","v":0},null,{"$f":"IF(CFP!B26=\"\",\"\",CFP!C26)","v":""},{"$f":"IF(CFP!B26=\"\",0,CFP!D26)","v":0},{"$f":"IF(CFP!B26=\"\",0,CFP!E26)","v":0},null,{"$f":"IF(CFP!G26=\"\",\"\",CFP!H26)","v":""},{"$f":"IF(CFP!G26=\"\",0,CFP!I26)","v":0},null,{"$f":"IF(DWP!B26=\"\",\"\",DWP!C26)","v":""},{"$f":"IF(DWP!D26=\"\",0,DWP!D26)","v":0},{"$f":"IF(DWP!D26=\"\",0,DWP!E26)","v":0},null,{"$f":"IF(DWP!G26=\"\",\"\",DWP!H26)","v":""},{"$f":"IF(DWP!I26=\"\",0,DWP!I26)","v":0},null,{"$f":"IF(ALP!B26=\"\",\"\",ALP!C26)","v":""},{"$f":"IF(ALP!D26=\"\",0,ALP!D26)","v":0},{"$f":"IF(ALP!E26=\"\",0,ALP!E26)","v":0},null,{"$f":"IF(PS!B28=\"\",\"\",PS!C28)","v":""},{"$f":"IF(PS!B28=\"\",\"\",PS!D28)","v":""},null,{"$f":"IF(PS!F28=\"\",\"\",PS!G28)","v":""},{"$f":"IF(PS!F28=\"\",\"\",PS!H28)","v":""},null,{"$f":"IF(LP!A26=\"\",\"\",LP!B26)","v":""},{"$f":"IF(LP!A26=\"\",0,LP!C26)","v":0},null,{"$f":"IF(LP!E26=\"\",\"\",LP!F26)","v":""},{"$f":"IF(LP!E26=\"\",0,LP!G26)","v":0},null,{"$f":"IF(LP!I26=\"\",\"\",LP!J26)","v":""},{"$f":"IF(LP!I26=\"\",0,LP!K26)","v":0},null,{"$f":"IF(BPBPS!B26=\"\",\"\",BPBPS!C26)","v":""},{"$f":"IF(BPBPS!B26=\"\",0,BPBPS!D26)","v":0},null,{"$f":"IF(BPBPS!F26=\"\",\"\",BPBPS!G26)","v":""},{"$f":"IF(BPBPS!H26=\"\",0,BPBPS!H26)","v":0},null,{"$f":"IF(BPBPS!J26=\"\",\"\",BPBPS!K26)","v":""},{"$f":"IF(BPBPS!J26=\"\",0,BPBPS!L26)","v":0},null,{"$f":"IF(SSGP!B26=\"\",\"\",SSGP!C26)","v":""},{"$f":"IF(SSGP!B26=\"\",0,SSGP!D26)","v":0},null,{"$f":"IF(SSGP!F26=\"\",\"\",SSGP!G26)","v":""},{"$f":"IF(SSGP!F26=\"\",0,SSGP!H26)","v":0}]
[25,{"$f":"IF(JTP!B27=\"\",\"\",JTP!C27)","v":""},{"$f":"IF(JTP!B27=\"\",0,JTP!D27)","v":0},{"$f":"IF(JTP!B27=\"\",0,JTP!E27)","v":0},null,{"$f":"IF(JTP!G27=\"\",\"\",JTP!H27)","v":""},{"$f":"IF(JTP!G27=\"\",0,JTP!I27)","v":0},{"$f":"IF(JTP!G27=\"\",0,JTP!J27)","v":0},null,{"$f":"IF(JSP!B27=\"\",\"\",JSP!C27)","v":""},{"$f":"IF(JSP!B27=\"\",0,JSP!D27)","v":0},{"$f":"IF(JSP!B27=\"\",0,JSP!E27)","v":0},null,{"$f":"IF(JSP!G27=\"\",\"\",JSP!H27)","v":""},{"$f":"IF(JSP!G27=\"\",0,JSP!I27)","v":0},{"$f":"IF(JSP!G27=\"\",0,JSP!J27)","v":0},null,{"$f":"IF(CFP!B27=\"\",\"\",CFP!C27)","v":""},{"$f":"IF(CFP!B27=\"\",0,CFP!D27)","v":0},{"$f":"IF(CFP!B27=\"\",0,CFP!E27)","v":0},null,{"$f":"IF(CFP!G27=\"\",\"\",CFP!H27)","v":""},{"$f":"IF(CFP!G27=\"\",0,CFP!I27)","v":0},null,{"$f":"IF(DWP!B27=\"\",\"\",DWP!C27)","v":""},{"$f":"IF(DWP!D27=\"\",0,DWP!D27)","v":0},{"$f":"IF(DWP!D27=\"\",0,DWP!E27)","v":0},null,{"$f":"IF(DWP!G27=\"\",\"\",DWP!H27)","v":""},{"$f":"IF(DWP!I27=\"\",0,DWP!I27)","v":0},null,{"$f":"IF(ALP!B27=\"\",\"\",ALP!C27)","v":""},{"$f":"IF(ALP!D27=\"\",0,ALP!D27)","v":0},{"$f":"IF(ALP!E27=\"\",0,ALP!E27)","v":0},null,{"$f":"IF(PS!B29=\"\",\"\",PS!C29)","v":""},{"$f":"IF(PS!B29=\"\",\"\",PS!D29)","v":""},null,{"$f":"IF(PS!F29=\"\",\"\",PS!G29)","v":""},{"$f":"IF(PS!F29=\"\",\"\",PS!H29)","v":""},null,{"$f":"IF(LP!A27=\"\",\"\",LP!B27)","v":""},{"$f":"IF(LP!A27=\"\",0,LP!C27)","v":0},null,{"$f":"IF(LP!E27=\"\",\"\",LP!F27)","v":""},{"$f":"IF(LP!E27=\"\",0,LP!G27)","v":0},null,{"$f":"IF(LP!I27=\"\",\"\",LP!J27)","v":""},{"$f":"IF(LP!I27=\"\",0,LP!K27)","v":0},null,{"$f":"IF(BPBPS!B27=\"\",\"\",BPBPS!C27)","v":""},{"$f":"IF(BPBPS!B27=\"\",0,BPBPS!D27)","v":0},null,{"$f":"IF(BPBPS!F27=\"\",\"\",BPBPS!G27)","v":""},{"$f":"IF(BPBPS!H27=\"\",0,BPBPS!H27)","v":0},null,{"$f":"IF(BPBPS!J27=\"\",\"\",BPBPS!K27)","v":""},{"$f":"IF(BPBPS!J27=\"\",0,BPBPS!L27)","v":0},null,{"$f":"IF(SSGP!B27=\"\",\"\",SSGP!C27)","v":""},{"$f":"IF(SSGP!B27=\"\",0,SSGP!D27)","v":0},null,{"$f":"IF(SSGP!F27=\"\",\"\",SSGP!G27)","v":""},{"$f":"IF(SSGP!F27=\"\",0,SSGP!H27)","v":0}]
[26,{"$f":"IF(JTP!B28=\"\",\"\",JTP!C28)","v":""},{"$f":"IF(JTP!B28=\"\",0,JTP!D28)","v":0},{"$f":"IF(JTP!B28=\"\",0,JTP!E28)","v":0},null,{"$f":"IF(JTP!G28=\"\",\"\",JTP!H28)","v":""},{"$f":"IF(JTP!G28=\"\",0,JTP!I28)","v":0},{"$f":"IF(JTP!G28=\"\",0,JTP!J28)","v":0},null,{"$f":"IF(JSP!B28=\"\",\"\",JSP!C28)","v":""},{"$f":"IF(JSP!B28=\"\",0,JSP!D28)","v":0},{"$f":"IF(JSP!B28=\"\",0,JSP!E28)","v":0},null,{"$f":"IF(JSP!G28=\"\",\"\",JSP!H28)","v":""},{"$f":"IF(JSP!G28=\"\",0,JSP!I28)","v":0},{"$f":"IF(JSP!G28=\"\",0,JSP!J28)","v":0},null,{"$f":"IF(CFP!B28=\"\",\"\",CFP!C28)","v":""},{"$f":"IF(CFP!B28=\"\",0,CFP!D28)","v":0},{"$f":"IF(CFP!B28=\"\",0,CFP!E28)","v":0},null,{"$f":"IF(CFP!G28=\"\",\"\",CFP!H28)","v":""},{"$f":"IF(CFP!G28=\"\",0,CFP!I28)","v":0},null,{"$f":"IF(DWP!B28=\"\",\"\",DWP!C28)","v":""},{"$f":"IF(DWP!D28=\"\",0,DWP!D28)","v":0},{"$f":"IF(DWP!D28=\"\",0,DWP!E28)","v":0},null,{"$f":"IF(DWP!G28=\"\",\"\",DWP!H28)","v":""},{"$f":"IF(DWP!I28=\"\",0,DWP!I28)","v":0},null,{"$f":"IF(ALP!B28=\"\",\"\",ALP!C28)","v":""},{"$f":"IF(ALP!D28=\"\",0,ALP!D28)","v":0},{"$f":"IF(ALP!E28=\"\",0,ALP!E28)","v":0},null,{"$f":"IF(PS!B30=\"\",\"\",PS!C30)","v":""},{"$f":"IF(PS!B30=\"\",\"\",PS!D30)","v":""},null,{"$f":"IF(PS!F30=\"\",\"\",PS!G30)","v":""},{"$f":"IF(PS!F30=\"\",\"\",PS!H30)","v":""},null,{"$f":"IF(LP!A28=\"\",\"\",LP!B28)","v":""},{"$f":"IF(LP!A28=\"\",0,LP!C28)","v":0},null,{"$f":"IF(LP!E28=\"\",\"\",LP!F28)","v":""},{"$f":"IF(LP!E28=\"\",0,LP!G28)","v":0},null,{"$f":"IF(LP!I28=\"\",\"\",LP!J28)","v":""},{"$f":"IF(LP!I28=\"\",0,LP!K28)","v":0},null,{"$f":"IF(BPBPS!B28=\"\",\"\",BPBPS!C28)","v":""},{"$f":"IF(BPBPS!B28=\"\",0,BPBPS!D28)","v":0},null,{"$f":"IF(BPBPS!F28=\"\",\"\",BPBPS!G28)","v":""},{"$f":"IF(BPBPS!H28=\"\",0,BPBPS!H28)","v":0},null,{"$f":"IF(BPBPS!J28=\"\",\"\",BPBPS!K28)","v":""},{"$f":"IF(BPBPS!J28=\"\",0,BPBPS!L28)","v":0},null,{"$f":"IF(SSGP!B28=\"\",\"\",SSGP!C28)","v":""},{"$f":"IF(SSGP!B28=\"\",0,SSGP!D28)","v":0},null,{"$f":"IF(SSGP!F28=\"\",\"\",SSGP!G28)","v":""},{"$f":"IF(SSGP!F28=\"\",0,SSGP!H28)","v":0}]
[27,{"$f":"IF(JTP!B29=\"\",\"\",JTP!C29)","v":""},{"$f":"IF(JTP!B29=\"\",0,JTP!D29)","v":0},{"$f":"IF(JTP!B29=\"\",0,JTP!E29)","v":0},null,{"$f":"IF(JTP!G29=\"\",\"\",JTP!H29)","v":""},{"$f":"IF(JTP!G29=\"\",0,JTP!I29)","v":0},{"$f":"IF(JTP!G29=\"\",0,JTP!J29)","v":0},null,{"$f":"IF(JSP!B29=\"\",\"\",JSP!C29)","v":""},{"$f":"IF(JSP!B29=\"\",0,JSP!D29)","v":0},{"$f":"IF(JSP!B29=\"\",0,JSP!E29)","v":0},null,{"$f":"IF(JSP!G29=\"\",\"\",JSP!H29)","v":""},{"$f":"IF(JSP!G29=\"\",0,JSP!I29)","v":0},{"$f":"IF(JSP!G29=\"\",0,JSP!J29)","v":0},null,{"$f":"IF(CFP!B29=\"\",\"\",CFP!C29)","v":""},{"$f":"IF(CFP!B29=\"\",0,CFP!D29)","v":0},{"$f":"IF(CFP!B29=\"\",0,CFP!E29)","v":0},null,{"$f":"IF(CFP!G29=\"\",\"\",CFP!H29)","v":""},{"$f":"IF(CFP!G29=\"\",0,CFP!I29)","v":0},null,{"$f":"IF(DWP!B29=\"\",\"\",DWP!C29)","v":""},{"$f":"IF(DWP!D29=\"\",0,DWP!D29)","v":0},{"$f":"IF(DWP!D29=\"\",0,DWP!E29)","v":0},null,{"$f":"IF(DWP!G29=\"\",\"\",DWP!H29)","v":""},{"$f":"IF(DWP!I29=\"\",0,DWP!I29)","v":0},null,{"$f":"IF(ALP!B29=\"\",\"\",ALP!C29)","v":""},{"$f":"IF(ALP!D29=\"\",0,ALP!D29)","v":0},{"$f":"IF(ALP!E29=\"\",0,ALP!E29)","v":0},null,{"$f":"IF(PS!B31=\"\",\"\",PS!C31)","v":""},{"$f":"IF(PS!B31=\"\",\"\",PS!D31)","v":""},null,{"$f":"IF(PS!F31=\"\",\"\",PS!G31)","v":""},{"$f":"IF(PS!F31=\"\",\"\",PS!H31)","v":""},null,{"$f":"IF(LP!A29=\"\",\"\",LP!B29)","v":""},{"$f":"IF(LP!A29=\"\",0,LP!C29)","v":0},null,{"$f":"IF(LP!E29=\"\",\"\",LP!F29)","v":""},{"$f":"IF(LP!E29=\"\",0,LP!G29)","v":0},null,{"$f":"IF(LP!I29=\"\",\"\",LP!J29)","v":""},{"$f":"IF(LP!I29=\"\",0,LP!K29)","v":0},null,{"$f":"IF(BPBPS!B29=\"\",\"\",BPBPS!C29)","v":""},{"$f":"IF(BPBPS!B29=\"\",0,BPBPS!D29)","v":0},null,{"$f":"IF(BPBPS!F29=\"\",\"\",BPBPS!G29)","v":""},{"$f":"IF(BPBPS!H29=\"\",0,BPBPS!H29)","v":0},null,{"$f":"IF(BPBPS!J29=\"\",\"\",BPBPS!K29)","v":""},{"$f":"IF(BPBPS!J29=\"\",0,BPBPS!L29)","v":0},null,{"$f":"IF(SSGP!B29=\"\",\"\",SSGP!C29)","v":""},{"$f":"IF(SSGP!B29=\"\",0,SSGP!D29)","v":0},null,{"$f":"IF(SSGP!F29=\"\",\"\",SSGP!G29)","v":""},{"$f":"IF(SSGP!F29=\"\",0,SSGP!H29)","v":0}]
[28,{"$f":"IF(JTP!B30=\"\",\"\",JTP!C30)","v":""},{"$f":"IF(JTP!B30=\"\",0,JTP!D30)","v":0},{"$f":"IF(JTP!B30=\"\",0,JTP!E30)","v":0},null,{"$f":"IF(JTP!G30=\"\",\"\",JTP!H30)","v":""},{"$f":"IF(JTP!G30=\"\",0,JTP!I30)","v":0},{"$f":"IF(JTP!G30=\"\",0,JTP!J30)","v":0},null,{"$f":"IF(JSP!B30=\"\",\"\",JSP!C30)","v":""},{"$f":"IF(JSP!B30=\"\",0,JSP!D30)","v":0},{"$f":"IF(JSP!B30=\"\",0,JSP!E30)","v":0},null,{"$f":"IF(JSP!G30=\"\",\"\",JSP!H30)","v":""},{"$f":"IF(JSP!G30=\"\",0,JSP!I30)","v":0},{"$f":"IF(JSP!G30=\"\",0,JSP!J30)","v":0},null,{"$f":"IF(CFP!B30=\"\",\"\",CFP!C30)","v":""},{"$f":"IF(CFP!B30=\"\",0,CFP!D30)","v":0},{"$f":"IF(CFP!B30=\"\",0,CFP!E30)","v":0},null,{"$f":"IF(CFP!G30=\"\",\"\",CFP!H30)","v":""},{"$f":"IF(CFP!G30=\"\",0,CFP!I30)","v":0},null,{"$f":"IF(DWP!B30=\"\",\"\",DWP!C30)","v":""},{"$f":"IF(DWP!D30=\"\",0,DWP!D30)","v":0},{"$f":"IF(DWP!D30=\"\",0,DWP!E30)","v":0},null,{"$f":"IF(DWP!G30=\"\",\"\",DWP!H30)","v":""},{"$f":"IF(DWP!I30=\"\",0,DWP!I30)","v":0},null,{"$f":"IF(ALP!B30=\"\",\"\",ALP!C30)","v":""},{"$f":"IF(ALP!D30=\"\",0,ALP!D30)","v":0},{"$f":"IF(ALP!E30=\"\",0,ALP!E30)","v":0},null,{"$f":"IF(PS!B32=\"\",\"\",PS!C32)","v":""},{"$f":"IF(PS!B32=\"\",\"\",PS!D32)","v":""},null,{"$f":"IF(PS!F32=\"\",\"\",PS!G32)","v":""},{"$f":"IF(PS!F32=\"\",\"\",PS!H32)","v":""},null,{"$f":"IF(LP!A30=\"\",\"\",LP!B30)","v":""},{"$f":"IF(LP!A30=\"\",0,LP!C30)","v":0},null,{"$f":"IF(LP!E30=\"\",\"\",LP!F30)","v":""},{"$f":"IF(LP!E30=\"\",0,LP!G30)","v":0},null,{"$f":"IF(LP!I30=\"\",\"\",LP!J30)","v":""},{"$f":"IF(LP!I30=\"\",0,LP!K30)","v":0},null,{"$f":"IF(BPBPS!B30=\"\",\"\",BPBPS!C30)","v":""},{"$f":"IF(BPBPS!B30=\"\",0,BPBPS!D30)","v":0},null,{"$f":"IF(BPBPS!F30=\"\",\"\",BPBPS!G30)","v":""},{"$f":"IF(BPBPS!H30=\"\",0,BPBPS!H30)","v":0},null,{"$f":"IF(BPBPS!J30=\"\",\"\",BPBPS!K30)","v":""},{"$f":"IF(BPBPS!J30=\"\",0,BPBPS!L30)","v":0},null,{"$f":"IF(SSGP!B30=\"\",\"\",SSGP!C30)","v":""},{"$f":"IF(SSGP!B30=\"\",0,SSGP!D30)","v":0},null,{"$f":"IF(SSGP!F30=\"\",\"\",SSGP!G30)","v":""},{"$f":"IF(SSGP!F30=\"\",0,SSGP!H30)","v":0}]
[29,{"$f":"IF(JTP!B31=\"\",\"\",JTP!C31)","v":""},{"$f":"IF(JTP!B31=\"\",0,JTP!D31)","v":0},{"$f":"IF(JTP!B31=\"\",0,JTP!E31)","v":0},null,{"$f":"IF(JTP!G31=\"\",\"\",JTP!H31)","v":""},{"$f":"IF(JTP!G31=\"\",0,JTP!I31)","v":0},{"$f":"IF(JTP!G31=\"\",0,JTP!J31)","v":0},null,{"$f":"IF(JSP!B31=\"\",\"\",JSP!C31)","v":""},{"$f":"IF(JSP!B31=\"\",0,JSP!D31)","v":0},{"$f":"IF(JSP!B31=\"\",0,JSP!E31)","v":0},null,{"$f":"IF(JSP!G31=\"\",\"\",JSP!H31)","v":""},{"$f":"IF(JSP!G31=\"\",0,JSP!I31)","v":0},{"$f":"IF(JSP!G31=\"\",0,JSP!J31)","v":0},null,{"$f":"IF(CFP!B31=\"\",\"\",CFP!C31)","v":""},{"$f":"IF(CFP!B31=\"\",0,CFP!D31)","v":0},{"$f":"IF(CFP!B31=\"\",0,CFP!E31)","v":0},null,{"$f":"IF(CFP!G31=\"\",\"\",CFP!H31)","v":""},{"$f":"IF(CFP!G31=\"\",0,CFP!I31)","v":0},null,{"$f":"IF(DWP!B31=\"\",\"\",DWP!C31)","v":""},{"$f":"IF(DWP!D31=\"\",0,DWP!D31)","v":0},{"$f":"IF(DWP!D31=\"\",0,DWP!E31)","v":0},null,{"$f":"IF(DWP!G31=\"\",\"\",DWP!H31)","v":""},{"$f":"IF(DWP!I31=\"\",0,DWP!I31)","v":0},null,{"$f":"IF(ALP!B31=\"\",\"\",ALP!C31)","v":""},{"$f":"IF(ALP!D31=\"\",0,ALP!D31)","v":0},{"$f":"IF(ALP!E31=\"\",0,ALP!E31)","v":0},null,{"$f":"IF(PS!B33=\"\",\"\",PS!C33)","v":""},{"$f":"IF(PS!B33=\"\",\"\",PS!D33)","v":""},null,{"$f":"IF(PS!F33=\"\",\"\",PS!G33)","v":""},{"$f":"IF(PS!F33=\"\",\"\",PS!H33)","v":""},null,{"$f":"IF(LP!A31=\"\",\"\",LP!B31)","v":""},{"$f":"IF(LP!A31=\"\",0,LP!C31)","v":0},null,{"$f":"IF(LP!E31=\"\",\"\",LP!F31)","v":""},{"$f":"IF(LP!E31=\"\",0,LP!G31)","v":0},null,{"$f":"IF(LP!I31=\"\",\"\",LP!J31)","v":""},{"$f":"IF(LP!I31=\"\",0,LP!K31)","v":0},null,{"$f":"IF(BPBPS!B31=\"\",\"\",BPBPS!C31)","v":""},{"$f":"IF(BPBPS!B31=\"\",0,BPBPS!D31)","v":0},null,{"$f":"IF(BPBPS!F31=\"\",\"\",BPBPS!G31)","v":""},{"$f":"IF(BPBPS!H31=\"\",0,BPBPS!H31)","v":0},null,{"$f":"IF(BPBPS!J31=\"\",\"\",BPBPS!K31)","v":""},{"$f":"IF(BPBPS!J31=\"\",0,BPBPS!L31)","v":0},null,{"$f":"IF(SSGP!B31=\"\",\"\",SSGP!C31)","v":""},{"$f":"IF(SSGP!B31=\"\",0,SSGP!D31)","v":0},null,{"$f":"IF(SSGP!F31=\"\",\"\",SSGP!G31)","v":""},{"$f":"IF(SSGP!F31=\"\",0,SSGP!H31)","v":0}]
[30,{"$f":"IF(JTP!B32=\"\",\"\",JTP!C32)","v":""},{"$f":"IF(JTP!B32=\"\",0,JTP!D32)","v":0},{"$f":"IF(JTP!B32=\"\",0,JTP!E32)","v":0},null,{"$f":"IF(JTP!G32=\"\",\"\",JTP!H32)","v":""},{"$f":"IF(JTP!G32=\"\",0,JTP!I32)","v":0},{"$f":"IF(JTP!G32=\"\",0,JTP!J32)","v":0},null,{"$f":"IF(JSP!B32=\"\",\"\",JSP!C32)","v":""},{"$f":"IF(JSP!B32=\"\",0,JSP!D32)","v":0},{"$f":"IF(JSP!B32=\"\",0,JSP!E32)","v":0},null,{"$f":"IF(JSP!G32=\"\",\"\",JSP!H32)","v":""},{"$f":"IF(JSP!G32=\"\",0,JSP!I32)","v":0},{"$f":"IF(JSP!G32=\"\",0,JSP!J32)","v":0},null,{"$f":"IF(CFP!B32=\"\",\"\",CFP!C32)","v":""},{"$f":"IF(CFP!B32=\"\",0,CFP!D32)","v":0},{"$f":"IF(CFP!B32=\"\",0,CFP!E32)","v":0},null,{"$f":"IF(CFP!G32=\"\",\"\",CFP!H32)","v":""},{"$f":"IF(CFP!G32=\"\",0,CFP!I32)","v":0},null,{"$f":"IF(DWP!B32=\"\",\"\",DWP!C32)","v":""},{"$f":"IF(DWP!D32=\"\",0,DWP!D32)","v":0},{"$f":"IF(DWP!D32=\"\",0,DWP!E32)","v":0},null,{"$f":"IF(DWP!G32=\"\",\"\",DWP!H32)","v":""},{"$f":"IF(DWP!I32=\"\",0,DWP!I32)","v":0},null,{"$f":"IF(ALP!B32=\"\",\"\",ALP!C32)","v":""},{"$f":"IF(ALP!D32=\"\",0,ALP!D32)","v":0},{"$f":"IF(ALP!E32=\"\",0,ALP!E32)","v":0},null,{"$f":"IF(PS!B34=\"\",\"\",PS!C34)","v":""},{"$f":"IF(PS!B34=\"\",\"\",PS!D34)","v":""},null,{"$f":"IF(PS!F34=\"\",\"\",PS!G34)","v":""},{"$f":"IF(PS!F34=\"\",\"\",PS!H34)","v":""},null,{"$f":"IF(LP!A32=\"\",\"\",LP!B32)","v":""},{"$f":"IF(LP!A32=\"\",0,LP!C32)","v":0},null,{"$f":"IF(LP!E32=\"\",\"\",LP!F32)","v":""},{"$f":"IF(LP!E32=\"\",0,LP!G32)","v":0},null,{"$f":"IF(LP!I32=\"\",\"\",LP!J32)","v":""},{"$f":"IF(LP!I32=\"\",0,LP!K32)","v":0},null,{"$f":"IF(BPBPS!B32=\"\",\"\",BPBPS!C32)","v":""},{"$f":"IF(BPBPS!B32=\"\",0,BPBPS!D32)","v":0},null,{"$f":"IF(BPBPS!F32=\"\",\"\",BPBPS!G32)","v":""},{"$f":"IF(BPBPS!H32=\"\",0,BPBPS!H32)","v":0},null,{"$f":"IF(BPBPS!J32=\"\",\"\",BPBPS!K32)","v":""},{"$f":"IF(BPBPS!J32=\"\",0,BPBPS!L32)","v":0},null,{"$f":"IF(SSGP!B32=\"\",\"\",SSGP!C32)","v":""},{"$f":"IF(SSGP!B32=\"\",0,SSGP!D32)","v":0},null,{"$f":"IF(SSGP!F32=\"\",\"\",SSGP!G32)","v":""},{"$f":"IF(SSGP!F32=\"\",0,SSGP!H32)","v":0}]
[31,{"$f":"IF(JTP!B33=\"\",\"\",JTP!C33)","v":""},{"$f":"IF(JTP!B33=\"\",0,JTP!D33)","v":0},{"$f":"IF(JTP!B33=\"\",0,JTP!E33)","v":0},null,{"$f":"IF(JTP!G33=\"\",\"\",JTP!H33)","v":""},{"$f":"IF(JTP!G33=\"\",0,JTP!I33)","v":0},{"$f":"IF(JTP!G33=\"\",0,JTP!J33)","v":0},null,{"$f":"IF(JSP!B33=\"\",\"\",JSP!C33)","v":""},{"$f":"IF(JSP!B33=\"\",0,JSP!D33)","v":0},{"$f":"IF(JSP!B33=\"\",0,JSP!E33)","v":0},null,{"$f":"IF(JSP!G33=\"\",\"\",JSP!H33)","v":""},{"$f":"IF(JSP!G33=\"\",0,JSP!I33)","v":0},{"$f":"IF(JSP!G33=\"\",0,JSP!J33)","v":0},null,{"$f":"IF(CFP!B33=\"\",\"\",CFP!C33)","v":""},{"$f":"IF(CFP!B33=\"\",0,CFP!D33)","v":0},{"$f":"IF(CFP!B33=\"\",0,CFP!E33)","v":0},null,{"$f":"IF(CFP!G33=\"\",\"\",CFP!H33)","v":""},{"$f":"IF(CFP!G33=\"\",0,CFP!I33)","v":0},null,{"$f":"IF(DWP!B33=\"\",\"\",DWP!C33)","v":""},{"$f":"IF(DWP!D33=\"\",0,DWP!D33)","v":0},{"$f":"IF(DWP!D33=\"\",0,DWP!E33)","v":0},null,{"$f":"IF(DWP!G33=\"\",\"\",DWP!H33)","v":""},{"$f":"IF(DWP!I33=\"\",0,DWP!I33)","v":0},null,{"$f":"IF(ALP!B33=\"\",\"\",ALP!C33)","v":""},{"$f":"IF(ALP!D33=\"\",0,ALP!D33)","v":0},{"$f":"IF(ALP!E33=\"\",0,ALP!E33)","v":0},null,{"$f":"IF(PS!B35=\"\",\"\",PS!C35)","v":""},{"$f":"IF(PS!B35=\"\",\"\",PS!D35)","v":""},null,{"$f":"IF(PS!F35=\"\",\"\",PS!G35)","v":""},{"$f":"IF(PS!F35=\"\",\"\",PS!H35)","v":""},null,{"$f":"IF(LP!A33=\"\",\"\",LP!B33)","v":""},{"$f":"IF(LP!A33=\"\",0,LP!C33)","v":0},null,{"$f":"IF(LP!E33=\"\",\"\",LP!F33)","v":""},{"$f":"IF(LP!E33=\"\",0,LP!G33)","v":0},null,{"$f":"IF(LP!I33=\"\",\"\",LP!J33)","v":""},{"$f":"IF(LP!I33=\"\",0,LP!K33)","v":0},null,{"$f":"IF(BPBPS!B33=\"\",\"\",BPBPS!C33)","v":""},{"$f":"IF(BPBPS!B33=\"\",0,BPBPS!D33)","v":0},null,{"$f":"IF(BPBPS!F33=\"\",\"\",BPBPS!G33)","v":""},{"$f":"IF(BPBPS!H33=\"\",0,BPBPS!H33)","v":0},null,{"$f":"IF(BPBPS!J33=\"\",\"\",BPBPS!K33)","v":""},{"$f":"IF(BPBPS!J33=\"\",0,BPBPS!L33)","v":0},null,{"$f":"IF(SSGP!B33=\"\",\"\",SSGP!C33)","v":""},{"$f":"IF(SSGP!B33=\"\",0,SSGP!D33)","v":0},null,{"$f":"IF(SSGP!F33=\"\",\"\",SSGP!G33)","v":""},{"$f":"IF(SSGP!F33=\"\",0,SSGP!H33)","v":0}]
[32,{"$f":"IF(JTP!B34=\"\",\"\",JTP!C34)","v":""},{"$f":"IF(JTP!B34=\"\",0,JTP!D34)","v":0},{"$f":"IF(JTP!B34=\"\",0,JTP!E34)","v":0},null,{"$f":"IF(JTP!G34=\"\",\"\",JTP!H34)","v":""},{"$f":"IF(JTP!G34=\"\",0,JTP!I34)","v":0},{"$f":"IF(JTP!G34=\"\",0,JTP!J34)","v":0},null,{"$f":"IF(JSP!B34=\"\",\"\",JSP!C34)","v":""},{"$f":"IF(JSP!B34=\"\",0,JSP!D34)","v":0},{"$f":"IF(JSP!B34=\"\",0,JSP!E34)","v":0},null,{"$f":"IF(JSP!G34=\"\",\"\",JSP!H34)","v":""},{"$f":"IF(JSP!G34=\"\",0,JSP!I34)","v":0},{"$f":"IF(JSP!G34=\"\",0,JSP!J34)","v":0},null,{"$f":"IF(CFP!B34=\"\",\"\",CFP!C34)","v":""},{"$f":"IF(CFP!B34=\"\",0,CFP!D34)","v":0},{"$f":"IF(CFP!B34=\"\",0,CFP!E34)","v":0},null,{"$f":"IF(CFP!G34=\"\",\"\",CFP!H34)","v":""},{"$f":"IF(CFP!G34=\"\",0,CFP!I34)","v":0},null,{"$f":"IF(DWP!B34=\"\",\"\",DWP!C34)","v":""},{"$f":"IF(DWP!D34=\"\",0,DWP!D34)","v":0},{"$f":"IF(DWP!D34=\"\",0,DWP!E34)","v":0},null,{"$f":"IF(DWP!G34=\"\",\"\",DWP!H34)","v":""},{"$f":"IF(DWP!I34=\"\",0,DWP!I34)","v":0},null,{"$f":"IF(ALP!B34=\"\",\"\",ALP!C34)","v":""},{"$f":"IF(ALP!D34=\"\",0,ALP!D34)","v":0},{"$f":"IF(ALP!E34=\"\",0,ALP!E34)","v":0},null,{"$f":"IF(PS!B36=\"\",\"\",PS!C36)","v":""},{"$f":"IF(PS!B36=\"\",\"\",PS!D36)","v":""},null,{"$f":"IF(PS!F36=\"\",\"\",PS!G36)","v":""},{"$f":"IF(PS!F36=\"\",\"\",PS!H36)","v":""},null,{"$f":"IF(LP!A34=\"\",\"\",LP!B34)","v":""},{"$f":"IF(LP!A34=\"\",0,LP!C34)","v":0},null,{"$f":"IF(LP!E34=\"\",\"\",LP!F34)","v":""},{"$f":"IF(LP!E34=\"\",0,LP!G34)","v":0},null,{"$f":"IF(LP!I34=\"\",\"\",LP!J34)","v":""},{"$f":"IF(LP!I34=\"\",0,LP!K34)","v":0},null,{"$f":"IF(BPBPS!B34=\"\",\"\",BPBPS!C34)","v":""},{"$f":"IF(BPBPS!B34=\"\",0,BPBPS!D34)","v":0},null,{"$f":"IF(BPBPS!F34=\"\",\"\",BPBPS!G34)","v":""},{"$f":"IF(BPBPS!H34=\"\",0,BPBPS!H34)","v":0},null,{"$f":"IF(BPBPS!J34=\"\",\"\",BPBPS!K34)","v":""},{"$f":"IF(BPBPS!J34=\"\",0,BPBPS!L34)","v":0},null,{"$f":"IF(SSGP!B34=\"\",\"\",SSGP!C34)","v":""},{"$f":"IF(SSGP!B34=\"\",0,SSGP!D34)","v":0},null,{"$f":"IF(SSGP!F34=\"\",\"\",SSGP!G34)","v":""},{"$f":"IF(SSGP!F34=\"\",0,SSGP!H34)","v":0}]
[33,{"$f":"IF(JTP!B35=\"\",\"\",JTP!C35)","v":""},{"$f":"IF(JTP!B35=\"\",0,JTP!D35)","v":0},{"$f":"IF(JTP!B35=\"\",0,JTP!E35)","v":0},null,{"$f":"IF(JTP!G35=\"\",\"\",JTP!H35)","v":""},{"$f":"IF(JTP!G35=\"\",0,JTP!I35)","v":0},{"$f":"IF(JTP!G35=\"\",0,JTP!J35)","v":0},null,{"$f":"IF(JSP!B35=\"\",\"\",JSP!C35)","v":""},{"$f":"IF(JSP!B35=\"\",0,JSP!D35)","v":0},{"$f":"IF(JSP!B35=\"\",0,JSP!E35)","v":0},null,{"$f":"IF(JSP!G35=\"\",\"\",JSP!H35)","v":""},{"$f":"IF(JSP!G35=\"\",0,JSP!I35)","v":0},{"$f":"IF(JSP!G35=\"\",0,JSP!J35)","v":0},null,{"$f":"IF(CFP!B35=\"\",\"\",CFP!C35)","v":""},{"$f":"IF(CFP!B35=\"\",0,CFP!D35)","v":0},{"$f":"IF(CFP!B35=\"\",0,CFP!E35)","v":0},null,{"$f":"IF(CFP!G35=\"\",\"\",CFP!H35)","v":""},{"$f":"IF(CFP!G35=\"\",0,CFP!I35)","v":0},null,{"$f":"IF(DWP!B35=\"\",\"\",DWP!C35)","v":""},{"$f":"IF(DWP!D35=\"\",0,DWP!D35)","v":0},{"$f":"IF(DWP!D35=\"\",0,DWP!E35)","v":0},null,{"$f":"IF(DWP!G35=\"\",\"\",DWP!H35)","v":""},{"$f":"IF(DWP!I35=\"\",0,DWP!I35)","v":0},null,{"$f":"IF(ALP!B35=\"\",\"\",ALP!C35)","v":""},{"$f":"IF(ALP!D35=\"\",0,ALP!D35)","v":0},{"$f":"IF(ALP!E35=\"\",0,ALP!E35)","v":0},null,{"$f":"IF(PS!B37=\"\",\"\",PS!C37)","v":""},{"$f":"IF(PS!B37=\"\",\"\",PS!D37)","v":""},null,{"$f":"IF(PS!F37=\"\",\"\",PS!G37)","v":""},{"$f":"IF(PS!F37=\"\",\"\",PS!H37)","v":""},null,{"$f":"IF(LP!A35=\"\",\"\",LP!B35)","v":""},{"$f":"IF(LP!A35=\"\",0,LP!C35)","v":0},null,{"$f":"IF(LP!E35=\"\",\"\",LP!F35)","v":""},{"$f":"IF(LP!E35=\"\",0,LP!G35)","v":0},null,{"$f":"IF(LP!I35=\"\",\"\",LP!J35)","v":""},{"$f":"IF(LP!I35=\"\",0,LP!K35)","v":0},null,{"$f":"IF(BPBPS!B35=\"\",\"\",BPBPS!C35)","v":""},{"$f":"IF(BPBPS!B35=\"\",0,BPBPS!D35)","v":0},null,{"$f":"IF(BPBPS!F35=\"\",\"\",BPBPS!G35)","v":""},{"$f":"IF(BPBPS!H35=\"\",0,BPBPS!H35)","v":0},null,{"$f":"IF(BPBPS!J35=\"\",\"\",BPBPS!K35)","v":""},{"$f":"IF(BPBPS!J35=\"\",0,BPBPS!L35)","v":0},null,{"$f":"IF(SSGP!B35=\"\",\"\",SSGP!C35)","v":""},{"$f":"IF(SSGP!B35=\"\",0,SSGP!D35)","v":0},null,{"$f":"IF(SSGP!F35=\"\",\"\",SSGP!G35)","v":""},{"$f":"IF(SSGP!F35=\"\",0,SSGP!H35)","v":0}]
[34,{"$f":"IF(JTP!B36=\"\",\"\",JTP!C36)","v":""},{"$f":"IF(JTP!B36=\"\",0,JTP!D36)","v":0},{"$f":"IF(JTP!B36=\"\",0,JTP!E36)","v":0},null,{"$f":"IF(JTP!G36=\"\",\"\",JTP!H36)","v":""},{"$f":"IF(JTP!G36=\"\",0,JTP!I36)","v":0},{"$f":"IF(JTP!G36=\"\",0,JTP!J36)","v":0},null,{"$f":"IF(JSP!B36=\"\",\"\",JSP!C36)","v":""},{"$f":"IF(JSP!B36=\"\",0,JSP!D36)","v":0},{"$f":"IF(JSP!B36=\"\",0,JSP!E36)","v":0},null,{"$f":"IF(JSP!G36=\"\",\"\",JSP!H36)","v":""},{"$f":"IF(JSP!G36=\"\",0,JSP!I36)","v":0},{"$f":"IF(JSP!G36=\"\",0,JSP!J36)","v":0},null,{"$f":"IF(CFP!B36=\"\",\"\",CFP!C36)","v":""},{"$f":"IF(CFP!B36=\"\",0,CFP!D36)","v":0},{"$f":"IF(CFP!B36=\"\",0,CFP!E36)","v":0},null,{"$f":"IF(CFP!G36=\"\",\"\",CFP!H36)","v":""},{"$f":"IF(CFP!G36=\"\",0,CFP!I36)","v":0},null,{"$f":"IF(DWP!B36=\"\",\"\",DWP!C36)","v":""},{"$f":"IF(DWP!D36=\"\",0,DWP!D36)","v":0},{"$f":"IF(DWP!D36=\"\",0,DWP!E36)","v":0},null,{"$f":"IF(DWP!G36=\"\",\"\",DWP!H36)","v":""},{"$f":"IF(DWP!I36=\"\",0,DWP!I36)","v":0},null,{"$f":"IF(ALP!B36=\"\",\"\",ALP!C36)","v":""},{"$f":"IF(ALP!D36=\"\",0,ALP!D36)","v":0},{"$f":"IF(ALP!E36=\"\",0,ALP!E36)","v":0},null,{"$f":"IF(PS!B38=\"\",\"\",PS!C38)","v":""},{"$f":"IF(PS!B38=\"\",\"\",PS!D38)","v":""},null,{"$f":"IF(PS!F38=\"\",\"\",PS!G38)","v":""},{"$f":"IF(PS!F38=\"\",\"\",PS!H38)","v":""},null,{"$f":"IF(LP!A36=\"\",\"\",LP!B36)","v":""},{"$f":"IF(LP!A36=\"\",0,LP!C36)","v":0},null,{"$f":"IF(LP!E36=\"\",\"\",LP!F36)","v":""},{"$f":"IF(LP!E36=\"\",0,LP!G36)","v":0},null,{"$f":"IF(LP!I36=\"\",\"\",LP!J36)","v":""},{"$f":"IF(LP!I36=\"\",0,LP!K36)","v":0},null,{"$f":"IF(BPBPS!B36=\"\",\"\",BPBPS!C36)","v":""},{"$f":"IF(BPBPS!B36=\"\",0,BPBPS!D36)","v":0},null,{"$f":"IF(BPBPS!F36=\"\",\"\",BPBPS!G36)","v":""},{"$f":"IF(BPBPS!H36=\"\",0,BPBPS!H36)","v":0},null,{"$f":"IF(BPBPS!J36=\"\",\"\",BPBPS!K36)","v":""},{"$f":"IF(BPBPS!J36=\"\",0,BPBPS!L36)","v":0},null,{"$f":"IF(SSGP!B36=\"\",\"\",SSGP!C36)","v":""},{"$f":"IF(SSGP!B36=\"\",0,SSGP!D36)","v":0},null,{"$f":"IF(SSGP!F36=\"\",\"\",SSGP!G36)","v":""},{"$f":"IF(SSGP!F36=\"\",0,SSGP!H36)","v":0}]
[35,{"$f":"IF(JTP!B37=\"\",\"\",JTP!C37)","v":""},{"$f":"IF(JTP!B37=\"\",0,JTP!D37)","v":0},{"$f":"IF(JTP!B37=\"\",0,JTP!E37)","v":0},null,{"$f":"IF(JTP!G37=\"\",\"\",JTP!H37)","v":""},{"$f":"IF(JTP!G37=\"\",0,JTP!I37)","v":0},{"$f":"IF(JTP!G37=\"\",0,JTP!J37)","v":0},null,{"$f":"IF(JSP!B37=\"\",\"\",JSP!C37)","v":""},{"$f":"IF(JSP!B37=\"\",0,JSP!D37)","v":0},{"$f":"IF(JSP!B37=\"\",0,JSP!E37)","v":0},null,{"$f":"IF(JSP!G37=\"\",\"\",JSP!H37)","v":""},{"$f":"IF(JSP!G37=\"\",0,JSP!I37)","v":0},{"$f":"IF(JSP!G37=\"\",0,JSP!J37)","v":0},null,{"$f":"IF(CFP!B37=\"\",\"\",CFP!C37)","v":""},{"$f":"IF(CFP!B37=\"\",0,CFP!D37)","v":0},{"$f":"IF(CFP!B37=\"\",0,CFP!E37)","v":0},null,{"$f":"IF(CFP!G37=\"\",\"\",CFP!H37)","v":""},{"$f":"IF(CFP!G37=\"\",0,CFP!I37)","v":0},null,{"$f":"IF(DWP!B37=\"\",\"\",DWP!C37)","v":""},{"$f":"IF(DWP!D37=\"\",0,DWP!D37)","v":0},{"$f":"IF(DWP!D37=\"\",0,DWP!E37)","v":0},null,{"$f":"IF(DWP!G37=\"\",\"\",DWP!H37)","v":""},{"$f":"IF(DWP!I37=\"\",0,DWP!I37)","v":0},null,{"$f":"IF(ALP!B37=\"\",\"\",ALP!C37)","v":""},{"$f":"IF(ALP!D37=\"\",0,ALP!D37)","v":0},{"$f":"IF(ALP!E37=\"\",0,ALP!E37)","v":0},null,{"$f":"IF(PS!B39=\"\",\"\",PS!C39)","v":""},{"$f":"IF(PS!B39=\"\",\"\",PS!D39)","v":""},null,{"$f":"IF(PS!F39=\"\",\"\",PS!G39)","v":""},{"$f":"IF(PS!F39=\"\",\"\",PS!H39)","v":""},null,{"$f":"IF(LP!A37=\"\",\"\",LP!B37)","v":""},{"$f":"IF(LP!A37=\"\",0,LP!C37)","v":0},null,{"$f":"IF(LP!E37=\"\",\"\",LP!F37)","v":""},{"$f":"IF(LP!E37=\"\",0,LP!G37)","v":0},null,{"$f":"IF(LP!I37=\"\",\"\",LP!J37)","v":""},{"$f":"IF(LP!I37=\"\",0,LP!K37)","v":0},null,{"$f":"IF(BPBPS!B37=\"\",\"\",BPBPS!C37)","v":""},{"$f":"IF(BPBPS!B37=\"\",0,BPBPS!D37)","v":0},null,{"$f":"IF(BPBPS!F37=\"\",\"\",BPBPS!G37)","v":""},{"$f":"IF(BPBPS!H37=\"\",0,BPBPS!H37)","v":0},null,{"$f":"IF(BPBPS!J37=\"\",\"\",BPBPS!K37)","v":""},{"$f":"IF(BPBPS!J37=\"\",0,BPBPS!L37)","v":0},null,{"$f":"IF(SSGP!B37=\"\",\"\",SSGP!C37)","v":""},{"$f":"IF(SSGP!B37=\"\",0,SSGP!D37)","v":0},null,{"$f":"IF(SSGP!F37=\"\",\"\",SSGP!G37)","v":""},{"$f":"IF(SSGP!F37=\"\",0,SSGP!H37)","v":0}]
[36,{"$f":"IF(JTP!B38=\"\",\"\",JTP!C38)","v":""},{"$f":"IF(JTP!B38=\"\",0,JTP!D38)","v":0},{"$f":"IF(JTP!B38=\"\",0,JTP!E38)","v":0},null,{"$f":"IF(JTP!G38=\"\",\"\",JTP!H38)","v":""},{"$f":"IF(JTP!G38=\"\",0,JTP!I38)","v":0},{"$f":"IF(JTP!G38=\"\",0,JTP!J38)","v":0},null,{"$f":"IF(JSP!B38=\"\",\"\",JSP!C38)","v":""},{"$f":"IF(JSP!B38=\"\",0,JSP!D38)","v":0},{"$f":"IF(JSP!B38=\"\",0,JSP!E38)","v":0},null,{"$f":"IF(JSP!G38=\"\",\"\",JSP!H38)","v":""},{"$f":"IF(JSP!G38=\"\",0,JSP!I38)","v":0},{"$f":"IF(JSP!G38=\"\",0,JSP!J38)","v":0},null,{"$f":"IF(CFP!B38=\"\",\"\",CFP!C38)","v":""},{"$f":"IF(CFP!B38=\"\",0,CFP!D38)","v":0},{"$f":"IF(CFP!B38=\"\",0,CFP!E38)","v":0},null,{"$f":"IF(CFP!G38=\"\",\"\",CFP!H38)","v":""},{"$f":"IF(CFP!G38=\"\",0,CFP!I38)","v":0},null,{"$f":"IF(DWP!B38=\"\",\"\",DWP!C38)","v":""},{"$f":"IF(DWP!D38=\"\",0,DWP!D38)","v":0},{"$f":"IF(DWP!D38=\"\",0,DWP!E38)","v":0},null,{"$f":"IF(DWP!G38=\"\",\"\",DWP!H38)","v":""},{"$f":"IF(DWP!I38=\"\",0,DWP!I38)","v":0},null,{"$f":"IF(ALP!B38=\"\",\"\",ALP!C38)","v":""},{"$f":"IF(ALP!D38=\"\",0,ALP!D38)","v":0},{"$f":"IF(ALP!E38=\"\",0,ALP!E38)","v":0},null,{"$f":"IF(PS!B40=\"\",\"\",PS!C40)","v":""},{"$f":"IF(PS!B40=\"\",\"\",PS!D40)","v":""},null,{"$f":"IF(PS!F40=\"\",\"\",PS!G40)","v":""},{"$f":"IF(PS!F40=\"\",\"\",PS!H40)","v":""},null,{"$f":"IF(LP!A38=\"\",\"\",LP!B38)","v":""},{"$f":"IF(LP!A38=\"\",0,LP!C38)","v":0},null,{"$f":"IF(LP!E38=\"\",\"\",LP!F38)","v":""},{"$f":"IF(LP!E38=\"\",0,LP!G38)","v":0},null,{"$f":"IF(LP!I38=\"\",\"\",LP!J38)","v":""},{"$f":"IF(LP!I38=\"\",0,LP!K38)","v":0},null,{"$f":"IF(BPBPS!B38=\"\",\"\",BPBPS!C38)","v":""},{"$f":"IF(BPBPS!B38=\"\",0,BPBPS!D38)","v":0},null,{"$f":"IF(BPBPS!F38=\"\",\"\",BPBPS!G38)","v":""},{"$f":"IF(BPBPS!H38=\"\",0,BPBPS!H38)","v":0},null,{"$f":"IF(BPBPS!J38=\"\",\"\",BPBPS!K38)","v":""},{"$f":"IF(BPBPS!J38=\"\",0,BPBPS!L38)","v":0},null,{"$f":"IF(SSGP!B38=\"\",\"\",SSGP!C38)","v":""},{"$f":"IF(SSGP!B38=\"\",0,SSGP!D38)","v":0},null,{"$f":"IF(SSGP!F38=\"\",\"\",SSGP!G38)","v":""},{"$f":"IF(SSGP!F38=\"\",0,SSGP!H38)","v":0}]
[37,{"$f":"IF(JTP!B39=\"\",\"\",JTP!C39)","v":""},{"$f":"IF(JTP!B39=\"\",0,JTP!D39)","v":0},{"$f":"IF(JTP!B39=\"\",0,JTP!E39)","v":0},null,{"$f":"IF(JTP!G39=\"\",\"\",JTP!H39)","v":""},{"$f":"IF(JTP!G39=\"\",0,JTP!I39)","v":0},{"$f":"IF(JTP!G39=\"\",0,JTP!J39)","v":0},null,{"$f":"IF(JSP!B39=\"\",\"\",JSP!C39)","v":""},{"$f":"IF(JSP!B39=\"\",0,JSP!D39)","v":0},{"$f":"IF(JSP!B39=\"\",0,JSP!E39)","v":0},null,{"$f":"IF(JSP!G39=\"\",\"\",JSP!H39)","v":""},{"$f":"IF(JSP!G39=\"\",0,JSP!I39)","v":0},{"$f":"IF(JSP!G39=\"\",0,JSP!J39)","v":0},null,{"$f":"IF(CFP!B39=\"\",\"\",CFP!C39)","v":""},{"$f":"IF(CFP!B39=\"\",0,CFP!D39)","v":0},{"$f":"IF(CFP!B39=\"\",0,CFP!E39)","v":0},null,{"$f":"IF(CFP!G39=\"\",\"\",CFP!H39)","v":""},{"$f":"IF(CFP!G39=\"\",0,CFP!I39)","v":0},null,{"$f":"IF(DWP!B39=\"\",\"\",DWP!C39)","v":""},{"$f":"IF(DWP!D39=\"\",0,DWP!D39)","v":0},{"$f":"IF(DWP!D39=\"\",0,DWP!E39)","v":0},null,{"$f":"IF(DWP!G39=\"\",\"\",DWP!H39)","v":""},{"$f":"IF(DWP!I39=\"\",0,DWP!I39)","v":0},null,{"$f":"IF(ALP!B39=\"\",\"\",ALP!C39)","v":""},{"$f":"IF(ALP!D39=\"\",0,ALP!D39)","v":0},{"$f":"IF(ALP!E39=\"\",0,ALP!E39)","v":0},null,{"$f":"IF(PS!B41=\"\",\"\",PS!C41)","v":""},{"$f":"IF(PS!B41=\"\",\"\",PS!D41)","v":""},null,{"$f":"IF(PS!F41=\"\",\"\",PS!G41)","v":""},{"$f":"IF(PS!F41=\"\",\"\",PS!H41)","v":""},null,{"$f":"IF(LP!A39=\"\",\"\",LP!B39)","v":""},{"$f":"IF(LP!A39=\"\",0,LP!C39)","v":0},null,{"$f":"IF(LP!E39=\"\",\"\",LP!F39)","v":""},{"$f":"IF(LP!E39=\"\",0,LP!G39)","v":0},null,{"$f":"IF(LP!I39=\"\",\"\",LP!J39)","v":""},{"$f":"IF(LP!I39=\"\",0,LP!K39)","v":0},null,{"$f":"IF(BPBPS!B39=\"\",\"\",BPBPS!C39)","v":""},{"$f":"IF(BPBPS!B39=\"\",0,BPBPS!D39)","v":0},null,{"$f":"IF(BPBPS!F39=\"\",\"\",BPBPS!G39)","v":""},{"$f":"IF(BPBPS!H39=\"\",0,BPBPS!H39)","v":0},null,{"$f":"IF(BPBPS!J39=\"\",\"\",BPBPS!K39)","v":""},{"$f":"IF(BPBPS!J39=\"\",0,BPBPS!L39)","v":0},null,{"$f":"IF(SSGP!B39=\"\",\"\",SSGP!C39)","v":""},{"$f":"IF(SSGP!B39=\"\",0,SSGP!D39)","v":0},null,{"$f":"IF(SSGP!F39=\"\",\"\",SSGP!G39)","v":""},{"$f":"IF(SSGP!F39=\"\",0,SSGP!H39)","v":0}]
[38,{"$f":"IF(JTP!B40=\"\",\"\",JTP!C40)","v":""},{"$f":"IF(JTP!B40=\"\",0,JTP!D40)","v":0},{"$f":"IF(JTP!B40=\"\",0,JTP!E40)","v":0},null,{"$f":"IF(JTP!G40=\"\",\"\",JTP!H40)","v":""},{"$f":"IF(JTP!G40=\"\",0,JTP!I40)","v":0},{"$f":"IF(JTP!G40=\"\",0,JTP!J40)","v":0},null,{"$f":"IF(JSP!B40=\"\",\"\",JSP!C40)","v":""},{"$f":"IF(JSP!B40=\"\",0,JSP!D40)","v":0},{"$f":"IF(JSP!B40=\"\",0,JSP!E40)","v":0},null,{"$f":"IF(JSP!G40=\"\",\"\",JSP!H40)","v":""},{"$f":"IF(JSP!G40=\"\",0,JSP!I40)","v":0},{"$f":"IF(JSP!G40=\"\",0,JSP!J40)","v":0},null,{"$f":"IF(CFP!B40=\"\",\"\",CFP!C40)","v":""},{"$f":"IF(CFP!B40=\"\",0,CFP!D40)","v":0},{"$f":"IF(CFP!B40=\"\",0,CFP!E40)","v":0},null,{"$f":"IF(CFP!G40=\"\",\"\",CFP!H40)","v":""},{"$f":"IF(CFP!G40=\"\",0,CFP!I40)","v":0},null,{"$f":"IF(DWP!B40=\"\",\"\",DWP!C40)","v":""},{"$f":"IF(DWP!D40=\"\",0,DWP!D40)","v":0},{"$f":"IF(DWP!D40=\"\",0,DWP!E40)","v":0},null,{"$f":"IF(DWP!G40=\"\",\"\",DWP!H40)","v":""},{"$f":"IF(DWP!I40=\"\",0,DWP!I40)","v":0},null,{"$f":"IF(ALP!B40=\"\",\"\",ALP!C40)","v":""},{"$f":"IF(ALP!D40=\"\",0,ALP!D40)","v":0},{"$f":"IF(ALP!E40=\"\",0,ALP!E40)","v":0},null,{"$f":"IF(PS!B42=\"\",\"\",PS!C42)","v":""},{"$f":"IF(PS!B42=\"\",\"\",PS!D42)","v":""},null,{"$f":"IF(PS!F42=\"\",\"\",PS!G42)","v":""},{"$f":"IF(PS!F42=\"\",\"\",PS!H42)","v":""},null,{"$f":"IF(LP!A40=\"\",\"\",LP!B40)","v":""},{"$f":"IF(LP!A40=\"\",0,LP!C40)","v":0},null,{"$f":"IF(LP!E40=\"\",\"\",LP!F40)","v":""},{"$f":"IF(LP!E40=\"\",0,LP!G40)","v":0},null,{"$f":"IF(LP!I40=\"\",\"\",LP!J40)","v":""},{"$f":"IF(LP!I40=\"\",0,LP!K40)","v":0},null,{"$f":"IF(BPBPS!B40=\"\",\"\",BPBPS!C40)","v":""},{"$f":"IF(BPBPS!B40=\"\",0,BPBPS!D40)","v":0},null,{"$f":"IF(BPBPS!F40=\"\",\"\",BPBPS!G40)","v":""},{"$f":"IF(BPBPS!H40=\"\",0,BPBPS!H40)","v":0},null,{"$f":"IF(BPBPS!J40=\"\",\"\",BPBPS!K40)","v":""},{"$f":"IF(BPBPS!J40=\"\",0,BPBPS!L40)","v":0},null,{"$f":"IF(SSGP!B40=\"\",\"\",SSGP!C40)","v":""},{"$f":"IF(SSGP!B40=\"\",0,SSGP!D40)","v":0},null,{"$f":"IF(SSGP!F40=\"\",\"\",SSGP!G40)","v":""},{"$f":"IF(SSGP!F40=\"\",0,SSGP!H40)","v":0}]
[39,{"$f":"IF(JTP!B41=\"\",\"\",JTP!C41)","v":""},{"$f":"IF(JTP!B41=\"\",0,JTP!D41)","v":0},{"$f":"IF(JTP!B41=\"\",0,JTP!E41)","v":0},null,{"$f":"IF(JTP!G41=\"\",\"\",JTP!H41)","v":""},{"$f":"IF(JTP!G41=\"\",0,JTP!I41)","v":0},{"$f":"IF(JTP!G41=\"\",0,JTP!J41)","v":0},null,{"$f":"IF(JSP!B41=\"\",\"\",JSP!C41)","v":""},{"$f":"IF(JSP!B41=\"\",0,JSP!D41)","v":0},{"$f":"IF(JSP!B41=\"\",0,JSP!E41)","v":0},null,{"$f":"IF(JSP!G41=\"\",\"\",JSP!H41)","v":""},{"$f":"IF(JSP!G41=\"\",0,JSP!I41)","v":0},{"$f":"IF(JSP!G41=\"\",0,JSP!J41)","v":0},null,{"$f":"IF(CFP!B41=\"\",\"\",CFP!C41)","v":""},{"$f":"IF(CFP!B41=\"\",0,CFP!D41)","v":0},{"$f":"IF(CFP!B41=\"\",0,CFP!E41)","v":0},null,{"$f":"IF(CFP!G41=\"\",\"\",CFP!H41)","v":""},{"$f":"IF(CFP!G41=\"\",0,CFP!I41)","v":0},null,{"$f":"IF(DWP!B41=\"\",\"\",DWP!C41)","v":""},{"$f":"IF(DWP!D41=\"\",0,DWP!D41)","v":0},{"$f":"IF(DWP!D41=\"\",0,DWP!E41)","v":0},null,{"$f":"IF(DWP!G41=\"\",\"\",DWP!H41)","v":""},{"$f":"IF(DWP!I41=\"\",0,DWP!I41)","v":0},null,{"$f":"IF(ALP!B41=\"\",\"\",ALP!C41)","v":""},{"$f":"IF(ALP!D41=\"\",0,ALP!D41)","v":0},{"$f":"IF(ALP!E41=\"\",0,ALP!E41)","v":0},null,{"$f":"IF(PS!B43=\"\",\"\",PS!C43)","v":""},{"$f":"IF(PS!B43=\"\",\"\",PS!D43)","v":""},null,{"$f":"IF(PS!F43=\"\",\"\",PS!G43)","v":""},{"$f":"IF(PS!F43=\"\",\"\",PS!H43)","v":""},null,{"$f":"IF(LP!A41=\"\",\"\",LP!B41)","v":""},{"$f":"IF(LP!A41=\"\",0,LP!C41)","v":0},null,{"$f":"IF(LP!E41=\"\",\"\",LP!F41)","v":""},{"$f":"IF(LP!E41=\"\",0,LP!G41)","v":0},null,{"$f":"IF(LP!I41=\"\",\"\",LP!J41)","v":""},{"$f":"IF(LP!I41=\"\",0,LP!K41)","v":0},null,{"$f":"IF(BPBPS!B41=\"\",\"\",BPBPS!C41)","v":""},{"$f":"IF(BPBPS!B41=\"\",0,BPBPS!D41)","v":0},null,{"$f":"IF(BPBPS!F41=\"\",\"\",BPBPS!G41)","v":""},{"$f":"IF(BPBPS!H41=\"\",0,BPBPS!H41)","v":0},null,{"$f":"IF(BPBPS!J41=\"\",\"\",BPBPS!K41)","v":""},{"$f":"IF(BPBPS!J41=\"\",0,BPBPS!L41)","v":0},null,{"$f":"IF(SSGP!B41=\"\",\"\",SSGP!C41)","v":""},{"$f":"IF(SSGP!B41=\"\",0,SSGP!D41)","v":0},null,{"$f":"IF(SSGP!F41=\"\",\"\",SSGP!G41)","v":""},{"$f":"IF(SSGP!F41=\"\",0,SSGP!H41)","v":0}]
[40,{"$f":"IF(JTP!B42=\"\",\"\",JTP!C42)","v":""},{"$f":"IF(JTP!B42=\"\",0,JTP!D42)","v":0},{"$f":"IF(JTP!B42=\"\",0,JTP!E42)","v":0},null,{"$f":"IF(JTP!G42=\"\",\"\",JTP!H42)","v":""},{"$f":"IF(JTP!G42=\"\",0,JTP!I42)","v":0},{"$f":"IF(JTP!G42=\"\",0,JTP!J42)","v":0},null,{"$f":"IF(JSP!B42=\"\",\"\",JSP!C42)","v":""},{"$f":"IF(JSP!B42=\"\",0,JSP!D42)","v":0},{"$f":"IF(JSP!B42=\"\",0,JSP!E42)","v":0},null,{"$f":"IF(JSP!G42=\"\",\"\",JSP!H42)","v":""},{"$f":"IF(JSP!G42=\"\",0,JSP!I42)","v":0},{"$f":"IF(JSP!G42=\"\",0,JSP!J42)","v":0},null,{"$f":"IF(CFP!B42=\"\",\"\",CFP!C42)","v":""},{"$f":"IF(CFP!B42=\"\",0,CFP!D42)","v":0},{"$f":"IF(CFP!B42=\"\",0,CFP!E42)","v":0},null,{"$f":"IF(CFP!G42=\"\",\"\",CFP!H42)","v":""},{"$f":"IF(CFP!G42=\"\",0,CFP!I42)","v":0},null,{"$f":"IF(DWP!B42=\"\",\"\",DWP!C42)","v":""},{"$f":"IF(DWP!D42=\"\",0,DWP!D42)","v":0},{"$f":"IF(DWP!D42=\"\",0,DWP!E42)","v":0},null,{"$f":"IF(DWP!G42=\"\",\"\",DWP!H42)","v":""},{"$f":"IF(DWP!I42=\"\",0,DWP!I42)","v":0},null,{"$f":"IF(ALP!B42=\"\",\"\",ALP!C42)","v":""},{"$f":"IF(ALP!D42=\"\",0,ALP!D42)","v":0},{"$f":"IF(ALP!E42=\"\",0,ALP!E42)","v":0},null,{"$f":"IF(PS!B44=\"\",\"\",PS!C44)","v":""},{"$f":"IF(PS!B44=\"\",\"\",PS!D44)","v":""},null,{"$f":"IF(PS!F44=\"\",\"\",PS!G44)","v":""},{"$f":"IF(PS!F44=\"\",\"\",PS!H44)","v":""},null,{"$f":"IF(LP!A42=\"\",\"\",LP!B42)","v":""},{"$f":"IF(LP!A42=\"\",0,LP!C42)","v":0},null,{"$f":"IF(LP!E42=\"\",\"\",LP!F42)","v":""},{"$f":"IF(LP!E42=\"\",0,LP!G42)","v":0},null,{"$f":"IF(LP!I42=\"\",\"\",LP!J42)","v":""},{"$f":"IF(LP!I42=\"\",0,LP!K42)","v":0},null,{"$f":"IF(BPBPS!B42=\"\",\"\",BPBPS!C42)","v":""},{"$f":"IF(BPBPS!B42=\"\",0,BPBPS!D42)","v":0},null,{"$f":"IF(BPBPS!F42=\"\",\"\",BPBPS!G42)","v":""},{"$f":"IF(BPBPS!H42=\"\",0,BPBPS!H42)","v":0},null,{"$f":"IF(BPBPS!J42=\"\",\"\",BPBPS!K42)","v":""},{"$f":"IF(BPBPS!J42=\"\",0,BPBPS!L42)","v":0},null,{"$f":"IF(SSGP!B42=\"\",\"\",SSGP!C42)","v":""},{"$f":"IF(SSGP!B42=\"\",0,SSGP!D42)","v":0},null,{"$f":"IF(SSGP!F42=\"\",\"\",SSGP!G42)","v":""},{"$f":"IF(SSGP!F42=\"\",0,SSGP!H42)","v":0}]
[41,{"$f":"IF(JTP!B43=\"\",\"\",JTP!C43)","v":""},{"$f":"IF(JTP!B43=\"\",0,JTP!D43)","v":0},{"$f":"IF(JTP!B43=\"\",0,JTP!E43)","v":0},null,{"$f":"IF(JTP!G43=\"\",\"\",JTP!H43)","v":""},{"$f":"IF(JTP!G43=\"\",0,JTP!I43)","v":0},{"$f":"IF(JTP!G43=\"\",0,JTP!J43)","v":0},null,{"$f":"IF(JSP!B43=\"\",\"\",JSP!C43)","v":""},{"$f":"IF(JSP!B43=\"\",0,JSP!D43)","v":0},{"$f":"IF(JSP!B43=\"\",0,JSP!E43)","v":0},null,{"$f":"IF(JSP!G43=\"\",\"\",JSP!H43)","v":""},{"$f":"IF(JSP!G43=\"\",0,JSP!I43)","v":0},{"$f":"IF(JSP!G43=\"\",0,JSP!J43)","v":0},null,{"$f":"IF(CFP!B43=\"\",\"\",CFP!C43)","v":""},{"$f":"IF(CFP!B43=\"\",0,CFP!D43)","v":0},{"$f":"IF(CFP!B43=\"\",0,CFP!E43)","v":0},null,{"$f":"IF(CFP!G43=\"\",\"\",CFP!H43)","v":""},{"$f":"IF(CFP!G43=\"\",0,CFP!I43)","v":0},null,{"$f":"IF(DWP!B43=\"\",\"\",DWP!C43)","v":""},{"$f":"IF(DWP!D43=\"\",0,DWP!D43)","v":0},{"$f":"IF(DWP!D43=\"\",0,DWP!E43)","v":0},null,{"$f":"IF(DWP!G43=\"\",\"\",DWP!H43)","v":""},{"$f":"IF(DWP!I43=\"\",0,DWP!I43)","v":0},null,{"$f":"IF(ALP!B43=\"\",\"\",ALP!C43)","v":""},{"$f":"IF(ALP!D43=\"\",0,ALP!D43)","v":0},{"$f":"IF(ALP!E43=\"\",0,ALP!E43)","v":0},null,{"$f":"IF(PS!B45=\"\",\"\",PS!C45)","v":""},{"$f":"IF(PS!B45=\"\",\"\",PS!D45)","v":""},null,{"$f":"IF(PS!F45=\"\",\"\",PS!G45)","v":""},{"$f":"IF(PS!F45=\"\",\"\",PS!H45)","v":""},null,{"$f":"IF(LP!A43=\"\",\"\",LP!B43)","v":""},{"$f":"IF(LP!A43=\"\",0,LP!C43)","v":0},null,{"$f":"IF(LP!E43=\"\",\"\",LP!F43)","v":""},{"$f":"IF(LP!E43=\"\",0,LP!G43)","v":0},null,{"$f":"IF(LP!I43=\"\",\"\",LP!J43)","v":""},{"$f":"IF(LP!I43=\"\",0,LP!K43)","v":0},null,{"$f":"IF(BPBPS!B43=\"\",\"\",BPBPS!C43)","v":""},{"$f":"IF(BPBPS!B43=\"\",0,BPBPS!D43)","v":0},null,{"$f":"IF(BPBPS!F43=\"\",\"\",BPBPS!G43)","v":""},{"$f":"IF(BPBPS!H43=\"\",0,BPBPS!H43)","v":0},null,{"$f":"IF(BPBPS!J43=\"\",\"\",BPBPS!K43)","v":""},{"$f":"IF(BPBPS!J43=\"\",0,BPBPS!L43)","v":0},null,{"$f":"IF(SSGP!B43=\"\",\"\",SSGP!C43)","v":""},{"$f":"IF(SSGP!B43=\"\",0,SSGP!D43)","v":0},null,{"$f":"IF(SSGP!F43=\"\",\"\",SSGP!G43)","v":""},{"$f":"IF(SSGP!F43=\"\",0,SSGP!H43)","v":0}]
[42,{"$f":"IF(JTP!B44=\"\",\"\",JTP!C44)","v":""},{"$f":"IF(JTP!B44=\"\",0,JTP!D44)","v":0},{"$f":"IF(JTP!B44=\"\",0,JTP!E44)","v":0},null,{"$f":"IF(JTP!G44=\"\",\"\",JTP!H44)","v":""},{"$f":"IF(JTP!G44=\"\",0,JTP!I44)","v":0},{"$f":"IF(JTP!G44=\"\",0,JTP!J44)","v":0},null,{"$f":"IF(JSP!B44=\"\",\"\",JSP!C44)","v":""},{"$f":"IF(JSP!B44=\"\",0,JSP!D44)","v":0},{"$f":"IF(JSP!B44=\"\",0,JSP!E44)","v":0},null,{"$f":"IF(JSP!G44=\"\",\"\",JSP!H44)","v":""},{"$f":"IF(JSP!G44=\"\",0,JSP!I44)","v":0},{"$f":"IF(JSP!G44=\"\",0,JSP!J44)","v":0},null,{"$f":"IF(CFP!B44=\"\",\"\",CFP!C44)","v":""},{"$f":"IF(CFP!B44=\"\",0,CFP!D44)","v":0},{"$f":"IF(CFP!B44=\"\",0,CFP!E44)","v":0},null,{"$f":"IF(CFP!G44=\"\",\"\",CFP!H44)","v":""},{"$f":"IF(CFP!G44=\"\",0,CFP!I44)","v":0},null,{"$f":"IF(DWP!B44=\"\",\"\",DWP!C44)","v":""},{"$f":"IF(DWP!D44=\"\",0,DWP!D44)","v":0},{"$f":"IF(DWP!D44=\"\",0,DWP!E44)","v":0},null,{"$f":"IF(DWP!G44=\"\",\"\",DWP!H44)","v":""},{"$f":"IF(DWP!I44=\"\",0,DWP!I44)","v":0},null,{"$f":"IF(ALP!B44=\"\",\"\",ALP!C44)","v":""},{"$f":"IF(ALP!D44=\"\",0,ALP!D44)","v":0},{"$f":"IF(ALP!E44=\"\",0,ALP!E44)","v":0},null,{"$f":"IF(PS!B46=\"\",\"\",PS!C46)","v":""},{"$f":"IF(PS!B46=\"\",\"\",PS!D46)","v":""},null,{"$f":"IF(PS!F46=\"\",\"\",PS!G46)","v":""},{"$f":"IF(PS!F46=\"\",\"\",PS!H46)","v":""},null,{"$f":"IF(LP!A44=\"\",\"\",LP!B44)","v":""},{"$f":"IF(LP!A44=\"\",0,LP!C44)","v":0},null,{"$f":"IF(LP!E44=\"\",\"\",LP!F44)","v":""},{"$f":"IF(LP!E44=\"\",0,LP!G44)","v":0},null,{"$f":"IF(LP!I44=\"\",\"\",LP!J44)","v":""},{"$f":"IF(LP!I44=\"\",0,LP!K44)","v":0},null,{"$f":"IF(BPBPS!B44=\"\",\"\",BPBPS!C44)","v":""},{"$f":"IF(BPBPS!B44=\"\",0,BPBPS!D44)","v":0},null,{"$f":"IF(BPBPS!F44=\"\",\"\",BPBPS!G44)","v":""},{"$f":"IF(BPBPS!H44=\"\",0,BPBPS!H44)","v":0},null,{"$f":"IF(BPBPS!J44=\"\",\"\",BPBPS!K44)","v":""},{"$f":"IF(BPBPS!J44=\"\",0,BPBPS!L44)","v":0},null,{"$f":"IF(SSGP!B44=\"\",\"\",SSGP!C44)","v":""},{"$f":"IF(SSGP!B44=\"\",0,SSGP!D44)","v":0},null,{"$f":"IF(SSGP!F44=\"\",\"\",SSGP!G44)","v":""},{"$f":"IF(SSGP!F44=\"\",0,SSGP!H44)","v":0}]
[43,{"$f":"IF(JTP!B45=\"\",\"\",JTP!C45)","v":""},{"$f":"IF(JTP!B45=\"\",0,JTP!D45)","v":0},{"$f":"IF(JTP!B45=\"\",0,JTP!E45)","v":0},null,{"$f":"IF(JTP!G45=\"\",\"\",JTP!H45)","v":""},{"$f":"IF(JTP!G45=\"\",0,JTP!I45)","v":0},{"$f":"IF(JTP!G45=\"\",0,JTP!J45)","v":0},null,{"$f":"IF(JSP!B45=\"\",\"\",JSP!C45)","v":""},{"$f":"IF(JSP!B45=\"\",0,JSP!D45)","v":0},{"$f":"IF(JSP!B45=\"\",0,JSP!E45)","v":0},null,{"$f":"IF(JSP!G45=\"\",\"\",JSP!H45)","v":""},{"$f":"IF(JSP!G45=\"\",0,JSP!I45)","v":0},{"$f":"IF(JSP!G45=\"\",0,JSP!J45)","v":0},null,{"$f":"IF(CFP!B45=\"\",\"\",CFP!C45)","v":""},{"$f":"IF(CFP!B45=\"\",0,CFP!D45)","v":0},{"$f":"IF(CFP!B45=\"\",0,CFP!E45)","v":0},null,{"$f":"IF(CFP!G45=\"\",\"\",CFP!H45)","v":""},{"$f":"IF(CFP!G45=\"\",0,CFP!I45)","v":0},null,{"$f":"IF(DWP!B45=\"\",\"\",DWP!C45)","v":""},{"$f":"IF(DWP!D45=\"\",0,DWP!D45)","v":0},{"$f":"IF(DWP!D45=\"\",0,DWP!E45)","v":0},null,{"$f":"IF(DWP!G45=\"\",\"\",DWP!H45)","v":""},{"$f":"IF(DWP!I45=\"\",0,DWP!I45)","v":0},null,{"$f":"IF(ALP!B45=\"\",\"\",ALP!C45)","v":""},{"$f":"IF(ALP!D45=\"\",0,ALP!D45)","v":0},{"$f":"IF(ALP!E45=\"\",0,ALP!E45)","v":0},null,{"$f":"IF(PS!B47=\"\",\"\",PS!C47)","v":""},{"$f":"IF(PS!B47=\"\",\"\",PS!D47)","v":""},null,{"$f":"IF(PS!F47=\"\",\"\",PS!G47)","v":""},{"$f":"IF(PS!F47=\"\",\"\",PS!H47)","v":""},null,{"$f":"IF(LP!A45=\"\",\"\",LP!B45)","v":""},{"$f":"IF(LP!A45=\"\",0,LP!C45)","v":0},null,{"$f":"IF(LP!E45=\"\",\"\",LP!F45)","v":""},{"$f":"IF(LP!E45=\"\",0,LP!G45)","v":0},null,{"$f":"IF(LP!I45=\"\",\"\",LP!J45)","v":""},{"$f":"IF(LP!I45=\"\",0,LP!K45)","v":0},null,{"$f":"IF(BPBPS!B45=\"\",\"\",BPBPS!C45)","v":""},{"$f":"IF(BPBPS!B45=\"\",0,BPBPS!D45)","v":0},null,{"$f":"IF(BPBPS!F45=\"\",\"\",BPBPS!G45)","v":""},{"$f":"IF(BPBPS!H45=\"\",0,BPBPS!H45)","v":0},null,{"$f":"IF(BPBPS!J45=\"\",\"\",BPBPS!K45)","v":""},{"$f":"IF(BPBPS!J45=\"\",0,BPBPS!L45)","v":0},null,{"$f":"IF(SSGP!B45=\"\",\"\",SSGP!C45)","v":""},{"$f":"IF(SSGP!B45=\"\",0,SSGP!D45)","v":0},null,{"$f":"IF(SSGP!F45=\"\",\"\",SSGP!G45)","v":""},{"$f":"IF(SSGP!F45=\"\",0,SSGP!H45)","v":0}]
[44,{"$f":"IF(JTP!B46=\"\",\"\",JTP!C46)","v":""},{"$f":"IF(JTP!B46=\"\",0,JTP!D46)","v":0},{"$f":"IF(JTP!B46=\"\",0,JTP!E46)","v":0},null,{"$f":"IF(JTP!G46=\"\",\"\",JTP!H46)","v":""},{"$f":"IF(JTP!G46=\"\",0,JTP!I46)","v":0},{"$f":"IF(JTP!G46=\"\",0,JTP!J46)","v":0},null,{"$f":"IF(JSP!B46=\"\",\"\",JSP!C46)","v":""},{"$f":"IF(JSP!B46=\"\",0,JSP!D46)","v":0},{"$f":"IF(JSP!B46=\"\",0,JSP!E46)","v":0},null,{"$f":"IF(JSP!G46=\"\",\"\",JSP!H46)","v":""},{"$f":"IF(JSP!G46=\"\",0,JSP!I46)","v":0},{"$f":"IF(JSP!G46=\"\",0,JSP!J46)","v":0},null,{"$f":"IF(CFP!B46=\"\",\"\",CFP!C46)","v":""},{"$f":"IF(CFP!B46=\"\",0,CFP!D46)","v":0},{"$f":"IF(CFP!B46=\"\",0,CFP!E46)","v":0},null,{"$f":"IF(CFP!G46=\"\",\"\",CFP!H46)","v":""},{"$f":"IF(CFP!G46=\"\",0,CFP!I46)","v":0},null,{"$f":"IF(DWP!B46=\"\",\"\",DWP!C46)","v":""},{"$f":"IF(DWP!D46=\"\",0,DWP!D46)","v":0},{"$f":"IF(DWP!D46=\"\",0,DWP!E46)","v":0},null,{"$f":"IF(DWP!G46=\"\",\"\",DWP!H46)","v":""},{"$f":"IF(DWP!I46=\"\",0,DWP!I46)","v":0},null,{"$f":"IF(ALP!B46=\"\",\"\",ALP!C46)","v":""},{"$f":"IF(ALP!D46=\"\",0,ALP!D46)","v":0},{"$f":"IF(ALP!E46=\"\",0,ALP!E46)","v":0},null,{"$f":"IF(PS!B48=\"\",\"\",PS!C48)","v":""},{"$f":"IF(PS!B48=\"\",\"\",PS!D48)","v":""},null,{"$f":"IF(PS!F48=\"\",\"\",PS!G48)","v":""},{"$f":"IF(PS!F48=\"\",\"\",PS!H48)","v":""},null,{"$f":"IF(LP!A46=\"\",\"\",LP!B46)","v":""},{"$f":"IF(LP!A46=\"\",0,LP!C46)","v":0},null,{"$f":"IF(LP!E46=\"\",\"\",LP!F46)","v":""},{"$f":"IF(LP!E46=\"\",0,LP!G46)","v":0},null,{"$f":"IF(LP!I46=\"\",\"\",LP!J46)","v":""},{"$f":"IF(LP!I46=\"\",0,LP!K46)","v":0},null,{"$f":"IF(BPBPS!B46=\"\",\"\",BPBPS!C46)","v":""},{"$f":"IF(BPBPS!B46=\"\",0,BPBPS!D46)","v":0},null,{"$f":"IF(BPBPS!F46=\"\",\"\",BPBPS!G46)","v":""},{"$f":"IF(BPBPS!H46=\"\",0,BPBPS!H46)","v":0},null,{"$f":"IF(BPBPS!J46=\"\",\"\",BPBPS!K46)","v":""},{"$f":"IF(BPBPS!J46=\"\",0,BPBPS!L46)","v":0},null,{"$f":"IF(SSGP!B46=\"\",\"\",SSGP!C46)","v":""},{"$f":"IF(SSGP!B46=\"\",0,SSGP!D46)","v":0},null,{"$f":"IF(SSGP!F46=\"\",\"\",SSGP!G46)","v":""},{"$f":"IF(SSGP!F46=\"\",0,SSGP!H46)","v":0}]
[45,{"$f":"IF(JTP!B47=\"\",\"\",JTP!C47)","v":""},{"$f":"IF(JTP!B47=\"\",0,JTP!D47)","v":0},{"$f":"IF(JTP!B47=\"\",0,JTP!E47)","v":0},null,{"$f":"IF(JTP!G47=\"\",\"\",JTP!H47)","v":""},{"$f":"IF(JTP!G47=\"\",0,JTP!I47)","v":0},{"$f":"IF(JTP!G47=\"\",0,JTP!J47)","v":0},null,{"$f":"IF(JSP!B47=\"\",\"\",JSP!C47)","v":""},{"$f":"IF(JSP!B47=\"\",0,JSP!D47)","v":0},{"$f":"IF(JSP!B47=\"\",0,JSP!E47)","v":0},null,{"$f":"IF(JSP!G47=\"\",\"\",JSP!H47)","v":""},{"$f":"IF(JSP!G47=\"\",0,JSP!I47)","v":0},{"$f":"IF(JSP!G47=\"\",0,JSP!J47)","v":0},null,{"$f":"IF(CFP!B47=\"\",\"\",CFP!C47)","v":""},{"$f":"IF(CFP!B47=\"\",0,CFP!D47)","v":0},{"$f":"IF(CFP!B47=\"\",0,CFP!E47)","v":0},null,{"$f":"IF(CFP!G47=\"\",\"\",CFP!H47)","v":""},{"$f":"IF(CFP!G47=\"\",0,CFP!I47)","v":0},null,{"$f":"IF(DWP!B47=\"\",\"\",DWP!C47)","v":""},{"$f":"IF(DWP!D47=\"\",0,DWP!D47)","v":0},{"$f":"IF(DWP!D47=\"\",0,DWP!E47)","v":0},null,{"$f":"IF(DWP!G47=\"\",\"\",DWP!H47)","v":""},{"$f":"IF(DWP!I47=\"\",0,DWP!I47)","v":0},null,{"$f":"IF(ALP!B47=\"\",\"\",ALP!C47)","v":""},{"$f":"IF(ALP!D47=\"\",0,ALP!D47)","v":0},{"$f":"IF(ALP!E47=\"\",0,ALP!E47)","v":0},null,{"$f":"IF(PS!B49=\"\",\"\",PS!C49)","v":""},{"$f":"IF(PS!B49=\"\",\"\",PS!D49)","v":""},null,{"$f":"IF(PS!F49=\"\",\"\",PS!G49)","v":""},{"$f":"IF(PS!F49=\"\",\"\",PS!H49)","v":""},null,{"$f":"IF(LP!A47=\"\",\"\",LP!B47)","v":""},{"$f":"IF(LP!A47=\"\",0,LP!C47)","v":0},null,{"$f":"IF(LP!E47=\"\",\"\",LP!F47)","v":""},{"$f":"IF(LP!E47=\"\",0,LP!G47)","v":0},null,{"$f":"IF(LP!I47=\"\",\"\",LP!J47)","v":""},{"$f":"IF(LP!I47=\"\",0,LP!K47)","v":0},null,{"$f":"IF(BPBPS!B47=\"\",\"\",BPBPS!C47)","v":""},{"$f":"IF(BPBPS!B47=\"\",0,BPBPS!D47)","v":0},null,{"$f":"IF(BPBPS!F47=\"\",\"\",BPBPS!G47)","v":""},{"$f":"IF(BPBPS!H47=\"\",0,BPBPS!H47)","v":0},null,{"$f":"IF(BPBPS!J47=\"\",\"\",BPBPS!K47)","v":""},{"$f":"IF(BPBPS!J47=\"\",0,BPBPS!L47)","v":0},null,{"$f":"IF(SSGP!B47=\"\",\"\",SSGP!C47)","v":""},{"$f":"IF(SSGP!B47=\"\",0,SSGP!D47)","v":0},null,{"$f":"IF(SSGP!F47=\"\",\"\",SSGP!G47)","v":""},{"$f":"IF(SSGP!F47=\"\",0,SSGP!H47)","v":0}]
[46,{"$f":"IF(JTP!B48=\"\",\"\",JTP!C48)","v":""},{"$f":"IF(JTP!B48=\"\",0,JTP!D48)","v":0},{"$f":"IF(JTP!B48=\"\",0,JTP!E48)","v":0},null,{"$f":"IF(JTP!G48=\"\",\"\",JTP!H48)","v":""},{"$f":"IF(JTP!G48=\"\",0,JTP!I48)","v":0},{"$f":"IF(JTP!G48=\"\",0,JTP!J48)","v":0},null,{"$f":"IF(JSP!B48=\"\",\"\",JSP!C48)","v":""},{"$f":"IF(JSP!B48=\"\",0,JSP!D48)","v":0},{"$f":"IF(JSP!B48=\"\",0,JSP!E48)","v":0},null,{"$f":"IF(JSP!G48=\"\",\"\",JSP!H48)","v":""},{"$f":"IF(JSP!G48=\"\",0,JSP!I48)","v":0},{"$f":"IF(JSP!G48=\"\",0,JSP!J48)","v":0},null,{"$f":"IF(CFP!B48=\"\",\"\",CFP!C48)","v":""},{"$f":"IF(CFP!B48=\"\",0,CFP!D48)","v":0},{"$f":"IF(CFP!B48=\"\",0,CFP!E48)","v":0},null,{"$f":"IF(CFP!G48=\"\",\"\",CFP!H48)","v":""},{"$f":"IF(CFP!G48=\"\",0,CFP!I48)","v":0},null,{"$f":"IF(DWP!B48=\"\",\"\",DWP!C48)","v":""},{"$f":"IF(DWP!D48=\"\",0,DWP!D48)","v":0},{"$f":"IF(DWP!D48=\"\",0,DWP!E48)","v":0},null,{"$f":"IF(DWP!G48=\"\",\"\",DWP!H48)","v":""},{"$f":"IF(DWP!I48=\"\",0,DWP!I48)","v":0},null,{"$f":"IF(ALP!B48=\"\",\"\",ALP!C48)","v":""},{"$f":"IF(ALP!D48=\"\",0,ALP!D48)","v":0},{"$f":"IF(ALP!E48=\"\",0,ALP!E48)","v":0},null,{"$f":"IF(PS!B50=\"\",\"\",PS!C50)","v":""},{"$f":"IF(PS!B50=\"\",\"\",PS!D50)","v":""},null,{"$f":"IF(PS!F50=\"\",\"\",PS!G50)","v":""},{"$f":"IF(PS!F50=\"\",\"\",PS!H50)","v":""},null,{"$f":"IF(LP!A48=\"\",\"\",LP!B48)","v":""},{"$f":"IF(LP!A48=\"\",0,LP!C48)","v":0},null,{"$f":"IF(LP!E48=\"\",\"\",LP!F48)","v":""},{"$f":"IF(LP!E48=\"\",0,LP!G48)","v":0},null,{"$f":"IF(LP!I48=\"\",\"\",LP!J48)","v":""},{"$f":"IF(LP!I48=\"\",0,LP!K48)","v":0},null,{"$f":"IF(BPBPS!B48=\"\",\"\",BPBPS!C48)","v":""},{"$f":"IF(BPBPS!B48=\"\",0,BPBPS!D48)","v":0},null,{"$f":"IF(BPBPS!F48=\"\",\"\",BPBPS!G48)","v":""},{"$f":"IF(BPBPS!H48=\"\",0,BPBPS!H48)","v":0},null,{"$f":"IF(BPBPS!J48=\"\",\"\",BPBPS!K48)","v":""},{"$f":"IF(BPBPS!J48=\"\",0,BPBPS!L48)","v":0},null,{"$f":"IF(SSGP!B48=\"\",\"\",SSGP!C48)","v":""},{"$f":"IF(SSGP!B48=\"\",0,SSGP!D48)","v":0},null,{"$f":"IF(SSGP!F48=\"\",\"\",SSGP!G48)","v":""},{"$f":"IF(SSGP!F48=\"\",0,SSGP!H48)","v":0}]
[47,{"$f":"IF(JTP!B49=\"\",\"\",JTP!C49)","v":""},{"$f":"IF(JTP!B49=\"\",0,JTP!D49)","v":0},{"$f":"IF(JTP!B49=\"\",0,JTP!E49)","v":0},null,{"$f":"IF(JTP!G49=\"\",\"\",JTP!H49)","v":""},{"$f":"IF(JTP!G49=\"\",0,JTP!I49)","v":0},{"$f":"IF(JTP!G49=\"\",0,JTP!J49)","v":0},null,{"$f":"IF(JSP!B49=\"\",\"\",JSP!C49)","v":""},{"$f":"IF(JSP!B49=\"\",0,JSP!D49)","v":0},{"$f":"IF(JSP!B49=\"\",0,JSP!E49)","v":0},null,{"$f":"IF(JSP!G49=\"\",\"\",JSP!H49)","v":""},{"$f":"IF(JSP!G49=\"\",0,JSP!I49)","v":0},{"$f":"IF(JSP!G49=\"\",0,JSP!J49)","v":0},null,{"$f":"IF(CFP!B49=\"\",\"\",CFP!C49)","v":""},{"$f":"IF(CFP!B49=\"\",0,CFP!D49)","v":0},{"$f":"IF(CFP!B49=\"\",0,CFP!E49)","v":0},null,{"$f":"IF(CFP!G49=\"\",\"\",CFP!H49)","v":""},{"$f":"IF(CFP!G49=\"\",0,CFP!I49)","v":0},null,{"$f":"IF(DWP!B49=\"\",\"\",DWP!C49)","v":""},{"$f":"IF(DWP!D49=\"\",0,DWP!D49)","v":0},{"$f":"IF(DWP!D49=\"\",0,DWP!E49)","v":0},null,{"$f":"IF(DWP!G49=\"\",\"\",DWP!H49)","v":""},{"$f":"IF(DWP!I49=\"\",0,DWP!I49)","v":0},null,{"$f":"IF(ALP!B49=\"\",\"\",ALP!C49)","v":""},{"$f":"IF(ALP!D49=\"\",0,ALP!D49)","v":0},{"$f":"IF(ALP!E49=\"\",0,ALP!E49)","v":0},null,{"$f":"IF(PS!B51=\"\",\"\",PS!C51)","v":""},{"$f":"IF(PS!B51=\"\",\"\",PS!D51)","v":""},null,{"$f":"IF(PS!F51=\"\",\"\",PS!G51)","v":""},{"$f":"IF(PS!F51=\"\",\"\",PS!H51)","v":""},null,{"$f":"IF(LP!A49=\"\",\"\",LP!B49)","v":""},{"$f":"IF(LP!A49=\"\",0,LP!C49)","v":0},null,{"$f":"IF(LP!E49=\"\",\"\",LP!F49)","v":""},{"$f":"IF(LP!E49=\"\",0,LP!G49)","v":0},null,{"$f":"IF(LP!I49=\"\",\"\",LP!J49)","v":""},{"$f":"IF(LP!I49=\"\",0,LP!K49)","v":0},null,{"$f":"IF(BPBPS!B49=\"\",\"\",BPBPS!C49)","v":""},{"$f":"IF(BPBPS!B49=\"\",0,BPBPS!D49)","v":0},null,{"$f":"IF(BPBPS!F49=\"\",\"\",BPBPS!G49)","v":""},{"$f":"IF(BPBPS!H49=\"\",0,BPBPS!H49)","v":0},null,{"$f":"IF(BPBPS!J49=\"\",\"\",BPBPS!K49)","v":""},{"$f":"IF(BPBPS!J49=\"\",0,BPBPS!L49)","v":0},null,{"$f":"IF(SSGP!B49=\"\",\"\",SSGP!C49)","v":""},{"$f":"IF(SSGP!B49=\"\",0,SSGP!D49)","v":0},null,{"$f":"IF(SSGP!F49=\"\",\"\",SSGP!G49)","v":""},{"$f":"IF(SSGP!F49=\"\",0,SSGP!H49)","v":0}]
[48,{"$f":"IF(JTP!B50=\"\",\"\",JTP!C50)","v":""},{"$f":"IF(JTP!B50=\"\",0,JTP!D50)","v":0},{"$f":"IF(JTP!B50=\"\",0,JTP!E50)","v":0},null,{"$f":"IF(JTP!G50=\"\",\"\",JTP!H50)","v":""},{"$f":"IF(JTP!G50=\"\",0,JTP!I50)","v":0},{"$f":"IF(JTP!G50=\"\",0,JTP!J50)","v":0},null,{"$f":"IF(JSP!B50=\"\",\"\",JSP!C50)","v":""},{"$f":"IF(JSP!B50=\"\",0,JSP!D50)","v":0},{"$f":"IF(JSP!B50=\"\",0,JSP!E50)","v":0},null,{"$f":"IF(JSP!G50=\"\",\"\",JSP!H50)","v":""},{"$f":"IF(JSP!G50=\"\",0,JSP!I50)","v":0},{"$f":"IF(JSP!G50=\"\",0,JSP!J50)","v":0},null,{"$f":"IF(CFP!B50=\"\",\"\",CFP!C50)","v":""},{"$f":"IF(CFP!B50=\"\",0,CFP!D50)","v":0},{"$f":"IF(CFP!B50=\"\",0,CFP!E50)","v":0},null,{"$f":"IF(CFP!G50=\"\",\"\",CFP!H50)","v":""},{"$f":"IF(CFP!G50=\"\",0,CFP!I50)","v":0},null,{"$f":"IF(DWP!B50=\"\",\"\",DWP!C50)","v":""},{"$f":"IF(DWP!D50=\"\",0,DWP!D50)","v":0},{"$f":"IF(DWP!D50=\"\",0,DWP!E50)","v":0},null,{"$f":"IF(DWP!G50=\"\",\"\",DWP!H50)","v":""},{"$f":"IF(DWP!I50=\"\",0,DWP!I50)","v":0},null,{"$f":"IF(ALP!B50=\"\",\"\",ALP!C50)","v":""},{"$f":"IF(ALP!D50=\"\",0,ALP!D50)","v":0},{"$f":"IF(ALP!E50=\"\",0,ALP!E50)","v":0},null,{"$f":"IF(PS!B52=\"\",\"\",PS!C52)","v":""},{"$f":"IF(PS!B52=\"\",\"\",PS!D52)","v":""},null,{"$f":"IF(PS!F52=\"\",\"\",PS!G52)","v":""},{"$f":"IF(PS!F52=\"\",\"\",PS!H52)","v":""},null,{"$f":"IF(LP!A50=\"\",\"\",LP!B50)","v":""},{"$f":"IF(LP!A50=\"\",0,LP!C50)","v":0},null,{"$f":"IF(LP!E50=\"\",\"\",LP!F50)","v":""},{"$f":"IF(LP!E50=\"\",0,LP!G50)","v":0},null,{"$f":"IF(LP!I50=\"\",\"\",LP!J50)","v":""},{"$f":"IF(LP!I50=\"\",0,LP!K50)","v":0},null,{"$f":"IF(BPBPS!B50=\"\",\"\",BPBPS!C50)","v":""},{"$f":"IF(BPBPS!B50=\"\",0,BPBPS!D50)","v":0},null,{"$f":"IF(BPBPS!F50=\"\",\"\",BPBPS!G50)","v":""},{"$f":"IF(BPBPS!H50=\"\",0,BPBPS!H50)","v":0},null,{"$f":"IF(BPBPS!J50=\"\",\"\",BPBPS!K50)","v":""},{"$f":"IF(BPBPS!J50=\"\",0,BPBPS!L50)","v":0},null,{"$f":"IF(SSGP!B50=\"\",\"\",SSGP!C50)","v":""},{"$f":"IF(SSGP!B50=\"\",0,SSGP!D50)","v":0},null,{"$f":"IF(SSGP!F50=\"\",\"\",SSGP!G50)","v":""},{"$f":"IF(SSGP!F50=\"\",0,SSGP!H50)","v":0}]
[49,{"$f":"IF(JTP!B51=\"\",\"\",JTP!C51)","v":""},{"$f":"IF(JTP!B51=\"\",0,JTP!D51)","v":0},{"$f":"IF(JTP!B51=\"\",0,JTP!E51)","v":0},null,{"$f":"IF(JTP!G51=\"\",\"\",JTP!H51)","v":""},{"$f":"IF(JTP!G51=\"\",0,JTP!I51)","v":0},{"$f":"IF(JTP!G51=\"\",0,JTP!J51)","v":0},null,{"$f":"IF(JSP!B51=\"\",\"\",JSP!C51)","v":""},{"$f":"IF(JSP!B51=\"\",0,JSP!D51)","v":0},{"$f":"IF(JSP!B51=\"\",0,JSP!E51)","v":0},null,{"$f":"IF(JSP!G51=\"\",\"\",JSP!H51)","v":""},{"$f":"IF(JSP!G51=\"\",0,JSP!I51)","v":0},{"$f":"IF(JSP!G51=\"\",0,JSP!J51)","v":0},null,{"$f":"IF(CFP!B51=\"\",\"\",CFP!C51)","v":""},{"$f":"IF(CFP!B51=\"\",0,CFP!D51)","v":0},{"$f":"IF(CFP!B51=\"\",0,CFP!E51)","v":0},null,{"$f":"IF(CFP!G51=\"\",\"\",CFP!H51)","v":""},{"$f":"IF(CFP!G51=\"\",0,CFP!I51)","v":0},null,{"$f":"IF(DWP!B51=\"\",\"\",DWP!C51)","v":""},{"$f":"IF(DWP!D51=\"\",0,DWP!D51)","v":0},{"$f":"IF(DWP!D51=\"\",0,DWP!E51)","v":0},null,{"$f":"IF(DWP!G51=\"\",\"\",DWP!H51)","v":""},{"$f":"IF(DWP!I51=\"\",0,DWP!I51)","v":0},null,{"$f":"IF(ALP!B51=\"\",\"\",ALP!C51)","v":""},{"$f":"IF(ALP!D51=\"\",0,ALP!D51)","v":0},{"$f":"IF(ALP!E51=\"\",0,ALP!E51)","v":0},null,{"$f":"IF(PS!B53=\"\",\"\",PS!C53)","v":""},{"$f":"IF(PS!B53=\"\",\"\",PS!D53)","v":""},null,{"$f":"IF(PS!F53=\"\",\"\",PS!G53)","v":""},{"$f":"IF(PS!F53=\"\",\"\",PS!H53)","v":""},null,{"$f":"IF(LP!A51=\"\",\"\",LP!B51)","v":""},{"$f":"IF(LP!A51=\"\",0,LP!C51)","v":0},null,{"$f":"IF(LP!E51=\"\",\"\",LP!F51)","v":""},{"$f":"IF(LP!E51=\"\",0,LP!G51)","v":0},null,{"$f":"IF(LP!I51=\"\",\"\",LP!J51)","v":""},{"$f":"IF(LP!I51=\"\",0,LP!K51)","v":0},null,{"$f":"IF(BPBPS!B51=\"\",\"\",BPBPS!C51)","v":""},{"$f":"IF(BPBPS!B51=\"\",0,BPBPS!D51)","v":0},null,{"$f":"IF(BPBPS!F51=\"\",\"\",BPBPS!G51)","v":""},{"$f":"IF(BPBPS!H51=\"\",0,BPBPS!H51)","v":0},null,{"$f":"IF(BPBPS!J51=\"\",\"\",BPBPS!K51)","v":""},{"$f":"IF(BPBPS!J51=\"\",0,BPBPS!L51)","v":0},null,{"$f":"IF(SSGP!B51=\"\",\"\",SSGP!C51)","v":""},{"$f":"IF(SSGP!B51=\"\",0,SSGP!D51)","v":0},null,{"$f":"IF(SSGP!F51=\"\",\"\",SSGP!G51)","v":""},{"$f":"IF(SSGP!F51=\"\",0,SSGP!H51)","v":0}]
[50,{"$f":"IF(JTP!B52=\"\",\"\",JTP!C52)","v":""},{"$f":"IF(JTP!B52=\"\",0,JTP!D52)","v":0},{"$f":"IF(JTP!B52=\"\",0,JTP!E52)","v":0},null,{"$f":"IF(JTP!G52=\"\",\"\",JTP!H52)","v":""},{"$f":"IF(JTP!G52=\"\",0,JTP!I52)","v":0},{"$f":"IF(JTP!G52=\"\",0,JTP!J52)","v":0},null,{"$f":"IF(JSP!B52=\"\",\"\",JSP!C52)","v":""},{"$f":"IF(JSP!B52=\"\",0,JSP!D52)","v":0},{"$f":"IF(JSP!B52=\"\",0,JSP!E52)","v":0},null,{"$f":"IF(JSP!G52=\"\",\"\",JSP!H52)","v":""},{"$f":"IF(JSP!G52=\"\",0,JSP!I52)","v":0},{"$f":"IF(JSP!G52=\"\",0,JSP!J52)","v":0},null,{"$f":"IF(CFP!B52=\"\",\"\",CFP!C52)","v":""},{"$f":"IF(CFP!B52=\"\",0,CFP!D52)","v":0},{"$f":"IF(CFP!B52=\"\",0,CFP!E52)","v":0},null,{"$f":"IF(CFP!G52=\"\",\"\",CFP!H52)","v":""},{"$f":"IF(CFP!G52=\"\",0,CFP!I52)","v":0},null,{"$f":"IF(DWP!B52=\"\",\"\",DWP!C52)","v":""},{"$f":"IF(DWP!D52=\"\",0,DWP!D52)","v":0},{"$f":"IF(DWP!D52=\"\",0,DWP!E52)","v":0},null,{"$f":"IF(DWP!G52=\"\",\"\",DWP!H52)","v":""},{"$f":"IF(DWP!I52=\"\",0,DWP!I52)","v":0},null,{"$f":"IF(ALP!B52=\"\",\"\",ALP!C52)","v":""},{"$f":"IF(ALP!D52=\"\",0,ALP!D52)","v":0},{"$f":"IF(ALP!E52=\"\",0,ALP!E52)","v":0},null,{"$f":"IF(PS!B54=\"\",\"\",PS!C54)","v":""},{"$f":"IF(PS!B54=\"\",\"\",PS!D54)","v":""},null,{"$f":"IF(PS!F54=\"\",\"\",PS!G54)","v":""},{"$f":"IF(PS!F54=\"\",\"\",PS!H54)","v":""},null,{"$f":"IF(LP!A52=\"\",\"\",LP!B52)","v":""},{"$f":"IF(LP!A52=\"\",0,LP!C52)","v":0},null,{"$f":"IF(LP!E52=\"\",\"\",LP!F52)","v":""},{"$f":"IF(LP!E52=\"\",0,LP!G52)","v":0},null,{"$f":"IF(LP!I52=\"\",\"\",LP!J52)","v":""},{"$f":"IF(LP!I52=\"\",0,LP!K52)","v":0},null,{"$f":"IF(BPBPS!B52=\"\",\"\",BPBPS!C52)","v":""},{"$f":"IF(BPBPS!B52=\"\",0,BPBPS!D52)","v":0},null,{"$f":"IF(BPBPS!F52=\"\",\"\",BPBPS!G52)","v":""},{"$f":"IF(BPBPS!H52=\"\",0,BPBPS!H52)","v":0},null,{"$f":"IF(BPBPS!J52=\"\",\"\",BPBPS!K52)","v":""},{"$f":"IF(BPBPS!J52=\"\",0,BPBPS!L52)","v":0},null,{"$f":"IF(SSGP!B52=\"\",\"\",SSGP!C52)","v":""},{"$f":"IF(SSGP!B52=\"\",0,SSGP!D52)","v":0},null,{"$f":"IF(SSGP!F52=\"\",\"\",SSGP!G52)","v":""},{"$f":"IF(SSGP!F52=\"\",0,SSGP!H52)","v":0}]
[51,{"$f":"IF(JTP!B53=\"\",\"\",JTP!C53)","v":""},{"$f":"IF(JTP!B53=\"\",0,JTP!D53)","v":0},{"$f":"IF(JTP!B53=\"\",0,JTP!E53)","v":0},null,{"$f":"IF(JTP!G53=\"\",\"\",JTP!H53)","v":""},{"$f":"IF(JTP!G53=\"\",0,JTP!I53)","v":0},{"$f":"IF(JTP!G53=\"\",0,JTP!J53)","v":0},null,{"$f":"IF(JSP!B53=\"\",\"\",JSP!C53)","v":""},{"$f":"IF(JSP!B53=\"\",0,JSP!D53)","v":0},{"$f":"IF(JSP!B53=\"\",0,JSP!E53)","v":0},null,{"$f":"IF(JSP!G53=\"\",\"\",JSP!H53)","v":""},{"$f":"IF(JSP!G53=\"\",0,JSP!I53)","v":0},{"$f":"IF(JSP!G53=\"\",0,JSP!J53)","v":0},null,{"$f":"IF(CFP!B53=\"\",\"\",CFP!C53)","v":""},{"$f":"IF(CFP!B53=\"\",0,CFP!D53)","v":0},{"$f":"IF(CFP!B53=\"\",0,CFP!E53)","v":0},null,{"$f":"IF(CFP!G53=\"\",\"\",CFP!H53)","v":""},{"$f":"IF(CFP!G53=\"\",0,CFP!I53)","v":0},null,{"$f":"IF(DWP!B53=\"\",\"\",DWP!C53)","v":""},{"$f":"IF(DWP!D53=\"\",0,DWP!D53)","v":0},{"$f":"IF(DWP!D53=\"\",0,DWP!E53)","v":0},null,{"$f":"IF(DWP!G53=\"\",\"\",DWP!H53)","v":""},{"$f":"IF(DWP!I53=\"\",0,DWP!I53)","v":0},null,{"$f":"IF(ALP!B53=\"\",\"\",ALP!C53)","v":""},{"$f":"IF(ALP!D53=\"\",0,ALP!D53)","v":0},{"$f":"IF(ALP!E53=\"\",0,ALP!E53)","v":0},null,{"$f":"IF(PS!B55=\"\",\"\",PS!C55)","v":""},{"$f":"IF(PS!B55=\"\",\"\",PS!D55)","v":""},null,{"$f":"IF(PS!F55=\"\",\"\",PS!G55)","v":""},{"$f":"IF(PS!F55=\"\",\"\",PS!H55)","v":""},null,{"$f":"IF(LP!A53=\"\",\"\",LP!B53)","v":""},{"$f":"IF(LP!A53=\"\",0,LP!C53)","v":0},null,{"$f":"IF(LP!E53=\"\",\"\",LP!F53)","v":""},{"$f":"IF(LP!E53=\"\",0,LP!G53)","v":0},null,{"$f":"IF(LP!I53=\"\",\"\",LP!J53)","v":""},{"$f":"IF(LP!I53=\"\",0,LP!K53)","v":0},null,{"$f":"IF(BPBPS!B53=\"\",\"\",BPBPS!C53)","v":""},{"$f":"IF(BPBPS!B53=\"\",0,BPBPS!D53)","v":0},null,{"$f":"IF(BPBPS!F53=\"\",\"\",BPBPS!G53)","v":""},{"$f":"IF(BPBPS!H53=\"\",0,BPBPS!H53)","v":0},null,{"$f":"IF(BPBPS!J53=\"\",\"\",BPBPS!K53)","v":""},{"$f":"IF(BPBPS!J53=\"\",0,BPBPS!L53)","v":0},null,{"$f":"IF(SSGP!B53=\"\",\"\",SSGP!C53)","v":""},{"$f":"IF(SSGP!B53=\"\",0,SSGP!D53)","v":0},null,{"$f":"IF(SSGP!F53=\"\",\"\",SSGP!G53)","v":""},{"$f":"IF(SSGP!F53=\"\",0,SSGP!H53)","v":0}]
[52,{"$f":"IF(JTP!B54=\"\",\"\",JTP!C54)","v":""},{"$f":"IF(JTP!B54=\"\",0,JTP!D54)","v":0},{"$f":"IF(JTP!B54=\"\",0,JTP!E54)","v":0},null,{"$f":"IF(JTP!G54=\"\",\"\",JTP!H54)","v":""},{"$f":"IF(JTP!G54=\"\",0,JTP!I54)","v":0},{"$f":"IF(JTP!G54=\"\",0,JTP!J54)","v":0},null,{"$f":"IF(JSP!B54=\"\",\"\",JSP!C54)","v":""},{"$f":"IF(JSP!B54=\"\",0,JSP!D54)","v":0},{"$f":"IF(JSP!B54=\"\",0,JSP!E54)","v":0},null,{"$f":"IF(JSP!G54=\"\",\"\",JSP!H54)","v":""},{"$f":"IF(JSP!G54=\"\",0,JSP!I54)","v":0},{"$f":"IF(JSP!G54=\"\",0,JSP!J54)","v":0},null,{"$f":"IF(CFP!B54=\"\",\"\",CFP!C54)","v":""},{"$f":"IF(CFP!B54=\"\",0,CFP!D54)","v":0},{"$f":"IF(CFP!B54=\"\",0,CFP!E54)","v":0},null,{"$f":"IF(CFP!G54=\"\",\"\",CFP!H54)","v":""},{"$f":"IF(CFP!G54=\"\",0,CFP!I54)","v":0},null,{"$f":"IF(DWP!B54=\"\",\"\",DWP!C54)","v":""},{"$f":"IF(DWP!D54=\"\",0,DWP!D54)","v":0},{"$f":"IF(DWP!D54=\"\",0,DWP!E54)","v":0},null,{"$f":"IF(DWP!G54=\"\",\"\",DWP!H54)","v":""},{"$f":"IF(DWP!I54=\"\",0,DWP!I54)","v":0},null,{"$f":"IF(ALP!B54=\"\",\"\",ALP!C54)","v":""},{"$f":"IF(ALP!D54=\"\",0,ALP!D54)","v":0},{"$f":"IF(ALP!E54=\"\",0,ALP!E54)","v":0},null,{"$f":"IF(PS!B56=\"\",\"\",PS!C56)","v":""},{"$f":"IF(PS!B56=\"\",\"\",PS!D56)","v":""},null,{"$f":"IF(PS!F56=\"\",\"\",PS!G56)","v":""},{"$f":"IF(PS!F56=\"\",\"\",PS!H56)","v":""},null,{"$f":"IF(LP!A54=\"\",\"\",LP!B54)","v":""},{"$f":"IF(LP!A54=\"\",0,LP!C54)","v":0},null,{"$f":"IF(LP!E54=\"\",\"\",LP!F54)","v":""},{"$f":"IF(LP!E54=\"\",0,LP!G54)","v":0},null,{"$f":"IF(LP!I54=\"\",\"\",LP!J54)","v":""},{"$f":"IF(LP!I54=\"\",0,LP!K54)","v":0},null,{"$f":"IF(BPBPS!B54=\"\",\"\",BPBPS!C54)","v":""},{"$f":"IF(BPBPS!B54=\"\",0,BPBPS!D54)","v":0},null,{"$f":"IF(BPBPS!F54=\"\",\"\",BPBPS!G54)","v":""},{"$f":"IF(BPBPS!H54=\"\",0,BPBPS!H54)","v":0},null,{"$f":"IF(BPBPS!J54=\"\",\"\",BPBPS!K54)","v":""},{"$f":"IF(BPBPS!J54=\"\",0,BPBPS!L54)","v":0},null,{"$f":"IF(SSGP!B54=\"\",\"\",SSGP!C54)","v":""},{"$f":"IF(SSGP!B54=\"\",0,SSGP!D54)","v":0},null,{"$f":"IF(SSGP!F54=\"\",\"\",SSGP!G54)","v":""},{"$f":"IF(SSGP!F54=\"\",0,SSGP!H54)","v":0}]
[53,{"$f":"IF(JTP!B55=\"\",\"\",JTP!C55)","v":""},{"$f":"IF(JTP!B55=\"\",0,JTP!D55)","v":0},{"$f":"IF(JTP!B55=\"\",0,JTP!E55)","v":0},null,{"$f":"IF(JTP!G55=\"\",\"\",JTP!H55)","v":""},{"$f":"IF(JTP!G55=\"\",0,JTP!I55)","v":0},{"$f":"IF(JTP!G55=\"\",0,JTP!J55)","v":0},null,{"$f":"IF(JSP!B55=\"\",\"\",JSP!C55)","v":""},{"$f":"IF(JSP!B55=\"\",0,JSP!D55)","v":0},{"$f":"IF(JSP!B55=\"\",0,JSP!E55)","v":0},null,{"$f":"IF(JSP!G55=\"\",\"\",JSP!H55)","v":""},{"$f":"IF(JSP!G55=\"\",0,JSP!I55)","v":0},{"$f":"IF(JSP!G55=\"\",0,JSP!J55)","v":0},null,{"$f":"IF(CFP!B55=\"\",\"\",CFP!C55)","v":""},{"$f":"IF(CFP!B55=\"\",0,CFP!D55)","v":0},{"$f":"IF(CFP!B55=\"\",0,CFP!E55)","v":0},null,{"$f":"IF(CFP!G55=\"\",\"\",CFP!H55)","v":""},{"$f":"IF(CFP!G55=\"\",0,CFP!I55)","v":0},null,{"$f":"IF(DWP!B55=\"\",\"\",DWP!C55)","v":""},{"$f":"IF(DWP!D55=\"\",0,DWP!D55)","v":0},{"$f":"IF(DWP!D55=\"\",0,DWP!E55)","v":0},null,{"$f":"IF(DWP!G55=\"\",\"\",DWP!H55)","v":""},{"$f":"IF(DWP!I55=\"\",0,DWP!I55)","v":0},null,{"$f":"IF(ALP!B55=\"\",\"\",ALP!C55)","v":""},{"$f":"IF(ALP!D55=\"\",0,ALP!D55)","v":0},{"$f":"IF(ALP!E55=\"\",0,ALP!E55)","v":0},null,{"$f":"IF(PS!B57=\"\",\"\",PS!C57)","v":""},{"$f":"IF(PS!B57=\"\",\"\",PS!D57)","v":""},null,{"$f":"IF(PS!F57=\"\",\"\",PS!G57)","v":""},{"$f":"IF(PS!F57=\"\",\"\",PS!H57)","v":""},null,{"$f":"IF(LP!A55=\"\",\"\",LP!B55)","v":""},{"$f":"IF(LP!A55=\"\",0,LP!C55)","v":0},null,{"$f":"IF(LP!E55=\"\",\"\",LP!F55)","v":""},{"$f":"IF(LP!E55=\"\",0,LP!G55)","v":0},null,{"$f":"IF(LP!I55=\"\",\"\",LP!J55)","v":""},{"$f":"IF(LP!I55=\"\",0,LP!K55)","v":0},null,{"$f":"IF(BPBPS!B55=\"\",\"\",BPBPS!C55)","v":""},{"$f":"IF(BPBPS!B55=\"\",0,BPBPS!D55)","v":0},null,{"$f":"IF(BPBPS!F55=\"\",\"\",BPBPS!G55)","v":""},{"$f":"IF(BPBPS!H55=\"\",0,BPBPS!H55)","v":0},null,{"$f":"IF(BPBPS!J55=\"\",\"\",BPBPS!K55)","v":""},{"$f":"IF(BPBPS!J55=\"\",0,BPBPS!L55)","v":0},null,{"$f":"IF(SSGP!B55=\"\",\"\",SSGP!C55)","v":""},{"$f":"IF(SSGP!B55=\"\",0,SSGP!D55)","v":0},null,{"$f":"IF(SSGP!F55=\"\",\"\",SSGP!G55)","v":""},{"$f":"IF(SSGP!F55=\"\",0,SSGP!H55)","v":0}]
[54,{"$f":"IF(JTP!B56=\"\",\"\",JTP!C56)","v":""},{"$f":"IF(JTP!B56=\"\",0,JTP!D56)","v":0},{"$f":"IF(JTP!B56=\"\",0,JTP!E56)","v":0},null,{"$f":"IF(JTP!G56=\"\",\"\",JTP!H56)","v":""},{"$f":"IF(JTP!G56=\"\",0,JTP!I56)","v":0},{"$f":"IF(JTP!G56=\"\",0,JTP!J56)","v":0},null,{"$f":"IF(JSP!B56=\"\",\"\",JSP!C56)","v":""},{"$f":"IF(JSP!B56=\"\",0,JSP!D56)","v":0},{"$f":"IF(JSP!B56=\"\",0,JSP!E56)","v":0},null,{"$f":"IF(JSP!G56=\"\",\"\",JSP!H56)","v":""},{"$f":"IF(JSP!G56=\"\",0,JSP!I56)","v":0},{"$f":"IF(JSP!G56=\"\",0,JSP!J56)","v":0},null,{"$f":"IF(CFP!B56=\"\",\"\",CFP!C56)","v":""},{"$f":"IF(CFP!B56=\"\",0,CFP!D56)","v":0},{"$f":"IF(CFP!B56=\"\",0,CFP!E56)","v":0},null,{"$f":"IF(CFP!G56=\"\",\"\",CFP!H56)","v":""},{"$f":"IF(CFP!G56=\"\",0,CFP!I56)","v":0},null,{"$f":"IF(DWP!B56=\"\",\"\",DWP!C56)","v":""},{"$f":"IF(DWP!D56=\"\",0,DWP!D56)","v":0},{"$f":"IF(DWP!D56=\"\",0,DWP!E56)","v":0},null,{"$f":"IF(DWP!G56=\"\",\"\",DWP!H56)","v":""},{"$f":"IF(DWP!I56=\"\",0,DWP!I56)","v":0},null,{"$f":"IF(ALP!B56=\"\",\"\",ALP!C56)","v":""},{"$f":"IF(ALP!D56=\"\",0,ALP!D56)","v":0},{"$f":"IF(ALP!E56=\"\",0,ALP!E56)","v":0},null,{"$f":"IF(PS!B58=\"\",\"\",PS!C58)","v":""},{"$f":"IF(PS!B58=\"\",\"\",PS!D58)","v":""},null,{"$f":"IF(PS!F58=\"\",\"\",PS!G58)","v":""},{"$f":"IF(PS!F58=\"\",\"\",PS!H58)","v":""},null,{"$f":"IF(LP!A56=\"\",\"\",LP!B56)","v":""},{"$f":"IF(LP!A56=\"\",0,LP!C56)","v":0},null,{"$f":"IF(LP!E56=\"\",\"\",LP!F56)","v":""},{"$f":"IF(LP!E56=\"\",0,LP!G56)","v":0},null,{"$f":"IF(LP!I56=\"\",\"\",LP!J56)","v":""},{"$f":"IF(LP!I56=\"\",0,LP!K56)","v":0},null,{"$f":"IF(BPBPS!B56=\"\",\"\",BPBPS!C56)","v":""},{"$f":"IF(BPBPS!B56=\"\",0,BPBPS!D56)","v":0},null,{"$f":"IF(BPBPS!F56=\"\",\"\",BPBPS!G56)","v":""},{"$f":"IF(BPBPS!H56=\"\",0,BPBPS!H56)","v":0},null,{"$f":"IF(BPBPS!J56=\"\",\"\",BPBPS!K56)","v":""},{"$f":"IF(BPBPS!J56=\"\",0,BPBPS!L56)","v":0},null,{"$f":"IF(SSGP!B56=\"\",\"\",SSGP!C56)","v":""},{"$f":"IF(SSGP!B56=\"\",0,SSGP!D56)","v":0},null,{"$f":"IF(SSGP!F56=\"\",\"\",SSGP!G56)","v":""},{"$f":"IF(SSGP!F56=\"\",0,SSGP!H56)","v":0}]
[55,{"$f":"IF(JTP!B57=\"\",\"\",JTP!C57)","v":""},{"$f":"IF(JTP!B57=\"\",0,JTP!D57)","v":0},{"$f":"IF(JTP!B57=\"\",0,JTP!E57)","v":0},null,{"$f":"IF(JTP!G57=\"\",\"\",JTP!H57)","v":""},{"$f":"IF(JTP!G57=\"\",0,JTP!I57)","v":0},{"$f":"IF(JTP!G57=\"\",0,JTP!J57)","v":0},null,{"$f":"IF(JSP!B57=\"\",\"\",JSP!C57)","v":""},{"$f":"IF(JSP!B57=\"\",0,JSP!D57)","v":0},{"$f":"IF(JSP!B57=\"\",0,JSP!E57)","v":0},null,{"$f":"IF(JSP!G57=\"\",\"\",JSP!H57)","v":""},{"$f":"IF(JSP!G57=\"\",0,JSP!I57)","v":0},{"$f":"IF(JSP!G57=\"\",0,JSP!J57)","v":0},null,{"$f":"IF(CFP!B57=\"\",\"\",CFP!C57)","v":""},{"$f":"IF(CFP!B57=\"\",0,CFP!D57)","v":0},{"$f":"IF(CFP!B57=\"\",0,CFP!E57)","v":0},null,{"$f":"IF(CFP!G57=\"\",\"\",CFP!H57)","v":""},{"$f":"IF(CFP!G57=\"\",0,CFP!I57)","v":0},null,{"$f":"IF(DWP!B57=\"\",\"\",DWP!C57)","v":""},{"$f":"IF(DWP!D57=\"\",0,DWP!D57)","v":0},{"$f":"IF(DWP!D57=\"\",0,DWP!E57)","v":0},null,{"$f":"IF(DWP!G57=\"\",\"\",DWP!H57)","v":""},{"$f":"IF(DWP!I57=\"\",0,DWP!I57)","v":0},null,{"$f":"IF(ALP!B57=\"\",\"\",ALP!C57)","v":""},{"$f":"IF(ALP!D57=\"\",0,ALP!D57)","v":0},{"$f":"IF(ALP!E57=\"\",0,ALP!E57)","v":0},null,{"$f":"IF(PS!B59=\"\",\"\",PS!C59)","v":""},{"$f":"IF(PS!B59=\"\",\"\",PS!D59)","v":""},null,{"$f":"IF(PS!F59=\"\",\"\",PS!G59)","v":""},{"$f":"IF(PS!F59=\"\",\"\",PS!H59)","v":""},null,{"$f":"IF(LP!A57=\"\",\"\",LP!B57)","v":""},{"$f":"IF(LP!A57=\"\",0,LP!C57)","v":0},null,{"$f":"IF(LP!E57=\"\",\"\",LP!F57)","v":""},{"$f":"IF(LP!E57=\"\",0,LP!G57)","v":0},null,{"$f":"IF(LP!I57=\"\",\"\",LP!J57)","v":""},{"$f":"IF(LP!I57=\"\",0,LP!K57)","v":0},null,{"$f":"IF(BPBPS!B57=\"\",\"\",BPBPS!C57)","v":""},{"$f":"IF(BPBPS!B57=\"\",0,BPBPS!D57)","v":0},null,{"$f":"IF(BPBPS!F57=\"\",\"\",BPBPS!G57)","v":""},{"$f":"IF(BPBPS!H57=\"\",0,BPBPS!H57)","v":0},null,{"$f":"IF(BPBPS!J57=\"\",\"\",BPBPS!K57)","v":""},{"$f":"IF(BPBPS!J57=\"\",0,BPBPS!L57)","v":0},null,{"$f":"IF(SSGP!B57=\"\",\"\",SSGP!C57)","v":""},{"$f":"IF(SSGP!B57=\"\",0,SSGP!D57)","v":0},null,{"$f":"IF(SSGP!F57=\"\",\"\",SSGP!G57)","v":""},{"$f":"IF(SSGP!F57=\"\",0,SSGP!H57)","v":0}]
[56,{"$f":"IF(JTP!B58=\"\",\"\",JTP!C58)","v":""},{"$f":"IF(JTP!B58=\"\",0,JTP!D58)","v":0},{"$f":"IF(JTP!B58=\"\",0,JTP!E58)","v":0},null,{"$f":"IF(JTP!G58=\"\",\"\",JTP!H58)","v":""},{"$f":"IF(JTP!G58=\"\",0,JTP!I58)","v":0},{"$f":"IF(JTP!G58=\"\",0,JTP!J58)","v":0},null,{"$f":"IF(JSP!B58=\"\",\"\",JSP!C58)","v":""},{"$f":"IF(JSP!B58=\"\",0,JSP!D58)","v":0},{"$f":"IF(JSP!B58=\"\",0,JSP!E58)","v":0},null,{"$f":"IF(JSP!G58=\"\",\"\",JSP!H58)","v":""},{"$f":"IF(JSP!G58=\"\",0,JSP!I58)","v":0},{"$f":"IF(JSP!G58=\"\",0,JSP!J58)","v":0},null,{"$f":"IF(CFP!B58=\"\",\"\",CFP!C58)","v":""},{"$f":"IF(CFP!B58=\"\",0,CFP!D58)","v":0},{"$f":"IF(CFP!B58=\"\",0,CFP!E58)","v":0},null,{"$f":"IF(CFP!G58=\"\",\"\",CFP!H58)","v":""},{"$f":"IF(CFP!G58=\"\",0,CFP!I58)","v":0},null,{"$f":"IF(DWP!B58=\"\",\"\",DWP!C58)","v":""},{"$f":"IF(DWP!D58=\"\",0,DWP!D58)","v":0},{"$f":"IF(DWP!D58=\"\",0,DWP!E58)","v":0},null,{"$f":"IF(DWP!G58=\"\",\"\",DWP!H58)","v":""},{"$f":"IF(DWP!I58=\"\",0,DWP!I58)","v":0},null,{"$f":"IF(ALP!B58=\"\",\"\",ALP!C58)","v":""},{"$f":"IF(ALP!D58=\"\",0,ALP!D58)","v":0},{"$f":"IF(ALP!E58=\"\",0,ALP!E58)","v":0},null,{"$f":"IF(PS!B60=\"\",\"\",PS!C60)","v":""},{"$f":"IF(PS!B60=\"\",\"\",PS!D60)","v":""},null,{"$f":"IF(PS!F60=\"\",\"\",PS!G60)","v":""},{"$f":"IF(PS!F60=\"\",\"\",PS!H60)","v":""},null,{"$f":"IF(LP!A58=\"\",\"\",LP!B58)","v":""},{"$f":"IF(LP!A58=\"\",0,LP!C58)","v":0},null,{"$f":"IF(LP!E58=\"\",\"\",LP!F58)","v":""},{"$f":"IF(LP!E58=\"\",0,LP!G58)","v":0},null,{"$f":"IF(LP!I58=\"\",\"\",LP!J58)","v":""},{"$f":"IF(LP!I58=\"\",0,LP!K58)","v":0},null,{"$f":"IF(BPBPS!B58=\"\",\"\",BPBPS!C58)","v":""},{"$f":"IF(BPBPS!B58=\"\",0,BPBPS!D58)","v":0},null,{"$f":"IF(BPBPS!F58=\"\",\"\",BPBPS!G58)","v":""},{"$f":"IF(BPBPS!H58=\"\",0,BPBPS!H58)","v":0},null,{"$f":"IF(BPBPS!J58=\"\",\"\",BPBPS!K58)","v":""},{"$f":"IF(BPBPS!J58=\"\",0,BPBPS!L58)","v":0},null,{"$f":"IF(SSGP!B58=\"\",\"\",SSGP!C58)","v":""},{"$f":"IF(SSGP!B58=\"\",0,SSGP!D58)","v":0},null,{"$f":"IF(SSGP!F58=\"\",\"\",SSGP!G58)","v":""},{"$f":"IF(SSGP!F58=\"\",0,SSGP!H58)","v":0}]
[57,{"$f":"IF(JTP!B59=\"\",\"\",JTP!C59)","v":""},{"$f":"IF(JTP!B59=\"\",0,JTP!D59)","v":0},{"$f":"IF(JTP!B59=\"\",0,JTP!E59)","v":0},null,{"$f":"IF(JTP!G59=\"\",\"\",JTP!H59)","v":""},{"$f":"IF(JTP!G59=\"\",0,JTP!I59)","v":0},{"$f":"IF(JTP!G59=\"\",0,JTP!J59)","v":0},null,{"$f":"IF(JSP!B59=\"\",\"\",JSP!C59)","v":""},{"$f":"IF(JSP!B59=\"\",0,JSP!D59)","v":0},{"$f":"IF(JSP!B59=\"\",0,JSP!E59)","v":0},null,{"$f":"IF(JSP!G59=\"\",\"\",JSP!H59)","v":""},{"$f":"IF(JSP!G59=\"\",0,JSP!I59)","v":0},{"$f":"IF(JSP!G59=\"\",0,JSP!J59)","v":0},null,{"$f":"IF(CFP!B59=\"\",\"\",CFP!C59)","v":""},{"$f":"IF(CFP!B59=\"\",0,CFP!D59)","v":0},{"$f":"IF(CFP!B59=\"\",0,CFP!E59)","v":0},null,{"$f":"IF(CFP!G59=\"\",\"\",CFP!H59)","v":""},{"$f":"IF(CFP!G59=\"\",0,CFP!I59)","v":0},null,{"$f":"IF(DWP!B59=\"\",\"\",DWP!C59)","v":""},{"$f":"IF(DWP!D59=\"\",0,DWP!D59)","v":0},{"$f":"IF(DWP!D59=\"\",0,DWP!E59)","v":0},null,{"$f":"IF(DWP!G59=\"\",\"\",DWP!H59)","v":""},{"$f":"IF(DWP!I59=\"\",0,DWP!I59)","v":0},null,{"$f":"IF(ALP!B59=\"\",\"\",ALP!C59)","v":""},{"$f":"IF(ALP!D59=\"\",0,ALP!D59)","v":0},{"$f":"IF(ALP!E59=\"\",0,ALP!E59)","v":0},null,{"$f":"IF(PS!B61=\"\",\"\",PS!C61)","v":""},{"$f":"IF(PS!B61=\"\",\"\",PS!D61)","v":""},null,{"$f":"IF(PS!F61=\"\",\"\",PS!G61)","v":""},{"$f":"IF(PS!F61=\"\",\"\",PS!H61)","v":""},null,{"$f":"IF(LP!A59=\"\",\"\",LP!B59)","v":""},{"$f":"IF(LP!A59=\"\",0,LP!C59)","v":0},null,{"$f":"IF(LP!E59=\"\",\"\",LP!F59)","v":""},{"$f":"IF(LP!E59=\"\",0,LP!G59)","v":0},null,{"$f":"IF(LP!I59=\"\",\"\",LP!J59)","v":""},{"$f":"IF(LP!I59=\"\",0,LP!K59)","v":0},null,{"$f":"IF(BPBPS!B59=\"\",\"\",BPBPS!C59)","v":""},{"$f":"IF(BPBPS!B59=\"\",0,BPBPS!D59)","v":0},null,{"$f":"IF(BPBPS!F59=\"\",\"\",BPBPS!G59)","v":""},{"$f":"IF(BPBPS!H59=\"\",0,BPBPS!H59)","v":0},null,{"$f":"IF(BPBPS!J59=\"\",\"\",BPBPS!K59)","v":""},{"$f":"IF(BPBPS!J59=\"\",0,BPBPS!L59)","v":0},null,{"$f":"IF(SSGP!B59=\"\",\"\",SSGP!C59)","v":""},{"$f":"IF(SSGP!B59=\"\",0,SSGP!D59)","v":0},null,{"$f":"IF(SSGP!F59=\"\",\"\",SSGP!G59)","v":""},{"$f":"IF(SSGP!F59=\"\",0,SSGP!H59)","v":0}]
[58,{"$f":"IF(JTP!B60=\"\",\"\",JTP!C60)","v":""},{"$f":"IF(JTP!B60=\"\",0,JTP!D60)","v":0},{"$f":"IF(JTP!B60=\"\",0,JTP!E60)","v":0},null,{"$f":"IF(JTP!G60=\"\",\"\",JTP!H60)","v":""},{"$f":"IF(JTP!G60=\"\",0,JTP!I60)","v":0},{"$f":"IF(JTP!G60=\"\",0,JTP!J60)","v":0},null,{"$f":"IF(JSP!B60=\"\",\"\",JSP!C60)","v":""},{"$f":"IF(JSP!B60=\"\",0,JSP!D60)","v":0},{"$f":"IF(JSP!B60=\"\",0,JSP!E60)","v":0},null,{"$f":"IF(JSP!G60=\"\",\"\",JSP!H60)","v":""},{"$f":"IF(JSP!G60=\"\",0,JSP!I60)","v":0},{"$f":"IF(JSP!G60=\"\",0,JSP!J60)","v":0},null,{"$f":"IF(CFP!B60=\"\",\"\",CFP!C60)","v":""},{"$f":"IF(CFP!B60=\"\",0,CFP!D60)","v":0},{"$f":"IF(CFP!B60=\"\",0,CFP!E60)","v":0},null,{"$f":"IF(CFP!G60=\"\",\"\",CFP!H60)","v":""},{"$f":"IF(CFP!G60=\"\",0,CFP!I60)","v":0},null,{"$f":"IF(DWP!B60=\"\",\"\",DWP!C60)","v":""},{"$f":"IF(DWP!D60=\"\",0,DWP!D60)","v":0},{"$f":"IF(DWP!D60=\"\",0,DWP!E60)","v":0},null,{"$f":"IF(DWP!G60=\"\",\"\",DWP!H60)","v":""},{"$f":"IF(DWP!I60=\"\",0,DWP!I60)","v":0},null,{"$f":"IF(ALP!B60=\"\",\"\",ALP!C60)","v":""},{"$f":"IF(ALP!D60=\"\",0,ALP!D60)","v":0},{"$f":"IF(ALP!E60=\"\",0,ALP!E60)","v":0},null,{"$f":"IF(PS!B62=\"\",\"\",PS!C62)","v":""},{"$f":"IF(PS!B62=\"\",\"\",PS!D62)","v":""},null,{"$f":"IF(PS!F62=\"\",\"\",PS!G62)","v":""},{"$f":"IF(PS!F62=\"\",\"\",PS!H62)","v":""},null,{"$f":"IF(LP!A60=\"\",\"\",LP!B60)","v":""},{"$f":"IF(LP!A60=\"\",0,LP!C60)","v":0},null,{"$f":"IF(LP!E60=\"\",\"\",LP!F60)","v":""},{"$f":"IF(LP!E60=\"\",0,LP!G60)","v":0},null,{"$f":"IF(LP!I60=\"\",\"\",LP!J60)","v":""},{"$f":"IF(LP!I60=\"\",0,LP!K60)","v":0},null,{"$f":"IF(BPBPS!B60=\"\",\"\",BPBPS!C60)","v":""},{"$f":"IF(BPBPS!B60=\"\",0,BPBPS!D60)","v":0},null,{"$f":"IF(BPBPS!F60=\"\",\"\",BPBPS!G60)","v":""},{"$f":"IF(BPBPS!H60=\"\",0,BPBPS!H60)","v":0},null,{"$f":"IF(BPBPS!J60=\"\",\"\",BPBPS!K60)","v":""},{"$f":"IF(BPBPS!J60=\"\",0,BPBPS!L60)","v":0},null,{"$f":"IF(SSGP!B60=\"\",\"\",SSGP!C60)","v":""},{"$f":"IF(SSGP!B60=\"\",0,SSGP!D60)","v":0},null,{"$f":"IF(SSGP!F60=\"\",\"\",SSGP!G60)","v":""},{"$f":"IF(SSGP!F60=\"\",0,SSGP!H60)","v":0}]
[59,{"$f":"IF(JTP!B61=\"\",\"\",JTP!C61)","v":""},{"$f":"IF(JTP!B61=\"\",0,JTP!D61)","v":0},{"$f":"IF(JTP!B61=\"\",0,JTP!E61)","v":0},null,{"$f":"IF(JTP!G61=\"\",\"\",JTP!H61)","v":""},{"$f":"IF(JTP!G61=\"\",0,JTP!I61)","v":0},{"$f":"IF(JTP!G61=\"\",0,JTP!J61)","v":0},null,{"$f":"IF(JSP!B61=\"\",\"\",JSP!C61)","v":""},{"$f":"IF(JSP!B61=\"\",0,JSP!D61)","v":0},{"$f":"IF(JSP!B61=\"\",0,JSP!E61)","v":0},null,{"$f":"IF(JSP!G61=\"\",\"\",JSP!H61)","v":""},{"$f":"IF(JSP!G61=\"\",0,JSP!I61)","v":0},{"$f":"IF(JSP!G61=\"\",0,JSP!J61)","v":0},null,{"$f":"IF(CFP!B61=\"\",\"\",CFP!C61)","v":""},{"$f":"IF(CFP!B61=\"\",0,CFP!D61)","v":0},{"$f":"IF(CFP!B61=\"\",0,CFP!E61)","v":0},null,{"$f":"IF(CFP!G61=\"\",\"\",CFP!H61)","v":""},{"$f":"IF(CFP!G61=\"\",0,CFP!I61)","v":0},null,{"$f":"IF(DWP!B61=\"\",\"\",DWP!C61)","v":""},{"$f":"IF(DWP!D61=\"\",0,DWP!D61)","v":0},{"$f":"IF(DWP!D61=\"\",0,DWP!E61)","v":0},null,{"$f":"IF(DWP!G61=\"\",\"\",DWP!H61)","v":""},{"$f":"IF(DWP!I61=\"\",0,DWP!I61)","v":0},null,{"$f":"IF(ALP!B61=\"\",\"\",ALP!C61)","v":""},{"$f":"IF(ALP!D61=\"\",0,ALP!D61)","v":0},{"$f":"IF(ALP!E61=\"\",0,ALP!E61)","v":0},null,{"$f":"IF(PS!B63=\"\",\"\",PS!C63)","v":""},{"$f":"IF(PS!B63=\"\",\"\",PS!D63)","v":""},null,{"$f":"IF(PS!F63=\"\",\"\",PS!G63)","v":""},{"$f":"IF(PS!F63=\"\",\"\",PS!H63)","v":""},null,{"$f":"IF(LP!A61=\"\",\"\",LP!B61)","v":""},{"$f":"IF(LP!A61=\"\",0,LP!C61)","v":0},null,{"$f":"IF(LP!E61=\"\",\"\",LP!F61)","v":""},{"$f":"IF(LP!E61=\"\",0,LP!G61)","v":0},null,{"$f":"IF(LP!I61=\"\",\"\",LP!J61)","v":""},{"$f":"IF(LP!I61=\"\",0,LP!K61)","v":0},null,{"$f":"IF(BPBPS!B61=\"\",\"\",BPBPS!C61)","v":""},{"$f":"IF(BPBPS!B61=\"\",0,BPBPS!D61)","v":0},null,{"$f":"IF(BPBPS!F61=\"\",\"\",BPBPS!G61)","v":""},{"$f":"IF(BPBPS!H61=\"\",0,BPBPS!H61)","v":0},null,{"$f":"IF(BPBPS!J61=\"\",\"\",BPBPS!K61)","v":""},{"$f":"IF(BPBPS!J61=\"\",0,BPBPS!L61)","v":0},null,{"$f":"IF(SSGP!B61=\"\",\"\",SSGP!C61)","v":""},{"$f":"IF(SSGP!B61=\"\",0,SSGP!D61)","v":0},null,{"$f":"IF(SSGP!F61=\"\",\"\",SSGP!G61)","v":""},{"$f":"IF(SSGP!F61=\"\",0,SSGP!H61)","v":0}]
[60,{"$f":"IF(JTP!B62=\"\",\"\",JTP!C62)","v":""},{"$f":"IF(JTP!B62=\"\",0,JTP!D62)","v":0},{"$f":"IF(JTP!B62=\"\",0,JTP!E62)","v":0},null,{"$f":"IF(JTP!G62=\"\",\"\",JTP!H62)","v":""},{"$f":"IF(JTP!G62=\"\",0,JTP!I62)","v":0},{"$f":"IF(JTP!G62=\"\",0,JTP!J62)","v":0},null,{"$f":"IF(JSP!B62=\"\",\"\",JSP!C62)","v":""},{"$f":"IF(JSP!B62=\"\",0,JSP!D62)","v":0},{"$f":"IF(JSP!B62=\"\",0,JSP!E62)","v":0},null,{"$f":"IF(JSP!G62=\"\",\"\",JSP!H62)","v":""},{"$f":"IF(JSP!G62=\"\",0,JSP!I62)","v":0},{"$f":"IF(JSP!G62=\"\",0,JSP!J62)","v":0},null,{"$f":"IF(CFP!B62=\"\",\"\",CFP!C62)","v":""},{"$f":"IF(CFP!B62=\"\",0,CFP!D62)","v":0},{"$f":"IF(CFP!B62=\"\",0,CFP!E62)","v":0},null,{"$f":"IF(CFP!G62=\"\",\"\",CFP!H62)","v":""},{"$f":"IF(CFP!G62=\"\",0,CFP!I62)","v":0},null,{"$f":"IF(DWP!B62=\"\",\"\",DWP!C62)","v":""},{"$f":"IF(DWP!D62=\"\",0,DWP!D62)","v":0},{"$f":"IF(DWP!D62=\"\",0,DWP!E62)","v":0},null,{"$f":"IF(DWP!G62=\"\",\"\",DWP!H62)","v":""},{"$f":"IF(DWP!I62=\"\",0,DWP!I62)","v":0},null,{"$f":"IF(ALP!B62=\"\",\"\",ALP!C62)","v":""},{"$f":"IF(ALP!D62=\"\",0,ALP!D62)","v":0},{"$f":"IF(ALP!E62=\"\",0,ALP!E62)","v":0},null,{"$f":"IF(PS!B64=\"\",\"\",PS!C64)","v":""},{"$f":"IF(PS!B64=\"\",\"\",PS!D64)","v":""},null,{"$f":"IF(PS!F64=\"\",\"\",PS!G64)","v":""},{"$f":"IF(PS!F64=\"\",\"\",PS!H64)","v":""},null,{"$f":"IF(LP!A62=\"\",\"\",LP!B62)","v":""},{"$f":"IF(LP!A62=\"\",0,LP!C62)","v":0},null,{"$f":"IF(LP!E62=\"\",\"\",LP!F62)","v":""},{"$f":"IF(LP!E62=\"\",0,LP!G62)","v":0},null,{"$f":"IF(LP!I62=\"\",\"\",LP!J62)","v":""},{"$f":"IF(LP!I62=\"\",0,LP!K62)","v":0},null,{"$f":"IF(BPBPS!B62=\"\",\"\",BPBPS!C62)","v":""},{"$f":"IF(BPBPS!B62=\"\",0,BPBPS!D62)","v":0},null,{"$f":"IF(BPBPS!F62=\"\",\"\",BPBPS!G62)","v":""},{"$f":"IF(BPBPS!H62=\"\",0,BPBPS!H62)","v":0},null,{"$f":"IF(BPBPS!J62=\"\",\"\",BPBPS!K62)","v":""},{"$f":"IF(BPBPS!J62=\"\",0,BPBPS!L62)","v":0},null,{"$f":"IF(SSGP!B62=\"\",\"\",SSGP!C62)","v":""},{"$f":"IF(SSGP!B62=\"\",0,SSGP!D62)","v":0},null,{"$f":"IF(SSGP!F62=\"\",\"\",SSGP!G62)","v":""},{"$f":"IF(SSGP!F62=\"\",0,SSGP!H62)","v":0}]
[61,{"$f":"IF(JTP!B63=\"\",\"\",JTP!C63)","v":""},{"$f":"IF(JTP!B63=\"\",0,JTP!D63)","v":0},{"$f":"IF(JTP!B63=\"\",0,JTP!E63)","v":0},null,{"$f":"IF(JTP!G63=\"\",\"\",JTP!H63)","v":""},{"$f":"IF(JTP!G63=\"\",0,JTP!I63)","v":0},{"$f":"IF(JTP!G63=\"\",0,JTP!J63)","v":0},null,{"$f":"IF(JSP!B63=\"\",\"\",JSP!C63)","v":""},{"$f":"IF(JSP!B63=\"\",0,JSP!D63)","v":0},{"$f":"IF(JSP!B63=\"\",0,JSP!E63)","v":0},null,{"$f":"IF(JSP!G63=\"\",\"\",JSP!H63)","v":""},{"$f":"IF(JSP!G63=\"\",0,JSP!I63)","v":0},{"$f":"IF(JSP!G63=\"\",0,JSP!J63)","v":0},null,{"$f":"IF(CFP!B63=\"\",\"\",CFP!C63)","v":""},{"$f":"IF(CFP!B63=\"\",0,CFP!D63)","v":0},{"$f":"IF(CFP!B63=\"\",0,CFP!E63)","v":0},null,{"$f":"IF(CFP!G63=\"\",\"\",CFP!H63)","v":""},{"$f":"IF(CFP!G63=\"\",0,CFP!I63)","v":0},null,{"$f":"IF(DWP!B63=\"\",\"\",DWP!C63)","v":""},{"$f":"IF(DWP!D63=\"\",0,DWP!D63)","v":0},{"$f":"IF(DWP!D63=\"\",0,DWP!E63)","v":0},null,{"$f":"IF(DWP!G63=\"\",\"\",DWP!H63)","v":""},{"$f":"IF(DWP!I63=\"\",0,DWP!I63)","v":0},null,{"$f":"IF(ALP!B63=\"\",\"\",ALP!C63)","v":""},{"$f":"IF(ALP!D63=\"\",0,ALP!D63)","v":0},{"$f":"IF(ALP!E63=\"\",0,ALP!E63)","v":0},null,{"$f":"IF(PS!B65=\"\",\"\",PS!C65)","v":""},{"$f":"IF(PS!B65=\"\",\"\",PS!D65)","v":""},null,{"$f":"IF(PS!F65=\"\",\"\",PS!G65)","v":""},{"$f":"IF(PS!F65=\"\",\"\",PS!H65)","v":""},null,{"$f":"IF(LP!A63=\"\",\"\",LP!B63)","v":""},{"$f":"IF(LP!A63=\"\",0,LP!C63)","v":0},null,{"$f":"IF(LP!E63=\"\",\"\",LP!F63)","v":""},{"$f":"IF(LP!E63=\"\",0,LP!G63)","v":0},null,{"$f":"IF(LP!I63=\"\",\"\",LP!J63)","v":""},{"$f":"IF(LP!I63=\"\",0,LP!K63)","v":0},null,{"$f":"IF(BPBPS!B63=\"\",\"\",BPBPS!C63)","v":""},{"$f":"IF(BPBPS!B63=\"\",0,BPBPS!D63)","v":0},null,{"$f":"IF(BPBPS!F63=\"\",\"\",BPBPS!G63)","v":""},{"$f":"IF(BPBPS!H63=\"\",0,BPBPS!H63)","v":0},null,{"$f":"IF(BPBPS!J63=\"\",\"\",BPBPS!K63)","v":""},{"$f":"IF(BPBPS!J63=\"\",0,BPBPS!L63)","v":0},null,{"$f":"IF(SSGP!B63=\"\",\"\",SSGP!C63)","v":""},{"$f":"IF(SSGP!B63=\"\",0,SSGP!D63)","v":0},null,{"$f":"IF(SSGP!F63=\"\",\"\",SSGP!G63)","v":""},{"$f":"IF(SSGP!F63=\"\",0,SSGP!H63)","v":0}]
[62,{"$f":"IF(JTP!B64=\"\",\"\",JTP!C64)","v":""},{"$f":"IF(JTP!B64=\"\",0,JTP!D64)","v":0},{"$f":"IF(JTP!B64=\"\",0,JTP!E64)","v":0},null,{"$f":"IF(JTP!G64=\"\",\"\",JTP!H64)","v":""},{"$f":"IF(JTP!G64=\"\",0,JTP!I64)","v":0},{"$f":"IF(JTP!G64=\"\",0,JTP!J64)","v":0},null,{"$f":"IF(JSP!B64=\"\",\"\",JSP!C64)","v":""},{"$f":"IF(JSP!B64=\"\",0,JSP!D64)","v":0},{"$f":"IF(JSP!B64=\"\",0,JSP!E64)","v":0},null,{"$f":"IF(JSP!G64=\"\",\"\",JSP!H64)","v":""},{"$f":"IF(JSP!G64=\"\",0,JSP!I64)","v":0},{"$f":"IF(JSP!G64=\"\",0,JSP!J64)","v":0},null,{"$f":"IF(CFP!B64=\"\",\"\",CFP!C64)","v":""},{"$f":"IF(CFP!B64=\"\",0,CFP!D64)","v":0},{"$f":"IF(CFP!B64=\"\",0,CFP!E64)","v":0},null,{"$f":"IF(CFP!G64=\"\",\"\",CFP!H64)","v":""},{"$f":"IF(CFP!G64=\"\",0,CFP!I64)","v":0},null,{"$f":"IF(DWP!B64=\"\",\"\",DWP!C64)","v":""},{"$f":"IF(DWP!D64=\"\",0,DWP!D64)","v":0},{"$f":"IF(DWP!D64=\"\",0,DWP!E64)","v":0},null,{"$f":"IF(DWP!G64=\"\",\"\",DWP!H64)","v":""},{"$f":"IF(DWP!I64=\"\",0,DWP!I64)","v":0},null,{"$f":"IF(ALP!B64=\"\",\"\",ALP!C64)","v":""},{"$f":"IF(ALP!D64=\"\",0,ALP!D64)","v":0},{"$f":"IF(ALP!E64=\"\",0,ALP!E64)","v":0},null,{"$f":"IF(PS!B66=\"\",\"\",PS!C66)","v":""},{"$f":"IF(PS!B66=\"\",\"\",PS!D66)","v":""},null,{"$f":"IF(PS!F66=\"\",\"\",PS!G66)","v":""},{"$f":"IF(PS!F66=\"\",\"\",PS!H66)","v":""},null,{"$f":"IF(LP!A64=\"\",\"\",LP!B64)","v":""},{"$f":"IF(LP!A64=\"\",0,LP!C64)","v":0},null,{"$f":"IF(LP!E64=\"\",\"\",LP!F64)","v":""},{"$f":"IF(LP!E64=\"\",0,LP!G64)","v":0},null,{"$f":"IF(LP!I64=\"\",\"\",LP!J64)","v":""},{"$f":"IF(LP!I64=\"\",0,LP!K64)","v":0},null,{"$f":"IF(BPBPS!B64=\"\",\"\",BPBPS!C64)","v":""},{"$f":"IF(BPBPS!B64=\"\",0,BPBPS!D64)","v":0},null,{"$f":"IF(BPBPS!F64=\"\",\"\",BPBPS!G64)","v":""},{"$f":"IF(BPBPS!H64=\"\",0,BPBPS!H64)","v":0},null,{"$f":"IF(BPBPS!J64=\"\",\"\",BPBPS!K64)","v":""},{"$f":"IF(BPBPS!J64=\"\",0,BPBPS!L64)","v":0},null,{"$f":"IF(SSGP!B64=\"\",\"\",SSGP!C64)","v":""},{"$f":"IF(SSGP!B64=\"\",0,SSGP!D64)","v":0},null,{"$f":"IF(SSGP!F64=\"\",\"\",SSGP!G64)","v":""},{"$f":"IF(SSGP!F64=\"\",0,SSGP!H64)","v":0}]
[63,{"$f":"IF(JTP!B65=\"\",\"\",JTP!C65)","v":""},{"$f":"IF(JTP!B65=\"\",0,JTP!D65)","v":0},{"$f":"IF(JTP!B65=\"\",0,JTP!E65)","v":0},null,{"$f":"IF(JTP!G65=\"\",\"\",JTP!H65)","v":""},{"$f":"IF(JTP!G65=\"\",0,JTP!I65)","v":0},{"$f":"IF(JTP!G65=\"\",0,JTP!J65)","v":0},null,{"$f":"IF(JSP!B65=\"\",\"\",JSP!C65)","v":""},{"$f":"IF(JSP!B65=\"\",0,JSP!D65)","v":0},{"$f":"IF(JSP!B65=\"\",0,JSP!E65)","v":0},null,{"$f":"IF(JSP!G65=\"\",\"\",JSP!H65)","v":""},{"$f":"IF(JSP!G65=\"\",0,JSP!I65)","v":0},{"$f":"IF(JSP!G65=\"\",0,JSP!J65)","v":0},null,{"$f":"IF(CFP!B65=\"\",\"\",CFP!C65)","v":""},{"$f":"IF(CFP!B65=\"\",0,CFP!D65)","v":0},{"$f":"IF(CFP!B65=\"\",0,CFP!E65)","v":0},null,{"$f":"IF(CFP!G65=\"\",\"\",CFP!H65)","v":""},{"$f":"IF(CFP!G65=\"\",0,CFP!I65)","v":0},null,{"$f":"IF(DWP!B65=\"\",\"\",DWP!C65)","v":""},{"$f":"IF(DWP!D65=\"\",0,DWP!D65)","v":0},{"$f":"IF(DWP!D65=\"\",0,DWP!E65)","v":0},null,{"$f":"IF(DWP!G65=\"\",\"\",DWP!H65)","v":""},{"$f":"IF(DWP!I65=\"\",0,DWP!I65)","v":0},null,{"$f":"IF(ALP!B65=\"\",\"\",ALP!C65)","v":""},{"$f":"IF(ALP!D65=\"\",0,ALP!D65)","v":0},{"$f":"IF(ALP!E65=\"\",0,ALP!E65)","v":0},null,{"$f":"IF(PS!B67=\"\",\"\",PS!C67)","v":""},{"$f":"IF(PS!B67=\"\",\"\",PS!D67)","v":""},null,{"$f":"IF(PS!F67=\"\",\"\",PS!G67)","v":""},{"$f":"IF(PS!F67=\"\",\"\",PS!H67)","v":""},null,{"$f":"IF(LP!A65=\"\",\"\",LP!B65)","v":""},{"$f":"IF(LP!A65=\"\",0,LP!C65)","v":0},null,{"$f":"IF(LP!E65=\"\",\"\",LP!F65)","v":""},{"$f":"IF(LP!E65=\"\",0,LP!G65)","v":0},null,{"$f":"IF(LP!I65=\"\",\"\",LP!J65)","v":""},{"$f":"IF(LP!I65=\"\",0,LP!K65)","v":0},null,{"$f":"IF(BPBPS!B65=\"\",\"\",BPBPS!C65)","v":""},{"$f":"IF(BPBPS!B65=\"\",0,BPBPS!D65)","v":0},null,{"$f":"IF(BPBPS!F65=\"\",\"\",BPBPS!G65)","v":""},{"$f":"IF(BPBPS!H65=\"\",0,BPBPS!H65)","v":0},null,{"$f":"IF(BPBPS!J65=\"\",\"\",BPBPS!K65)","v":""},{"$f":"IF(BPBPS!J65=\"\",0,BPBPS!L65)","v":0},null,{"$f":"IF(SSGP!B65=\"\",\"\",SSGP!C65)","v":""},{"$f":"IF(SSGP!B65=\"\",0,SSGP!D65)","v":0},null,{"$f":"IF(SSGP!F65=\"\",\"\",SSGP!G65)","v":""},{"$f":"IF(SSGP!F65=\"\",0,SSGP!H65)","v":0}]
[64,{"$f":"IF(JTP!B66=\"\",\"\",JTP!C66)","v":""},{"$f":"IF(JTP!B66=\"\",0,JTP!D66)","v":0},{"$f":"IF(JTP!B66=\"\",0,JTP!E66)","v":0},null,{"$f":"IF(JTP!G66=\"\",\"\",JTP!H66)","v":""},{"$f":"IF(JTP!G66=\"\",0,JTP!I66)","v":0},{"$f":"IF(JTP!G66=\"\",0,JTP!J66)","v":0},null,{"$f":"IF(JSP!B66=\"\",\"\",JSP!C66)","v":""},{"$f":"IF(JSP!B66=\"\",0,JSP!D66)","v":0},{"$f":"IF(JSP!B66=\"\",0,JSP!E66)","v":0},null,{"$f":"IF(JSP!G66=\"\",\"\",JSP!H66)","v":""},{"$f":"IF(JSP!G66=\"\",0,JSP!I66)","v":0},{"$f":"IF(JSP!G66=\"\",0,JSP!J66)","v":0},null,{"$f":"IF(CFP!B66=\"\",\"\",CFP!C66)","v":""},{"$f":"IF(CFP!B66=\"\",0,CFP!D66)","v":0},{"$f":"IF(CFP!B66=\"\",0,CFP!E66)","v":0},null,{"$f":"IF(CFP!G66=\"\",\"\",CFP!H66)","v":""},{"$f":"IF(CFP!G66=\"\",0,CFP!I66)","v":0},null,{"$f":"IF(DWP!B66=\"\",\"\",DWP!C66)","v":""},{"$f":"IF(DWP!D66=\"\",0,DWP!D66)","v":0},{"$f":"IF(DWP!D66=\"\",0,DWP!E66)","v":0},null,{"$f":"IF(DWP!G66=\"\",\"\",DWP!H66)","v":""},{"$f":"IF(DWP!I66=\"\",0,DWP!I66)","v":0},null,{"$f":"IF(ALP!B66=\"\",\"\",ALP!C66)","v":""},{"$f":"IF(ALP!D66=\"\",0,ALP!D66)","v":0},{"$f":"IF(ALP!E66=\"\",0,ALP!E66)","v":0},null,{"$f":"IF(PS!B68=\"\",\"\",PS!C68)","v":""},{"$f":"IF(PS!B68=\"\",\"\",PS!D68)","v":""},null,{"$f":"IF(PS!F68=\"\",\"\",PS!G68)","v":""},{"$f":"IF(PS!F68=\"\",\"\",PS!H68)","v":""},null,{"$f":"IF(LP!A66=\"\",\"\",LP!B66)","v":""},{"$f":"IF(LP!A66=\"\",0,LP!C66)","v":0},null,{"$f":"IF(LP!E66=\"\",\"\",LP!F66)","v":""},{"$f":"IF(LP!E66=\"\",0,LP!G66)","v":0},null,{"$f":"IF(LP!I66=\"\",\"\",LP!J66)","v":""},{"$f":"IF(LP!I66=\"\",0,LP!K66)","v":0},null,{"$f":"IF(BPBPS!B66=\"\",\"\",BPBPS!C66)","v":""},{"$f":"IF(BPBPS!B66=\"\",0,BPBPS!D66)","v":0},null,{"$f":"IF(BPBPS!F66=\"\",\"\",BPBPS!G66)","v":""},{"$f":"IF(BPBPS!H66=\"\",0,BPBPS!H66)","v":0},null,{"$f":"IF(BPBPS!J66=\"\",\"\",BPBPS!K66)","v":""},{"$f":"IF(BPBPS!J66=\"\",0,BPBPS!L66)","v":0},null,{"$f":"IF(SSGP!B66=\"\",\"\",SSGP!C66)","v":""},{"$f":"IF(SSGP!B66=\"\",0,SSGP!D66)","v":0},null,{"$f":"IF(SSGP!F66=\"\",\"\",SSGP!G66)","v":""},{"$f":"IF(SSGP!F66=\"\",0,SSGP!H66)","v":0}]
[65,{"$f":"IF(JTP!B67=\"\",\"\",JTP!C67)","v":""},{"$f":"IF(JTP!B67=\"\",0,JTP!D67)","v":0},{"$f":"IF(JTP!B67=\"\",0,JTP!E67)","v":0},null,{"$f":"IF(JTP!G67=\"\",\"\",JTP!H67)","v":""},{"$f":"IF(JTP!G67=\"\",0,JTP!I67)","v":0},{"$f":"IF(JTP!G67=\"\",0,JTP!J67)","v":0},null,{"$f":"IF(JSP!B67=\"\",\"\",JSP!C67)","v":""},{"$f":"IF(JSP!B67=\"\",0,JSP!D67)","v":0},{"$f":"IF(JSP!B67=\"\",0,JSP!E67)","v":0},null,{"$f":"IF(JSP!G67=\"\",\"\",JSP!H67)","v":""},{"$f":"IF(JSP!G67=\"\",0,JSP!I67)","v":0},{"$f":"IF(JSP!G67=\"\",0,JSP!J67)","v":0},null,{"$f":"IF(CFP!B67=\"\",\"\",CFP!C67)","v":""},{"$f":"IF(CFP!B67=\"\",0,CFP!D67)","v":0},{"$f":"IF(CFP!B67=\"\",0,CFP!E67)","v":0},null,{"$f":"IF(CFP!G67=\"\",\"\",CFP!H67)","v":""},{"$f":"IF(CFP!G67=\"\",0,CFP!I67)","v":0},null,{"$f":"IF(DWP!B67=\"\",\"\",DWP!C67)","v":""},{"$f":"IF(DWP!D67=\"\",0,DWP!D67)","v":0},{"$f":"IF(DWP!D67=\"\",0,DWP!E67)","v":0},null,{"$f":"IF(DWP!G67=\"\",\"\",DWP!H67)","v":""},{"$f":"IF(DWP!I67=\"\",0,DWP!I67)","v":0},null,{"$f":"IF(ALP!B67=\"\",\"\",ALP!C67)","v":""},{"$f":"IF(ALP!D67=\"\",0,ALP!D67)","v":0},{"$f":"IF(ALP!E67=\"\",0,ALP!E67)","v":0},null,{"$f":"IF(PS!B69=\"\",\"\",PS!C69)","v":""},{"$f":"IF(PS!B69=\"\",\"\",PS!D69)","v":""},null,{"$f":"IF(PS!F69=\"\",\"\",PS!G69)","v":""},{"$f":"IF(PS!F69=\"\",\"\",PS!H69)","v":""},null,{"$f":"IF(LP!A67=\"\",\"\",LP!B67)","v":""},{"$f":"IF(LP!A67=\"\",0,LP!C67)","v":0},null,{"$f":"IF(LP!E67=\"\",\"\",LP!F67)","v":""},{"$f":"IF(LP!E67=\"\",0,LP!G67)","v":0},null,{"$f":"IF(LP!I67=\"\",\"\",LP!J67)","v":""},{"$f":"IF(LP!I67=\"\",0,LP!K67)","v":0},null,{"$f":"IF(BPBPS!B67=\"\",\"\",BPBPS!C67)","v":""},{"$f":"IF(BPBPS!B67=\"\",0,BPBPS!D67)","v":0},null,{"$f":"IF(BPBPS!F67=\"\",\"\",BPBPS!G67)","v":""},{"$f":"IF(BPBPS!H67=\"\",0,BPBPS!H67)","v":0},null,{"$f":"IF(BPBPS!J67=\"\",\"\",BPBPS!K67)","v":""},{"$f":"IF(BPBPS!J67=\"\",0,BPBPS!L67)","v":0},null,{"$f":"IF(SSGP!B67=\"\",\"\",SSGP!C67)","v":""},{"$f":"IF(SSGP!B67=\"\",0,SSGP!D67)","v":0},null,{"$f":"IF(SSGP!F67=\"\",\"\",SSGP!G67)","v":""},{"$f":"IF(SSGP!F67=\"\",0,SSGP!H67)","v":0}]
[66,{"$f":"IF(JTP!B68=\"\",\"\",JTP!C68)","v":""},{"$f":"IF(JTP!B68=\"\",0,JTP!D68)","v":0},{"$f":"IF(JTP!B68=\"\",0,JTP!E68)","v":0},null,{"$f":"IF(JTP!G68=\"\",\"\",JTP!H68)","v":""},{"$f":"IF(JTP!G68=\"\",0,JTP!I68)","v":0},{"$f":"IF(JTP!G68=\"\",0,JTP!J68)","v":0},null,{"$f":"IF(JSP!B68=\"\",\"\",JSP!C68)","v":""},{"$f":"IF(JSP!B68=\"\",0,JSP!D68)","v":0},{"$f":"IF(JSP!B68=\"\",0,JSP!E68)","v":0},null,{"$f":"IF(JSP!G68=\"\",\"\",JSP!H68)","v":""},{"$f":"IF(JSP!G68=\"\",0,JSP!I68)","v":0},{"$f":"IF(JSP!G68=\"\",0,JSP!J68)","v":0},null,{"$f":"IF(CFP!B68=\"\",\"\",CFP!C68)","v":""},{"$f":"IF(CFP!B68=\"\",0,CFP!D68)","v":0},{"$f":"IF(CFP!B68=\"\",0,CFP!E68)","v":0},null,{"$f":"IF(CFP!G68=\"\",\"\",CFP!H68)","v":""},{"$f":"IF(CFP!G68=\"\",0,CFP!I68)","v":0},null,{"$f":"IF(DWP!B68=\"\",\"\",DWP!C68)","v":""},{"$f":"IF(DWP!D68=\"\",0,DWP!D68)","v":0},{"$f":"IF(DWP!D68=\"\",0,DWP!E68)","v":0},null,{"$f":"IF(DWP!G68=\"\",\"\",DWP!H68)","v":""},{"$f":"IF(DWP!I68=\"\",0,DWP!I68)","v":0},null,{"$f":"IF(ALP!B68=\"\",\"\",ALP!C68)","v":""},{"$f":"IF(ALP!D68=\"\",0,ALP!D68)","v":0},{"$f":"IF(ALP!E68=\"\",0,ALP!E68)","v":0},null,{"$f":"IF(PS!B70=\"\",\"\",PS!C70)","v":""},{"$f":"IF(PS!B70=\"\",\"\",PS!D70)","v":""},null,{"$f":"IF(PS!F70=\"\",\"\",PS!G70)","v":""},{"$f":"IF(PS!F70=\"\",\"\",PS!H70)","v":""},null,{"$f":"IF(LP!A68=\"\",\"\",LP!B68)","v":""},{"$f":"IF(LP!A68=\"\",0,LP!C68)","v":0},null,{"$f":"IF(LP!E68=\"\",\"\",LP!F68)","v":""},{"$f":"IF(LP!E68=\"\",0,LP!G68)","v":0},null,{"$f":"IF(LP!I68=\"\",\"\",LP!J68)","v":""},{"$f":"IF(LP!I68=\"\",0,LP!K68)","v":0},null,{"$f":"IF(BPBPS!B68=\"\",\"\",BPBPS!C68)","v":""},{"$f":"IF(BPBPS!B68=\"\",0,BPBPS!D68)","v":0},null,{"$f":"IF(BPBPS!F68=\"\",\"\",BPBPS!G68)","v":""},{"$f":"IF(BPBPS!H68=\"\",0,BPBPS!H68)","v":0},null,{"$f":"IF(BPBPS!J68=\"\",\"\",BPBPS!K68)","v":""},{"$f":"IF(BPBPS!J68=\"\",0,BPBPS!L68)","v":0},null,{"$f":"IF(SSGP!B68=\"\",\"\",SSGP!C68)","v":""},{"$f":"IF(SSGP!B68=\"\",0,SSGP!D68)","v":0},null,{"$f":"IF(SSGP!F68=\"\",\"\",SSGP!G68)","v":""},{"$f":"IF(SSGP!F68=\"\",0,SSGP!H68)","v":0}]
[67,{"$f":"IF(JTP!B69=\"\",\"\",JTP!C69)","v":""},{"$f":"IF(JTP!B69=\"\",0,JTP!D69)","v":0},{"$f":"IF(JTP!B69=\"\",0,JTP!E69)","v":0},null,{"$f":"IF(JTP!G69=\"\",\"\",JTP!H69)","v":""},{"$f":"IF(JTP!G69=\"\",0,JTP!I69)","v":0},{"$f":"IF(JTP!G69=\"\",0,JTP!J69)","v":0},null,{"$f":"IF(JSP!B69=\"\",\"\",JSP!C69)","v":""},{"$f":"IF(JSP!B69=\"\",0,JSP!D69)","v":0},{"$f":"IF(JSP!B69=\"\",0,JSP!E69)","v":0},null,{"$f":"IF(JSP!G69=\"\",\"\",JSP!H69)","v":""},{"$f":"IF(JSP!G69=\"\",0,JSP!I69)","v":0},{"$f":"IF(JSP!G69=\"\",0,JSP!J69)","v":0},null,{"$f":"IF(CFP!B69=\"\",\"\",CFP!C69)","v":""},{"$f":"IF(CFP!B69=\"\",0,CFP!D69)","v":0},{"$f":"IF(CFP!B69=\"\",0,CFP!E69)","v":0},null,{"$f":"IF(CFP!G69=\"\",\"\",CFP!H69)","v":""},{"$f":"IF(CFP!G69=\"\",0,CFP!I69)","v":0},null,{"$f":"IF(DWP!B69=\"\",\"\",DWP!C69)","v":""},{"$f":"IF(DWP!D69=\"\",0,DWP!D69)","v":0},{"$f":"IF(DWP!D69=\"\",0,DWP!E69)","v":0},null,{"$f":"IF(DWP!G69=\"\",\"\",DWP!H69)","v":""},{"$f":"IF(DWP!I69=\"\",0,DWP!I69)","v":0},null,{"$f":"IF(ALP!B69=\"\",\"\",ALP!C69)","v":""},{"$f":"IF(ALP!D69=\"\",0,ALP!D69)","v":0},{"$f":"IF(ALP!E69=\"\",0,ALP!E69)","v":0},null,{"$f":"IF(PS!B71=\"\",\"\",PS!C71)","v":""},{"$f":"IF(PS!B71=\"\",\"\",PS!D71)","v":""},null,{"$f":"IF(PS!F71=\"\",\"\",PS!G71)","v":""},{"$f":"IF(PS!F71=\"\",\"\",PS!H71)","v":""},null,{"$f":"IF(LP!A69=\"\",\"\",LP!B69)","v":""},{"$f":"IF(LP!A69=\"\",0,LP!C69)","v":0},null,{"$f":"IF(LP!E69=\"\",\"\",LP!F69)","v":""},{"$f":"IF(LP!E69=\"\",0,LP!G69)","v":0},null,{"$f":"IF(LP!I69=\"\",\"\",LP!J69)","v":""},{"$f":"IF(LP!I69=\"\",0,LP!K69)","v":0},null,{"$f":"IF(BPBPS!B69=\"\",\"\",BPBPS!C69)","v":""},{"$f":"IF(BPBPS!B69=\"\",0,BPBPS!D69)","v":0},null,{"$f":"IF(BPBPS!F69=\"\",\"\",BPBPS!G69)","v":""},{"$f":"IF(BPBPS!H69=\"\",0,BPBPS!H69)","v":0},null,{"$f":"IF(BPBPS!J69=\"\",\"\",BPBPS!K69)","v":""},{"$f":"IF(BPBPS!J69=\"\",0,BPBPS!L69)","v":0},null,{"$f":"IF(SSGP!B69=\"\",\"\",SSGP!C69)","v":""},{"$f":"IF(SSGP!B69=\"\",0,SSGP!D69)","v":0},null,{"$f":"IF(SSGP!F69=\"\",\"\",SSGP!G69)","v":""},{"$f":"IF(SSGP!F69=\"\",0,SSGP!H69)","v":0}]
[68,{"$f":"IF(JTP!B70=\"\",\"\",JTP!C70)","v":""},{"$f":"IF(JTP!B70=\"\",0,JTP!D70)","v":0},{"$f":"IF(JTP!B70=\"\",0,JTP!E70)","v":0},null,{"$f":"IF(JTP!G70=\"\",\"\",JTP!H70)","v":""},{"$f":"IF(JTP!G70=\"\",0,JTP!I70)","v":0},{"$f":"IF(JTP!G70=\"\",0,JTP!J70)","v":0},null,{"$f":"IF(JSP!B70=\"\",\"\",JSP!C70)","v":""},{"$f":"IF(JSP!B70=\"\",0,JSP!D70)","v":0},{"$f":"IF(JSP!B70=\"\",0,JSP!E70)","v":0},null,{"$f":"IF(JSP!G70=\"\",\"\",JSP!H70)","v":""},{"$f":"IF(JSP!G70=\"\",0,JSP!I70)","v":0},{"$f":"IF(JSP!G70=\"\",0,JSP!J70)","v":0},null,{"$f":"IF(CFP!B70=\"\",\"\",CFP!C70)","v":""},{"$f":"IF(CFP!B70=\"\",0,CFP!D70)","v":0},{"$f":"IF(CFP!B70=\"\",0,CFP!E70)","v":0},null,{"$f":"IF(CFP!G70=\"\",\"\",CFP!H70)","v":""},{"$f":"IF(CFP!G70=\"\",0,CFP!I70)","v":0},null,{"$f":"IF(DWP!B70=\"\",\"\",DWP!C70)","v":""},{"$f":"IF(DWP!D70=\"\",0,DWP!D70)","v":0},{"$f":"IF(DWP!D70=\"\",0,DWP!E70)","v":0},null,{"$f":"IF(DWP!G70=\"\",\"\",DWP!H70)","v":""},{"$f":"IF(DWP!I70=\"\",0,DWP!I70)","v":0},null,{"$f":"IF(ALP!B70=\"\",\"\",ALP!C70)","v":""},{"$f":"IF(ALP!D70=\"\",0,ALP!D70)","v":0},{"$f":"IF(ALP!E70=\"\",0,ALP!E70)","v":0},null,{"$f":"IF(PS!B72=\"\",\"\",PS!C72)","v":""},{"$f":"IF(PS!B72=\"\",\"\",PS!D72)","v":""},null,{"$f":"IF(PS!F72=\"\",\"\",PS!G72)","v":""},{"$f":"IF(PS!F72=\"\",\"\",PS!H72)","v":""},null,{"$f":"IF(LP!A70=\"\",\"\",LP!B70)","v":""},{"$f":"IF(LP!A70=\"\",0,LP!C70)","v":0},null,{"$f":"IF(LP!E70=\"\",\"\",LP!F70)","v":""},{"$f":"IF(LP!E70=\"\",0,LP!G70)","v":0},null,{"$f":"IF(LP!I70=\"\",\"\",LP!J70)","v":""},{"$f":"IF(LP!I70=\"\",0,LP!K70)","v":0},null,{"$f":"IF(BPBPS!B70=\"\",\"\",BPBPS!C70)","v":""},{"$f":"IF(BPBPS!B70=\"\",0,BPBPS!D70)","v":0},null,{"$f":"IF(BPBPS!F70=\"\",\"\",BPBPS!G70)","v":""},{"$f":"IF(BPBPS!H70=\"\",0,BPBPS!H70)","v":0},null,{"$f":"IF(BPBPS!J70=\"\",\"\",BPBPS!K70)","v":""},{"$f":"IF(BPBPS!J70=\"\",0,BPBPS!L70)","v":0},null,{"$f":"IF(SSGP!B70=\"\",\"\",SSGP!C70)","v":""},{"$f":"IF(SSGP!B70=\"\",0,SSGP!D70)","v":0},null,{"$f":"IF(SSGP!F70=\"\",\"\",SSGP!G70)","v":""},{"$f":"IF(SSGP!F70=\"\",0,SSGP!H70)","v":0}]
[69,{"$f":"IF(JTP!B71=\"\",\"\",JTP!C71)","v":""},{"$f":"IF(JTP!B71=\"\",0,JTP!D71)","v":0},{"$f":"IF(JTP!B71=\"\",0,JTP!E71)","v":0},null,{"$f":"IF(JTP!G71=\"\",\"\",JTP!H71)","v":""},{"$f":"IF(JTP!G71=\"\",0,JTP!I71)","v":0},{"$f":"IF(JTP!G71=\"\",0,JTP!J71)","v":0},null,{"$f":"IF(JSP!B71=\"\",\"\",JSP!C71)","v":""},{"$f":"IF(JSP!B71=\"\",0,JSP!D71)","v":0},{"$f":"IF(JSP!B71=\"\",0,JSP!E71)","v":0},null,{"$f":"IF(JSP!G71=\"\",\"\",JSP!H71)","v":""},{"$f":"IF(JSP!G71=\"\",0,JSP!I71)","v":0},{"$f":"IF(JSP!G71=\"\",0,JSP!J71)","v":0},null,{"$f":"IF(CFP!B71=\"\",\"\",CFP!C71)","v":""},{"$f":"IF(CFP!B71=\"\",0,CFP!D71)","v":0},{"$f":"IF(CFP!B71=\"\",0,CFP!E71)","v":0},null,{"$f":"IF(CFP!G71=\"\",\"\",CFP!H71)","v":""},{"$f":"IF(CFP!G71=\"\",0,CFP!I71)","v":0},null,{"$f":"IF(DWP!B71=\"\",\"\",DWP!C71)","v":""},{"$f":"IF(DWP!D71=\"\",0,DWP!D71)","v":0},{"$f":"IF(DWP!D71=\"\",0,DWP!E71)","v":0},null,{"$f":"IF(DWP!G71=\"\",\"\",DWP!H71)","v":""},{"$f":"IF(DWP!I71=\"\",0,DWP!I71)","v":0},null,{"$f":"IF(ALP!B71=\"\",\"\",ALP!C71)","v":""},{"$f":"IF(ALP!D71=\"\",0,ALP!D71)","v":0},{"$f":"IF(ALP!E71=\"\",0,ALP!E71)","v":0},null,{"$f":"IF(PS!B73=\"\",\"\",PS!C73)","v":""},{"$f":"IF(PS!B73=\"\",\"\",PS!D73)","v":""},null,{"$f":"IF(PS!F73=\"\",\"\",PS!G73)","v":""},{"$f":"IF(PS!F73=\"\",\"\",PS!H73)","v":""},null,{"$f":"IF(LP!A71=\"\",\"\",LP!B71)","v":""},{"$f":"IF(LP!A71=\"\",0,LP!C71)","v":0},null,{"$f":"IF(LP!E71=\"\",\"\",LP!F71)","v":""},{"$f":"IF(LP!E71=\"\",0,LP!G71)","v":0},null,{"$f":"IF(LP!I71=\"\",\"\",LP!J71)","v":""},{"$f":"IF(LP!I71=\"\",0,LP!K71)","v":0},null,{"$f":"IF(BPBPS!B71=\"\",\"\",BPBPS!C71)","v":""},{"$f":"IF(BPBPS!B71=\"\",0,BPBPS!D71)","v":0},null,{"$f":"IF(BPBPS!F71=\"\",\"\",BPBPS!G71)","v":""},{"$f":"IF(BPBPS!H71=\"\",0,BPBPS!H71)","v":0},null,{"$f":"IF(BPBPS!J71=\"\",\"\",BPBPS!K71)","v":""},{"$f":"IF(BPBPS!J71=\"\",0,BPBPS!L71)","v":0},null,{"$f":"IF(SSGP!B71=\"\",\"\",SSGP!C71)","v":""},{"$f":"IF(SSGP!B71=\"\",0,SSGP!D71)","v":0},null,{"$f":"IF(SSGP!F71=\"\",\"\",SSGP!G71)","v":""},{"$f":"IF(SSGP!F71=\"\",0,SSGP!H71)","v":0}]
[70,{"$f":"IF(JTP!B72=\"\",\"\",JTP!C72)","v":""},{"$f":"IF(JTP!B72=\"\",0,JTP!D72)","v":0},{"$f":"IF(JTP!B72=\"\",0,JTP!E72)","v":0},null,{"$f":"IF(JTP!G72=\"\",\"\",JTP!H72)","v":""},{"$f":"IF(JTP!G72=\"\",0,JTP!I72)","v":0},{"$f":"IF(JTP!G72=\"\",0,JTP!J72)","v":0},null,{"$f":"IF(JSP!B72=\"\",\"\",JSP!C72)","v":""},{"$f":"IF(JSP!B72=\"\",0,JSP!D72)","v":0},{"$f":"IF(JSP!B72=\"\",0,JSP!E72)","v":0},null,{"$f":"IF(JSP!G72=\"\",\"\",JSP!H72)","v":""},{"$f":"IF(JSP!G72=\"\",0,JSP!I72)","v":0},{"$f":"IF(JSP!G72=\"\",0,JSP!J72)","v":0},null,{"$f":"IF(CFP!B72=\"\",\"\",CFP!C72)","v":""},{"$f":"IF(CFP!B72=\"\",0,CFP!D72)","v":0},{"$f":"IF(CFP!B72=\"\",0,CFP!E72)","v":0},null,{"$f":"IF(CFP!G72=\"\",\"\",CFP!H72)","v":""},{"$f":"IF(CFP!G72=\"\",0,CFP!I72)","v":0},null,{"$f":"IF(DWP!B72=\"\",\"\",DWP!C72)","v":""},{"$f":"IF(DWP!D72=\"\",0,DWP!D72)","v":0},{"$f":"IF(DWP!D72=\"\",0,DWP!E72)","v":0},null,{"$f":"IF(DWP!G72=\"\",\"\",DWP!H72)","v":""},{"$f":"IF(DWP!I72=\"\",0,DWP!I72)","v":0},null,{"$f":"IF(ALP!B72=\"\",\"\",ALP!C72)","v":""},{"$f":"IF(ALP!D72=\"\",0,ALP!D72)","v":0},{"$f":"IF(ALP!E72=\"\",0,ALP!E72)","v":0},null,{"$f":"IF(PS!B74=\"\",\"\",PS!C74)","v":""},{"$f":"IF(PS!B74=\"\",\"\",PS!D74)","v":""},null,{"$f":"IF(PS!F74=\"\",\"\",PS!G74)","v":""},{"$f":"IF(PS!F74=\"\",\"\",PS!H74)","v":""},null,{"$f":"IF(LP!A72=\"\",\"\",LP!B72)","v":""},{"$f":"IF(LP!A72=\"\",0,LP!C72)","v":0},null,{"$f":"IF(LP!E72=\"\",\"\",LP!F72)","v":""},{"$f":"IF(LP!E72=\"\",0,LP!G72)","v":0},null,{"$f":"IF(LP!I72=\"\",\"\",LP!J72)","v":""},{"$f":"IF(LP!I72=\"\",0,LP!K72)","v":0},null,{"$f":"IF(BPBPS!B72=\"\",\"\",BPBPS!C72)","v":""},{"$f":"IF(BPBPS!B72=\"\",0,BPBPS!D72)","v":0},null,{"$f":"IF(BPBPS!F72=\"\",\"\",BPBPS!G72)","v":""},{"$f":"IF(BPBPS!H72=\"\",0,BPBPS!H72)","v":0},null,{"$f":"IF(BPBPS!J72=\"\",\"\",BPBPS!K72)","v":""},{"$f":"IF(BPBPS!J72=\"\",0,BPBPS!L72)","v":0},null,{"$f":"IF(SSGP!B72=\"\",\"\",SSGP!C72)","v":""},{"$f":"IF(SSGP!B72=\"\",0,SSGP!D72)","v":0},null,{"$f":"IF(SSGP!F72=\"\",\"\",SSGP!G72)","v":""},{"$f":"IF(SSGP!F72=\"\",0,SSGP!H72)","v":0}]
[71,{"$f":"IF(JTP!B73=\"\",\"\",JTP!C73)","v":""},{"$f":"IF(JTP!B73=\"\",0,JTP!D73)","v":0},{"$f":"IF(JTP!B73=\"\",0,JTP!E73)","v":0},null,{"$f":"IF(JTP!G73=\"\",\"\",JTP!H73)","v":""},{"$f":"IF(JTP!G73=\"\",0,JTP!I73)","v":0},{"$f":"IF(JTP!G73=\"\",0,JTP!J73)","v":0},null,{"$f":"IF(JSP!B73=\"\",\"\",JSP!C73)","v":""},{"$f":"IF(JSP!B73=\"\",0,JSP!D73)","v":0},{"$f":"IF(JSP!B73=\"\",0,JSP!E73)","v":0},null,{"$f":"IF(JSP!G73=\"\",\"\",JSP!H73)","v":""},{"$f":"IF(JSP!G73=\"\",0,JSP!I73)","v":0},{"$f":"IF(JSP!G73=\"\",0,JSP!J73)","v":0},null,{"$f":"IF(CFP!B73=\"\",\"\",CFP!C73)","v":""},{"$f":"IF(CFP!B73=\"\",0,CFP!D73)","v":0},{"$f":"IF(CFP!B73=\"\",0,CFP!E73)","v":0},null,{"$f":"IF(CFP!G73=\"\",\"\",CFP!H73)","v":""},{"$f":"IF(CFP!G73=\"\",0,CFP!I73)","v":0},null,{"$f":"IF(DWP!B73=\"\",\"\",DWP!C73)","v":""},{"$f":"IF(DWP!D73=\"\",0,DWP!D73)","v":0},{"$f":"IF(DWP!D73=\"\",0,DWP!E73)","v":0},null,{"$f":"IF(DWP!G73=\"\",\"\",DWP!H73)","v":""},{"$f":"IF(DWP!I73=\"\",0,DWP!I73)","v":0},null,{"$f":"IF(ALP!B73=\"\",\"\",ALP!C73)","v":""},{"$f":"IF(ALP!D73=\"\",0,ALP!D73)","v":0},{"$f":"IF(ALP!E73=\"\",0,ALP!E73)","v":0},null,{"$f":"IF(PS!B75=\"\",\"\",PS!C75)","v":""},{"$f":"IF(PS!B75=\"\",\"\",PS!D75)","v":""},null,{"$f":"IF(PS!F75=\"\",\"\",PS!G75)","v":""},{"$f":"IF(PS!F75=\"\",\"\",PS!H75)","v":""},null,{"$f":"IF(LP!A73=\"\",\"\",LP!B73)","v":""},{"$f":"IF(LP!A73=\"\",0,LP!C73)","v":0},null,{"$f":"IF(LP!E73=\"\",\"\",LP!F73)","v":""},{"$f":"IF(LP!E73=\"\",0,LP!G73)","v":0},null,{"$f":"IF(LP!I73=\"\",\"\",LP!J73)","v":""},{"$f":"IF(LP!I73=\"\",0,LP!K73)","v":0},null,{"$f":"IF(BPBPS!B73=\"\",\"\",BPBPS!C73)","v":""},{"$f":"IF(BPBPS!B73=\"\",0,BPBPS!D73)","v":0},null,{"$f":"IF(BPBPS!F73=\"\",\"\",BPBPS!G73)","v":""},{"$f":"IF(BPBPS!H73=\"\",0,BPBPS!H73)","v":0},null,{"$f":"IF(BPBPS!J73=\"\",\"\",BPBPS!K73)","v":""},{"$f":"IF(BPBPS!J73=\"\",0,BPBPS!L73)","v":0},null,{"$f":"IF(SSGP!B73=\"\",\"\",SSGP!C73)","v":""},{"$f":"IF(SSGP!B73=\"\",0,SSGP!D73)","v":0},null,{"$f":"IF(SSGP!F73=\"\",\"\",SSGP!G73)","v":""},{"$f":"IF(SSGP!F73=\"\",0,SSGP!H73)","v":0}]
[72,{"$f":"IF(JTP!B74=\"\",\"\",JTP!C74)","v":""},{"$f":"IF(JTP!B74=\"\",0,JTP!D74)","v":0},{"$f":"IF(JTP!B74=\"\",0,JTP!E74)","v":0},null,{"$f":"IF(JTP!G74=\"\",\"\",JTP!H74)","v":""},{"$f":"IF(JTP!G74=\"\",0,JTP!I74)","v":0},{"$f":"IF(JTP!G74=\"\",0,JTP!J74)","v":0},null,{"$f":"IF(JSP!B74=\"\",\"\",JSP!C74)","v":""},{"$f":"IF(JSP!B74=\"\",0,JSP!D74)","v":0},{"$f":"IF(JSP!B74=\"\",0,JSP!E74)","v":0},null,{"$f":"IF(JSP!G74=\"\",\"\",JSP!H74)","v":""},{"$f":"IF(JSP!G74=\"\",0,JSP!I74)","v":0},{"$f":"IF(JSP!G74=\"\",0,JSP!J74)","v":0},null,{"$f":"IF(CFP!B74=\"\",\"\",CFP!C74)","v":""},{"$f":"IF(CFP!B74=\"\",0,CFP!D74)","v":0},{"$f":"IF(CFP!B74=\"\",0,CFP!E74)","v":0},null,{"$f":"IF(CFP!G74=\"\",\"\",CFP!H74)","v":""},{"$f":"IF(CFP!G74=\"\",0,CFP!I74)","v":0},null,{"$f":"IF(DWP!B74=\"\",\"\",DWP!C74)","v":""},{"$f":"IF(DWP!D74=\"\",0,DWP!D74)","v":0},{"$f":"IF(DWP!D74=\"\",0,DWP!E74)","v":0},null,{"$f":"IF(DWP!G74=\"\",\"\",DWP!H74)","v":""},{"$f":"IF(DWP!I74=\"\",0,DWP!I74)","v":0},null,{"$f":"IF(ALP!B74=\"\",\"\",ALP!C74)","v":""},{"$f":"IF(ALP!D74=\"\",0,ALP!D74)","v":0},{"$f":"IF(ALP!E74=\"\",0,ALP!E74)","v":0},null,{"$f":"IF(PS!B76=\"\",\"\",PS!C76)","v":""},{"$f":"IF(PS!B76=\"\",\"\",PS!D76)","v":""},null,{"$f":"IF(PS!F76=\"\",\"\",PS!G76)","v":""},{"$f":"IF(PS!F76=\"\",\"\",PS!H76)","v":""},null,{"$f":"IF(LP!A74=\"\",\"\",LP!B74)","v":""},{"$f":"IF(LP!A74=\"\",0,LP!C74)","v":0},null,{"$f":"IF(LP!E74=\"\",\"\",LP!F74)","v":""},{"$f":"IF(LP!E74=\"\",0,LP!G74)","v":0},null,{"$f":"IF(LP!I74=\"\",\"\",LP!J74)","v":""},{"$f":"IF(LP!I74=\"\",0,LP!K74)","v":0},null,{"$f":"IF(BPBPS!B74=\"\",\"\",BPBPS!C74)","v":""},{"$f":"IF(BPBPS!B74=\"\",0,BPBPS!D74)","v":0},null,{"$f":"IF(BPBPS!F74=\"\",\"\",BPBPS!G74)","v":""},{"$f":"IF(BPBPS!H74=\"\",0,BPBPS!H74)","v":0},null,{"$f":"IF(BPBPS!J74=\"\",\"\",BPBPS!K74)","v":""},{"$f":"IF(BPBPS!J74=\"\",0,BPBPS!L74)","v":0},null,{"$f":"IF(SSGP!B74=\"\",\"\",SSGP!C74)","v":""},{"$f":"IF(SSGP!B74=\"\",0,SSGP!D74)","v":0},null,{"$f":"IF(SSGP!F74=\"\",\"\",SSGP!G74)","v":""},{"$f":"IF(SSGP!F74=\"\",0,SSGP!H74)","v":0}]
[73,{"$f":"IF(JTP!B75=\"\",\"\",JTP!C75)","v":""},{"$f":"IF(JTP!B75=\"\",0,JTP!D75)","v":0},{"$f":"IF(JTP!B75=\"\",0,JTP!E75)","v":0},null,{"$f":"IF(JTP!G75=\"\",\"\",JTP!H75)","v":""},{"$f":"IF(JTP!G75=\"\",0,JTP!I75)","v":0},{"$f":"IF(JTP!G75=\"\",0,JTP!J75)","v":0},null,{"$f":"IF(JSP!B75=\"\",\"\",JSP!C75)","v":""},{"$f":"IF(JSP!B75=\"\",0,JSP!D75)","v":0},{"$f":"IF(JSP!B75=\"\",0,JSP!E75)","v":0},null,{"$f":"IF(JSP!G75=\"\",\"\",JSP!H75)","v":""},{"$f":"IF(JSP!G75=\"\",0,JSP!I75)","v":0},{"$f":"IF(JSP!G75=\"\",0,JSP!J75)","v":0},null,{"$f":"IF(CFP!B75=\"\",\"\",CFP!C75)","v":""},{"$f":"IF(CFP!B75=\"\",0,CFP!D75)","v":0},{"$f":"IF(CFP!B75=\"\",0,CFP!E75)","v":0},null,{"$f":"IF(CFP!G75=\"\",\"\",CFP!H75)","v":""},{"$f":"IF(CFP!G75=\"\",0,CFP!I75)","v":0},null,{"$f":"IF(DWP!B75=\"\",\"\",DWP!C75)","v":""},{"$f":"IF(DWP!D75=\"\",0,DWP!D75)","v":0},{"$f":"IF(DWP!D75=\"\",0,DWP!E75)","v":0},null,{"$f":"IF(DWP!G75=\"\",\"\",DWP!H75)","v":""},{"$f":"IF(DWP!I75=\"\",0,DWP!I75)","v":0},null,{"$f":"IF(ALP!B75=\"\",\"\",ALP!C75)","v":""},{"$f":"IF(ALP!D75=\"\",0,ALP!D75)","v":0},{"$f":"IF(ALP!E75=\"\",0,ALP!E75)","v":0},null,{"$f":"IF(PS!B77=\"\",\"\",PS!C77)","v":""},{"$f":"IF(PS!B77=\"\",\"\",PS!D77)","v":""},null,{"$f":"IF(PS!F77=\"\",\"\",PS!G77)","v":""},{"$f":"IF(PS!F77=\"\",\"\",PS!H77)","v":""},null,{"$f":"IF(LP!A75=\"\",\"\",LP!B75)","v":""},{"$f":"IF(LP!A75=\"\",0,LP!C75)","v":0},null,{"$f":"IF(LP!E75=\"\",\"\",LP!F75)","v":""},{"$f":"IF(LP!E75=\"\",0,LP!G75)","v":0},null,{"$f":"IF(LP!I75=\"\",\"\",LP!J75)","v":""},{"$f":"IF(LP!I75=\"\",0,LP!K75)","v":0},null,{"$f":"IF(BPBPS!B75=\"\",\"\",BPBPS!C75)","v":""},{"$f":"IF(BPBPS!B75=\"\",0,BPBPS!D75)","v":0},null,{"$f":"IF(BPBPS!F75=\"\",\"\",BPBPS!G75)","v":""},{"$f":"IF(BPBPS!H75=\"\",0,BPBPS!H75)","v":0},null,{"$f":"IF(BPBPS!J75=\"\",\"\",BPBPS!K75)","v":""},{"$f":"IF(BPBPS!J75=\"\",0,BPBPS!L75)","v":0},null,{"$f":"IF(SSGP!B75=\"\",\"\",SSGP!C75)","v":""},{"$f":"IF(SSGP!B75=\"\",0,SSGP!D75)","v":0},null,{"$f":"IF(SSGP!F75=\"\",\"\",SSGP!G75)","v":""},{"$f":"IF(SSGP!F75=\"\",0,SSGP!H75)","v":0}]
[74,{"$f":"IF(JTP!B76=\"\",\"\",JTP!C76)","v":""},{"$f":"IF(JTP!B76=\"\",0,JTP!D76)","v":0},{"$f":"IF(JTP!B76=\"\",0,JTP!E76)","v":0},null,{"$f":"IF(JTP!G76=\"\",\"\",JTP!H76)","v":""},{"$f":"IF(JTP!G76=\"\",0,JTP!I76)","v":0},{"$f":"IF(JTP!G76=\"\",0,JTP!J76)","v":0},null,{"$f":"IF(JSP!B76=\"\",\"\",JSP!C76)","v":""},{"$f":"IF(JSP!B76=\"\",0,JSP!D76)","v":0},{"$f":"IF(JSP!B76=\"\",0,JSP!E76)","v":0},null,{"$f":"IF(JSP!G76=\"\",\"\",JSP!H76)","v":""},{"$f":"IF(JSP!G76=\"\",0,JSP!I76)","v":0},{"$f":"IF(JSP!G76=\"\",0,JSP!J76)","v":0},null,{"$f":"IF(CFP!B76=\"\",\"\",CFP!C76)","v":""},{"$f":"IF(CFP!B76=\"\",0,CFP!D76)","v":0},{"$f":"IF(CFP!B76=\"\",0,CFP!E76)","v":0},null,{"$f":"IF(CFP!G76=\"\",\"\",CFP!H76)","v":""},{"$f":"IF(CFP!G76=\"\",0,CFP!I76)","v":0},null,{"$f":"IF(DWP!B76=\"\",\"\",DWP!C76)","v":""},{"$f":"IF(DWP!D76=\"\",0,DWP!D76)","v":0},{"$f":"IF(DWP!D76=\"\",0,DWP!E76)","v":0},null,{"$f":"IF(DWP!G76=\"\",\"\",DWP!H76)","v":""},{"$f":"IF(DWP!I76=\"\",0,DWP!I76)","v":0},null,{"$f":"IF(ALP!B76=\"\",\"\",ALP!C76)","v":""},{"$f":"IF(ALP!D76=\"\",0,ALP!D76)","v":0},{"$f":"IF(ALP!E76=\"\",0,ALP!E76)","v":0},null,{"$f":"IF(PS!B78=\"\",\"\",PS!C78)","v":""},{"$f":"IF(PS!B78=\"\",\"\",PS!D78)","v":""},null,{"$f":"IF(PS!F78=\"\",\"\",PS!G78)","v":""},{"$f":"IF(PS!F78=\"\",\"\",PS!H78)","v":""},null,{"$f":"IF(LP!A76=\"\",\"\",LP!B76)","v":""},{"$f":"IF(LP!A76=\"\",0,LP!C76)","v":0},null,{"$f":"IF(LP!E76=\"\",\"\",LP!F76)","v":""},{"$f":"IF(LP!E76=\"\",0,LP!G76)","v":0},null,{"$f":"IF(LP!I76=\"\",\"\",LP!J76)","v":""},{"$f":"IF(LP!I76=\"\",0,LP!K76)","v":0},null,{"$f":"IF(BPBPS!B76=\"\",\"\",BPBPS!C76)","v":""},{"$f":"IF(BPBPS!B76=\"\",0,BPBPS!D76)","v":0},null,{"$f":"IF(BPBPS!F76=\"\",\"\",BPBPS!G76)","v":""},{"$f":"IF(BPBPS!H76=\"\",0,BPBPS!H76)","v":0},null,{"$f":"IF(BPBPS!J76=\"\",\"\",BPBPS!K76)","v":""},{"$f":"IF(BPBPS!J76=\"\",0,BPBPS!L76)","v":0},null,{"$f":"IF(SSGP!B76=\"\",\"\",SSGP!C76)","v":""},{"$f":"IF(SSGP!B76=\"\",0,SSGP!D76)","v":0},null,{"$f":"IF(SSGP!F76=\"\",\"\",SSGP!G76)","v":""},{"$f":"IF(SSGP!F76=\"\",0,SSGP!H76)","v":0}]
[75,{"$f":"IF(JTP!B77=\"\",\"\",JTP!C77)","v":""},{"$f":"IF(JTP!B77=\"\",0,JTP!D77)","v":0},{"$f":"IF(JTP!B77=\"\",0,JTP!E77)","v":0},null,{"$f":"IF(JTP!G77=\"\",\"\",JTP!H77)","v":""},{"$f":"IF(JTP!G77=\"\",0,JTP!I77)","v":0},{"$f":"IF(JTP!G77=\"\",0,JTP!J77)","v":0},null,{"$f":"IF(JSP!B77=\"\",\"\",JSP!C77)","v":""},{"$f":"IF(JSP!B77=\"\",0,JSP!D77)","v":0},{"$f":"IF(JSP!B77=\"\",0,JSP!E77)","v":0},null,{"$f":"IF(JSP!G77=\"\",\"\",JSP!H77)","v":""},{"$f":"IF(JSP!G77=\"\",0,JSP!I77)","v":0},{"$f":"IF(JSP!G77=\"\",0,JSP!J77)","v":0},null,{"$f":"IF(CFP!B77=\"\",\"\",CFP!C77)","v":""},{"$f":"IF(CFP!B77=\"\",0,CFP!D77)","v":0},{"$f":"IF(CFP!B77=\"\",0,CFP!E77)","v":0},null,{"$f":"IF(CFP!G77=\"\",\"\",CFP!H77)","v":""},{"$f":"IF(CFP!G77=\"\",0,CFP!I77)","v":0},null,{"$f":"IF(DWP!B77=\"\",\"\",DWP!C77)","v":""},{"$f":"IF(DWP!D77=\"\",0,DWP!D77)","v":0},{"$f":"IF(DWP!D77=\"\",0,DWP!E77)","v":0},null,{"$f":"IF(DWP!G77=\"\",\"\",DWP!H77)","v":""},{"$f":"IF(DWP!I77=\"\",0,DWP!I77)","v":0},null,{"$f":"IF(ALP!B77=\"\",\"\",ALP!C77)","v":""},{"$f":"IF(ALP!D77=\"\",0,ALP!D77)","v":0},{"$f":"IF(ALP!E77=\"\",0,ALP!E77)","v":0},null,{"$f":"IF(PS!B79=\"\",\"\",PS!C79)","v":""},{"$f":"IF(PS!B79=\"\",\"\",PS!D79)","v":""},null,{"$f":"IF(PS!F79=\"\",\"\",PS!G79)","v":""},{"$f":"IF(PS!F79=\"\",\"\",PS!H79)","v":""},null,{"$f":"IF(LP!A77=\"\",\"\",LP!B77)","v":""},{"$f":"IF(LP!A77=\"\",0,LP!C77)","v":0},null,{"$f":"IF(LP!E77=\"\",\"\",LP!F77)","v":""},{"$f":"IF(LP!E77=\"\",0,LP!G77)","v":0},null,{"$f":"IF(LP!I77=\"\",\"\",LP!J77)","v":""},{"$f":"IF(LP!I77=\"\",0,LP!K77)","v":0},null,{"$f":"IF(BPBPS!B77=\"\",\"\",BPBPS!C77)","v":""},{"$f":"IF(BPBPS!B77=\"\",0,BPBPS!D77)","v":0},null,{"$f":"IF(BPBPS!F77=\"\",\"\",BPBPS!G77)","v":""},{"$f":"IF(BPBPS!H77=\"\",0,BPBPS!H77)","v":0},null,{"$f":"IF(BPBPS!J77=\"\",\"\",BPBPS!K77)","v":""},{"$f":"IF(BPBPS!J77=\"\",0,BPBPS!L77)","v":0},null,{"$f":"IF(SSGP!B77=\"\",\"\",SSGP!C77)","v":""},{"$f":"IF(SSGP!B77=\"\",0,SSGP!D77)","v":0},null,{"$f":"IF(SSGP!F77=\"\",\"\",SSGP!G77)","v":""},{"$f":"IF(SSGP!F77=\"\",0,SSGP!H77)","v":0}]
[76,{"$f":"IF(JTP!B78=\"\",\"\",JTP!C78)","v":""},{"$f":"IF(JTP!B78=\"\",0,JTP!D78)","v":0},{"$f":"IF(JTP!B78=\"\",0,JTP!E78)","v":0},null,{"$f":"IF(JTP!G78=\"\",\"\",JTP!H78)","v":""},{"$f":"IF(JTP!G78=\"\",0,JTP!I78)","v":0},{"$f":"IF(JTP!G78=\"\",0,JTP!J78)","v":0},null,{"$f":"IF(JSP!B78=\"\",\"\",JSP!C78)","v":""},{"$f":"IF(JSP!B78=\"\",0,JSP!D78)","v":0},{"$f":"IF(JSP!B78=\"\",0,JSP!E78)","v":0},null,{"$f":"IF(JSP!G78=\"\",\"\",JSP!H78)","v":""},{"$f":"IF(JSP!G78=\"\",0,JSP!I78)","v":0},{"$f":"IF(JSP!G78=\"\",0,JSP!J78)","v":0},null,{"$f":"IF(CFP!B78=\"\",\"\",CFP!C78)","v":""},{"$f":"IF(CFP!B78=\"\",0,CFP!D78)","v":0},{"$f":"IF(CFP!B78=\"\",0,CFP!E78)","v":0},null,{"$f":"IF(CFP!G78=\"\",\"\",CFP!H78)","v":""},{"$f":"IF(CFP!G78=\"\",0,CFP!I78)","v":0},null,{"$f":"IF(DWP!B78=\"\",\"\",DWP!C78)","v":""},{"$f":"IF(DWP!D78=\"\",0,DWP!D78)","v":0},{"$f":"IF(DWP!D78=\"\",0,DWP!E78)","v":0},null,{"$f":"IF(DWP!G78=\"\",\"\",DWP!H78)","v":""},{"$f":"IF(DWP!I78=\"\",0,DWP!I78)","v":0},null,{"$f":"IF(ALP!B78=\"\",\"\",ALP!C78)","v":""},{"$f":"IF(ALP!D78=\"\",0,ALP!D78)","v":0},{"$f":"IF(ALP!E78=\"\",0,ALP!E78)","v":0},null,{"$f":"IF(PS!B80=\"\",\"\",PS!C80)","v":""},{"$f":"IF(PS!B80=\"\",\"\",PS!D80)","v":""},null,{"$f":"IF(PS!F80=\"\",\"\",PS!G80)","v":""},{"$f":"IF(PS!F80=\"\",\"\",PS!H80)","v":""},null,{"$f":"IF(LP!A78=\"\",\"\",LP!B78)","v":""},{"$f":"IF(LP!A78=\"\",0,LP!C78)","v":0},null,{"$f":"IF(LP!E78=\"\",\"\",LP!F78)","v":""},{"$f":"IF(LP!E78=\"\",0,LP!G78)","v":0},null,{"$f":"IF(LP!I78=\"\",\"\",LP!J78)","v":""},{"$f":"IF(LP!I78=\"\",0,LP!K78)","v":0},null,{"$f":"IF(BPBPS!B78=\"\",\"\",BPBPS!C78)","v":""},{"$f":"IF(BPBPS!B78=\"\",0,BPBPS!D78)","v":0},null,{"$f":"IF(BPBPS!F78=\"\",\"\",BPBPS!G78)","v":""},{"$f":"IF(BPBPS!H78=\"\",0,BPBPS!H78)","v":0},null,{"$f":"IF(BPBPS!J78=\"\",\"\",BPBPS!K78)","v":""},{"$f":"IF(BPBPS!J78=\"\",0,BPBPS!L78)","v":0},null,{"$f":"IF(SSGP!B78=\"\",\"\",SSGP!C78)","v":""},{"$f":"IF(SSGP!B78=\"\",0,SSGP!D78)","v":0},null,{"$f":"IF(SSGP!F78=\"\",\"\",SSGP!G78)","v":""},{"$f":"IF(SSGP!F78=\"\",0,SSGP!H78)","v":0}]
[77,{"$f":"IF(JTP!B79=\"\",\"\",JTP!C79)","v":""},{"$f":"IF(JTP!B79=\"\",0,JTP!D79)","v":0},{"$f":"IF(JTP!B79=\"\",0,JTP!E79)","v":0},null,{"$f":"IF(JTP!G79=\"\",\"\",JTP!H79)","v":""},{"$f":"IF(JTP!G79=\"\",0,JTP!I79)","v":0},{"$f":"IF(JTP!G79=\"\",0,JTP!J79)","v":0},null,{"$f":"IF(JSP!B79=\"\",\"\",JSP!C79)","v":""},{"$f":"IF(JSP!B79=\"\",0,JSP!D79)","v":0},{"$f":"IF(JSP!B79=\"\",0,JSP!E79)","v":0},null,{"$f":"IF(JSP!G79=\"\",\"\",JSP!H79)","v":""},{"$f":"IF(JSP!G79=\"\",0,JSP!I79)","v":0},{"$f":"IF(JSP!G79=\"\",0,JSP!J79)","v":0},null,{"$f":"IF(CFP!B79=\"\",\"\",CFP!C79)","v":""},{"$f":"IF(CFP!B79=\"\",0,CFP!D79)","v":0},{"$f":"IF(CFP!B79=\"\",0,CFP!E79)","v":0},null,{"$f":"IF(CFP!G79=\"\",\"\",CFP!H79)","v":""},{"$f":"IF(CFP!G79=\"\",0,CFP!I79)","v":0},null,{"$f":"IF(DWP!B79=\"\",\"\",DWP!C79)","v":""},{"$f":"IF(DWP!D79=\"\",0,DWP!D79)","v":0},{"$f":"IF(DWP!D79=\"\",0,DWP!E79)","v":0},null,{"$f":"IF(DWP!G79=\"\",\"\",DWP!H79)","v":""},{"$f":"IF(DWP!I79=\"\",0,DWP!I79)","v":0},null,{"$f":"IF(ALP!B79=\"\",\"\",ALP!C79)","v":""},{"$f":"IF(ALP!D79=\"\",0,ALP!D79)","v":0},{"$f":"IF(ALP!E79=\"\",0,ALP!E79)","v":0},null,{"$f":"IF(PS!B81=\"\",\"\",PS!C81)","v":""},{"$f":"IF(PS!B81=\"\",\"\",PS!D81)","v":""},null,{"$f":"IF(PS!F81=\"\",\"\",PS!G81)","v":""},{"$f":"IF(PS!F81=\"\",\"\",PS!H81)","v":""},null,{"$f":"IF(LP!A79=\"\",\"\",LP!B79)","v":""},{"$f":"IF(LP!A79=\"\",0,LP!C79)","v":0},null,{"$f":"IF(LP!E79=\"\",\"\",LP!F79)","v":""},{"$f":"IF(LP!E79=\"\",0,LP!G79)","v":0},null,{"$f":"IF(LP!I79=\"\",\"\",LP!J79)","v":""},{"$f":"IF(LP!I79=\"\",0,LP!K79)","v":0},null,{"$f":"IF(BPBPS!B79=\"\",\"\",BPBPS!C79)","v":""},{"$f":"IF(BPBPS!B79=\"\",0,BPBPS!D79)","v":0},null,{"$f":"IF(BPBPS!F79=\"\",\"\",BPBPS!G79)","v":""},{"$f":"IF(BPBPS!H79=\"\",0,BPBPS!H79)","v":0},null,{"$f":"IF(BPBPS!J79=\"\",\"\",BPBPS!K79)","v":""},{"$f":"IF(BPBPS!J79=\"\",0,BPBPS!L79)","v":0},null,{"$f":"IF(SSGP!B79=\"\",\"\",SSGP!C79)","v":""},{"$f":"IF(SSGP!B79=\"\",0,SSGP!D79)","v":0},null,{"$f":"IF(SSGP!F79=\"\",\"\",SSGP!G79)","v":""},{"$f":"IF(SSGP!F79=\"\",0,SSGP!H79)","v":0}]
[78,{"$f":"IF(JTP!B80=\"\",\"\",JTP!C80)","v":""},{"$f":"IF(JTP!B80=\"\",0,JTP!D80)","v":0},{"$f":"IF(JTP!B80=\"\",0,JTP!E80)","v":0},null,{"$f":"IF(JTP!G80=\"\",\"\",JTP!H80)","v":""},{"$f":"IF(JTP!G80=\"\",0,JTP!I80)","v":0},{"$f":"IF(JTP!G80=\"\",0,JTP!J80)","v":0},null,{"$f":"IF(JSP!B80=\"\",\"\",JSP!C80)","v":""},{"$f":"IF(JSP!B80=\"\",0,JSP!D80)","v":0},{"$f":"IF(JSP!B80=\"\",0,JSP!E80)","v":0},null,{"$f":"IF(JSP!G80=\"\",\"\",JSP!H80)","v":""},{"$f":"IF(JSP!G80=\"\",0,JSP!I80)","v":0},{"$f":"IF(JSP!G80=\"\",0,JSP!J80)","v":0},null,{"$f":"IF(CFP!B80=\"\",\"\",CFP!C80)","v":""},{"$f":"IF(CFP!B80=\"\",0,CFP!D80)","v":0},{"$f":"IF(CFP!B80=\"\",0,CFP!E80)","v":0},null,{"$f":"IF(CFP!G80=\"\",\"\",CFP!H80)","v":""},{"$f":"IF(CFP!G80=\"\",0,CFP!I80)","v":0},null,{"$f":"IF(DWP!B80=\"\",\"\",DWP!C80)","v":""},{"$f":"IF(DWP!D80=\"\",0,DWP!D80)","v":0},{"$f":"IF(DWP!D80=\"\",0,DWP!E80)","v":0},null,{"$f":"IF(DWP!G80=\"\",\"\",DWP!H80)","v":""},{"$f":"IF(DWP!I80=\"\",0,DWP!I80)","v":0},null,{"$f":"IF(ALP!B80=\"\",\"\",ALP!C80)","v":""},{"$f":"IF(ALP!D80=\"\",0,ALP!D80)","v":0},{"$f":"IF(ALP!E80=\"\",0,ALP!E80)","v":0},null,{"$f":"IF(PS!B82=\"\",\"\",PS!C82)","v":""},{"$f":"IF(PS!B82=\"\",\"\",PS!D82)","v":""},null,{"$f":"IF(PS!F82=\"\",\"\",PS!G82)","v":""},{"$f":"IF(PS!F82=\"\",\"\",PS!H82)","v":""},null,{"$f":"IF(LP!A80=\"\",\"\",LP!B80)","v":""},{"$f":"IF(LP!A80=\"\",0,LP!C80)","v":0},null,{"$f":"IF(LP!E80=\"\",\"\",LP!F80)","v":""},{"$f":"IF(LP!E80=\"\",0,LP!G80)","v":0},null,{"$f":"IF(LP!I80=\"\",\"\",LP!J80)","v":""},{"$f":"IF(LP!I80=\"\",0,LP!K80)","v":0},null,{"$f":"IF(BPBPS!B80=\"\",\"\",BPBPS!C80)","v":""},{"$f":"IF(BPBPS!B80=\"\",0,BPBPS!D80)","v":0},null,{"$f":"IF(BPBPS!F80=\"\",\"\",BPBPS!G80)","v":""},{"$f":"IF(BPBPS!H80=\"\",0,BPBPS!H80)","v":0},null,{"$f":"IF(BPBPS!J80=\"\",\"\",BPBPS!K80)","v":""},{"$f":"IF(BPBPS!J80=\"\",0,BPBPS!L80)","v":0},null,{"$f":"IF(SSGP!B80=\"\",\"\",SSGP!C80)","v":""},{"$f":"IF(SSGP!B80=\"\",0,SSGP!D80)","v":0},null,{"$f":"IF(SSGP!F80=\"\",\"\",SSGP!G80)","v":""},{"$f":"IF(SSGP!F80=\"\",0,SSGP!H80)","v":0}]
[79,{"$f":"IF(JTP!B81=\"\",\"\",JTP!C81)","v":""},{"$f":"IF(JTP!B81=\"\",0,JTP!D81)","v":0},{"$f":"IF(JTP!B81=\"\",0,JTP!E81)","v":0},null,{"$f":"IF(JTP!G81=\"\",\"\",JTP!H81)","v":""},{"$f":"IF(JTP!G81=\"\",0,JTP!I81)","v":0},{"$f":"IF(JTP!G81=\"\",0,JTP!J81)","v":0},null,{"$f":"IF(JSP!B81=\"\",\"\",JSP!C81)","v":""},{"$f":"IF(JSP!B81=\"\",0,JSP!D81)","v":0},{"$f":"IF(JSP!B81=\"\",0,JSP!E81)","v":0},null,{"$f":"IF(JSP!G81=\"\",\"\",JSP!H81)","v":""},{"$f":"IF(JSP!G81=\"\",0,JSP!I81)","v":0},{"$f":"IF(JSP!G81=\"\",0,JSP!J81)","v":0},null,{"$f":"IF(CFP!B81=\"\",\"\",CFP!C81)","v":""},{"$f":"IF(CFP!B81=\"\",0,CFP!D81)","v":0},{"$f":"IF(CFP!B81=\"\",0,CFP!E81)","v":0},null,{"$f":"IF(CFP!G81=\"\",\"\",CFP!H81)","v":""},{"$f":"IF(CFP!G81=\"\",0,CFP!I81)","v":0},null,{"$f":"IF(DWP!B81=\"\",\"\",DWP!C81)","v":""},{"$f":"IF(DWP!D81=\"\",0,DWP!D81)","v":0},{"$f":"IF(DWP!D81=\"\",0,DWP!E81)","v":0},null,{"$f":"IF(DWP!G81=\"\",\"\",DWP!H81)","v":""},{"$f":"IF(DWP!I81=\"\",0,DWP!I81)","v":0},null,{"$f":"IF(ALP!B81=\"\",\"\",ALP!C81)","v":""},{"$f":"IF(ALP!D81=\"\",0,ALP!D81)","v":0},{"$f":"IF(ALP!E81=\"\",0,ALP!E81)","v":0},null,{"$f":"IF(PS!B83=\"\",\"\",PS!C83)","v":""},{"$f":"IF(PS!B83=\"\",\"\",PS!D83)","v":""},null,{"$f":"IF(PS!F83=\"\",\"\",PS!G83)","v":""},{"$f":"IF(PS!F83=\"\",\"\",PS!H83)","v":""},null,{"$f":"IF(LP!A81=\"\",\"\",LP!B81)","v":""},{"$f":"IF(LP!A81=\"\",0,LP!C81)","v":0},null,{"$f":"IF(LP!E81=\"\",\"\",LP!F81)","v":""},{"$f":"IF(LP!E81=\"\",0,LP!G81)","v":0},null,{"$f":"IF(LP!I81=\"\",\"\",LP!J81)","v":""},{"$f":"IF(LP!I81=\"\",0,LP!K81)","v":0},null,{"$f":"IF(BPBPS!B81=\"\",\"\",BPBPS!C81)","v":""},{"$f":"IF(BPBPS!B81=\"\",0,BPBPS!D81)","v":0},null,{"$f":"IF(BPBPS!F81=\"\",\"\",BPBPS!G81)","v":""},{"$f":"IF(BPBPS!H81=\"\",0,BPBPS!H81)","v":0},null,{"$f":"IF(BPBPS!J81=\"\",\"\",BPBPS!K81)","v":""},{"$f":"IF(BPBPS!J81=\"\",0,BPBPS!L81)","v":0},null,{"$f":"IF(SSGP!B81=\"\",\"\",SSGP!C81)","v":""},{"$f":"IF(SSGP!B81=\"\",0,SSGP!D81)","v":0},null,{"$f":"IF(SSGP!F81=\"\",\"\",SSGP!G81)","v":""},{"$f":"IF(SSGP!F81=\"\",0,SSGP!H81)","v":0}]
[80,{"$f":"IF(JTP!B82=\"\",\"\",JTP!C82)","v":""},{"$f":"IF(JTP!B82=\"\",0,JTP!D82)","v":0},{"$f":"IF(JTP!B82=\"\",0,JTP!E82)","v":0},null,{"$f":"IF(JTP!G82=\"\",\"\",JTP!H82)","v":""},{"$f":"IF(JTP!G82=\"\",0,JTP!I82)","v":0},{"$f":"IF(JTP!G82=\"\",0,JTP!J82)","v":0},null,{"$f":"IF(JSP!B82=\"\",\"\",JSP!C82)","v":""},{"$f":"IF(JSP!B82=\"\",0,JSP!D82)","v":0},{"$f":"IF(JSP!B82=\"\",0,JSP!E82)","v":0},null,{"$f":"IF(JSP!G82=\"\",\"\",JSP!H82)","v":""},{"$f":"IF(JSP!G82=\"\",0,JSP!I82)","v":0},{"$f":"IF(JSP!G82=\"\",0,JSP!J82)","v":0},null,{"$f":"IF(CFP!B82=\"\",\"\",CFP!C82)","v":""},{"$f":"IF(CFP!B82=\"\",0,CFP!D82)","v":0},{"$f":"IF(CFP!B82=\"\",0,CFP!E82)","v":0},null,{"$f":"IF(CFP!G82=\"\",\"\",CFP!H82)","v":""},{"$f":"IF(CFP!G82=\"\",0,CFP!I82)","v":0},null,{"$f":"IF(DWP!B82=\"\",\"\",DWP!C82)","v":""},{"$f":"IF(DWP!D82=\"\",0,DWP!D82)","v":0},{"$f":"IF(DWP!D82=\"\",0,DWP!E82)","v":0},null,{"$f":"IF(DWP!G82=\"\",\"\",DWP!H82)","v":""},{"$f":"IF(DWP!I82=\"\",0,DWP!I82)","v":0},null,{"$f":"IF(ALP!B82=\"\",\"\",ALP!C82)","v":""},{"$f":"IF(ALP!D82=\"\",0,ALP!D82)","v":0},{"$f":"IF(ALP!E82=\"\",0,ALP!E82)","v":0},null,{"$f":"IF(PS!B84=\"\",\"\",PS!C84)","v":""},{"$f":"IF(PS!B84=\"\",\"\",PS!D84)","v":""},null,{"$f":"IF(PS!F84=\"\",\"\",PS!G84)","v":""},{"$f":"IF(PS!F84=\"\",\"\",PS!H84)","v":""},null,{"$f":"IF(LP!A82=\"\",\"\",LP!B82)","v":""},{"$f":"IF(LP!A82=\"\",0,LP!C82)","v":0},null,{"$f":"IF(LP!E82=\"\",\"\",LP!F82)","v":""},{"$f":"IF(LP!E82=\"\",0,LP!G82)","v":0},null,{"$f":"IF(LP!I82=\"\",\"\",LP!J82)","v":""},{"$f":"IF(LP!I82=\"\",0,LP!K82)","v":0},null,{"$f":"IF(BPBPS!B82=\"\",\"\",BPBPS!C82)","v":""},{"$f":"IF(BPBPS!B82=\"\",0,BPBPS!D82)","v":0},null,{"$f":"IF(BPBPS!F82=\"\",\"\",BPBPS!G82)","v":""},{"$f":"IF(BPBPS!H82=\"\",0,BPBPS!H82)","v":0},null,{"$f":"IF(BPBPS!J82=\"\",\"\",BPBPS!K82)","v":""},{"$f":"IF(BPBPS!J82=\"\",0,BPBPS!L82)","v":0},null,{"$f":"IF(SSGP!B82=\"\",\"\",SSGP!C82)","v":""},{"$f":"IF(SSGP!B82=\"\",0,SSGP!D82)","v":0},null,{"$f":"IF(SSGP!F82=\"\",\"\",SSGP!G82)","v":""},{"$f":"IF(SSGP!F82=\"\",0,SSGP!H82)","v":0}]
[81,{"$f":"IF(JTP!B83=\"\",\"\",JTP!C83)","v":""},{"$f":"IF(JTP!B83=\"\",0,JTP!D83)","v":0},{"$f":"IF(JTP!B83=\"\",0,JTP!E83)","v":0},null,{"$f":"IF(JTP!G83=\"\",\"\",JTP!H83)","v":""},{"$f":"IF(JTP!G83=\"\",0,JTP!I83)","v":0},{"$f":"IF(JTP!G83=\"\",0,JTP!J83)","v":0},null,{"$f":"IF(JSP!B83=\"\",\"\",JSP!C83)","v":""},{"$f":"IF(JSP!B83=\"\",0,JSP!D83)","v":0},{"$f":"IF(JSP!B83=\"\",0,JSP!E83)","v":0},null,{"$f":"IF(JSP!G83=\"\",\"\",JSP!H83)","v":""},{"$f":"IF(JSP!G83=\"\",0,JSP!I83)","v":0},{"$f":"IF(JSP!G83=\"\",0,JSP!J83)","v":0},null,{"$f":"IF(CFP!B83=\"\",\"\",CFP!C83)","v":""},{"$f":"IF(CFP!B83=\"\",0,CFP!D83)","v":0},{"$f":"IF(CFP!B83=\"\",0,CFP!E83)","v":0},null,{"$f":"IF(CFP!G83=\"\",\"\",CFP!H83)","v":""},{"$f":"IF(CFP!G83=\"\",0,CFP!I83)","v":0},null,{"$f":"IF(DWP!B83=\"\",\"\",DWP!C83)","v":""},{"$f":"IF(DWP!D83=\"\",0,DWP!D83)","v":0},{"$f":"IF(DWP!D83=\"\",0,DWP!E83)","v":0},null,{"$f":"IF(DWP!G83=\"\",\"\",DWP!H83)","v":""},{"$f":"IF(DWP!I83=\"\",0,DWP!I83)","v":0},null,{"$f":"IF(ALP!B83=\"\",\"\",ALP!C83)","v":""},{"$f":"IF(ALP!D83=\"\",0,ALP!D83)","v":0},{"$f":"IF(ALP!E83=\"\",0,ALP!E83)","v":0},null,{"$f":"IF(PS!B85=\"\",\"\",PS!C85)","v":""},{"$f":"IF(PS!B85=\"\",\"\",PS!D85)","v":""},null,{"$f":"IF(PS!F85=\"\",\"\",PS!G85)","v":""},{"$f":"IF(PS!F85=\"\",\"\",PS!H85)","v":""},null,{"$f":"IF(LP!A83=\"\",\"\",LP!B83)","v":""},{"$f":"IF(LP!A83=\"\",0,LP!C83)","v":0},null,{"$f":"IF(LP!E83=\"\",\"\",LP!F83)","v":""},{"$f":"IF(LP!E83=\"\",0,LP!G83)","v":0},null,{"$f":"IF(LP!I83=\"\",\"\",LP!J83)","v":""},{"$f":"IF(LP!I83=\"\",0,LP!K83)","v":0},null,{"$f":"IF(BPBPS!B83=\"\",\"\",BPBPS!C83)","v":""},{"$f":"IF(BPBPS!B83=\"\",0,BPBPS!D83)","v":0},null,{"$f":"IF(BPBPS!F83=\"\",\"\",BPBPS!G83)","v":""},{"$f":"IF(BPBPS!H83=\"\",0,BPBPS!H83)","v":0},null,{"$f":"IF(BPBPS!J83=\"\",\"\",BPBPS!K83)","v":""},{"$f":"IF(BPBPS!J83=\"\",0,BPBPS!L83)","v":0},null,{"$f":"IF(SSGP!B83=\"\",\"\",SSGP!C83)","v":""},{"$f":"IF(SSGP!B83=\"\",0,SSGP!D83)","v":0},null,{"$f":"IF(SSGP!F83=\"\",\"\",SSGP!G83)","v":""},{"$f":"IF(SSGP!F83=\"\",0,SSGP!H83)","v":0}]
[82,{"$f":"IF(JTP!B84=\"\",\"\",JTP!C84)","v":""},{"$f":"IF(JTP!B84=\"\",0,JTP!D84)","v":0},{"$f":"IF(JTP!B84=\"\",0,JTP!E84)","v":0},null,{"$f":"IF(JTP!G84=\"\",\"\",JTP!H84)","v":""},{"$f":"IF(JTP!G84=\"\",0,JTP!I84)","v":0},{"$f":"IF(JTP!G84=\"\",0,JTP!J84)","v":0},null,{"$f":"IF(JSP!B84=\"\",\"\",JSP!C84)","v":""},{"$f":"IF(JSP!B84=\"\",0,JSP!D84)","v":0},{"$f":"IF(JSP!B84=\"\",0,JSP!E84)","v":0},null,{"$f":"IF(JSP!G84=\"\",\"\",JSP!H84)","v":""},{"$f":"IF(JSP!G84=\"\",0,JSP!I84)","v":0},{"$f":"IF(JSP!G84=\"\",0,JSP!J84)","v":0},null,{"$f":"IF(CFP!B84=\"\",\"\",CFP!C84)","v":""},{"$f":"IF(CFP!B84=\"\",0,CFP!D84)","v":0},{"$f":"IF(CFP!B84=\"\",0,CFP!E84)","v":0},null,{"$f":"IF(CFP!G84=\"\",\"\",CFP!H84)","v":""},{"$f":"IF(CFP!G84=\"\",0,CFP!I84)","v":0},null,{"$f":"IF(DWP!B84=\"\",\"\",DWP!C84)","v":""},{"$f":"IF(DWP!D84=\"\",0,DWP!D84)","v":0},{"$f":"IF(DWP!D84=\"\",0,DWP!E84)","v":0},null,{"$f":"IF(DWP!G84=\"\",\"\",DWP!H84)","v":""},{"$f":"IF(DWP!I84=\"\",0,DWP!I84)","v":0},null,{"$f":"IF(ALP!B84=\"\",\"\",ALP!C84)","v":""},{"$f":"IF(ALP!D84=\"\",0,ALP!D84)","v":0},{"$f":"IF(ALP!E84=\"\",0,ALP!E84)","v":0},null,{"$f":"IF(PS!B86=\"\",\"\",PS!C86)","v":""},{"$f":"IF(PS!B86=\"\",\"\",PS!D86)","v":""},null,{"$f":"IF(PS!F86=\"\",\"\",PS!G86)","v":""},{"$f":"IF(PS!F86=\"\",\"\",PS!H86)","v":""},null,{"$f":"IF(LP!A84=\"\",\"\",LP!B84)","v":""},{"$f":"IF(LP!A84=\"\",0,LP!C84)","v":0},null,{"$f":"IF(LP!E84=\"\",\"\",LP!F84)","v":""},{"$f":"IF(LP!E84=\"\",0,LP!G84)","v":0},null,{"$f":"IF(LP!I84=\"\",\"\",LP!J84)","v":""},{"$f":"IF(LP!I84=\"\",0,LP!K84)","v":0},null,{"$f":"IF(BPBPS!B84=\"\",\"\",BPBPS!C84)","v":""},{"$f":"IF(BPBPS!B84=\"\",0,BPBPS!D84)","v":0},null,{"$f":"IF(BPBPS!F84=\"\",\"\",BPBPS!G84)","v":""},{"$f":"IF(BPBPS!H84=\"\",0,BPBPS!H84)","v":0},null,{"$f":"IF(BPBPS!J84=\"\",\"\",BPBPS!K84)","v":""},{"$f":"IF(BPBPS!J84=\"\",0,BPBPS!L84)","v":0},null,{"$f":"IF(SSGP!B84=\"\",\"\",SSGP!C84)","v":""},{"$f":"IF(SSGP!B84=\"\",0,SSGP!D84)","v":0},null,{"$f":"IF(SSGP!F84=\"\",\"\",SSGP!G84)","v":""},{"$f":"IF(SSGP!F84=\"\",0,SSGP!H84)","v":0}]
[83,{"$f":"IF(JTP!B85=\"\",\"\",JTP!C85)","v":""},{"$f":"IF(JTP!B85=\"\",0,JTP!D85)","v":0},{"$f":"IF(JTP!B85=\"\",0,JTP!E85)","v":0},null,{"$f":"IF(JTP!G85=\"\",\"\",JTP!H85)","v":""},{"$f":"IF(JTP!G85=\"\",0,JTP!I85)","v":0},{"$f":"IF(JTP!G85=\"\",0,JTP!J85)","v":0},null,{"$f":"IF(JSP!B85=\"\",\"\",JSP!C85)","v":""},{"$f":"IF(JSP!B85=\"\",0,JSP!D85)","v":0},{"$f":"IF(JSP!B85=\"\",0,JSP!E85)","v":0},null,{"$f":"IF(JSP!G85=\"\",\"\",JSP!H85)","v":""},{"$f":"IF(JSP!G85=\"\",0,JSP!I85)","v":0},{"$f":"IF(JSP!G85=\"\",0,JSP!J85)","v":0},null,{"$f":"IF(CFP!B85=\"\",\"\",CFP!C85)","v":""},{"$f":"IF(CFP!B85=\"\",0,CFP!D85)","v":0},{"$f":"IF(CFP!B85=\"\",0,CFP!E85)","v":0},null,{"$f":"IF(CFP!G85=\"\",\"\",CFP!H85)","v":""},{"$f":"IF(CFP!G85=\"\",0,CFP!I85)","v":0},null,{"$f":"IF(DWP!B85=\"\",\"\",DWP!C85)","v":""},{"$f":"IF(DWP!D85=\"\",0,DWP!D85)","v":0},{"$f":"IF(DWP!D85=\"\",0,DWP!E85)","v":0},null,{"$f":"IF(DWP!G85=\"\",\"\",DWP!H85)","v":""},{"$f":"IF(DWP!I85=\"\",0,DWP!I85)","v":0},null,{"$f":"IF(ALP!B85=\"\",\"\",ALP!C85)","v":""},{"$f":"IF(ALP!D85=\"\",0,ALP!D85)","v":0},{"$f":"IF(ALP!E85=\"\",0,ALP!E85)","v":0},null,{"$f":"IF(PS!B87=\"\",\"\",PS!C87)","v":""},{"$f":"IF(PS!B87=\"\",\"\",PS!D87)","v":""},null,{"$f":"IF(PS!F87=\"\",\"\",PS!G87)","v":""},{"$f":"IF(PS!F87=\"\",\"\",PS!H87)","v":""},null,{"$f":"IF(LP!A85=\"\",\"\",LP!B85)","v":""},{"$f":"IF(LP!A85=\"\",0,LP!C85)","v":0},null,{"$f":"IF(LP!E85=\"\",\"\",LP!F85)","v":""},{"$f":"IF(LP!E85=\"\",0,LP!G85)","v":0},null,{"$f":"IF(LP!I85=\"\",\"\",LP!J85)","v":""},{"$f":"IF(LP!I85=\"\",0,LP!K85)","v":0},null,{"$f":"IF(BPBPS!B85=\"\",\"\",BPBPS!C85)","v":""},{"$f":"IF(BPBPS!B85=\"\",0,BPBPS!D85)","v":0},null,{"$f":"IF(BPBPS!F85=\"\",\"\",BPBPS!G85)","v":""},{"$f":"IF(BPBPS!H85=\"\",0,BPBPS!H85)","v":0},null,{"$f":"IF(BPBPS!J85=\"\",\"\",BPBPS!K85)","v":""},{"$f":"IF(BPBPS!J85=\"\",0,BPBPS!L85)","v":0},null,{"$f":"IF(SSGP!B85=\"\",\"\",SSGP!C85)","v":""},{"$f":"IF(SSGP!B85=\"\",0,SSGP!D85)","v":0},null,{"$f":"IF(SSGP!F85=\"\",\"\",SSGP!G85)","v":""},{"$f":"IF(SSGP!F85=\"\",0,SSGP!H85)","v":0}]
[84,{"$f":"IF(JTP!B86=\"\",\"\",JTP!C86)","v":""},{"$f":"IF(JTP!B86=\"\",0,JTP!D86)","v":0},{"$f":"IF(JTP!B86=\"\",0,JTP!E86)","v":0},null,{"$f":"IF(JTP!G86=\"\",\"\",JTP!H86)","v":""},{"$f":"IF(JTP!G86=\"\",0,JTP!I86)","v":0},{"$f":"IF(JTP!G86=\"\",0,JTP!J86)","v":0},null,{"$f":"IF(JSP!B86=\"\",\"\",JSP!C86)","v":""},{"$f":"IF(JSP!B86=\"\",0,JSP!D86)","v":0},{"$f":"IF(JSP!B86=\"\",0,JSP!E86)","v":0},null,{"$f":"IF(JSP!G86=\"\",\"\",JSP!H86)","v":""},{"$f":"IF(JSP!G86=\"\",0,JSP!I86)","v":0},{"$f":"IF(JSP!G86=\"\",0,JSP!J86)","v":0},null,{"$f":"IF(CFP!B86=\"\",\"\",CFP!C86)","v":""},{"$f":"IF(CFP!B86=\"\",0,CFP!D86)","v":0},{"$f":"IF(CFP!B86=\"\",0,CFP!E86)","v":0},null,{"$f":"IF(CFP!G86=\"\",\"\",CFP!H86)","v":""},{"$f":"IF(CFP!G86=\"\",0,CFP!I86)","v":0},null,{"$f":"IF(DWP!B86=\"\",\"\",DWP!C86)","v":""},{"$f":"IF(DWP!D86=\"\",0,DWP!D86)","v":0},{"$f":"IF(DWP!D86=\"\",0,DWP!E86)","v":0},null,{"$f":"IF(DWP!G86=\"\",\"\",DWP!H86)","v":""},{"$f":"IF(DWP!I86=\"\",0,DWP!I86)","v":0},null,{"$f":"IF(ALP!B86=\"\",\"\",ALP!C86)","v":""},{"$f":"IF(ALP!D86=\"\",0,ALP!D86)","v":0},{"$f":"IF(ALP!E86=\"\",0,ALP!E86)","v":0},null,{"$f":"IF(PS!B88=\"\",\"\",PS!C88)","v":""},{"$f":"IF(PS!B88=\"\",\"\",PS!D88)","v":""},null,{"$f":"IF(PS!F88=\"\",\"\",PS!G88)","v":""},{"$f":"IF(PS!F88=\"\",\"\",PS!H88)","v":""},null,{"$f":"IF(LP!A86=\"\",\"\",LP!B86)","v":""},{"$f":"IF(LP!A86=\"\",0,LP!C86)","v":0},null,{"$f":"IF(LP!E86=\"\",\"\",LP!F86)","v":""},{"$f":"IF(LP!E86=\"\",0,LP!G86)","v":0},null,{"$f":"IF(LP!I86=\"\",\"\",LP!J86)","v":""},{"$f":"IF(LP!I86=\"\",0,LP!K86)","v":0},null,{"$f":"IF(BPBPS!B86=\"\",\"\",BPBPS!C86)","v":""},{"$f":"IF(BPBPS!B86=\"\",0,BPBPS!D86)","v":0},null,{"$f":"IF(BPBPS!F86=\"\",\"\",BPBPS!G86)","v":""},{"$f":"IF(BPBPS!H86=\"\",0,BPBPS!H86)","v":0},null,{"$f":"IF(BPBPS!J86=\"\",\"\",BPBPS!K86)","v":""},{"$f":"IF(BPBPS!J86=\"\",0,BPBPS!L86)","v":0},null,{"$f":"IF(SSGP!B86=\"\",\"\",SSGP!C86)","v":""},{"$f":"IF(SSGP!B86=\"\",0,SSGP!D86)","v":0},null,{"$f":"IF(SSGP!F86=\"\",\"\",SSGP!G86)","v":""},{"$f":"IF(SSGP!F86=\"\",0,SSGP!H86)","v":0}]
[85,{"$f":"IF(JTP!B87=\"\",\"\",JTP!C87)","v":""},{"$f":"IF(JTP!B87=\"\",0,JTP!D87)","v":0},{"$f":"IF(JTP!B87=\"\",0,JTP!E87)","v":0},null,{"$f":"IF(JTP!G87=\"\",\"\",JTP!H87)","v":""},{"$f":"IF(JTP!G87=\"\",0,JTP!I87)","v":0},{"$f":"IF(JTP!G87=\"\",0,JTP!J87)","v":0},null,{"$f":"IF(JSP!B87=\"\",\"\",JSP!C87)","v":""},{"$f":"IF(JSP!B87=\"\",0,JSP!D87)","v":0},{"$f":"IF(JSP!B87=\"\",0,JSP!E87)","v":0},null,{"$f":"IF(JSP!G87=\"\",\"\",JSP!H87)","v":""},{"$f":"IF(JSP!G87=\"\",0,JSP!I87)","v":0},{"$f":"IF(JSP!G87=\"\",0,JSP!J87)","v":0},null,{"$f":"IF(CFP!B87=\"\",\"\",CFP!C87)","v":""},{"$f":"IF(CFP!B87=\"\",0,CFP!D87)","v":0},{"$f":"IF(CFP!B87=\"\",0,CFP!E87)","v":0},null,{"$f":"IF(CFP!G87=\"\",\"\",CFP!H87)","v":""},{"$f":"IF(CFP!G87=\"\",0,CFP!I87)","v":0},null,{"$f":"IF(DWP!B87=\"\",\"\",DWP!C87)","v":""},{"$f":"IF(DWP!D87=\"\",0,DWP!D87)","v":0},{"$f":"IF(DWP!D87=\"\",0,DWP!E87)","v":0},null,{"$f":"IF(DWP!G87=\"\",\"\",DWP!H87)","v":""},{"$f":"IF(DWP!I87=\"\",0,DWP!I87)","v":0},null,{"$f":"IF(ALP!B87=\"\",\"\",ALP!C87)","v":""},{"$f":"IF(ALP!D87=\"\",0,ALP!D87)","v":0},{"$f":"IF(ALP!E87=\"\",0,ALP!E87)","v":0},null,{"$f":"IF(PS!B89=\"\",\"\",PS!C89)","v":""},{"$f":"IF(PS!B89=\"\",\"\",PS!D89)","v":""},null,{"$f":"IF(PS!F89=\"\",\"\",PS!G89)","v":""},{"$f":"IF(PS!F89=\"\",\"\",PS!H89)","v":""},null,{"$f":"IF(LP!A87=\"\",\"\",LP!B87)","v":""},{"$f":"IF(LP!A87=\"\",0,LP!C87)","v":0},null,{"$f":"IF(LP!E87=\"\",\"\",LP!F87)","v":""},{"$f":"IF(LP!E87=\"\",0,LP!G87)","v":0},null,{"$f":"IF(LP!I87=\"\",\"\",LP!J87)","v":""},{"$f":"IF(LP!I87=\"\",0,LP!K87)","v":0},null,{"$f":"IF(BPBPS!B87=\"\",\"\",BPBPS!C87)","v":""},{"$f":"IF(BPBPS!B87=\"\",0,BPBPS!D87)","v":0},null,{"$f":"IF(BPBPS!F87=\"\",\"\",BPBPS!G87)","v":""},{"$f":"IF(BPBPS!H87=\"\",0,BPBPS!H87)","v":0},null,{"$f":"IF(BPBPS!J87=\"\",\"\",BPBPS!K87)","v":""},{"$f":"IF(BPBPS!J87=\"\",0,BPBPS!L87)","v":0},null,{"$f":"IF(SSGP!B87=\"\",\"\",SSGP!C87)","v":""},{"$f":"IF(SSGP!B87=\"\",0,SSGP!D87)","v":0},null,{"$f":"IF(SSGP!F87=\"\",\"\",SSGP!G87)","v":""},{"$f":"IF(SSGP!F87=\"\",0,SSGP!H87)","v":0}]
[86,{"$f":"IF(JTP!B88=\"\",\"\",JTP!C88)","v":""},{"$f":"IF(JTP!B88=\"\",0,JTP!D88)","v":0},{"$f":"IF(JTP!B88=\"\",0,JTP!E88)","v":0},null,{"$f":"IF(JTP!G88=\"\",\"\",JTP!H88)","v":""},{"$f":"IF(JTP!G88=\"\",0,JTP!I88)","v":0},{"$f":"IF(JTP!G88=\"\",0,JTP!J88)","v":0},null,{"$f":"IF(JSP!B88=\"\",\"\",JSP!C88)","v":""},{"$f":"IF(JSP!B88=\"\",0,JSP!D88)","v":0},{"$f":"IF(JSP!B88=\"\",0,JSP!E88)","v":0},null,{"$f":"IF(JSP!G88=\"\",\"\",JSP!H88)","v":""},{"$f":"IF(JSP!G88=\"\",0,JSP!I88)","v":0},{"$f":"IF(JSP!G88=\"\",0,JSP!J88)","v":0},null,{"$f":"IF(CFP!B88=\"\",\"\",CFP!C88)","v":""},{"$f":"IF(CFP!B88=\"\",0,CFP!D88)","v":0},{"$f":"IF(CFP!B88=\"\",0,CFP!E88)","v":0},null,{"$f":"IF(CFP!G88=\"\",\"\",CFP!H88)","v":""},{"$f":"IF(CFP!G88=\"\",0,CFP!I88)","v":0},null,{"$f":"IF(DWP!B88=\"\",\"\",DWP!C88)","v":""},{"$f":"IF(DWP!D88=\"\",0,DWP!D88)","v":0},{"$f":"IF(DWP!D88=\"\",0,DWP!E88)","v":0},null,{"$f":"IF(DWP!G88=\"\",\"\",DWP!H88)","v":""},{"$f":"IF(DWP!I88=\"\",0,DWP!I88)","v":0},null,{"$f":"IF(ALP!B88=\"\",\"\",ALP!C88)","v":""},{"$f":"IF(ALP!D88=\"\",0,ALP!D88)","v":0},{"$f":"IF(ALP!E88=\"\",0,ALP!E88)","v":0},null,{"$f":"IF(PS!B90=\"\",\"\",PS!C90)","v":""},{"$f":"IF(PS!B90=\"\",\"\",PS!D90)","v":""},null,{"$f":"IF(PS!F90=\"\",\"\",PS!G90)","v":""},{"$f":"IF(PS!F90=\"\",\"\",PS!H90)","v":""},null,{"$f":"IF(LP!A88=\"\",\"\",LP!B88)","v":""},{"$f":"IF(LP!A88=\"\",0,LP!C88)","v":0},null,{"$f":"IF(LP!E88=\"\",\"\",LP!F88)","v":""},{"$f":"IF(LP!E88=\"\",0,LP!G88)","v":0},null,{"$f":"IF(LP!I88=\"\",\"\",LP!J88)","v":""},{"$f":"IF(LP!I88=\"\",0,LP!K88)","v":0},null,{"$f":"IF(BPBPS!B88=\"\",\"\",BPBPS!C88)","v":""},{"$f":"IF(BPBPS!B88=\"\",0,BPBPS!D88)","v":0},null,{"$f":"IF(BPBPS!F88=\"\",\"\",BPBPS!G88)","v":""},{"$f":"IF(BPBPS!H88=\"\",0,BPBPS!H88)","v":0},null,{"$f":"IF(BPBPS!J88=\"\",\"\",BPBPS!K88)","v":""},{"$f":"IF(BPBPS!J88=\"\",0,BPBPS!L88)","v":0},null,{"$f":"IF(SSGP!B88=\"\",\"\",SSGP!C88)","v":""},{"$f":"IF(SSGP!B88=\"\",0,SSGP!D88)","v":0},null,{"$f":"IF(SSGP!F88=\"\",\"\",SSGP!G88)","v":""},{"$f":"IF(SSGP!F88=\"\",0,SSGP!H88)","v":0}]
[87,{"$f":"IF(JTP!B89=\"\",\"\",JTP!C89)","v":""},{"$f":"IF(JTP!B89=\"\",0,JTP!D89)","v":0},{"$f":"IF(JTP!B89=\"\",0,JTP!E89)","v":0},null,{"$f":"IF(JTP!G89=\"\",\"\",JTP!H89)","v":""},{"$f":"IF(JTP!G89=\"\",0,JTP!I89)","v":0},{"$f":"IF(JTP!G89=\"\",0,JTP!J89)","v":0},null,{"$f":"IF(JSP!B89=\"\",\"\",JSP!C89)","v":""},{"$f":"IF(JSP!B89=\"\",0,JSP!D89)","v":0},{"$f":"IF(JSP!B89=\"\",0,JSP!E89)","v":0},null,{"$f":"IF(JSP!G89=\"\",\"\",JSP!H89)","v":""},{"$f":"IF(JSP!G89=\"\",0,JSP!I89)","v":0},{"$f":"IF(JSP!G89=\"\",0,JSP!J89)","v":0},null,{"$f":"IF(CFP!B89=\"\",\"\",CFP!C89)","v":""},{"$f":"IF(CFP!B89=\"\",0,CFP!D89)","v":0},{"$f":"IF(CFP!B89=\"\",0,CFP!E89)","v":0},null,{"$f":"IF(CFP!G89=\"\",\"\",CFP!H89)","v":""},{"$f":"IF(CFP!G89=\"\",0,CFP!I89)","v":0},null,{"$f":"IF(DWP!B89=\"\",\"\",DWP!C89)","v":""},{"$f":"IF(DWP!D89=\"\",0,DWP!D89)","v":0},{"$f":"IF(DWP!D89=\"\",0,DWP!E89)","v":0},null,{"$f":"IF(DWP!G89=\"\",\"\",DWP!H89)","v":""},{"$f":"IF(DWP!I89=\"\",0,DWP!I89)","v":0},null,{"$f":"IF(ALP!B89=\"\",\"\",ALP!C89)","v":""},{"$f":"IF(ALP!D89=\"\",0,ALP!D89)","v":0},{"$f":"IF(ALP!E89=\"\",0,ALP!E89)","v":0},null,{"$f":"IF(PS!B91=\"\",\"\",PS!C91)","v":""},{"$f":"IF(PS!B91=\"\",\"\",PS!D91)","v":""},null,{"$f":"IF(PS!F91=\"\",\"\",PS!G91)","v":""},{"$f":"IF(PS!F91=\"\",\"\",PS!H91)","v":""},null,{"$f":"IF(LP!A89=\"\",\"\",LP!B89)","v":""},{"$f":"IF(LP!A89=\"\",0,LP!C89)","v":0},null,{"$f":"IF(LP!E89=\"\",\"\",LP!F89)","v":""},{"$f":"IF(LP!E89=\"\",0,LP!G89)","v":0},null,{"$f":"IF(LP!I89=\"\",\"\",LP!J89)","v":""},{"$f":"IF(LP!I89=\"\",0,LP!K89)","v":0},null,{"$f":"IF(BPBPS!B89=\"\",\"\",BPBPS!C89)","v":""},{"$f":"IF(BPBPS!B89=\"\",0,BPBPS!D89)","v":0},null,{"$f":"IF(BPBPS!F89=\"\",\"\",BPBPS!G89)","v":""},{"$f":"IF(BPBPS!H89=\"\",0,BPBPS!H89)","v":0},null,{"$f":"IF(BPBPS!J89=\"\",\"\",BPBPS!K89)","v":""},{"$f":"IF(BPBPS!J89=\"\",0,BPBPS!L89)","v":0},null,{"$f":"IF(SSGP!B89=\"\",\"\",SSGP!C89)","v":""},{"$f":"IF(SSGP!B89=\"\",0,SSGP!D89)","v":0},null,{"$f":"IF(SSGP!F89=\"\",\"\",SSGP!G89)","v":""},{"$f":"IF(SSGP!F89=\"\",0,SSGP!H89)","v":0}]
[88,{"$f":"IF(JTP!B90=\"\",\"\",JTP!C90)","v":""},{"$f":"IF(JTP!B90=\"\",0,JTP!D90)","v":0},{"$f":"IF(JTP!B90=\"\",0,JTP!E90)","v":0},null,{"$f":"IF(JTP!G90=\"\",\"\",JTP!H90)","v":""},{"$f":"IF(JTP!G90=\"\",0,JTP!I90)","v":0},{"$f":"IF(JTP!G90=\"\",0,JTP!J90)","v":0},null,{"$f":"IF(JSP!B90=\"\",\"\",JSP!C90)","v":""},{"$f":"IF(JSP!B90=\"\",0,JSP!D90)","v":0},{"$f":"IF(JSP!B90=\"\",0,JSP!E90)","v":0},null,{"$f":"IF(JSP!G90=\"\",\"\",JSP!H90)","v":""},{"$f":"IF(JSP!G90=\"\",0,JSP!I90)","v":0},{"$f":"IF(JSP!G90=\"\",0,JSP!J90)","v":0},null,{"$f":"IF(CFP!B90=\"\",\"\",CFP!C90)","v":""},{"$f":"IF(CFP!B90=\"\",0,CFP!D90)","v":0},{"$f":"IF(CFP!B90=\"\",0,CFP!E90)","v":0},null,{"$f":"IF(CFP!G90=\"\",\"\",CFP!H90)","v":""},{"$f":"IF(CFP!G90=\"\",0,CFP!I90)","v":0},null,{"$f":"IF(DWP!B90=\"\",\"\",DWP!C90)","v":""},{"$f":"IF(DWP!D90=\"\",0,DWP!D90)","v":0},{"$f":"IF(DWP!D90=\"\",0,DWP!E90)","v":0},null,{"$f":"IF(DWP!G90=\"\",\"\",DWP!H90)","v":""},{"$f":"IF(DWP!I90=\"\",0,DWP!I90)","v":0},null,{"$f":"IF(ALP!B90=\"\",\"\",ALP!C90)","v":""},{"$f":"IF(ALP!D90=\"\",0,ALP!D90)","v":0},{"$f":"IF(ALP!E90=\"\",0,ALP!E90)","v":0},null,{"$f":"IF(PS!B92=\"\",\"\",PS!C92)","v":""},{"$f":"IF(PS!B92=\"\",\"\",PS!D92)","v":""},null,{"$f":"IF(PS!F92=\"\",\"\",PS!G92)","v":""},{"$f":"IF(PS!F92=\"\",\"\",PS!H92)","v":""},null,{"$f":"IF(LP!A90=\"\",\"\",LP!B90)","v":""},{"$f":"IF(LP!A90=\"\",0,LP!C90)","v":0},null,{"$f":"IF(LP!E90=\"\",\"\",LP!F90)","v":""},{"$f":"IF(LP!E90=\"\",0,LP!G90)","v":0},null,{"$f":"IF(LP!I90=\"\",\"\",LP!J90)","v":""},{"$f":"IF(LP!I90=\"\",0,LP!K90)","v":0},null,{"$f":"IF(BPBPS!B90=\"\",\"\",BPBPS!C90)","v":""},{"$f":"IF(BPBPS!B90=\"\",0,BPBPS!D90)","v":0},null,{"$f":"IF(BPBPS!F90=\"\",\"\",BPBPS!G90)","v":""},{"$f":"IF(BPBPS!H90=\"\",0,BPBPS!H90)","v":0},null,{"$f":"IF(BPBPS!J90=\"\",\"\",BPBPS!K90)","v":""},{"$f":"IF(BPBPS!J90=\"\",0,BPBPS!L90)","v":0},null,{"$f":"IF(SSGP!B90=\"\",\"\",SSGP!C90)","v":""},{"$f":"IF(SSGP!B90=\"\",0,SSGP!D90)","v":0},null,{"$f":"IF(SSGP!F90=\"\",\"\",SSGP!G90)","v":""},{"$f":"IF(SSGP!F90=\"\",0,SSGP!H90)","v":0}]
[89,{"$f":"IF(JTP!B91=\"\",\"\",JTP!C91)","v":""},{"$f":"IF(JTP!B91=\"\",0,JTP!D91)","v":0},{"$f":"IF(JTP!B91=\"\",0,JTP!E91)","v":0},null,{"$f":"IF(JTP!G91=\"\",\"\",JTP!H91)","v":""},{"$f":"IF(JTP!G91=\"\",0,JTP!I91)","v":0},{"$f":"IF(JTP!G91=\"\",0,JTP!J91)","v":0},null,{"$f":"IF(JSP!B91=\"\",\"\",JSP!C91)","v":""},{"$f":"IF(JSP!B91=\"\",0,JSP!D91)","v":0},{"$f":"IF(JSP!B91=\"\",0,JSP!E91)","v":0},null,{"$f":"IF(JSP!G91=\"\",\"\",JSP!H91)","v":""},{"$f":"IF(JSP!G91=\"\",0,JSP!I91)","v":0},{"$f":"IF(JSP!G91=\"\",0,JSP!J91)","v":0},null,{"$f":"IF(CFP!B91=\"\",\"\",CFP!C91)","v":""},{"$f":"IF(CFP!B91=\"\",0,CFP!D91)","v":0},{"$f":"IF(CFP!B91=\"\",0,CFP!E91)","v":0},null,{"$f":"IF(CFP!G91=\"\",\"\",CFP!H91)","v":""},{"$f":"IF(CFP!G91=\"\",0,CFP!I91)","v":0},null,{"$f":"IF(DWP!B91=\"\",\"\",DWP!C91)","v":""},{"$f":"IF(DWP!D91=\"\",0,DWP!D91)","v":0},{"$f":"IF(DWP!D91=\"\",0,DWP!E91)","v":0},null,{"$f":"IF(DWP!G91=\"\",\"\",DWP!H91)","v":""},{"$f":"IF(DWP!I91=\"\",0,DWP!I91)","v":0},null,{"$f":"IF(ALP!B91=\"\",\"\",ALP!C91)","v":""},{"$f":"IF(ALP!D91=\"\",0,ALP!D91)","v":0},{"$f":"IF(ALP!E91=\"\",0,ALP!E91)","v":0},null,{"$f":"IF(PS!B93=\"\",\"\",PS!C93)","v":""},{"$f":"IF(PS!B93=\"\",\"\",PS!D93)","v":""},null,{"$f":"IF(PS!F93=\"\",\"\",PS!G93)","v":""},{"$f":"IF(PS!F93=\"\",\"\",PS!H93)","v":""},null,{"$f":"IF(LP!A91=\"\",\"\",LP!B91)","v":""},{"$f":"IF(LP!A91=\"\",0,LP!C91)","v":0},null,{"$f":"IF(LP!E91=\"\",\"\",LP!F91)","v":""},{"$f":"IF(LP!E91=\"\",0,LP!G91)","v":0},null,{"$f":"IF(LP!I91=\"\",\"\",LP!J91)","v":""},{"$f":"IF(LP!I91=\"\",0,LP!K91)","v":0},null,{"$f":"IF(BPBPS!B91=\"\",\"\",BPBPS!C91)","v":""},{"$f":"IF(BPBPS!B91=\"\",0,BPBPS!D91)","v":0},null,{"$f":"IF(BPBPS!F91=\"\",\"\",BPBPS!G91)","v":""},{"$f":"IF(BPBPS!H91=\"\",0,BPBPS!H91)","v":0},null,{"$f":"IF(BPBPS!J91=\"\",\"\",BPBPS!K91)","v":""},{"$f":"IF(BPBPS!J91=\"\",0,BPBPS!L91)","v":0},null,{"$f":"IF(SSGP!B91=\"\",\"\",SSGP!C91)","v":""},{"$f":"IF(SSGP!B91=\"\",0,SSGP!D91)","v":0},null,{"$f":"IF(SSGP!F91=\"\",\"\",SSGP!G91)","v":""},{"$f":"IF(SSGP!F91=\"\",0,SSGP!H91)","v":0}]
[90,{"$f":"IF(JTP!B92=\"\",\"\",JTP!C92)","v":""},{"$f":"IF(JTP!B92=\"\",0,JTP!D92)","v":0},{"$f":"IF(JTP!B92=\"\",0,JTP!E92)","v":0},null,{"$f":"IF(JTP!G92=\"\",\"\",JTP!H92)","v":""},{"$f":"IF(JTP!G92=\"\",0,JTP!I92)","v":0},{"$f":"IF(JTP!G92=\"\",0,JTP!J92)","v":0},null,{"$f":"IF(JSP!B92=\"\",\"\",JSP!C92)","v":""},{"$f":"IF(JSP!B92=\"\",0,JSP!D92)","v":0},{"$f":"IF(JSP!B92=\"\",0,JSP!E92)","v":0},null,{"$f":"IF(JSP!G92=\"\",\"\",JSP!H92)","v":""},{"$f":"IF(JSP!G92=\"\",0,JSP!I92)","v":0},{"$f":"IF(JSP!G92=\"\",0,JSP!J92)","v":0},null,{"$f":"IF(CFP!B92=\"\",\"\",CFP!C92)","v":""},{"$f":"IF(CFP!B92=\"\",0,CFP!D92)","v":0},{"$f":"IF(CFP!B92=\"\",0,CFP!E92)","v":0},null,{"$f":"IF(CFP!G92=\"\",\"\",CFP!H92)","v":""},{"$f":"IF(CFP!G92=\"\",0,CFP!I92)","v":0},null,{"$f":"IF(DWP!B92=\"\",\"\",DWP!C92)","v":""},{"$f":"IF(DWP!D92=\"\",0,DWP!D92)","v":0},{"$f":"IF(DWP!D92=\"\",0,DWP!E92)","v":0},null,{"$f":"IF(DWP!G92=\"\",\"\",DWP!H92)","v":""},{"$f":"IF(DWP!I92=\"\",0,DWP!I92)","v":0},null,{"$f":"IF(ALP!B92=\"\",\"\",ALP!C92)","v":""},{"$f":"IF(ALP!D92=\"\",0,ALP!D92)","v":0},{"$f":"IF(ALP!E92=\"\",0,ALP!E92)","v":0},null,{"$f":"IF(PS!B94=\"\",\"\",PS!C94)","v":""},{"$f":"IF(PS!B94=\"\",\"\",PS!D94)","v":""},null,{"$f":"IF(PS!F94=\"\",\"\",PS!G94)","v":""},{"$f":"IF(PS!F94=\"\",\"\",PS!H94)","v":""},null,{"$f":"IF(LP!A92=\"\",\"\",LP!B92)","v":""},{"$f":"IF(LP!A92=\"\",0,LP!C92)","v":0},null,{"$f":"IF(LP!E92=\"\",\"\",LP!F92)","v":""},{"$f":"IF(LP!E92=\"\",0,LP!G92)","v":0},null,{"$f":"IF(LP!I92=\"\",\"\",LP!J92)","v":""},{"$f":"IF(LP!I92=\"\",0,LP!K92)","v":0},null,{"$f":"IF(BPBPS!B92=\"\",\"\",BPBPS!C92)","v":""},{"$f":"IF(BPBPS!B92=\"\",0,BPBPS!D92)","v":0},null,{"$f":"IF(BPBPS!F92=\"\",\"\",BPBPS!G92)","v":""},{"$f":"IF(BPBPS!H92=\"\",0,BPBPS!H92)","v":0},null,{"$f":"IF(BPBPS!J92=\"\",\"\",BPBPS!K92)","v":""},{"$f":"IF(BPBPS!J92=\"\",0,BPBPS!L92)","v":0},null,{"$f":"IF(SSGP!B92=\"\",\"\",SSGP!C92)","v":""},{"$f":"IF(SSGP!B92=\"\",0,SSGP!D92)","v":0},null,{"$f":"IF(SSGP!F92=\"\",\"\",SSGP!G92)","v":""},{"$f":"IF(SSGP!F92=\"\",0,SSGP!H92)","v":0}]
[91,{"$f":"IF(JTP!B93=\"\",\"\",JTP!C93)","v":""},{"$f":"IF(JTP!B93=\"\",0,JTP!D93)","v":0},{"$f":"IF(JTP!B93=\"\",0,JTP!E93)","v":0},null,{"$f":"IF(JTP!G93=\"\",\"\",JTP!H93)","v":""},{"$f":"IF(JTP!G93=\"\",0,JTP!I93)","v":0},{"$f":"IF(JTP!G93=\"\",0,JTP!J93)","v":0},null,{"$f":"IF(JSP!B93=\"\",\"\",JSP!C93)","v":""},{"$f":"IF(JSP!B93=\"\",0,JSP!D93)","v":0},{"$f":"IF(JSP!B93=\"\",0,JSP!E93)","v":0},null,{"$f":"IF(JSP!G93=\"\",\"\",JSP!H93)","v":""},{"$f":"IF(JSP!G93=\"\",0,JSP!I93)","v":0},{"$f":"IF(JSP!G93=\"\",0,JSP!J93)","v":0},null,{"$f":"IF(CFP!B93=\"\",\"\",CFP!C93)","v":""},{"$f":"IF(CFP!B93=\"\",0,CFP!D93)","v":0},{"$f":"IF(CFP!B93=\"\",0,CFP!E93)","v":0},null,{"$f":"IF(CFP!G93=\"\",\"\",CFP!H93)","v":""},{"$f":"IF(CFP!G93=\"\",0,CFP!I93)","v":0},null,{"$f":"IF(DWP!B93=\"\",\"\",DWP!C93)","v":""},{"$f":"IF(DWP!D93=\"\",0,DWP!D93)","v":0},{"$f":"IF(DWP!D93=\"\",0,DWP!E93)","v":0},null,{"$f":"IF(DWP!G93=\"\",\"\",DWP!H93)","v":""},{"$f":"IF(DWP!I93=\"\",0,DWP!I93)","v":0},null,{"$f":"IF(ALP!B93=\"\",\"\",ALP!C93)","v":""},{"$f":"IF(ALP!D93=\"\",0,ALP!D93)","v":0},{"$f":"IF(ALP!E93=\"\",0,ALP!E93)","v":0},null,{"$f":"IF(PS!B95=\"\",\"\",PS!C95)","v":""},{"$f":"IF(PS!B95=\"\",\"\",PS!D95)","v":""},null,{"$f":"IF(PS!F95=\"\",\"\",PS!G95)","v":""},{"$f":"IF(PS!F95=\"\",\"\",PS!H95)","v":""},null,{"$f":"IF(LP!A93=\"\",\"\",LP!B93)","v":""},{"$f":"IF(LP!A93=\"\",0,LP!C93)","v":0},null,{"$f":"IF(LP!E93=\"\",\"\",LP!F93)","v":""},{"$f":"IF(LP!E93=\"\",0,LP!G93)","v":0},null,{"$f":"IF(LP!I93=\"\",\"\",LP!J93)","v":""},{"$f":"IF(LP!I93=\"\",0,LP!K93)","v":0},null,{"$f":"IF(BPBPS!B93=\"\",\"\",BPBPS!C93)","v":""},{"$f":"IF(BPBPS!B93=\"\",0,BPBPS!D93)","v":0},null,{"$f":"IF(BPBPS!F93=\"\",\"\",BPBPS!G93)","v":""},{"$f":"IF(BPBPS!H93=\"\",0,BPBPS!H93)","v":0},null,{"$f":"IF(BPBPS!J93=\"\",\"\",BPBPS!K93)","v":""},{"$f":"IF(BPBPS!J93=\"\",0,BPBPS!L93)","v":0},null,{"$f":"IF(SSGP!B93=\"\",\"\",SSGP!C93)","v":""},{"$f":"IF(SSGP!B93=\"\",0,SSGP!D93)","v":0},null,{"$f":"IF(SSGP!F93=\"\",\"\",SSGP!G93)","v":""},{"$f":"IF(SSGP!F93=\"\",0,SSGP!H93)","v":0}]
[92,{"$f":"IF(JTP!B94=\"\",\"\",JTP!C94)","v":""},{"$f":"IF(JTP!B94=\"\",0,JTP!D94)","v":0},{"$f":"IF(JTP!B94=\"\",0,JTP!E94)","v":0},null,{"$f":"IF(JTP!G94=\"\",\"\",JTP!H94)","v":""},{"$f":"IF(JTP!G94=\"\",0,JTP!I94)","v":0},{"$f":"IF(JTP!G94=\"\",0,JTP!J94)","v":0},null,{"$f":"IF(JSP!B94=\"\",\"\",JSP!C94)","v":""},{"$f":"IF(JSP!B94=\"\",0,JSP!D94)","v":0},{"$f":"IF(JSP!B94=\"\",0,JSP!E94)","v":0},null,{"$f":"IF(JSP!G94=\"\",\"\",JSP!H94)","v":""},{"$f":"IF(JSP!G94=\"\",0,JSP!I94)","v":0},{"$f":"IF(JSP!G94=\"\",0,JSP!J94)","v":0},null,{"$f":"IF(CFP!B94=\"\",\"\",CFP!C94)","v":""},{"$f":"IF(CFP!B94=\"\",0,CFP!D94)","v":0},{"$f":"IF(CFP!B94=\"\",0,CFP!E94)","v":0},null,{"$f":"IF(CFP!G94=\"\",\"\",CFP!H94)","v":""},{"$f":"IF(CFP!G94=\"\",0,CFP!I94)","v":0},null,{"$f":"IF(DWP!B94=\"\",\"\",DWP!C94)","v":""},{"$f":"IF(DWP!D94=\"\",0,DWP!D94)","v":0},{"$f":"IF(DWP!D94=\"\",0,DWP!E94)","v":0},null,{"$f":"IF(DWP!G94=\"\",\"\",DWP!H94)","v":""},{"$f":"IF(DWP!I94=\"\",0,DWP!I94)","v":0},null,{"$f":"IF(ALP!B94=\"\",\"\",ALP!C94)","v":""},{"$f":"IF(ALP!D94=\"\",0,ALP!D94)","v":0},{"$f":"IF(ALP!E94=\"\",0,ALP!E94)","v":0},null,{"$f":"IF(PS!B96=\"\",\"\",PS!C96)","v":""},{"$f":"IF(PS!B96=\"\",\"\",PS!D96)","v":""},null,{"$f":"IF(PS!F96=\"\",\"\",PS!G96)","v":""},{"$f":"IF(PS!F96=\"\",\"\",PS!H96)","v":""},null,{"$f":"IF(LP!A94=\"\",\"\",LP!B94)","v":""},{"$f":"IF(LP!A94=\"\",0,LP!C94)","v":0},null,{"$f":"IF(LP!E94=\"\",\"\",LP!F94)","v":""},{"$f":"IF(LP!E94=\"\",0,LP!G94)","v":0},null,{"$f":"IF(LP!I94=\"\",\"\",LP!J94)","v":""},{"$f":"IF(LP!I94=\"\",0,LP!K94)","v":0},null,{"$f":"IF(BPBPS!B94=\"\",\"\",BPBPS!C94)","v":""},{"$f":"IF(BPBPS!B94=\"\",0,BPBPS!D94)","v":0},null,{"$f":"IF(BPBPS!F94=\"\",\"\",BPBPS!G94)","v":""},{"$f":"IF(BPBPS!H94=\"\",0,BPBPS!H94)","v":0},null,{"$f":"IF(BPBPS!J94=\"\",\"\",BPBPS!K94)","v":""},{"$f":"IF(BPBPS!J94=\"\",0,BPBPS!L94)","v":0},null,{"$f":"IF(SSGP!B94=\"\",\"\",SSGP!C94)","v":""},{"$f":"IF(SSGP!B94=\"\",0,SSGP!D94)","v":0},null,{"$f":"IF(SSGP!F94=\"\",\"\",SSGP!G94)","v":""},{"$f":"IF(SSGP!F94=\"\",0,SSGP!H94)","v":0}]
[93,{"$f":"IF(JTP!B95=\"\",\"\",JTP!C95)","v":""},{"$f":"IF(JTP!B95=\"\",0,JTP!D95)","v":0},{"$f":"IF(JTP!B95=\"\",0,JTP!E95)","v":0},null,{"$f":"IF(JTP!G95=\"\",\"\",JTP!H95)","v":""},{"$f":"IF(JTP!G95=\"\",0,JTP!I95)","v":0},{"$f":"IF(JTP!G95=\"\",0,JTP!J95)","v":0},null,{"$f":"IF(JSP!B95=\"\",\"\",JSP!C95)","v":""},{"$f":"IF(JSP!B95=\"\",0,JSP!D95)","v":0},{"$f":"IF(JSP!B95=\"\",0,JSP!E95)","v":0},null,{"$f":"IF(JSP!G95=\"\",\"\",JSP!H95)","v":""},{"$f":"IF(JSP!G95=\"\",0,JSP!I95)","v":0},{"$f":"IF(JSP!G95=\"\",0,JSP!J95)","v":0},null,{"$f":"IF(CFP!B95=\"\",\"\",CFP!C95)","v":""},{"$f":"IF(CFP!B95=\"\",0,CFP!D95)","v":0},{"$f":"IF(CFP!B95=\"\",0,CFP!E95)","v":0},null,{"$f":"IF(CFP!G95=\"\",\"\",CFP!H95)","v":""},{"$f":"IF(CFP!G95=\"\",0,CFP!I95)","v":0},null,{"$f":"IF(DWP!B95=\"\",\"\",DWP!C95)","v":""},{"$f":"IF(DWP!D95=\"\",0,DWP!D95)","v":0},{"$f":"IF(DWP!D95=\"\",0,DWP!E95)","v":0},null,{"$f":"IF(DWP!G95=\"\",\"\",DWP!H95)","v":""},{"$f":"IF(DWP!I95=\"\",0,DWP!I95)","v":0},null,{"$f":"IF(ALP!B95=\"\",\"\",ALP!C95)","v":""},{"$f":"IF(ALP!D95=\"\",0,ALP!D95)","v":0},{"$f":"IF(ALP!E95=\"\",0,ALP!E95)","v":0},null,{"$f":"IF(PS!B97=\"\",\"\",PS!C97)","v":""},{"$f":"IF(PS!B97=\"\",\"\",PS!D97)","v":""},null,{"$f":"IF(PS!F97=\"\",\"\",PS!G97)","v":""},{"$f":"IF(PS!F97=\"\",\"\",PS!H97)","v":""},null,{"$f":"IF(LP!A95=\"\",\"\",LP!B95)","v":""},{"$f":"IF(LP!A95=\"\",0,LP!C95)","v":0},null,{"$f":"IF(LP!E95=\"\",\"\",LP!F95)","v":""},{"$f":"IF(LP!E95=\"\",0,LP!G95)","v":0},null,{"$f":"IF(LP!I95=\"\",\"\",LP!J95)","v":""},{"$f":"IF(LP!I95=\"\",0,LP!K95)","v":0},null,{"$f":"IF(BPBPS!B95=\"\",\"\",BPBPS!C95)","v":""},{"$f":"IF(BPBPS!B95=\"\",0,BPBPS!D95)","v":0},null,{"$f":"IF(BPBPS!F95=\"\",\"\",BPBPS!G95)","v":""},{"$f":"IF(BPBPS!H95=\"\",0,BPBPS!H95)","v":0},null,{"$f":"IF(BPBPS!J95=\"\",\"\",BPBPS!K95)","v":""},{"$f":"IF(BPBPS!J95=\"\",0,BPBPS!L95)","v":0},null,{"$f":"IF(SSGP!B95=\"\",\"\",SSGP!C95)","v":""},{"$f":"IF(SSGP!B95=\"\",0,SSGP!D95)","v":0},null,{"$f":"IF(SSGP!F95=\"\",\"\",SSGP!G95)","v":""},{"$f":"IF(SSGP!F95=\"\",0,SSGP!H95)","v":0}]
[94,{"$f":"IF(JTP!B96=\"\",\"\",JTP!C96)","v":""},{"$f":"IF(JTP!B96=\"\",0,JTP!D96)","v":0},{"$f":"IF(JTP!B96=\"\",0,JTP!E96)","v":0},null,{"$f":"IF(JTP!G96=\"\",\"\",JTP!H96)","v":""},{"$f":"IF(JTP!G96=\"\",0,JTP!I96)","v":0},{"$f":"IF(JTP!G96=\"\",0,JTP!J96)","v":0},null,{"$f":"IF(JSP!B96=\"\",\"\",JSP!C96)","v":""},{"$f":"IF(JSP!B96=\"\",0,JSP!D96)","v":0},{"$f":"IF(JSP!B96=\"\",0,JSP!E96)","v":0},null,{"$f":"IF(JSP!G96=\"\",\"\",JSP!H96)","v":""},{"$f":"IF(JSP!G96=\"\",0,JSP!I96)","v":0},{"$f":"IF(JSP!G96=\"\",0,JSP!J96)","v":0},null,{"$f":"IF(CFP!B96=\"\",\"\",CFP!C96)","v":""},{"$f":"IF(CFP!B96=\"\",0,CFP!D96)","v":0},{"$f":"IF(CFP!B96=\"\",0,CFP!E96)","v":0},null,{"$f":"IF(CFP!G96=\"\",\"\",CFP!H96)","v":""},{"$f":"IF(CFP!G96=\"\",0,CFP!I96)","v":0},null,{"$f":"IF(DWP!B96=\"\",\"\",DWP!C96)","v":""},{"$f":"IF(DWP!D96=\"\",0,DWP!D96)","v":0},{"$f":"IF(DWP!D96=\"\",0,DWP!E96)","v":0},null,{"$f":"IF(DWP!G96=\"\",\"\",DWP!H96)","v":""},{"$f":"IF(DWP!I96=\"\",0,DWP!I96)","v":0},null,{"$f":"IF(ALP!B96=\"\",\"\",ALP!C96)","v":""},{"$f":"IF(ALP!D96=\"\",0,ALP!D96)","v":0},{"$f":"IF(ALP!E96=\"\",0,ALP!E96)","v":0},null,{"$f":"IF(PS!B98=\"\",\"\",PS!C98)","v":""},{"$f":"IF(PS!B98=\"\",\"\",PS!D98)","v":""},null,{"$f":"IF(PS!F98=\"\",\"\",PS!G98)","v":""},{"$f":"IF(PS!F98=\"\",\"\",PS!H98)","v":""},null,{"$f":"IF(LP!A96=\"\",\"\",LP!B96)","v":""},{"$f":"IF(LP!A96=\"\",0,LP!C96)","v":0},null,{"$f":"IF(LP!E96=\"\",\"\",LP!F96)","v":""},{"$f":"IF(LP!E96=\"\",0,LP!G96)","v":0},null,{"$f":"IF(LP!I96=\"\",\"\",LP!J96)","v":""},{"$f":"IF(LP!I96=\"\",0,LP!K96)","v":0},null,{"$f":"IF(BPBPS!B96=\"\",\"\",BPBPS!C96)","v":""},{"$f":"IF(BPBPS!B96=\"\",0,BPBPS!D96)","v":0},null,{"$f":"IF(BPBPS!F96=\"\",\"\",BPBPS!G96)","v":""},{"$f":"IF(BPBPS!H96=\"\",0,BPBPS!H96)","v":0},null,{"$f":"IF(BPBPS!J96=\"\",\"\",BPBPS!K96)","v":""},{"$f":"IF(BPBPS!J96=\"\",0,BPBPS!L96)","v":0},null,{"$f":"IF(SSGP!B96=\"\",\"\",SSGP!C96)","v":""},{"$f":"IF(SSGP!B96=\"\",0,SSGP!D96)","v":0},null,{"$f":"IF(SSGP!F96=\"\",\"\",SSGP!G96)","v":""},{"$f":"IF(SSGP!F96=\"\",0,SSGP!H96)","v":0}]
[95,{"$f":"IF(JTP!B97=\"\",\"\",JTP!C97)","v":""},{"$f":"IF(JTP!B97=\"\",0,JTP!D97)","v":0},{"$f":"IF(JTP!B97=\"\",0,JTP!E97)","v":0},null,{"$f":"IF(JTP!G97=\"\",\"\",JTP!H97)","v":""},{"$f":"IF(JTP!G97=\"\",0,JTP!I97)","v":0},{"$f":"IF(JTP!G97=\"\",0,JTP!J97)","v":0},null,{"$f":"IF(JSP!B97=\"\",\"\",JSP!C97)","v":""},{"$f":"IF(JSP!B97=\"\",0,JSP!D97)","v":0},{"$f":"IF(JSP!B97=\"\",0,JSP!E97)","v":0},null,{"$f":"IF(JSP!G97=\"\",\"\",JSP!H97)","v":""},{"$f":"IF(JSP!G97=\"\",0,JSP!I97)","v":0},{"$f":"IF(JSP!G97=\"\",0,JSP!J97)","v":0},null,{"$f":"IF(CFP!B97=\"\",\"\",CFP!C97)","v":""},{"$f":"IF(CFP!B97=\"\",0,CFP!D97)","v":0},{"$f":"IF(CFP!B97=\"\",0,CFP!E97)","v":0},null,{"$f":"IF(CFP!G97=\"\",\"\",CFP!H97)","v":""},{"$f":"IF(CFP!G97=\"\",0,CFP!I97)","v":0},null,{"$f":"IF(DWP!B97=\"\",\"\",DWP!C97)","v":""},{"$f":"IF(DWP!D97=\"\",0,DWP!D97)","v":0},{"$f":"IF(DWP!D97=\"\",0,DWP!E97)","v":0},null,{"$f":"IF(DWP!G97=\"\",\"\",DWP!H97)","v":""},{"$f":"IF(DWP!I97=\"\",0,DWP!I97)","v":0},null,{"$f":"IF(ALP!B97=\"\",\"\",ALP!C97)","v":""},{"$f":"IF(ALP!D97=\"\",0,ALP!D97)","v":0},{"$f":"IF(ALP!E97=\"\",0,ALP!E97)","v":0},null,{"$f":"IF(PS!B99=\"\",\"\",PS!C99)","v":""},{"$f":"IF(PS!B99=\"\",\"\",PS!D99)","v":""},null,{"$f":"IF(PS!F99=\"\",\"\",PS!G99)","v":""},{"$f":"IF(PS!F99=\"\",\"\",PS!H99)","v":""},null,{"$f":"IF(LP!A97=\"\",\"\",LP!B97)","v":""},{"$f":"IF(LP!A97=\"\",0,LP!C97)","v":0},null,{"$f":"IF(LP!E97=\"\",\"\",LP!F97)","v":""},{"$f":"IF(LP!E97=\"\",0,LP!G97)","v":0},null,{"$f":"IF(LP!I97=\"\",\"\",LP!J97)","v":""},{"$f":"IF(LP!I97=\"\",0,LP!K97)","v":0},null,{"$f":"IF(BPBPS!B97=\"\",\"\",BPBPS!C97)","v":""},{"$f":"IF(BPBPS!B97=\"\",0,BPBPS!D97)","v":0},null,{"$f":"IF(BPBPS!F97=\"\",\"\",BPBPS!G97)","v":""},{"$f":"IF(BPBPS!H97=\"\",0,BPBPS!H97)","v":0},null,{"$f":"IF(BPBPS!J97=\"\",\"\",BPBPS!K97)","v":""},{"$f":"IF(BPBPS!J97=\"\",0,BPBPS!L97)","v":0},null,{"$f":"IF(SSGP!B97=\"\",\"\",SSGP!C97)","v":""},{"$f":"IF(SSGP!B97=\"\",0,SSGP!D97)","v":0},null,{"$f":"IF(SSGP!F97=\"\",\"\",SSGP!G97)","v":""},{"$f":"IF(SSGP!F97=\"\",0,SSGP!H97)","v":0}]
[96,{"$f":"IF(JTP!B98=\"\",\"\",JTP!C98)","v":""},{"$f":"IF(JTP!B98=\"\",0,JTP!D98)","v":0},{"$f":"IF(JTP!B98=\"\",0,JTP!E98)","v":0},null,{"$f":"IF(JTP!G98=\"\",\"\",JTP!H98)","v":""},{"$f":"IF(JTP!G98=\"\",0,JTP!I98)","v":0},{"$f":"IF(JTP!G98=\"\",0,JTP!J98)","v":0},null,{"$f":"IF(JSP!B98=\"\",\"\",JSP!C98)","v":""},{"$f":"IF(JSP!B98=\"\",0,JSP!D98)","v":0},{"$f":"IF(JSP!B98=\"\",0,JSP!E98)","v":0},null,{"$f":"IF(JSP!G98=\"\",\"\",JSP!H98)","v":""},{"$f":"IF(JSP!G98=\"\",0,JSP!I98)","v":0},{"$f":"IF(JSP!G98=\"\",0,JSP!J98)","v":0},null,{"$f":"IF(CFP!B98=\"\",\"\",CFP!C98)","v":""},{"$f":"IF(CFP!B98=\"\",0,CFP!D98)","v":0},{"$f":"IF(CFP!B98=\"\",0,CFP!E98)","v":0},null,{"$f":"IF(CFP!G98=\"\",\"\",CFP!H98)","v":""},{"$f":"IF(CFP!G98=\"\",0,CFP!I98)","v":0},null,{"$f":"IF(DWP!B98=\"\",\"\",DWP!C98)","v":""},{"$f":"IF(DWP!D98=\"\",0,DWP!D98)","v":0},{"$f":"IF(DWP!D98=\"\",0,DWP!E98)","v":0},null,{"$f":"IF(DWP!G98=\"\",\"\",DWP!H98)","v":""},{"$f":"IF(DWP!I98=\"\",0,DWP!I98)","v":0},null,{"$f":"IF(ALP!B98=\"\",\"\",ALP!C98)","v":""},{"$f":"IF(ALP!D98=\"\",0,ALP!D98)","v":0},{"$f":"IF(ALP!E98=\"\",0,ALP!E98)","v":0},null,{"$f":"IF(PS!B100=\"\",\"\",PS!C100)","v":""},{"$f":"IF(PS!B100=\"\",\"\",PS!D100)","v":""},null,{"$f":"IF(PS!F100=\"\",\"\",PS!G100)","v":""},{"$f":"IF(PS!F100=\"\",\"\",PS!H100)","v":""},null,{"$f":"IF(LP!A98=\"\",\"\",LP!B98)","v":""},{"$f":"IF(LP!A98=\"\",0,LP!C98)","v":0},null,{"$f":"IF(LP!E98=\"\",\"\",LP!F98)","v":""},{"$f":"IF(LP!E98=\"\",0,LP!G98)","v":0},null,{"$f":"IF(LP!I98=\"\",\"\",LP!J98)","v":""},{"$f":"IF(LP!I98=\"\",0,LP!K98)","v":0},null,{"$f":"IF(BPBPS!B98=\"\",\"\",BPBPS!C98)","v":""},{"$f":"IF(BPBPS!B98=\"\",0,BPBPS!D98)","v":0},null,{"$f":"IF(BPBPS!F98=\"\",\"\",BPBPS!G98)","v":""},{"$f":"IF(BPBPS!H98=\"\",0,BPBPS!H98)","v":0},null,{"$f":"IF(BPBPS!J98=\"\",\"\",BPBPS!K98)","v":""},{"$f":"IF(BPBPS!J98=\"\",0,BPBPS!L98)","v":0},null,{"$f":"IF(SSGP!B98=\"\",\"\",SSGP!C98)","v":""},{"$f":"IF(SSGP!B98=\"\",0,SSGP!D98)","v":0},null,{"$f":"IF(SSGP!F98=\"\",\"\",SSGP!G98)","v":""},{"$f":"IF(SSGP!F98=\"\",0,SSGP!H98)","v":0}]
[97,{"$f":"IF(JTP!B99=\"\",\"\",JTP!C99)","v":""},{"$f":"IF(JTP!B99=\"\",0,JTP!D99)","v":0},{"$f":"IF(JTP!B99=\"\",0,JTP!E99)","v":0},null,{"$f":"IF(JTP!G99=\"\",\"\",JTP!H99)","v":""},{"$f":"IF(JTP!G99=\"\",0,JTP!I99)","v":0},{"$f":"IF(JTP!G99=\"\",0,JTP!J99)","v":0},null,{"$f":"IF(JSP!B99=\"\",\"\",JSP!C99)","v":""},{"$f":"IF(JSP!B99=\"\",0,JSP!D99)","v":0},{"$f":"IF(JSP!B99=\"\",0,JSP!E99)","v":0},null,{"$f":"IF(JSP!G99=\"\",\"\",JSP!H99)","v":""},{"$f":"IF(JSP!G99=\"\",0,JSP!I99)","v":0},{"$f":"IF(JSP!G99=\"\",0,JSP!J99)","v":0},null,{"$f":"IF(CFP!B99=\"\",\"\",CFP!C99)","v":""},{"$f":"IF(CFP!B99=\"\",0,CFP!D99)","v":0},{"$f":"IF(CFP!B99=\"\",0,CFP!E99)","v":0},null,{"$f":"IF(CFP!G99=\"\",\"\",CFP!H99)","v":""},{"$f":"IF(CFP!G99=\"\",0,CFP!I99)","v":0},null,{"$f":"IF(DWP!B99=\"\",\"\",DWP!C99)","v":""},{"$f":"IF(DWP!D99=\"\",0,DWP!D99)","v":0},{"$f":"IF(DWP!D99=\"\",0,DWP!E99)","v":0},null,{"$f":"IF(DWP!G99=\"\",\"\",DWP!H99)","v":""},{"$f":"IF(DWP!I99=\"\",0,DWP!I99)","v":0},null,{"$f":"IF(ALP!B99=\"\",\"\",ALP!C99)","v":""},{"$f":"IF(ALP!D99=\"\",0,ALP!D99)","v":0},{"$f":"IF(ALP!E99=\"\",0,ALP!E99)","v":0},null,{"$f":"IF(PS!B101=\"\",\"\",PS!C101)","v":""},{"$f":"IF(PS!B101=\"\",\"\",PS!D101)","v":""},null,{"$f":"IF(PS!F101=\"\",\"\",PS!G101)","v":""},{"$f":"IF(PS!F101=\"\",\"\",PS!H101)","v":""},null,{"$f":"IF(LP!A99=\"\",\"\",LP!B99)","v":""},{"$f":"IF(LP!A99=\"\",0,LP!C99)","v":0},null,{"$f":"IF(LP!E99=\"\",\"\",LP!F99)","v":""},{"$f":"IF(LP!E99=\"\",0,LP!G99)","v":0},null,{"$f":"IF(LP!I99=\"\",\"\",LP!J99)","v":""},{"$f":"IF(LP!I99=\"\",0,LP!K99)","v":0},null,{"$f":"IF(BPBPS!B99=\"\",\"\",BPBPS!C99)","v":""},{"$f":"IF(BPBPS!B99=\"\",0,BPBPS!D99)","v":0},null,{"$f":"IF(BPBPS!F99=\"\",\"\",BPBPS!G99)","v":""},{"$f":"IF(BPBPS!H99=\"\",0,BPBPS!H99)","v":0},null,{"$f":"IF(BPBPS!J99=\"\",\"\",BPBPS!K99)","v":""},{"$f":"IF(BPBPS!J99=\"\",0,BPBPS!L99)","v":0},null,{"$f":"IF(SSGP!B99=\"\",\"\",SSGP!C99)","v":""},{"$f":"IF(SSGP!B99=\"\",0,SSGP!D99)","v":0},null,{"$f":"IF(SSGP!F99=\"\",\"\",SSGP!G99)","v":""},{"$f":"IF(SSGP!F99=\"\",0,SSGP!H99)","v":0}]
[98,{"$f":"IF(JTP!B100=\"\",\"\",JTP!C100)","v":""},{"$f":"IF(JTP!B100=\"\",0,JTP!D100)","v":0},{"$f":"IF(JTP!B100=\"\",0,JTP!E100)","v":0},null,{"$f":"IF(JTP!G100=\"\",\"\",JTP!H100)","v":""},{"$f":"IF(JTP!G100=\"\",0,JTP!I100)","v":0},{"$f":"IF(JTP!G100=\"\",0,JTP!J100)","v":0},null,{"$f":"IF(JSP!B100=\"\",\"\",JSP!C100)","v":""},{"$f":"IF(JSP!B100=\"\",0,JSP!D100)","v":0},{"$f":"IF(JSP!B100=\"\",0,JSP!E100)","v":0},null,{"$f":"IF(JSP!G100=\"\",\"\",JSP!H100)","v":""},{"$f":"IF(JSP!G100=\"\",0,JSP!I100)","v":0},{"$f":"IF(JSP!G100=\"\",0,JSP!J100)","v":0},null,{"$f":"IF(CFP!B100=\"\",\"\",CFP!C100)","v":""},{"$f":"IF(CFP!B100=\"\",0,CFP!D100)","v":0},{"$f":"IF(CFP!B100=\"\",0,CFP!E100)","v":0},null,{"$f":"IF(CFP!G100=\"\",\"\",CFP!H100)","v":""},{"$f":"IF(CFP!G100=\"\",0,CFP!I100)","v":0},null,{"$f":"IF(DWP!B100=\"\",\"\",DWP!C100)","v":""},{"$f":"IF(DWP!D100=\"\",0,DWP!D100)","v":0},{"$f":"IF(DWP!D100=\"\",0,DWP!E100)","v":0},null,{"$f":"IF(DWP!G100=\"\",\"\",DWP!H100)","v":""},{"$f":"IF(DWP!I100=\"\",0,DWP!I100)","v":0},null,{"$f":"IF(ALP!B100=\"\",\"\",ALP!C100)","v":""},{"$f":"IF(ALP!D100=\"\",0,ALP!D100)","v":0},{"$f":"IF(ALP!E100=\"\",0,ALP!E100)","v":0},null,{"$f":"IF(PS!B102=\"\",\"\",PS!C102)","v":""},{"$f":"IF(PS!B102=\"\",\"\",PS!D102)","v":""},null,{"$f":"IF(PS!F102=\"\",\"\",PS!G102)","v":""},{"$f":"IF(PS!F102=\"\",\"\",PS!H102)","v":""},null,{"$f":"IF(LP!A100=\"\",\"\",LP!B100)","v":""},{"$f":"IF(LP!A100=\"\",0,LP!C100)","v":0},null,{"$f":"IF(LP!E100=\"\",\"\",LP!F100)","v":""},{"$f":"IF(LP!E100=\"\",0,LP!G100)","v":0},null,{"$f":"IF(LP!I100=\"\",\"\",LP!J100)","v":""},{"$f":"IF(LP!I100=\"\",0,LP!K100)","v":0},null,{"$f":"IF(BPBPS!B100=\"\",\"\",BPBPS!C100)","v":""},{"$f":"IF(BPBPS!B100=\"\",0,BPBPS!D100)","v":0},null,{"$f":"IF(BPBPS!F100=\"\",\"\",BPBPS!G100)","v":""},{"$f":"IF(BPBPS!H100=\"\",0,BPBPS!H100)","v":0},null,{"$f":"IF(BPBPS!J100=\"\",\"\",BPBPS!K100)","v":""},{"$f":"IF(BPBPS!J100=\"\",0,BPBPS!L100)","v":0},null,{"$f":"IF(SSGP!B100=\"\",\"\",SSGP!C100)","v":""},{"$f":"IF(SSGP!B100=\"\",0,SSGP!D100)","v":0},null,{"$f":"IF(SSGP!F100=\"\",\"\",SSGP!G100)","v":""},{"$f":"IF(SSGP!F100=\"\",0,SSGP!H100)","v":0}]
[99,{"$f":"IF(JTP!B101=\"\",\"\",JTP!C101)","v":""},{"$f":"IF(JTP!B101=\"\",0,JTP!D101)","v":0},{"$f":"IF(JTP!B101=\"\",0,JTP!E101)","v":0},null,{"$f":"IF(JTP!G101=\"\",\"\",JTP!H101)","v":""},{"$f":"IF(JTP!G101=\"\",0,JTP!I101)","v":0},{"$f":"IF(JTP!G101=\"\",0,JTP!J101)","v":0},null,{"$f":"IF(JSP!B101=\"\",\"\",JSP!C101)","v":""},{"$f":"IF(JSP!B101=\"\",0,JSP!D101)","v":0},{"$f":"IF(JSP!B101=\"\",0,JSP!E101)","v":0},null,{"$f":"IF(JSP!G101=\"\",\"\",JSP!H101)","v":""},{"$f":"IF(JSP!G101=\"\",0,JSP!I101)","v":0},{"$f":"IF(JSP!G101=\"\",0,JSP!J101)","v":0},null,{"$f":"IF(CFP!B101=\"\",\"\",CFP!C101)","v":""},{"$f":"IF(CFP!B101=\"\",0,CFP!D101)","v":0},{"$f":"IF(CFP!B101=\"\",0,CFP!E101)","v":0},null,{"$f":"IF(CFP!G101=\"\",\"\",CFP!H101)","v":""},{"$f":"IF(CFP!G101=\"\",0,CFP!I101)","v":0},null,{"$f":"IF(DWP!B101=\"\",\"\",DWP!C101)","v":""},{"$f":"IF(DWP!D101=\"\",0,DWP!D101)","v":0},{"$f":"IF(DWP!D101=\"\",0,DWP!E101)","v":0},null,{"$f":"IF(DWP!G101=\"\",\"\",DWP!H101)","v":""},{"$f":"IF(DWP!I101=\"\",0,DWP!I101)","v":0},null,{"$f":"IF(ALP!B101=\"\",\"\",ALP!C101)","v":""},{"$f":"IF(ALP!D101=\"\",0,ALP!D101)","v":0},{"$f":"IF(ALP!E101=\"\",0,ALP!E101)","v":0},null,{"$f":"IF(PS!B103=\"\",\"\",PS!C103)","v":""},{"$f":"IF(PS!B103=\"\",\"\",PS!D103)","v":""},null,{"$f":"IF(PS!F103=\"\",\"\",PS!G103)","v":""},{"$f":"IF(PS!F103=\"\",\"\",PS!H103)","v":""},null,{"$f":"IF(LP!A101=\"\",\"\",LP!B101)","v":""},{"$f":"IF(LP!A101=\"\",0,LP!C101)","v":0},null,{"$f":"IF(LP!E101=\"\",\"\",LP!F101)","v":""},{"$f":"IF(LP!E101=\"\",0,LP!G101)","v":0},null,{"$f":"IF(LP!I101=\"\",\"\",LP!J101)","v":""},{"$f":"IF(LP!I101=\"\",0,LP!K101)","v":0},null,{"$f":"IF(BPBPS!B101=\"\",\"\",BPBPS!C101)","v":""},{"$f":"IF(BPBPS!B101=\"\",0,BPBPS!D101)","v":0},null,{"$f":"IF(BPBPS!F101=\"\",\"\",BPBPS!G101)","v":""},{"$f":"IF(BPBPS!H101=\"\",0,BPBPS!H101)","v":0},null,{"$f":"IF(BPBPS!J101=\"\",\"\",BPBPS!K101)","v":""},{"$f":"IF(BPBPS!J101=\"\",0,BPBPS!L101)","v":0},null,{"$f":"IF(SSGP!B101=\"\",\"\",SSGP!C101)","v":""},{"$f":"IF(SSGP!B101=\"\",0,SSGP!D101)","v":0},null,{"$f":"IF(SSGP!F101=\"\",\"\",SSGP!G101)","v":""},{"$f":"IF(SSGP!F101=\"\",0,SSGP!H101)","v":0}]
[100,{"$f":"IF(JTP!B102=\"\",\"\",JTP!C102)","v":""},{"$f":"IF(JTP!B102=\"\",0,JTP!D102)","v":0},{"$f":"IF(JTP!B102=\"\",0,JTP!E102)","v":0},null,{"$f":"IF(JTP!G102=\"\",\"\",JTP!H102)","v":""},{"$f":"IF(JTP!G102=\"\",0,JTP!I102)","v":0},{"$f":"IF(JTP!G102=\"\",0,JTP!J102)","v":0},null,{"$f":"IF(JSP!B102=\"\",\"\",JSP!C102)","v":""},{"$f":"IF(JSP!B102=\"\",0,JSP!D102)","v":0},{"$f":"IF(JSP!B102=\"\",0,JSP!E102)","v":0},null,{"$f":"IF(JSP!G102=\"\",\"\",JSP!H102)","v":""},{"$f":"IF(JSP!G102=\"\",0,JSP!I102)","v":0},{"$f":"IF(JSP!G102=\"\",0,JSP!J102)","v":0},null,{"$f":"IF(CFP!B102=\"\",\"\",CFP!C102)","v":""},{"$f":"IF(CFP!B102=\"\",0,CFP!D102)","v":0},{"$f":"IF(CFP!B102=\"\",0,CFP!E102)","v":0},null,{"$f":"IF(CFP!G102=\"\",\"\",CFP!H102)","v":""},{"$f":"IF(CFP!G102=\"\",0,CFP!I102)","v":0},null,{"$f":"IF(DWP!B102=\"\",\"\",DWP!C102)","v":""},{"$f":"IF(DWP!D102=\"\",0,DWP!D102)","v":0},{"$f":"IF(DWP!D102=\"\",0,DWP!E102)","v":0},null,{"$f":"IF(DWP!G102=\"\",\"\",DWP!H102)","v":""},{"$f":"IF(DWP!I102=\"\",0,DWP!I102)","v":0},null,{"$f":"IF(ALP!B102=\"\",\"\",ALP!C102)","v":""},{"$f":"IF(ALP!D102=\"\",0,ALP!D102)","v":0},{"$f":"IF(ALP!E102=\"\",0,ALP!E102)","v":0},null,{"$f":"IF(PS!B104=\"\",\"\",PS!C104)","v":""},{"$f":"IF(PS!B104=\"\",\"\",PS!D104)","v":""},null,{"$f":"IF(PS!F104=\"\",\"\",PS!G104)","v":""},{"$f":"IF(PS!F104=\"\",\"\",PS!H104)","v":""},null,{"$f":"IF(LP!A102=\"\",\"\",LP!B102)","v":""},{"$f":"IF(LP!A102=\"\",0,LP!C102)","v":0},null,{"$f":"IF(LP!E102=\"\",\"\",LP!F102)","v":""},{"$f":"IF(LP!E102=\"\",0,LP!G102)","v":0},null,{"$f":"IF(LP!I102=\"\",\"\",LP!J102)","v":""},{"$f":"IF(LP!I102=\"\",0,LP!K102)","v":0},null,{"$f":"IF(BPBPS!B102=\"\",\"\",BPBPS!C102)","v":""},{"$f":"IF(BPBPS!B102=\"\",0,BPBPS!D102)","v":0},null,{"$f":"IF(BPBPS!F102=\"\",\"\",BPBPS!G102)","v":""},{"$f":"IF(BPBPS!H102=\"\",0,BPBPS!H102)","v":0},null,{"$f":"IF(BPBPS!J102=\"\",\"\",BPBPS!K102)","v":""},{"$f":"IF(BPBPS!J102=\"\",0,BPBPS!L102)","v":0},null,{"$f":"IF(SSGP!B102=\"\",\"\",SSGP!C102)","v":""},{"$f":"IF(SSGP!B102=\"\",0,SSGP!D102)","v":0},null,{"$f":"IF(SSGP!F102=\"\",\"\",SSGP!G102)","v":""},{"$f":"IF(SSGP!F102=\"\",0,SSGP!H102)","v":0}]
[101,{"$f":"IF(JTP!B103=\"\",\"\",JTP!C103)","v":""},{"$f":"IF(JTP!B103=\"\",0,JTP!D103)","v":0},{"$f":"IF(JTP!B103=\"\",0,JTP!E103)","v":0},null,{"$f":"IF(JTP!G103=\"\",\"\",JTP!H103)","v":""},{"$f":"IF(JTP!G103=\"\",0,JTP!I103)","v":0},{"$f":"IF(JTP!G103=\"\",0,JTP!J103)","v":0},null,{"$f":"IF(JSP!B103=\"\",\"\",JSP!C103)","v":""},{"$f":"IF(JSP!B103=\"\",0,JSP!D103)","v":0},{"$f":"IF(JSP!B103=\"\",0,JSP!E103)","v":0},null,{"$f":"IF(JSP!G103=\"\",\"\",JSP!H103)","v":""},{"$f":"IF(JSP!G103=\"\",0,JSP!I103)","v":0},{"$f":"IF(JSP!G103=\"\",0,JSP!J103)","v":0},null,{"$f":"IF(CFP!B103=\"\",\"\",CFP!C103)","v":""},{"$f":"IF(CFP!B103=\"\",0,CFP!D103)","v":0},{"$f":"IF(CFP!B103=\"\",0,CFP!E103)","v":0},null,{"$f":"IF(CFP!G103=\"\",\"\",CFP!H103)","v":""},{"$f":"IF(CFP!G103=\"\",0,CFP!I103)","v":0},null,{"$f":"IF(DWP!B103=\"\",\"\",DWP!C103)","v":""},{"$f":"IF(DWP!D103=\"\",0,DWP!D103)","v":0},{"$f":"IF(DWP!D103=\"\",0,DWP!E103)","v":0},null,{"$f":"IF(DWP!G103=\"\",\"\",DWP!H103)","v":""},{"$f":"IF(DWP!I103=\"\",0,DWP!I103)","v":0},null,{"$f":"IF(ALP!B103=\"\",\"\",ALP!C103)","v":""},{"$f":"IF(ALP!D103=\"\",0,ALP!D103)","v":0},{"$f":"IF(ALP!E103=\"\",0,ALP!E103)","v":0},null,{"$f":"IF(PS!B105=\"\",\"\",PS!C105)","v":""},{"$f":"IF(PS!B105=\"\",\"\",PS!D105)","v":""},null,{"$f":"IF(PS!F105=\"\",\"\",PS!G105)","v":""},{"$f":"IF(PS!F105=\"\",\"\",PS!H105)","v":""},null,{"$f":"IF(LP!A103=\"\",\"\",LP!B103)","v":""},{"$f":"IF(LP!A103=\"\",0,LP!C103)","v":0},null,{"$f":"IF(LP!E103=\"\",\"\",LP!F103)","v":""},{"$f":"IF(LP!E103=\"\",0,LP!G103)","v":0},null,{"$f":"IF(LP!I103=\"\",\"\",LP!J103)","v":""},{"$f":"IF(LP!I103=\"\",0,LP!K103)","v":0},null,{"$f":"IF(BPBPS!B103=\"\",\"\",BPBPS!C103)","v":""},{"$f":"IF(BPBPS!B103=\"\",0,BPBPS!D103)","v":0},null,{"$f":"IF(BPBPS!F103=\"\",\"\",BPBPS!G103)","v":""},{"$f":"IF(BPBPS!H103=\"\",0,BPBPS!H103)","v":0},null,{"$f":"IF(BPBPS!J103=\"\",\"\",BPBPS!K103)","v":""},{"$f":"IF(BPBPS!J103=\"\",0,BPBPS!L103)","v":0},null,{"$f":"IF(SSGP!B103=\"\",\"\",SSGP!C103)","v":""},{"$f":"IF(SSGP!B103=\"\",0,SSGP!D103)","v":0},null,{"$f":"IF(SSGP!F103=\"\",\"\",SSGP!G103)","v":""},{"$f":"IF(SSGP!F103=\"\",0,SSGP!H103)","v":0}]
[102,{"$f":"IF(JTP!B104=\"\",\"\",JTP!C104)","v":""},{"$f":"IF(JTP!B104=\"\",0,JTP!D104)","v":0},{"$f":"IF(JTP!B104=\"\",0,JTP!E104)","v":0},null,{"$f":"IF(JTP!G104=\"\",\"\",JTP!H104)","v":""},{"$f":"IF(JTP!G104=\"\",0,JTP!I104)","v":0},{"$f":"IF(JTP!G104=\"\",0,JTP!J104)","v":0},null,{"$f":"IF(JSP!B104=\"\",\"\",JSP!C104)","v":""},{"$f":"IF(JSP!B104=\"\",0,JSP!D104)","v":0},{"$f":"IF(JSP!B104=\"\",0,JSP!E104)","v":0},null,{"$f":"IF(JSP!G104=\"\",\"\",JSP!H104)","v":""},{"$f":"IF(JSP!G104=\"\",0,JSP!I104)","v":0},{"$f":"IF(JSP!G104=\"\",0,JSP!J104)","v":0},null,{"$f":"IF(CFP!B104=\"\",\"\",CFP!C104)","v":""},{"$f":"IF(CFP!B104=\"\",0,CFP!D104)","v":0},{"$f":"IF(CFP!B104=\"\",0,CFP!E104)","v":0},null,{"$f":"IF(CFP!G104=\"\",\"\",CFP!H104)","v":""},{"$f":"IF(CFP!G104=\"\",0,CFP!I104)","v":0},null,{"$f":"IF(DWP!B104=\"\",\"\",DWP!C104)","v":""},{"$f":"IF(DWP!D104=\"\",0,DWP!D104)","v":0},{"$f":"IF(DWP!D104=\"\",0,DWP!E104)","v":0},null,{"$f":"IF(DWP!G104=\"\",\"\",DWP!H104)","v":""},{"$f":"IF(DWP!I104=\"\",0,DWP!I104)","v":0},null,{"$f":"IF(ALP!B104=\"\",\"\",ALP!C104)","v":""},{"$f":"IF(ALP!D104=\"\",0,ALP!D104)","v":0},{"$f":"IF(ALP!E104=\"\",0,ALP!E104)","v":0},null,{"$f":"IF(PS!B106=\"\",\"\",PS!C106)","v":""},{"$f":"IF(PS!B106=\"\",\"\",PS!D106)","v":""},null,{"$f":"IF(PS!F106=\"\",\"\",PS!G106)","v":""},{"$f":"IF(PS!F106=\"\",\"\",PS!H106)","v":""},null,{"$f":"IF(LP!A104=\"\",\"\",LP!B104)","v":""},{"$f":"IF(LP!A104=\"\",0,LP!C104)","v":0},null,{"$f":"IF(LP!E104=\"\",\"\",LP!F104)","v":""},{"$f":"IF(LP!E104=\"\",0,LP!G104)","v":0},null,{"$f":"IF(LP!I104=\"\",\"\",LP!J104)","v":""},{"$f":"IF(LP!I104=\"\",0,LP!K104)","v":0},null,{"$f":"IF(BPBPS!B104=\"\",\"\",BPBPS!C104)","v":""},{"$f":"IF(BPBPS!B104=\"\",0,BPBPS!D104)","v":0},null,{"$f":"IF(BPBPS!F104=\"\",\"\",BPBPS!G104)","v":""},{"$f":"IF(BPBPS!H104=\"\",0,BPBPS!H104)","v":0},null,{"$f":"IF(BPBPS!J104=\"\",\"\",BPBPS!K104)","v":""},{"$f":"IF(BPBPS!J104=\"\",0,BPBPS!L104)","v":0},null,{"$f":"IF(SSGP!B104=\"\",\"\",SSGP!C104)","v":""},{"$f":"IF(SSGP!B104=\"\",0,SSGP!D104)","v":0},null,{"$f":"IF(SSGP!F104=\"\",\"\",SSGP!G104)","v":""},{"$f":"IF(SSGP!F104=\"\",0,SSGP!H104)","v":0}]
[103,{"$f":"IF(JTP!B105=\"\",\"\",JTP!C105)","v":""},{"$f":"IF(JTP!B105=\"\",0,JTP!D105)","v":0},{"$f":"IF(JTP!B105=\"\",0,JTP!E105)","v":0},null,{"$f":"IF(JTP!G105=\"\",\"\",JTP!H105)","v":""},{"$f":"IF(JTP!G105=\"\",0,JTP!I105)","v":0},{"$f":"IF(JTP!G105=\"\",0,JTP!J105)","v":0},null,{"$f":"IF(JSP!B105=\"\",\"\",JSP!C105)","v":""},{"$f":"IF(JSP!B105=\"\",0,JSP!D105)","v":0},{"$f":"IF(JSP!B105=\"\",0,JSP!E105)","v":0},null,{"$f":"IF(JSP!G105=\"\",\"\",JSP!H105)","v":""},{"$f":"IF(JSP!G105=\"\",0,JSP!I105)","v":0},{"$f":"IF(JSP!G105=\"\",0,JSP!J105)","v":0},null,{"$f":"IF(CFP!B105=\"\",\"\",CFP!C105)","v":""},{"$f":"IF(CFP!B105=\"\",0,CFP!D105)","v":0},{"$f":"IF(CFP!B105=\"\",0,CFP!E105)","v":0},null,{"$f":"IF(CFP!G105=\"\",\"\",CFP!H105)","v":""},{"$f":"IF(CFP!G105=\"\",0,CFP!I105)","v":0},null,{"$f":"IF(DWP!B105=\"\",\"\",DWP!C105)","v":""},{"$f":"IF(DWP!D105=\"\",0,DWP!D105)","v":0},{"$f":"IF(DWP!D105=\"\",0,DWP!E105)","v":0},null,{"$f":"IF(DWP!G105=\"\",\"\",DWP!H105)","v":""},{"$f":"IF(DWP!I105=\"\",0,DWP!I105)","v":0},null,{"$f":"IF(ALP!B105=\"\",\"\",ALP!C105)","v":""},{"$f":"IF(ALP!D105=\"\",0,ALP!D105)","v":0},{"$f":"IF(ALP!E105=\"\",0,ALP!E105)","v":0},null,{"$f":"IF(PS!B107=\"\",\"\",PS!C107)","v":""},{"$f":"IF(PS!B107=\"\",\"\",PS!D107)","v":""},null,{"$f":"IF(PS!F107=\"\",\"\",PS!G107)","v":""},{"$f":"IF(PS!F107=\"\",\"\",PS!H107)","v":""},null,{"$f":"IF(LP!A105=\"\",\"\",LP!B105)","v":""},{"$f":"IF(LP!A105=\"\",0,LP!C105)","v":0},null,{"$f":"IF(LP!E105=\"\",\"\",LP!F105)","v":""},{"$f":"IF(LP!E105=\"\",0,LP!G105)","v":0},null,{"$f":"IF(LP!I105=\"\",\"\",LP!J105)","v":""},{"$f":"IF(LP!I105=\"\",0,LP!K105)","v":0},null,{"$f":"IF(BPBPS!B105=\"\",\"\",BPBPS!C105)","v":""},{"$f":"IF(BPBPS!B105=\"\",0,BPBPS!D105)","v":0},null,{"$f":"IF(BPBPS!F105=\"\",\"\",BPBPS!G105)","v":""},{"$f":"IF(BPBPS!H105=\"\",0,BPBPS!H105)","v":0},null,{"$f":"IF(BPBPS!J105=\"\",\"\",BPBPS!K105)","v":""},{"$f":"IF(BPBPS!J105=\"\",0,BPBPS!L105)","v":0},null,{"$f":"IF(SSGP!B105=\"\",\"\",SSGP!C105)","v":""},{"$f":"IF(SSGP!B105=\"\",0,SSGP!D105)","v":0},null,{"$f":"IF(SSGP!F105=\"\",\"\",SSGP!G105)","v":""},{"$f":"IF(SSGP!F105=\"\",0,SSGP!H105)","v":0}]
[104,{"$f":"IF(JTP!B106=\"\",\"\",JTP!C106)","v":""},{"$f":"IF(JTP!B106=\"\",0,JTP!D106)","v":0},{"$f":"IF(JTP!B106=\"\",0,JTP!E106)","v":0},null,{"$f":"IF(JTP!G106=\"\",\"\",JTP!H106)","v":""},{"$f":"IF(JTP!G106=\"\",0,JTP!I106)","v":0},{"$f":"IF(JTP!G106=\"\",0,JTP!J106)","v":0},null,{"$f":"IF(JSP!B106=\"\",\"\",JSP!C106)","v":""},{"$f":"IF(JSP!B106=\"\",0,JSP!D106)","v":0},{"$f":"IF(JSP!B106=\"\",0,JSP!E106)","v":0},null,{"$f":"IF(JSP!G106=\"\",\"\",JSP!H106)","v":""},{"$f":"IF(JSP!G106=\"\",0,JSP!I106)","v":0},{"$f":"IF(JSP!G106=\"\",0,JSP!J106)","v":0},null,{"$f":"IF(CFP!B106=\"\",\"\",CFP!C106)","v":""},{"$f":"IF(CFP!B106=\"\",0,CFP!D106)","v":0},{"$f":"IF(CFP!B106=\"\",0,CFP!E106)","v":0},null,{"$f":"IF(CFP!G106=\"\",\"\",CFP!H106)","v":""},{"$f":"IF(CFP!G106=\"\",0,CFP!I106)","v":0},null,{"$f":"IF(DWP!B106=\"\",\"\",DWP!C106)","v":""},{"$f":"IF(DWP!D106=\"\",0,DWP!D106)","v":0},{"$f":"IF(DWP!D106=\"\",0,DWP!E106)","v":0},null,{"$f":"IF(DWP!G106=\"\",\"\",DWP!H106)","v":""},{"$f":"IF(DWP!I106=\"\",0,DWP!I106)","v":0},null,{"$f":"IF(ALP!B106=\"\",\"\",ALP!C106)","v":""},{"$f":"IF(ALP!D106=\"\",0,ALP!D106)","v":0},{"$f":"IF(ALP!E106=\"\",0,ALP!E106)","v":0},null,{"$f":"IF(PS!B108=\"\",\"\",PS!C108)","v":""},{"$f":"IF(PS!B108=\"\",\"\",PS!D108)","v":""},null,{"$f":"IF(PS!F108=\"\",\"\",PS!G108)","v":""},{"$f":"IF(PS!F108=\"\",\"\",PS!H108)","v":""},null,{"$f":"IF(LP!A106=\"\",\"\",LP!B106)","v":""},{"$f":"IF(LP!A106=\"\",0,LP!C106)","v":0},null,{"$f":"IF(LP!E106=\"\",\"\",LP!F106)","v":""},{"$f":"IF(LP!E106=\"\",0,LP!G106)","v":0},null,{"$f":"IF(LP!I106=\"\",\"\",LP!J106)","v":""},{"$f":"IF(LP!I106=\"\",0,LP!K106)","v":0},null,{"$f":"IF(BPBPS!B106=\"\",\"\",BPBPS!C106)","v":""},{"$f":"IF(BPBPS!B106=\"\",0,BPBPS!D106)","v":0},null,{"$f":"IF(BPBPS!F106=\"\",\"\",BPBPS!G106)","v":""},{"$f":"IF(BPBPS!H106=\"\",0,BPBPS!H106)","v":0},null,{"$f":"IF(BPBPS!J106=\"\",\"\",BPBPS!K106)","v":""},{"$f":"IF(BPBPS!J106=\"\",0,BPBPS!L106)","v":0},null,{"$f":"IF(SSGP!B106=\"\",\"\",SSGP!C106)","v":""},{"$f":"IF(SSGP!B106=\"\",0,SSGP!D106)","v":0},null,{"$f":"IF(SSGP!F106=\"\",\"\",SSGP!G106)","v":""},{"$f":"IF(SSGP!F106=\"\",0,SSGP!H106)","v":0}]
[105,{"$f":"IF(JTP!B107=\"\",\"\",JTP!C107)","v":""},{"$f":"IF(JTP!B107=\"\",0,JTP!D107)","v":0},{"$f":"IF(JTP!B107=\"\",0,JTP!E107)","v":0},null,{"$f":"IF(JTP!G107=\"\",\"\",JTP!H107)","v":""},{"$f":"IF(JTP!G107=\"\",0,JTP!I107)","v":0},{"$f":"IF(JTP!G107=\"\",0,JTP!J107)","v":0},null,{"$f":"IF(JSP!B107=\"\",\"\",JSP!C107)","v":""},{"$f":"IF(JSP!B107=\"\",0,JSP!D107)","v":0},{"$f":"IF(JSP!B107=\"\",0,JSP!E107)","v":0},null,{"$f":"IF(JSP!G107=\"\",\"\",JSP!H107)","v":""},{"$f":"IF(JSP!G107=\"\",0,JSP!I107)","v":0},{"$f":"IF(JSP!G107=\"\",0,JSP!J107)","v":0},null,{"$f":"IF(CFP!B107=\"\",\"\",CFP!C107)","v":""},{"$f":"IF(CFP!B107=\"\",0,CFP!D107)","v":0},{"$f":"IF(CFP!B107=\"\",0,CFP!E107)","v":0},null,{"$f":"IF(CFP!G107=\"\",\"\",CFP!H107)","v":""},{"$f":"IF(CFP!G107=\"\",0,CFP!I107)","v":0},null,{"$f":"IF(DWP!B107=\"\",\"\",DWP!C107)","v":""},{"$f":"IF(DWP!D107=\"\",0,DWP!D107)","v":0},{"$f":"IF(DWP!D107=\"\",0,DWP!E107)","v":0},null,{"$f":"IF(DWP!G107=\"\",\"\",DWP!H107)","v":""},{"$f":"IF(DWP!I107=\"\",0,DWP!I107)","v":0},null,{"$f":"IF(ALP!B107=\"\",\"\",ALP!C107)","v":""},{"$f":"IF(ALP!D107=\"\",0,ALP!D107)","v":0},{"$f":"IF(ALP!E107=\"\",0,ALP!E107)","v":0},null,{"$f":"IF(PS!B109=\"\",\"\",PS!C109)","v":""},{"$f":"IF(PS!B109=\"\",\"\",PS!D109)","v":""},null,{"$f":"IF(PS!F109=\"\",\"\",PS!G109)","v":""},{"$f":"IF(PS!F109=\"\",\"\",PS!H109)","v":""},null,{"$f":"IF(LP!A107=\"\",\"\",LP!B107)","v":""},{"$f":"IF(LP!A107=\"\",0,LP!C107)","v":0},null,{"$f":"IF(LP!E107=\"\",\"\",LP!F107)","v":""},{"$f":"IF(LP!E107=\"\",0,LP!G107)","v":0},null,{"$f":"IF(LP!I107=\"\",\"\",LP!J107)","v":""},{"$f":"IF(LP!I107=\"\",0,LP!K107)","v":0},null,{"$f":"IF(BPBPS!B107=\"\",\"\",BPBPS!C107)","v":""},{"$f":"IF(BPBPS!B107=\"\",0,BPBPS!D107)","v":0},null,{"$f":"IF(BPBPS!F107=\"\",\"\",BPBPS!G107)","v":""},{"$f":"IF(BPBPS!H107=\"\",0,BPBPS!H107)","v":0},null,{"$f":"IF(BPBPS!J107=\"\",\"\",BPBPS!K107)","v":""},{"$f":"IF(BPBPS!J107=\"\",0,BPBPS!L107)","v":0},null,{"$f":"IF(SSGP!B107=\"\",\"\",SSGP!C107)","v":""},{"$f":"IF(SSGP!B107=\"\",0,SSGP!D107)","v":0},null,{"$f":"IF(SSGP!F107=\"\",\"\",SSGP!G107)","v":""},{"$f":"IF(SSGP!F107=\"\",0,SSGP!H107)","v":0}]
[106,{"$f":"IF(JTP!B108=\"\",\"\",JTP!C108)","v":""},{"$f":"IF(JTP!B108=\"\",0,JTP!D108)","v":0},{"$f":"IF(JTP!B108=\"\",0,JTP!E108)","v":0},null,{"$f":"IF(JTP!G108=\"\",\"\",JTP!H108)","v":""},{"$f":"IF(JTP!G108=\"\",0,JTP!I108)","v":0},{"$f":"IF(JTP!G108=\"\",0,JTP!J108)","v":0},null,{"$f":"IF(JSP!B108=\"\",\"\",JSP!C108)","v":""},{"$f":"IF(JSP!B108=\"\",0,JSP!D108)","v":0},{"$f":"IF(JSP!B108=\"\",0,JSP!E108)","v":0},null,{"$f":"IF(JSP!G108=\"\",\"\",JSP!H108)","v":""},{"$f":"IF(JSP!G108=\"\",0,JSP!I108)","v":0},{"$f":"IF(JSP!G108=\"\",0,JSP!J108)","v":0},null,{"$f":"IF(CFP!B108=\"\",\"\",CFP!C108)","v":""},{"$f":"IF(CFP!B108=\"\",0,CFP!D108)","v":0},{"$f":"IF(CFP!B108=\"\",0,CFP!E108)","v":0},null,{"$f":"IF(CFP!G108=\"\",\"\",CFP!H108)","v":""},{"$f":"IF(CFP!G108=\"\",0,CFP!I108)","v":0},null,{"$f":"IF(DWP!B108=\"\",\"\",DWP!C108)","v":""},{"$f":"IF(DWP!D108=\"\",0,DWP!D108)","v":0},{"$f":"IF(DWP!D108=\"\",0,DWP!E108)","v":0},null,{"$f":"IF(DWP!G108=\"\",\"\",DWP!H108)","v":""},{"$f":"IF(DWP!I108=\"\",0,DWP!I108)","v":0},null,{"$f":"IF(ALP!B108=\"\",\"\",ALP!C108)","v":""},{"$f":"IF(ALP!D108=\"\",0,ALP!D108)","v":0},{"$f":"IF(ALP!E108=\"\",0,ALP!E108)","v":0},null,{"$f":"IF(PS!B110=\"\",\"\",PS!C110)","v":""},{"$f":"IF(PS!B110=\"\",\"\",PS!D110)","v":""},null,{"$f":"IF(PS!F110=\"\",\"\",PS!G110)","v":""},{"$f":"IF(PS!F110=\"\",\"\",PS!H110)","v":""},null,{"$f":"IF(LP!A108=\"\",\"\",LP!B108)","v":""},{"$f":"IF(LP!A108=\"\",0,LP!C108)","v":0},null,{"$f":"IF(LP!E108=\"\",\"\",LP!F108)","v":""},{"$f":"IF(LP!E108=\"\",0,LP!G108)","v":0},null,{"$f":"IF(LP!I108=\"\",\"\",LP!J108)","v":""},{"$f":"IF(LP!I108=\"\",0,LP!K108)","v":0},null,{"$f":"IF(BPBPS!B108=\"\",\"\",BPBPS!C108)","v":""},{"$f":"IF(BPBPS!B108=\"\",0,BPBPS!D108)","v":0},null,{"$f":"IF(BPBPS!F108=\"\",\"\",BPBPS!G108)","v":""},{"$f":"IF(BPBPS!H108=\"\",0,BPBPS!H108)","v":0},null,{"$f":"IF(BPBPS!J108=\"\",\"\",BPBPS!K108)","v":""},{"$f":"IF(BPBPS!J108=\"\",0,BPBPS!L108)","v":0},null,{"$f":"IF(SSGP!B108=\"\",\"\",SSGP!C108)","v":""},{"$f":"IF(SSGP!B108=\"\",0,SSGP!D108)","v":0},null,{"$f":"IF(SSGP!F108=\"\",\"\",SSGP!G108)","v":""},{"$f":"IF(SSGP!F108=\"\",0,SSGP!H108)","v":0}]
[107,{"$f":"IF(JTP!B109=\"\",\"\",JTP!C109)","v":""},{"$f":"IF(JTP!B109=\"\",0,JTP!D109)","v":0},{"$f":"IF(JTP!B109=\"\",0,JTP!E109)","v":0},null,{"$f":"IF(JTP!G109=\"\",\"\",JTP!H109)","v":""},{"$f":"IF(JTP!G109=\"\",0,JTP!I109)","v":0},{"$f":"IF(JTP!G109=\"\",0,JTP!J109)","v":0},null,{"$f":"IF(JSP!B109=\"\",\"\",JSP!C109)","v":""},{"$f":"IF(JSP!B109=\"\",0,JSP!D109)","v":0},{"$f":"IF(JSP!B109=\"\",0,JSP!E109)","v":0},null,{"$f":"IF(JSP!G109=\"\",\"\",JSP!H109)","v":""},{"$f":"IF(JSP!G109=\"\",0,JSP!I109)","v":0},{"$f":"IF(JSP!G109=\"\",0,JSP!J109)","v":0},null,{"$f":"IF(CFP!B109=\"\",\"\",CFP!C109)","v":""},{"$f":"IF(CFP!B109=\"\",0,CFP!D109)","v":0},{"$f":"IF(CFP!B109=\"\",0,CFP!E109)","v":0},null,{"$f":"IF(CFP!G109=\"\",\"\",CFP!H109)","v":""},{"$f":"IF(CFP!G109=\"\",0,CFP!I109)","v":0},null,{"$f":"IF(DWP!B109=\"\",\"\",DWP!C109)","v":""},{"$f":"IF(DWP!D109=\"\",0,DWP!D109)","v":0},{"$f":"IF(DWP!D109=\"\",0,DWP!E109)","v":0},null,{"$f":"IF(DWP!G109=\"\",\"\",DWP!H109)","v":""},{"$f":"IF(DWP!I109=\"\",0,DWP!I109)","v":0},null,{"$f":"IF(ALP!B109=\"\",\"\",ALP!C109)","v":""},{"$f":"IF(ALP!D109=\"\",0,ALP!D109)","v":0},{"$f":"IF(ALP!E109=\"\",0,ALP!E109)","v":0},null,{"$f":"IF(PS!B111=\"\",\"\",PS!C111)","v":""},{"$f":"IF(PS!B111=\"\",\"\",PS!D111)","v":""},null,{"$f":"IF(PS!F111=\"\",\"\",PS!G111)","v":""},{"$f":"IF(PS!F111=\"\",\"\",PS!H111)","v":""},null,{"$f":"IF(LP!A109=\"\",\"\",LP!B109)","v":""},{"$f":"IF(LP!A109=\"\",0,LP!C109)","v":0},null,{"$f":"IF(LP!E109=\"\",\"\",LP!F109)","v":""},{"$f":"IF(LP!E109=\"\",0,LP!G109)","v":0},null,{"$f":"IF(LP!I109=\"\",\"\",LP!J109)","v":""},{"$f":"IF(LP!I109=\"\",0,LP!K109)","v":0},null,{"$f":"IF(BPBPS!B109=\"\",\"\",BPBPS!C109)","v":""},{"$f":"IF(BPBPS!B109=\"\",0,BPBPS!D109)","v":0},null,{"$f":"IF(BPBPS!F109=\"\",\"\",BPBPS!G109)","v":""},{"$f":"IF(BPBPS!H109=\"\",0,BPBPS!H109)","v":0},null,{"$f":"IF(BPBPS!J109=\"\",\"\",BPBPS!K109)","v":""},{"$f":"IF(BPBPS!J109=\"\",0,BPBPS!L109)","v":0},null,{"$f":"IF(SSGP!B109=\"\",\"\",SSGP!C109)","v":""},{"$f":"IF(SSGP!B109=\"\",0,SSGP!D109)","v":0},null,{"$f":"IF(SSGP!F109=\"\",\"\",SSGP!G109)","v":""},{"$f":"IF(SSGP!F109=\"\",0,SSGP!H109)","v":0}]
[108,{"$f":"IF(JTP!B110=\"\",\"\",JTP!C110)","v":""},{"$f":"IF(JTP!B110=\"\",0,JTP!D110)","v":0},{"$f":"IF(JTP!B110=\"\",0,JTP!E110)","v":0},null,{"$f":"IF(JTP!G110=\"\",\"\",JTP!H110)","v":""},{"$f":"IF(JTP!G110=\"\",0,JTP!I110)","v":0},{"$f":"IF(JTP!G110=\"\",0,JTP!J110)","v":0},null,{"$f":"IF(JSP!B110=\"\",\"\",JSP!C110)","v":""},{"$f":"IF(JSP!B110=\"\",0,JSP!D110)","v":0},{"$f":"IF(JSP!B110=\"\",0,JSP!E110)","v":0},null,{"$f":"IF(JSP!G110=\"\",\"\",JSP!H110)","v":""},{"$f":"IF(JSP!G110=\"\",0,JSP!I110)","v":0},{"$f":"IF(JSP!G110=\"\",0,JSP!J110)","v":0},null,{"$f":"IF(CFP!B110=\"\",\"\",CFP!C110)","v":""},{"$f":"IF(CFP!B110=\"\",0,CFP!D110)","v":0},{"$f":"IF(CFP!B110=\"\",0,CFP!E110)","v":0},null,{"$f":"IF(CFP!G110=\"\",\"\",CFP!H110)","v":""},{"$f":"IF(CFP!G110=\"\",0,CFP!I110)","v":0},null,{"$f":"IF(DWP!B110=\"\",\"\",DWP!C110)","v":""},{"$f":"IF(DWP!D110=\"\",0,DWP!D110)","v":0},{"$f":"IF(DWP!D110=\"\",0,DWP!E110)","v":0},null,{"$f":"IF(DWP!G110=\"\",\"\",DWP!H110)","v":""},{"$f":"IF(DWP!I110=\"\",0,DWP!I110)","v":0},null,{"$f":"IF(ALP!B110=\"\",\"\",ALP!C110)","v":""},{"$f":"IF(ALP!D110=\"\",0,ALP!D110)","v":0},{"$f":"IF(ALP!E110=\"\",0,ALP!E110)","v":0},null,{"$f":"IF(PS!B112=\"\",\"\",PS!C112)","v":""},{"$f":"IF(PS!B112=\"\",\"\",PS!D112)","v":""},null,{"$f":"IF(PS!F112=\"\",\"\",PS!G112)","v":""},{"$f":"IF(PS!F112=\"\",\"\",PS!H112)","v":""},null,{"$f":"IF(LP!A110=\"\",\"\",LP!B110)","v":""},{"$f":"IF(LP!A110=\"\",0,LP!C110)","v":0},null,{"$f":"IF(LP!E110=\"\",\"\",LP!F110)","v":""},{"$f":"IF(LP!E110=\"\",0,LP!G110)","v":0},null,{"$f":"IF(LP!I110=\"\",\"\",LP!J110)","v":""},{"$f":"IF(LP!I110=\"\",0,LP!K110)","v":0},null,{"$f":"IF(BPBPS!B110=\"\",\"\",BPBPS!C110)","v":""},{"$f":"IF(BPBPS!B110=\"\",0,BPBPS!D110)","v":0},null,{"$f":"IF(BPBPS!F110=\"\",\"\",BPBPS!G110)","v":""},{"$f":"IF(BPBPS!H110=\"\",0,BPBPS!H110)","v":0},null,{"$f":"IF(BPBPS!J110=\"\",\"\",BPBPS!K110)","v":""},{"$f":"IF(BPBPS!J110=\"\",0,BPBPS!L110)","v":0},null,{"$f":"IF(SSGP!B110=\"\",\"\",SSGP!C110)","v":""},{"$f":"IF(SSGP!B110=\"\",0,SSGP!D110)","v":0},null,{"$f":"IF(SSGP!F110=\"\",\"\",SSGP!G110)","v":""},{"$f":"IF(SSGP!F110=\"\",0,SSGP!H110)","v":0}]
[109,{"$f":"IF(JTP!B111=\"\",\"\",JTP!C111)","v":""},{"$f":"IF(JTP!B111=\"\",0,JTP!D111)","v":0},{"$f":"IF(JTP!B111=\"\",0,JTP!E111)","v":0},null,{"$f":"IF(JTP!G111=\"\",\"\",JTP!H111)","v":""},{"$f":"IF(JTP!G111=\"\",0,JTP!I111)","v":0},{"$f":"IF(JTP!G111=\"\",0,JTP!J111)","v":0},null,{"$f":"IF(JSP!B111=\"\",\"\",JSP!C111)","v":""},{"$f":"IF(JSP!B111=\"\",0,JSP!D111)","v":0},{"$f":"IF(JSP!B111=\"\",0,JSP!E111)","v":0},null,{"$f":"IF(JSP!G111=\"\",\"\",JSP!H111)","v":""},{"$f":"IF(JSP!G111=\"\",0,JSP!I111)","v":0},{"$f":"IF(JSP!G111=\"\",0,JSP!J111)","v":0},null,{"$f":"IF(CFP!B111=\"\",\"\",CFP!C111)","v":""},{"$f":"IF(CFP!B111=\"\",0,CFP!D111)","v":0},{"$f":"IF(CFP!B111=\"\",0,CFP!E111)","v":0},null,{"$f":"IF(CFP!G111=\"\",\"\",CFP!H111)","v":""},{"$f":"IF(CFP!G111=\"\",0,CFP!I111)","v":0},null,{"$f":"IF(DWP!B111=\"\",\"\",DWP!C111)","v":""},{"$f":"IF(DWP!D111=\"\",0,DWP!D111)","v":0},{"$f":"IF(DWP!D111=\"\",0,DWP!E111)","v":0},null,{"$f":"IF(DWP!G111=\"\",\"\",DWP!H111)","v":""},{"$f":"IF(DWP!I111=\"\",0,DWP!I111)","v":0},null,{"$f":"IF(ALP!B111=\"\",\"\",ALP!C111)","v":""},{"$f":"IF(ALP!D111=\"\",0,ALP!D111)","v":0},{"$f":"IF(ALP!E111=\"\",0,ALP!E111)","v":0},null,{"$f":"IF(PS!B113=\"\",\"\",PS!C113)","v":""},{"$f":"IF(PS!B113=\"\",\"\",PS!D113)","v":""},null,{"$f":"IF(PS!F113=\"\",\"\",PS!G113)","v":""},{"$f":"IF(PS!F113=\"\",\"\",PS!H113)","v":""},null,{"$f":"IF(LP!A111=\"\",\"\",LP!B111)","v":""},{"$f":"IF(LP!A111=\"\",0,LP!C111)","v":0},null,{"$f":"IF(LP!E111=\"\",\"\",LP!F111)","v":""},{"$f":"IF(LP!E111=\"\",0,LP!G111)","v":0},null,{"$f":"IF(LP!I111=\"\",\"\",LP!J111)","v":""},{"$f":"IF(LP!I111=\"\",0,LP!K111)","v":0},null,{"$f":"IF(BPBPS!B111=\"\",\"\",BPBPS!C111)","v":""},{"$f":"IF(BPBPS!B111=\"\",0,BPBPS!D111)","v":0},null,{"$f":"IF(BPBPS!F111=\"\",\"\",BPBPS!G111)","v":""},{"$f":"IF(BPBPS!H111=\"\",0,BPBPS!H111)","v":0},null,{"$f":"IF(BPBPS!J111=\"\",\"\",BPBPS!K111)","v":""},{"$f":"IF(BPBPS!J111=\"\",0,BPBPS!L111)","v":0},null,{"$f":"IF(SSGP!B111=\"\",\"\",SSGP!C111)","v":""},{"$f":"IF(SSGP!B111=\"\",0,SSGP!D111)","v":0},null,{"$f":"IF(SSGP!F111=\"\",\"\",SSGP!G111)","v":""},{"$f":"IF(SSGP!F111=\"\",0,SSGP!H111)","v":0}]
[110,{"$f":"IF(JTP!B112=\"\",\"\",JTP!C112)","v":""},{"$f":"IF(JTP!B112=\"\",0,JTP!D112)","v":0},{"$f":"IF(JTP!B112=\"\",0,JTP!E112)","v":0},null,{"$f":"IF(JTP!G112=\"\",\"\",JTP!H112)","v":""},{"$f":"IF(JTP!G112=\"\",0,JTP!I112)","v":0},{"$f":"IF(JTP!G112=\"\",0,JTP!J112)","v":0},null,{"$f":"IF(JSP!B112=\"\",\"\",JSP!C112)","v":""},{"$f":"IF(JSP!B112=\"\",0,JSP!D112)","v":0},{"$f":"IF(JSP!B112=\"\",0,JSP!E112)","v":0},null,{"$f":"IF(JSP!G112=\"\",\"\",JSP!H112)","v":""},{"$f":"IF(JSP!G112=\"\",0,JSP!I112)","v":0},{"$f":"IF(JSP!G112=\"\",0,JSP!J112)","v":0},null,{"$f":"IF(CFP!B112=\"\",\"\",CFP!C112)","v":""},{"$f":"IF(CFP!B112=\"\",0,CFP!D112)","v":0},{"$f":"IF(CFP!B112=\"\",0,CFP!E112)","v":0},null,{"$f":"IF(CFP!G112=\"\",\"\",CFP!H112)","v":""},{"$f":"IF(CFP!G112=\"\",0,CFP!I112)","v":0},null,{"$f":"IF(DWP!B112=\"\",\"\",DWP!C112)","v":""},{"$f":"IF(DWP!D112=\"\",0,DWP!D112)","v":0},{"$f":"IF(DWP!D112=\"\",0,DWP!E112)","v":0},null,{"$f":"IF(DWP!G112=\"\",\"\",DWP!H112)","v":""},{"$f":"IF(DWP!I112=\"\",0,DWP!I112)","v":0},null,{"$f":"IF(ALP!B112=\"\",\"\",ALP!C112)","v":""},{"$f":"IF(ALP!D112=\"\",0,ALP!D112)","v":0},{"$f":"IF(ALP!E112=\"\",0,ALP!E112)","v":0},null,{"$f":"IF(PS!B114=\"\",\"\",PS!C114)","v":""},{"$f":"IF(PS!B114=\"\",\"\",PS!D114)","v":""},null,{"$f":"IF(PS!F114=\"\",\"\",PS!G114)","v":""},{"$f":"IF(PS!F114=\"\",\"\",PS!H114)","v":""},null,{"$f":"IF(LP!A112=\"\",\"\",LP!B112)","v":""},{"$f":"IF(LP!A112=\"\",0,LP!C112)","v":0},null,{"$f":"IF(LP!E112=\"\",\"\",LP!F112)","v":""},{"$f":"IF(LP!E112=\"\",0,LP!G112)","v":0},null,{"$f":"IF(LP!I112=\"\",\"\",LP!J112)","v":""},{"$f":"IF(LP!I112=\"\",0,LP!K112)","v":0},null,{"$f":"IF(BPBPS!B112=\"\",\"\",BPBPS!C112)","v":""},{"$f":"IF(BPBPS!B112=\"\",0,BPBPS!D112)","v":0},null,{"$f":"IF(BPBPS!F112=\"\",\"\",BPBPS!G112)","v":""},{"$f":"IF(BPBPS!H112=\"\",0,BPBPS!H112)","v":0},null,{"$f":"IF(BPBPS!J112=\"\",\"\",BPBPS!K112)","v":""},{"$f":"IF(BPBPS!J112=\"\",0,BPBPS!L112)","v":0},null,{"$f":"IF(SSGP!B112=\"\",\"\",SSGP!C112)","v":""},{"$f":"IF(SSGP!B112=\"\",0,SSGP!D112)","v":0},null,{"$f":"IF(SSGP!F112=\"\",\"\",SSGP!G112)","v":""},{"$f":"IF(SSGP!F112=\"\",0,SSGP!H112)","v":0}]
[111,{"$f":"IF(JTP!B113=\"\",\"\",JTP!C113)","v":""},{"$f":"IF(JTP!B113=\"\",0,JTP!D113)","v":0},{"$f":"IF(JTP!B113=\"\",0,JTP!E113)","v":0},null,{"$f":"IF(JTP!G113=\"\",\"\",JTP!H113)","v":""},{"$f":"IF(JTP!G113=\"\",0,JTP!I113)","v":0},{"$f":"IF(JTP!G113=\"\",0,JTP!J113)","v":0},null,{"$f":"IF(JSP!B113=\"\",\"\",JSP!C113)","v":""},{"$f":"IF(JSP!B113=\"\",0,JSP!D113)","v":0},{"$f":"IF(JSP!B113=\"\",0,JSP!E113)","v":0},null,{"$f":"IF(JSP!G113=\"\",\"\",JSP!H113)","v":""},{"$f":"IF(JSP!G113=\"\",0,JSP!I113)","v":0},{"$f":"IF(JSP!G113=\"\",0,JSP!J113)","v":0},null,{"$f":"IF(CFP!B113=\"\",\"\",CFP!C113)","v":""},{"$f":"IF(CFP!B113=\"\",0,CFP!D113)","v":0},{"$f":"IF(CFP!B113=\"\",0,CFP!E113)","v":0},null,{"$f":"IF(CFP!G113=\"\",\"\",CFP!H113)","v":""},{"$f":"IF(CFP!G113=\"\",0,CFP!I113)","v":0},null,{"$f":"IF(DWP!B113=\"\",\"\",DWP!C113)","v":""},{"$f":"IF(DWP!D113=\"\",0,DWP!D113)","v":0},{"$f":"IF(DWP!D113=\"\",0,DWP!E113)","v":0},null,{"$f":"IF(DWP!G113=\"\",\"\",DWP!H113)","v":""},{"$f":"IF(DWP!I113=\"\",0,DWP!I113)","v":0},null,{"$f":"IF(ALP!B113=\"\",\"\",ALP!C113)","v":""},{"$f":"IF(ALP!D113=\"\",0,ALP!D113)","v":0},{"$f":"IF(ALP!E113=\"\",0,ALP!E113)","v":0},null,{"$f":"IF(PS!B115=\"\",\"\",PS!C115)","v":""},{"$f":"IF(PS!B115=\"\",\"\",PS!D115)","v":""},null,{"$f":"IF(PS!F115=\"\",\"\",PS!G115)","v":""},{"$f":"IF(PS!F115=\"\",\"\",PS!H115)","v":""},null,{"$f":"IF(LP!A113=\"\",\"\",LP!B113)","v":""},{"$f":"IF(LP!A113=\"\",0,LP!C113)","v":0},null,{"$f":"IF(LP!E113=\"\",\"\",LP!F113)","v":""},{"$f":"IF(LP!E113=\"\",0,LP!G113)","v":0},null,{"$f":"IF(LP!I113=\"\",\"\",LP!J113)","v":""},{"$f":"IF(LP!I113=\"\",0,LP!K113)","v":0},null,{"$f":"IF(BPBPS!B113=\"\",\"\",BPBPS!C113)","v":""},{"$f":"IF(BPBPS!B113=\"\",0,BPBPS!D113)","v":0},null,{"$f":"IF(BPBPS!F113=\"\",\"\",BPBPS!G113)","v":""},{"$f":"IF(BPBPS!H113=\"\",0,BPBPS!H113)","v":0},null,{"$f":"IF(BPBPS!J113=\"\",\"\",BPBPS!K113)","v":""},{"$f":"IF(BPBPS!J113=\"\",0,BPBPS!L113)","v":0},null,{"$f":"IF(SSGP!B113=\"\",\"\",SSGP!C113)","v":""},{"$f":"IF(SSGP!B113=\"\",0,SSGP!D113)","v":0},null,{"$f":"IF(SSGP!F113=\"\",\"\",SSGP!G113)","v":""},{"$f":"IF(SSGP!F113=\"\",0,SSGP!H113)","v":0}]
[112,{"$f":"IF(JTP!B114=\"\",\"\",JTP!C114)","v":""},{"$f":"IF(JTP!B114=\"\",0,JTP!D114)","v":0},{"$f":"IF(JTP!B114=\"\",0,JTP!E114)","v":0},null,{"$f":"IF(JTP!G114=\"\",\"\",JTP!H114)","v":""},{"$f":"IF(JTP!G114=\"\",0,JTP!I114)","v":0},{"$f":"IF(JTP!G114=\"\",0,JTP!J114)","v":0},null,{"$f":"IF(JSP!B114=\"\",\"\",JSP!C114)","v":""},{"$f":"IF(JSP!B114=\"\",0,JSP!D114)","v":0},{"$f":"IF(JSP!B114=\"\",0,JSP!E114)","v":0},null,{"$f":"IF(JSP!G114=\"\",\"\",JSP!H114)","v":""},{"$f":"IF(JSP!G114=\"\",0,JSP!I114)","v":0},{"$f":"IF(JSP!G114=\"\",0,JSP!J114)","v":0},null,{"$f":"IF(CFP!B114=\"\",\"\",CFP!C114)","v":""},{"$f":"IF(CFP!B114=\"\",0,CFP!D114)","v":0},{"$f":"IF(CFP!B114=\"\",0,CFP!E114)","v":0},null,{"$f":"IF(CFP!G114=\"\",\"\",CFP!H114)","v":""},{"$f":"IF(CFP!G114=\"\",0,CFP!I114)","v":0},null,{"$f":"IF(DWP!B114=\"\",\"\",DWP!C114)","v":""},{"$f":"IF(DWP!D114=\"\",0,DWP!D114)","v":0},{"$f":"IF(DWP!D114=\"\",0,DWP!E114)","v":0},null,{"$f":"IF(DWP!G114=\"\",\"\",DWP!H114)","v":""},{"$f":"IF(DWP!I114=\"\",0,DWP!I114)","v":0},null,{"$f":"IF(ALP!B114=\"\",\"\",ALP!C114)","v":""},{"$f":"IF(ALP!D114=\"\",0,ALP!D114)","v":0},{"$f":"IF(ALP!E114=\"\",0,ALP!E114)","v":0},null,{"$f":"IF(PS!B116=\"\",\"\",PS!C116)","v":""},{"$f":"IF(PS!B116=\"\",\"\",PS!D116)","v":""},null,{"$f":"IF(PS!F116=\"\",\"\",PS!G116)","v":""},{"$f":"IF(PS!F116=\"\",\"\",PS!H116)","v":""},null,{"$f":"IF(LP!A114=\"\",\"\",LP!B114)","v":""},{"$f":"IF(LP!A114=\"\",0,LP!C114)","v":0},null,{"$f":"IF(LP!E114=\"\",\"\",LP!F114)","v":""},{"$f":"IF(LP!E114=\"\",0,LP!G114)","v":0},null,{"$f":"IF(LP!I114=\"\",\"\",LP!J114)","v":""},{"$f":"IF(LP!I114=\"\",0,LP!K114)","v":0},null,{"$f":"IF(BPBPS!B114=\"\",\"\",BPBPS!C114)","v":""},{"$f":"IF(BPBPS!B114=\"\",0,BPBPS!D114)","v":0},null,{"$f":"IF(BPBPS!F114=\"\",\"\",BPBPS!G114)","v":""},{"$f":"IF(BPBPS!H114=\"\",0,BPBPS!H114)","v":0},null,{"$f":"IF(BPBPS!J114=\"\",\"\",BPBPS!K114)","v":""},{"$f":"IF(BPBPS!J114=\"\",0,BPBPS!L114)","v":0},null,{"$f":"IF(SSGP!B114=\"\",\"\",SSGP!C114)","v":""},{"$f":"IF(SSGP!B114=\"\",0,SSGP!D114)","v":0},null,{"$f":"IF(SSGP!F114=\"\",\"\",SSGP!G114)","v":""},{"$f":"IF(SSGP!F114=\"\",0,SSGP!H114)","v":0}]
[113,{"$f":"IF(JTP!B115=\"\",\"\",JTP!C115)","v":""},{"$f":"IF(JTP!B115=\"\",0,JTP!D115)","v":0},{"$f":"IF(JTP!B115=\"\",0,JTP!E115)","v":0},null,{"$f":"IF(JTP!G115=\"\",\"\",JTP!H115)","v":""},{"$f":"IF(JTP!G115=\"\",0,JTP!I115)","v":0},{"$f":"IF(JTP!G115=\"\",0,JTP!J115)","v":0},null,{"$f":"IF(JSP!B115=\"\",\"\",JSP!C115)","v":""},{"$f":"IF(JSP!B115=\"\",0,JSP!D115)","v":0},{"$f":"IF(JSP!B115=\"\",0,JSP!E115)","v":0},null,{"$f":"IF(JSP!G115=\"\",\"\",JSP!H115)","v":""},{"$f":"IF(JSP!G115=\"\",0,JSP!I115)","v":0},{"$f":"IF(JSP!G115=\"\",0,JSP!J115)","v":0},null,{"$f":"IF(CFP!B115=\"\",\"\",CFP!C115)","v":""},{"$f":"IF(CFP!B115=\"\",0,CFP!D115)","v":0},{"$f":"IF(CFP!B115=\"\",0,CFP!E115)","v":0},null,{"$f":"IF(CFP!G115=\"\",\"\",CFP!H115)","v":""},{"$f":"IF(CFP!G115=\"\",0,CFP!I115)","v":0},null,{"$f":"IF(DWP!B115=\"\",\"\",DWP!C115)","v":""},{"$f":"IF(DWP!D115=\"\",0,DWP!D115)","v":0},{"$f":"IF(DWP!D115=\"\",0,DWP!E115)","v":0},null,{"$f":"IF(DWP!G115=\"\",\"\",DWP!H115)","v":""},{"$f":"IF(DWP!I115=\"\",0,DWP!I115)","v":0},null,{"$f":"IF(ALP!B115=\"\",\"\",ALP!C115)","v":""},{"$f":"IF(ALP!D115=\"\",0,ALP!D115)","v":0},{"$f":"IF(ALP!E115=\"\",0,ALP!E115)","v":0},null,{"$f":"IF(PS!B117=\"\",\"\",PS!C117)","v":""},{"$f":"IF(PS!B117=\"\",\"\",PS!D117)","v":""},null,{"$f":"IF(PS!F117=\"\",\"\",PS!G117)","v":""},{"$f":"IF(PS!F117=\"\",\"\",PS!H117)","v":""},null,{"$f":"IF(LP!A115=\"\",\"\",LP!B115)","v":""},{"$f":"IF(LP!A115=\"\",0,LP!C115)","v":0},null,{"$f":"IF(LP!E115=\"\",\"\",LP!F115)","v":""},{"$f":"IF(LP!E115=\"\",0,LP!G115)","v":0},null,{"$f":"IF(LP!I115=\"\",\"\",LP!J115)","v":""},{"$f":"IF(LP!I115=\"\",0,LP!K115)","v":0},null,{"$f":"IF(BPBPS!B115=\"\",\"\",BPBPS!C115)","v":""},{"$f":"IF(BPBPS!B115=\"\",0,BPBPS!D115)","v":0},null,{"$f":"IF(BPBPS!F115=\"\",\"\",BPBPS!G115)","v":""},{"$f":"IF(BPBPS!H115=\"\",0,BPBPS!H115)","v":0},null,{"$f":"IF(BPBPS!J115=\"\",\"\",BPBPS!K115)","v":""},{"$f":"IF(BPBPS!J115=\"\",0,BPBPS!L115)","v":0},null,{"$f":"IF(SSGP!B115=\"\",\"\",SSGP!C115)","v":""},{"$f":"IF(SSGP!B115=\"\",0,SSGP!D115)","v":0},null,{"$f":"IF(SSGP!F115=\"\",\"\",SSGP!G115)","v":""},{"$f":"IF(SSGP!F115=\"\",0,SSGP!H115)","v":0}]
[114,{"$f":"IF(JTP!B116=\"\",\"\",JTP!C116)","v":""},{"$f":"IF(JTP!B116=\"\",0,JTP!D116)","v":0},{"$f":"IF(JTP!B116=\"\",0,JTP!E116)","v":0},null,{"$f":"IF(JTP!G116=\"\",\"\",JTP!H116)","v":""},{"$f":"IF(JTP!G116=\"\",0,JTP!I116)","v":0},{"$f":"IF(JTP!G116=\"\",0,JTP!J116)","v":0},null,{"$f":"IF(JSP!B116=\"\",\"\",JSP!C116)","v":""},{"$f":"IF(JSP!B116=\"\",0,JSP!D116)","v":0},{"$f":"IF(JSP!B116=\"\",0,JSP!E116)","v":0},null,{"$f":"IF(JSP!G116=\"\",\"\",JSP!H116)","v":""},{"$f":"IF(JSP!G116=\"\",0,JSP!I116)","v":0},{"$f":"IF(JSP!G116=\"\",0,JSP!J116)","v":0},null,{"$f":"IF(CFP!B116=\"\",\"\",CFP!C116)","v":""},{"$f":"IF(CFP!B116=\"\",0,CFP!D116)","v":0},{"$f":"IF(CFP!B116=\"\",0,CFP!E116)","v":0},null,{"$f":"IF(CFP!G116=\"\",\"\",CFP!H116)","v":""},{"$f":"IF(CFP!G116=\"\",0,CFP!I116)","v":0},null,{"$f":"IF(DWP!B116=\"\",\"\",DWP!C116)","v":""},{"$f":"IF(DWP!D116=\"\",0,DWP!D116)","v":0},{"$f":"IF(DWP!D116=\"\",0,DWP!E116)","v":0},null,{"$f":"IF(DWP!G116=\"\",\"\",DWP!H116)","v":""},{"$f":"IF(DWP!I116=\"\",0,DWP!I116)","v":0},null,{"$f":"IF(ALP!B116=\"\",\"\",ALP!C116)","v":""},{"$f":"IF(ALP!D116=\"\",0,ALP!D116)","v":0},{"$f":"IF(ALP!E116=\"\",0,ALP!E116)","v":0},null,{"$f":"IF(PS!B118=\"\",\"\",PS!C118)","v":""},{"$f":"IF(PS!B118=\"\",\"\",PS!D118)","v":""},null,{"$f":"IF(PS!F118=\"\",\"\",PS!G118)","v":""},{"$f":"IF(PS!F118=\"\",\"\",PS!H118)","v":""},null,{"$f":"IF(LP!A116=\"\",\"\",LP!B116)","v":""},{"$f":"IF(LP!A116=\"\",0,LP!C116)","v":0},null,{"$f":"IF(LP!E116=\"\",\"\",LP!F116)","v":""},{"$f":"IF(LP!E116=\"\",0,LP!G116)","v":0},null,{"$f":"IF(LP!I116=\"\",\"\",LP!J116)","v":""},{"$f":"IF(LP!I116=\"\",0,LP!K116)","v":0},null,{"$f":"IF(BPBPS!B116=\"\",\"\",BPBPS!C116)","v":""},{"$f":"IF(BPBPS!B116=\"\",0,BPBPS!D116)","v":0},null,{"$f":"IF(BPBPS!F116=\"\",\"\",BPBPS!G116)","v":""},{"$f":"IF(BPBPS!H116=\"\",0,BPBPS!H116)","v":0},null,{"$f":"IF(BPBPS!J116=\"\",\"\",BPBPS!K116)","v":""},{"$f":"IF(BPBPS!J116=\"\",0,BPBPS!L116)","v":0},null,{"$f":"IF(SSGP!B116=\"\",\"\",SSGP!C116)","v":""},{"$f":"IF(SSGP!B116=\"\",0,SSGP!D116)","v":0},null,{"$f":"IF(SSGP!F116=\"\",\"\",SSGP!G116)","v":""},{"$f":"IF(SSGP!F116=\"\",0,SSGP!H116)","v":0}]
[115,{"$f":"IF(JTP!B117=\"\",\"\",JTP!C117)","v":""},{"$f":"IF(JTP!B117=\"\",0,JTP!D117)","v":0},{"$f":"IF(JTP!B117=\"\",0,JTP!E117)","v":0},null,{"$f":"IF(JTP!G117=\"\",\"\",JTP!H117)","v":""},{"$f":"IF(JTP!G117=\"\",0,JTP!I117)","v":0},{"$f":"IF(JTP!G117=\"\",0,JTP!J117)","v":0},null,{"$f":"IF(JSP!B117=\"\",\"\",JSP!C117)","v":""},{"$f":"IF(JSP!B117=\"\",0,JSP!D117)","v":0},{"$f":"IF(JSP!B117=\"\",0,JSP!E117)","v":0},null,{"$f":"IF(JSP!G117=\"\",\"\",JSP!H117)","v":""},{"$f":"IF(JSP!G117=\"\",0,JSP!I117)","v":0},{"$f":"IF(JSP!G117=\"\",0,JSP!J117)","v":0},null,{"$f":"IF(CFP!B117=\"\",\"\",CFP!C117)","v":""},{"$f":"IF(CFP!B117=\"\",0,CFP!D117)","v":0},{"$f":"IF(CFP!B117=\"\",0,CFP!E117)","v":0},null,{"$f":"IF(CFP!G117=\"\",\"\",CFP!H117)","v":""},{"$f":"IF(CFP!G117=\"\",0,CFP!I117)","v":0},null,{"$f":"IF(DWP!B117=\"\",\"\",DWP!C117)","v":""},{"$f":"IF(DWP!D117=\"\",0,DWP!D117)","v":0},{"$f":"IF(DWP!D117=\"\",0,DWP!E117)","v":0},null,{"$f":"IF(DWP!G117=\"\",\"\",DWP!H117)","v":""},{"$f":"IF(DWP!I117=\"\",0,DWP!I117)","v":0},null,{"$f":"IF(ALP!B117=\"\",\"\",ALP!C117)","v":""},{"$f":"IF(ALP!D117=\"\",0,ALP!D117)","v":0},{"$f":"IF(ALP!E117=\"\",0,ALP!E117)","v":0},null,{"$f":"IF(PS!B119=\"\",\"\",PS!C119)","v":""},{"$f":"IF(PS!B119=\"\",\"\",PS!D119)","v":""},null,{"$f":"IF(PS!F119=\"\",\"\",PS!G119)","v":""},{"$f":"IF(PS!F119=\"\",\"\",PS!H119)","v":""},null,{"$f":"IF(LP!A117=\"\",\"\",LP!B117)","v":""},{"$f":"IF(LP!A117=\"\",0,LP!C117)","v":0},null,{"$f":"IF(LP!E117=\"\",\"\",LP!F117)","v":""},{"$f":"IF(LP!E117=\"\",0,LP!G117)","v":0},null,{"$f":"IF(LP!I117=\"\",\"\",LP!J117)","v":""},{"$f":"IF(LP!I117=\"\",0,LP!K117)","v":0},null,{"$f":"IF(BPBPS!B117=\"\",\"\",BPBPS!C117)","v":""},{"$f":"IF(BPBPS!B117=\"\",0,BPBPS!D117)","v":0},null,{"$f":"IF(BPBPS!F117=\"\",\"\",BPBPS!G117)","v":""},{"$f":"IF(BPBPS!H117=\"\",0,BPBPS!H117)","v":0},null,{"$f":"IF(BPBPS!J117=\"\",\"\",BPBPS!K117)","v":""},{"$f":"IF(BPBPS!J117=\"\",0,BPBPS!L117)","v":0},null,{"$f":"IF(SSGP!B117=\"\",\"\",SSGP!C117)","v":""},{"$f":"IF(SSGP!B117=\"\",0,SSGP!D117)","v":0},null,{"$f":"IF(SSGP!F117=\"\",\"\",SSGP!G117)","v":""},{"$f":"IF(SSGP!F117=\"\",0,SSGP!H117)","v":0}]
[116,{"$f":"IF(JTP!B118=\"\",\"\",JTP!C118)","v":""},{"$f":"IF(JTP!B118=\"\",0,JTP!D118)","v":0},{"$f":"IF(JTP!B118=\"\",0,JTP!E118)","v":0},null,{"$f":"IF(JTP!G118=\"\",\"\",JTP!H118)","v":""},{"$f":"IF(JTP!G118=\"\",0,JTP!I118)","v":0},{"$f":"IF(JTP!G118=\"\",0,JTP!J118)","v":0},null,{"$f":"IF(JSP!B118=\"\",\"\",JSP!C118)","v":""},{"$f":"IF(JSP!B118=\"\",0,JSP!D118)","v":0},{"$f":"IF(JSP!B118=\"\",0,JSP!E118)","v":0},null,{"$f":"IF(JSP!G118=\"\",\"\",JSP!H118)","v":""},{"$f":"IF(JSP!G118=\"\",0,JSP!I118)","v":0},{"$f":"IF(JSP!G118=\"\",0,JSP!J118)","v":0},null,{"$f":"IF(CFP!B118=\"\",\"\",CFP!C118)","v":""},{"$f":"IF(CFP!B118=\"\",0,CFP!D118)","v":0},{"$f":"IF(CFP!B118=\"\",0,CFP!E118)","v":0},null,{"$f":"IF(CFP!G118=\"\",\"\",CFP!H118)","v":""},{"$f":"IF(CFP!G118=\"\",0,CFP!I118)","v":0},null,{"$f":"IF(DWP!B118=\"\",\"\",DWP!C118)","v":""},{"$f":"IF(DWP!D118=\"\",0,DWP!D118)","v":0},{"$f":"IF(DWP!D118=\"\",0,DWP!E118)","v":0},null,{"$f":"IF(DWP!G118=\"\",\"\",DWP!H118)","v":""},{"$f":"IF(DWP!I118=\"\",0,DWP!I118)","v":0},null,{"$f":"IF(ALP!B118=\"\",\"\",ALP!C118)","v":""},{"$f":"IF(ALP!D118=\"\",0,ALP!D118)","v":0},{"$f":"IF(ALP!E118=\"\",0,ALP!E118)","v":0},null,{"$f":"IF(PS!B120=\"\",\"\",PS!C120)","v":""},{"$f":"IF(PS!B120=\"\",\"\",PS!D120)","v":""},null,{"$f":"IF(PS!F120=\"\",\"\",PS!G120)","v":""},{"$f":"IF(PS!F120=\"\",\"\",PS!H120)","v":""},null,{"$f":"IF(LP!A118=\"\",\"\",LP!B118)","v":""},{"$f":"IF(LP!A118=\"\",0,LP!C118)","v":0},null,{"$f":"IF(LP!E118=\"\",\"\",LP!F118)","v":""},{"$f":"IF(LP!E118=\"\",0,LP!G118)","v":0},null,{"$f":"IF(LP!I118=\"\",\"\",LP!J118)","v":""},{"$f":"IF(LP!I118=\"\",0,LP!K118)","v":0},null,{"$f":"IF(BPBPS!B118=\"\",\"\",BPBPS!C118)","v":""},{"$f":"IF(BPBPS!B118=\"\",0,BPBPS!D118)","v":0},null,{"$f":"IF(BPBPS!F118=\"\",\"\",BPBPS!G118)","v":""},{"$f":"IF(BPBPS!H118=\"\",0,BPBPS!H118)","v":0},null,{"$f":"IF(BPBPS!J118=\"\",\"\",BPBPS!K118)","v":""},{"$f":"IF(BPBPS!J118=\"\",0,BPBPS!L118)","v":0},null,{"$f":"IF(SSGP!B118=\"\",\"\",SSGP!C118)","v":""},{"$f":"IF(SSGP!B118=\"\",0,SSGP!D118)","v":0},null,{"$f":"IF(SSGP!F118=\"\",\"\",SSGP!G118)","v":""},{"$f":"IF(SSGP!F118=\"\",0,SSGP!H118)","v":0}]
[117,{"$f":"IF(JTP!B119=\"\",\"\",JTP!C119)","v":""},{"$f":"IF(JTP!B119=\"\",0,JTP!D119)","v":0},{"$f":"IF(JTP!B119=\"\",0,JTP!E119)","v":0},null,{"$f":"IF(JTP!G119=\"\",\"\",JTP!H119)","v":""},{"$f":"IF(JTP!G119=\"\",0,JTP!I119)","v":0},{"$f":"IF(JTP!G119=\"\",0,JTP!J119)","v":0},null,{"$f":"IF(JSP!B119=\"\",\"\",JSP!C119)","v":""},{"$f":"IF(JSP!B119=\"\",0,JSP!D119)","v":0},{"$f":"IF(JSP!B119=\"\",0,JSP!E119)","v":0},null,{"$f":"IF(JSP!G119=\"\",\"\",JSP!H119)","v":""},{"$f":"IF(JSP!G119=\"\",0,JSP!I119)","v":0},{"$f":"IF(JSP!G119=\"\",0,JSP!J119)","v":0},null,{"$f":"IF(CFP!B119=\"\",\"\",CFP!C119)","v":""},{"$f":"IF(CFP!B119=\"\",0,CFP!D119)","v":0},{"$f":"IF(CFP!B119=\"\",0,CFP!E119)","v":0},null,{"$f":"IF(CFP!G119=\"\",\"\",CFP!H119)","v":""},{"$f":"IF(CFP!G119=\"\",0,CFP!I119)","v":0},null,{"$f":"IF(DWP!B119=\"\",\"\",DWP!C119)","v":""},{"$f":"IF(DWP!D119=\"\",0,DWP!D119)","v":0},{"$f":"IF(DWP!D119=\"\",0,DWP!E119)","v":0},null,{"$f":"IF(DWP!G119=\"\",\"\",DWP!H119)","v":""},{"$f":"IF(DWP!I119=\"\",0,DWP!I119)","v":0},null,{"$f":"IF(ALP!B119=\"\",\"\",ALP!C119)","v":""},{"$f":"IF(ALP!D119=\"\",0,ALP!D119)","v":0},{"$f":"IF(ALP!E119=\"\",0,ALP!E119)","v":0},null,{"$f":"IF(PS!B121=\"\",\"\",PS!C121)","v":""},{"$f":"IF(PS!B121=\"\",\"\",PS!D121)","v":""},null,{"$f":"IF(PS!F121=\"\",\"\",PS!G121)","v":""},{"$f":"IF(PS!F121=\"\",\"\",PS!H121)","v":""},null,{"$f":"IF(LP!A119=\"\",\"\",LP!B119)","v":""},{"$f":"IF(LP!A119=\"\",0,LP!C119)","v":0},null,{"$f":"IF(LP!E119=\"\",\"\",LP!F119)","v":""},{"$f":"IF(LP!E119=\"\",0,LP!G119)","v":0},null,{"$f":"IF(LP!I119=\"\",\"\",LP!J119)","v":""},{"$f":"IF(LP!I119=\"\",0,LP!K119)","v":0},null,{"$f":"IF(BPBPS!B119=\"\",\"\",BPBPS!C119)","v":""},{"$f":"IF(BPBPS!B119=\"\",0,BPBPS!D119)","v":0},null,{"$f":"IF(BPBPS!F119=\"\",\"\",BPBPS!G119)","v":""},{"$f":"IF(BPBPS!H119=\"\",0,BPBPS!H119)","v":0},null,{"$f":"IF(BPBPS!J119=\"\",\"\",BPBPS!K119)","v":""},{"$f":"IF(BPBPS!J119=\"\",0,BPBPS!L119)","v":0},null,{"$f":"IF(SSGP!B119=\"\",\"\",SSGP!C119)","v":""},{"$f":"IF(SSGP!B119=\"\",0,SSGP!D119)","v":0},null,{"$f":"IF(SSGP!F119=\"\",\"\",SSGP!G119)","v":""},{"$f":"IF(SSGP!F119=\"\",0,SSGP!H119)","v":0}]
[118,{"$f":"IF(JTP!B120=\"\",\"\",JTP!C120)","v":""},{"$f":"IF(JTP!B120=\"\",0,JTP!D120)","v":0},{"$f":"IF(JTP!B120=\"\",0,JTP!E120)","v":0},null,{"$f":"IF(JTP!G120=\"\",\"\",JTP!H120)","v":""},{"$f":"IF(JTP!G120=\"\",0,JTP!I120)","v":0},{"$f":"IF(JTP!G120=\"\",0,JTP!J120)","v":0},null,{"$f":"IF(JSP!B120=\"\",\"\",JSP!C120)","v":""},{"$f":"IF(JSP!B120=\"\",0,JSP!D120)","v":0},{"$f":"IF(JSP!B120=\"\",0,JSP!E120)","v":0},null,{"$f":"IF(JSP!G120=\"\",\"\",JSP!H120)","v":""},{"$f":"IF(JSP!G120=\"\",0,JSP!I120)","v":0},{"$f":"IF(JSP!G120=\"\",0,JSP!J120)","v":0},null,{"$f":"IF(CFP!B120=\"\",\"\",CFP!C120)","v":""},{"$f":"IF(CFP!B120=\"\",0,CFP!D120)","v":0},{"$f":"IF(CFP!B120=\"\",0,CFP!E120)","v":0},null,{"$f":"IF(CFP!G120=\"\",\"\",CFP!H120)","v":""},{"$f":"IF(CFP!G120=\"\",0,CFP!I120)","v":0},null,{"$f":"IF(DWP!B120=\"\",\"\",DWP!C120)","v":""},{"$f":"IF(DWP!D120=\"\",0,DWP!D120)","v":0},{"$f":"IF(DWP!D120=\"\",0,DWP!E120)","v":0},null,{"$f":"IF(DWP!G120=\"\",\"\",DWP!H120)","v":""},{"$f":"IF(DWP!I120=\"\",0,DWP!I120)","v":0},null,{"$f":"IF(ALP!B120=\"\",\"\",ALP!C120)","v":""},{"$f":"IF(ALP!D120=\"\",0,ALP!D120)","v":0},{"$f":"IF(ALP!E120=\"\",0,ALP!E120)","v":0},null,{"$f":"IF(PS!B122=\"\",\"\",PS!C122)","v":""},{"$f":"IF(PS!B122=\"\",\"\",PS!D122)","v":""},null,{"$f":"IF(PS!F122=\"\",\"\",PS!G122)","v":""},{"$f":"IF(PS!F122=\"\",\"\",PS!H122)","v":""},null,{"$f":"IF(LP!A120=\"\",\"\",LP!B120)","v":""},{"$f":"IF(LP!A120=\"\",0,LP!C120)","v":0},null,{"$f":"IF(LP!E120=\"\",\"\",LP!F120)","v":""},{"$f":"IF(LP!E120=\"\",0,LP!G120)","v":0},null,{"$f":"IF(LP!I120=\"\",\"\",LP!J120)","v":""},{"$f":"IF(LP!I120=\"\",0,LP!K120)","v":0},null,{"$f":"IF(BPBPS!B120=\"\",\"\",BPBPS!C120)","v":""},{"$f":"IF(BPBPS!B120=\"\",0,BPBPS!D120)","v":0},null,{"$f":"IF(BPBPS!F120=\"\",\"\",BPBPS!G120)","v":""},{"$f":"IF(BPBPS!H120=\"\",0,BPBPS!H120)","v":0},null,{"$f":"IF(BPBPS!J120=\"\",\"\",BPBPS!K120)","v":""},{"$f":"IF(BPBPS!J120=\"\",0,BPBPS!L120)","v":0},null,{"$f":"IF(SSGP!B120=\"\",\"\",SSGP!C120)","v":""},{"$f":"IF(SSGP!B120=\"\",0,SSGP!D120)","v":0},null,{"$f":"IF(SSGP!F120=\"\",\"\",SSGP!G120)","v":""},{"$f":"IF(SSGP!F120=\"\",0,SSGP!H120)","v":0}]
[119,{"$f":"IF(JTP!B121=\"\",\"\",JTP!C121)","v":""},{"$f":"IF(JTP!B121=\"\",0,JTP!D121)","v":0},{"$f":"IF(JTP!B121=\"\",0,JTP!E121)","v":0},null,{"$f":"IF(JTP!G121=\"\",\"\",JTP!H121)","v":""},{"$f":"IF(JTP!G121=\"\",0,JTP!I121)","v":0},{"$f":"IF(JTP!G121=\"\",0,JTP!J121)","v":0},null,{"$f":"IF(JSP!B121=\"\",\"\",JSP!C121)","v":""},{"$f":"IF(JSP!B121=\"\",0,JSP!D121)","v":0},{"$f":"IF(JSP!B121=\"\",0,JSP!E121)","v":0},null,{"$f":"IF(JSP!G121=\"\",\"\",JSP!H121)","v":""},{"$f":"IF(JSP!G121=\"\",0,JSP!I121)","v":0},{"$f":"IF(JSP!G121=\"\",0,JSP!J121)","v":0},null,{"$f":"IF(CFP!B121=\"\",\"\",CFP!C121)","v":""},{"$f":"IF(CFP!B121=\"\",0,CFP!D121)","v":0},{"$f":"IF(CFP!B121=\"\",0,CFP!E121)","v":0},null,{"$f":"IF(CFP!G121=\"\",\"\",CFP!H121)","v":""},{"$f":"IF(CFP!G121=\"\",0,CFP!I121)","v":0},null,{"$f":"IF(DWP!B121=\"\",\"\",DWP!C121)","v":""},{"$f":"IF(DWP!D121=\"\",0,DWP!D121)","v":0},{"$f":"IF(DWP!D121=\"\",0,DWP!E121)","v":0},null,{"$f":"IF(DWP!G121=\"\",\"\",DWP!H121)","v":""},{"$f":"IF(DWP!I121=\"\",0,DWP!I121)","v":0},null,{"$f":"IF(ALP!B121=\"\",\"\",ALP!C121)","v":""},{"$f":"IF(ALP!D121=\"\",0,ALP!D121)","v":0},{"$f":"IF(ALP!E121=\"\",0,ALP!E121)","v":0},null,{"$f":"IF(PS!B123=\"\",\"\",PS!C123)","v":""},{"$f":"IF(PS!B123=\"\",\"\",PS!D123)","v":""},null,{"$f":"IF(PS!F123=\"\",\"\",PS!G123)","v":""},{"$f":"IF(PS!F123=\"\",\"\",PS!H123)","v":""},null,{"$f":"IF(LP!A121=\"\",\"\",LP!B121)","v":""},{"$f":"IF(LP!A121=\"\",0,LP!C121)","v":0},null,{"$f":"IF(LP!E121=\"\",\"\",LP!F121)","v":""},{"$f":"IF(LP!E121=\"\",0,LP!G121)","v":0},null,{"$f":"IF(LP!I121=\"\",\"\",LP!J121)","v":""},{"$f":"IF(LP!I121=\"\",0,LP!K121)","v":0},null,{"$f":"IF(BPBPS!B121=\"\",\"\",BPBPS!C121)","v":""},{"$f":"IF(BPBPS!B121=\"\",0,BPBPS!D121)","v":0},null,{"$f":"IF(BPBPS!F121=\"\",\"\",BPBPS!G121)","v":""},{"$f":"IF(BPBPS!H121=\"\",0,BPBPS!H121)","v":0},null,{"$f":"IF(BPBPS!J121=\"\",\"\",BPBPS!K121)","v":""},{"$f":"IF(BPBPS!J121=\"\",0,BPBPS!L121)","v":0},null,{"$f":"IF(SSGP!B121=\"\",\"\",SSGP!C121)","v":""},{"$f":"IF(SSGP!B121=\"\",0,SSGP!D121)","v":0},null,{"$f":"IF(SSGP!F121=\"\",\"\",SSGP!G121)","v":""},{"$f":"IF(SSGP!F121=\"\",0,SSGP!H121)","v":0}]
[120,{"$f":"IF(JTP!B122=\"\",\"\",JTP!C122)","v":""},{"$f":"IF(JTP!B122=\"\",0,JTP!D122)","v":0},{"$f":"IF(JTP!B122=\"\",0,JTP!E122)","v":0},null,{"$f":"IF(JTP!G122=\"\",\"\",JTP!H122)","v":""},{"$f":"IF(JTP!G122=\"\",0,JTP!I122)","v":0},{"$f":"IF(JTP!G122=\"\",0,JTP!J122)","v":0},null,{"$f":"IF(JSP!B122=\"\",\"\",JSP!C122)","v":""},{"$f":"IF(JSP!B122=\"\",0,JSP!D122)","v":0},{"$f":"IF(JSP!B122=\"\",0,JSP!E122)","v":0},null,{"$f":"IF(JSP!G122=\"\",\"\",JSP!H122)","v":""},{"$f":"IF(JSP!G122=\"\",0,JSP!I122)","v":0},{"$f":"IF(JSP!G122=\"\",0,JSP!J122)","v":0},null,{"$f":"IF(CFP!B122=\"\",\"\",CFP!C122)","v":""},{"$f":"IF(CFP!B122=\"\",0,CFP!D122)","v":0},{"$f":"IF(CFP!B122=\"\",0,CFP!E122)","v":0},null,{"$f":"IF(CFP!G122=\"\",\"\",CFP!H122)","v":""},{"$f":"IF(CFP!G122=\"\",0,CFP!I122)","v":0},null,{"$f":"IF(DWP!B122=\"\",\"\",DWP!C122)","v":""},{"$f":"IF(DWP!D122=\"\",0,DWP!D122)","v":0},{"$f":"IF(DWP!D122=\"\",0,DWP!E122)","v":0},null,{"$f":"IF(DWP!G122=\"\",\"\",DWP!H122)","v":""},{"$f":"IF(DWP!I122=\"\",0,DWP!I122)","v":0},null,{"$f":"IF(ALP!B122=\"\",\"\",ALP!C122)","v":""},{"$f":"IF(ALP!D122=\"\",0,ALP!D122)","v":0},{"$f":"IF(ALP!E122=\"\",0,ALP!E122)","v":0},null,{"$f":"IF(PS!B124=\"\",\"\",PS!C124)","v":""},{"$f":"IF(PS!B124=\"\",\"\",PS!D124)","v":""},null,{"$f":"IF(PS!F124=\"\",\"\",PS!G124)","v":""},{"$f":"IF(PS!F124=\"\",\"\",PS!H124)","v":""},null,{"$f":"IF(LP!A122=\"\",\"\",LP!B122)","v":""},{"$f":"IF(LP!A122=\"\",0,LP!C122)","v":0},null,{"$f":"IF(LP!E122=\"\",\"\",LP!F122)","v":""},{"$f":"IF(LP!E122=\"\",0,LP!G122)","v":0},null,{"$f":"IF(LP!I122=\"\",\"\",LP!J122)","v":""},{"$f":"IF(LP!I122=\"\",0,LP!K122)","v":0},null,{"$f":"IF(BPBPS!B122=\"\",\"\",BPBPS!C122)","v":""},{"$f":"IF(BPBPS!B122=\"\",0,BPBPS!D122)","v":0},null,{"$f":"IF(BPBPS!F122=\"\",\"\",BPBPS!G122)","v":""},{"$f":"IF(BPBPS!H122=\"\",0,BPBPS!H122)","v":0},null,{"$f":"IF(BPBPS!J122=\"\",\"\",BPBPS!K122)","v":""},{"$f":"IF(BPBPS!J122=\"\",0,BPBPS!L122)","v":0},null,{"$f":"IF(SSGP!B122=\"\",\"\",SSGP!C122)","v":""},{"$f":"IF(SSGP!B122=\"\",0,SSGP!D122)","v":0},null,{"$f":"IF(SSGP!F122=\"\",\"\",SSGP!G122)","v":""},{"$f":"IF(SSGP!F122=\"\",0,SSGP!H122)","v":0}]
[121,{"$f":"IF(JTP!B123=\"\",\"\",JTP!C123)","v":""},{"$f":"IF(JTP!B123=\"\",0,JTP!D123)","v":0},{"$f":"IF(JTP!B123=\"\",0,JTP!E123)","v":0},null,{"$f":"IF(JTP!G123=\"\",\"\",JTP!H123)","v":""},{"$f":"IF(JTP!G123=\"\",0,JTP!I123)","v":0},{"$f":"IF(JTP!G123=\"\",0,JTP!J123)","v":0},null,{"$f":"IF(JSP!B123=\"\",\"\",JSP!C123)","v":""},{"$f":"IF(JSP!B123=\"\",0,JSP!D123)","v":0},{"$f":"IF(JSP!B123=\"\",0,JSP!E123)","v":0},null,{"$f":"IF(JSP!G123=\"\",\"\",JSP!H123)","v":""},{"$f":"IF(JSP!G123=\"\",0,JSP!I123)","v":0},{"$f":"IF(JSP!G123=\"\",0,JSP!J123)","v":0},null,{"$f":"IF(CFP!B123=\"\",\"\",CFP!C123)","v":""},{"$f":"IF(CFP!B123=\"\",0,CFP!D123)","v":0},{"$f":"IF(CFP!B123=\"\",0,CFP!E123)","v":0},null,{"$f":"IF(CFP!G123=\"\",\"\",CFP!H123)","v":""},{"$f":"IF(CFP!G123=\"\",0,CFP!I123)","v":0},null,{"$f":"IF(DWP!B123=\"\",\"\",DWP!C123)","v":""},{"$f":"IF(DWP!D123=\"\",0,DWP!D123)","v":0},{"$f":"IF(DWP!D123=\"\",0,DWP!E123)","v":0},null,{"$f":"IF(DWP!G123=\"\",\"\",DWP!H123)","v":""},{"$f":"IF(DWP!I123=\"\",0,DWP!I123)","v":0},null,{"$f":"IF(ALP!B123=\"\",\"\",ALP!C123)","v":""},{"$f":"IF(ALP!D123=\"\",0,ALP!D123)","v":0},{"$f":"IF(ALP!E123=\"\",0,ALP!E123)","v":0},null,{"$f":"IF(PS!B125=\"\",\"\",PS!C125)","v":""},{"$f":"IF(PS!B125=\"\",\"\",PS!D125)","v":""},null,{"$f":"IF(PS!F125=\"\",\"\",PS!G125)","v":""},{"$f":"IF(PS!F125=\"\",\"\",PS!H125)","v":""},null,{"$f":"IF(LP!A123=\"\",\"\",LP!B123)","v":""},{"$f":"IF(LP!A123=\"\",0,LP!C123)","v":0},null,{"$f":"IF(LP!E123=\"\",\"\",LP!F123)","v":""},{"$f":"IF(LP!E123=\"\",0,LP!G123)","v":0},null,{"$f":"IF(LP!I123=\"\",\"\",LP!J123)","v":""},{"$f":"IF(LP!I123=\"\",0,LP!K123)","v":0},null,{"$f":"IF(BPBPS!B123=\"\",\"\",BPBPS!C123)","v":""},{"$f":"IF(BPBPS!B123=\"\",0,BPBPS!D123)","v":0},null,{"$f":"IF(BPBPS!F123=\"\",\"\",BPBPS!G123)","v":""},{"$f":"IF(BPBPS!H123=\"\",0,BPBPS!H123)","v":0},null,{"$f":"IF(BPBPS!J123=\"\",\"\",BPBPS!K123)","v":""},{"$f":"IF(BPBPS!J123=\"\",0,BPBPS!L123)","v":0},null,{"$f":"IF(SSGP!B123=\"\",\"\",SSGP!C123)","v":""},{"$f":"IF(SSGP!B123=\"\",0,SSGP!D123)","v":0},null,{"$f":"IF(SSGP!F123=\"\",\"\",SSGP!G123)","v":""},{"$f":"IF(SSGP!F123=\"\",0,SSGP!H123)","v":0}]
[122,{"$f":"IF(JTP!B124=\"\",\"\",JTP!C124)","v":""},{"$f":"IF(JTP!B124=\"\",0,JTP!D124)","v":0},{"$f":"IF(JTP!B124=\"\",0,JTP!E124)","v":0},null,{"$f":"IF(JTP!G124=\"\",\"\",JTP!H124)","v":""},{"$f":"IF(JTP!G124=\"\",0,JTP!I124)","v":0},{"$f":"IF(JTP!G124=\"\",0,JTP!J124)","v":0},null,{"$f":"IF(JSP!B124=\"\",\"\",JSP!C124)","v":""},{"$f":"IF(JSP!B124=\"\",0,JSP!D124)","v":0},{"$f":"IF(JSP!B124=\"\",0,JSP!E124)","v":0},null,{"$f":"IF(JSP!G124=\"\",\"\",JSP!H124)","v":""},{"$f":"IF(JSP!G124=\"\",0,JSP!I124)","v":0},{"$f":"IF(JSP!G124=\"\",0,JSP!J124)","v":0},null,{"$f":"IF(CFP!B124=\"\",\"\",CFP!C124)","v":""},{"$f":"IF(CFP!B124=\"\",0,CFP!D124)","v":0},{"$f":"IF(CFP!B124=\"\",0,CFP!E124)","v":0},null,{"$f":"IF(CFP!G124=\"\",\"\",CFP!H124)","v":""},{"$f":"IF(CFP!G124=\"\",0,CFP!I124)","v":0},null,{"$f":"IF(DWP!B124=\"\",\"\",DWP!C124)","v":""},{"$f":"IF(DWP!D124=\"\",0,DWP!D124)","v":0},{"$f":"IF(DWP!D124=\"\",0,DWP!E124)","v":0},null,{"$f":"IF(DWP!G124=\"\",\"\",DWP!H124)","v":""},{"$f":"IF(DWP!I124=\"\",0,DWP!I124)","v":0},null,{"$f":"IF(ALP!B124=\"\",\"\",ALP!C124)","v":""},{"$f":"IF(ALP!D124=\"\",0,ALP!D124)","v":0},{"$f":"IF(ALP!E124=\"\",0,ALP!E124)","v":0},null,{"$f":"IF(PS!B126=\"\",\"\",PS!C126)","v":""},{"$f":"IF(PS!B126=\"\",\"\",PS!D126)","v":""},null,{"$f":"IF(PS!F126=\"\",\"\",PS!G126)","v":""},{"$f":"IF(PS!F126=\"\",\"\",PS!H126)","v":""},null,{"$f":"IF(LP!A124=\"\",\"\",LP!B124)","v":""},{"$f":"IF(LP!A124=\"\",0,LP!C124)","v":0},null,{"$f":"IF(LP!E124=\"\",\"\",LP!F124)","v":""},{"$f":"IF(LP!E124=\"\",0,LP!G124)","v":0},null,{"$f":"IF(LP!I124=\"\",\"\",LP!J124)","v":""},{"$f":"IF(LP!I124=\"\",0,LP!K124)","v":0},null,{"$f":"IF(BPBPS!B124=\"\",\"\",BPBPS!C124)","v":""},{"$f":"IF(BPBPS!B124=\"\",0,BPBPS!D124)","v":0},null,{"$f":"IF(BPBPS!F124=\"\",\"\",BPBPS!G124)","v":""},{"$f":"IF(BPBPS!H124=\"\",0,BPBPS!H124)","v":0},null,{"$f":"IF(BPBPS!J124=\"\",\"\",BPBPS!K124)","v":""},{"$f":"IF(BPBPS!J124=\"\",0,BPBPS!L124)","v":0},null,{"$f":"IF(SSGP!B124=\"\",\"\",SSGP!C124)","v":""},{"$f":"IF(SSGP!B124=\"\",0,SSGP!D124)","v":0},null,{"$f":"IF(SSGP!F124=\"\",\"\",SSGP!G124)","v":""},{"$f":"IF(SSGP!F124=\"\",0,SSGP!H124)","v":0}]
[123,{"$f":"IF(JTP!B125=\"\",\"\",JTP!C125)","v":""},{"$f":"IF(JTP!B125=\"\",0,JTP!D125)","v":0},{"$f":"IF(JTP!B125=\"\",0,JTP!E125)","v":0},null,{"$f":"IF(JTP!G125=\"\",\"\",JTP!H125)","v":""},{"$f":"IF(JTP!G125=\"\",0,JTP!I125)","v":0},{"$f":"IF(JTP!G125=\"\",0,JTP!J125)","v":0},null,{"$f":"IF(JSP!B125=\"\",\"\",JSP!C125)","v":""},{"$f":"IF(JSP!B125=\"\",0,JSP!D125)","v":0},{"$f":"IF(JSP!B125=\"\",0,JSP!E125)","v":0},null,{"$f":"IF(JSP!G125=\"\",\"\",JSP!H125)","v":""},{"$f":"IF(JSP!G125=\"\",0,JSP!I125)","v":0},{"$f":"IF(JSP!G125=\"\",0,JSP!J125)","v":0},null,{"$f":"IF(CFP!B125=\"\",\"\",CFP!C125)","v":""},{"$f":"IF(CFP!B125=\"\",0,CFP!D125)","v":0},{"$f":"IF(CFP!B125=\"\",0,CFP!E125)","v":0},null,{"$f":"IF(CFP!G125=\"\",\"\",CFP!H125)","v":""},{"$f":"IF(CFP!G125=\"\",0,CFP!I125)","v":0},null,{"$f":"IF(DWP!B125=\"\",\"\",DWP!C125)","v":""},{"$f":"IF(DWP!D125=\"\",0,DWP!D125)","v":0},{"$f":"IF(DWP!D125=\"\",0,DWP!E125)","v":0},null,{"$f":"IF(DWP!G125=\"\",\"\",DWP!H125)","v":""},{"$f":"IF(DWP!I125=\"\",0,DWP!I125)","v":0},null,{"$f":"IF(ALP!B125=\"\",\"\",ALP!C125)","v":""},{"$f":"IF(ALP!D125=\"\",0,ALP!D125)","v":0},{"$f":"IF(ALP!E125=\"\",0,ALP!E125)","v":0},null,{"$f":"IF(PS!B127=\"\",\"\",PS!C127)","v":""},{"$f":"IF(PS!B127=\"\",\"\",PS!D127)","v":""},null,{"$f":"IF(PS!F127=\"\",\"\",PS!G127)","v":""},{"$f":"IF(PS!F127=\"\",\"\",PS!H127)","v":""},null,{"$f":"IF(LP!A125=\"\",\"\",LP!B125)","v":""},{"$f":"IF(LP!A125=\"\",0,LP!C125)","v":0},null,{"$f":"IF(LP!E125=\"\",\"\",LP!F125)","v":""},{"$f":"IF(LP!E125=\"\",0,LP!G125)","v":0},null,{"$f":"IF(LP!I125=\"\",\"\",LP!J125)","v":""},{"$f":"IF(LP!I125=\"\",0,LP!K125)","v":0},null,{"$f":"IF(BPBPS!B125=\"\",\"\",BPBPS!C125)","v":""},{"$f":"IF(BPBPS!B125=\"\",0,BPBPS!D125)","v":0},null,{"$f":"IF(BPBPS!F125=\"\",\"\",BPBPS!G125)","v":""},{"$f":"IF(BPBPS!H125=\"\",0,BPBPS!H125)","v":0},null,{"$f":"IF(BPBPS!J125=\"\",\"\",BPBPS!K125)","v":""},{"$f":"IF(BPBPS!J125=\"\",0,BPBPS!L125)","v":0},null,{"$f":"IF(SSGP!B125=\"\",\"\",SSGP!C125)","v":""},{"$f":"IF(SSGP!B125=\"\",0,SSGP!D125)","v":0},null,{"$f":"IF(SSGP!F125=\"\",\"\",SSGP!G125)","v":""},{"$f":"IF(SSGP!F125=\"\",0,SSGP!H125)","v":0}]
[124,{"$f":"IF(JTP!B126=\"\",\"\",JTP!C126)","v":""},{"$f":"IF(JTP!B126=\"\",0,JTP!D126)","v":0},{"$f":"IF(JTP!B126=\"\",0,JTP!E126)","v":0},null,{"$f":"IF(JTP!G126=\"\",\"\",JTP!H126)","v":""},{"$f":"IF(JTP!G126=\"\",0,JTP!I126)","v":0},{"$f":"IF(JTP!G126=\"\",0,JTP!J126)","v":0},null,{"$f":"IF(JSP!B126=\"\",\"\",JSP!C126)","v":""},{"$f":"IF(JSP!B126=\"\",0,JSP!D126)","v":0},{"$f":"IF(JSP!B126=\"\",0,JSP!E126)","v":0},null,{"$f":"IF(JSP!G126=\"\",\"\",JSP!H126)","v":""},{"$f":"IF(JSP!G126=\"\",0,JSP!I126)","v":0},{"$f":"IF(JSP!G126=\"\",0,JSP!J126)","v":0},null,{"$f":"IF(CFP!B126=\"\",\"\",CFP!C126)","v":""},{"$f":"IF(CFP!B126=\"\",0,CFP!D126)","v":0},{"$f":"IF(CFP!B126=\"\",0,CFP!E126)","v":0},null,{"$f":"IF(CFP!G126=\"\",\"\",CFP!H126)","v":""},{"$f":"IF(CFP!G126=\"\",0,CFP!I126)","v":0},null,{"$f":"IF(DWP!B126=\"\",\"\",DWP!C126)","v":""},{"$f":"IF(DWP!D126=\"\",0,DWP!D126)","v":0},{"$f":"IF(DWP!D126=\"\",0,DWP!E126)","v":0},null,{"$f":"IF(DWP!G126=\"\",\"\",DWP!H126)","v":""},{"$f":"IF(DWP!I126=\"\",0,DWP!I126)","v":0},null,{"$f":"IF(ALP!B126=\"\",\"\",ALP!C126)","v":""},{"$f":"IF(ALP!D126=\"\",0,ALP!D126)","v":0},{"$f":"IF(ALP!E126=\"\",0,ALP!E126)","v":0},null,{"$f":"IF(PS!B128=\"\",\"\",PS!C128)","v":""},{"$f":"IF(PS!B128=\"\",\"\",PS!D128)","v":""},null,{"$f":"IF(PS!F128=\"\",\"\",PS!G128)","v":""},{"$f":"IF(PS!F128=\"\",\"\",PS!H128)","v":""},null,{"$f":"IF(LP!A126=\"\",\"\",LP!B126)","v":""},{"$f":"IF(LP!A126=\"\",0,LP!C126)","v":0},null,{"$f":"IF(LP!E126=\"\",\"\",LP!F126)","v":""},{"$f":"IF(LP!E126=\"\",0,LP!G126)","v":0},null,{"$f":"IF(LP!I126=\"\",\"\",LP!J126)","v":""},{"$f":"IF(LP!I126=\"\",0,LP!K126)","v":0},null,{"$f":"IF(BPBPS!B126=\"\",\"\",BPBPS!C126)","v":""},{"$f":"IF(BPBPS!B126=\"\",0,BPBPS!D126)","v":0},null,{"$f":"IF(BPBPS!F126=\"\",\"\",BPBPS!G126)","v":""},{"$f":"IF(BPBPS!H126=\"\",0,BPBPS!H126)","v":0},null,{"$f":"IF(BPBPS!J126=\"\",\"\",BPBPS!K126)","v":""},{"$f":"IF(BPBPS!J126=\"\",0,BPBPS!L126)","v":0},null,{"$f":"IF(SSGP!B126=\"\",\"\",SSGP!C126)","v":""},{"$f":"IF(SSGP!B126=\"\",0,SSGP!D126)","v":0},null,{"$f":"IF(SSGP!F126=\"\",\"\",SSGP!G126)","v":""},{"$f":"IF(SSGP!F126=\"\",0,SSGP!H126)","v":0}]
[125,{"$f":"IF(JTP!B127=\"\",\"\",JTP!C127)","v":""},{"$f":"IF(JTP!B127=\"\",0,JTP!D127)","v":0},{"$f":"IF(JTP!B127=\"\",0,JTP!E127)","v":0},null,{"$f":"IF(JTP!G127=\"\",\"\",JTP!H127)","v":""},{"$f":"IF(JTP!G127=\"\",0,JTP!I127)","v":0},{"$f":"IF(JTP!G127=\"\",0,JTP!J127)","v":0},null,{"$f":"IF(JSP!B127=\"\",\"\",JSP!C127)","v":""},{"$f":"IF(JSP!B127=\"\",0,JSP!D127)","v":0},{"$f":"IF(JSP!B127=\"\",0,JSP!E127)","v":0},null,{"$f":"IF(JSP!G127=\"\",\"\",JSP!H127)","v":""},{"$f":"IF(JSP!G127=\"\",0,JSP!I127)","v":0},{"$f":"IF(JSP!G127=\"\",0,JSP!J127)","v":0},null,{"$f":"IF(CFP!B127=\"\",\"\",CFP!C127)","v":""},{"$f":"IF(CFP!B127=\"\",0,CFP!D127)","v":0},{"$f":"IF(CFP!B127=\"\",0,CFP!E127)","v":0},null,{"$f":"IF(CFP!G127=\"\",\"\",CFP!H127)","v":""},{"$f":"IF(CFP!G127=\"\",0,CFP!I127)","v":0},null,{"$f":"IF(DWP!B127=\"\",\"\",DWP!C127)","v":""},{"$f":"IF(DWP!D127=\"\",0,DWP!D127)","v":0},{"$f":"IF(DWP!D127=\"\",0,DWP!E127)","v":0},null,{"$f":"IF(DWP!G127=\"\",\"\",DWP!H127)","v":""},{"$f":"IF(DWP!I127=\"\",0,DWP!I127)","v":0},null,{"$f":"IF(ALP!B127=\"\",\"\",ALP!C127)","v":""},{"$f":"IF(ALP!D127=\"\",0,ALP!D127)","v":0},{"$f":"IF(ALP!E127=\"\",0,ALP!E127)","v":0},null,{"$f":"IF(PS!B129=\"\",\"\",PS!C129)","v":""},{"$f":"IF(PS!B129=\"\",\"\",PS!D129)","v":""},null,{"$f":"IF(PS!F129=\"\",\"\",PS!G129)","v":""},{"$f":"IF(PS!F129=\"\",\"\",PS!H129)","v":""},null,{"$f":"IF(LP!A127=\"\",\"\",LP!B127)","v":""},{"$f":"IF(LP!A127=\"\",0,LP!C127)","v":0},null,{"$f":"IF(LP!E127=\"\",\"\",LP!F127)","v":""},{"$f":"IF(LP!E127=\"\",0,LP!G127)","v":0},null,{"$f":"IF(LP!I127=\"\",\"\",LP!J127)","v":""},{"$f":"IF(LP!I127=\"\",0,LP!K127)","v":0},null,{"$f":"IF(BPBPS!B127=\"\",\"\",BPBPS!C127)","v":""},{"$f":"IF(BPBPS!B127=\"\",0,BPBPS!D127)","v":0},null,{"$f":"IF(BPBPS!F127=\"\",\"\",BPBPS!G127)","v":""},{"$f":"IF(BPBPS!H127=\"\",0,BPBPS!H127)","v":0},null,{"$f":"IF(BPBPS!J127=\"\",\"\",BPBPS!K127)","v":""},{"$f":"IF(BPBPS!J127=\"\",0,BPBPS!L127)","v":0},null,{"$f":"IF(SSGP!B127=\"\",\"\",SSGP!C127)","v":""},{"$f":"IF(SSGP!B127=\"\",0,SSGP!D127)","v":0},null,{"$f":"IF(SSGP!F127=\"\",\"\",SSGP!G127)","v":""},{"$f":"IF(SSGP!F127=\"\",0,SSGP!H127)","v":0}]
[126,{"$f":"IF(JTP!B128=\"\",\"\",JTP!C128)","v":""},{"$f":"IF(JTP!B128=\"\",0,JTP!D128)","v":0},{"$f":"IF(JTP!B128=\"\",0,JTP!E128)","v":0},null,{"$f":"IF(JTP!G128=\"\",\"\",JTP!H128)","v":""},{"$f":"IF(JTP!G128=\"\",0,JTP!I128)","v":0},{"$f":"IF(JTP!G128=\"\",0,JTP!J128)","v":0},null,{"$f":"IF(JSP!B128=\"\",\"\",JSP!C128)","v":""},{"$f":"IF(JSP!B128=\"\",0,JSP!D128)","v":0},{"$f":"IF(JSP!B128=\"\",0,JSP!E128)","v":0},null,{"$f":"IF(JSP!G128=\"\",\"\",JSP!H128)","v":""},{"$f":"IF(JSP!G128=\"\",0,JSP!I128)","v":0},{"$f":"IF(JSP!G128=\"\",0,JSP!J128)","v":0},null,{"$f":"IF(CFP!B128=\"\",\"\",CFP!C128)","v":""},{"$f":"IF(CFP!B128=\"\",0,CFP!D128)","v":0},{"$f":"IF(CFP!B128=\"\",0,CFP!E128)","v":0},null,{"$f":"IF(CFP!G128=\"\",\"\",CFP!H128)","v":""},{"$f":"IF(CFP!G128=\"\",0,CFP!I128)","v":0},null,{"$f":"IF(DWP!B128=\"\",\"\",DWP!C128)","v":""},{"$f":"IF(DWP!D128=\"\",0,DWP!D128)","v":0},{"$f":"IF(DWP!D128=\"\",0,DWP!E128)","v":0},null,{"$f":"IF(DWP!G128=\"\",\"\",DWP!H128)","v":""},{"$f":"IF(DWP!I128=\"\",0,DWP!I128)","v":0},null,{"$f":"IF(ALP!B128=\"\",\"\",ALP!C128)","v":""},{"$f":"IF(ALP!D128=\"\",0,ALP!D128)","v":0},{"$f":"IF(ALP!E128=\"\",0,ALP!E128)","v":0},null,{"$f":"IF(PS!B130=\"\",\"\",PS!C130)","v":""},{"$f":"IF(PS!B130=\"\",\"\",PS!D130)","v":""},null,{"$f":"IF(PS!F130=\"\",\"\",PS!G130)","v":""},{"$f":"IF(PS!F130=\"\",\"\",PS!H130)","v":""},null,{"$f":"IF(LP!A128=\"\",\"\",LP!B128)","v":""},{"$f":"IF(LP!A128=\"\",0,LP!C128)","v":0},null,{"$f":"IF(LP!E128=\"\",\"\",LP!F128)","v":""},{"$f":"IF(LP!E128=\"\",0,LP!G128)","v":0},null,{"$f":"IF(LP!I128=\"\",\"\",LP!J128)","v":""},{"$f":"IF(LP!I128=\"\",0,LP!K128)","v":0},null,{"$f":"IF(BPBPS!B128=\"\",\"\",BPBPS!C128)","v":""},{"$f":"IF(BPBPS!B128=\"\",0,BPBPS!D128)","v":0},null,{"$f":"IF(BPBPS!F128=\"\",\"\",BPBPS!G128)","v":""},{"$f":"IF(BPBPS!H128=\"\",0,BPBPS!H128)","v":0},null,{"$f":"IF(BPBPS!J128=\"\",\"\",BPBPS!K128)","v":""},{"$f":"IF(BPBPS!J128=\"\",0,BPBPS!L128)","v":0},null,{"$f":"IF(SSGP!B128=\"\",\"\",SSGP!C128)","v":""},{"$f":"IF(SSGP!B128=\"\",0,SSGP!D128)","v":0},null,{"$f":"IF(SSGP!F128=\"\",\"\",SSGP!G128)","v":""},{"$f":"IF(SSGP!F128=\"\",0,SSGP!H128)","v":0}]
[127,{"$f":"IF(JTP!B129=\"\",\"\",JTP!C129)","v":""},{"$f":"IF(JTP!B129=\"\",0,JTP!D129)","v":0},{"$f":"IF(JTP!B129=\"\",0,JTP!E129)","v":0},null,{"$f":"IF(JTP!G129=\"\",\"\",JTP!H129)","v":""},{"$f":"IF(JTP!G129=\"\",0,JTP!I129)","v":0},{"$f":"IF(JTP!G129=\"\",0,JTP!J129)","v":0},null,{"$f":"IF(JSP!B129=\"\",\"\",JSP!C129)","v":""},{"$f":"IF(JSP!B129=\"\",0,JSP!D129)","v":0},{"$f":"IF(JSP!B129=\"\",0,JSP!E129)","v":0},null,{"$f":"IF(JSP!G129=\"\",\"\",JSP!H129)","v":""},{"$f":"IF(JSP!G129=\"\",0,JSP!I129)","v":0},{"$f":"IF(JSP!G129=\"\",0,JSP!J129)","v":0},null,{"$f":"IF(CFP!B129=\"\",\"\",CFP!C129)","v":""},{"$f":"IF(CFP!B129=\"\",0,CFP!D129)","v":0},{"$f":"IF(CFP!B129=\"\",0,CFP!E129)","v":0},null,{"$f":"IF(CFP!G129=\"\",\"\",CFP!H129)","v":""},{"$f":"IF(CFP!G129=\"\",0,CFP!I129)","v":0},null,{"$f":"IF(DWP!B129=\"\",\"\",DWP!C129)","v":""},{"$f":"IF(DWP!D129=\"\",0,DWP!D129)","v":0},{"$f":"IF(DWP!D129=\"\",0,DWP!E129)","v":0},null,{"$f":"IF(DWP!G129=\"\",\"\",DWP!H129)","v":""},{"$f":"IF(DWP!I129=\"\",0,DWP!I129)","v":0},null,{"$f":"IF(ALP!B129=\"\",\"\",ALP!C129)","v":""},{"$f":"IF(ALP!D129=\"\",0,ALP!D129)","v":0},{"$f":"IF(ALP!E129=\"\",0,ALP!E129)","v":0},null,{"$f":"IF(PS!B131=\"\",\"\",PS!C131)","v":""},{"$f":"IF(PS!B131=\"\",\"\",PS!D131)","v":""},null,{"$f":"IF(PS!F131=\"\",\"\",PS!G131)","v":""},{"$f":"IF(PS!F131=\"\",\"\",PS!H131)","v":""},null,{"$f":"IF(LP!A129=\"\",\"\",LP!B129)","v":""},{"$f":"IF(LP!A129=\"\",0,LP!C129)","v":0},null,{"$f":"IF(LP!E129=\"\",\"\",LP!F129)","v":""},{"$f":"IF(LP!E129=\"\",0,LP!G129)","v":0},null,{"$f":"IF(LP!I129=\"\",\"\",LP!J129)","v":""},{"$f":"IF(LP!I129=\"\",0,LP!K129)","v":0},null,{"$f":"IF(BPBPS!B129=\"\",\"\",BPBPS!C129)","v":""},{"$f":"IF(BPBPS!B129=\"\",0,BPBPS!D129)","v":0},null,{"$f":"IF(BPBPS!F129=\"\",\"\",BPBPS!G129)","v":""},{"$f":"IF(BPBPS!H129=\"\",0,BPBPS!H129)","v":0},null,{"$f":"IF(BPBPS!J129=\"\",\"\",BPBPS!K129)","v":""},{"$f":"IF(BPBPS!J129=\"\",0,BPBPS!L129)","v":0},null,{"$f":"IF(SSGP!B129=\"\",\"\",SSGP!C129)","v":""},{"$f":"IF(SSGP!B129=\"\",0,SSGP!D129)","v":0},null,{"$f":"IF(SSGP!F129=\"\",\"\",SSGP!G129)","v":""},{"$f":"IF(SSGP!F129=\"\",0,SSGP!H129)","v":0}]
[128,{"$f":"IF(JTP!B130=\"\",\"\",JTP!C130)","v":""},{"$f":"IF(JTP!B130=\"\",0,JTP!D130)","v":0},{"$f":"IF(JTP!B130=\"\",0,JTP!E130)","v":0},null,{"$f":"IF(JTP!G130=\"\",\"\",JTP!H130)","v":""},{"$f":"IF(JTP!G130=\"\",0,JTP!I130)","v":0},{"$f":"IF(JTP!G130=\"\",0,JTP!J130)","v":0},null,{"$f":"IF(JSP!B130=\"\",\"\",JSP!C130)","v":""},{"$f":"IF(JSP!B130=\"\",0,JSP!D130)","v":0},{"$f":"IF(JSP!B130=\"\",0,JSP!E130)","v":0},null,{"$f":"IF(JSP!G130=\"\",\"\",JSP!H130)","v":""},{"$f":"IF(JSP!G130=\"\",0,JSP!I130)","v":0},{"$f":"IF(JSP!G130=\"\",0,JSP!J130)","v":0},null,{"$f":"IF(CFP!B130=\"\",\"\",CFP!C130)","v":""},{"$f":"IF(CFP!B130=\"\",0,CFP!D130)","v":0},{"$f":"IF(CFP!B130=\"\",0,CFP!E130)","v":0},null,{"$f":"IF(CFP!G130=\"\",\"\",CFP!H130)","v":""},{"$f":"IF(CFP!G130=\"\",0,CFP!I130)","v":0},null,{"$f":"IF(DWP!B130=\"\",\"\",DWP!C130)","v":""},{"$f":"IF(DWP!D130=\"\",0,DWP!D130)","v":0},{"$f":"IF(DWP!D130=\"\",0,DWP!E130)","v":0},null,{"$f":"IF(DWP!G130=\"\",\"\",DWP!H130)","v":""},{"$f":"IF(DWP!I130=\"\",0,DWP!I130)","v":0},null,{"$f":"IF(ALP!B130=\"\",\"\",ALP!C130)","v":""},{"$f":"IF(ALP!D130=\"\",0,ALP!D130)","v":0},{"$f":"IF(ALP!E130=\"\",0,ALP!E130)","v":0},null,{"$f":"IF(PS!B132=\"\",\"\",PS!C132)","v":""},{"$f":"IF(PS!B132=\"\",\"\",PS!D132)","v":""},null,{"$f":"IF(PS!F132=\"\",\"\",PS!G132)","v":""},{"$f":"IF(PS!F132=\"\",\"\",PS!H132)","v":""},null,{"$f":"IF(LP!A130=\"\",\"\",LP!B130)","v":""},{"$f":"IF(LP!A130=\"\",0,LP!C130)","v":0},null,{"$f":"IF(LP!E130=\"\",\"\",LP!F130)","v":""},{"$f":"IF(LP!E130=\"\",0,LP!G130)","v":0},null,{"$f":"IF(LP!I130=\"\",\"\",LP!J130)","v":""},{"$f":"IF(LP!I130=\"\",0,LP!K130)","v":0},null,{"$f":"IF(BPBPS!B130=\"\",\"\",BPBPS!C130)","v":""},{"$f":"IF(BPBPS!B130=\"\",0,BPBPS!D130)","v":0},null,{"$f":"IF(BPBPS!F130=\"\",\"\",BPBPS!G130)","v":""},{"$f":"IF(BPBPS!H130=\"\",0,BPBPS!H130)","v":0},null,{"$f":"IF(BPBPS!J130=\"\",\"\",BPBPS!K130)","v":""},{"$f":"IF(BPBPS!J130=\"\",0,BPBPS!L130)","v":0},null,{"$f":"IF(SSGP!B130=\"\",\"\",SSGP!C130)","v":""},{"$f":"IF(SSGP!B130=\"\",0,SSGP!D130)","v":0},null,{"$f":"IF(SSGP!F130=\"\",\"\",SSGP!G130)","v":""},{"$f":"IF(SSGP!F130=\"\",0,SSGP!H130)","v":0}]
[129,{"$f":"IF(JTP!B131=\"\",\"\",JTP!C131)","v":""},{"$f":"IF(JTP!B131=\"\",0,JTP!D131)","v":0},{"$f":"IF(JTP!B131=\"\",0,JTP!E131)","v":0},null,{"$f":"IF(JTP!G131=\"\",\"\",JTP!H131)","v":""},{"$f":"IF(JTP!G131=\"\",0,JTP!I131)","v":0},{"$f":"IF(JTP!G131=\"\",0,JTP!J131)","v":0},null,{"$f":"IF(JSP!B131=\"\",\"\",JSP!C131)","v":""},{"$f":"IF(JSP!B131=\"\",0,JSP!D131)","v":0},{"$f":"IF(JSP!B131=\"\",0,JSP!E131)","v":0},null,{"$f":"IF(JSP!G131=\"\",\"\",JSP!H131)","v":""},{"$f":"IF(JSP!G131=\"\",0,JSP!I131)","v":0},{"$f":"IF(JSP!G131=\"\",0,JSP!J131)","v":0},null,{"$f":"IF(CFP!B131=\"\",\"\",CFP!C131)","v":""},{"$f":"IF(CFP!B131=\"\",0,CFP!D131)","v":0},{"$f":"IF(CFP!B131=\"\",0,CFP!E131)","v":0},null,{"$f":"IF(CFP!G131=\"\",\"\",CFP!H131)","v":""},{"$f":"IF(CFP!G131=\"\",0,CFP!I131)","v":0},null,{"$f":"IF(DWP!B131=\"\",\"\",DWP!C131)","v":""},{"$f":"IF(DWP!D131=\"\",0,DWP!D131)","v":0},{"$f":"IF(DWP!D131=\"\",0,DWP!E131)","v":0},null,{"$f":"IF(DWP!G131=\"\",\"\",DWP!H131)","v":""},{"$f":"IF(DWP!I131=\"\",0,DWP!I131)","v":0},null,{"$f":"IF(ALP!B131=\"\",\"\",ALP!C131)","v":""},{"$f":"IF(ALP!D131=\"\",0,ALP!D131)","v":0},{"$f":"IF(ALP!E131=\"\",0,ALP!E131)","v":0},null,{"$f":"IF(PS!B133=\"\",\"\",PS!C133)","v":""},{"$f":"IF(PS!B133=\"\",\"\",PS!D133)","v":""},null,{"$f":"IF(PS!F133=\"\",\"\",PS!G133)","v":""},{"$f":"IF(PS!F133=\"\",\"\",PS!H133)","v":""},null,{"$f":"IF(LP!A131=\"\",\"\",LP!B131)","v":""},{"$f":"IF(LP!A131=\"\",0,LP!C131)","v":0},null,{"$f":"IF(LP!E131=\"\",\"\",LP!F131)","v":""},{"$f":"IF(LP!E131=\"\",0,LP!G131)","v":0},null,{"$f":"IF(LP!I131=\"\",\"\",LP!J131)","v":""},{"$f":"IF(LP!I131=\"\",0,LP!K131)","v":0},null,{"$f":"IF(BPBPS!B131=\"\",\"\",BPBPS!C131)","v":""},{"$f":"IF(BPBPS!B131=\"\",0,BPBPS!D131)","v":0},null,{"$f":"IF(BPBPS!F131=\"\",\"\",BPBPS!G131)","v":""},{"$f":"IF(BPBPS!H131=\"\",0,BPBPS!H131)","v":0},null,{"$f":"IF(BPBPS!J131=\"\",\"\",BPBPS!K131)","v":""},{"$f":"IF(BPBPS!J131=\"\",0,BPBPS!L131)","v":0},null,{"$f":"IF(SSGP!B131=\"\",\"\",SSGP!C131)","v":""},{"$f":"IF(SSGP!B131=\"\",0,SSGP!D131)","v":0},null,{"$f":"IF(SSGP!F131=\"\",\"\",SSGP!G131)","v":""},{"$f":"IF(SSGP!F131=\"\",0,SSGP!H131)","v":0}]
[130,{"$f":"IF(JTP!B132=\"\",\"\",JTP!C132)","v":""},{"$f":"IF(JTP!B132=\"\",0,JTP!D132)","v":0},{"$f":"IF(JTP!B132=\"\",0,JTP!E132)","v":0},null,{"$f":"IF(JTP!G132=\"\",\"\",JTP!H132)","v":""},{"$f":"IF(JTP!G132=\"\",0,JTP!I132)","v":0},{"$f":"IF(JTP!G132=\"\",0,JTP!J132)","v":0},null,{"$f":"IF(JSP!B132=\"\",\"\",JSP!C132)","v":""},{"$f":"IF(JSP!B132=\"\",0,JSP!D132)","v":0},{"$f":"IF(JSP!B132=\"\",0,JSP!E132)","v":0},null,{"$f":"IF(JSP!G132=\"\",\"\",JSP!H132)","v":""},{"$f":"IF(JSP!G132=\"\",0,JSP!I132)","v":0},{"$f":"IF(JSP!G132=\"\",0,JSP!J132)","v":0},null,{"$f":"IF(CFP!B132=\"\",\"\",CFP!C132)","v":""},{"$f":"IF(CFP!B132=\"\",0,CFP!D132)","v":0},{"$f":"IF(CFP!B132=\"\",0,CFP!E132)","v":0},null,{"$f":"IF(CFP!G132=\"\",\"\",CFP!H132)","v":""},{"$f":"IF(CFP!G132=\"\",0,CFP!I132)","v":0},null,{"$f":"IF(DWP!B132=\"\",\"\",DWP!C132)","v":""},{"$f":"IF(DWP!D132=\"\",0,DWP!D132)","v":0},{"$f":"IF(DWP!D132=\"\",0,DWP!E132)","v":0},null,{"$f":"IF(DWP!G132=\"\",\"\",DWP!H132)","v":""},{"$f":"IF(DWP!I132=\"\",0,DWP!I132)","v":0},null,{"$f":"IF(ALP!B132=\"\",\"\",ALP!C132)","v":""},{"$f":"IF(ALP!D132=\"\",0,ALP!D132)","v":0},{"$f":"IF(ALP!E132=\"\",0,ALP!E132)","v":0},null,{"$f":"IF(PS!B134=\"\",\"\",PS!C134)","v":""},{"$f":"IF(PS!B134=\"\",\"\",PS!D134)","v":""},null,{"$f":"IF(PS!F134=\"\",\"\",PS!G134)","v":""},{"$f":"IF(PS!F134=\"\",\"\",PS!H134)","v":""},null,{"$f":"IF(LP!A132=\"\",\"\",LP!B132)","v":""},{"$f":"IF(LP!A132=\"\",0,LP!C132)","v":0},null,{"$f":"IF(LP!E132=\"\",\"\",LP!F132)","v":""},{"$f":"IF(LP!E132=\"\",0,LP!G132)","v":0},null,{"$f":"IF(LP!I132=\"\",\"\",LP!J132)","v":""},{"$f":"IF(LP!I132=\"\",0,LP!K132)","v":0},null,{"$f":"IF(BPBPS!B132=\"\",\"\",BPBPS!C132)","v":""},{"$f":"IF(BPBPS!B132=\"\",0,BPBPS!D132)","v":0},null,{"$f":"IF(BPBPS!F132=\"\",\"\",BPBPS!G132)","v":""},{"$f":"IF(BPBPS!H132=\"\",0,BPBPS!H132)","v":0},null,{"$f":"IF(BPBPS!J132=\"\",\"\",BPBPS!K132)","v":""},{"$f":"IF(BPBPS!J132=\"\",0,BPBPS!L132)","v":0},null,{"$f":"IF(SSGP!B132=\"\",\"\",SSGP!C132)","v":""},{"$f":"IF(SSGP!B132=\"\",0,SSGP!D132)","v":0},null,{"$f":"IF(SSGP!F132=\"\",\"\",SSGP!G132)","v":""},{"$f":"IF(SSGP!F132=\"\",0,SSGP!H132)","v":0}]
[131,{"$f":"IF(JTP!B133=\"\",\"\",JTP!C133)","v":""},{"$f":"IF(JTP!B133=\"\",0,JTP!D133)","v":0},{"$f":"IF(JTP!B133=\"\",0,JTP!E133)","v":0},null,{"$f":"IF(JTP!G133=\"\",\"\",JTP!H133)","v":""},{"$f":"IF(JTP!G133=\"\",0,JTP!I133)","v":0},{"$f":"IF(JTP!G133=\"\",0,JTP!J133)","v":0},null,{"$f":"IF(JSP!B133=\"\",\"\",JSP!C133)","v":""},{"$f":"IF(JSP!B133=\"\",0,JSP!D133)","v":0},{"$f":"IF(JSP!B133=\"\",0,JSP!E133)","v":0},null,{"$f":"IF(JSP!G133=\"\",\"\",JSP!H133)","v":""},{"$f":"IF(JSP!G133=\"\",0,JSP!I133)","v":0},{"$f":"IF(JSP!G133=\"\",0,JSP!J133)","v":0},null,{"$f":"IF(CFP!B133=\"\",\"\",CFP!C133)","v":""},{"$f":"IF(CFP!B133=\"\",0,CFP!D133)","v":0},{"$f":"IF(CFP!B133=\"\",0,CFP!E133)","v":0},null,{"$f":"IF(CFP!G133=\"\",\"\",CFP!H133)","v":""},{"$f":"IF(CFP!G133=\"\",0,CFP!I133)","v":0},null,{"$f":"IF(DWP!B133=\"\",\"\",DWP!C133)","v":""},{"$f":"IF(DWP!D133=\"\",0,DWP!D133)","v":0},{"$f":"IF(DWP!D133=\"\",0,DWP!E133)","v":0},null,{"$f":"IF(DWP!G133=\"\",\"\",DWP!H133)","v":""},{"$f":"IF(DWP!I133=\"\",0,DWP!I133)","v":0},null,{"$f":"IF(ALP!B133=\"\",\"\",ALP!C133)","v":""},{"$f":"IF(ALP!D133=\"\",0,ALP!D133)","v":0},{"$f":"IF(ALP!E133=\"\",0,ALP!E133)","v":0},null,{"$f":"IF(PS!B135=\"\",\"\",PS!C135)","v":""},{"$f":"IF(PS!B135=\"\",\"\",PS!D135)","v":""},null,{"$f":"IF(PS!F135=\"\",\"\",PS!G135)","v":""},{"$f":"IF(PS!F135=\"\",\"\",PS!H135)","v":""},null,{"$f":"IF(LP!A133=\"\",\"\",LP!B133)","v":""},{"$f":"IF(LP!A133=\"\",0,LP!C133)","v":0},null,{"$f":"IF(LP!E133=\"\",\"\",LP!F133)","v":""},{"$f":"IF(LP!E133=\"\",0,LP!G133)","v":0},null,{"$f":"IF(LP!I133=\"\",\"\",LP!J133)","v":""},{"$f":"IF(LP!I133=\"\",0,LP!K133)","v":0},null,{"$f":"IF(BPBPS!B133=\"\",\"\",BPBPS!C133)","v":""},{"$f":"IF(BPBPS!B133=\"\",0,BPBPS!D133)","v":0},null,{"$f":"IF(BPBPS!F133=\"\",\"\",BPBPS!G133)","v":""},{"$f":"IF(BPBPS!H133=\"\",0,BPBPS!H133)","v":0},null,{"$f":"IF(BPBPS!J133=\"\",\"\",BPBPS!K133)","v":""},{"$f":"IF(BPBPS!J133=\"\",0,BPBPS!L133)","v":0},null,{"$f":"IF(SSGP!B133=\"\",\"\",SSGP!C133)","v":""},{"$f":"IF(SSGP!B133=\"\",0,SSGP!D133)","v":0},null,{"$f":"IF(SSGP!F133=\"\",\"\",SSGP!G133)","v":""},{"$f":"IF(SSGP!F133=\"\",0,SSGP!H133)","v":0}]
[132,{"$f":"IF(JTP!B134=\"\",\"\",JTP!C134)","v":""},{"$f":"IF(JTP!B134=\"\",0,JTP!D134)","v":0},{"$f":"IF(JTP!B134=\"\",0,JTP!E134)","v":0},null,{"$f":"IF(JTP!G134=\"\",\"\",JTP!H134)","v":""},{"$f":"IF(JTP!G134=\"\",0,JTP!I134)","v":0},{"$f":"IF(JTP!G134=\"\",0,JTP!J134)","v":0},null,{"$f":"IF(JSP!B134=\"\",\"\",JSP!C134)","v":""},{"$f":"IF(JSP!B134=\"\",0,JSP!D134)","v":0},{"$f":"IF(JSP!B134=\"\",0,JSP!E134)","v":0},null,{"$f":"IF(JSP!G134=\"\",\"\",JSP!H134)","v":""},{"$f":"IF(JSP!G134=\"\",0,JSP!I134)","v":0},{"$f":"IF(JSP!G134=\"\",0,JSP!J134)","v":0},null,{"$f":"IF(CFP!B134=\"\",\"\",CFP!C134)","v":""},{"$f":"IF(CFP!B134=\"\",0,CFP!D134)","v":0},{"$f":"IF(CFP!B134=\"\",0,CFP!E134)","v":0},null,{"$f":"IF(CFP!G134=\"\",\"\",CFP!H134)","v":""},{"$f":"IF(CFP!G134=\"\",0,CFP!I134)","v":0},null,{"$f":"IF(DWP!B134=\"\",\"\",DWP!C134)","v":""},{"$f":"IF(DWP!D134=\"\",0,DWP!D134)","v":0},{"$f":"IF(DWP!D134=\"\",0,DWP!E134)","v":0},null,{"$f":"IF(DWP!G134=\"\",\"\",DWP!H134)","v":""},{"$f":"IF(DWP!I134=\"\",0,DWP!I134)","v":0},null,{"$f":"IF(ALP!B134=\"\",\"\",ALP!C134)","v":""},{"$f":"IF(ALP!D134=\"\",0,ALP!D134)","v":0},{"$f":"IF(ALP!E134=\"\",0,ALP!E134)","v":0},null,{"$f":"IF(PS!B136=\"\",\"\",PS!C136)","v":""},{"$f":"IF(PS!B136=\"\",\"\",PS!D136)","v":""},null,{"$f":"IF(PS!F136=\"\",\"\",PS!G136)","v":""},{"$f":"IF(PS!F136=\"\",\"\",PS!H136)","v":""},null,{"$f":"IF(LP!A134=\"\",\"\",LP!B134)","v":""},{"$f":"IF(LP!A134=\"\",0,LP!C134)","v":0},null,{"$f":"IF(LP!E134=\"\",\"\",LP!F134)","v":""},{"$f":"IF(LP!E134=\"\",0,LP!G134)","v":0},null,{"$f":"IF(LP!I134=\"\",\"\",LP!J134)","v":""},{"$f":"IF(LP!I134=\"\",0,LP!K134)","v":0},null,{"$f":"IF(BPBPS!B134=\"\",\"\",BPBPS!C134)","v":""},{"$f":"IF(BPBPS!B134=\"\",0,BPBPS!D134)","v":0},null,{"$f":"IF(BPBPS!F134=\"\",\"\",BPBPS!G134)","v":""},{"$f":"IF(BPBPS!H134=\"\",0,BPBPS!H134)","v":0},null,{"$f":"IF(BPBPS!J134=\"\",\"\",BPBPS!K134)","v":""},{"$f":"IF(BPBPS!J134=\"\",0,BPBPS!L134)","v":0},null,{"$f":"IF(SSGP!B134=\"\",\"\",SSGP!C134)","v":""},{"$f":"IF(SSGP!B134=\"\",0,SSGP!D134)","v":0},null,{"$f":"IF(SSGP!F134=\"\",\"\",SSGP!G134)","v":""},{"$f":"IF(SSGP!F134=\"\",0,SSGP!H134)","v":0}]
[133,{"$f":"IF(JTP!B135=\"\",\"\",JTP!C135)","v":""},{"$f":"IF(JTP!B135=\"\",0,JTP!D135)","v":0},{"$f":"IF(JTP!B135=\"\",0,JTP!E135)","v":0},null,{"$f":"IF(JTP!G135=\"\",\"\",JTP!H135)","v":""},{"$f":"IF(JTP!G135=\"\",0,JTP!I135)","v":0},{"$f":"IF(JTP!G135=\"\",0,JTP!J135)","v":0},null,{"$f":"IF(JSP!B135=\"\",\"\",JSP!C135)","v":""},{"$f":"IF(JSP!B135=\"\",0,JSP!D135)","v":0},{"$f":"IF(JSP!B135=\"\",0,JSP!E135)","v":0},null,{"$f":"IF(JSP!G135=\"\",\"\",JSP!H135)","v":""},{"$f":"IF(JSP!G135=\"\",0,JSP!I135)","v":0},{"$f":"IF(JSP!G135=\"\",0,JSP!J135)","v":0},null,{"$f":"IF(CFP!B135=\"\",\"\",CFP!C135)","v":""},{"$f":"IF(CFP!B135=\"\",0,CFP!D135)","v":0},{"$f":"IF(CFP!B135=\"\",0,CFP!E135)","v":0},null,{"$f":"IF(CFP!G135=\"\",\"\",CFP!H135)","v":""},{"$f":"IF(CFP!G135=\"\",0,CFP!I135)","v":0},null,{"$f":"IF(DWP!B135=\"\",\"\",DWP!C135)","v":""},{"$f":"IF(DWP!D135=\"\",0,DWP!D135)","v":0},{"$f":"IF(DWP!D135=\"\",0,DWP!E135)","v":0},null,{"$f":"IF(DWP!G135=\"\",\"\",DWP!H135)","v":""},{"$f":"IF(DWP!I135=\"\",0,DWP!I135)","v":0},null,{"$f":"IF(ALP!B135=\"\",\"\",ALP!C135)","v":""},{"$f":"IF(ALP!D135=\"\",0,ALP!D135)","v":0},{"$f":"IF(ALP!E135=\"\",0,ALP!E135)","v":0},null,{"$f":"IF(PS!B137=\"\",\"\",PS!C137)","v":""},{"$f":"IF(PS!B137=\"\",\"\",PS!D137)","v":""},null,{"$f":"IF(PS!F137=\"\",\"\",PS!G137)","v":""},{"$f":"IF(PS!F137=\"\",\"\",PS!H137)","v":""},null,{"$f":"IF(LP!A135=\"\",\"\",LP!B135)","v":""},{"$f":"IF(LP!A135=\"\",0,LP!C135)","v":0},null,{"$f":"IF(LP!E135=\"\",\"\",LP!F135)","v":""},{"$f":"IF(LP!E135=\"\",0,LP!G135)","v":0},null,{"$f":"IF(LP!I135=\"\",\"\",LP!J135)","v":""},{"$f":"IF(LP!I135=\"\",0,LP!K135)","v":0},null,{"$f":"IF(BPBPS!B135=\"\",\"\",BPBPS!C135)","v":""},{"$f":"IF(BPBPS!B135=\"\",0,BPBPS!D135)","v":0},null,{"$f":"IF(BPBPS!F135=\"\",\"\",BPBPS!G135)","v":""},{"$f":"IF(BPBPS!H135=\"\",0,BPBPS!H135)","v":0},null,{"$f":"IF(BPBPS!J135=\"\",\"\",BPBPS!K135)","v":""},{"$f":"IF(BPBPS!J135=\"\",0,BPBPS!L135)","v":0},null,{"$f":"IF(SSGP!B135=\"\",\"\",SSGP!C135)","v":""},{"$f":"IF(SSGP!B135=\"\",0,SSGP!D135)","v":0},null,{"$f":"IF(SSGP!F135=\"\",\"\",SSGP!G135)","v":""},{"$f":"IF(SSGP!F135=\"\",0,SSGP!H135)","v":0}]
[134,{"$f":"IF(JTP!B136=\"\",\"\",JTP!C136)","v":""},{"$f":"IF(JTP!B136=\"\",0,JTP!D136)","v":0},{"$f":"IF(JTP!B136=\"\",0,JTP!E136)","v":0},null,{"$f":"IF(JTP!G136=\"\",\"\",JTP!H136)","v":""},{"$f":"IF(JTP!G136=\"\",0,JTP!I136)","v":0},{"$f":"IF(JTP!G136=\"\",0,JTP!J136)","v":0},null,{"$f":"IF(JSP!B136=\"\",\"\",JSP!C136)","v":""},{"$f":"IF(JSP!B136=\"\",0,JSP!D136)","v":0},{"$f":"IF(JSP!B136=\"\",0,JSP!E136)","v":0},null,{"$f":"IF(JSP!G136=\"\",\"\",JSP!H136)","v":""},{"$f":"IF(JSP!G136=\"\",0,JSP!I136)","v":0},{"$f":"IF(JSP!G136=\"\",0,JSP!J136)","v":0},null,{"$f":"IF(CFP!B136=\"\",\"\",CFP!C136)","v":""},{"$f":"IF(CFP!B136=\"\",0,CFP!D136)","v":0},{"$f":"IF(CFP!B136=\"\",0,CFP!E136)","v":0},null,{"$f":"IF(CFP!G136=\"\",\"\",CFP!H136)","v":""},{"$f":"IF(CFP!G136=\"\",0,CFP!I136)","v":0},null,{"$f":"IF(DWP!B136=\"\",\"\",DWP!C136)","v":""},{"$f":"IF(DWP!D136=\"\",0,DWP!D136)","v":0},{"$f":"IF(DWP!D136=\"\",0,DWP!E136)","v":0},null,{"$f":"IF(DWP!G136=\"\",\"\",DWP!H136)","v":""},{"$f":"IF(DWP!I136=\"\",0,DWP!I136)","v":0},null,{"$f":"IF(ALP!B136=\"\",\"\",ALP!C136)","v":""},{"$f":"IF(ALP!D136=\"\",0,ALP!D136)","v":0},{"$f":"IF(ALP!E136=\"\",0,ALP!E136)","v":0},null,{"$f":"IF(PS!B138=\"\",\"\",PS!C138)","v":""},{"$f":"IF(PS!B138=\"\",\"\",PS!D138)","v":""},null,{"$f":"IF(PS!F138=\"\",\"\",PS!G138)","v":""},{"$f":"IF(PS!F138=\"\",\"\",PS!H138)","v":""},null,{"$f":"IF(LP!A136=\"\",\"\",LP!B136)","v":""},{"$f":"IF(LP!A136=\"\",0,LP!C136)","v":0},null,{"$f":"IF(LP!E136=\"\",\"\",LP!F136)","v":""},{"$f":"IF(LP!E136=\"\",0,LP!G136)","v":0},null,{"$f":"IF(LP!I136=\"\",\"\",LP!J136)","v":""},{"$f":"IF(LP!I136=\"\",0,LP!K136)","v":0},null,{"$f":"IF(BPBPS!B136=\"\",\"\",BPBPS!C136)","v":""},{"$f":"IF(BPBPS!B136=\"\",0,BPBPS!D136)","v":0},null,{"$f":"IF(BPBPS!F136=\"\",\"\",BPBPS!G136)","v":""},{"$f":"IF(BPBPS!H136=\"\",0,BPBPS!H136)","v":0},null,{"$f":"IF(BPBPS!J136=\"\",\"\",BPBPS!K136)","v":""},{"$f":"IF(BPBPS!J136=\"\",0,BPBPS!L136)","v":0},null,{"$f":"IF(SSGP!B136=\"\",\"\",SSGP!C136)","v":""},{"$f":"IF(SSGP!B136=\"\",0,SSGP!D136)","v":0},null,{"$f":"IF(SSGP!F136=\"\",\"\",SSGP!G136)","v":""},{"$f":"IF(SSGP!F136=\"\",0,SSGP!H136)","v":0}]
[135,{"$f":"IF(JTP!B137=\"\",\"\",JTP!C137)","v":""},{"$f":"IF(JTP!B137=\"\",0,JTP!D137)","v":0},{"$f":"IF(JTP!B137=\"\",0,JTP!E137)","v":0},null,{"$f":"IF(JTP!G137=\"\",\"\",JTP!H137)","v":""},{"$f":"IF(JTP!G137=\"\",0,JTP!I137)","v":0},{"$f":"IF(JTP!G137=\"\",0,JTP!J137)","v":0},null,{"$f":"IF(JSP!B137=\"\",\"\",JSP!C137)","v":""},{"$f":"IF(JSP!B137=\"\",0,JSP!D137)","v":0},{"$f":"IF(JSP!B137=\"\",0,JSP!E137)","v":0},null,{"$f":"IF(JSP!G137=\"\",\"\",JSP!H137)","v":""},{"$f":"IF(JSP!G137=\"\",0,JSP!I137)","v":0},{"$f":"IF(JSP!G137=\"\",0,JSP!J137)","v":0},null,{"$f":"IF(CFP!B137=\"\",\"\",CFP!C137)","v":""},{"$f":"IF(CFP!B137=\"\",0,CFP!D137)","v":0},{"$f":"IF(CFP!B137=\"\",0,CFP!E137)","v":0},null,{"$f":"IF(CFP!G137=\"\",\"\",CFP!H137)","v":""},{"$f":"IF(CFP!G137=\"\",0,CFP!I137)","v":0},null,{"$f":"IF(DWP!B137=\"\",\"\",DWP!C137)","v":""},{"$f":"IF(DWP!D137=\"\",0,DWP!D137)","v":0},{"$f":"IF(DWP!D137=\"\",0,DWP!E137)","v":0},null,{"$f":"IF(DWP!G137=\"\",\"\",DWP!H137)","v":""},{"$f":"IF(DWP!I137=\"\",0,DWP!I137)","v":0},null,{"$f":"IF(ALP!B137=\"\",\"\",ALP!C137)","v":""},{"$f":"IF(ALP!D137=\"\",0,ALP!D137)","v":0},{"$f":"IF(ALP!E137=\"\",0,ALP!E137)","v":0},null,{"$f":"IF(PS!B139=\"\",\"\",PS!C139)","v":""},{"$f":"IF(PS!B139=\"\",\"\",PS!D139)","v":""},null,{"$f":"IF(PS!F139=\"\",\"\",PS!G139)","v":""},{"$f":"IF(PS!F139=\"\",\"\",PS!H139)","v":""},null,{"$f":"IF(LP!A137=\"\",\"\",LP!B137)","v":""},{"$f":"IF(LP!A137=\"\",0,LP!C137)","v":0},null,{"$f":"IF(LP!E137=\"\",\"\",LP!F137)","v":""},{"$f":"IF(LP!E137=\"\",0,LP!G137)","v":0},null,{"$f":"IF(LP!I137=\"\",\"\",LP!J137)","v":""},{"$f":"IF(LP!I137=\"\",0,LP!K137)","v":0},null,{"$f":"IF(BPBPS!B137=\"\",\"\",BPBPS!C137)","v":""},{"$f":"IF(BPBPS!B137=\"\",0,BPBPS!D137)","v":0},null,{"$f":"IF(BPBPS!F137=\"\",\"\",BPBPS!G137)","v":""},{"$f":"IF(BPBPS!H137=\"\",0,BPBPS!H137)","v":0},null,{"$f":"IF(BPBPS!J137=\"\",\"\",BPBPS!K137)","v":""},{"$f":"IF(BPBPS!J137=\"\",0,BPBPS!L137)","v":0},null,{"$f":"IF(SSGP!B137=\"\",\"\",SSGP!C137)","v":""},{"$f":"IF(SSGP!B137=\"\",0,SSGP!D137)","v":0},null,{"$f":"IF(SSGP!F137=\"\",\"\",SSGP!G137)","v":""},{"$f":"IF(SSGP!F137=\"\",0,SSGP!H137)","v":0}]
[136,{"$f":"IF(JTP!B138=\"\",\"\",JTP!C138)","v":""},{"$f":"IF(JTP!B138=\"\",0,JTP!D138)","v":0},{"$f":"IF(JTP!B138=\"\",0,JTP!E138)","v":0},null,{"$f":"IF(JTP!G138=\"\",\"\",JTP!H138)","v":""},{"$f":"IF(JTP!G138=\"\",0,JTP!I138)","v":0},{"$f":"IF(JTP!G138=\"\",0,JTP!J138)","v":0},null,{"$f":"IF(JSP!B138=\"\",\"\",JSP!C138)","v":""},{"$f":"IF(JSP!B138=\"\",0,JSP!D138)","v":0},{"$f":"IF(JSP!B138=\"\",0,JSP!E138)","v":0},null,{"$f":"IF(JSP!G138=\"\",\"\",JSP!H138)","v":""},{"$f":"IF(JSP!G138=\"\",0,JSP!I138)","v":0},{"$f":"IF(JSP!G138=\"\",0,JSP!J138)","v":0},null,{"$f":"IF(CFP!B138=\"\",\"\",CFP!C138)","v":""},{"$f":"IF(CFP!B138=\"\",0,CFP!D138)","v":0},{"$f":"IF(CFP!B138=\"\",0,CFP!E138)","v":0},null,{"$f":"IF(CFP!G138=\"\",\"\",CFP!H138)","v":""},{"$f":"IF(CFP!G138=\"\",0,CFP!I138)","v":0},null,{"$f":"IF(DWP!B138=\"\",\"\",DWP!C138)","v":""},{"$f":"IF(DWP!D138=\"\",0,DWP!D138)","v":0},{"$f":"IF(DWP!D138=\"\",0,DWP!E138)","v":0},null,{"$f":"IF(DWP!G138=\"\",\"\",DWP!H138)","v":""},{"$f":"IF(DWP!I138=\"\",0,DWP!I138)","v":0},null,{"$f":"IF(ALP!B138=\"\",\"\",ALP!C138)","v":""},{"$f":"IF(ALP!D138=\"\",0,ALP!D138)","v":0},{"$f":"IF(ALP!E138=\"\",0,ALP!E138)","v":0},null,{"$f":"IF(PS!B140=\"\",\"\",PS!C140)","v":""},{"$f":"IF(PS!B140=\"\",\"\",PS!D140)","v":""},null,{"$f":"IF(PS!F140=\"\",\"\",PS!G140)","v":""},{"$f":"IF(PS!F140=\"\",\"\",PS!H140)","v":""},null,{"$f":"IF(LP!A138=\"\",\"\",LP!B138)","v":""},{"$f":"IF(LP!A138=\"\",0,LP!C138)","v":0},null,{"$f":"IF(LP!E138=\"\",\"\",LP!F138)","v":""},{"$f":"IF(LP!E138=\"\",0,LP!G138)","v":0},null,{"$f":"IF(LP!I138=\"\",\"\",LP!J138)","v":""},{"$f":"IF(LP!I138=\"\",0,LP!K138)","v":0},null,{"$f":"IF(BPBPS!B138=\"\",\"\",BPBPS!C138)","v":""},{"$f":"IF(BPBPS!B138=\"\",0,BPBPS!D138)","v":0},null,{"$f":"IF(BPBPS!F138=\"\",\"\",BPBPS!G138)","v":""},{"$f":"IF(BPBPS!H138=\"\",0,BPBPS!H138)","v":0},null,{"$f":"IF(BPBPS!J138=\"\",\"\",BPBPS!K138)","v":""},{"$f":"IF(BPBPS!J138=\"\",0,BPBPS!L138)","v":0},null,{"$f":"IF(SSGP!B138=\"\",\"\",SSGP!C138)","v":""},{"$f":"IF(SSGP!B138=\"\",0,SSGP!D138)","v":0},null,{"$f":"IF(SSGP!F138=\"\",\"\",SSGP!G138)","v":""},{"$f":"IF(SSGP!F138=\"\",0,SSGP!H138)","v":0}]
[137,{"$f":"IF(JTP!B139=\"\",\"\",JTP!C139)","v":""},{"$f":"IF(JTP!B139=\"\",0,JTP!D139)","v":0},{"$f":"IF(JTP!B139=\"\",0,JTP!E139)","v":0},null,{"$f":"IF(JTP!G139=\"\",\"\",JTP!H139)","v":""},{"$f":"IF(JTP!G139=\"\",0,JTP!I139)","v":0},{"$f":"IF(JTP!G139=\"\",0,JTP!J139)","v":0},null,{"$f":"IF(JSP!B139=\"\",\"\",JSP!C139)","v":""},{"$f":"IF(JSP!B139=\"\",0,JSP!D139)","v":0},{"$f":"IF(JSP!B139=\"\",0,JSP!E139)","v":0},null,{"$f":"IF(JSP!G139=\"\",\"\",JSP!H139)","v":""},{"$f":"IF(JSP!G139=\"\",0,JSP!I139)","v":0},{"$f":"IF(JSP!G139=\"\",0,JSP!J139)","v":0},null,{"$f":"IF(CFP!B139=\"\",\"\",CFP!C139)","v":""},{"$f":"IF(CFP!B139=\"\",0,CFP!D139)","v":0},{"$f":"IF(CFP!B139=\"\",0,CFP!E139)","v":0},null,{"$f":"IF(CFP!G139=\"\",\"\",CFP!H139)","v":""},{"$f":"IF(CFP!G139=\"\",0,CFP!I139)","v":0},null,{"$f":"IF(DWP!B139=\"\",\"\",DWP!C139)","v":""},{"$f":"IF(DWP!D139=\"\",0,DWP!D139)","v":0},{"$f":"IF(DWP!D139=\"\",0,DWP!E139)","v":0},null,{"$f":"IF(DWP!G139=\"\",\"\",DWP!H139)","v":""},{"$f":"IF(DWP!I139=\"\",0,DWP!I139)","v":0},null,{"$f":"IF(ALP!B139=\"\",\"\",ALP!C139)","v":""},{"$f":"IF(ALP!D139=\"\",0,ALP!D139)","v":0},{"$f":"IF(ALP!E139=\"\",0,ALP!E139)","v":0},null,{"$f":"IF(PS!B141=\"\",\"\",PS!C141)","v":""},{"$f":"IF(PS!B141=\"\",\"\",PS!D141)","v":""},null,{"$f":"IF(PS!F141=\"\",\"\",PS!G141)","v":""},{"$f":"IF(PS!F141=\"\",\"\",PS!H141)","v":""},null,{"$f":"IF(LP!A139=\"\",\"\",LP!B139)","v":""},{"$f":"IF(LP!A139=\"\",0,LP!C139)","v":0},null,{"$f":"IF(LP!E139=\"\",\"\",LP!F139)","v":""},{"$f":"IF(LP!E139=\"\",0,LP!G139)","v":0},null,{"$f":"IF(LP!I139=\"\",\"\",LP!J139)","v":""},{"$f":"IF(LP!I139=\"\",0,LP!K139)","v":0},null,{"$f":"IF(BPBPS!B139=\"\",\"\",BPBPS!C139)","v":""},{"$f":"IF(BPBPS!B139=\"\",0,BPBPS!D139)","v":0},null,{"$f":"IF(BPBPS!F139=\"\",\"\",BPBPS!G139)","v":""},{"$f":"IF(BPBPS!H139=\"\",0,BPBPS!H139)","v":0},null,{"$f":"IF(BPBPS!J139=\"\",\"\",BPBPS!K139)","v":""},{"$f":"IF(BPBPS!J139=\"\",0,BPBPS!L139)","v":0},null,{"$f":"IF(SSGP!B139=\"\",\"\",SSGP!C139)","v":""},{"$f":"IF(SSGP!B139=\"\",0,SSGP!D139)","v":0},null,{"$f":"IF(SSGP!F139=\"\",\"\",SSGP!G139)","v":""},{"$f":"IF(SSGP!F139=\"\",0,SSGP!H139)","v":0}]
[138,{"$f":"IF(JTP!B140=\"\",\"\",JTP!C140)","v":""},{"$f":"IF(JTP!B140=\"\",0,JTP!D140)","v":0},{"$f":"IF(JTP!B140=\"\",0,JTP!E140)","v":0},null,{"$f":"IF(JTP!G140=\"\",\"\",JTP!H140)","v":""},{"$f":"IF(JTP!G140=\"\",0,JTP!I140)","v":0},{"$f":"IF(JTP!G140=\"\",0,JTP!J140)","v":0},null,{"$f":"IF(JSP!B140=\"\",\"\",JSP!C140)","v":""},{"$f":"IF(JSP!B140=\"\",0,JSP!D140)","v":0},{"$f":"IF(JSP!B140=\"\",0,JSP!E140)","v":0},null,{"$f":"IF(JSP!G140=\"\",\"\",JSP!H140)","v":""},{"$f":"IF(JSP!G140=\"\",0,JSP!I140)","v":0},{"$f":"IF(JSP!G140=\"\",0,JSP!J140)","v":0},null,{"$f":"IF(CFP!B140=\"\",\"\",CFP!C140)","v":""},{"$f":"IF(CFP!B140=\"\",0,CFP!D140)","v":0},{"$f":"IF(CFP!B140=\"\",0,CFP!E140)","v":0},null,{"$f":"IF(CFP!G140=\"\",\"\",CFP!H140)","v":""},{"$f":"IF(CFP!G140=\"\",0,CFP!I140)","v":0},null,{"$f":"IF(DWP!B140=\"\",\"\",DWP!C140)","v":""},{"$f":"IF(DWP!D140=\"\",0,DWP!D140)","v":0},{"$f":"IF(DWP!D140=\"\",0,DWP!E140)","v":0},null,{"$f":"IF(DWP!G140=\"\",\"\",DWP!H140)","v":""},{"$f":"IF(DWP!I140=\"\",0,DWP!I140)","v":0},null,{"$f":"IF(ALP!B140=\"\",\"\",ALP!C140)","v":""},{"$f":"IF(ALP!D140=\"\",0,ALP!D140)","v":0},{"$f":"IF(ALP!E140=\"\",0,ALP!E140)","v":0},null,{"$f":"IF(PS!B142=\"\",\"\",PS!C142)","v":""},{"$f":"IF(PS!B142=\"\",\"\",PS!D142)","v":""},null,{"$f":"IF(PS!F142=\"\",\"\",PS!G142)","v":""},{"$f":"IF(PS!F142=\"\",\"\",PS!H142)","v":""},null,{"$f":"IF(LP!A140=\"\",\"\",LP!B140)","v":""},{"$f":"IF(LP!A140=\"\",0,LP!C140)","v":0},null,{"$f":"IF(LP!E140=\"\",\"\",LP!F140)","v":""},{"$f":"IF(LP!E140=\"\",0,LP!G140)","v":0},null,{"$f":"IF(LP!I140=\"\",\"\",LP!J140)","v":""},{"$f":"IF(LP!I140=\"\",0,LP!K140)","v":0},null,{"$f":"IF(BPBPS!B140=\"\",\"\",BPBPS!C140)","v":""},{"$f":"IF(BPBPS!B140=\"\",0,BPBPS!D140)","v":0},null,{"$f":"IF(BPBPS!F140=\"\",\"\",BPBPS!G140)","v":""},{"$f":"IF(BPBPS!H140=\"\",0,BPBPS!H140)","v":0},null,{"$f":"IF(BPBPS!J140=\"\",\"\",BPBPS!K140)","v":""},{"$f":"IF(BPBPS!J140=\"\",0,BPBPS!L140)","v":0},null,{"$f":"IF(SSGP!B140=\"\",\"\",SSGP!C140)","v":""},{"$f":"IF(SSGP!B140=\"\",0,SSGP!D140)","v":0},null,{"$f":"IF(SSGP!F140=\"\",\"\",SSGP!G140)","v":""},{"$f":"IF(SSGP!F140=\"\",0,SSGP!H140)","v":0}]
[139,{"$f":"IF(JTP!B141=\"\",\"\",JTP!C141)","v":""},{"$f":"IF(JTP!B141=\"\",0,JTP!D141)","v":0},{"$f":"IF(JTP!B141=\"\",0,JTP!E141)","v":0},null,{"$f":"IF(JTP!G141=\"\",\"\",JTP!H141)","v":""},{"$f":"IF(JTP!G141=\"\",0,JTP!I141)","v":0},{"$f":"IF(JTP!G141=\"\",0,JTP!J141)","v":0},null,{"$f":"IF(JSP!B141=\"\",\"\",JSP!C141)","v":""},{"$f":"IF(JSP!B141=\"\",0,JSP!D141)","v":0},{"$f":"IF(JSP!B141=\"\",0,JSP!E141)","v":0},null,{"$f":"IF(JSP!G141=\"\",\"\",JSP!H141)","v":""},{"$f":"IF(JSP!G141=\"\",0,JSP!I141)","v":0},{"$f":"IF(JSP!G141=\"\",0,JSP!J141)","v":0},null,{"$f":"IF(CFP!B141=\"\",\"\",CFP!C141)","v":""},{"$f":"IF(CFP!B141=\"\",0,CFP!D141)","v":0},{"$f":"IF(CFP!B141=\"\",0,CFP!E141)","v":0},null,{"$f":"IF(CFP!G141=\"\",\"\",CFP!H141)","v":""},{"$f":"IF(CFP!G141=\"\",0,CFP!I141)","v":0},null,{"$f":"IF(DWP!B141=\"\",\"\",DWP!C141)","v":""},{"$f":"IF(DWP!D141=\"\",0,DWP!D141)","v":0},{"$f":"IF(DWP!D141=\"\",0,DWP!E141)","v":0},null,{"$f":"IF(DWP!G141=\"\",\"\",DWP!H141)","v":""},{"$f":"IF(DWP!I141=\"\",0,DWP!I141)","v":0},null,{"$f":"IF(ALP!B141=\"\",\"\",ALP!C141)","v":""},{"$f":"IF(ALP!D141=\"\",0,ALP!D141)","v":0},{"$f":"IF(ALP!E141=\"\",0,ALP!E141)","v":0},null,{"$f":"IF(PS!B143=\"\",\"\",PS!C143)","v":""},{"$f":"IF(PS!B143=\"\",\"\",PS!D143)","v":""},null,{"$f":"IF(PS!F143=\"\",\"\",PS!G143)","v":""},{"$f":"IF(PS!F143=\"\",\"\",PS!H143)","v":""},null,{"$f":"IF(LP!A141=\"\",\"\",LP!B141)","v":""},{"$f":"IF(LP!A141=\"\",0,LP!C141)","v":0},null,{"$f":"IF(LP!E141=\"\",\"\",LP!F141)","v":""},{"$f":"IF(LP!E141=\"\",0,LP!G141)","v":0},null,{"$f":"IF(LP!I141=\"\",\"\",LP!J141)","v":""},{"$f":"IF(LP!I141=\"\",0,LP!K141)","v":0},null,{"$f":"IF(BPBPS!B141=\"\",\"\",BPBPS!C141)","v":""},{"$f":"IF(BPBPS!B141=\"\",0,BPBPS!D141)","v":0},null,{"$f":"IF(BPBPS!F141=\"\",\"\",BPBPS!G141)","v":""},{"$f":"IF(BPBPS!H141=\"\",0,BPBPS!H141)","v":0},null,{"$f":"IF(BPBPS!J141=\"\",\"\",BPBPS!K141)","v":""},{"$f":"IF(BPBPS!J141=\"\",0,BPBPS!L141)","v":0},null,{"$f":"IF(SSGP!B141=\"\",\"\",SSGP!C141)","v":""},{"$f":"IF(SSGP!B141=\"\",0,SSGP!D141)","v":0},null,{"$f":"IF(SSGP!F141=\"\",\"\",SSGP!G141)","v":""},{"$f":"IF(SSGP!F141=\"\",0,SSGP!H141)","v":0}]
[140,{"$f":"IF(JTP!B142=\"\",\"\",JTP!C142)","v":""},{"$f":"IF(JTP!B142=\"\",0,JTP!D142)","v":0},{"$f":"IF(JTP!B142=\"\",0,JTP!E142)","v":0},null,{"$f":"IF(JTP!G142=\"\",\"\",JTP!H142)","v":""},{"$f":"IF(JTP!G142=\"\",0,JTP!I142)","v":0},{"$f":"IF(JTP!G142=\"\",0,JTP!J142)","v":0},null,{"$f":"IF(JSP!B142=\"\",\"\",JSP!C142)","v":""},{"$f":"IF(JSP!B142=\"\",0,JSP!D142)","v":0},{"$f":"IF(JSP!B142=\"\",0,JSP!E142)","v":0},null,{"$f":"IF(JSP!G142=\"\",\"\",JSP!H142)","v":""},{"$f":"IF(JSP!G142=\"\",0,JSP!I142)","v":0},{"$f":"IF(JSP!G142=\"\",0,JSP!J142)","v":0},null,{"$f":"IF(CFP!B142=\"\",\"\",CFP!C142)","v":""},{"$f":"IF(CFP!B142=\"\",0,CFP!D142)","v":0},{"$f":"IF(CFP!B142=\"\",0,CFP!E142)","v":0},null,{"$f":"IF(CFP!G142=\"\",\"\",CFP!H142)","v":""},{"$f":"IF(CFP!G142=\"\",0,CFP!I142)","v":0},null,{"$f":"IF(DWP!B142=\"\",\"\",DWP!C142)","v":""},{"$f":"IF(DWP!D142=\"\",0,DWP!D142)","v":0},{"$f":"IF(DWP!D142=\"\",0,DWP!E142)","v":0},null,{"$f":"IF(DWP!G142=\"\",\"\",DWP!H142)","v":""},{"$f":"IF(DWP!I142=\"\",0,DWP!I142)","v":0},null,{"$f":"IF(ALP!B142=\"\",\"\",ALP!C142)","v":""},{"$f":"IF(ALP!D142=\"\",0,ALP!D142)","v":0},{"$f":"IF(ALP!E142=\"\",0,ALP!E142)","v":0},null,{"$f":"IF(PS!B144=\"\",\"\",PS!C144)","v":""},{"$f":"IF(PS!B144=\"\",\"\",PS!D144)","v":""},null,{"$f":"IF(PS!F144=\"\",\"\",PS!G144)","v":""},{"$f":"IF(PS!F144=\"\",\"\",PS!H144)","v":""},null,{"$f":"IF(LP!A142=\"\",\"\",LP!B142)","v":""},{"$f":"IF(LP!A142=\"\",0,LP!C142)","v":0},null,{"$f":"IF(LP!E142=\"\",\"\",LP!F142)","v":""},{"$f":"IF(LP!E142=\"\",0,LP!G142)","v":0},null,{"$f":"IF(LP!I142=\"\",\"\",LP!J142)","v":""},{"$f":"IF(LP!I142=\"\",0,LP!K142)","v":0},null,{"$f":"IF(BPBPS!B142=\"\",\"\",BPBPS!C142)","v":""},{"$f":"IF(BPBPS!B142=\"\",0,BPBPS!D142)","v":0},null,{"$f":"IF(BPBPS!F142=\"\",\"\",BPBPS!G142)","v":""},{"$f":"IF(BPBPS!H142=\"\",0,BPBPS!H142)","v":0},null,{"$f":"IF(BPBPS!J142=\"\",\"\",BPBPS!K142)","v":""},{"$f":"IF(BPBPS!J142=\"\",0,BPBPS!L142)","v":0},null,{"$f":"IF(SSGP!B142=\"\",\"\",SSGP!C142)","v":""},{"$f":"IF(SSGP!B142=\"\",0,SSGP!D142)","v":0},null,{"$f":"IF(SSGP!F142=\"\",\"\",SSGP!G142)","v":""},{"$f":"IF(SSGP!F142=\"\",0,SSGP!H142)","v":0}]
[141,{"$f":"IF(JTP!B143=\"\",\"\",JTP!C143)","v":""},{"$f":"IF(JTP!B143=\"\",0,JTP!D143)","v":0},{"$f":"IF(JTP!B143=\"\",0,JTP!E143)","v":0},null,{"$f":"IF(JTP!G143=\"\",\"\",JTP!H143)","v":""},{"$f":"IF(JTP!G143=\"\",0,JTP!I143)","v":0},{"$f":"IF(JTP!G143=\"\",0,JTP!J143)","v":0},null,{"$f":"IF(JSP!B143=\"\",\"\",JSP!C143)","v":""},{"$f":"IF(JSP!B143=\"\",0,JSP!D143)","v":0},{"$f":"IF(JSP!B143=\"\",0,JSP!E143)","v":0},null,{"$f":"IF(JSP!G143=\"\",\"\",JSP!H143)","v":""},{"$f":"IF(JSP!G143=\"\",0,JSP!I143)","v":0},{"$f":"IF(JSP!G143=\"\",0,JSP!J143)","v":0},null,{"$f":"IF(CFP!B143=\"\",\"\",CFP!C143)","v":""},{"$f":"IF(CFP!B143=\"\",0,CFP!D143)","v":0},{"$f":"IF(CFP!B143=\"\",0,CFP!E143)","v":0},null,{"$f":"IF(CFP!G143=\"\",\"\",CFP!H143)","v":""},{"$f":"IF(CFP!G143=\"\",0,CFP!I143)","v":0},null,{"$f":"IF(DWP!B143=\"\",\"\",DWP!C143)","v":""},{"$f":"IF(DWP!D143=\"\",0,DWP!D143)","v":0},{"$f":"IF(DWP!D143=\"\",0,DWP!E143)","v":0},null,{"$f":"IF(DWP!G143=\"\",\"\",DWP!H143)","v":""},{"$f":"IF(DWP!I143=\"\",0,DWP!I143)","v":0},null,{"$f":"IF(ALP!B143=\"\",\"\",ALP!C143)","v":""},{"$f":"IF(ALP!D143=\"\",0,ALP!D143)","v":0},{"$f":"IF(ALP!E143=\"\",0,ALP!E143)","v":0},null,{"$f":"IF(PS!B145=\"\",\"\",PS!C145)","v":""},{"$f":"IF(PS!B145=\"\",\"\",PS!D145)","v":""},null,{"$f":"IF(PS!F145=\"\",\"\",PS!G145)","v":""},{"$f":"IF(PS!F145=\"\",\"\",PS!H145)","v":""},null,{"$f":"IF(LP!A143=\"\",\"\",LP!B143)","v":""},{"$f":"IF(LP!A143=\"\",0,LP!C143)","v":0},null,{"$f":"IF(LP!E143=\"\",\"\",LP!F143)","v":""},{"$f":"IF(LP!E143=\"\",0,LP!G143)","v":0},null,{"$f":"IF(LP!I143=\"\",\"\",LP!J143)","v":""},{"$f":"IF(LP!I143=\"\",0,LP!K143)","v":0},null,{"$f":"IF(BPBPS!B143=\"\",\"\",BPBPS!C143)","v":""},{"$f":"IF(BPBPS!B143=\"\",0,BPBPS!D143)","v":0},null,{"$f":"IF(BPBPS!F143=\"\",\"\",BPBPS!G143)","v":""},{"$f":"IF(BPBPS!H143=\"\",0,BPBPS!H143)","v":0},null,{"$f":"IF(BPBPS!J143=\"\",\"\",BPBPS!K143)","v":""},{"$f":"IF(BPBPS!J143=\"\",0,BPBPS!L143)","v":0},null,{"$f":"IF(SSGP!B143=\"\",\"\",SSGP!C143)","v":""},{"$f":"IF(SSGP!B143=\"\",0,SSGP!D143)","v":0},null,{"$f":"IF(SSGP!F143=\"\",\"\",SSGP!G143)","v":""},{"$f":"IF(SSGP!F143=\"\",0,SSGP!H143)","v":0}]
[142,{"$f":"IF(JTP!B144=\"\",\"\",JTP!C144)","v":""},{"$f":"IF(JTP!B144=\"\",0,JTP!D144)","v":0},{"$f":"IF(JTP!B144=\"\",0,JTP!E144)","v":0},null,{"$f":"IF(JTP!G144=\"\",\"\",JTP!H144)","v":""},{"$f":"IF(JTP!G144=\"\",0,JTP!I144)","v":0},{"$f":"IF(JTP!G144=\"\",0,JTP!J144)","v":0},null,{"$f":"IF(JSP!B144=\"\",\"\",JSP!C144)","v":""},{"$f":"IF(JSP!B144=\"\",0,JSP!D144)","v":0},{"$f":"IF(JSP!B144=\"\",0,JSP!E144)","v":0},null,{"$f":"IF(JSP!G144=\"\",\"\",JSP!H144)","v":""},{"$f":"IF(JSP!G144=\"\",0,JSP!I144)","v":0},{"$f":"IF(JSP!G144=\"\",0,JSP!J144)","v":0},null,{"$f":"IF(CFP!B144=\"\",\"\",CFP!C144)","v":""},{"$f":"IF(CFP!B144=\"\",0,CFP!D144)","v":0},{"$f":"IF(CFP!B144=\"\",0,CFP!E144)","v":0},null,{"$f":"IF(CFP!G144=\"\",\"\",CFP!H144)","v":""},{"$f":"IF(CFP!G144=\"\",0,CFP!I144)","v":0},null,{"$f":"IF(DWP!B144=\"\",\"\",DWP!C144)","v":""},{"$f":"IF(DWP!D144=\"\",0,DWP!D144)","v":0},{"$f":"IF(DWP!D144=\"\",0,DWP!E144)","v":0},null,{"$f":"IF(DWP!G144=\"\",\"\",DWP!H144)","v":""},{"$f":"IF(DWP!I144=\"\",0,DWP!I144)","v":0},null,{"$f":"IF(ALP!B144=\"\",\"\",ALP!C144)","v":""},{"$f":"IF(ALP!D144=\"\",0,ALP!D144)","v":0},{"$f":"IF(ALP!E144=\"\",0,ALP!E144)","v":0},null,{"$f":"IF(PS!B146=\"\",\"\",PS!C146)","v":""},{"$f":"IF(PS!B146=\"\",\"\",PS!D146)","v":""},null,{"$f":"IF(PS!F146=\"\",\"\",PS!G146)","v":""},{"$f":"IF(PS!F146=\"\",\"\",PS!H146)","v":""},null,{"$f":"IF(LP!A144=\"\",\"\",LP!B144)","v":""},{"$f":"IF(LP!A144=\"\",0,LP!C144)","v":0},null,{"$f":"IF(LP!E144=\"\",\"\",LP!F144)","v":""},{"$f":"IF(LP!E144=\"\",0,LP!G144)","v":0},null,{"$f":"IF(LP!I144=\"\",\"\",LP!J144)","v":""},{"$f":"IF(LP!I144=\"\",0,LP!K144)","v":0},null,{"$f":"IF(BPBPS!B144=\"\",\"\",BPBPS!C144)","v":""},{"$f":"IF(BPBPS!B144=\"\",0,BPBPS!D144)","v":0},null,{"$f":"IF(BPBPS!F144=\"\",\"\",BPBPS!G144)","v":""},{"$f":"IF(BPBPS!H144=\"\",0,BPBPS!H144)","v":0},null,{"$f":"IF(BPBPS!J144=\"\",\"\",BPBPS!K144)","v":""},{"$f":"IF(BPBPS!J144=\"\",0,BPBPS!L144)","v":0},null,{"$f":"IF(SSGP!B144=\"\",\"\",SSGP!C144)","v":""},{"$f":"IF(SSGP!B144=\"\",0,SSGP!D144)","v":0},null,{"$f":"IF(SSGP!F144=\"\",\"\",SSGP!G144)","v":""},{"$f":"IF(SSGP!F144=\"\",0,SSGP!H144)","v":0}]
[143,{"$f":"IF(JTP!B145=\"\",\"\",JTP!C145)","v":""},{"$f":"IF(JTP!B145=\"\",0,JTP!D145)","v":0},{"$f":"IF(JTP!B145=\"\",0,JTP!E145)","v":0},null,{"$f":"IF(JTP!G145=\"\",\"\",JTP!H145)","v":""},{"$f":"IF(JTP!G145=\"\",0,JTP!I145)","v":0},{"$f":"IF(JTP!G145=\"\",0,JTP!J145)","v":0},null,{"$f":"IF(JSP!B145=\"\",\"\",JSP!C145)","v":""},{"$f":"IF(JSP!B145=\"\",0,JSP!D145)","v":0},{"$f":"IF(JSP!B145=\"\",0,JSP!E145)","v":0},null,{"$f":"IF(JSP!G145=\"\",\"\",JSP!H145)","v":""},{"$f":"IF(JSP!G145=\"\",0,JSP!I145)","v":0},{"$f":"IF(JSP!G145=\"\",0,JSP!J145)","v":0},null,{"$f":"IF(CFP!B145=\"\",\"\",CFP!C145)","v":""},{"$f":"IF(CFP!B145=\"\",0,CFP!D145)","v":0},{"$f":"IF(CFP!B145=\"\",0,CFP!E145)","v":0},null,{"$f":"IF(CFP!G145=\"\",\"\",CFP!H145)","v":""},{"$f":"IF(CFP!G145=\"\",0,CFP!I145)","v":0},null,{"$f":"IF(DWP!B145=\"\",\"\",DWP!C145)","v":""},{"$f":"IF(DWP!D145=\"\",0,DWP!D145)","v":0},{"$f":"IF(DWP!D145=\"\",0,DWP!E145)","v":0},null,{"$f":"IF(DWP!G145=\"\",\"\",DWP!H145)","v":""},{"$f":"IF(DWP!I145=\"\",0,DWP!I145)","v":0},null,{"$f":"IF(ALP!B145=\"\",\"\",ALP!C145)","v":""},{"$f":"IF(ALP!D145=\"\",0,ALP!D145)","v":0},{"$f":"IF(ALP!E145=\"\",0,ALP!E145)","v":0},null,{"$f":"IF(PS!B147=\"\",\"\",PS!C147)","v":""},{"$f":"IF(PS!B147=\"\",\"\",PS!D147)","v":""},null,{"$f":"IF(PS!F147=\"\",\"\",PS!G147)","v":""},{"$f":"IF(PS!F147=\"\",\"\",PS!H147)","v":""},null,{"$f":"IF(LP!A145=\"\",\"\",LP!B145)","v":""},{"$f":"IF(LP!A145=\"\",0,LP!C145)","v":0},null,{"$f":"IF(LP!E145=\"\",\"\",LP!F145)","v":""},{"$f":"IF(LP!E145=\"\",0,LP!G145)","v":0},null,{"$f":"IF(LP!I145=\"\",\"\",LP!J145)","v":""},{"$f":"IF(LP!I145=\"\",0,LP!K145)","v":0},null,{"$f":"IF(BPBPS!B145=\"\",\"\",BPBPS!C145)","v":""},{"$f":"IF(BPBPS!B145=\"\",0,BPBPS!D145)","v":0},null,{"$f":"IF(BPBPS!F145=\"\",\"\",BPBPS!G145)","v":""},{"$f":"IF(BPBPS!H145=\"\",0,BPBPS!H145)","v":0},null,{"$f":"IF(BPBPS!J145=\"\",\"\",BPBPS!K145)","v":""},{"$f":"IF(BPBPS!J145=\"\",0,BPBPS!L145)","v":0},null,{"$f":"IF(SSGP!B145=\"\",\"\",SSGP!C145)","v":""},{"$f":"IF(SSGP!B145=\"\",0,SSGP!D145)","v":0},null,{"$f":"IF(SSGP!F145=\"\",\"\",SSGP!G145)","v":""},{"$f":"IF(SSGP!F145=\"\",0,SSGP!H145)","v":0}]
[144,{"$f":"IF(JTP!B146=\"\",\"\",JTP!C146)","v":""},{"$f":"IF(JTP!B146=\"\",0,JTP!D146)","v":0},{"$f":"IF(JTP!B146=\"\",0,JTP!E146)","v":0},null,{"$f":"IF(JTP!G146=\"\",\"\",JTP!H146)","v":""},{"$f":"IF(JTP!G146=\"\",0,JTP!I146)","v":0},{"$f":"IF(JTP!G146=\"\",0,JTP!J146)","v":0},null,{"$f":"IF(JSP!B146=\"\",\"\",JSP!C146)","v":""},{"$f":"IF(JSP!B146=\"\",0,JSP!D146)","v":0},{"$f":"IF(JSP!B146=\"\",0,JSP!E146)","v":0},null,{"$f":"IF(JSP!G146=\"\",\"\",JSP!H146)","v":""},{"$f":"IF(JSP!G146=\"\",0,JSP!I146)","v":0},{"$f":"IF(JSP!G146=\"\",0,JSP!J146)","v":0},null,{"$f":"IF(CFP!B146=\"\",\"\",CFP!C146)","v":""},{"$f":"IF(CFP!B146=\"\",0,CFP!D146)","v":0},{"$f":"IF(CFP!B146=\"\",0,CFP!E146)","v":0},null,{"$f":"IF(CFP!G146=\"\",\"\",CFP!H146)","v":""},{"$f":"IF(CFP!G146=\"\",0,CFP!I146)","v":0},null,{"$f":"IF(DWP!B146=\"\",\"\",DWP!C146)","v":""},{"$f":"IF(DWP!D146=\"\",0,DWP!D146)","v":0},{"$f":"IF(DWP!D146=\"\",0,DWP!E146)","v":0},null,{"$f":"IF(DWP!G146=\"\",\"\",DWP!H146)","v":""},{"$f":"IF(DWP!I146=\"\",0,DWP!I146)","v":0},null,{"$f":"IF(ALP!B146=\"\",\"\",ALP!C146)","v":""},{"$f":"IF(ALP!D146=\"\",0,ALP!D146)","v":0},{"$f":"IF(ALP!E146=\"\",0,ALP!E146)","v":0},null,{"$f":"IF(PS!B148=\"\",\"\",PS!C148)","v":""},{"$f":"IF(PS!B148=\"\",\"\",PS!D148)","v":""},null,{"$f":"IF(PS!F148=\"\",\"\",PS!G148)","v":""},{"$f":"IF(PS!F148=\"\",\"\",PS!H148)","v":""},null,{"$f":"IF(LP!A146=\"\",\"\",LP!B146)","v":""},{"$f":"IF(LP!A146=\"\",0,LP!C146)","v":0},null,{"$f":"IF(LP!E146=\"\",\"\",LP!F146)","v":""},{"$f":"IF(LP!E146=\"\",0,LP!G146)","v":0},null,{"$f":"IF(LP!I146=\"\",\"\",LP!J146)","v":""},{"$f":"IF(LP!I146=\"\",0,LP!K146)","v":0},null,{"$f":"IF(BPBPS!B146=\"\",\"\",BPBPS!C146)","v":""},{"$f":"IF(BPBPS!B146=\"\",0,BPBPS!D146)","v":0},null,{"$f":"IF(BPBPS!F146=\"\",\"\",BPBPS!G146)","v":""},{"$f":"IF(BPBPS!H146=\"\",0,BPBPS!H146)","v":0},null,{"$f":"IF(BPBPS!J146=\"\",\"\",BPBPS!K146)","v":""},{"$f":"IF(BPBPS!J146=\"\",0,BPBPS!L146)","v":0},null,{"$f":"IF(SSGP!B146=\"\",\"\",SSGP!C146)","v":""},{"$f":"IF(SSGP!B146=\"\",0,SSGP!D146)","v":0},null,{"$f":"IF(SSGP!F146=\"\",\"\",SSGP!G146)","v":""},{"$f":"IF(SSGP!F146=\"\",0,SSGP!H146)","v":0}]
[145,{"$f":"IF(JTP!B147=\"\",\"\",JTP!C147)","v":""},{"$f":"IF(JTP!B147=\"\",0,JTP!D147)","v":0},{"$f":"IF(JTP!B147=\"\",0,JTP!E147)","v":0},null,{"$f":"IF(JTP!G147=\"\",\"\",JTP!H147)","v":""},{"$f":"IF(JTP!G147=\"\",0,JTP!I147)","v":0},{"$f":"IF(JTP!G147=\"\",0,JTP!J147)","v":0},null,{"$f":"IF(JSP!B147=\"\",\"\",JSP!C147)","v":""},{"$f":"IF(JSP!B147=\"\",0,JSP!D147)","v":0},{"$f":"IF(JSP!B147=\"\",0,JSP!E147)","v":0},null,{"$f":"IF(JSP!G147=\"\",\"\",JSP!H147)","v":""},{"$f":"IF(JSP!G147=\"\",0,JSP!I147)","v":0},{"$f":"IF(JSP!G147=\"\",0,JSP!J147)","v":0},null,{"$f":"IF(CFP!B147=\"\",\"\",CFP!C147)","v":""},{"$f":"IF(CFP!B147=\"\",0,CFP!D147)","v":0},{"$f":"IF(CFP!B147=\"\",0,CFP!E147)","v":0},null,{"$f":"IF(CFP!G147=\"\",\"\",CFP!H147)","v":""},{"$f":"IF(CFP!G147=\"\",0,CFP!I147)","v":0},null,{"$f":"IF(DWP!B147=\"\",\"\",DWP!C147)","v":""},{"$f":"IF(DWP!D147=\"\",0,DWP!D147)","v":0},{"$f":"IF(DWP!D147=\"\",0,DWP!E147)","v":0},null,{"$f":"IF(DWP!G147=\"\",\"\",DWP!H147)","v":""},{"$f":"IF(DWP!I147=\"\",0,DWP!I147)","v":0},null,{"$f":"IF(ALP!B147=\"\",\"\",ALP!C147)","v":""},{"$f":"IF(ALP!D147=\"\",0,ALP!D147)","v":0},{"$f":"IF(ALP!E147=\"\",0,ALP!E147)","v":0},null,{"$f":"IF(PS!B149=\"\",\"\",PS!C149)","v":""},{"$f":"IF(PS!B149=\"\",\"\",PS!D149)","v":""},null,{"$f":"IF(PS!F149=\"\",\"\",PS!G149)","v":""},{"$f":"IF(PS!F149=\"\",\"\",PS!H149)","v":""},null,{"$f":"IF(LP!A147=\"\",\"\",LP!B147)","v":""},{"$f":"IF(LP!A147=\"\",0,LP!C147)","v":0},null,{"$f":"IF(LP!E147=\"\",\"\",LP!F147)","v":""},{"$f":"IF(LP!E147=\"\",0,LP!G147)","v":0},null,{"$f":"IF(LP!I147=\"\",\"\",LP!J147)","v":""},{"$f":"IF(LP!I147=\"\",0,LP!K147)","v":0},null,{"$f":"IF(BPBPS!B147=\"\",\"\",BPBPS!C147)","v":""},{"$f":"IF(BPBPS!B147=\"\",0,BPBPS!D147)","v":0},null,{"$f":"IF(BPBPS!F147=\"\",\"\",BPBPS!G147)","v":""},{"$f":"IF(BPBPS!H147=\"\",0,BPBPS!H147)","v":0},null,{"$f":"IF(BPBPS!J147=\"\",\"\",BPBPS!K147)","v":""},{"$f":"IF(BPBPS!J147=\"\",0,BPBPS!L147)","v":0},null,{"$f":"IF(SSGP!B147=\"\",\"\",SSGP!C147)","v":""},{"$f":"IF(SSGP!B147=\"\",0,SSGP!D147)","v":0},null,{"$f":"IF(SSGP!F147=\"\",\"\",SSGP!G147)","v":""},{"$f":"IF(SSGP!F147=\"\",0,SSGP!H147)","v":0}]
[146,{"$f":"IF(JTP!B148=\"\",\"\",JTP!C148)","v":""},{"$f":"IF(JTP!B148=\"\",0,JTP!D148)","v":0},{"$f":"IF(JTP!B148=\"\",0,JTP!E148)","v":0},null,{"$f":"IF(JTP!G148=\"\",\"\",JTP!H148)","v":""},{"$f":"IF(JTP!G148=\"\",0,JTP!I148)","v":0},{"$f":"IF(JTP!G148=\"\",0,JTP!J148)","v":0},null,{"$f":"IF(JSP!B148=\"\",\"\",JSP!C148)","v":""},{"$f":"IF(JSP!B148=\"\",0,JSP!D148)","v":0},{"$f":"IF(JSP!B148=\"\",0,JSP!E148)","v":0},null,{"$f":"IF(JSP!G148=\"\",\"\",JSP!H148)","v":""},{"$f":"IF(JSP!G148=\"\",0,JSP!I148)","v":0},{"$f":"IF(JSP!G148=\"\",0,JSP!J148)","v":0},null,{"$f":"IF(CFP!B148=\"\",\"\",CFP!C148)","v":""},{"$f":"IF(CFP!B148=\"\",0,CFP!D148)","v":0},{"$f":"IF(CFP!B148=\"\",0,CFP!E148)","v":0},null,{"$f":"IF(CFP!G148=\"\",\"\",CFP!H148)","v":""},{"$f":"IF(CFP!G148=\"\",0,CFP!I148)","v":0},null,{"$f":"IF(DWP!B148=\"\",\"\",DWP!C148)","v":""},{"$f":"IF(DWP!D148=\"\",0,DWP!D148)","v":0},{"$f":"IF(DWP!D148=\"\",0,DWP!E148)","v":0},null,{"$f":"IF(DWP!G148=\"\",\"\",DWP!H148)","v":""},{"$f":"IF(DWP!I148=\"\",0,DWP!I148)","v":0},null,{"$f":"IF(ALP!B148=\"\",\"\",ALP!C148)","v":""},{"$f":"IF(ALP!D148=\"\",0,ALP!D148)","v":0},{"$f":"IF(ALP!E148=\"\",0,ALP!E148)","v":0},null,{"$f":"IF(PS!B150=\"\",\"\",PS!C150)","v":""},{"$f":"IF(PS!B150=\"\",\"\",PS!D150)","v":""},null,{"$f":"IF(PS!F150=\"\",\"\",PS!G150)","v":""},{"$f":"IF(PS!F150=\"\",\"\",PS!H150)","v":""},null,{"$f":"IF(LP!A148=\"\",\"\",LP!B148)","v":""},{"$f":"IF(LP!A148=\"\",0,LP!C148)","v":0},null,{"$f":"IF(LP!E148=\"\",\"\",LP!F148)","v":""},{"$f":"IF(LP!E148=\"\",0,LP!G148)","v":0},null,{"$f":"IF(LP!I148=\"\",\"\",LP!J148)","v":""},{"$f":"IF(LP!I148=\"\",0,LP!K148)","v":0},null,{"$f":"IF(BPBPS!B148=\"\",\"\",BPBPS!C148)","v":""},{"$f":"IF(BPBPS!B148=\"\",0,BPBPS!D148)","v":0},null,{"$f":"IF(BPBPS!F148=\"\",\"\",BPBPS!G148)","v":""},{"$f":"IF(BPBPS!H148=\"\",0,BPBPS!H148)","v":0},null,{"$f":"IF(BPBPS!J148=\"\",\"\",BPBPS!K148)","v":""},{"$f":"IF(BPBPS!J148=\"\",0,BPBPS!L148)","v":0},null,{"$f":"IF(SSGP!B148=\"\",\"\",SSGP!C148)","v":""},{"$f":"IF(SSGP!B148=\"\",0,SSGP!D148)","v":0},null,{"$f":"IF(SSGP!F148=\"\",\"\",SSGP!G148)","v":""},{"$f":"IF(SSGP!F148=\"\",0,SSGP!H148)","v":0}]
[147,{"$f":"IF(JTP!B149=\"\",\"\",JTP!C149)","v":""},{"$f":"IF(JTP!B149=\"\",0,JTP!D149)","v":0},{"$f":"IF(JTP!B149=\"\",0,JTP!E149)","v":0},null,{"$f":"IF(JTP!G149=\"\",\"\",JTP!H149)","v":""},{"$f":"IF(JTP!G149=\"\",0,JTP!I149)","v":0},{"$f":"IF(JTP!G149=\"\",0,JTP!J149)","v":0},null,{"$f":"IF(JSP!B149=\"\",\"\",JSP!C149)","v":""},{"$f":"IF(JSP!B149=\"\",0,JSP!D149)","v":0},{"$f":"IF(JSP!B149=\"\",0,JSP!E149)","v":0},null,{"$f":"IF(JSP!G149=\"\",\"\",JSP!H149)","v":""},{"$f":"IF(JSP!G149=\"\",0,JSP!I149)","v":0},{"$f":"IF(JSP!G149=\"\",0,JSP!J149)","v":0},null,{"$f":"IF(CFP!B149=\"\",\"\",CFP!C149)","v":""},{"$f":"IF(CFP!B149=\"\",0,CFP!D149)","v":0},{"$f":"IF(CFP!B149=\"\",0,CFP!E149)","v":0},null,{"$f":"IF(CFP!G149=\"\",\"\",CFP!H149)","v":""},{"$f":"IF(CFP!G149=\"\",0,CFP!I149)","v":0},null,{"$f":"IF(DWP!B149=\"\",\"\",DWP!C149)","v":""},{"$f":"IF(DWP!D149=\"\",0,DWP!D149)","v":0},{"$f":"IF(DWP!D149=\"\",0,DWP!E149)","v":0},null,{"$f":"IF(DWP!G149=\"\",\"\",DWP!H149)","v":""},{"$f":"IF(DWP!I149=\"\",0,DWP!I149)","v":0},null,{"$f":"IF(ALP!B149=\"\",\"\",ALP!C149)","v":""},{"$f":"IF(ALP!D149=\"\",0,ALP!D149)","v":0},{"$f":"IF(ALP!E149=\"\",0,ALP!E149)","v":0},null,{"$f":"IF(PS!B151=\"\",\"\",PS!C151)","v":""},{"$f":"IF(PS!B151=\"\",\"\",PS!D151)","v":""},null,{"$f":"IF(PS!F151=\"\",\"\",PS!G151)","v":""},{"$f":"IF(PS!F151=\"\",\"\",PS!H151)","v":""},null,{"$f":"IF(LP!A149=\"\",\"\",LP!B149)","v":""},{"$f":"IF(LP!A149=\"\",0,LP!C149)","v":0},null,{"$f":"IF(LP!E149=\"\",\"\",LP!F149)","v":""},{"$f":"IF(LP!E149=\"\",0,LP!G149)","v":0},null,{"$f":"IF(LP!I149=\"\",\"\",LP!J149)","v":""},{"$f":"IF(LP!I149=\"\",0,LP!K149)","v":0},null,{"$f":"IF(BPBPS!B149=\"\",\"\",BPBPS!C149)","v":""},{"$f":"IF(BPBPS!B149=\"\",0,BPBPS!D149)","v":0},null,{"$f":"IF(BPBPS!F149=\"\",\"\",BPBPS!G149)","v":""},{"$f":"IF(BPBPS!H149=\"\",0,BPBPS!H149)","v":0},null,{"$f":"IF(BPBPS!J149=\"\",\"\",BPBPS!K149)","v":""},{"$f":"IF(BPBPS!J149=\"\",0,BPBPS!L149)","v":0},null,{"$f":"IF(SSGP!B149=\"\",\"\",SSGP!C149)","v":""},{"$f":"IF(SSGP!B149=\"\",0,SSGP!D149)","v":0},null,{"$f":"IF(SSGP!F149=\"\",\"\",SSGP!G149)","v":""},{"$f":"IF(SSGP!F149=\"\",0,SSGP!H149)","v":0}]
[148,{"$f":"IF(JTP!B150=\"\",\"\",JTP!C150)","v":""},{"$f":"IF(JTP!B150=\"\",0,JTP!D150)","v":0},{"$f":"IF(JTP!B150=\"\",0,JTP!E150)","v":0},null,{"$f":"IF(JTP!G150=\"\",\"\",JTP!H150)","v":""},{"$f":"IF(JTP!G150=\"\",0,JTP!I150)","v":0},{"$f":"IF(JTP!G150=\"\",0,JTP!J150)","v":0},null,{"$f":"IF(JSP!B150=\"\",\"\",JSP!C150)","v":""},{"$f":"IF(JSP!B150=\"\",0,JSP!D150)","v":0},{"$f":"IF(JSP!B150=\"\",0,JSP!E150)","v":0},null,{"$f":"IF(JSP!G150=\"\",\"\",JSP!H150)","v":""},{"$f":"IF(JSP!G150=\"\",0,JSP!I150)","v":0},{"$f":"IF(JSP!G150=\"\",0,JSP!J150)","v":0},null,{"$f":"IF(CFP!B150=\"\",\"\",CFP!C150)","v":""},{"$f":"IF(CFP!B150=\"\",0,CFP!D150)","v":0},{"$f":"IF(CFP!B150=\"\",0,CFP!E150)","v":0},null,{"$f":"IF(CFP!G150=\"\",\"\",CFP!H150)","v":""},{"$f":"IF(CFP!G150=\"\",0,CFP!I150)","v":0},null,{"$f":"IF(DWP!B150=\"\",\"\",DWP!C150)","v":""},{"$f":"IF(DWP!D150=\"\",0,DWP!D150)","v":0},{"$f":"IF(DWP!D150=\"\",0,DWP!E150)","v":0},null,{"$f":"IF(DWP!G150=\"\",\"\",DWP!H150)","v":""},{"$f":"IF(DWP!I150=\"\",0,DWP!I150)","v":0},null,{"$f":"IF(ALP!B150=\"\",\"\",ALP!C150)","v":""},{"$f":"IF(ALP!D150=\"\",0,ALP!D150)","v":0},{"$f":"IF(ALP!E150=\"\",0,ALP!E150)","v":0},null,{"$f":"IF(PS!B152=\"\",\"\",PS!C152)","v":""},{"$f":"IF(PS!B152=\"\",\"\",PS!D152)","v":""},null,{"$f":"IF(PS!F152=\"\",\"\",PS!G152)","v":""},{"$f":"IF(PS!F152=\"\",\"\",PS!H152)","v":""},null,{"$f":"IF(LP!A150=\"\",\"\",LP!B150)","v":""},{"$f":"IF(LP!A150=\"\",0,LP!C150)","v":0},null,{"$f":"IF(LP!E150=\"\",\"\",LP!F150)","v":""},{"$f":"IF(LP!E150=\"\",0,LP!G150)","v":0},null,{"$f":"IF(LP!I150=\"\",\"\",LP!J150)","v":""},{"$f":"IF(LP!I150=\"\",0,LP!K150)","v":0},null,{"$f":"IF(BPBPS!B150=\"\",\"\",BPBPS!C150)","v":""},{"$f":"IF(BPBPS!B150=\"\",0,BPBPS!D150)","v":0},null,{"$f":"IF(BPBPS!F150=\"\",\"\",BPBPS!G150)","v":""},{"$f":"IF(BPBPS!H150=\"\",0,BPBPS!H150)","v":0},null,{"$f":"IF(BPBPS!J150=\"\",\"\",BPBPS!K150)","v":""},{"$f":"IF(BPBPS!J150=\"\",0,BPBPS!L150)","v":0},null,{"$f":"IF(SSGP!B150=\"\",\"\",SSGP!C150)","v":""},{"$f":"IF(SSGP!B150=\"\",0,SSGP!D150)","v":0},null,{"$f":"IF(SSGP!F150=\"\",\"\",SSGP!G150)","v":""},{"$f":"IF(SSGP!F150=\"\",0,SSGP!H150)","v":0}]
[149,{"$f":"IF(JTP!B151=\"\",\"\",JTP!C151)","v":""},{"$f":"IF(JTP!B151=\"\",0,JTP!D151)","v":0},{"$f":"IF(JTP!B151=\"\",0,JTP!E151)","v":0},null,{"$f":"IF(JTP!G151=\"\",\"\",JTP!H151)","v":""},{"$f":"IF(JTP!G151=\"\",0,JTP!I151)","v":0},{"$f":"IF(JTP!G151=\"\",0,JTP!J151)","v":0},null,{"$f":"IF(JSP!B151=\"\",\"\",JSP!C151)","v":""},{"$f":"IF(JSP!B151=\"\",0,JSP!D151)","v":0},{"$f":"IF(JSP!B151=\"\",0,JSP!E151)","v":0},null,{"$f":"IF(JSP!G151=\"\",\"\",JSP!H151)","v":""},{"$f":"IF(JSP!G151=\"\",0,JSP!I151)","v":0},{"$f":"IF(JSP!G151=\"\",0,JSP!J151)","v":0},null,{"$f":"IF(CFP!B151=\"\",\"\",CFP!C151)","v":""},{"$f":"IF(CFP!B151=\"\",0,CFP!D151)","v":0},{"$f":"IF(CFP!B151=\"\",0,CFP!E151)","v":0},null,{"$f":"IF(CFP!G151=\"\",\"\",CFP!H151)","v":""},{"$f":"IF(CFP!G151=\"\",0,CFP!I151)","v":0},null,{"$f":"IF(DWP!B151=\"\",\"\",DWP!C151)","v":""},{"$f":"IF(DWP!D151=\"\",0,DWP!D151)","v":0},{"$f":"IF(DWP!D151=\"\",0,DWP!E151)","v":0},null,{"$f":"IF(DWP!G151=\"\",\"\",DWP!H151)","v":""},{"$f":"IF(DWP!I151=\"\",0,DWP!I151)","v":0},null,{"$f":"IF(ALP!B151=\"\",\"\",ALP!C151)","v":""},{"$f":"IF(ALP!D151=\"\",0,ALP!D151)","v":0},{"$f":"IF(ALP!E151=\"\",0,ALP!E151)","v":0},null,{"$f":"IF(PS!B153=\"\",\"\",PS!C153)","v":""},{"$f":"IF(PS!B153=\"\",\"\",PS!D153)","v":""},null,{"$f":"IF(PS!F153=\"\",\"\",PS!G153)","v":""},{"$f":"IF(PS!F153=\"\",\"\",PS!H153)","v":""},null,{"$f":"IF(LP!A151=\"\",\"\",LP!B151)","v":""},{"$f":"IF(LP!A151=\"\",0,LP!C151)","v":0},null,{"$f":"IF(LP!E151=\"\",\"\",LP!F151)","v":""},{"$f":"IF(LP!E151=\"\",0,LP!G151)","v":0},null,{"$f":"IF(LP!I151=\"\",\"\",LP!J151)","v":""},{"$f":"IF(LP!I151=\"\",0,LP!K151)","v":0},null,{"$f":"IF(BPBPS!B151=\"\",\"\",BPBPS!C151)","v":""},{"$f":"IF(BPBPS!B151=\"\",0,BPBPS!D151)","v":0},null,{"$f":"IF(BPBPS!F151=\"\",\"\",BPBPS!G151)","v":""},{"$f":"IF(BPBPS!H151=\"\",0,BPBPS!H151)","v":0},null,{"$f":"IF(BPBPS!J151=\"\",\"\",BPBPS!K151)","v":""},{"$f":"IF(BPBPS!J151=\"\",0,BPBPS!L151)","v":0},null,{"$f":"IF(SSGP!B151=\"\",\"\",SSGP!C151)","v":""},{"$f":"IF(SSGP!B151=\"\",0,SSGP!D151)","v":0},null,{"$f":"IF(SSGP!F151=\"\",\"\",SSGP!G151)","v":""},{"$f":"IF(SSGP!F151=\"\",0,SSGP!H151)","v":0}]
[150,{"$f":"IF(JTP!B152=\"\",\"\",JTP!C152)","v":""},{"$f":"IF(JTP!B152=\"\",0,JTP!D152)","v":0},{"$f":"IF(JTP!B152=\"\",0,JTP!E152)","v":0},null,{"$f":"IF(JTP!G152=\"\",\"\",JTP!H152)","v":""},{"$f":"IF(JTP!G152=\"\",0,JTP!I152)","v":0},{"$f":"IF(JTP!G152=\"\",0,JTP!J152)","v":0},null,{"$f":"IF(JSP!B152=\"\",\"\",JSP!C152)","v":""},{"$f":"IF(JSP!B152=\"\",0,JSP!D152)","v":0},{"$f":"IF(JSP!B152=\"\",0,JSP!E152)","v":0},null,{"$f":"IF(JSP!G152=\"\",\"\",JSP!H152)","v":""},{"$f":"IF(JSP!G152=\"\",0,JSP!I152)","v":0},{"$f":"IF(JSP!G152=\"\",0,JSP!J152)","v":0},null,{"$f":"IF(CFP!B152=\"\",\"\",CFP!C152)","v":""},{"$f":"IF(CFP!B152=\"\",0,CFP!D152)","v":0},{"$f":"IF(CFP!B152=\"\",0,CFP!E152)","v":0},null,{"$f":"IF(CFP!G152=\"\",\"\",CFP!H152)","v":""},{"$f":"IF(CFP!G152=\"\",0,CFP!I152)","v":0},null,{"$f":"IF(DWP!B152=\"\",\"\",DWP!C152)","v":""},{"$f":"IF(DWP!D152=\"\",0,DWP!D152)","v":0},{"$f":"IF(DWP!D152=\"\",0,DWP!E152)","v":0},null,{"$f":"IF(DWP!G152=\"\",\"\",DWP!H152)","v":""},{"$f":"IF(DWP!I152=\"\",0,DWP!I152)","v":0},null,{"$f":"IF(ALP!B152=\"\",\"\",ALP!C152)","v":""},{"$f":"IF(ALP!D152=\"\",0,ALP!D152)","v":0},{"$f":"IF(ALP!E152=\"\",0,ALP!E152)","v":0},null,{"$f":"IF(PS!B154=\"\",\"\",PS!C154)","v":""},{"$f":"IF(PS!B154=\"\",\"\",PS!D154)","v":""},null,{"$f":"IF(PS!F154=\"\",\"\",PS!G154)","v":""},{"$f":"IF(PS!F154=\"\",\"\",PS!H154)","v":""},null,{"$f":"IF(LP!A152=\"\",\"\",LP!B152)","v":""},{"$f":"IF(LP!A152=\"\",0,LP!C152)","v":0},null,{"$f":"IF(LP!E152=\"\",\"\",LP!F152)","v":""},{"$f":"IF(LP!E152=\"\",0,LP!G152)","v":0},null,{"$f":"IF(LP!I152=\"\",\"\",LP!J152)","v":""},{"$f":"IF(LP!I152=\"\",0,LP!K152)","v":0},null,{"$f":"IF(BPBPS!B152=\"\",\"\",BPBPS!C152)","v":""},{"$f":"IF(BPBPS!B152=\"\",0,BPBPS!D152)","v":0},null,{"$f":"IF(BPBPS!F152=\"\",\"\",BPBPS!G152)","v":""},{"$f":"IF(BPBPS!H152=\"\",0,BPBPS!H152)","v":0},null,{"$f":"IF(BPBPS!J152=\"\",\"\",BPBPS!K152)","v":""},{"$f":"IF(BPBPS!J152=\"\",0,BPBPS!L152)","v":0},null,{"$f":"IF(SSGP!B152=\"\",\"\",SSGP!C152)","v":""},{"$f":"IF(SSGP!B152=\"\",0,SSGP!D152)","v":0},null,{"$f":"IF(SSGP!F152=\"\",\"\",SSGP!G152)","v":""},{"$f":"IF(SSGP!F152=\"\",0,SSGP!H152)","v":0}]
[151,{"$f":"IF(JTP!B153=\"\",\"\",JTP!C153)","v":""},{"$f":"IF(JTP!B153=\"\",0,JTP!D153)","v":0},{"$f":"IF(JTP!B153=\"\",0,JTP!E153)","v":0},null,{"$f":"IF(JTP!G153=\"\",\"\",JTP!H153)","v":""},{"$f":"IF(JTP!G153=\"\",0,JTP!I153)","v":0},{"$f":"IF(JTP!G153=\"\",0,JTP!J153)","v":0},null,{"$f":"IF(JSP!B153=\"\",\"\",JSP!C153)","v":""},{"$f":"IF(JSP!B153=\"\",0,JSP!D153)","v":0},{"$f":"IF(JSP!B153=\"\",0,JSP!E153)","v":0},null,{"$f":"IF(JSP!G153=\"\",\"\",JSP!H153)","v":""},{"$f":"IF(JSP!G153=\"\",0,JSP!I153)","v":0},{"$f":"IF(JSP!G153=\"\",0,JSP!J153)","v":0},null,{"$f":"IF(CFP!B153=\"\",\"\",CFP!C153)","v":""},{"$f":"IF(CFP!B153=\"\",0,CFP!D153)","v":0},{"$f":"IF(CFP!B153=\"\",0,CFP!E153)","v":0},null,{"$f":"IF(CFP!G153=\"\",\"\",CFP!H153)","v":""},{"$f":"IF(CFP!G153=\"\",0,CFP!I153)","v":0},null,{"$f":"IF(DWP!B153=\"\",\"\",DWP!C153)","v":""},{"$f":"IF(DWP!D153=\"\",0,DWP!D153)","v":0},{"$f":"IF(DWP!D153=\"\",0,DWP!E153)","v":0},null,{"$f":"IF(DWP!G153=\"\",\"\",DWP!H153)","v":""},{"$f":"IF(DWP!I153=\"\",0,DWP!I153)","v":0},null,{"$f":"IF(ALP!B153=\"\",\"\",ALP!C153)","v":""},{"$f":"IF(ALP!D153=\"\",0,ALP!D153)","v":0},{"$f":"IF(ALP!E153=\"\",0,ALP!E153)","v":0},null,{"$f":"IF(PS!B155=\"\",\"\",PS!C155)","v":""},{"$f":"IF(PS!B155=\"\",\"\",PS!D155)","v":""},null,{"$f":"IF(PS!F155=\"\",\"\",PS!G155)","v":""},{"$f":"IF(PS!F155=\"\",\"\",PS!H155)","v":""},null,{"$f":"IF(LP!A153=\"\",\"\",LP!B153)","v":""},{"$f":"IF(LP!A153=\"\",0,LP!C153)","v":0},null,{"$f":"IF(LP!E153=\"\",\"\",LP!F153)","v":""},{"$f":"IF(LP!E153=\"\",0,LP!G153)","v":0},null,{"$f":"IF(LP!I153=\"\",\"\",LP!J153)","v":""},{"$f":"IF(LP!I153=\"\",0,LP!K153)","v":0},null,{"$f":"IF(BPBPS!B153=\"\",\"\",BPBPS!C153)","v":""},{"$f":"IF(BPBPS!B153=\"\",0,BPBPS!D153)","v":0},null,{"$f":"IF(BPBPS!F153=\"\",\"\",BPBPS!G153)","v":""},{"$f":"IF(BPBPS!H153=\"\",0,BPBPS!H153)","v":0},null,{"$f":"IF(BPBPS!J153=\"\",\"\",BPBPS!K153)","v":""},{"$f":"IF(BPBPS!J153=\"\",0,BPBPS!L153)","v":0},null,{"$f":"IF(SSGP!B153=\"\",\"\",SSGP!C153)","v":""},{"$f":"IF(SSGP!B153=\"\",0,SSGP!D153)","v":0},null,{"$f":"IF(SSGP!F153=\"\",\"\",SSGP!G153)","v":""},{"$f":"IF(SSGP!F153=\"\",0,SSGP!H153)","v":0}]
[152,{"$f":"IF(JTP!B154=\"\",\"\",JTP!C154)","v":""},{"$f":"IF(JTP!B154=\"\",0,JTP!D154)","v":0},{"$f":"IF(JTP!B154=\"\",0,JTP!E154)","v":0},null,{"$f":"IF(JTP!G154=\"\",\"\",JTP!H154)","v":""},{"$f":"IF(JTP!G154=\"\",0,JTP!I154)","v":0},{"$f":"IF(JTP!G154=\"\",0,JTP!J154)","v":0},null,{"$f":"IF(JSP!B154=\"\",\"\",JSP!C154)","v":""},{"$f":"IF(JSP!B154=\"\",0,JSP!D154)","v":0},{"$f":"IF(JSP!B154=\"\",0,JSP!E154)","v":0},null,{"$f":"IF(JSP!G154=\"\",\"\",JSP!H154)","v":""},{"$f":"IF(JSP!G154=\"\",0,JSP!I154)","v":0},{"$f":"IF(JSP!G154=\"\",0,JSP!J154)","v":0},null,{"$f":"IF(CFP!B154=\"\",\"\",CFP!C154)","v":""},{"$f":"IF(CFP!B154=\"\",0,CFP!D154)","v":0},{"$f":"IF(CFP!B154=\"\",0,CFP!E154)","v":0},null,{"$f":"IF(CFP!G154=\"\",\"\",CFP!H154)","v":""},{"$f":"IF(CFP!G154=\"\",0,CFP!I154)","v":0},null,{"$f":"IF(DWP!B154=\"\",\"\",DWP!C154)","v":""},{"$f":"IF(DWP!D154=\"\",0,DWP!D154)","v":0},{"$f":"IF(DWP!D154=\"\",0,DWP!E154)","v":0},null,{"$f":"IF(DWP!G154=\"\",\"\",DWP!H154)","v":""},{"$f":"IF(DWP!I154=\"\",0,DWP!I154)","v":0},null,{"$f":"IF(ALP!B154=\"\",\"\",ALP!C154)","v":""},{"$f":"IF(ALP!D154=\"\",0,ALP!D154)","v":0},{"$f":"IF(ALP!E154=\"\",0,ALP!E154)","v":0},null,{"$f":"IF(PS!B156=\"\",\"\",PS!C156)","v":""},{"$f":"IF(PS!B156=\"\",\"\",PS!D156)","v":""},null,{"$f":"IF(PS!F156=\"\",\"\",PS!G156)","v":""},{"$f":"IF(PS!F156=\"\",\"\",PS!H156)","v":""},null,{"$f":"IF(LP!A154=\"\",\"\",LP!B154)","v":""},{"$f":"IF(LP!A154=\"\",0,LP!C154)","v":0},null,{"$f":"IF(LP!E154=\"\",\"\",LP!F154)","v":""},{"$f":"IF(LP!E154=\"\",0,LP!G154)","v":0},null,{"$f":"IF(LP!I154=\"\",\"\",LP!J154)","v":""},{"$f":"IF(LP!I154=\"\",0,LP!K154)","v":0},null,{"$f":"IF(BPBPS!B154=\"\",\"\",BPBPS!C154)","v":""},{"$f":"IF(BPBPS!B154=\"\",0,BPBPS!D154)","v":0},null,{"$f":"IF(BPBPS!F154=\"\",\"\",BPBPS!G154)","v":""},{"$f":"IF(BPBPS!H154=\"\",0,BPBPS!H154)","v":0},null,{"$f":"IF(BPBPS!J154=\"\",\"\",BPBPS!K154)","v":""},{"$f":"IF(BPBPS!J154=\"\",0,BPBPS!L154)","v":0},null,{"$f":"IF(SSGP!B154=\"\",\"\",SSGP!C154)","v":""},{"$f":"IF(SSGP!B154=\"\",0,SSGP!D154)","v":0},null,{"$f":"IF(SSGP!F154=\"\",\"\",SSGP!G154)","v":""},{"$f":"IF(SSGP!F154=\"\",0,SSGP!H154)","v":0}]
[153,{"$f":"IF(JTP!B155=\"\",\"\",JTP!C155)","v":""},{"$f":"IF(JTP!B155=\"\",0,JTP!D155)","v":0},{"$f":"IF(JTP!B155=\"\",0,JTP!E155)","v":0},null,{"$f":"IF(JTP!G155=\"\",\"\",JTP!H155)","v":""},{"$f":"IF(JTP!G155=\"\",0,JTP!I155)","v":0},{"$f":"IF(JTP!G155=\"\",0,JTP!J155)","v":0},null,{"$f":"IF(JSP!B155=\"\",\"\",JSP!C155)","v":""},{"$f":"IF(JSP!B155=\"\",0,JSP!D155)","v":0},{"$f":"IF(JSP!B155=\"\",0,JSP!E155)","v":0},null,{"$f":"IF(JSP!G155=\"\",\"\",JSP!H155)","v":""},{"$f":"IF(JSP!G155=\"\",0,JSP!I155)","v":0},{"$f":"IF(JSP!G155=\"\",0,JSP!J155)","v":0},null,{"$f":"IF(CFP!B155=\"\",\"\",CFP!C155)","v":""},{"$f":"IF(CFP!B155=\"\",0,CFP!D155)","v":0},{"$f":"IF(CFP!B155=\"\",0,CFP!E155)","v":0},null,{"$f":"IF(CFP!G155=\"\",\"\",CFP!H155)","v":""},{"$f":"IF(CFP!G155=\"\",0,CFP!I155)","v":0},null,{"$f":"IF(DWP!B155=\"\",\"\",DWP!C155)","v":""},{"$f":"IF(DWP!D155=\"\",0,DWP!D155)","v":0},{"$f":"IF(DWP!D155=\"\",0,DWP!E155)","v":0},null,{"$f":"IF(DWP!G155=\"\",\"\",DWP!H155)","v":""},{"$f":"IF(DWP!I155=\"\",0,DWP!I155)","v":0},null,{"$f":"IF(ALP!B155=\"\",\"\",ALP!C155)","v":""},{"$f":"IF(ALP!D155=\"\",0,ALP!D155)","v":0},{"$f":"IF(ALP!E155=\"\",0,ALP!E155)","v":0},null,{"$f":"IF(PS!B157=\"\",\"\",PS!C157)","v":""},{"$f":"IF(PS!B157=\"\",\"\",PS!D157)","v":""},null,{"$f":"IF(PS!F157=\"\",\"\",PS!G157)","v":""},{"$f":"IF(PS!F157=\"\",\"\",PS!H157)","v":""},null,{"$f":"IF(LP!A155=\"\",\"\",LP!B155)","v":""},{"$f":"IF(LP!A155=\"\",0,LP!C155)","v":0},null,{"$f":"IF(LP!E155=\"\",\"\",LP!F155)","v":""},{"$f":"IF(LP!E155=\"\",0,LP!G155)","v":0},null,{"$f":"IF(LP!I155=\"\",\"\",LP!J155)","v":""},{"$f":"IF(LP!I155=\"\",0,LP!K155)","v":0},null,{"$f":"IF(BPBPS!B155=\"\",\"\",BPBPS!C155)","v":""},{"$f":"IF(BPBPS!B155=\"\",0,BPBPS!D155)","v":0},null,{"$f":"IF(BPBPS!F155=\"\",\"\",BPBPS!G155)","v":""},{"$f":"IF(BPBPS!H155=\"\",0,BPBPS!H155)","v":0},null,{"$f":"IF(BPBPS!J155=\"\",\"\",BPBPS!K155)","v":""},{"$f":"IF(BPBPS!J155=\"\",0,BPBPS!L155)","v":0},null,{"$f":"IF(SSGP!B155=\"\",\"\",SSGP!C155)","v":""},{"$f":"IF(SSGP!B155=\"\",0,SSGP!D155)","v":0},null,{"$f":"IF(SSGP!F155=\"\",\"\",SSGP!G155)","v":""},{"$f":"IF(SSGP!F155=\"\",0,SSGP!H155)","v":0}]
[154,{"$f":"IF(JTP!B156=\"\",\"\",JTP!C156)","v":""},{"$f":"IF(JTP!B156=\"\",0,JTP!D156)","v":0},{"$f":"IF(JTP!B156=\"\",0,JTP!E156)","v":0},null,{"$f":"IF(JTP!G156=\"\",\"\",JTP!H156)","v":""},{"$f":"IF(JTP!G156=\"\",0,JTP!I156)","v":0},{"$f":"IF(JTP!G156=\"\",0,JTP!J156)","v":0},null,{"$f":"IF(JSP!B156=\"\",\"\",JSP!C156)","v":""},{"$f":"IF(JSP!B156=\"\",0,JSP!D156)","v":0},{"$f":"IF(JSP!B156=\"\",0,JSP!E156)","v":0},null,{"$f":"IF(JSP!G156=\"\",\"\",JSP!H156)","v":""},{"$f":"IF(JSP!G156=\"\",0,JSP!I156)","v":0},{"$f":"IF(JSP!G156=\"\",0,JSP!J156)","v":0},null,{"$f":"IF(CFP!B156=\"\",\"\",CFP!C156)","v":""},{"$f":"IF(CFP!B156=\"\",0,CFP!D156)","v":0},{"$f":"IF(CFP!B156=\"\",0,CFP!E156)","v":0},null,{"$f":"IF(CFP!G156=\"\",\"\",CFP!H156)","v":""},{"$f":"IF(CFP!G156=\"\",0,CFP!I156)","v":0},null,{"$f":"IF(DWP!B156=\"\",\"\",DWP!C156)","v":""},{"$f":"IF(DWP!D156=\"\",0,DWP!D156)","v":0},{"$f":"IF(DWP!D156=\"\",0,DWP!E156)","v":0},null,{"$f":"IF(DWP!G156=\"\",\"\",DWP!H156)","v":""},{"$f":"IF(DWP!I156=\"\",0,DWP!I156)","v":0},null,{"$f":"IF(ALP!B156=\"\",\"\",ALP!C156)","v":""},{"$f":"IF(ALP!D156=\"\",0,ALP!D156)","v":0},{"$f":"IF(ALP!E156=\"\",0,ALP!E156)","v":0},null,{"$f":"IF(PS!B158=\"\",\"\",PS!C158)","v":""},{"$f":"IF(PS!B158=\"\",\"\",PS!D158)","v":""},null,{"$f":"IF(PS!F158=\"\",\"\",PS!G158)","v":""},{"$f":"IF(PS!F158=\"\",\"\",PS!H158)","v":""},null,{"$f":"IF(LP!A156=\"\",\"\",LP!B156)","v":""},{"$f":"IF(LP!A156=\"\",0,LP!C156)","v":0},null,{"$f":"IF(LP!E156=\"\",\"\",LP!F156)","v":""},{"$f":"IF(LP!E156=\"\",0,LP!G156)","v":0},null,{"$f":"IF(LP!I156=\"\",\"\",LP!J156)","v":""},{"$f":"IF(LP!I156=\"\",0,LP!K156)","v":0},null,{"$f":"IF(BPBPS!B156=\"\",\"\",BPBPS!C156)","v":""},{"$f":"IF(BPBPS!B156=\"\",0,BPBPS!D156)","v":0},null,{"$f":"IF(BPBPS!F156=\"\",\"\",BPBPS!G156)","v":""},{"$f":"IF(BPBPS!H156=\"\",0,BPBPS!H156)","v":0},null,{"$f":"IF(BPBPS!J156=\"\",\"\",BPBPS!K156)","v":""},{"$f":"IF(BPBPS!J156=\"\",0,BPBPS!L156)","v":0},null,{"$f":"IF(SSGP!B156=\"\",\"\",SSGP!C156)","v":""},{"$f":"IF(SSGP!B156=\"\",0,SSGP!D156)","v":0},null,{"$f":"IF(SSGP!F156=\"\",\"\",SSGP!G156)","v":""},{"$f":"IF(SSGP!F156=\"\",0,SSGP!H156)","v":0}]
[155,{"$f":"IF(JTP!B157=\"\",\"\",JTP!C157)","v":""},{"$f":"IF(JTP!B157=\"\",0,JTP!D157)","v":0},{"$f":"IF(JTP!B157=\"\",0,JTP!E157)","v":0},null,{"$f":"IF(JTP!G157=\"\",\"\",JTP!H157)","v":""},{"$f":"IF(JTP!G157=\"\",0,JTP!I157)","v":0},{"$f":"IF(JTP!G157=\"\",0,JTP!J157)","v":0},null,{"$f":"IF(JSP!B157=\"\",\"\",JSP!C157)","v":""},{"$f":"IF(JSP!B157=\"\",0,JSP!D157)","v":0},{"$f":"IF(JSP!B157=\"\",0,JSP!E157)","v":0},null,{"$f":"IF(JSP!G157=\"\",\"\",JSP!H157)","v":""},{"$f":"IF(JSP!G157=\"\",0,JSP!I157)","v":0},{"$f":"IF(JSP!G157=\"\",0,JSP!J157)","v":0},null,{"$f":"IF(CFP!B157=\"\",\"\",CFP!C157)","v":""},{"$f":"IF(CFP!B157=\"\",0,CFP!D157)","v":0},{"$f":"IF(CFP!B157=\"\",0,CFP!E157)","v":0},null,{"$f":"IF(CFP!G157=\"\",\"\",CFP!H157)","v":""},{"$f":"IF(CFP!G157=\"\",0,CFP!I157)","v":0},null,{"$f":"IF(DWP!B157=\"\",\"\",DWP!C157)","v":""},{"$f":"IF(DWP!D157=\"\",0,DWP!D157)","v":0},{"$f":"IF(DWP!D157=\"\",0,DWP!E157)","v":0},null,{"$f":"IF(DWP!G157=\"\",\"\",DWP!H157)","v":""},{"$f":"IF(DWP!I157=\"\",0,DWP!I157)","v":0},null,{"$f":"IF(ALP!B157=\"\",\"\",ALP!C157)","v":""},{"$f":"IF(ALP!D157=\"\",0,ALP!D157)","v":0},{"$f":"IF(ALP!E157=\"\",0,ALP!E157)","v":0},null,{"$f":"IF(PS!B159=\"\",\"\",PS!C159)","v":""},{"$f":"IF(PS!B159=\"\",\"\",PS!D159)","v":""},null,{"$f":"IF(PS!F159=\"\",\"\",PS!G159)","v":""},{"$f":"IF(PS!F159=\"\",\"\",PS!H159)","v":""},null,{"$f":"IF(LP!A157=\"\",\"\",LP!B157)","v":""},{"$f":"IF(LP!A157=\"\",0,LP!C157)","v":0},null,{"$f":"IF(LP!E157=\"\",\"\",LP!F157)","v":""},{"$f":"IF(LP!E157=\"\",0,LP!G157)","v":0},null,{"$f":"IF(LP!I157=\"\",\"\",LP!J157)","v":""},{"$f":"IF(LP!I157=\"\",0,LP!K157)","v":0},null,{"$f":"IF(BPBPS!B157=\"\",\"\",BPBPS!C157)","v":""},{"$f":"IF(BPBPS!B157=\"\",0,BPBPS!D157)","v":0},null,{"$f":"IF(BPBPS!F157=\"\",\"\",BPBPS!G157)","v":""},{"$f":"IF(BPBPS!H157=\"\",0,BPBPS!H157)","v":0},null,{"$f":"IF(BPBPS!J157=\"\",\"\",BPBPS!K157)","v":""},{"$f":"IF(BPBPS!J157=\"\",0,BPBPS!L157)","v":0},null,{"$f":"IF(SSGP!B157=\"\",\"\",SSGP!C157)","v":""},{"$f":"IF(SSGP!B157=\"\",0,SSGP!D157)","v":0},null,{"$f":"IF(SSGP!F157=\"\",\"\",SSGP!G157)","v":""},{"$f":"IF(SSGP!F157=\"\",0,SSGP!H157)","v":0}]
[156,{"$f":"IF(JTP!B158=\"\",\"\",JTP!C158)","v":""},{"$f":"IF(JTP!B158=\"\",0,JTP!D158)","v":0},{"$f":"IF(JTP!B158=\"\",0,JTP!E158)","v":0},null,{"$f":"IF(JTP!G158=\"\",\"\",JTP!H158)","v":""},{"$f":"IF(JTP!G158=\"\",0,JTP!I158)","v":0},{"$f":"IF(JTP!G158=\"\",0,JTP!J158)","v":0},null,{"$f":"IF(JSP!B158=\"\",\"\",JSP!C158)","v":""},{"$f":"IF(JSP!B158=\"\",0,JSP!D158)","v":0},{"$f":"IF(JSP!B158=\"\",0,JSP!E158)","v":0},null,{"$f":"IF(JSP!G158=\"\",\"\",JSP!H158)","v":""},{"$f":"IF(JSP!G158=\"\",0,JSP!I158)","v":0},{"$f":"IF(JSP!G158=\"\",0,JSP!J158)","v":0},null,{"$f":"IF(CFP!B158=\"\",\"\",CFP!C158)","v":""},{"$f":"IF(CFP!B158=\"\",0,CFP!D158)","v":0},{"$f":"IF(CFP!B158=\"\",0,CFP!E158)","v":0},null,{"$f":"IF(CFP!G158=\"\",\"\",CFP!H158)","v":""},{"$f":"IF(CFP!G158=\"\",0,CFP!I158)","v":0},null,{"$f":"IF(DWP!B158=\"\",\"\",DWP!C158)","v":""},{"$f":"IF(DWP!D158=\"\",0,DWP!D158)","v":0},{"$f":"IF(DWP!D158=\"\",0,DWP!E158)","v":0},null,{"$f":"IF(DWP!G158=\"\",\"\",DWP!H158)","v":""},{"$f":"IF(DWP!I158=\"\",0,DWP!I158)","v":0},null,{"$f":"IF(ALP!B158=\"\",\"\",ALP!C158)","v":""},{"$f":"IF(ALP!D158=\"\",0,ALP!D158)","v":0},{"$f":"IF(ALP!E158=\"\",0,ALP!E158)","v":0},null,{"$f":"IF(PS!B160=\"\",\"\",PS!C160)","v":""},{"$f":"IF(PS!B160=\"\",\"\",PS!D160)","v":""},null,{"$f":"IF(PS!F160=\"\",\"\",PS!G160)","v":""},{"$f":"IF(PS!F160=\"\",\"\",PS!H160)","v":""},null,{"$f":"IF(LP!A158=\"\",\"\",LP!B158)","v":""},{"$f":"IF(LP!A158=\"\",0,LP!C158)","v":0},null,{"$f":"IF(LP!E158=\"\",\"\",LP!F158)","v":""},{"$f":"IF(LP!E158=\"\",0,LP!G158)","v":0},null,{"$f":"IF(LP!I158=\"\",\"\",LP!J158)","v":""},{"$f":"IF(LP!I158=\"\",0,LP!K158)","v":0},null,{"$f":"IF(BPBPS!B158=\"\",\"\",BPBPS!C158)","v":""},{"$f":"IF(BPBPS!B158=\"\",0,BPBPS!D158)","v":0},null,{"$f":"IF(BPBPS!F158=\"\",\"\",BPBPS!G158)","v":""},{"$f":"IF(BPBPS!H158=\"\",0,BPBPS!H158)","v":0},null,{"$f":"IF(BPBPS!J158=\"\",\"\",BPBPS!K158)","v":""},{"$f":"IF(BPBPS!J158=\"\",0,BPBPS!L158)","v":0},null,{"$f":"IF(SSGP!B158=\"\",\"\",SSGP!C158)","v":""},{"$f":"IF(SSGP!B158=\"\",0,SSGP!D158)","v":0},null,{"$f":"IF(SSGP!F158=\"\",\"\",SSGP!G158)","v":""},{"$f":"IF(SSGP!F158=\"\",0,SSGP!H158)","v":0}]
[157,{"$f":"IF(JTP!B159=\"\",\"\",JTP!C159)","v":""},{"$f":"IF(JTP!B159=\"\",0,JTP!D159)","v":0},{"$f":"IF(JTP!B159=\"\",0,JTP!E159)","v":0},null,{"$f":"IF(JTP!G159=\"\",\"\",JTP!H159)","v":""},{"$f":"IF(JTP!G159=\"\",0,JTP!I159)","v":0},{"$f":"IF(JTP!G159=\"\",0,JTP!J159)","v":0},null,{"$f":"IF(JSP!B159=\"\",\"\",JSP!C159)","v":""},{"$f":"IF(JSP!B159=\"\",0,JSP!D159)","v":0},{"$f":"IF(JSP!B159=\"\",0,JSP!E159)","v":0},null,{"$f":"IF(JSP!G159=\"\",\"\",JSP!H159)","v":""},{"$f":"IF(JSP!G159=\"\",0,JSP!I159)","v":0},{"$f":"IF(JSP!G159=\"\",0,JSP!J159)","v":0},null,{"$f":"IF(CFP!B159=\"\",\"\",CFP!C159)","v":""},{"$f":"IF(CFP!B159=\"\",0,CFP!D159)","v":0},{"$f":"IF(CFP!B159=\"\",0,CFP!E159)","v":0},null,{"$f":"IF(CFP!G159=\"\",\"\",CFP!H159)","v":""},{"$f":"IF(CFP!G159=\"\",0,CFP!I159)","v":0},null,{"$f":"IF(DWP!B159=\"\",\"\",DWP!C159)","v":""},{"$f":"IF(DWP!D159=\"\",0,DWP!D159)","v":0},{"$f":"IF(DWP!D159=\"\",0,DWP!E159)","v":0},null,{"$f":"IF(DWP!G159=\"\",\"\",DWP!H159)","v":""},{"$f":"IF(DWP!I159=\"\",0,DWP!I159)","v":0},null,{"$f":"IF(ALP!B159=\"\",\"\",ALP!C159)","v":""},{"$f":"IF(ALP!D159=\"\",0,ALP!D159)","v":0},{"$f":"IF(ALP!E159=\"\",0,ALP!E159)","v":0},null,{"$f":"IF(PS!B161=\"\",\"\",PS!C161)","v":""},{"$f":"IF(PS!B161=\"\",\"\",PS!D161)","v":""},null,{"$f":"IF(PS!F161=\"\",\"\",PS!G161)","v":""},{"$f":"IF(PS!F161=\"\",\"\",PS!H161)","v":""},null,{"$f":"IF(LP!A159=\"\",\"\",LP!B159)","v":""},{"$f":"IF(LP!A159=\"\",0,LP!C159)","v":0},null,{"$f":"IF(LP!E159=\"\",\"\",LP!F159)","v":""},{"$f":"IF(LP!E159=\"\",0,LP!G159)","v":0},null,{"$f":"IF(LP!I159=\"\",\"\",LP!J159)","v":""},{"$f":"IF(LP!I159=\"\",0,LP!K159)","v":0},null,{"$f":"IF(BPBPS!B159=\"\",\"\",BPBPS!C159)","v":""},{"$f":"IF(BPBPS!B159=\"\",0,BPBPS!D159)","v":0},null,{"$f":"IF(BPBPS!F159=\"\",\"\",BPBPS!G159)","v":""},{"$f":"IF(BPBPS!H159=\"\",0,BPBPS!H159)","v":0},null,{"$f":"IF(BPBPS!J159=\"\",\"\",BPBPS!K159)","v":""},{"$f":"IF(BPBPS!J159=\"\",0,BPBPS!L159)","v":0},null,{"$f":"IF(SSGP!B159=\"\",\"\",SSGP!C159)","v":""},{"$f":"IF(SSGP!B159=\"\",0,SSGP!D159)","v":0},null,{"$f":"IF(SSGP!F159=\"\",\"\",SSGP!G159)","v":""},{"$f":"IF(SSGP!F159=\"\",0,SSGP!H159)","v":0}]
[158,{"$f":"IF(JTP!B160=\"\",\"\",JTP!C160)","v":""},{"$f":"IF(JTP!B160=\"\",0,JTP!D160)","v":0},{"$f":"IF(JTP!B160=\"\",0,JTP!E160)","v":0},null,{"$f":"IF(JTP!G160=\"\",\"\",JTP!H160)","v":""},{"$f":"IF(JTP!G160=\"\",0,JTP!I160)","v":0},{"$f":"IF(JTP!G160=\"\",0,JTP!J160)","v":0},null,{"$f":"IF(JSP!B160=\"\",\"\",JSP!C160)","v":""},{"$f":"IF(JSP!B160=\"\",0,JSP!D160)","v":0},{"$f":"IF(JSP!B160=\"\",0,JSP!E160)","v":0},null,{"$f":"IF(JSP!G160=\"\",\"\",JSP!H160)","v":""},{"$f":"IF(JSP!G160=\"\",0,JSP!I160)","v":0},{"$f":"IF(JSP!G160=\"\",0,JSP!J160)","v":0},null,{"$f":"IF(CFP!B160=\"\",\"\",CFP!C160)","v":""},{"$f":"IF(CFP!B160=\"\",0,CFP!D160)","v":0},{"$f":"IF(CFP!B160=\"\",0,CFP!E160)","v":0},null,{"$f":"IF(CFP!G160=\"\",\"\",CFP!H160)","v":""},{"$f":"IF(CFP!G160=\"\",0,CFP!I160)","v":0},null,{"$f":"IF(DWP!B160=\"\",\"\",DWP!C160)","v":""},{"$f":"IF(DWP!D160=\"\",0,DWP!D160)","v":0},{"$f":"IF(DWP!D160=\"\",0,DWP!E160)","v":0},null,{"$f":"IF(DWP!G160=\"\",\"\",DWP!H160)","v":""},{"$f":"IF(DWP!I160=\"\",0,DWP!I160)","v":0},null,{"$f":"IF(ALP!B160=\"\",\"\",ALP!C160)","v":""},{"$f":"IF(ALP!D160=\"\",0,ALP!D160)","v":0},{"$f":"IF(ALP!E160=\"\",0,ALP!E160)","v":0},null,{"$f":"IF(PS!B162=\"\",\"\",PS!C162)","v":""},{"$f":"IF(PS!B162=\"\",\"\",PS!D162)","v":""},null,{"$f":"IF(PS!F162=\"\",\"\",PS!G162)","v":""},{"$f":"IF(PS!F162=\"\",\"\",PS!H162)","v":""},null,{"$f":"IF(LP!A160=\"\",\"\",LP!B160)","v":""},{"$f":"IF(LP!A160=\"\",0,LP!C160)","v":0},null,{"$f":"IF(LP!E160=\"\",\"\",LP!F160)","v":""},{"$f":"IF(LP!E160=\"\",0,LP!G160)","v":0},null,{"$f":"IF(LP!I160=\"\",\"\",LP!J160)","v":""},{"$f":"IF(LP!I160=\"\",0,LP!K160)","v":0},null,{"$f":"IF(BPBPS!B160=\"\",\"\",BPBPS!C160)","v":""},{"$f":"IF(BPBPS!B160=\"\",0,BPBPS!D160)","v":0},null,{"$f":"IF(BPBPS!F160=\"\",\"\",BPBPS!G160)","v":""},{"$f":"IF(BPBPS!H160=\"\",0,BPBPS!H160)","v":0},null,{"$f":"IF(BPBPS!J160=\"\",\"\",BPBPS!K160)","v":""},{"$f":"IF(BPBPS!J160=\"\",0,BPBPS!L160)","v":0},null,{"$f":"IF(SSGP!B160=\"\",\"\",SSGP!C160)","v":""},{"$f":"IF(SSGP!B160=\"\",0,SSGP!D160)","v":0},null,{"$f":"IF(SSGP!F160=\"\",\"\",SSGP!G160)","v":""},{"$f":"IF(SSGP!F160=\"\",0,SSGP!H160)","v":0}]
[159,{"$f":"IF(JTP!B161=\"\",\"\",JTP!C161)","v":""},{"$f":"IF(JTP!B161=\"\",0,JTP!D161)","v":0},{"$f":"IF(JTP!B161=\"\",0,JTP!E161)","v":0},null,{"$f":"IF(JTP!G161=\"\",\"\",JTP!H161)","v":""},{"$f":"IF(JTP!G161=\"\",0,JTP!I161)","v":0},{"$f":"IF(JTP!G161=\"\",0,JTP!J161)","v":0},null,{"$f":"IF(JSP!B161=\"\",\"\",JSP!C161)","v":""},{"$f":"IF(JSP!B161=\"\",0,JSP!D161)","v":0},{"$f":"IF(JSP!B161=\"\",0,JSP!E161)","v":0},null,{"$f":"IF(JSP!G161=\"\",\"\",JSP!H161)","v":""},{"$f":"IF(JSP!G161=\"\",0,JSP!I161)","v":0},{"$f":"IF(JSP!G161=\"\",0,JSP!J161)","v":0},null,{"$f":"IF(CFP!B161=\"\",\"\",CFP!C161)","v":""},{"$f":"IF(CFP!B161=\"\",0,CFP!D161)","v":0},{"$f":"IF(CFP!B161=\"\",0,CFP!E161)","v":0},null,{"$f":"IF(CFP!G161=\"\",\"\",CFP!H161)","v":""},{"$f":"IF(CFP!G161=\"\",0,CFP!I161)","v":0},null,{"$f":"IF(DWP!B161=\"\",\"\",DWP!C161)","v":""},{"$f":"IF(DWP!D161=\"\",0,DWP!D161)","v":0},{"$f":"IF(DWP!D161=\"\",0,DWP!E161)","v":0},null,{"$f":"IF(DWP!G161=\"\",\"\",DWP!H161)","v":""},{"$f":"IF(DWP!I161=\"\",0,DWP!I161)","v":0},null,{"$f":"IF(ALP!B161=\"\",\"\",ALP!C161)","v":""},{"$f":"IF(ALP!D161=\"\",0,ALP!D161)","v":0},{"$f":"IF(ALP!E161=\"\",0,ALP!E161)","v":0},null,{"$f":"IF(PS!B163=\"\",\"\",PS!C163)","v":""},{"$f":"IF(PS!B163=\"\",\"\",PS!D163)","v":""},null,{"$f":"IF(PS!F163=\"\",\"\",PS!G163)","v":""},{"$f":"IF(PS!F163=\"\",\"\",PS!H163)","v":""},null,{"$f":"IF(LP!A161=\"\",\"\",LP!B161)","v":""},{"$f":"IF(LP!A161=\"\",0,LP!C161)","v":0},null,{"$f":"IF(LP!E161=\"\",\"\",LP!F161)","v":""},{"$f":"IF(LP!E161=\"\",0,LP!G161)","v":0},null,{"$f":"IF(LP!I161=\"\",\"\",LP!J161)","v":""},{"$f":"IF(LP!I161=\"\",0,LP!K161)","v":0},null,{"$f":"IF(BPBPS!B161=\"\",\"\",BPBPS!C161)","v":""},{"$f":"IF(BPBPS!B161=\"\",0,BPBPS!D161)","v":0},null,{"$f":"IF(BPBPS!F161=\"\",\"\",BPBPS!G161)","v":""},{"$f":"IF(BPBPS!H161=\"\",0,BPBPS!H161)","v":0},null,{"$f":"IF(BPBPS!J161=\"\",\"\",BPBPS!K161)","v":""},{"$f":"IF(BPBPS!J161=\"\",0,BPBPS!L161)","v":0},null,{"$f":"IF(SSGP!B161=\"\",\"\",SSGP!C161)","v":""},{"$f":"IF(SSGP!B161=\"\",0,SSGP!D161)","v":0},null,{"$f":"IF(SSGP!F161=\"\",\"\",SSGP!G161)","v":""},{"$f":"IF(SSGP!F161=\"\",0,SSGP!H161)","v":0}]
[160,{"$f":"IF(JTP!B162=\"\",\"\",JTP!C162)","v":""},{"$f":"IF(JTP!B162=\"\",0,JTP!D162)","v":0},{"$f":"IF(JTP!B162=\"\",0,JTP!E162)","v":0},null,{"$f":"IF(JTP!G162=\"\",\"\",JTP!H162)","v":""},{"$f":"IF(JTP!G162=\"\",0,JTP!I162)","v":0},{"$f":"IF(JTP!G162=\"\",0,JTP!J162)","v":0},null,{"$f":"IF(JSP!B162=\"\",\"\",JSP!C162)","v":""},{"$f":"IF(JSP!B162=\"\",0,JSP!D162)","v":0},{"$f":"IF(JSP!B162=\"\",0,JSP!E162)","v":0},null,{"$f":"IF(JSP!G162=\"\",\"\",JSP!H162)","v":""},{"$f":"IF(JSP!G162=\"\",0,JSP!I162)","v":0},{"$f":"IF(JSP!G162=\"\",0,JSP!J162)","v":0},null,{"$f":"IF(CFP!B162=\"\",\"\",CFP!C162)","v":""},{"$f":"IF(CFP!B162=\"\",0,CFP!D162)","v":0},{"$f":"IF(CFP!B162=\"\",0,CFP!E162)","v":0},null,{"$f":"IF(CFP!G162=\"\",\"\",CFP!H162)","v":""},{"$f":"IF(CFP!G162=\"\",0,CFP!I162)","v":0},null,{"$f":"IF(DWP!B162=\"\",\"\",DWP!C162)","v":""},{"$f":"IF(DWP!D162=\"\",0,DWP!D162)","v":0},{"$f":"IF(DWP!D162=\"\",0,DWP!E162)","v":0},null,{"$f":"IF(DWP!G162=\"\",\"\",DWP!H162)","v":""},{"$f":"IF(DWP!I162=\"\",0,DWP!I162)","v":0},null,{"$f":"IF(ALP!B162=\"\",\"\",ALP!C162)","v":""},{"$f":"IF(ALP!D162=\"\",0,ALP!D162)","v":0},{"$f":"IF(ALP!E162=\"\",0,ALP!E162)","v":0},null,{"$f":"IF(PS!B164=\"\",\"\",PS!C164)","v":""},{"$f":"IF(PS!B164=\"\",\"\",PS!D164)","v":""},null,{"$f":"IF(PS!F164=\"\",\"\",PS!G164)","v":""},{"$f":"IF(PS!F164=\"\",\"\",PS!H164)","v":""},null,{"$f":"IF(LP!A162=\"\",\"\",LP!B162)","v":""},{"$f":"IF(LP!A162=\"\",0,LP!C162)","v":0},null,{"$f":"IF(LP!E162=\"\",\"\",LP!F162)","v":""},{"$f":"IF(LP!E162=\"\",0,LP!G162)","v":0},null,{"$f":"IF(LP!I162=\"\",\"\",LP!J162)","v":""},{"$f":"IF(LP!I162=\"\",0,LP!K162)","v":0},null,{"$f":"IF(BPBPS!B162=\"\",\"\",BPBPS!C162)","v":""},{"$f":"IF(BPBPS!B162=\"\",0,BPBPS!D162)","v":0},null,{"$f":"IF(BPBPS!F162=\"\",\"\",BPBPS!G162)","v":""},{"$f":"IF(BPBPS!H162=\"\",0,BPBPS!H162)","v":0},null,{"$f":"IF(BPBPS!J162=\"\",\"\",BPBPS!K162)","v":""},{"$f":"IF(BPBPS!J162=\"\",0,BPBPS!L162)","v":0},null,{"$f":"IF(SSGP!B162=\"\",\"\",SSGP!C162)","v":""},{"$f":"IF(SSGP!B162=\"\",0,SSGP!D162)","v":0},null,{"$f":"IF(SSGP!F162=\"\",\"\",SSGP!G162)","v":""},{"$f":"IF(SSGP!F162=\"\",0,SSGP!H162)","v":0}]
[161,{"$f":"IF(JTP!B163=\"\",\"\",JTP!C163)","v":""},{"$f":"IF(JTP!B163=\"\",0,JTP!D163)","v":0},{"$f":"IF(JTP!B163=\"\",0,JTP!E163)","v":0},null,{"$f":"IF(JTP!G163=\"\",\"\",JTP!H163)","v":""},{"$f":"IF(JTP!G163=\"\",0,JTP!I163)","v":0},{"$f":"IF(JTP!G163=\"\",0,JTP!J163)","v":0},null,{"$f":"IF(JSP!B163=\"\",\"\",JSP!C163)","v":""},{"$f":"IF(JSP!B163=\"\",0,JSP!D163)","v":0},{"$f":"IF(JSP!B163=\"\",0,JSP!E163)","v":0},null,{"$f":"IF(JSP!G163=\"\",\"\",JSP!H163)","v":""},{"$f":"IF(JSP!G163=\"\",0,JSP!I163)","v":0},{"$f":"IF(JSP!G163=\"\",0,JSP!J163)","v":0},null,{"$f":"IF(CFP!B163=\"\",\"\",CFP!C163)","v":""},{"$f":"IF(CFP!B163=\"\",0,CFP!D163)","v":0},{"$f":"IF(CFP!B163=\"\",0,CFP!E163)","v":0},null,{"$f":"IF(CFP!G163=\"\",\"\",CFP!H163)","v":""},{"$f":"IF(CFP!G163=\"\",0,CFP!I163)","v":0},null,{"$f":"IF(DWP!B163=\"\",\"\",DWP!C163)","v":""},{"$f":"IF(DWP!D163=\"\",0,DWP!D163)","v":0},{"$f":"IF(DWP!D163=\"\",0,DWP!E163)","v":0},null,{"$f":"IF(DWP!G163=\"\",\"\",DWP!H163)","v":""},{"$f":"IF(DWP!I163=\"\",0,DWP!I163)","v":0},null,{"$f":"IF(ALP!B163=\"\",\"\",ALP!C163)","v":""},{"$f":"IF(ALP!D163=\"\",0,ALP!D163)","v":0},{"$f":"IF(ALP!E163=\"\",0,ALP!E163)","v":0},null,{"$f":"IF(PS!B165=\"\",\"\",PS!C165)","v":""},{"$f":"IF(PS!B165=\"\",\"\",PS!D165)","v":""},null,{"$f":"IF(PS!F165=\"\",\"\",PS!G165)","v":""},{"$f":"IF(PS!F165=\"\",\"\",PS!H165)","v":""},null,{"$f":"IF(LP!A163=\"\",\"\",LP!B163)","v":""},{"$f":"IF(LP!A163=\"\",0,LP!C163)","v":0},null,{"$f":"IF(LP!E163=\"\",\"\",LP!F163)","v":""},{"$f":"IF(LP!E163=\"\",0,LP!G163)","v":0},null,{"$f":"IF(LP!I163=\"\",\"\",LP!J163)","v":""},{"$f":"IF(LP!I163=\"\",0,LP!K163)","v":0},null,{"$f":"IF(BPBPS!B163=\"\",\"\",BPBPS!C163)","v":""},{"$f":"IF(BPBPS!B163=\"\",0,BPBPS!D163)","v":0},null,{"$f":"IF(BPBPS!F163=\"\",\"\",BPBPS!G163)","v":""},{"$f":"IF(BPBPS!H163=\"\",0,BPBPS!H163)","v":0},null,{"$f":"IF(BPBPS!J163=\"\",\"\",BPBPS!K163)","v":""},{"$f":"IF(BPBPS!J163=\"\",0,BPBPS!L163)","v":0},null,{"$f":"IF(SSGP!B163=\"\",\"\",SSGP!C163)","v":""},{"$f":"IF(SSGP!B163=\"\",0,SSGP!D163)","v":0},null,{"$f":"IF(SSGP!F163=\"\",\"\",SSGP!G163)","v":""},{"$f":"IF(SSGP!F163=\"\",0,SSGP!H163)","v":0}]
[162,{"$f":"IF(JTP!B164=\"\",\"\",JTP!C164)","v":""},{"$f":"IF(JTP!B164=\"\",0,JTP!D164)","v":0},{"$f":"IF(JTP!B164=\"\",0,JTP!E164)","v":0},null,{"$f":"IF(JTP!G164=\"\",\"\",JTP!H164)","v":""},{"$f":"IF(JTP!G164=\"\",0,JTP!I164)","v":0},{"$f":"IF(JTP!G164=\"\",0,JTP!J164)","v":0},null,{"$f":"IF(JSP!B164=\"\",\"\",JSP!C164)","v":""},{"$f":"IF(JSP!B164=\"\",0,JSP!D164)","v":0},{"$f":"IF(JSP!B164=\"\",0,JSP!E164)","v":0},null,{"$f":"IF(JSP!G164=\"\",\"\",JSP!H164)","v":""},{"$f":"IF(JSP!G164=\"\",0,JSP!I164)","v":0},{"$f":"IF(JSP!G164=\"\",0,JSP!J164)","v":0},null,{"$f":"IF(CFP!B164=\"\",\"\",CFP!C164)","v":""},{"$f":"IF(CFP!B164=\"\",0,CFP!D164)","v":0},{"$f":"IF(CFP!B164=\"\",0,CFP!E164)","v":0},null,{"$f":"IF(CFP!G164=\"\",\"\",CFP!H164)","v":""},{"$f":"IF(CFP!G164=\"\",0,CFP!I164)","v":0},null,{"$f":"IF(DWP!B164=\"\",\"\",DWP!C164)","v":""},{"$f":"IF(DWP!D164=\"\",0,DWP!D164)","v":0},{"$f":"IF(DWP!D164=\"\",0,DWP!E164)","v":0},null,{"$f":"IF(DWP!G164=\"\",\"\",DWP!H164)","v":""},{"$f":"IF(DWP!I164=\"\",0,DWP!I164)","v":0},null,{"$f":"IF(ALP!B164=\"\",\"\",ALP!C164)","v":""},{"$f":"IF(ALP!D164=\"\",0,ALP!D164)","v":0},{"$f":"IF(ALP!E164=\"\",0,ALP!E164)","v":0},null,{"$f":"IF(PS!B166=\"\",\"\",PS!C166)","v":""},{"$f":"IF(PS!B166=\"\",\"\",PS!D166)","v":""},null,{"$f":"IF(PS!F166=\"\",\"\",PS!G166)","v":""},{"$f":"IF(PS!F166=\"\",\"\",PS!H166)","v":""},null,{"$f":"IF(LP!A164=\"\",\"\",LP!B164)","v":""},{"$f":"IF(LP!A164=\"\",0,LP!C164)","v":0},null,{"$f":"IF(LP!E164=\"\",\"\",LP!F164)","v":""},{"$f":"IF(LP!E164=\"\",0,LP!G164)","v":0},null,{"$f":"IF(LP!I164=\"\",\"\",LP!J164)","v":""},{"$f":"IF(LP!I164=\"\",0,LP!K164)","v":0},null,{"$f":"IF(BPBPS!B164=\"\",\"\",BPBPS!C164)","v":""},{"$f":"IF(BPBPS!B164=\"\",0,BPBPS!D164)","v":0},null,{"$f":"IF(BPBPS!F164=\"\",\"\",BPBPS!G164)","v":""},{"$f":"IF(BPBPS!H164=\"\",0,BPBPS!H164)","v":0},null,{"$f":"IF(BPBPS!J164=\"\",\"\",BPBPS!K164)","v":""},{"$f":"IF(BPBPS!J164=\"\",0,BPBPS!L164)","v":0},null,{"$f":"IF(SSGP!B164=\"\",\"\",SSGP!C164)","v":""},{"$f":"IF(SSGP!B164=\"\",0,SSGP!D164)","v":0},null,{"$f":"IF(SSGP!F164=\"\",\"\",SSGP!G164)","v":""},{"$f":"IF(SSGP!F164=\"\",0,SSGP!H164)","v":0}]
[163,{"$f":"IF(JTP!B165=\"\",\"\",JTP!C165)","v":""},{"$f":"IF(JTP!B165=\"\",0,JTP!D165)","v":0},{"$f":"IF(JTP!B165=\"\",0,JTP!E165)","v":0},null,{"$f":"IF(JTP!G165=\"\",\"\",JTP!H165)","v":""},{"$f":"IF(JTP!G165=\"\",0,JTP!I165)","v":0},{"$f":"IF(JTP!G165=\"\",0,JTP!J165)","v":0},null,{"$f":"IF(JSP!B165=\"\",\"\",JSP!C165)","v":""},{"$f":"IF(JSP!B165=\"\",0,JSP!D165)","v":0},{"$f":"IF(JSP!B165=\"\",0,JSP!E165)","v":0},null,{"$f":"IF(JSP!G165=\"\",\"\",JSP!H165)","v":""},{"$f":"IF(JSP!G165=\"\",0,JSP!I165)","v":0},{"$f":"IF(JSP!G165=\"\",0,JSP!J165)","v":0},null,{"$f":"IF(CFP!B165=\"\",\"\",CFP!C165)","v":""},{"$f":"IF(CFP!B165=\"\",0,CFP!D165)","v":0},{"$f":"IF(CFP!B165=\"\",0,CFP!E165)","v":0},null,{"$f":"IF(CFP!G165=\"\",\"\",CFP!H165)","v":""},{"$f":"IF(CFP!G165=\"\",0,CFP!I165)","v":0},null,{"$f":"IF(DWP!B165=\"\",\"\",DWP!C165)","v":""},{"$f":"IF(DWP!D165=\"\",0,DWP!D165)","v":0},{"$f":"IF(DWP!D165=\"\",0,DWP!E165)","v":0},null,{"$f":"IF(DWP!G165=\"\",\"\",DWP!H165)","v":""},{"$f":"IF(DWP!I165=\"\",0,DWP!I165)","v":0},null,{"$f":"IF(ALP!B165=\"\",\"\",ALP!C165)","v":""},{"$f":"IF(ALP!D165=\"\",0,ALP!D165)","v":0},{"$f":"IF(ALP!E165=\"\",0,ALP!E165)","v":0},null,{"$f":"IF(PS!B167=\"\",\"\",PS!C167)","v":""},{"$f":"IF(PS!B167=\"\",\"\",PS!D167)","v":""},null,{"$f":"IF(PS!F167=\"\",\"\",PS!G167)","v":""},{"$f":"IF(PS!F167=\"\",\"\",PS!H167)","v":""},null,{"$f":"IF(LP!A165=\"\",\"\",LP!B165)","v":""},{"$f":"IF(LP!A165=\"\",0,LP!C165)","v":0},null,{"$f":"IF(LP!E165=\"\",\"\",LP!F165)","v":""},{"$f":"IF(LP!E165=\"\",0,LP!G165)","v":0},null,{"$f":"IF(LP!I165=\"\",\"\",LP!J165)","v":""},{"$f":"IF(LP!I165=\"\",0,LP!K165)","v":0},null,{"$f":"IF(BPBPS!B165=\"\",\"\",BPBPS!C165)","v":""},{"$f":"IF(BPBPS!B165=\"\",0,BPBPS!D165)","v":0},null,{"$f":"IF(BPBPS!F165=\"\",\"\",BPBPS!G165)","v":""},{"$f":"IF(BPBPS!H165=\"\",0,BPBPS!H165)","v":0},null,{"$f":"IF(BPBPS!J165=\"\",\"\",BPBPS!K165)","v":""},{"$f":"IF(BPBPS!J165=\"\",0,BPBPS!L165)","v":0},null,{"$f":"IF(SSGP!B165=\"\",\"\",SSGP!C165)","v":""},{"$f":"IF(SSGP!B165=\"\",0,SSGP!D165)","v":0},null,{"$f":"IF(SSGP!F165=\"\",\"\",SSGP!G165)","v":""},{"$f":"IF(SSGP!F165=\"\",0,SSGP!H165)","v":0}]
[164,{"$f":"IF(JTP!B166=\"\",\"\",JTP!C166)","v":""},{"$f":"IF(JTP!B166=\"\",0,JTP!D166)","v":0},{"$f":"IF(JTP!B166=\"\",0,JTP!E166)","v":0},null,{"$f":"IF(JTP!G166=\"\",\"\",JTP!H166)","v":""},{"$f":"IF(JTP!G166=\"\",0,JTP!I166)","v":0},{"$f":"IF(JTP!G166=\"\",0,JTP!J166)","v":0},null,{"$f":"IF(JSP!B166=\"\",\"\",JSP!C166)","v":""},{"$f":"IF(JSP!B166=\"\",0,JSP!D166)","v":0},{"$f":"IF(JSP!B166=\"\",0,JSP!E166)","v":0},null,{"$f":"IF(JSP!G166=\"\",\"\",JSP!H166)","v":""},{"$f":"IF(JSP!G166=\"\",0,JSP!I166)","v":0},{"$f":"IF(JSP!G166=\"\",0,JSP!J166)","v":0},null,{"$f":"IF(CFP!B166=\"\",\"\",CFP!C166)","v":""},{"$f":"IF(CFP!B166=\"\",0,CFP!D166)","v":0},{"$f":"IF(CFP!B166=\"\",0,CFP!E166)","v":0},null,{"$f":"IF(CFP!G166=\"\",\"\",CFP!H166)","v":""},{"$f":"IF(CFP!G166=\"\",0,CFP!I166)","v":0},null,{"$f":"IF(DWP!B166=\"\",\"\",DWP!C166)","v":""},{"$f":"IF(DWP!D166=\"\",0,DWP!D166)","v":0},{"$f":"IF(DWP!D166=\"\",0,DWP!E166)","v":0},null,{"$f":"IF(DWP!G166=\"\",\"\",DWP!H166)","v":""},{"$f":"IF(DWP!I166=\"\",0,DWP!I166)","v":0},null,{"$f":"IF(ALP!B166=\"\",\"\",ALP!C166)","v":""},{"$f":"IF(ALP!D166=\"\",0,ALP!D166)","v":0},{"$f":"IF(ALP!E166=\"\",0,ALP!E166)","v":0},null,{"$f":"IF(PS!B168=\"\",\"\",PS!C168)","v":""},{"$f":"IF(PS!B168=\"\",\"\",PS!D168)","v":""},null,{"$f":"IF(PS!F168=\"\",\"\",PS!G168)","v":""},{"$f":"IF(PS!F168=\"\",\"\",PS!H168)","v":""},null,{"$f":"IF(LP!A166=\"\",\"\",LP!B166)","v":""},{"$f":"IF(LP!A166=\"\",0,LP!C166)","v":0},null,{"$f":"IF(LP!E166=\"\",\"\",LP!F166)","v":""},{"$f":"IF(LP!E166=\"\",0,LP!G166)","v":0},null,{"$f":"IF(LP!I166=\"\",\"\",LP!J166)","v":""},{"$f":"IF(LP!I166=\"\",0,LP!K166)","v":0},null,{"$f":"IF(BPBPS!B166=\"\",\"\",BPBPS!C166)","v":""},{"$f":"IF(BPBPS!B166=\"\",0,BPBPS!D166)","v":0},null,{"$f":"IF(BPBPS!F166=\"\",\"\",BPBPS!G166)","v":""},{"$f":"IF(BPBPS!H166=\"\",0,BPBPS!H166)","v":0},null,{"$f":"IF(BPBPS!J166=\"\",\"\",BPBPS!K166)","v":""},{"$f":"IF(BPBPS!J166=\"\",0,BPBPS!L166)","v":0},null,{"$f":"IF(SSGP!B166=\"\",\"\",SSGP!C166)","v":""},{"$f":"IF(SSGP!B166=\"\",0,SSGP!D166)","v":0},null,{"$f":"IF(SSGP!F166=\"\",\"\",SSGP!G166)","v":""},{"$f":"IF(SSGP!F166=\"\",0,SSGP!H166)","v":0}]
[165,{"$f":"IF(JTP!B167=\"\",\"\",JTP!C167)","v":""},{"$f":"IF(JTP!B167=\"\",0,JTP!D167)","v":0},{"$f":"IF(JTP!B167=\"\",0,JTP!E167)","v":0},null,{"$f":"IF(JTP!G167=\"\",\"\",JTP!H167)","v":""},{"$f":"IF(JTP!G167=\"\",0,JTP!I167)","v":0},{"$f":"IF(JTP!G167=\"\",0,JTP!J167)","v":0},null,{"$f":"IF(JSP!B167=\"\",\"\",JSP!C167)","v":""},{"$f":"IF(JSP!B167=\"\",0,JSP!D167)","v":0},{"$f":"IF(JSP!B167=\"\",0,JSP!E167)","v":0},null,{"$f":"IF(JSP!G167=\"\",\"\",JSP!H167)","v":""},{"$f":"IF(JSP!G167=\"\",0,JSP!I167)","v":0},{"$f":"IF(JSP!G167=\"\",0,JSP!J167)","v":0},null,{"$f":"IF(CFP!B167=\"\",\"\",CFP!C167)","v":""},{"$f":"IF(CFP!B167=\"\",0,CFP!D167)","v":0},{"$f":"IF(CFP!B167=\"\",0,CFP!E167)","v":0},null,{"$f":"IF(CFP!G167=\"\",\"\",CFP!H167)","v":""},{"$f":"IF(CFP!G167=\"\",0,CFP!I167)","v":0},null,{"$f":"IF(DWP!B167=\"\",\"\",DWP!C167)","v":""},{"$f":"IF(DWP!D167=\"\",0,DWP!D167)","v":0},{"$f":"IF(DWP!D167=\"\",0,DWP!E167)","v":0},null,{"$f":"IF(DWP!G167=\"\",\"\",DWP!H167)","v":""},{"$f":"IF(DWP!I167=\"\",0,DWP!I167)","v":0},null,{"$f":"IF(ALP!B167=\"\",\"\",ALP!C167)","v":""},{"$f":"IF(ALP!D167=\"\",0,ALP!D167)","v":0},{"$f":"IF(ALP!E167=\"\",0,ALP!E167)","v":0},null,{"$f":"IF(PS!B169=\"\",\"\",PS!C169)","v":""},{"$f":"IF(PS!B169=\"\",\"\",PS!D169)","v":""},null,{"$f":"IF(PS!F169=\"\",\"\",PS!G169)","v":""},{"$f":"IF(PS!F169=\"\",\"\",PS!H169)","v":""},null,{"$f":"IF(LP!A167=\"\",\"\",LP!B167)","v":""},{"$f":"IF(LP!A167=\"\",0,LP!C167)","v":0},null,{"$f":"IF(LP!E167=\"\",\"\",LP!F167)","v":""},{"$f":"IF(LP!E167=\"\",0,LP!G167)","v":0},null,{"$f":"IF(LP!I167=\"\",\"\",LP!J167)","v":""},{"$f":"IF(LP!I167=\"\",0,LP!K167)","v":0},null,{"$f":"IF(BPBPS!B167=\"\",\"\",BPBPS!C167)","v":""},{"$f":"IF(BPBPS!B167=\"\",0,BPBPS!D167)","v":0},null,{"$f":"IF(BPBPS!F167=\"\",\"\",BPBPS!G167)","v":""},{"$f":"IF(BPBPS!H167=\"\",0,BPBPS!H167)","v":0},null,{"$f":"IF(BPBPS!J167=\"\",\"\",BPBPS!K167)","v":""},{"$f":"IF(BPBPS!J167=\"\",0,BPBPS!L167)","v":0},null,{"$f":"IF(SSGP!B167=\"\",\"\",SSGP!C167)","v":""},{"$f":"IF(SSGP!B167=\"\",0,SSGP!D167)","v":0},null,{"$f":"IF(SSGP!F167=\"\",\"\",SSGP!G167)","v":""},{"$f":"IF(SSGP!F167=\"\",0,SSGP!H167)","v":0}]
[166,{"$f":"IF(JTP!B168=\"\",\"\",JTP!C168)","v":""},{"$f":"IF(JTP!B168=\"\",0,JTP!D168)","v":0},{"$f":"IF(JTP!B168=\"\",0,JTP!E168)","v":0},null,{"$f":"IF(JTP!G168=\"\",\"\",JTP!H168)","v":""},{"$f":"IF(JTP!G168=\"\",0,JTP!I168)","v":0},{"$f":"IF(JTP!G168=\"\",0,JTP!J168)","v":0},null,{"$f":"IF(JSP!B168=\"\",\"\",JSP!C168)","v":""},{"$f":"IF(JSP!B168=\"\",0,JSP!D168)","v":0},{"$f":"IF(JSP!B168=\"\",0,JSP!E168)","v":0},null,{"$f":"IF(JSP!G168=\"\",\"\",JSP!H168)","v":""},{"$f":"IF(JSP!G168=\"\",0,JSP!I168)","v":0},{"$f":"IF(JSP!G168=\"\",0,JSP!J168)","v":0},null,{"$f":"IF(CFP!B168=\"\",\"\",CFP!C168)","v":""},{"$f":"IF(CFP!B168=\"\",0,CFP!D168)","v":0},{"$f":"IF(CFP!B168=\"\",0,CFP!E168)","v":0},null,{"$f":"IF(CFP!G168=\"\",\"\",CFP!H168)","v":""},{"$f":"IF(CFP!G168=\"\",0,CFP!I168)","v":0},null,{"$f":"IF(DWP!B168=\"\",\"\",DWP!C168)","v":""},{"$f":"IF(DWP!D168=\"\",0,DWP!D168)","v":0},{"$f":"IF(DWP!D168=\"\",0,DWP!E168)","v":0},null,{"$f":"IF(DWP!G168=\"\",\"\",DWP!H168)","v":""},{"$f":"IF(DWP!I168=\"\",0,DWP!I168)","v":0},null,{"$f":"IF(ALP!B168=\"\",\"\",ALP!C168)","v":""},{"$f":"IF(ALP!D168=\"\",0,ALP!D168)","v":0},{"$f":"IF(ALP!E168=\"\",0,ALP!E168)","v":0},null,{"$f":"IF(PS!B170=\"\",\"\",PS!C170)","v":""},{"$f":"IF(PS!B170=\"\",\"\",PS!D170)","v":""},null,{"$f":"IF(PS!F170=\"\",\"\",PS!G170)","v":""},{"$f":"IF(PS!F170=\"\",\"\",PS!H170)","v":""},null,{"$f":"IF(LP!A168=\"\",\"\",LP!B168)","v":""},{"$f":"IF(LP!A168=\"\",0,LP!C168)","v":0},null,{"$f":"IF(LP!E168=\"\",\"\",LP!F168)","v":""},{"$f":"IF(LP!E168=\"\",0,LP!G168)","v":0},null,{"$f":"IF(LP!I168=\"\",\"\",LP!J168)","v":""},{"$f":"IF(LP!I168=\"\",0,LP!K168)","v":0},null,{"$f":"IF(BPBPS!B168=\"\",\"\",BPBPS!C168)","v":""},{"$f":"IF(BPBPS!B168=\"\",0,BPBPS!D168)","v":0},null,{"$f":"IF(BPBPS!F168=\"\",\"\",BPBPS!G168)","v":""},{"$f":"IF(BPBPS!H168=\"\",0,BPBPS!H168)","v":0},null,{"$f":"IF(BPBPS!J168=\"\",\"\",BPBPS!K168)","v":""},{"$f":"IF(BPBPS!J168=\"\",0,BPBPS!L168)","v":0},null,{"$f":"IF(SSGP!B168=\"\",\"\",SSGP!C168)","v":""},{"$f":"IF(SSGP!B168=\"\",0,SSGP!D168)","v":0},null,{"$f":"IF(SSGP!F168=\"\",\"\",SSGP!G168)","v":""},{"$f":"IF(SSGP!F168=\"\",0,SSGP!H168)","v":0}]
[167,{"$f":"IF(JTP!B169=\"\",\"\",JTP!C169)","v":""},{"$f":"IF(JTP!B169=\"\",0,JTP!D169)","v":0},{"$f":"IF(JTP!B169=\"\",0,JTP!E169)","v":0},null,{"$f":"IF(JTP!G169=\"\",\"\",JTP!H169)","v":""},{"$f":"IF(JTP!G169=\"\",0,JTP!I169)","v":0},{"$f":"IF(JTP!G169=\"\",0,JTP!J169)","v":0},null,{"$f":"IF(JSP!B169=\"\",\"\",JSP!C169)","v":""},{"$f":"IF(JSP!B169=\"\",0,JSP!D169)","v":0},{"$f":"IF(JSP!B169=\"\",0,JSP!E169)","v":0},null,{"$f":"IF(JSP!G169=\"\",\"\",JSP!H169)","v":""},{"$f":"IF(JSP!G169=\"\",0,JSP!I169)","v":0},{"$f":"IF(JSP!G169=\"\",0,JSP!J169)","v":0},null,{"$f":"IF(CFP!B169=\"\",\"\",CFP!C169)","v":""},{"$f":"IF(CFP!B169=\"\",0,CFP!D169)","v":0},{"$f":"IF(CFP!B169=\"\",0,CFP!E169)","v":0},null,{"$f":"IF(CFP!G169=\"\",\"\",CFP!H169)","v":""},{"$f":"IF(CFP!G169=\"\",0,CFP!I169)","v":0},null,{"$f":"IF(DWP!B169=\"\",\"\",DWP!C169)","v":""},{"$f":"IF(DWP!D169=\"\",0,DWP!D169)","v":0},{"$f":"IF(DWP!D169=\"\",0,DWP!E169)","v":0},null,{"$f":"IF(DWP!G169=\"\",\"\",DWP!H169)","v":""},{"$f":"IF(DWP!I169=\"\",0,DWP!I169)","v":0},null,{"$f":"IF(ALP!B169=\"\",\"\",ALP!C169)","v":""},{"$f":"IF(ALP!D169=\"\",0,ALP!D169)","v":0},{"$f":"IF(ALP!E169=\"\",0,ALP!E169)","v":0},null,{"$f":"IF(PS!B171=\"\",\"\",PS!C171)","v":""},{"$f":"IF(PS!B171=\"\",\"\",PS!D171)","v":""},null,{"$f":"IF(PS!F171=\"\",\"\",PS!G171)","v":""},{"$f":"IF(PS!F171=\"\",\"\",PS!H171)","v":""},null,{"$f":"IF(LP!A169=\"\",\"\",LP!B169)","v":""},{"$f":"IF(LP!A169=\"\",0,LP!C169)","v":0},null,{"$f":"IF(LP!E169=\"\",\"\",LP!F169)","v":""},{"$f":"IF(LP!E169=\"\",0,LP!G169)","v":0},null,{"$f":"IF(LP!I169=\"\",\"\",LP!J169)","v":""},{"$f":"IF(LP!I169=\"\",0,LP!K169)","v":0},null,{"$f":"IF(BPBPS!B169=\"\",\"\",BPBPS!C169)","v":""},{"$f":"IF(BPBPS!B169=\"\",0,BPBPS!D169)","v":0},null,{"$f":"IF(BPBPS!F169=\"\",\"\",BPBPS!G169)","v":""},{"$f":"IF(BPBPS!H169=\"\",0,BPBPS!H169)","v":0},null,{"$f":"IF(BPBPS!J169=\"\",\"\",BPBPS!K169)","v":""},{"$f":"IF(BPBPS!J169=\"\",0,BPBPS!L169)","v":0},null,{"$f":"IF(SSGP!B169=\"\",\"\",SSGP!C169)","v":""},{"$f":"IF(SSGP!B169=\"\",0,SSGP!D169)","v":0},null,{"$f":"IF(SSGP!F169=\"\",\"\",SSGP!G169)","v":""},{"$f":"IF(SSGP!F169=\"\",0,SSGP!H169)","v":0}]
[168,{"$f":"IF(JTP!B170=\"\",\"\",JTP!C170)","v":""},{"$f":"IF(JTP!B170=\"\",0,JTP!D170)","v":0},{"$f":"IF(JTP!B170=\"\",0,JTP!E170)","v":0},null,{"$f":"IF(JTP!G170=\"\",\"\",JTP!H170)","v":""},{"$f":"IF(JTP!G170=\"\",0,JTP!I170)","v":0},{"$f":"IF(JTP!G170=\"\",0,JTP!J170)","v":0},null,{"$f":"IF(JSP!B170=\"\",\"\",JSP!C170)","v":""},{"$f":"IF(JSP!B170=\"\",0,JSP!D170)","v":0},{"$f":"IF(JSP!B170=\"\",0,JSP!E170)","v":0},null,{"$f":"IF(JSP!G170=\"\",\"\",JSP!H170)","v":""},{"$f":"IF(JSP!G170=\"\",0,JSP!I170)","v":0},{"$f":"IF(JSP!G170=\"\",0,JSP!J170)","v":0},null,{"$f":"IF(CFP!B170=\"\",\"\",CFP!C170)","v":""},{"$f":"IF(CFP!B170=\"\",0,CFP!D170)","v":0},{"$f":"IF(CFP!B170=\"\",0,CFP!E170)","v":0},null,{"$f":"IF(CFP!G170=\"\",\"\",CFP!H170)","v":""},{"$f":"IF(CFP!G170=\"\",0,CFP!I170)","v":0},null,{"$f":"IF(DWP!B170=\"\",\"\",DWP!C170)","v":""},{"$f":"IF(DWP!D170=\"\",0,DWP!D170)","v":0},{"$f":"IF(DWP!D170=\"\",0,DWP!E170)","v":0},null,{"$f":"IF(DWP!G170=\"\",\"\",DWP!H170)","v":""},{"$f":"IF(DWP!I170=\"\",0,DWP!I170)","v":0},null,{"$f":"IF(ALP!B170=\"\",\"\",ALP!C170)","v":""},{"$f":"IF(ALP!D170=\"\",0,ALP!D170)","v":0},{"$f":"IF(ALP!E170=\"\",0,ALP!E170)","v":0},null,{"$f":"IF(PS!B172=\"\",\"\",PS!C172)","v":""},{"$f":"IF(PS!B172=\"\",\"\",PS!D172)","v":""},null,{"$f":"IF(PS!F172=\"\",\"\",PS!G172)","v":""},{"$f":"IF(PS!F172=\"\",\"\",PS!H172)","v":""},null,{"$f":"IF(LP!A170=\"\",\"\",LP!B170)","v":""},{"$f":"IF(LP!A170=\"\",0,LP!C170)","v":0},null,{"$f":"IF(LP!E170=\"\",\"\",LP!F170)","v":""},{"$f":"IF(LP!E170=\"\",0,LP!G170)","v":0},null,{"$f":"IF(LP!I170=\"\",\"\",LP!J170)","v":""},{"$f":"IF(LP!I170=\"\",0,LP!K170)","v":0},null,{"$f":"IF(BPBPS!B170=\"\",\"\",BPBPS!C170)","v":""},{"$f":"IF(BPBPS!B170=\"\",0,BPBPS!D170)","v":0},null,{"$f":"IF(BPBPS!F170=\"\",\"\",BPBPS!G170)","v":""},{"$f":"IF(BPBPS!H170=\"\",0,BPBPS!H170)","v":0},null,{"$f":"IF(BPBPS!J170=\"\",\"\",BPBPS!K170)","v":""},{"$f":"IF(BPBPS!J170=\"\",0,BPBPS!L170)","v":0},null,{"$f":"IF(SSGP!B170=\"\",\"\",SSGP!C170)","v":""},{"$f":"IF(SSGP!B170=\"\",0,SSGP!D170)","v":0},null,{"$f":"IF(SSGP!F170=\"\",\"\",SSGP!G170)","v":""},{"$f":"IF(SSGP!F170=\"\",0,SSGP!H170)","v":0}]
[169,{"$f":"IF(JTP!B171=\"\",\"\",JTP!C171)","v":""},{"$f":"IF(JTP!B171=\"\",0,JTP!D171)","v":0},{"$f":"IF(JTP!B171=\"\",0,JTP!E171)","v":0},null,{"$f":"IF(JTP!G171=\"\",\"\",JTP!H171)","v":""},{"$f":"IF(JTP!G171=\"\",0,JTP!I171)","v":0},{"$f":"IF(JTP!G171=\"\",0,JTP!J171)","v":0},null,{"$f":"IF(JSP!B171=\"\",\"\",JSP!C171)","v":""},{"$f":"IF(JSP!B171=\"\",0,JSP!D171)","v":0},{"$f":"IF(JSP!B171=\"\",0,JSP!E171)","v":0},null,{"$f":"IF(JSP!G171=\"\",\"\",JSP!H171)","v":""},{"$f":"IF(JSP!G171=\"\",0,JSP!I171)","v":0},{"$f":"IF(JSP!G171=\"\",0,JSP!J171)","v":0},null,{"$f":"IF(CFP!B171=\"\",\"\",CFP!C171)","v":""},{"$f":"IF(CFP!B171=\"\",0,CFP!D171)","v":0},{"$f":"IF(CFP!B171=\"\",0,CFP!E171)","v":0},null,{"$f":"IF(CFP!G171=\"\",\"\",CFP!H171)","v":""},{"$f":"IF(CFP!G171=\"\",0,CFP!I171)","v":0},null,{"$f":"IF(DWP!B171=\"\",\"\",DWP!C171)","v":""},{"$f":"IF(DWP!D171=\"\",0,DWP!D171)","v":0},{"$f":"IF(DWP!D171=\"\",0,DWP!E171)","v":0},null,{"$f":"IF(DWP!G171=\"\",\"\",DWP!H171)","v":""},{"$f":"IF(DWP!I171=\"\",0,DWP!I171)","v":0},null,{"$f":"IF(ALP!B171=\"\",\"\",ALP!C171)","v":""},{"$f":"IF(ALP!D171=\"\",0,ALP!D171)","v":0},{"$f":"IF(ALP!E171=\"\",0,ALP!E171)","v":0},null,{"$f":"IF(PS!B173=\"\",\"\",PS!C173)","v":""},{"$f":"IF(PS!B173=\"\",\"\",PS!D173)","v":""},null,{"$f":"IF(PS!F173=\"\",\"\",PS!G173)","v":""},{"$f":"IF(PS!F173=\"\",\"\",PS!H173)","v":""},null,{"$f":"IF(LP!A171=\"\",\"\",LP!B171)","v":""},{"$f":"IF(LP!A171=\"\",0,LP!C171)","v":0},null,{"$f":"IF(LP!E171=\"\",\"\",LP!F171)","v":""},{"$f":"IF(LP!E171=\"\",0,LP!G171)","v":0},null,{"$f":"IF(LP!I171=\"\",\"\",LP!J171)","v":""},{"$f":"IF(LP!I171=\"\",0,LP!K171)","v":0},null,{"$f":"IF(BPBPS!B171=\"\",\"\",BPBPS!C171)","v":""},{"$f":"IF(BPBPS!B171=\"\",0,BPBPS!D171)","v":0},null,{"$f":"IF(BPBPS!F171=\"\",\"\",BPBPS!G171)","v":""},{"$f":"IF(BPBPS!H171=\"\",0,BPBPS!H171)","v":0},null,{"$f":"IF(BPBPS!J171=\"\",\"\",BPBPS!K171)","v":""},{"$f":"IF(BPBPS!J171=\"\",0,BPBPS!L171)","v":0},null,{"$f":"IF(SSGP!B171=\"\",\"\",SSGP!C171)","v":""},{"$f":"IF(SSGP!B171=\"\",0,SSGP!D171)","v":0},null,{"$f":"IF(SSGP!F171=\"\",\"\",SSGP!G171)","v":""},{"$f":"IF(SSGP!F171=\"\",0,SSGP!H171)","v":0}]
[170,{"$f":"IF(JTP!B172=\"\",\"\",JTP!C172)","v":""},{"$f":"IF(JTP!B172=\"\",0,JTP!D172)","v":0},{"$f":"IF(JTP!B172=\"\",0,JTP!E172)","v":0},null,{"$f":"IF(JTP!G172=\"\",\"\",JTP!H172)","v":""},{"$f":"IF(JTP!G172=\"\",0,JTP!I172)","v":0},{"$f":"IF(JTP!G172=\"\",0,JTP!J172)","v":0},null,{"$f":"IF(JSP!B172=\"\",\"\",JSP!C172)","v":""},{"$f":"IF(JSP!B172=\"\",0,JSP!D172)","v":0},{"$f":"IF(JSP!B172=\"\",0,JSP!E172)","v":0},null,{"$f":"IF(JSP!G172=\"\",\"\",JSP!H172)","v":""},{"$f":"IF(JSP!G172=\"\",0,JSP!I172)","v":0},{"$f":"IF(JSP!G172=\"\",0,JSP!J172)","v":0},null,{"$f":"IF(CFP!B172=\"\",\"\",CFP!C172)","v":""},{"$f":"IF(CFP!B172=\"\",0,CFP!D172)","v":0},{"$f":"IF(CFP!B172=\"\",0,CFP!E172)","v":0},null,{"$f":"IF(CFP!G172=\"\",\"\",CFP!H172)","v":""},{"$f":"IF(CFP!G172=\"\",0,CFP!I172)","v":0},null,{"$f":"IF(DWP!B172=\"\",\"\",DWP!C172)","v":""},{"$f":"IF(DWP!D172=\"\",0,DWP!D172)","v":0},{"$f":"IF(DWP!D172=\"\",0,DWP!E172)","v":0},null,{"$f":"IF(DWP!G172=\"\",\"\",DWP!H172)","v":""},{"$f":"IF(DWP!I172=\"\",0,DWP!I172)","v":0},null,{"$f":"IF(ALP!B172=\"\",\"\",ALP!C172)","v":""},{"$f":"IF(ALP!D172=\"\",0,ALP!D172)","v":0},{"$f":"IF(ALP!E172=\"\",0,ALP!E172)","v":0},null,{"$f":"IF(PS!B174=\"\",\"\",PS!C174)","v":""},{"$f":"IF(PS!B174=\"\",\"\",PS!D174)","v":""},null,{"$f":"IF(PS!F174=\"\",\"\",PS!G174)","v":""},{"$f":"IF(PS!F174=\"\",\"\",PS!H174)","v":""},null,{"$f":"IF(LP!A172=\"\",\"\",LP!B172)","v":""},{"$f":"IF(LP!A172=\"\",0,LP!C172)","v":0},null,{"$f":"IF(LP!E172=\"\",\"\",LP!F172)","v":""},{"$f":"IF(LP!E172=\"\",0,LP!G172)","v":0},null,{"$f":"IF(LP!I172=\"\",\"\",LP!J172)","v":""},{"$f":"IF(LP!I172=\"\",0,LP!K172)","v":0},null,{"$f":"IF(BPBPS!B172=\"\",\"\",BPBPS!C172)","v":""},{"$f":"IF(BPBPS!B172=\"\",0,BPBPS!D172)","v":0},null,{"$f":"IF(BPBPS!F172=\"\",\"\",BPBPS!G172)","v":""},{"$f":"IF(BPBPS!H172=\"\",0,BPBPS!H172)","v":0},null,{"$f":"IF(BPBPS!J172=\"\",\"\",BPBPS!K172)","v":""},{"$f":"IF(BPBPS!J172=\"\",0,BPBPS!L172)","v":0},null,{"$f":"IF(SSGP!B172=\"\",\"\",SSGP!C172)","v":""},{"$f":"IF(SSGP!B172=\"\",0,SSGP!D172)","v":0},null,{"$f":"IF(SSGP!F172=\"\",\"\",SSGP!G172)","v":""},{"$f":"IF(SSGP!F172=\"\",0,SSGP!H172)","v":0}]
[171,{"$f":"IF(JTP!B173=\"\",\"\",JTP!C173)","v":""},{"$f":"IF(JTP!B173=\"\",0,JTP!D173)","v":0},{"$f":"IF(JTP!B173=\"\",0,JTP!E173)","v":0},null,{"$f":"IF(JTP!G173=\"\",\"\",JTP!H173)","v":""},{"$f":"IF(JTP!G173=\"\",0,JTP!I173)","v":0},{"$f":"IF(JTP!G173=\"\",0,JTP!J173)","v":0},null,{"$f":"IF(JSP!B173=\"\",\"\",JSP!C173)","v":""},{"$f":"IF(JSP!B173=\"\",0,JSP!D173)","v":0},{"$f":"IF(JSP!B173=\"\",0,JSP!E173)","v":0},null,{"$f":"IF(JSP!G173=\"\",\"\",JSP!H173)","v":""},{"$f":"IF(JSP!G173=\"\",0,JSP!I173)","v":0},{"$f":"IF(JSP!G173=\"\",0,JSP!J173)","v":0},null,{"$f":"IF(CFP!B173=\"\",\"\",CFP!C173)","v":""},{"$f":"IF(CFP!B173=\"\",0,CFP!D173)","v":0},{"$f":"IF(CFP!B173=\"\",0,CFP!E173)","v":0},null,{"$f":"IF(CFP!G173=\"\",\"\",CFP!H173)","v":""},{"$f":"IF(CFP!G173=\"\",0,CFP!I173)","v":0},null,{"$f":"IF(DWP!B173=\"\",\"\",DWP!C173)","v":""},{"$f":"IF(DWP!D173=\"\",0,DWP!D173)","v":0},{"$f":"IF(DWP!D173=\"\",0,DWP!E173)","v":0},null,{"$f":"IF(DWP!G173=\"\",\"\",DWP!H173)","v":""},{"$f":"IF(DWP!I173=\"\",0,DWP!I173)","v":0},null,{"$f":"IF(ALP!B173=\"\",\"\",ALP!C173)","v":""},{"$f":"IF(ALP!D173=\"\",0,ALP!D173)","v":0},{"$f":"IF(ALP!E173=\"\",0,ALP!E173)","v":0},null,{"$f":"IF(PS!B175=\"\",\"\",PS!C175)","v":""},{"$f":"IF(PS!B175=\"\",\"\",PS!D175)","v":""},null,{"$f":"IF(PS!F175=\"\",\"\",PS!G175)","v":""},{"$f":"IF(PS!F175=\"\",\"\",PS!H175)","v":""},null,{"$f":"IF(LP!A173=\"\",\"\",LP!B173)","v":""},{"$f":"IF(LP!A173=\"\",0,LP!C173)","v":0},null,{"$f":"IF(LP!E173=\"\",\"\",LP!F173)","v":""},{"$f":"IF(LP!E173=\"\",0,LP!G173)","v":0},null,{"$f":"IF(LP!I173=\"\",\"\",LP!J173)","v":""},{"$f":"IF(LP!I173=\"\",0,LP!K173)","v":0},null,{"$f":"IF(BPBPS!B173=\"\",\"\",BPBPS!C173)","v":""},{"$f":"IF(BPBPS!B173=\"\",0,BPBPS!D173)","v":0},null,{"$f":"IF(BPBPS!F173=\"\",\"\",BPBPS!G173)","v":""},{"$f":"IF(BPBPS!H173=\"\",0,BPBPS!H173)","v":0},null,{"$f":"IF(BPBPS!J173=\"\",\"\",BPBPS!K173)","v":""},{"$f":"IF(BPBPS!J173=\"\",0,BPBPS!L173)","v":0},null,{"$f":"IF(SSGP!B173=\"\",\"\",SSGP!C173)","v":""},{"$f":"IF(SSGP!B173=\"\",0,SSGP!D173)","v":0},null,{"$f":"IF(SSGP!F173=\"\",\"\",SSGP!G173)","v":""},{"$f":"IF(SSGP!F173=\"\",0,SSGP!H173)","v":0}]
[172,{"$f":"IF(JTP!B174=\"\",\"\",JTP!C174)","v":""},{"$f":"IF(JTP!B174=\"\",0,JTP!D174)","v":0},{"$f":"IF(JTP!B174=\"\",0,JTP!E174)","v":0},null,{"$f":"IF(JTP!G174=\"\",\"\",JTP!H174)","v":""},{"$f":"IF(JTP!G174=\"\",0,JTP!I174)","v":0},{"$f":"IF(JTP!G174=\"\",0,JTP!J174)","v":0},null,{"$f":"IF(JSP!B174=\"\",\"\",JSP!C174)","v":""},{"$f":"IF(JSP!B174=\"\",0,JSP!D174)","v":0},{"$f":"IF(JSP!B174=\"\",0,JSP!E174)","v":0},null,{"$f":"IF(JSP!G174=\"\",\"\",JSP!H174)","v":""},{"$f":"IF(JSP!G174=\"\",0,JSP!I174)","v":0},{"$f":"IF(JSP!G174=\"\",0,JSP!J174)","v":0},null,{"$f":"IF(CFP!B174=\"\",\"\",CFP!C174)","v":""},{"$f":"IF(CFP!B174=\"\",0,CFP!D174)","v":0},{"$f":"IF(CFP!B174=\"\",0,CFP!E174)","v":0},null,{"$f":"IF(CFP!G174=\"\",\"\",CFP!H174)","v":""},{"$f":"IF(CFP!G174=\"\",0,CFP!I174)","v":0},null,{"$f":"IF(DWP!B174=\"\",\"\",DWP!C174)","v":""},{"$f":"IF(DWP!D174=\"\",0,DWP!D174)","v":0},{"$f":"IF(DWP!D174=\"\",0,DWP!E174)","v":0},null,{"$f":"IF(DWP!G174=\"\",\"\",DWP!H174)","v":""},{"$f":"IF(DWP!I174=\"\",0,DWP!I174)","v":0},null,{"$f":"IF(ALP!B174=\"\",\"\",ALP!C174)","v":""},{"$f":"IF(ALP!D174=\"\",0,ALP!D174)","v":0},{"$f":"IF(ALP!E174=\"\",0,ALP!E174)","v":0},null,{"$f":"IF(PS!B176=\"\",\"\",PS!C176)","v":""},{"$f":"IF(PS!B176=\"\",\"\",PS!D176)","v":""},null,{"$f":"IF(PS!F176=\"\",\"\",PS!G176)","v":""},{"$f":"IF(PS!F176=\"\",\"\",PS!H176)","v":""},null,{"$f":"IF(LP!A174=\"\",\"\",LP!B174)","v":""},{"$f":"IF(LP!A174=\"\",0,LP!C174)","v":0},null,{"$f":"IF(LP!E174=\"\",\"\",LP!F174)","v":""},{"$f":"IF(LP!E174=\"\",0,LP!G174)","v":0},null,{"$f":"IF(LP!I174=\"\",\"\",LP!J174)","v":""},{"$f":"IF(LP!I174=\"\",0,LP!K174)","v":0},null,{"$f":"IF(BPBPS!B174=\"\",\"\",BPBPS!C174)","v":""},{"$f":"IF(BPBPS!B174=\"\",0,BPBPS!D174)","v":0},null,{"$f":"IF(BPBPS!F174=\"\",\"\",BPBPS!G174)","v":""},{"$f":"IF(BPBPS!H174=\"\",0,BPBPS!H174)","v":0},null,{"$f":"IF(BPBPS!J174=\"\",\"\",BPBPS!K174)","v":""},{"$f":"IF(BPBPS!J174=\"\",0,BPBPS!L174)","v":0},null,{"$f":"IF(SSGP!B174=\"\",\"\",SSGP!C174)","v":""},{"$f":"IF(SSGP!B174=\"\",0,SSGP!D174)","v":0},null,{"$f":"IF(SSGP!F174=\"\",\"\",SSGP!G174)","v":""},{"$f":"IF(SSGP!F174=\"\",0,SSGP!H174)","v":0}]
[173,{"$f":"IF(JTP!B175=\"\",\"\",JTP!C175)","v":""},{"$f":"IF(JTP!B175=\"\",0,JTP!D175)","v":0},{"$f":"IF(JTP!B175=\"\",0,JTP!E175)","v":0},null,{"$f":"IF(JTP!G175=\"\",\"\",JTP!H175)","v":""},{"$f":"IF(JTP!G175=\"\",0,JTP!I175)","v":0},{"$f":"IF(JTP!G175=\"\",0,JTP!J175)","v":0},null,{"$f":"IF(JSP!B175=\"\",\"\",JSP!C175)","v":""},{"$f":"IF(JSP!B175=\"\",0,JSP!D175)","v":0},{"$f":"IF(JSP!B175=\"\",0,JSP!E175)","v":0},null,{"$f":"IF(JSP!G175=\"\",\"\",JSP!H175)","v":""},{"$f":"IF(JSP!G175=\"\",0,JSP!I175)","v":0},{"$f":"IF(JSP!G175=\"\",0,JSP!J175)","v":0},null,{"$f":"IF(CFP!B175=\"\",\"\",CFP!C175)","v":""},{"$f":"IF(CFP!B175=\"\",0,CFP!D175)","v":0},{"$f":"IF(CFP!B175=\"\",0,CFP!E175)","v":0},null,{"$f":"IF(CFP!G175=\"\",\"\",CFP!H175)","v":""},{"$f":"IF(CFP!G175=\"\",0,CFP!I175)","v":0},null,{"$f":"IF(DWP!B175=\"\",\"\",DWP!C175)","v":""},{"$f":"IF(DWP!D175=\"\",0,DWP!D175)","v":0},{"$f":"IF(DWP!D175=\"\",0,DWP!E175)","v":0},null,{"$f":"IF(DWP!G175=\"\",\"\",DWP!H175)","v":""},{"$f":"IF(DWP!I175=\"\",0,DWP!I175)","v":0},null,{"$f":"IF(ALP!B175=\"\",\"\",ALP!C175)","v":""},{"$f":"IF(ALP!D175=\"\",0,ALP!D175)","v":0},{"$f":"IF(ALP!E175=\"\",0,ALP!E175)","v":0},null,{"$f":"IF(PS!B177=\"\",\"\",PS!C177)","v":""},{"$f":"IF(PS!B177=\"\",\"\",PS!D177)","v":""},null,{"$f":"IF(PS!F177=\"\",\"\",PS!G177)","v":""},{"$f":"IF(PS!F177=\"\",\"\",PS!H177)","v":""},null,{"$f":"IF(LP!A175=\"\",\"\",LP!B175)","v":""},{"$f":"IF(LP!A175=\"\",0,LP!C175)","v":0},null,{"$f":"IF(LP!E175=\"\",\"\",LP!F175)","v":""},{"$f":"IF(LP!E175=\"\",0,LP!G175)","v":0},null,{"$f":"IF(LP!I175=\"\",\"\",LP!J175)","v":""},{"$f":"IF(LP!I175=\"\",0,LP!K175)","v":0},null,{"$f":"IF(BPBPS!B175=\"\",\"\",BPBPS!C175)","v":""},{"$f":"IF(BPBPS!B175=\"\",0,BPBPS!D175)","v":0},null,{"$f":"IF(BPBPS!F175=\"\",\"\",BPBPS!G175)","v":""},{"$f":"IF(BPBPS!H175=\"\",0,BPBPS!H175)","v":0},null,{"$f":"IF(BPBPS!J175=\"\",\"\",BPBPS!K175)","v":""},{"$f":"IF(BPBPS!J175=\"\",0,BPBPS!L175)","v":0},null,{"$f":"IF(SSGP!B175=\"\",\"\",SSGP!C175)","v":""},{"$f":"IF(SSGP!B175=\"\",0,SSGP!D175)","v":0},null,{"$f":"IF(SSGP!F175=\"\",\"\",SSGP!G175)","v":""},{"$f":"IF(SSGP!F175=\"\",0,SSGP!H175)","v":0}]
[174,{"$f":"IF(JTP!B176=\"\",\"\",JTP!C176)","v":""},{"$f":"IF(JTP!B176=\"\",0,JTP!D176)","v":0},{"$f":"IF(JTP!B176=\"\",0,JTP!E176)","v":0},null,{"$f":"IF(JTP!G176=\"\",\"\",JTP!H176)","v":""},{"$f":"IF(JTP!G176=\"\",0,JTP!I176)","v":0},{"$f":"IF(JTP!G176=\"\",0,JTP!J176)","v":0},null,{"$f":"IF(JSP!B176=\"\",\"\",JSP!C176)","v":""},{"$f":"IF(JSP!B176=\"\",0,JSP!D176)","v":0},{"$f":"IF(JSP!B176=\"\",0,JSP!E176)","v":0},null,{"$f":"IF(JSP!G176=\"\",\"\",JSP!H176)","v":""},{"$f":"IF(JSP!G176=\"\",0,JSP!I176)","v":0},{"$f":"IF(JSP!G176=\"\",0,JSP!J176)","v":0},null,{"$f":"IF(CFP!B176=\"\",\"\",CFP!C176)","v":""},{"$f":"IF(CFP!B176=\"\",0,CFP!D176)","v":0},{"$f":"IF(CFP!B176=\"\",0,CFP!E176)","v":0},null,{"$f":"IF(CFP!G176=\"\",\"\",CFP!H176)","v":""},{"$f":"IF(CFP!G176=\"\",0,CFP!I176)","v":0},null,{"$f":"IF(DWP!B176=\"\",\"\",DWP!C176)","v":""},{"$f":"IF(DWP!D176=\"\",0,DWP!D176)","v":0},{"$f":"IF(DWP!D176=\"\",0,DWP!E176)","v":0},null,{"$f":"IF(DWP!G176=\"\",\"\",DWP!H176)","v":""},{"$f":"IF(DWP!I176=\"\",0,DWP!I176)","v":0},null,{"$f":"IF(ALP!B176=\"\",\"\",ALP!C176)","v":""},{"$f":"IF(ALP!D176=\"\",0,ALP!D176)","v":0},{"$f":"IF(ALP!E176=\"\",0,ALP!E176)","v":0},null,{"$f":"IF(PS!B178=\"\",\"\",PS!C178)","v":""},{"$f":"IF(PS!B178=\"\",\"\",PS!D178)","v":""},null,{"$f":"IF(PS!F178=\"\",\"\",PS!G178)","v":""},{"$f":"IF(PS!F178=\"\",\"\",PS!H178)","v":""},null,{"$f":"IF(LP!A176=\"\",\"\",LP!B176)","v":""},{"$f":"IF(LP!A176=\"\",0,LP!C176)","v":0},null,{"$f":"IF(LP!E176=\"\",\"\",LP!F176)","v":""},{"$f":"IF(LP!E176=\"\",0,LP!G176)","v":0},null,{"$f":"IF(LP!I176=\"\",\"\",LP!J176)","v":""},{"$f":"IF(LP!I176=\"\",0,LP!K176)","v":0},null,{"$f":"IF(BPBPS!B176=\"\",\"\",BPBPS!C176)","v":""},{"$f":"IF(BPBPS!B176=\"\",0,BPBPS!D176)","v":0},null,{"$f":"IF(BPBPS!F176=\"\",\"\",BPBPS!G176)","v":""},{"$f":"IF(BPBPS!H176=\"\",0,BPBPS!H176)","v":0},null,{"$f":"IF(BPBPS!J176=\"\",\"\",BPBPS!K176)","v":""},{"$f":"IF(BPBPS!J176=\"\",0,BPBPS!L176)","v":0},null,{"$f":"IF(SSGP!B176=\"\",\"\",SSGP!C176)","v":""},{"$f":"IF(SSGP!B176=\"\",0,SSGP!D176)","v":0},null,{"$f":"IF(SSGP!F176=\"\",\"\",SSGP!G176)","v":""},{"$f":"IF(SSGP!F176=\"\",0,SSGP!H176)","v":0}]
[175,{"$f":"IF(JTP!B177=\"\",\"\",JTP!C177)","v":""},{"$f":"IF(JTP!B177=\"\",0,JTP!D177)","v":0},{"$f":"IF(JTP!B177=\"\",0,JTP!E177)","v":0},null,{"$f":"IF(JTP!G177=\"\",\"\",JTP!H177)","v":""},{"$f":"IF(JTP!G177=\"\",0,JTP!I177)","v":0},{"$f":"IF(JTP!G177=\"\",0,JTP!J177)","v":0},null,{"$f":"IF(JSP!B177=\"\",\"\",JSP!C177)","v":""},{"$f":"IF(JSP!B177=\"\",0,JSP!D177)","v":0},{"$f":"IF(JSP!B177=\"\",0,JSP!E177)","v":0},null,{"$f":"IF(JSP!G177=\"\",\"\",JSP!H177)","v":""},{"$f":"IF(JSP!G177=\"\",0,JSP!I177)","v":0},{"$f":"IF(JSP!G177=\"\",0,JSP!J177)","v":0},null,{"$f":"IF(CFP!B177=\"\",\"\",CFP!C177)","v":""},{"$f":"IF(CFP!B177=\"\",0,CFP!D177)","v":0},{"$f":"IF(CFP!B177=\"\",0,CFP!E177)","v":0},null,{"$f":"IF(CFP!G177=\"\",\"\",CFP!H177)","v":""},{"$f":"IF(CFP!G177=\"\",0,CFP!I177)","v":0},null,{"$f":"IF(DWP!B177=\"\",\"\",DWP!C177)","v":""},{"$f":"IF(DWP!D177=\"\",0,DWP!D177)","v":0},{"$f":"IF(DWP!D177=\"\",0,DWP!E177)","v":0},null,{"$f":"IF(DWP!G177=\"\",\"\",DWP!H177)","v":""},{"$f":"IF(DWP!I177=\"\",0,DWP!I177)","v":0},null,{"$f":"IF(ALP!B177=\"\",\"\",ALP!C177)","v":""},{"$f":"IF(ALP!D177=\"\",0,ALP!D177)","v":0},{"$f":"IF(ALP!E177=\"\",0,ALP!E177)","v":0},null,{"$f":"IF(PS!B179=\"\",\"\",PS!C179)","v":""},{"$f":"IF(PS!B179=\"\",\"\",PS!D179)","v":""},null,{"$f":"IF(PS!F179=\"\",\"\",PS!G179)","v":""},{"$f":"IF(PS!F179=\"\",\"\",PS!H179)","v":""},null,{"$f":"IF(LP!A177=\"\",\"\",LP!B177)","v":""},{"$f":"IF(LP!A177=\"\",0,LP!C177)","v":0},null,{"$f":"IF(LP!E177=\"\",\"\",LP!F177)","v":""},{"$f":"IF(LP!E177=\"\",0,LP!G177)","v":0},null,{"$f":"IF(LP!I177=\"\",\"\",LP!J177)","v":""},{"$f":"IF(LP!I177=\"\",0,LP!K177)","v":0},null,{"$f":"IF(BPBPS!B177=\"\",\"\",BPBPS!C177)","v":""},{"$f":"IF(BPBPS!B177=\"\",0,BPBPS!D177)","v":0},null,{"$f":"IF(BPBPS!F177=\"\",\"\",BPBPS!G177)","v":""},{"$f":"IF(BPBPS!H177=\"\",0,BPBPS!H177)","v":0},null,{"$f":"IF(BPBPS!J177=\"\",\"\",BPBPS!K177)","v":""},{"$f":"IF(BPBPS!J177=\"\",0,BPBPS!L177)","v":0},null,{"$f":"IF(SSGP!B177=\"\",\"\",SSGP!C177)","v":""},{"$f":"IF(SSGP!B177=\"\",0,SSGP!D177)","v":0},null,{"$f":"IF(SSGP!F177=\"\",\"\",SSGP!G177)","v":""},{"$f":"IF(SSGP!F177=\"\",0,SSGP!H177)","v":0}]
[176,{"$f":"IF(JTP!B178=\"\",\"\",JTP!C178)","v":""},{"$f":"IF(JTP!B178=\"\",0,JTP!D178)","v":0},{"$f":"IF(JTP!B178=\"\",0,JTP!E178)","v":0},null,{"$f":"IF(JTP!G178=\"\",\"\",JTP!H178)","v":""},{"$f":"IF(JTP!G178=\"\",0,JTP!I178)","v":0},{"$f":"IF(JTP!G178=\"\",0,JTP!J178)","v":0},null,{"$f":"IF(JSP!B178=\"\",\"\",JSP!C178)","v":""},{"$f":"IF(JSP!B178=\"\",0,JSP!D178)","v":0},{"$f":"IF(JSP!B178=\"\",0,JSP!E178)","v":0},null,{"$f":"IF(JSP!G178=\"\",\"\",JSP!H178)","v":""},{"$f":"IF(JSP!G178=\"\",0,JSP!I178)","v":0},{"$f":"IF(JSP!G178=\"\",0,JSP!J178)","v":0},null,{"$f":"IF(CFP!B178=\"\",\"\",CFP!C178)","v":""},{"$f":"IF(CFP!B178=\"\",0,CFP!D178)","v":0},{"$f":"IF(CFP!B178=\"\",0,CFP!E178)","v":0},null,{"$f":"IF(CFP!G178=\"\",\"\",CFP!H178)","v":""},{"$f":"IF(CFP!G178=\"\",0,CFP!I178)","v":0},null,{"$f":"IF(DWP!B178=\"\",\"\",DWP!C178)","v":""},{"$f":"IF(DWP!D178=\"\",0,DWP!D178)","v":0},{"$f":"IF(DWP!D178=\"\",0,DWP!E178)","v":0},null,{"$f":"IF(DWP!G178=\"\",\"\",DWP!H178)","v":""},{"$f":"IF(DWP!I178=\"\",0,DWP!I178)","v":0},null,{"$f":"IF(ALP!B178=\"\",\"\",ALP!C178)","v":""},{"$f":"IF(ALP!D178=\"\",0,ALP!D178)","v":0},{"$f":"IF(ALP!E178=\"\",0,ALP!E178)","v":0},null,{"$f":"IF(PS!B180=\"\",\"\",PS!C180)","v":""},{"$f":"IF(PS!B180=\"\",\"\",PS!D180)","v":""},null,{"$f":"IF(PS!F180=\"\",\"\",PS!G180)","v":""},{"$f":"IF(PS!F180=\"\",\"\",PS!H180)","v":""},null,{"$f":"IF(LP!A178=\"\",\"\",LP!B178)","v":""},{"$f":"IF(LP!A178=\"\",0,LP!C178)","v":0},null,{"$f":"IF(LP!E178=\"\",\"\",LP!F178)","v":""},{"$f":"IF(LP!E178=\"\",0,LP!G178)","v":0},null,{"$f":"IF(LP!I178=\"\",\"\",LP!J178)","v":""},{"$f":"IF(LP!I178=\"\",0,LP!K178)","v":0},null,{"$f":"IF(BPBPS!B178=\"\",\"\",BPBPS!C178)","v":""},{"$f":"IF(BPBPS!B178=\"\",0,BPBPS!D178)","v":0},null,{"$f":"IF(BPBPS!F178=\"\",\"\",BPBPS!G178)","v":""},{"$f":"IF(BPBPS!H178=\"\",0,BPBPS!H178)","v":0},null,{"$f":"IF(BPBPS!J178=\"\",\"\",BPBPS!K178)","v":""},{"$f":"IF(BPBPS!J178=\"\",0,BPBPS!L178)","v":0},null,{"$f":"IF(SSGP!B178=\"\",\"\",SSGP!C178)","v":""},{"$f":"IF(SSGP!B178=\"\",0,SSGP!D178)","v":0},null,{"$f":"IF(SSGP!F178=\"\",\"\",SSGP!G178)","v":""},{"$f":"IF(SSGP!F178=\"\",0,SSGP!H178)","v":0}]
[177,{"$f":"IF(JTP!B179=\"\",\"\",JTP!C179)","v":""},{"$f":"IF(JTP!B179=\"\",0,JTP!D179)","v":0},{"$f":"IF(JTP!B179=\"\",0,JTP!E179)","v":0},null,{"$f":"IF(JTP!G179=\"\",\"\",JTP!H179)","v":""},{"$f":"IF(JTP!G179=\"\",0,JTP!I179)","v":0},{"$f":"IF(JTP!G179=\"\",0,JTP!J179)","v":0},null,{"$f":"IF(JSP!B179=\"\",\"\",JSP!C179)","v":""},{"$f":"IF(JSP!B179=\"\",0,JSP!D179)","v":0},{"$f":"IF(JSP!B179=\"\",0,JSP!E179)","v":0},null,{"$f":"IF(JSP!G179=\"\",\"\",JSP!H179)","v":""},{"$f":"IF(JSP!G179=\"\",0,JSP!I179)","v":0},{"$f":"IF(JSP!G179=\"\",0,JSP!J179)","v":0},null,{"$f":"IF(CFP!B179=\"\",\"\",CFP!C179)","v":""},{"$f":"IF(CFP!B179=\"\",0,CFP!D179)","v":0},{"$f":"IF(CFP!B179=\"\",0,CFP!E179)","v":0},null,{"$f":"IF(CFP!G179=\"\",\"\",CFP!H179)","v":""},{"$f":"IF(CFP!G179=\"\",0,CFP!I179)","v":0},null,{"$f":"IF(DWP!B179=\"\",\"\",DWP!C179)","v":""},{"$f":"IF(DWP!D179=\"\",0,DWP!D179)","v":0},{"$f":"IF(DWP!D179=\"\",0,DWP!E179)","v":0},null,{"$f":"IF(DWP!G179=\"\",\"\",DWP!H179)","v":""},{"$f":"IF(DWP!I179=\"\",0,DWP!I179)","v":0},null,{"$f":"IF(ALP!B179=\"\",\"\",ALP!C179)","v":""},{"$f":"IF(ALP!D179=\"\",0,ALP!D179)","v":0},{"$f":"IF(ALP!E179=\"\",0,ALP!E179)","v":0},null,{"$f":"IF(PS!B181=\"\",\"\",PS!C181)","v":""},{"$f":"IF(PS!B181=\"\",\"\",PS!D181)","v":""},null,{"$f":"IF(PS!F181=\"\",\"\",PS!G181)","v":""},{"$f":"IF(PS!F181=\"\",\"\",PS!H181)","v":""},null,{"$f":"IF(LP!A179=\"\",\"\",LP!B179)","v":""},{"$f":"IF(LP!A179=\"\",0,LP!C179)","v":0},null,{"$f":"IF(LP!E179=\"\",\"\",LP!F179)","v":""},{"$f":"IF(LP!E179=\"\",0,LP!G179)","v":0},null,{"$f":"IF(LP!I179=\"\",\"\",LP!J179)","v":""},{"$f":"IF(LP!I179=\"\",0,LP!K179)","v":0},null,{"$f":"IF(BPBPS!B179=\"\",\"\",BPBPS!C179)","v":""},{"$f":"IF(BPBPS!B179=\"\",0,BPBPS!D179)","v":0},null,{"$f":"IF(BPBPS!F179=\"\",\"\",BPBPS!G179)","v":""},{"$f":"IF(BPBPS!H179=\"\",0,BPBPS!H179)","v":0},null,{"$f":"IF(BPBPS!J179=\"\",\"\",BPBPS!K179)","v":""},{"$f":"IF(BPBPS!J179=\"\",0,BPBPS!L179)","v":0},null,{"$f":"IF(SSGP!B179=\"\",\"\",SSGP!C179)","v":""},{"$f":"IF(SSGP!B179=\"\",0,SSGP!D179)","v":0},null,{"$f":"IF(SSGP!F179=\"\",\"\",SSGP!G179)","v":""},{"$f":"IF(SSGP!F179=\"\",0,SSGP!H179)","v":0}]
[178,{"$f":"IF(JTP!B180=\"\",\"\",JTP!C180)","v":""},{"$f":"IF(JTP!B180=\"\",0,JTP!D180)","v":0},{"$f":"IF(JTP!B180=\"\",0,JTP!E180)","v":0},null,{"$f":"IF(JTP!G180=\"\",\"\",JTP!H180)","v":""},{"$f":"IF(JTP!G180=\"\",0,JTP!I180)","v":0},{"$f":"IF(JTP!G180=\"\",0,JTP!J180)","v":0},null,{"$f":"IF(JSP!B180=\"\",\"\",JSP!C180)","v":""},{"$f":"IF(JSP!B180=\"\",0,JSP!D180)","v":0},{"$f":"IF(JSP!B180=\"\",0,JSP!E180)","v":0},null,{"$f":"IF(JSP!G180=\"\",\"\",JSP!H180)","v":""},{"$f":"IF(JSP!G180=\"\",0,JSP!I180)","v":0},{"$f":"IF(JSP!G180=\"\",0,JSP!J180)","v":0},null,{"$f":"IF(CFP!B180=\"\",\"\",CFP!C180)","v":""},{"$f":"IF(CFP!B180=\"\",0,CFP!D180)","v":0},{"$f":"IF(CFP!B180=\"\",0,CFP!E180)","v":0},null,{"$f":"IF(CFP!G180=\"\",\"\",CFP!H180)","v":""},{"$f":"IF(CFP!G180=\"\",0,CFP!I180)","v":0},null,{"$f":"IF(DWP!B180=\"\",\"\",DWP!C180)","v":""},{"$f":"IF(DWP!D180=\"\",0,DWP!D180)","v":0},{"$f":"IF(DWP!D180=\"\",0,DWP!E180)","v":0},null,{"$f":"IF(DWP!G180=\"\",\"\",DWP!H180)","v":""},{"$f":"IF(DWP!I180=\"\",0,DWP!I180)","v":0},null,{"$f":"IF(ALP!B180=\"\",\"\",ALP!C180)","v":""},{"$f":"IF(ALP!D180=\"\",0,ALP!D180)","v":0},{"$f":"IF(ALP!E180=\"\",0,ALP!E180)","v":0},null,{"$f":"IF(PS!B182=\"\",\"\",PS!C182)","v":""},{"$f":"IF(PS!B182=\"\",\"\",PS!D182)","v":""},null,{"$f":"IF(PS!F182=\"\",\"\",PS!G182)","v":""},{"$f":"IF(PS!F182=\"\",\"\",PS!H182)","v":""},null,{"$f":"IF(LP!A180=\"\",\"\",LP!B180)","v":""},{"$f":"IF(LP!A180=\"\",0,LP!C180)","v":0},null,{"$f":"IF(LP!E180=\"\",\"\",LP!F180)","v":""},{"$f":"IF(LP!E180=\"\",0,LP!G180)","v":0},null,{"$f":"IF(LP!I180=\"\",\"\",LP!J180)","v":""},{"$f":"IF(LP!I180=\"\",0,LP!K180)","v":0},null,{"$f":"IF(BPBPS!B180=\"\",\"\",BPBPS!C180)","v":""},{"$f":"IF(BPBPS!B180=\"\",0,BPBPS!D180)","v":0},null,{"$f":"IF(BPBPS!F180=\"\",\"\",BPBPS!G180)","v":""},{"$f":"IF(BPBPS!H180=\"\",0,BPBPS!H180)","v":0},null,{"$f":"IF(BPBPS!J180=\"\",\"\",BPBPS!K180)","v":""},{"$f":"IF(BPBPS!J180=\"\",0,BPBPS!L180)","v":0},null,{"$f":"IF(SSGP!B180=\"\",\"\",SSGP!C180)","v":""},{"$f":"IF(SSGP!B180=\"\",0,SSGP!D180)","v":0},null,{"$f":"IF(SSGP!F180=\"\",\"\",SSGP!G180)","v":""},{"$f":"IF(SSGP!F180=\"\",0,SSGP!H180)","v":0}]
[179,{"$f":"IF(JTP!B181=\"\",\"\",JTP!C181)","v":""},{"$f":"IF(JTP!B181=\"\",0,JTP!D181)","v":0},{"$f":"IF(JTP!B181=\"\",0,JTP!E181)","v":0},null,{"$f":"IF(JTP!G181=\"\",\"\",JTP!H181)","v":""},{"$f":"IF(JTP!G181=\"\",0,JTP!I181)","v":0},{"$f":"IF(JTP!G181=\"\",0,JTP!J181)","v":0},null,{"$f":"IF(JSP!B181=\"\",\"\",JSP!C181)","v":""},{"$f":"IF(JSP!B181=\"\",0,JSP!D181)","v":0},{"$f":"IF(JSP!B181=\"\",0,JSP!E181)","v":0},null,{"$f":"IF(JSP!G181=\"\",\"\",JSP!H181)","v":""},{"$f":"IF(JSP!G181=\"\",0,JSP!I181)","v":0},{"$f":"IF(JSP!G181=\"\",0,JSP!J181)","v":0},null,{"$f":"IF(CFP!B181=\"\",\"\",CFP!C181)","v":""},{"$f":"IF(CFP!B181=\"\",0,CFP!D181)","v":0},{"$f":"IF(CFP!B181=\"\",0,CFP!E181)","v":0},null,{"$f":"IF(CFP!G181=\"\",\"\",CFP!H181)","v":""},{"$f":"IF(CFP!G181=\"\",0,CFP!I181)","v":0},null,{"$f":"IF(DWP!B181=\"\",\"\",DWP!C181)","v":""},{"$f":"IF(DWP!D181=\"\",0,DWP!D181)","v":0},{"$f":"IF(DWP!D181=\"\",0,DWP!E181)","v":0},null,{"$f":"IF(DWP!G181=\"\",\"\",DWP!H181)","v":""},{"$f":"IF(DWP!I181=\"\",0,DWP!I181)","v":0},null,{"$f":"IF(ALP!B181=\"\",\"\",ALP!C181)","v":""},{"$f":"IF(ALP!D181=\"\",0,ALP!D181)","v":0},{"$f":"IF(ALP!E181=\"\",0,ALP!E181)","v":0},null,{"$f":"IF(PS!B183=\"\",\"\",PS!C183)","v":""},{"$f":"IF(PS!B183=\"\",\"\",PS!D183)","v":""},null,{"$f":"IF(PS!F183=\"\",\"\",PS!G183)","v":""},{"$f":"IF(PS!F183=\"\",\"\",PS!H183)","v":""},null,{"$f":"IF(LP!A181=\"\",\"\",LP!B181)","v":""},{"$f":"IF(LP!A181=\"\",0,LP!C181)","v":0},null,{"$f":"IF(LP!E181=\"\",\"\",LP!F181)","v":""},{"$f":"IF(LP!E181=\"\",0,LP!G181)","v":0},null,{"$f":"IF(LP!I181=\"\",\"\",LP!J181)","v":""},{"$f":"IF(LP!I181=\"\",0,LP!K181)","v":0},null,{"$f":"IF(BPBPS!B181=\"\",\"\",BPBPS!C181)","v":""},{"$f":"IF(BPBPS!B181=\"\",0,BPBPS!D181)","v":0},null,{"$f":"IF(BPBPS!F181=\"\",\"\",BPBPS!G181)","v":""},{"$f":"IF(BPBPS!H181=\"\",0,BPBPS!H181)","v":0},null,{"$f":"IF(BPBPS!J181=\"\",\"\",BPBPS!K181)","v":""},{"$f":"IF(BPBPS!J181=\"\",0,BPBPS!L181)","v":0},null,{"$f":"IF(SSGP!B181=\"\",\"\",SSGP!C181)","v":""},{"$f":"IF(SSGP!B181=\"\",0,SSGP!D181)","v":0},null,{"$f":"IF(SSGP!F181=\"\",\"\",SSGP!G181)","v":""},{"$f":"IF(SSGP!F181=\"\",0,SSGP!H181)","v":0}]
[180,{"$f":"IF(JTP!B182=\"\",\"\",JTP!C182)","v":""},{"$f":"IF(JTP!B182=\"\",0,JTP!D182)","v":0},{"$f":"IF(JTP!B182=\"\",0,JTP!E182)","v":0},null,{"$f":"IF(JTP!G182=\"\",\"\",JTP!H182)","v":""},{"$f":"IF(JTP!G182=\"\",0,JTP!I182)","v":0},{"$f":"IF(JTP!G182=\"\",0,JTP!J182)","v":0},null,{"$f":"IF(JSP!B182=\"\",\"\",JSP!C182)","v":""},{"$f":"IF(JSP!B182=\"\",0,JSP!D182)","v":0},{"$f":"IF(JSP!B182=\"\",0,JSP!E182)","v":0},null,{"$f":"IF(JSP!G182=\"\",\"\",JSP!H182)","v":""},{"$f":"IF(JSP!G182=\"\",0,JSP!I182)","v":0},{"$f":"IF(JSP!G182=\"\",0,JSP!J182)","v":0},null,{"$f":"IF(CFP!B182=\"\",\"\",CFP!C182)","v":""},{"$f":"IF(CFP!B182=\"\",0,CFP!D182)","v":0},{"$f":"IF(CFP!B182=\"\",0,CFP!E182)","v":0},null,{"$f":"IF(CFP!G182=\"\",\"\",CFP!H182)","v":""},{"$f":"IF(CFP!G182=\"\",0,CFP!I182)","v":0},null,{"$f":"IF(DWP!B182=\"\",\"\",DWP!C182)","v":""},{"$f":"IF(DWP!D182=\"\",0,DWP!D182)","v":0},{"$f":"IF(DWP!D182=\"\",0,DWP!E182)","v":0},null,{"$f":"IF(DWP!G182=\"\",\"\",DWP!H182)","v":""},{"$f":"IF(DWP!I182=\"\",0,DWP!I182)","v":0},null,{"$f":"IF(ALP!B182=\"\",\"\",ALP!C182)","v":""},{"$f":"IF(ALP!D182=\"\",0,ALP!D182)","v":0},{"$f":"IF(ALP!E182=\"\",0,ALP!E182)","v":0},null,{"$f":"IF(PS!B184=\"\",\"\",PS!C184)","v":""},{"$f":"IF(PS!B184=\"\",\"\",PS!D184)","v":""},null,{"$f":"IF(PS!F184=\"\",\"\",PS!G184)","v":""},{"$f":"IF(PS!F184=\"\",\"\",PS!H184)","v":""},null,{"$f":"IF(LP!A182=\"\",\"\",LP!B182)","v":""},{"$f":"IF(LP!A182=\"\",0,LP!C182)","v":0},null,{"$f":"IF(LP!E182=\"\",\"\",LP!F182)","v":""},{"$f":"IF(LP!E182=\"\",0,LP!G182)","v":0},null,{"$f":"IF(LP!I182=\"\",\"\",LP!J182)","v":""},{"$f":"IF(LP!I182=\"\",0,LP!K182)","v":0},null,{"$f":"IF(BPBPS!B182=\"\",\"\",BPBPS!C182)","v":""},{"$f":"IF(BPBPS!B182=\"\",0,BPBPS!D182)","v":0},null,{"$f":"IF(BPBPS!F182=\"\",\"\",BPBPS!G182)","v":""},{"$f":"IF(BPBPS!H182=\"\",0,BPBPS!H182)","v":0},null,{"$f":"IF(BPBPS!J182=\"\",\"\",BPBPS!K182)","v":""},{"$f":"IF(BPBPS!J182=\"\",0,BPBPS!L182)","v":0},null,{"$f":"IF(SSGP!B182=\"\",\"\",SSGP!C182)","v":""},{"$f":"IF(SSGP!B182=\"\",0,SSGP!D182)","v":0},null,{"$f":"IF(SSGP!F182=\"\",\"\",SSGP!G182)","v":""},{"$f":"IF(SSGP!F182=\"\",0,SSGP!H182)","v":0}]
[181,{"$f":"IF(JTP!B183=\"\",\"\",JTP!C183)","v":""},{"$f":"IF(JTP!B183=\"\",0,JTP!D183)","v":0},{"$f":"IF(JTP!B183=\"\",0,JTP!E183)","v":0},null,{"$f":"IF(JTP!G183=\"\",\"\",JTP!H183)","v":""},{"$f":"IF(JTP!G183=\"\",0,JTP!I183)","v":0},{"$f":"IF(JTP!G183=\"\",0,JTP!J183)","v":0},null,{"$f":"IF(JSP!B183=\"\",\"\",JSP!C183)","v":""},{"$f":"IF(JSP!B183=\"\",0,JSP!D183)","v":0},{"$f":"IF(JSP!B183=\"\",0,JSP!E183)","v":0},null,{"$f":"IF(JSP!G183=\"\",\"\",JSP!H183)","v":""},{"$f":"IF(JSP!G183=\"\",0,JSP!I183)","v":0},{"$f":"IF(JSP!G183=\"\",0,JSP!J183)","v":0},null,{"$f":"IF(CFP!B183=\"\",\"\",CFP!C183)","v":""},{"$f":"IF(CFP!B183=\"\",0,CFP!D183)","v":0},{"$f":"IF(CFP!B183=\"\",0,CFP!E183)","v":0},null,{"$f":"IF(CFP!G183=\"\",\"\",CFP!H183)","v":""},{"$f":"IF(CFP!G183=\"\",0,CFP!I183)","v":0},null,{"$f":"IF(DWP!B183=\"\",\"\",DWP!C183)","v":""},{"$f":"IF(DWP!D183=\"\",0,DWP!D183)","v":0},{"$f":"IF(DWP!D183=\"\",0,DWP!E183)","v":0},null,{"$f":"IF(DWP!G183=\"\",\"\",DWP!H183)","v":""},{"$f":"IF(DWP!I183=\"\",0,DWP!I183)","v":0},null,{"$f":"IF(ALP!B183=\"\",\"\",ALP!C183)","v":""},{"$f":"IF(ALP!D183=\"\",0,ALP!D183)","v":0},{"$f":"IF(ALP!E183=\"\",0,ALP!E183)","v":0},null,{"$f":"IF(PS!B185=\"\",\"\",PS!C185)","v":""},{"$f":"IF(PS!B185=\"\",\"\",PS!D185)","v":""},null,{"$f":"IF(PS!F185=\"\",\"\",PS!G185)","v":""},{"$f":"IF(PS!F185=\"\",\"\",PS!H185)","v":""},null,{"$f":"IF(LP!A183=\"\",\"\",LP!B183)","v":""},{"$f":"IF(LP!A183=\"\",0,LP!C183)","v":0},null,{"$f":"IF(LP!E183=\"\",\"\",LP!F183)","v":""},{"$f":"IF(LP!E183=\"\",0,LP!G183)","v":0},null,{"$f":"IF(LP!I183=\"\",\"\",LP!J183)","v":""},{"$f":"IF(LP!I183=\"\",0,LP!K183)","v":0},null,{"$f":"IF(BPBPS!B183=\"\",\"\",BPBPS!C183)","v":""},{"$f":"IF(BPBPS!B183=\"\",0,BPBPS!D183)","v":0},null,{"$f":"IF(BPBPS!F183=\"\",\"\",BPBPS!G183)","v":""},{"$f":"IF(BPBPS!H183=\"\",0,BPBPS!H183)","v":0},null,{"$f":"IF(BPBPS!J183=\"\",\"\",BPBPS!K183)","v":""},{"$f":"IF(BPBPS!J183=\"\",0,BPBPS!L183)","v":0},null,{"$f":"IF(SSGP!B183=\"\",\"\",SSGP!C183)","v":""},{"$f":"IF(SSGP!B183=\"\",0,SSGP!D183)","v":0},null,{"$f":"IF(SSGP!F183=\"\",\"\",SSGP!G183)","v":""},{"$f":"IF(SSGP!F183=\"\",0,SSGP!H183)","v":0}]
[182,{"$f":"IF(JTP!B184=\"\",\"\",JTP!C184)","v":""},{"$f":"IF(JTP!B184=\"\",0,JTP!D184)","v":0},{"$f":"IF(JTP!B184=\"\",0,JTP!E184)","v":0},null,{"$f":"IF(JTP!G184=\"\",\"\",JTP!H184)","v":""},{"$f":"IF(JTP!G184=\"\",0,JTP!I184)","v":0},{"$f":"IF(JTP!G184=\"\",0,JTP!J184)","v":0},null,{"$f":"IF(JSP!B184=\"\",\"\",JSP!C184)","v":""},{"$f":"IF(JSP!B184=\"\",0,JSP!D184)","v":0},{"$f":"IF(JSP!B184=\"\",0,JSP!E184)","v":0},null,{"$f":"IF(JSP!G184=\"\",\"\",JSP!H184)","v":""},{"$f":"IF(JSP!G184=\"\",0,JSP!I184)","v":0},{"$f":"IF(JSP!G184=\"\",0,JSP!J184)","v":0},null,{"$f":"IF(CFP!B184=\"\",\"\",CFP!C184)","v":""},{"$f":"IF(CFP!B184=\"\",0,CFP!D184)","v":0},{"$f":"IF(CFP!B184=\"\",0,CFP!E184)","v":0},null,{"$f":"IF(CFP!G184=\"\",\"\",CFP!H184)","v":""},{"$f":"IF(CFP!G184=\"\",0,CFP!I184)","v":0},null,{"$f":"IF(DWP!B184=\"\",\"\",DWP!C184)","v":""},{"$f":"IF(DWP!D184=\"\",0,DWP!D184)","v":0},{"$f":"IF(DWP!D184=\"\",0,DWP!E184)","v":0},null,{"$f":"IF(DWP!G184=\"\",\"\",DWP!H184)","v":""},{"$f":"IF(DWP!I184=\"\",0,DWP!I184)","v":0},null,{"$f":"IF(ALP!B184=\"\",\"\",ALP!C184)","v":""},{"$f":"IF(ALP!D184=\"\",0,ALP!D184)","v":0},{"$f":"IF(ALP!E184=\"\",0,ALP!E184)","v":0},null,{"$f":"IF(PS!B186=\"\",\"\",PS!C186)","v":""},{"$f":"IF(PS!B186=\"\",\"\",PS!D186)","v":""},null,{"$f":"IF(PS!F186=\"\",\"\",PS!G186)","v":""},{"$f":"IF(PS!F186=\"\",\"\",PS!H186)","v":""},null,{"$f":"IF(LP!A184=\"\",\"\",LP!B184)","v":""},{"$f":"IF(LP!A184=\"\",0,LP!C184)","v":0},null,{"$f":"IF(LP!E184=\"\",\"\",LP!F184)","v":""},{"$f":"IF(LP!E184=\"\",0,LP!G184)","v":0},null,{"$f":"IF(LP!I184=\"\",\"\",LP!J184)","v":""},{"$f":"IF(LP!I184=\"\",0,LP!K184)","v":0},null,{"$f":"IF(BPBPS!B184=\"\",\"\",BPBPS!C184)","v":""},{"$f":"IF(BPBPS!B184=\"\",0,BPBPS!D184)","v":0},null,{"$f":"IF(BPBPS!F184=\"\",\"\",BPBPS!G184)","v":""},{"$f":"IF(BPBPS!H184=\"\",0,BPBPS!H184)","v":0},null,{"$f":"IF(BPBPS!J184=\"\",\"\",BPBPS!K184)","v":""},{"$f":"IF(BPBPS!J184=\"\",0,BPBPS!L184)","v":0},null,{"$f":"IF(SSGP!B184=\"\",\"\",SSGP!C184)","v":""},{"$f":"IF(SSGP!B184=\"\",0,SSGP!D184)","v":0},null,{"$f":"IF(SSGP!F184=\"\",\"\",SSGP!G184)","v":""},{"$f":"IF(SSGP!F184=\"\",0,SSGP!H184)","v":0}]
[183,{"$f":"IF(JTP!B185=\"\",\"\",JTP!C185)","v":""},{"$f":"IF(JTP!B185=\"\",0,JTP!D185)","v":0},{"$f":"IF(JTP!B185=\"\",0,JTP!E185)","v":0},null,{"$f":"IF(JTP!G185=\"\",\"\",JTP!H185)","v":""},{"$f":"IF(JTP!G185=\"\",0,JTP!I185)","v":0},{"$f":"IF(JTP!G185=\"\",0,JTP!J185)","v":0},null,{"$f":"IF(JSP!B185=\"\",\"\",JSP!C185)","v":""},{"$f":"IF(JSP!B185=\"\",0,JSP!D185)","v":0},{"$f":"IF(JSP!B185=\"\",0,JSP!E185)","v":0},null,{"$f":"IF(JSP!G185=\"\",\"\",JSP!H185)","v":""},{"$f":"IF(JSP!G185=\"\",0,JSP!I185)","v":0},{"$f":"IF(JSP!G185=\"\",0,JSP!J185)","v":0},null,{"$f":"IF(CFP!B185=\"\",\"\",CFP!C185)","v":""},{"$f":"IF(CFP!B185=\"\",0,CFP!D185)","v":0},{"$f":"IF(CFP!B185=\"\",0,CFP!E185)","v":0},null,{"$f":"IF(CFP!G185=\"\",\"\",CFP!H185)","v":""},{"$f":"IF(CFP!G185=\"\",0,CFP!I185)","v":0},null,{"$f":"IF(DWP!B185=\"\",\"\",DWP!C185)","v":""},{"$f":"IF(DWP!D185=\"\",0,DWP!D185)","v":0},{"$f":"IF(DWP!D185=\"\",0,DWP!E185)","v":0},null,{"$f":"IF(DWP!G185=\"\",\"\",DWP!H185)","v":""},{"$f":"IF(DWP!I185=\"\",0,DWP!I185)","v":0},null,{"$f":"IF(ALP!B185=\"\",\"\",ALP!C185)","v":""},{"$f":"IF(ALP!D185=\"\",0,ALP!D185)","v":0},{"$f":"IF(ALP!E185=\"\",0,ALP!E185)","v":0},null,{"$f":"IF(PS!B187=\"\",\"\",PS!C187)","v":""},{"$f":"IF(PS!B187=\"\",\"\",PS!D187)","v":""},null,{"$f":"IF(PS!F187=\"\",\"\",PS!G187)","v":""},{"$f":"IF(PS!F187=\"\",\"\",PS!H187)","v":""},null,{"$f":"IF(LP!A185=\"\",\"\",LP!B185)","v":""},{"$f":"IF(LP!A185=\"\",0,LP!C185)","v":0},null,{"$f":"IF(LP!E185=\"\",\"\",LP!F185)","v":""},{"$f":"IF(LP!E185=\"\",0,LP!G185)","v":0},null,{"$f":"IF(LP!I185=\"\",\"\",LP!J185)","v":""},{"$f":"IF(LP!I185=\"\",0,LP!K185)","v":0},null,{"$f":"IF(BPBPS!B185=\"\",\"\",BPBPS!C185)","v":""},{"$f":"IF(BPBPS!B185=\"\",0,BPBPS!D185)","v":0},null,{"$f":"IF(BPBPS!F185=\"\",\"\",BPBPS!G185)","v":""},{"$f":"IF(BPBPS!H185=\"\",0,BPBPS!H185)","v":0},null,{"$f":"IF(BPBPS!J185=\"\",\"\",BPBPS!K185)","v":""},{"$f":"IF(BPBPS!J185=\"\",0,BPBPS!L185)","v":0},null,{"$f":"IF(SSGP!B185=\"\",\"\",SSGP!C185)","v":""},{"$f":"IF(SSGP!B185=\"\",0,SSGP!D185)","v":0},null,{"$f":"IF(SSGP!F185=\"\",\"\",SSGP!G185)","v":""},{"$f":"IF(SSGP!F185=\"\",0,SSGP!H185)","v":0}]
[184,{"$f":"IF(JTP!B186=\"\",\"\",JTP!C186)","v":""},{"$f":"IF(JTP!B186=\"\",0,JTP!D186)","v":0},{"$f":"IF(JTP!B186=\"\",0,JTP!E186)","v":0},null,{"$f":"IF(JTP!G186=\"\",\"\",JTP!H186)","v":""},{"$f":"IF(JTP!G186=\"\",0,JTP!I186)","v":0},{"$f":"IF(JTP!G186=\"\",0,JTP!J186)","v":0},null,{"$f":"IF(JSP!B186=\"\",\"\",JSP!C186)","v":""},{"$f":"IF(JSP!B186=\"\",0,JSP!D186)","v":0},{"$f":"IF(JSP!B186=\"\",0,JSP!E186)","v":0},null,{"$f":"IF(JSP!G186=\"\",\"\",JSP!H186)","v":""},{"$f":"IF(JSP!G186=\"\",0,JSP!I186)","v":0},{"$f":"IF(JSP!G186=\"\",0,JSP!J186)","v":0},null,{"$f":"IF(CFP!B186=\"\",\"\",CFP!C186)","v":""},{"$f":"IF(CFP!B186=\"\",0,CFP!D186)","v":0},{"$f":"IF(CFP!B186=\"\",0,CFP!E186)","v":0},null,{"$f":"IF(CFP!G186=\"\",\"\",CFP!H186)","v":""},{"$f":"IF(CFP!G186=\"\",0,CFP!I186)","v":0},null,{"$f":"IF(DWP!B186=\"\",\"\",DWP!C186)","v":""},{"$f":"IF(DWP!D186=\"\",0,DWP!D186)","v":0},{"$f":"IF(DWP!D186=\"\",0,DWP!E186)","v":0},null,{"$f":"IF(DWP!G186=\"\",\"\",DWP!H186)","v":""},{"$f":"IF(DWP!I186=\"\",0,DWP!I186)","v":0},null,{"$f":"IF(ALP!B186=\"\",\"\",ALP!C186)","v":""},{"$f":"IF(ALP!D186=\"\",0,ALP!D186)","v":0},{"$f":"IF(ALP!E186=\"\",0,ALP!E186)","v":0},null,{"$f":"IF(PS!B188=\"\",\"\",PS!C188)","v":""},{"$f":"IF(PS!B188=\"\",\"\",PS!D188)","v":""},null,{"$f":"IF(PS!F188=\"\",\"\",PS!G188)","v":""},{"$f":"IF(PS!F188=\"\",\"\",PS!H188)","v":""},null,{"$f":"IF(LP!A186=\"\",\"\",LP!B186)","v":""},{"$f":"IF(LP!A186=\"\",0,LP!C186)","v":0},null,{"$f":"IF(LP!E186=\"\",\"\",LP!F186)","v":""},{"$f":"IF(LP!E186=\"\",0,LP!G186)","v":0},null,{"$f":"IF(LP!I186=\"\",\"\",LP!J186)","v":""},{"$f":"IF(LP!I186=\"\",0,LP!K186)","v":0},null,{"$f":"IF(BPBPS!B186=\"\",\"\",BPBPS!C186)","v":""},{"$f":"IF(BPBPS!B186=\"\",0,BPBPS!D186)","v":0},null,{"$f":"IF(BPBPS!F186=\"\",\"\",BPBPS!G186)","v":""},{"$f":"IF(BPBPS!H186=\"\",0,BPBPS!H186)","v":0},null,{"$f":"IF(BPBPS!J186=\"\",\"\",BPBPS!K186)","v":""},{"$f":"IF(BPBPS!J186=\"\",0,BPBPS!L186)","v":0},null,{"$f":"IF(SSGP!B186=\"\",\"\",SSGP!C186)","v":""},{"$f":"IF(SSGP!B186=\"\",0,SSGP!D186)","v":0},null,{"$f":"IF(SSGP!F186=\"\",\"\",SSGP!G186)","v":""},{"$f":"IF(SSGP!F186=\"\",0,SSGP!H186)","v":0}]
[185,{"$f":"IF(JTP!B187=\"\",\"\",JTP!C187)","v":""},{"$f":"IF(JTP!B187=\"\",0,JTP!D187)","v":0},{"$f":"IF(JTP!B187=\"\",0,JTP!E187)","v":0},null,{"$f":"IF(JTP!G187=\"\",\"\",JTP!H187)","v":""},{"$f":"IF(JTP!G187=\"\",0,JTP!I187)","v":0},{"$f":"IF(JTP!G187=\"\",0,JTP!J187)","v":0},null,{"$f":"IF(JSP!B187=\"\",\"\",JSP!C187)","v":""},{"$f":"IF(JSP!B187=\"\",0,JSP!D187)","v":0},{"$f":"IF(JSP!B187=\"\",0,JSP!E187)","v":0},null,{"$f":"IF(JSP!G187=\"\",\"\",JSP!H187)","v":""},{"$f":"IF(JSP!G187=\"\",0,JSP!I187)","v":0},{"$f":"IF(JSP!G187=\"\",0,JSP!J187)","v":0},null,{"$f":"IF(CFP!B187=\"\",\"\",CFP!C187)","v":""},{"$f":"IF(CFP!B187=\"\",0,CFP!D187)","v":0},{"$f":"IF(CFP!B187=\"\",0,CFP!E187)","v":0},null,{"$f":"IF(CFP!G187=\"\",\"\",CFP!H187)","v":""},{"$f":"IF(CFP!G187=\"\",0,CFP!I187)","v":0},null,{"$f":"IF(DWP!B187=\"\",\"\",DWP!C187)","v":""},{"$f":"IF(DWP!D187=\"\",0,DWP!D187)","v":0},{"$f":"IF(DWP!D187=\"\",0,DWP!E187)","v":0},null,{"$f":"IF(DWP!G187=\"\",\"\",DWP!H187)","v":""},{"$f":"IF(DWP!I187=\"\",0,DWP!I187)","v":0},null,{"$f":"IF(ALP!B187=\"\",\"\",ALP!C187)","v":""},{"$f":"IF(ALP!D187=\"\",0,ALP!D187)","v":0},{"$f":"IF(ALP!E187=\"\",0,ALP!E187)","v":0},null,{"$f":"IF(PS!B189=\"\",\"\",PS!C189)","v":""},{"$f":"IF(PS!B189=\"\",\"\",PS!D189)","v":""},null,{"$f":"IF(PS!F189=\"\",\"\",PS!G189)","v":""},{"$f":"IF(PS!F189=\"\",\"\",PS!H189)","v":""},null,{"$f":"IF(LP!A187=\"\",\"\",LP!B187)","v":""},{"$f":"IF(LP!A187=\"\",0,LP!C187)","v":0},null,{"$f":"IF(LP!E187=\"\",\"\",LP!F187)","v":""},{"$f":"IF(LP!E187=\"\",0,LP!G187)","v":0},null,{"$f":"IF(LP!I187=\"\",\"\",LP!J187)","v":""},{"$f":"IF(LP!I187=\"\",0,LP!K187)","v":0},null,{"$f":"IF(BPBPS!B187=\"\",\"\",BPBPS!C187)","v":""},{"$f":"IF(BPBPS!B187=\"\",0,BPBPS!D187)","v":0},null,{"$f":"IF(BPBPS!F187=\"\",\"\",BPBPS!G187)","v":""},{"$f":"IF(BPBPS!H187=\"\",0,BPBPS!H187)","v":0},null,{"$f":"IF(BPBPS!J187=\"\",\"\",BPBPS!K187)","v":""},{"$f":"IF(BPBPS!J187=\"\",0,BPBPS!L187)","v":0},null,{"$f":"IF(SSGP!B187=\"\",\"\",SSGP!C187)","v":""},{"$f":"IF(SSGP!B187=\"\",0,SSGP!D187)","v":0},null,{"$f":"IF(SSGP!F187=\"\",\"\",SSGP!G187)","v":""},{"$f":"IF(SSGP!F187=\"\",0,SSGP!H187)","v":0}]
[186,{"$f":"IF(JTP!B188=\"\",\"\",JTP!C188)","v":""},{"$f":"IF(JTP!B188=\"\",0,JTP!D188)","v":0},{"$f":"IF(JTP!B188=\"\",0,JTP!E188)","v":0},null,{"$f":"IF(JTP!G188=\"\",\"\",JTP!H188)","v":""},{"$f":"IF(JTP!G188=\"\",0,JTP!I188)","v":0},{"$f":"IF(JTP!G188=\"\",0,JTP!J188)","v":0},null,{"$f":"IF(JSP!B188=\"\",\"\",JSP!C188)","v":""},{"$f":"IF(JSP!B188=\"\",0,JSP!D188)","v":0},{"$f":"IF(JSP!B188=\"\",0,JSP!E188)","v":0},null,{"$f":"IF(JSP!G188=\"\",\"\",JSP!H188)","v":""},{"$f":"IF(JSP!G188=\"\",0,JSP!I188)","v":0},{"$f":"IF(JSP!G188=\"\",0,JSP!J188)","v":0},null,{"$f":"IF(CFP!B188=\"\",\"\",CFP!C188)","v":""},{"$f":"IF(CFP!B188=\"\",0,CFP!D188)","v":0},{"$f":"IF(CFP!B188=\"\",0,CFP!E188)","v":0},null,{"$f":"IF(CFP!G188=\"\",\"\",CFP!H188)","v":""},{"$f":"IF(CFP!G188=\"\",0,CFP!I188)","v":0},null,{"$f":"IF(DWP!B188=\"\",\"\",DWP!C188)","v":""},{"$f":"IF(DWP!D188=\"\",0,DWP!D188)","v":0},{"$f":"IF(DWP!D188=\"\",0,DWP!E188)","v":0},null,{"$f":"IF(DWP!G188=\"\",\"\",DWP!H188)","v":""},{"$f":"IF(DWP!I188=\"\",0,DWP!I188)","v":0},null,{"$f":"IF(ALP!B188=\"\",\"\",ALP!C188)","v":""},{"$f":"IF(ALP!D188=\"\",0,ALP!D188)","v":0},{"$f":"IF(ALP!E188=\"\",0,ALP!E188)","v":0},null,{"$f":"IF(PS!B190=\"\",\"\",PS!C190)","v":""},{"$f":"IF(PS!B190=\"\",\"\",PS!D190)","v":""},null,{"$f":"IF(PS!F190=\"\",\"\",PS!G190)","v":""},{"$f":"IF(PS!F190=\"\",\"\",PS!H190)","v":""},null,{"$f":"IF(LP!A188=\"\",\"\",LP!B188)","v":""},{"$f":"IF(LP!A188=\"\",0,LP!C188)","v":0},null,{"$f":"IF(LP!E188=\"\",\"\",LP!F188)","v":""},{"$f":"IF(LP!E188=\"\",0,LP!G188)","v":0},null,{"$f":"IF(LP!I188=\"\",\"\",LP!J188)","v":""},{"$f":"IF(LP!I188=\"\",0,LP!K188)","v":0},null,{"$f":"IF(BPBPS!B188=\"\",\"\",BPBPS!C188)","v":""},{"$f":"IF(BPBPS!B188=\"\",0,BPBPS!D188)","v":0},null,{"$f":"IF(BPBPS!F188=\"\",\"\",BPBPS!G188)","v":""},{"$f":"IF(BPBPS!H188=\"\",0,BPBPS!H188)","v":0},null,{"$f":"IF(BPBPS!J188=\"\",\"\",BPBPS!K188)","v":""},{"$f":"IF(BPBPS!J188=\"\",0,BPBPS!L188)","v":0},null,{"$f":"IF(SSGP!B188=\"\",\"\",SSGP!C188)","v":""},{"$f":"IF(SSGP!B188=\"\",0,SSGP!D188)","v":0},null,{"$f":"IF(SSGP!F188=\"\",\"\",SSGP!G188)","v":""},{"$f":"IF(SSGP!F188=\"\",0,SSGP!H188)","v":0}]
[187,{"$f":"IF(JTP!B189=\"\",\"\",JTP!C189)","v":""},{"$f":"IF(JTP!B189=\"\",0,JTP!D189)","v":0},{"$f":"IF(JTP!B189=\"\",0,JTP!E189)","v":0},null,{"$f":"IF(JTP!G189=\"\",\"\",JTP!H189)","v":""},{"$f":"IF(JTP!G189=\"\",0,JTP!I189)","v":0},{"$f":"IF(JTP!G189=\"\",0,JTP!J189)","v":0},null,{"$f":"IF(JSP!B189=\"\",\"\",JSP!C189)","v":""},{"$f":"IF(JSP!B189=\"\",0,JSP!D189)","v":0},{"$f":"IF(JSP!B189=\"\",0,JSP!E189)","v":0},null,{"$f":"IF(JSP!G189=\"\",\"\",JSP!H189)","v":""},{"$f":"IF(JSP!G189=\"\",0,JSP!I189)","v":0},{"$f":"IF(JSP!G189=\"\",0,JSP!J189)","v":0},null,{"$f":"IF(CFP!B189=\"\",\"\",CFP!C189)","v":""},{"$f":"IF(CFP!B189=\"\",0,CFP!D189)","v":0},{"$f":"IF(CFP!B189=\"\",0,CFP!E189)","v":0},null,{"$f":"IF(CFP!G189=\"\",\"\",CFP!H189)","v":""},{"$f":"IF(CFP!G189=\"\",0,CFP!I189)","v":0},null,{"$f":"IF(DWP!B189=\"\",\"\",DWP!C189)","v":""},{"$f":"IF(DWP!D189=\"\",0,DWP!D189)","v":0},{"$f":"IF(DWP!D189=\"\",0,DWP!E189)","v":0},null,{"$f":"IF(DWP!G189=\"\",\"\",DWP!H189)","v":""},{"$f":"IF(DWP!I189=\"\",0,DWP!I189)","v":0},null,{"$f":"IF(ALP!B189=\"\",\"\",ALP!C189)","v":""},{"$f":"IF(ALP!D189=\"\",0,ALP!D189)","v":0},{"$f":"IF(ALP!E189=\"\",0,ALP!E189)","v":0},null,{"$f":"IF(PS!B191=\"\",\"\",PS!C191)","v":""},{"$f":"IF(PS!B191=\"\",\"\",PS!D191)","v":""},null,{"$f":"IF(PS!F191=\"\",\"\",PS!G191)","v":""},{"$f":"IF(PS!F191=\"\",\"\",PS!H191)","v":""},null,{"$f":"IF(LP!A189=\"\",\"\",LP!B189)","v":""},{"$f":"IF(LP!A189=\"\",0,LP!C189)","v":0},null,{"$f":"IF(LP!E189=\"\",\"\",LP!F189)","v":""},{"$f":"IF(LP!E189=\"\",0,LP!G189)","v":0},null,{"$f":"IF(LP!I189=\"\",\"\",LP!J189)","v":""},{"$f":"IF(LP!I189=\"\",0,LP!K189)","v":0},null,{"$f":"IF(BPBPS!B189=\"\",\"\",BPBPS!C189)","v":""},{"$f":"IF(BPBPS!B189=\"\",0,BPBPS!D189)","v":0},null,{"$f":"IF(BPBPS!F189=\"\",\"\",BPBPS!G189)","v":""},{"$f":"IF(BPBPS!H189=\"\",0,BPBPS!H189)","v":0},null,{"$f":"IF(BPBPS!J189=\"\",\"\",BPBPS!K189)","v":""},{"$f":"IF(BPBPS!J189=\"\",0,BPBPS!L189)","v":0},null,{"$f":"IF(SSGP!B189=\"\",\"\",SSGP!C189)","v":""},{"$f":"IF(SSGP!B189=\"\",0,SSGP!D189)","v":0},null,{"$f":"IF(SSGP!F189=\"\",\"\",SSGP!G189)","v":""},{"$f":"IF(SSGP!F189=\"\",0,SSGP!H189)","v":0}]
[188,{"$f":"IF(JTP!B190=\"\",\"\",JTP!C190)","v":""},{"$f":"IF(JTP!B190=\"\",0,JTP!D190)","v":0},{"$f":"IF(JTP!B190=\"\",0,JTP!E190)","v":0},null,{"$f":"IF(JTP!G190=\"\",\"\",JTP!H190)","v":""},{"$f":"IF(JTP!G190=\"\",0,JTP!I190)","v":0},{"$f":"IF(JTP!G190=\"\",0,JTP!J190)","v":0},null,{"$f":"IF(JSP!B190=\"\",\"\",JSP!C190)","v":""},{"$f":"IF(JSP!B190=\"\",0,JSP!D190)","v":0},{"$f":"IF(JSP!B190=\"\",0,JSP!E190)","v":0},null,{"$f":"IF(JSP!G190=\"\",\"\",JSP!H190)","v":""},{"$f":"IF(JSP!G190=\"\",0,JSP!I190)","v":0},{"$f":"IF(JSP!G190=\"\",0,JSP!J190)","v":0},null,{"$f":"IF(CFP!B190=\"\",\"\",CFP!C190)","v":""},{"$f":"IF(CFP!B190=\"\",0,CFP!D190)","v":0},{"$f":"IF(CFP!B190=\"\",0,CFP!E190)","v":0},null,{"$f":"IF(CFP!G190=\"\",\"\",CFP!H190)","v":""},{"$f":"IF(CFP!G190=\"\",0,CFP!I190)","v":0},null,{"$f":"IF(DWP!B190=\"\",\"\",DWP!C190)","v":""},{"$f":"IF(DWP!D190=\"\",0,DWP!D190)","v":0},{"$f":"IF(DWP!D190=\"\",0,DWP!E190)","v":0},null,{"$f":"IF(DWP!G190=\"\",\"\",DWP!H190)","v":""},{"$f":"IF(DWP!I190=\"\",0,DWP!I190)","v":0},null,{"$f":"IF(ALP!B190=\"\",\"\",ALP!C190)","v":""},{"$f":"IF(ALP!D190=\"\",0,ALP!D190)","v":0},{"$f":"IF(ALP!E190=\"\",0,ALP!E190)","v":0},null,{"$f":"IF(PS!B192=\"\",\"\",PS!C192)","v":""},{"$f":"IF(PS!B192=\"\",\"\",PS!D192)","v":""},null,{"$f":"IF(PS!F192=\"\",\"\",PS!G192)","v":""},{"$f":"IF(PS!F192=\"\",\"\",PS!H192)","v":""},null,{"$f":"IF(LP!A190=\"\",\"\",LP!B190)","v":""},{"$f":"IF(LP!A190=\"\",0,LP!C190)","v":0},null,{"$f":"IF(LP!E190=\"\",\"\",LP!F190)","v":""},{"$f":"IF(LP!E190=\"\",0,LP!G190)","v":0},null,{"$f":"IF(LP!I190=\"\",\"\",LP!J190)","v":""},{"$f":"IF(LP!I190=\"\",0,LP!K190)","v":0},null,{"$f":"IF(BPBPS!B190=\"\",\"\",BPBPS!C190)","v":""},{"$f":"IF(BPBPS!B190=\"\",0,BPBPS!D190)","v":0},null,{"$f":"IF(BPBPS!F190=\"\",\"\",BPBPS!G190)","v":""},{"$f":"IF(BPBPS!H190=\"\",0,BPBPS!H190)","v":0},null,{"$f":"IF(BPBPS!J190=\"\",\"\",BPBPS!K190)","v":""},{"$f":"IF(BPBPS!J190=\"\",0,BPBPS!L190)","v":0},null,{"$f":"IF(SSGP!B190=\"\",\"\",SSGP!C190)","v":""},{"$f":"IF(SSGP!B190=\"\",0,SSGP!D190)","v":0},null,{"$f":"IF(SSGP!F190=\"\",\"\",SSGP!G190)","v":""},{"$f":"IF(SSGP!F190=\"\",0,SSGP!H190)","v":0}]
[189,{"$f":"IF(JTP!B191=\"\",\"\",JTP!C191)","v":""},{"$f":"IF(JTP!B191=\"\",0,JTP!D191)","v":0},{"$f":"IF(JTP!B191=\"\",0,JTP!E191)","v":0},null,{"$f":"IF(JTP!G191=\"\",\"\",JTP!H191)","v":""},{"$f":"IF(JTP!G191=\"\",0,JTP!I191)","v":0},{"$f":"IF(JTP!G191=\"\",0,JTP!J191)","v":0},null,{"$f":"IF(JSP!B191=\"\",\"\",JSP!C191)","v":""},{"$f":"IF(JSP!B191=\"\",0,JSP!D191)","v":0},{"$f":"IF(JSP!B191=\"\",0,JSP!E191)","v":0},null,{"$f":"IF(JSP!G191=\"\",\"\",JSP!H191)","v":""},{"$f":"IF(JSP!G191=\"\",0,JSP!I191)","v":0},{"$f":"IF(JSP!G191=\"\",0,JSP!J191)","v":0},null,{"$f":"IF(CFP!B191=\"\",\"\",CFP!C191)","v":""},{"$f":"IF(CFP!B191=\"\",0,CFP!D191)","v":0},{"$f":"IF(CFP!B191=\"\",0,CFP!E191)","v":0},null,{"$f":"IF(CFP!G191=\"\",\"\",CFP!H191)","v":""},{"$f":"IF(CFP!G191=\"\",0,CFP!I191)","v":0},null,{"$f":"IF(DWP!B191=\"\",\"\",DWP!C191)","v":""},{"$f":"IF(DWP!D191=\"\",0,DWP!D191)","v":0},{"$f":"IF(DWP!D191=\"\",0,DWP!E191)","v":0},null,{"$f":"IF(DWP!G191=\"\",\"\",DWP!H191)","v":""},{"$f":"IF(DWP!I191=\"\",0,DWP!I191)","v":0},null,{"$f":"IF(ALP!B191=\"\",\"\",ALP!C191)","v":""},{"$f":"IF(ALP!D191=\"\",0,ALP!D191)","v":0},{"$f":"IF(ALP!E191=\"\",0,ALP!E191)","v":0},null,{"$f":"IF(PS!B193=\"\",\"\",PS!C193)","v":""},{"$f":"IF(PS!B193=\"\",\"\",PS!D193)","v":""},null,{"$f":"IF(PS!F193=\"\",\"\",PS!G193)","v":""},{"$f":"IF(PS!F193=\"\",\"\",PS!H193)","v":""},null,{"$f":"IF(LP!A191=\"\",\"\",LP!B191)","v":""},{"$f":"IF(LP!A191=\"\",0,LP!C191)","v":0},null,{"$f":"IF(LP!E191=\"\",\"\",LP!F191)","v":""},{"$f":"IF(LP!E191=\"\",0,LP!G191)","v":0},null,{"$f":"IF(LP!I191=\"\",\"\",LP!J191)","v":""},{"$f":"IF(LP!I191=\"\",0,LP!K191)","v":0},null,{"$f":"IF(BPBPS!B191=\"\",\"\",BPBPS!C191)","v":""},{"$f":"IF(BPBPS!B191=\"\",0,BPBPS!D191)","v":0},null,{"$f":"IF(BPBPS!F191=\"\",\"\",BPBPS!G191)","v":""},{"$f":"IF(BPBPS!H191=\"\",0,BPBPS!H191)","v":0},null,{"$f":"IF(BPBPS!J191=\"\",\"\",BPBPS!K191)","v":""},{"$f":"IF(BPBPS!J191=\"\",0,BPBPS!L191)","v":0},null,{"$f":"IF(SSGP!B191=\"\",\"\",SSGP!C191)","v":""},{"$f":"IF(SSGP!B191=\"\",0,SSGP!D191)","v":0},null,{"$f":"IF(SSGP!F191=\"\",\"\",SSGP!G191)","v":""},{"$f":"IF(SSGP!F191=\"\",0,SSGP!H191)","v":0}]
[190,{"$f":"IF(JTP!B192=\"\",\"\",JTP!C192)","v":""},{"$f":"IF(JTP!B192=\"\",0,JTP!D192)","v":0},{"$f":"IF(JTP!B192=\"\",0,JTP!E192)","v":0},null,{"$f":"IF(JTP!G192=\"\",\"\",JTP!H192)","v":""},{"$f":"IF(JTP!G192=\"\",0,JTP!I192)","v":0},{"$f":"IF(JTP!G192=\"\",0,JTP!J192)","v":0},null,{"$f":"IF(JSP!B192=\"\",\"\",JSP!C192)","v":""},{"$f":"IF(JSP!B192=\"\",0,JSP!D192)","v":0},{"$f":"IF(JSP!B192=\"\",0,JSP!E192)","v":0},null,{"$f":"IF(JSP!G192=\"\",\"\",JSP!H192)","v":""},{"$f":"IF(JSP!G192=\"\",0,JSP!I192)","v":0},{"$f":"IF(JSP!G192=\"\",0,JSP!J192)","v":0},null,{"$f":"IF(CFP!B192=\"\",\"\",CFP!C192)","v":""},{"$f":"IF(CFP!B192=\"\",0,CFP!D192)","v":0},{"$f":"IF(CFP!B192=\"\",0,CFP!E192)","v":0},null,{"$f":"IF(CFP!G192=\"\",\"\",CFP!H192)","v":""},{"$f":"IF(CFP!G192=\"\",0,CFP!I192)","v":0},null,{"$f":"IF(DWP!B192=\"\",\"\",DWP!C192)","v":""},{"$f":"IF(DWP!D192=\"\",0,DWP!D192)","v":0},{"$f":"IF(DWP!D192=\"\",0,DWP!E192)","v":0},null,{"$f":"IF(DWP!G192=\"\",\"\",DWP!H192)","v":""},{"$f":"IF(DWP!I192=\"\",0,DWP!I192)","v":0},null,{"$f":"IF(ALP!B192=\"\",\"\",ALP!C192)","v":""},{"$f":"IF(ALP!D192=\"\",0,ALP!D192)","v":0},{"$f":"IF(ALP!E192=\"\",0,ALP!E192)","v":0},null,{"$f":"IF(PS!B194=\"\",\"\",PS!C194)","v":""},{"$f":"IF(PS!B194=\"\",\"\",PS!D194)","v":""},null,{"$f":"IF(PS!F194=\"\",\"\",PS!G194)","v":""},{"$f":"IF(PS!F194=\"\",\"\",PS!H194)","v":""},null,{"$f":"IF(LP!A192=\"\",\"\",LP!B192)","v":""},{"$f":"IF(LP!A192=\"\",0,LP!C192)","v":0},null,{"$f":"IF(LP!E192=\"\",\"\",LP!F192)","v":""},{"$f":"IF(LP!E192=\"\",0,LP!G192)","v":0},null,{"$f":"IF(LP!I192=\"\",\"\",LP!J192)","v":""},{"$f":"IF(LP!I192=\"\",0,LP!K192)","v":0},null,{"$f":"IF(BPBPS!B192=\"\",\"\",BPBPS!C192)","v":""},{"$f":"IF(BPBPS!B192=\"\",0,BPBPS!D192)","v":0},null,{"$f":"IF(BPBPS!F192=\"\",\"\",BPBPS!G192)","v":""},{"$f":"IF(BPBPS!H192=\"\",0,BPBPS!H192)","v":0},null,{"$f":"IF(BPBPS!J192=\"\",\"\",BPBPS!K192)","v":""},{"$f":"IF(BPBPS!J192=\"\",0,BPBPS!L192)","v":0},null,{"$f":"IF(SSGP!B192=\"\",\"\",SSGP!C192)","v":""},{"$f":"IF(SSGP!B192=\"\",0,SSGP!D192)","v":0},null,{"$f":"IF(SSGP!F192=\"\",\"\",SSGP!G192)","v":""},{"$f":"IF(SSGP!F192=\"\",0,SSGP!H192)","v":0}]
[191,{"$f":"IF(JTP!B193=\"\",\"\",JTP!C193)","v":""},{"$f":"IF(JTP!B193=\"\",0,JTP!D193)","v":0},{"$f":"IF(JTP!B193=\"\",0,JTP!E193)","v":0},null,{"$f":"IF(JTP!G193=\"\",\"\",JTP!H193)","v":""},{"$f":"IF(JTP!G193=\"\",0,JTP!I193)","v":0},{"$f":"IF(JTP!G193=\"\",0,JTP!J193)","v":0},null,{"$f":"IF(JSP!B193=\"\",\"\",JSP!C193)","v":""},{"$f":"IF(JSP!B193=\"\",0,JSP!D193)","v":0},{"$f":"IF(JSP!B193=\"\",0,JSP!E193)","v":0},null,{"$f":"IF(JSP!G193=\"\",\"\",JSP!H193)","v":""},{"$f":"IF(JSP!G193=\"\",0,JSP!I193)","v":0},{"$f":"IF(JSP!G193=\"\",0,JSP!J193)","v":0},null,{"$f":"IF(CFP!B193=\"\",\"\",CFP!C193)","v":""},{"$f":"IF(CFP!B193=\"\",0,CFP!D193)","v":0},{"$f":"IF(CFP!B193=\"\",0,CFP!E193)","v":0},null,{"$f":"IF(CFP!G193=\"\",\"\",CFP!H193)","v":""},{"$f":"IF(CFP!G193=\"\",0,CFP!I193)","v":0},null,{"$f":"IF(DWP!B193=\"\",\"\",DWP!C193)","v":""},{"$f":"IF(DWP!D193=\"\",0,DWP!D193)","v":0},{"$f":"IF(DWP!D193=\"\",0,DWP!E193)","v":0},null,{"$f":"IF(DWP!G193=\"\",\"\",DWP!H193)","v":""},{"$f":"IF(DWP!I193=\"\",0,DWP!I193)","v":0},null,{"$f":"IF(ALP!B193=\"\",\"\",ALP!C193)","v":""},{"$f":"IF(ALP!D193=\"\",0,ALP!D193)","v":0},{"$f":"IF(ALP!E193=\"\",0,ALP!E193)","v":0},null,{"$f":"IF(PS!B195=\"\",\"\",PS!C195)","v":""},{"$f":"IF(PS!B195=\"\",\"\",PS!D195)","v":""},null,{"$f":"IF(PS!F195=\"\",\"\",PS!G195)","v":""},{"$f":"IF(PS!F195=\"\",\"\",PS!H195)","v":""},null,{"$f":"IF(LP!A193=\"\",\"\",LP!B193)","v":""},{"$f":"IF(LP!A193=\"\",0,LP!C193)","v":0},null,{"$f":"IF(LP!E193=\"\",\"\",LP!F193)","v":""},{"$f":"IF(LP!E193=\"\",0,LP!G193)","v":0},null,{"$f":"IF(LP!I193=\"\",\"\",LP!J193)","v":""},{"$f":"IF(LP!I193=\"\",0,LP!K193)","v":0},null,{"$f":"IF(BPBPS!B193=\"\",\"\",BPBPS!C193)","v":""},{"$f":"IF(BPBPS!B193=\"\",0,BPBPS!D193)","v":0},null,{"$f":"IF(BPBPS!F193=\"\",\"\",BPBPS!G193)","v":""},{"$f":"IF(BPBPS!H193=\"\",0,BPBPS!H193)","v":0},null,{"$f":"IF(BPBPS!J193=\"\",\"\",BPBPS!K193)","v":""},{"$f":"IF(BPBPS!J193=\"\",0,BPBPS!L193)","v":0},null,{"$f":"IF(SSGP!B193=\"\",\"\",SSGP!C193)","v":""},{"$f":"IF(SSGP!B193=\"\",0,SSGP!D193)","v":0},null,{"$f":"IF(SSGP!F193=\"\",\"\",SSGP!G193)","v":""},{"$f":"IF(SSGP!F193=\"\",0,SSGP!H193)","v":0}]
[192,{"$f":"IF(JTP!B194=\"\",\"\",JTP!C194)","v":""},{"$f":"IF(JTP!B194=\"\",0,JTP!D194)","v":0},{"$f":"IF(JTP!B194=\"\",0,JTP!E194)","v":0},null,{"$f":"IF(JTP!G194=\"\",\"\",JTP!H194)","v":""},{"$f":"IF(JTP!G194=\"\",0,JTP!I194)","v":0},{"$f":"IF(JTP!G194=\"\",0,JTP!J194)","v":0},null,{"$f":"IF(JSP!B194=\"\",\"\",JSP!C194)","v":""},{"$f":"IF(JSP!B194=\"\",0,JSP!D194)","v":0},{"$f":"IF(JSP!B194=\"\",0,JSP!E194)","v":0},null,{"$f":"IF(JSP!G194=\"\",\"\",JSP!H194)","v":""},{"$f":"IF(JSP!G194=\"\",0,JSP!I194)","v":0},{"$f":"IF(JSP!G194=\"\",0,JSP!J194)","v":0},null,{"$f":"IF(CFP!B194=\"\",\"\",CFP!C194)","v":""},{"$f":"IF(CFP!B194=\"\",0,CFP!D194)","v":0},{"$f":"IF(CFP!B194=\"\",0,CFP!E194)","v":0},null,{"$f":"IF(CFP!G194=\"\",\"\",CFP!H194)","v":""},{"$f":"IF(CFP!G194=\"\",0,CFP!I194)","v":0},null,{"$f":"IF(DWP!B194=\"\",\"\",DWP!C194)","v":""},{"$f":"IF(DWP!D194=\"\",0,DWP!D194)","v":0},{"$f":"IF(DWP!D194=\"\",0,DWP!E194)","v":0},null,{"$f":"IF(DWP!G194=\"\",\"\",DWP!H194)","v":""},{"$f":"IF(DWP!I194=\"\",0,DWP!I194)","v":0},null,{"$f":"IF(ALP!B194=\"\",\"\",ALP!C194)","v":""},{"$f":"IF(ALP!D194=\"\",0,ALP!D194)","v":0},{"$f":"IF(ALP!E194=\"\",0,ALP!E194)","v":0},null,{"$f":"IF(PS!B196=\"\",\"\",PS!C196)","v":""},{"$f":"IF(PS!B196=\"\",\"\",PS!D196)","v":""},null,{"$f":"IF(PS!F196=\"\",\"\",PS!G196)","v":""},{"$f":"IF(PS!F196=\"\",\"\",PS!H196)","v":""},null,{"$f":"IF(LP!A194=\"\",\"\",LP!B194)","v":""},{"$f":"IF(LP!A194=\"\",0,LP!C194)","v":0},null,{"$f":"IF(LP!E194=\"\",\"\",LP!F194)","v":""},{"$f":"IF(LP!E194=\"\",0,LP!G194)","v":0},null,{"$f":"IF(LP!I194=\"\",\"\",LP!J194)","v":""},{"$f":"IF(LP!I194=\"\",0,LP!K194)","v":0},null,{"$f":"IF(BPBPS!B194=\"\",\"\",BPBPS!C194)","v":""},{"$f":"IF(BPBPS!B194=\"\",0,BPBPS!D194)","v":0},null,{"$f":"IF(BPBPS!F194=\"\",\"\",BPBPS!G194)","v":""},{"$f":"IF(BPBPS!H194=\"\",0,BPBPS!H194)","v":0},null,{"$f":"IF(BPBPS!J194=\"\",\"\",BPBPS!K194)","v":""},{"$f":"IF(BPBPS!J194=\"\",0,BPBPS!L194)","v":0},null,{"$f":"IF(SSGP!B194=\"\",\"\",SSGP!C194)","v":""},{"$f":"IF(SSGP!B194=\"\",0,SSGP!D194)","v":0},null,{"$f":"IF(SSGP!F194=\"\",\"\",SSGP!G194)","v":""},{"$f":"IF(SSGP!F194=\"\",0,SSGP!H194)","v":0}]
[193,{"$f":"IF(JTP!B195=\"\",\"\",JTP!C195)","v":""},{"$f":"IF(JTP!B195=\"\",0,JTP!D195)","v":0},{"$f":"IF(JTP!B195=\"\",0,JTP!E195)","v":0},null,{"$f":"IF(JTP!G195=\"\",\"\",JTP!H195)","v":""},{"$f":"IF(JTP!G195=\"\",0,JTP!I195)","v":0},{"$f":"IF(JTP!G195=\"\",0,JTP!J195)","v":0},null,{"$f":"IF(JSP!B195=\"\",\"\",JSP!C195)","v":""},{"$f":"IF(JSP!B195=\"\",0,JSP!D195)","v":0},{"$f":"IF(JSP!B195=\"\",0,JSP!E195)","v":0},null,{"$f":"IF(JSP!G195=\"\",\"\",JSP!H195)","v":""},{"$f":"IF(JSP!G195=\"\",0,JSP!I195)","v":0},{"$f":"IF(JSP!G195=\"\",0,JSP!J195)","v":0},null,{"$f":"IF(CFP!B195=\"\",\"\",CFP!C195)","v":""},{"$f":"IF(CFP!B195=\"\",0,CFP!D195)","v":0},{"$f":"IF(CFP!B195=\"\",0,CFP!E195)","v":0},null,{"$f":"IF(CFP!G195=\"\",\"\",CFP!H195)","v":""},{"$f":"IF(CFP!G195=\"\",0,CFP!I195)","v":0},null,{"$f":"IF(DWP!B195=\"\",\"\",DWP!C195)","v":""},{"$f":"IF(DWP!D195=\"\",0,DWP!D195)","v":0},{"$f":"IF(DWP!D195=\"\",0,DWP!E195)","v":0},null,{"$f":"IF(DWP!G195=\"\",\"\",DWP!H195)","v":""},{"$f":"IF(DWP!I195=\"\",0,DWP!I195)","v":0},null,{"$f":"IF(ALP!B195=\"\",\"\",ALP!C195)","v":""},{"$f":"IF(ALP!D195=\"\",0,ALP!D195)","v":0},{"$f":"IF(ALP!E195=\"\",0,ALP!E195)","v":0},null,{"$f":"IF(PS!B197=\"\",\"\",PS!C197)","v":""},{"$f":"IF(PS!B197=\"\",\"\",PS!D197)","v":""},null,{"$f":"IF(PS!F197=\"\",\"\",PS!G197)","v":""},{"$f":"IF(PS!F197=\"\",\"\",PS!H197)","v":""},null,{"$f":"IF(LP!A195=\"\",\"\",LP!B195)","v":""},{"$f":"IF(LP!A195=\"\",0,LP!C195)","v":0},null,{"$f":"IF(LP!E195=\"\",\"\",LP!F195)","v":""},{"$f":"IF(LP!E195=\"\",0,LP!G195)","v":0},null,{"$f":"IF(LP!I195=\"\",\"\",LP!J195)","v":""},{"$f":"IF(LP!I195=\"\",0,LP!K195)","v":0},null,{"$f":"IF(BPBPS!B195=\"\",\"\",BPBPS!C195)","v":""},{"$f":"IF(BPBPS!B195=\"\",0,BPBPS!D195)","v":0},null,{"$f":"IF(BPBPS!F195=\"\",\"\",BPBPS!G195)","v":""},{"$f":"IF(BPBPS!H195=\"\",0,BPBPS!H195)","v":0},null,{"$f":"IF(BPBPS!J195=\"\",\"\",BPBPS!K195)","v":""},{"$f":"IF(BPBPS!J195=\"\",0,BPBPS!L195)","v":0},null,{"$f":"IF(SSGP!B195=\"\",\"\",SSGP!C195)","v":""},{"$f":"IF(SSGP!B195=\"\",0,SSGP!D195)","v":0},null,{"$f":"IF(SSGP!F195=\"\",\"\",SSGP!G195)","v":""},{"$f":"IF(SSGP!F195=\"\",0,SSGP!H195)","v":0}]
[194,{"$f":"IF(JTP!B196=\"\",\"\",JTP!C196)","v":""},{"$f":"IF(JTP!B196=\"\",0,JTP!D196)","v":0},{"$f":"IF(JTP!B196=\"\",0,JTP!E196)","v":0},null,{"$f":"IF(JTP!G196=\"\",\"\",JTP!H196)","v":""},{"$f":"IF(JTP!G196=\"\",0,JTP!I196)","v":0},{"$f":"IF(JTP!G196=\"\",0,JTP!J196)","v":0},null,{"$f":"IF(JSP!B196=\"\",\"\",JSP!C196)","v":""},{"$f":"IF(JSP!B196=\"\",0,JSP!D196)","v":0},{"$f":"IF(JSP!B196=\"\",0,JSP!E196)","v":0},null,{"$f":"IF(JSP!G196=\"\",\"\",JSP!H196)","v":""},{"$f":"IF(JSP!G196=\"\",0,JSP!I196)","v":0},{"$f":"IF(JSP!G196=\"\",0,JSP!J196)","v":0},null,{"$f":"IF(CFP!B196=\"\",\"\",CFP!C196)","v":""},{"$f":"IF(CFP!B196=\"\",0,CFP!D196)","v":0},{"$f":"IF(CFP!B196=\"\",0,CFP!E196)","v":0},null,{"$f":"IF(CFP!G196=\"\",\"\",CFP!H196)","v":""},{"$f":"IF(CFP!G196=\"\",0,CFP!I196)","v":0},null,{"$f":"IF(DWP!B196=\"\",\"\",DWP!C196)","v":""},{"$f":"IF(DWP!D196=\"\",0,DWP!D196)","v":0},{"$f":"IF(DWP!D196=\"\",0,DWP!E196)","v":0},null,{"$f":"IF(DWP!G196=\"\",\"\",DWP!H196)","v":""},{"$f":"IF(DWP!I196=\"\",0,DWP!I196)","v":0},null,{"$f":"IF(ALP!B196=\"\",\"\",ALP!C196)","v":""},{"$f":"IF(ALP!D196=\"\",0,ALP!D196)","v":0},{"$f":"IF(ALP!E196=\"\",0,ALP!E196)","v":0},null,{"$f":"IF(PS!B198=\"\",\"\",PS!C198)","v":""},{"$f":"IF(PS!B198=\"\",\"\",PS!D198)","v":""},null,{"$f":"IF(PS!F198=\"\",\"\",PS!G198)","v":""},{"$f":"IF(PS!F198=\"\",\"\",PS!H198)","v":""},null,{"$f":"IF(LP!A196=\"\",\"\",LP!B196)","v":""},{"$f":"IF(LP!A196=\"\",0,LP!C196)","v":0},null,{"$f":"IF(LP!E196=\"\",\"\",LP!F196)","v":""},{"$f":"IF(LP!E196=\"\",0,LP!G196)","v":0},null,{"$f":"IF(LP!I196=\"\",\"\",LP!J196)","v":""},{"$f":"IF(LP!I196=\"\",0,LP!K196)","v":0},null,{"$f":"IF(BPBPS!B196=\"\",\"\",BPBPS!C196)","v":""},{"$f":"IF(BPBPS!B196=\"\",0,BPBPS!D196)","v":0},null,{"$f":"IF(BPBPS!F196=\"\",\"\",BPBPS!G196)","v":""},{"$f":"IF(BPBPS!H196=\"\",0,BPBPS!H196)","v":0},null,{"$f":"IF(BPBPS!J196=\"\",\"\",BPBPS!K196)","v":""},{"$f":"IF(BPBPS!J196=\"\",0,BPBPS!L196)","v":0},null,{"$f":"IF(SSGP!B196=\"\",\"\",SSGP!C196)","v":""},{"$f":"IF(SSGP!B196=\"\",0,SSGP!D196)","v":0},null,{"$f":"IF(SSGP!F196=\"\",\"\",SSGP!G196)","v":""},{"$f":"IF(SSGP!F196=\"\",0,SSGP!H196)","v":0}]
[195,{"$f":"IF(JTP!B197=\"\",\"\",JTP!C197)","v":""},{"$f":"IF(JTP!B197=\"\",0,JTP!D197)","v":0},{"$f":"IF(JTP!B197=\"\",0,JTP!E197)","v":0},null,{"$f":"IF(JTP!G197=\"\",\"\",JTP!H197)","v":""},{"$f":"IF(JTP!G197=\"\",0,JTP!I197)","v":0},{"$f":"IF(JTP!G197=\"\",0,JTP!J197)","v":0},null,{"$f":"IF(JSP!B197=\"\",\"\",JSP!C197)","v":""},{"$f":"IF(JSP!B197=\"\",0,JSP!D197)","v":0},{"$f":"IF(JSP!B197=\"\",0,JSP!E197)","v":0},null,{"$f":"IF(JSP!G197=\"\",\"\",JSP!H197)","v":""},{"$f":"IF(JSP!G197=\"\",0,JSP!I197)","v":0},{"$f":"IF(JSP!G197=\"\",0,JSP!J197)","v":0},null,{"$f":"IF(CFP!B197=\"\",\"\",CFP!C197)","v":""},{"$f":"IF(CFP!B197=\"\",0,CFP!D197)","v":0},{"$f":"IF(CFP!B197=\"\",0,CFP!E197)","v":0},null,{"$f":"IF(CFP!G197=\"\",\"\",CFP!H197)","v":""},{"$f":"IF(CFP!G197=\"\",0,CFP!I197)","v":0},null,{"$f":"IF(DWP!B197=\"\",\"\",DWP!C197)","v":""},{"$f":"IF(DWP!D197=\"\",0,DWP!D197)","v":0},{"$f":"IF(DWP!D197=\"\",0,DWP!E197)","v":0},null,{"$f":"IF(DWP!G197=\"\",\"\",DWP!H197)","v":""},{"$f":"IF(DWP!I197=\"\",0,DWP!I197)","v":0},null,{"$f":"IF(ALP!B197=\"\",\"\",ALP!C197)","v":""},{"$f":"IF(ALP!D197=\"\",0,ALP!D197)","v":0},{"$f":"IF(ALP!E197=\"\",0,ALP!E197)","v":0},null,{"$f":"IF(PS!B199=\"\",\"\",PS!C199)","v":""},{"$f":"IF(PS!B199=\"\",\"\",PS!D199)","v":""},null,{"$f":"IF(PS!F199=\"\",\"\",PS!G199)","v":""},{"$f":"IF(PS!F199=\"\",\"\",PS!H199)","v":""},null,{"$f":"IF(LP!A197=\"\",\"\",LP!B197)","v":""},{"$f":"IF(LP!A197=\"\",0,LP!C197)","v":0},null,{"$f":"IF(LP!E197=\"\",\"\",LP!F197)","v":""},{"$f":"IF(LP!E197=\"\",0,LP!G197)","v":0},null,{"$f":"IF(LP!I197=\"\",\"\",LP!J197)","v":""},{"$f":"IF(LP!I197=\"\",0,LP!K197)","v":0},null,{"$f":"IF(BPBPS!B197=\"\",\"\",BPBPS!C197)","v":""},{"$f":"IF(BPBPS!B197=\"\",0,BPBPS!D197)","v":0},null,{"$f":"IF(BPBPS!F197=\"\",\"\",BPBPS!G197)","v":""},{"$f":"IF(BPBPS!H197=\"\",0,BPBPS!H197)","v":0},null,{"$f":"IF(BPBPS!J197=\"\",\"\",BPBPS!K197)","v":""},{"$f":"IF(BPBPS!J197=\"\",0,BPBPS!L197)","v":0},null,{"$f":"IF(SSGP!B197=\"\",\"\",SSGP!C197)","v":""},{"$f":"IF(SSGP!B197=\"\",0,SSGP!D197)","v":0},null,{"$f":"IF(SSGP!F197=\"\",\"\",SSGP!G197)","v":""},{"$f":"IF(SSGP!F197=\"\",0,SSGP!H197)","v":0}]
[196,{"$f":"IF(JTP!B198=\"\",\"\",JTP!C198)","v":""},{"$f":"IF(JTP!B198=\"\",0,JTP!D198)","v":0},{"$f":"IF(JTP!B198=\"\",0,JTP!E198)","v":0},null,{"$f":"IF(JTP!G198=\"\",\"\",JTP!H198)","v":""},{"$f":"IF(JTP!G198=\"\",0,JTP!I198)","v":0},{"$f":"IF(JTP!G198=\"\",0,JTP!J198)","v":0},null,{"$f":"IF(JSP!B198=\"\",\"\",JSP!C198)","v":""},{"$f":"IF(JSP!B198=\"\",0,JSP!D198)","v":0},{"$f":"IF(JSP!B198=\"\",0,JSP!E198)","v":0},null,{"$f":"IF(JSP!G198=\"\",\"\",JSP!H198)","v":""},{"$f":"IF(JSP!G198=\"\",0,JSP!I198)","v":0},{"$f":"IF(JSP!G198=\"\",0,JSP!J198)","v":0},null,{"$f":"IF(CFP!B198=\"\",\"\",CFP!C198)","v":""},{"$f":"IF(CFP!B198=\"\",0,CFP!D198)","v":0},{"$f":"IF(CFP!B198=\"\",0,CFP!E198)","v":0},null,{"$f":"IF(CFP!G198=\"\",\"\",CFP!H198)","v":""},{"$f":"IF(CFP!G198=\"\",0,CFP!I198)","v":0},null,{"$f":"IF(DWP!B198=\"\",\"\",DWP!C198)","v":""},{"$f":"IF(DWP!D198=\"\",0,DWP!D198)","v":0},{"$f":"IF(DWP!D198=\"\",0,DWP!E198)","v":0},null,{"$f":"IF(DWP!G198=\"\",\"\",DWP!H198)","v":""},{"$f":"IF(DWP!I198=\"\",0,DWP!I198)","v":0},null,{"$f":"IF(ALP!B198=\"\",\"\",ALP!C198)","v":""},{"$f":"IF(ALP!D198=\"\",0,ALP!D198)","v":0},{"$f":"IF(ALP!E198=\"\",0,ALP!E198)","v":0},null,{"$f":"IF(PS!B200=\"\",\"\",PS!C200)","v":""},{"$f":"IF(PS!B200=\"\",\"\",PS!D200)","v":""},null,{"$f":"IF(PS!F200=\"\",\"\",PS!G200)","v":""},{"$f":"IF(PS!F200=\"\",\"\",PS!H200)","v":""},null,{"$f":"IF(LP!A198=\"\",\"\",LP!B198)","v":""},{"$f":"IF(LP!A198=\"\",0,LP!C198)","v":0},null,{"$f":"IF(LP!E198=\"\",\"\",LP!F198)","v":""},{"$f":"IF(LP!E198=\"\",0,LP!G198)","v":0},null,{"$f":"IF(LP!I198=\"\",\"\",LP!J198)","v":""},{"$f":"IF(LP!I198=\"\",0,LP!K198)","v":0},null,{"$f":"IF(BPBPS!B198=\"\",\"\",BPBPS!C198)","v":""},{"$f":"IF(BPBPS!B198=\"\",0,BPBPS!D198)","v":0},null,{"$f":"IF(BPBPS!F198=\"\",\"\",BPBPS!G198)","v":""},{"$f":"IF(BPBPS!H198=\"\",0,BPBPS!H198)","v":0},null,{"$f":"IF(BPBPS!J198=\"\",\"\",BPBPS!K198)","v":""},{"$f":"IF(BPBPS!J198=\"\",0,BPBPS!L198)","v":0},null,{"$f":"IF(SSGP!B198=\"\",\"\",SSGP!C198)","v":""},{"$f":"IF(SSGP!B198=\"\",0,SSGP!D198)","v":0},null,{"$f":"IF(SSGP!F198=\"\",\"\",SSGP!G198)","v":""},{"$f":"IF(SSGP!F198=\"\",0,SSGP!H198)","v":0}]
[197,{"$f":"IF(JTP!B199=\"\",\"\",JTP!C199)","v":""},{"$f":"IF(JTP!B199=\"\",0,JTP!D199)","v":0},{"$f":"IF(JTP!B199=\"\",0,JTP!E199)","v":0},null,{"$f":"IF(JTP!G199=\"\",\"\",JTP!H199)","v":""},{"$f":"IF(JTP!G199=\"\",0,JTP!I199)","v":0},{"$f":"IF(JTP!G199=\"\",0,JTP!J199)","v":0},null,{"$f":"IF(JSP!B199=\"\",\"\",JSP!C199)","v":""},{"$f":"IF(JSP!B199=\"\",0,JSP!D199)","v":0},{"$f":"IF(JSP!B199=\"\",0,JSP!E199)","v":0},null,{"$f":"IF(JSP!G199=\"\",\"\",JSP!H199)","v":""},{"$f":"IF(JSP!G199=\"\",0,JSP!I199)","v":0},{"$f":"IF(JSP!G199=\"\",0,JSP!J199)","v":0},null,{"$f":"IF(CFP!B199=\"\",\"\",CFP!C199)","v":""},{"$f":"IF(CFP!B199=\"\",0,CFP!D199)","v":0},{"$f":"IF(CFP!B199=\"\",0,CFP!E199)","v":0},null,{"$f":"IF(CFP!G199=\"\",\"\",CFP!H199)","v":""},{"$f":"IF(CFP!G199=\"\",0,CFP!I199)","v":0},null,{"$f":"IF(DWP!B199=\"\",\"\",DWP!C199)","v":""},{"$f":"IF(DWP!D199=\"\",0,DWP!D199)","v":0},{"$f":"IF(DWP!D199=\"\",0,DWP!E199)","v":0},null,{"$f":"IF(DWP!G199=\"\",\"\",DWP!H199)","v":""},{"$f":"IF(DWP!I199=\"\",0,DWP!I199)","v":0},null,{"$f":"IF(ALP!B199=\"\",\"\",ALP!C199)","v":""},{"$f":"IF(ALP!D199=\"\",0,ALP!D199)","v":0},{"$f":"IF(ALP!E199=\"\",0,ALP!E199)","v":0},null,{"$f":"IF(PS!B201=\"\",\"\",PS!C201)","v":""},{"$f":"IF(PS!B201=\"\",\"\",PS!D201)","v":""},null,{"$f":"IF(PS!F201=\"\",\"\",PS!G201)","v":""},{"$f":"IF(PS!F201=\"\",\"\",PS!H201)","v":""},null,{"$f":"IF(LP!A199=\"\",\"\",LP!B199)","v":""},{"$f":"IF(LP!A199=\"\",0,LP!C199)","v":0},null,{"$f":"IF(LP!E199=\"\",\"\",LP!F199)","v":""},{"$f":"IF(LP!E199=\"\",0,LP!G199)","v":0},null,{"$f":"IF(LP!I199=\"\",\"\",LP!J199)","v":""},{"$f":"IF(LP!I199=\"\",0,LP!K199)","v":0},null,{"$f":"IF(BPBPS!B199=\"\",\"\",BPBPS!C199)","v":""},{"$f":"IF(BPBPS!B199=\"\",0,BPBPS!D199)","v":0},null,{"$f":"IF(BPBPS!F199=\"\",\"\",BPBPS!G199)","v":""},{"$f":"IF(BPBPS!H199=\"\",0,BPBPS!H199)","v":0},null,{"$f":"IF(BPBPS!J199=\"\",\"\",BPBPS!K199)","v":""},{"$f":"IF(BPBPS!J199=\"\",0,BPBPS!L199)","v":0},null,{"$f":"IF(SSGP!B199=\"\",\"\",SSGP!C199)","v":""},{"$f":"IF(SSGP!B199=\"\",0,SSGP!D199)","v":0},null,{"$f":"IF(SSGP!F199=\"\",\"\",SSGP!G199)","v":""},{"$f":"IF(SSGP!F199=\"\",0,SSGP!H199)","v":0}]
[198,{"$f":"IF(JTP!B200=\"\",\"\",JTP!C200)","v":""},{"$f":"IF(JTP!B200=\"\",0,JTP!D200)","v":0},{"$f":"IF(JTP!B200=\"\",0,JTP!E200)","v":0},null,{"$f":"IF(JTP!G200=\"\",\"\",JTP!H200)","v":""},{"$f":"IF(JTP!G200=\"\",0,JTP!I200)","v":0},{"$f":"IF(JTP!G200=\"\",0,JTP!J200)","v":0},null,{"$f":"IF(JSP!B200=\"\",\"\",JSP!C200)","v":""},{"$f":"IF(JSP!B200=\"\",0,JSP!D200)","v":0},{"$f":"IF(JSP!B200=\"\",0,JSP!E200)","v":0},null,{"$f":"IF(JSP!G200=\"\",\"\",JSP!H200)","v":""},{"$f":"IF(JSP!G200=\"\",0,JSP!I200)","v":0},{"$f":"IF(JSP!G200=\"\",0,JSP!J200)","v":0},null,{"$f":"IF(CFP!B200=\"\",\"\",CFP!C200)","v":""},{"$f":"IF(CFP!B200=\"\",0,CFP!D200)","v":0},{"$f":"IF(CFP!B200=\"\",0,CFP!E200)","v":0},null,{"$f":"IF(CFP!G200=\"\",\"\",CFP!H200)","v":""},{"$f":"IF(CFP!G200=\"\",0,CFP!I200)","v":0},null,{"$f":"IF(DWP!B200=\"\",\"\",DWP!C200)","v":""},{"$f":"IF(DWP!D200=\"\",0,DWP!D200)","v":0},{"$f":"IF(DWP!D200=\"\",0,DWP!E200)","v":0},null,{"$f":"IF(DWP!G200=\"\",\"\",DWP!H200)","v":""},{"$f":"IF(DWP!I200=\"\",0,DWP!I200)","v":0},null,{"$f":"IF(ALP!B200=\"\",\"\",ALP!C200)","v":""},{"$f":"IF(ALP!D200=\"\",0,ALP!D200)","v":0},{"$f":"IF(ALP!E200=\"\",0,ALP!E200)","v":0},null,{"$f":"IF(PS!B202=\"\",\"\",PS!C202)","v":""},{"$f":"IF(PS!B202=\"\",\"\",PS!D202)","v":""},null,{"$f":"IF(PS!F202=\"\",\"\",PS!G202)","v":""},{"$f":"IF(PS!F202=\"\",\"\",PS!H202)","v":""},null,{"$f":"IF(LP!A200=\"\",\"\",LP!B200)","v":""},{"$f":"IF(LP!A200=\"\",0,LP!C200)","v":0},null,{"$f":"IF(LP!E200=\"\",\"\",LP!F200)","v":""},{"$f":"IF(LP!E200=\"\",0,LP!G200)","v":0},null,{"$f":"IF(LP!I200=\"\",\"\",LP!J200)","v":""},{"$f":"IF(LP!I200=\"\",0,LP!K200)","v":0},null,{"$f":"IF(BPBPS!B200=\"\",\"\",BPBPS!C200)","v":""},{"$f":"IF(BPBPS!B200=\"\",0,BPBPS!D200)","v":0},null,{"$f":"IF(BPBPS!F200=\"\",\"\",BPBPS!G200)","v":""},{"$f":"IF(BPBPS!H200=\"\",0,BPBPS!H200)","v":0},null,{"$f":"IF(BPBPS!J200=\"\",\"\",BPBPS!K200)","v":""},{"$f":"IF(BPBPS!J200=\"\",0,BPBPS!L200)","v":0},null,{"$f":"IF(SSGP!B200=\"\",\"\",SSGP!C200)","v":""},{"$f":"IF(SSGP!B200=\"\",0,SSGP!D200)","v":0},null,{"$f":"IF(SSGP!F200=\"\",\"\",SSGP!G200)","v":""},{"$f":"IF(SSGP!F200=\"\",0,SSGP!H200)","v":0}]
[199,{"$f":"IF(JTP!B201=\"\",\"\",JTP!C201)","v":""},{"$f":"IF(JTP!B201=\"\",0,JTP!D201)","v":0},{"$f":"IF(JTP!B201=\"\",0,JTP!E201)","v":0},null,{"$f":"IF(JTP!G201=\"\",\"\",JTP!H201)","v":""},{"$f":"IF(JTP!G201=\"\",0,JTP!I201)","v":0},{"$f":"IF(JTP!G201=\"\",0,JTP!J201)","v":0},null,{"$f":"IF(JSP!B201=\"\",\"\",JSP!C201)","v":""},{"$f":"IF(JSP!B201=\"\",0,JSP!D201)","v":0},{"$f":"IF(JSP!B201=\"\",0,JSP!E201)","v":0},null,{"$f":"IF(JSP!G201=\"\",\"\",JSP!H201)","v":""},{"$f":"IF(JSP!G201=\"\",0,JSP!I201)","v":0},{"$f":"IF(JSP!G201=\"\",0,JSP!J201)","v":0},null,{"$f":"IF(CFP!B201=\"\",\"\",CFP!C201)","v":""},{"$f":"IF(CFP!B201=\"\",0,CFP!D201)","v":0},{"$f":"IF(CFP!B201=\"\",0,CFP!E201)","v":0},null,{"$f":"IF(CFP!G201=\"\",\"\",CFP!H201)","v":""},{"$f":"IF(CFP!G201=\"\",0,CFP!I201)","v":0},null,{"$f":"IF(DWP!B201=\"\",\"\",DWP!C201)","v":""},{"$f":"IF(DWP!D201=\"\",0,DWP!D201)","v":0},{"$f":"IF(DWP!D201=\"\",0,DWP!E201)","v":0},null,{"$f":"IF(DWP!G201=\"\",\"\",DWP!H201)","v":""},{"$f":"IF(DWP!I201=\"\",0,DWP!I201)","v":0},null,{"$f":"IF(ALP!B201=\"\",\"\",ALP!C201)","v":""},{"$f":"IF(ALP!D201=\"\",0,ALP!D201)","v":0},{"$f":"IF(ALP!E201=\"\",0,ALP!E201)","v":0},null,{"$f":"IF(PS!B203=\"\",\"\",PS!C203)","v":""},{"$f":"IF(PS!B203=\"\",\"\",PS!D203)","v":""},null,{"$f":"IF(PS!F203=\"\",\"\",PS!G203)","v":""},{"$f":"IF(PS!F203=\"\",\"\",PS!H203)","v":""},null,{"$f":"IF(LP!A201=\"\",\"\",LP!B201)","v":""},{"$f":"IF(LP!A201=\"\",0,LP!C201)","v":0},null,{"$f":"IF(LP!E201=\"\",\"\",LP!F201)","v":""},{"$f":"IF(LP!E201=\"\",0,LP!G201)","v":0},null,{"$f":"IF(LP!I201=\"\",\"\",LP!J201)","v":""},{"$f":"IF(LP!I201=\"\",0,LP!K201)","v":0},null,{"$f":"IF(BPBPS!B201=\"\",\"\",BPBPS!C201)","v":""},{"$f":"IF(BPBPS!B201=\"\",0,BPBPS!D201)","v":0},null,{"$f":"IF(BPBPS!F201=\"\",\"\",BPBPS!G201)","v":""},{"$f":"IF(BPBPS!H201=\"\",0,BPBPS!H201)","v":0},null,{"$f":"IF(BPBPS!J201=\"\",\"\",BPBPS!K201)","v":""},{"$f":"IF(BPBPS!J201=\"\",0,BPBPS!L201)","v":0},null,{"$f":"IF(SSGP!B201=\"\",\"\",SSGP!C201)","v":""},{"$f":"IF(SSGP!B201=\"\",0,SSGP!D201)","v":0},null,{"$f":"IF(SSGP!F201=\"\",\"\",SSGP!G201)","v":""},{"$f":"IF(SSGP!F201=\"\",0,SSGP!H201)","v":0}]
[200,{"$f":"IF(JTP!B202=\"\",\"\",JTP!C202)","v":""},{"$f":"IF(JTP!B202=\"\",0,JTP!D202)","v":0},{"$f":"IF(JTP!B202=\"\",0,JTP!E202)","v":0},null,{"$f":"IF(JTP!G202=\"\",\"\",JTP!H202)","v":""},{"$f":"IF(JTP!G202=\"\",0,JTP!I202)","v":0},{"$f":"IF(JTP!G202=\"\",0,JTP!J202)","v":0},null,{"$f":"IF(JSP!B202=\"\",\"\",JSP!C202)","v":""},{"$f":"IF(JSP!B202=\"\",0,JSP!D202)","v":0},{"$f":"IF(JSP!B202=\"\",0,JSP!E202)","v":0},null,{"$f":"IF(JSP!G202=\"\",\"\",JSP!H202)","v":""},{"$f":"IF(JSP!G202=\"\",0,JSP!I202)","v":0},{"$f":"IF(JSP!G202=\"\",0,JSP!J202)","v":0},null,{"$f":"IF(CFP!B202=\"\",\"\",CFP!C202)","v":""},{"$f":"IF(CFP!B202=\"\",0,CFP!D202)","v":0},{"$f":"IF(CFP!B202=\"\",0,CFP!E202)","v":0},null,{"$f":"IF(CFP!G202=\"\",\"\",CFP!H202)","v":""},{"$f":"IF(CFP!G202=\"\",0,CFP!I202)","v":0},null,{"$f":"IF(DWP!B202=\"\",\"\",DWP!C202)","v":""},{"$f":"IF(DWP!D202=\"\",0,DWP!D202)","v":0},{"$f":"IF(DWP!D202=\"\",0,DWP!E202)","v":0},null,{"$f":"IF(DWP!G202=\"\",\"\",DWP!H202)","v":""},{"$f":"IF(DWP!I202=\"\",0,DWP!I202)","v":0},null,{"$f":"IF(ALP!B202=\"\",\"\",ALP!C202)","v":""},{"$f":"IF(ALP!D202=\"\",0,ALP!D202)","v":0},{"$f":"IF(ALP!E202=\"\",0,ALP!E202)","v":0},null,{"$f":"IF(PS!B204=\"\",\"\",PS!C204)","v":""},{"$f":"IF(PS!B204=\"\",\"\",PS!D204)","v":""},null,{"$f":"IF(PS!F204=\"\",\"\",PS!G204)","v":""},{"$f":"IF(PS!F204=\"\",\"\",PS!H204)","v":""},null,{"$f":"IF(LP!A202=\"\",\"\",LP!B202)","v":""},{"$f":"IF(LP!A202=\"\",0,LP!C202)","v":0},null,{"$f":"IF(LP!E202=\"\",\"\",LP!F202)","v":""},{"$f":"IF(LP!E202=\"\",0,LP!G202)","v":0},null,{"$f":"IF(LP!I202=\"\",\"\",LP!J202)","v":""},{"$f":"IF(LP!I202=\"\",0,LP!K202)","v":0},null,{"$f":"IF(BPBPS!B202=\"\",\"\",BPBPS!C202)","v":""},{"$f":"IF(BPBPS!B202=\"\",0,BPBPS!D202)","v":0},null,{"$f":"IF(BPBPS!F202=\"\",\"\",BPBPS!G202)","v":""},{"$f":"IF(BPBPS!H202=\"\",0,BPBPS!H202)","v":0},null,{"$f":"IF(BPBPS!J202=\"\",\"\",BPBPS!K202)","v":""},{"$f":"IF(BPBPS!J202=\"\",0,BPBPS!L202)","v":0},null,{"$f":"IF(SSGP!B202=\"\",\"\",SSGP!C202)","v":""},{"$f":"IF(SSGP!B202=\"\",0,SSGP!D202)","v":0},null,{"$f":"IF(SSGP!F202=\"\",\"\",SSGP!G202)","v":""},{"$f":"IF(SSGP!F202=\"\",0,SSGP!H202)","v":0}]

{"sheet":"D","index":11,"n_rows":202,"n_cols":64,"rows_kept":202,"cut":false,"hidden":false,"merged":[[0,21,0,22],[0,28,0,29],[0,24,0,26],[0,44,0,45],[0,47,0,48],[0,31,0,33],[0,35,0,36],[0,38,0,39],[0,41,0,42],[0,62,0,63],[0,50,0,51],[0,53,0,54],[0,56,0,57],[0,59,0,60],[0,1,0,3],[0,5,0,7],[0,9,0,11],[0,13,0,15],[0,17,0,19]]}
[null,"Jubiläumspokal",null,null,null,"Trudelpokal",null,null,null,"Jugendpokal",null,null,null,"Schülerpokal",null,null,null,"Culemannpokal",null,null,null,"Freihandpokal",null,null,"Damenpokal",null,null,null,"W.Streich Pokal",null,null,"Auflagepokal",null,null,null,"Preisschießen KK",null,null,"Preisschießen LG",null,null,"Luftpistole Jugend",null,null,"Luftpistole Schützen",null,null,"Luftpistole Damen",null,null,"Bogenpokal",null,null,"Bogenpokal\n-Schüler-",null,null,"Bogenpreisschießen",null,null,"Sauenschießen",null,null,"Glückspreisschießen"]
[null,"Vor- und Nachname:","Ringe:","schlecht.\nEinzelschuss",null,"Vor- und Nachname:","Ringe:","schlecht.\nEinzelschuss",null,"Vor- und Nachname:","Ringe:","schlecht.\nEinzelschuss",null,"Vor- und Nachname:","Ringe:","schlecht.\nEinzelschuss",null,"Vor- und Nachname:","Ringe:","schlecht.\nEinzelschuss",null,"Vor- und Nachname:","Ringe:",null,"Vor- und Nachname:","Ringe:","schlecht.\nEinzelschuss",null,"Vor- und Nachname:","Ringe:",null,"Vor- und Nachname:","Ringe:","Teiler:",null,"Vor- und Nachname:","Teiler:",null,"Vor- und Nachname:","Teiler:",null,"Vor- und Nachname:","Ringe:",null,"Vor- und Nachname:","Ringe:",null,"Vor- und Nachname:","Ringe:",null,"Vor- und Nachname:","Ringe:",null,"Vor- und Nachname:","Ringe:",null,"Vor- und Nachname:","Ringe:",null,"Vor- und Nachname:","Ringe:",null,"Vor- und Nachname:","Überdeckung:"]
[1,"",0,0,null,"",0,0,null,"",0,0,null,"",0,0,null,"",0,0,null,"",0,null,"",0,0,null,"",0,null,"",0,0,null,"","",null,"","",null,"",0,null,"",0,null,"",0,null,"",0,null,"",0,null,"",0,null,"",0,null,"",0]
[2,"",0,0,null,"",0,0,null,"",0,0,null,"",0,0,null,"",0,0,null,"",0,null,"",0,0,null,"",0,null,"",0,0,null,"","",null,"","",null,"",0,null,"",0,null,"",0,null,"",0,null,"",0,null,"",0,null,"",0,null,"",0]
[3,"",0,0,null,"",0,0,null,"",0,0,null,"",0,0,null,"",0,0,null,"",0,null,"",0,0,null,"",0,null,"",0,0,null,"","",null,"","",null,"",0,null,"",0,null,"",0,null,"",0,null,"",0,null,"",0,null,"",0,null,"",0]
[4,"",0,0,null,"",0,0,null,"",0,0,null,"",0,0,null,"",0,0,null,"",0,null,"",0,0,null,"",0,null,"",0,0,null,"","",null,"","",null,"",0,null,"",0,null,"",0,null,"",0,null,"",0,null,"",0,null,"",0,null,"",0]
[5,"",0,0,null,"",0,0,null,"",0,0,null,"",0,0,null,"",0,0,null,"",0,null,"",0,0,null,"",0,null,"",0,0,null,"","",null,"","",null,"",0,null,"",0,null,"",0,null,"",0,null,"",0,null,"",0,null,"",0,null,"",0]
[6,"",0,0,null,"",0,0,null,"",0,0,null,"",0,0,null,"",0,0,null,"",0,null,"",0,0,null,"",0,null,"",0,0,null,"","",null,"","",null,"",0,null,"",0,null,"",0,null,"",0,null,"",0,null,"",0,null,"",0,null,"",0]
[7,"",0,0,null,"",0,0,null,"",0,0,null,"",0,0,null,"",0,0,null,"",0,null,"",0,0,null,"",0,null,"",0,0,null,"","",null,"","",null,"",0,null,"",0,null,"",0,null,"",0,null,"",0,null,"",0,null,"",0,null,"",0]
[8,"",0,0,null,"",0,0,null,"",0,0,null,"",0,0,null,"",0,0,null,"",0,null,"",0,0,null,"",0,null,"",0,0,null,"","",null,"","",null,"",0,null,"",0,null,"",0,null,"",0,null,"",0,null,"",0,null,"",0,null,"",0]
[9,"",0,0,null,"",0,0,null,"",0,0,null,"",0,0,null,"",0,0,null,"",0,null,"",0,0,null,"",0,null,"",0,0,null,"","",null,"","",null,"",0,null,"",0,null,"",0,null,"",0,null,"",0,null,"",0,null,"",0,null,"",0]
[10,"",0,0,null,"",0,0,null,"",0,0,null,"",0,0,null,"",0,0,null,"",0,null,"",0,0,null,"",0,null,"",0,0,null,"","",null,"","",null,"",0,null,"",0,null,"",0,null,"",0,null,"",0,null,"",0,null,"",0,null,"",0]
[11,"",0,0,null,"",0,0,null,"",0,0,null,"",0,0,null,"",0,0,null,"",0,null,"",0,0,null,"",0,null,"",0,0,null,"","",null,"","",null,"",0,null,"",0,null,"",0,null,"",0,null,"",0,null,"",0,null,"",0,null,"",0]
[12,"",0,0,null,"",0,0,null,"",0,0,null,"",0,0,null,"",0,0,null,"",0,null,"",0,0,null,"",0,null,"",0,0,null,"","",null,"","",null,"",0,null,"",0,null,"",0,null,"",0,null,"",0,null,"",0,null,"",0,null,"",0]
[13,"",0,0,null,"",0,0,null,"",0,0,null,"",0,0,null,"",0,0,null,"",0,null,"",0,0,null,"",0,null,"",0,0,null,"","",null,"","",null,"",0,null,"",0,null,"",0,null,"",0,null,"",0,null,"",0,null,"",0,null,"",0]
[14,"",0,0,null,"",0,0,null,"",0,0,null,"",0,0,null,"",0,0,null,"",0,null,"",0,0,null,"",0,null,"",0,0,null,"","",null,"","",null,"",0,null,"",0,null,"",0,null,"",0,null,"",0,null,"",0,null,"",0,null,"",0]
[15,"",0,0,null,"",0,0,null,"",0,0,null,"",0,0,null,"",0,0,null,"",0,null,"",0,0,null,"",0,null,"",0,0,null,"","",null,"","",null,"",0,null,"",0,null,"",0,null,"",0,null,"",0,null,"",0,null,"",0,null,"",0]
[16,"",0,0,null,"",0,0,null,"",0,0,null,"",0,0,null,"",0,0,null,"",0,null,"",0,0,null,"",0,null,"",0,0,null,"","",null,"","",null,"",0,null,"",0,null,"",0,null,"",0,null,"",0,null,"",0,null,"",0,null,"",0]
[17,"",0,0,null,"",0,0,null,"",0,0,null,"",0,0,null,"",0,0,null,"",0,null,"",0,0,null,"",0,null,"",0,0,null,"","",null,"","",null,"",0,null,"",0,null,"",0,null,"",0,null,"",0,null,"",0,null,"",0,null,"",0]
[18,"",0,0,null,"",0,0,null,"",0,0,null,"",0,0,null,"",0,0,null,"",0,null,"",0,0,null,"",0,null,"",0,0,null,"","",null,"","",null,"",0,null,"",0,null,"",0,null,"",0,null,"",0,null,"",0,null,"",0,null,"",0]
[19,"",0,0,null,"",0,0,null,"",0,0,null,"",0,0,null,"",0,0,null,"",0,null,"",0,0,null,"",0,null,"",0,0,null,"","",null,"","",null,"",0,null,"",0,null,"",0,null,"",0,null,"",0,null,"",0,null,"",0,null,"",0]
[20,"",0,0,null,"",0,0,null,"",0,0,null,"",0,0,null,"",0,0,null,"",0,null,"",0,0,null,"",0,null,"",0,0,null,"","",null,"","",null,"",0,null,"",0,null,"",0,null,"",0,null,"",0,null,"",0,null,"",0,null,"",0]
[21,"",0,0,null,"",0,0,null,"",0,0,null,"",0,0,null,"",0,0,null,"",0,null,"",0,0,null,"",0,null,"",0,0,null,"","",null,"","",null,"",0,null,"",0,null,"",0,null,"",0,null,"",0,null,"",0,null,"",0,null,"",0]
[22,"",0,0,null,"",0,0,null,"",0,0,null,"",0,0,null,"",0,0,null,"",0,null,"",0,0,null,"",0,null,"",0,0,null,"","",null,"","",null,"",0,null,"",0,null,"",0,null,"",0,null,"",0,null,"",0,null,"",0,null,"",0]
[23,"",0,0,null,"",0,0,null,"",0,0,null,"",0,0,null,"",0,0,null,"",0,null,"",0,0,null,"",0,null,"",0,0,null,"","",null,"","",null,"",0,null,"",0,null,"",0,null,"",0,null,"",0,null,"",0,null,"",0,null,"",0]
[24,"",0,0,null,"",0,0,null,"",0,0,null,"",0,0,null,"",0,0,null,"",0,null,"",0,0,null,"",0,null,"",0,0,null,"","",null,"","",null,"",0,null,"",0,null,"",0,null,"",0,null,"",0,null,"",0,null,"",0,null,"",0]
[25,"",0,0,null,"",0,0,null,"",0,0,null,"",0,0,null,"",0,0,null,"",0,null,"",0,0,null,"",0,null,"",0,0,null,"","",null,"","",null,"",0,null,"",0,null,"",0,null,"",0,null,"",0,null,"",0,null,"",0,null,"",0]
[26,"",0,0,null,"",0,0,null,"",0,0,null,"",0,0,null,"",0,0,null,"",0,null,"",0,0,null,"",0,null,"",0,0,null,"","",null,"","",null,"",0,null,"",0,null,"",0,null,"",0,null,"",0,null,"",0,null,"",0,null,"",0]
[27,"",0,0,null,"",0,0,null,"",0,0,null,"",0,0,null,"",0,0,null,"",0,null,"",0,0,null,"",0,null,"",0,0,null,"","",null,"","",null,"",0,null,"",0,null,"",0,null,"",0,null,"",0,null,"",0,null,"",0,null,"",0]
[28,"",0,0,null,"",0,0,null,"",0,0,null,"",0,0,null,"",0,0,null,"",0,null,"",0,0,null,"",0,null,"",0,0,null,"","",null,"","",null,"",0,null,"",0,null,"",0,null,"",0,null,"",0,null,"",0,null,"",0,null,"",0]
[29,"",0,0,null,"",0,0,null,"",0,0,null,"",0,0,null,"",0,0,null,"",0,null,"",0,0,null,"",0,null,"",0,0,null,"","",null,"","",null,"",0,null,"",0,null,"",0,null,"",0,null,"",0,null,"",0,null,"",0,null,"",0]
[30,"",0,0,null,"",0,0,null,"",0,0,null,"",0,0,null,"",0,0,null,"",0,null,"",0,0,null,"",0,null,"",0,0,null,"","",null,"","",null,"",0,null,"",0,null,"",0,null,"",0,null,"",0,null,"",0,null,"",0,null,"",0]
[31,"",0,0,null,"",0,0,null,"",0,0,null,"",0,0,null,"",0,0,null,"",0,null,"",0,0,null,"",0,null,"",0,0,null,"","",null,"","",null,"",0,null,"",0,null,"",0,null,"",0,null,"",0,null,"",0,null,"",0,null,"",0]
[32,"",0,0,null,"",0,0,null,"",0,0,null,"",0,0,null,"",0,0,null,"",0,null,"",0,0,null,"",0,null,"",0,0,null,"","",null,"","",null,"",0,null,"",0,null,"",0,null,"",0,null,"",0,null,"",0,null,"",0,null,"",0]
[33,"",0,0,null,"",0,0,null,"",0,0,null,"",0,0,null,"",0,0,null,"",0,null,"",0,0,null,"",0,null,"",0,0,null,"","",null,"","",null,"",0,null,"",0,null,"",0,null,"",0,null,"",0,null,"",0,null,"",0,null,"",0]
[34,"",0,0,null,"",0,0,null,"",0,0,null,"",0,0,null,"",0,0,null,"",0,null,"",0,0,null,"",0,null,"",0,0,null,"","",null,"","",null,"",0,null,"",0,null,"",0,null,"",0,null,"",0,null,"",0,null,"",0,null,"",0]
[35,"",0,0,null,"",0,0,null,"",0,0,null,"",0,0,null,"",0,0,null,"",0,null,"",0,0,null,"",0,null,"",0,0,null,"","",null,"","",null,"",0,null,"",0,null,"",0,null,"",0,null,"",0,null,"",0,null,"",0,null,"",0]
[36,"",0,0,null,"",0,0,null,"",0,0,null,"",0,0,null,"",0,0,null,"",0,null,"",0,0,null,"",0,null,"",0,0,null,"","",null,"","",null,"",0,null,"",0,null,"",0,null,"",0,null,"",0,null,"",0,null,"",0,null,"",0]
[37,"",0,0,null,"",0,0,null,"",0,0,null,"",0,0,null,"",0,0,null,"",0,null,"",0,0,null,"",0,null,"",0,0,null,"","",null,"","",null,"",0,null,"",0,null,"",0,null,"",0,null,"",0,null,"",0,null,"",0,null,"",0]
[38,"",0,0,null,"",0,0,null,"",0,0,null,"",0,0,null,"",0,0,null,"",0,null,"",0,0,null,"",0,null,"",0,0,null,"","",null,"","",null,"",0,null,"",0,null,"",0,null,"",0,null,"",0,null,"",0,null,"",0,null,"",0]
[39,"",0,0,null,"",0,0,null,"",0,0,null,"",0,0,null,"",0,0,null,"",0,null,"",0,0,null,"",0,null,"",0,0,null,"","",null,"","",null,"",0,null,"",0,null,"",0,null,"",0,null,"",0,null,"",0,null,"",0,null,"",0]
[40,"",0,0,null,"",0,0,null,"",0,0,null,"",0,0,null,"",0,0,null,"",0,null,"",0,0,null,"",0,null,"",0,0,null,"","",null,"","",null,"",0,null,"",0,null,"",0,null,"",0,null,"",0,null,"",0,null,"",0,null,"",0]
[41,"",0,0,null,"",0,0,null,"",0,0,null,"",0,0,null,"",0,0,null,"",0,null,"",0,0,null,"",0,null,"",0,0,null,"","",null,"","",null,"",0,null,"",0,null,"",0,null,"",0,null,"",0,null,"",0,null,"",0,null,"",0]
[42,"",0,0,null,"",0,0,null,"",0,0,null,"",0,0,null,"",0,0,null,"",0,null,"",0,0,null,"",0,null,"",0,0,null,"","",null,"","",null,"",0,null,"",0,null,"",0,null,"",0,null,"",0,null,"",0,null,"",0,null,"",0]
[43,"",0,0,null,"",0,0,null,"",0,0,null,"",0,0,null,"",0,0,null,"",0,null,"",0,0,null,"",0,null,"",0,0,null,"","",null,"","",null,"",0,null,"",0,null,"",0,null,"",0,null,"",0,null,"",0,null,"",0,null,"",0]
[44,"",0,0,null,"",0,0,null,"",0,0,null,"",0,0,null,"",0,0,null,"",0,null,"",0,0,null,"",0,null,"",0,0,null,"","",null,"","",null,"",0,null,"",0,null,"",0,null,"",0,null,"",0,null,"",0,null,"",0,null,"",0]
[45,"",0,0,null,"",0,0,null,"",0,0,null,"",0,0,null,"",0,0,null,"",0,null,"",0,0,null,"",0,null,"",0,0,null,"","",null,"","",null,"",0,null,"",0,null,"",0,null,"",0,null,"",0,null,"",0,null,"",0,null,"",0]
[46,"",0,0,null,"",0,0,null,"",0,0,null,"",0,0,null,"",0,0,null,"",0,null,"",0,0,null,"",0,null,"",0,0,null,"","",null,"","",null,"",0,null,"",0,null,"",0,null,"",0,null,"",0,null,"",0,null,"",0,null,"",0]
[47,"",0,0,null,"",0,0,null,"",0,0,null,"",0,0,null,"",0,0,null,"",0,null,"",0,0,null,"",0,null,"",0,0,null,"","",null,"","",null,"",0,null,"",0,null,"",0,null,"",0,null,"",0,null,"",0,null,"",0,null,"",0]
[48,"",0,0,null,"",0,0,null,"",0,0,null,"",0,0,null,"",0,0,null,"",0,null,"",0,0,null,"",0,null,"",0,0,null,"","",null,"","",null,"",0,null,"",0,null,"",0,null,"",0,null,"",0,null,"",0,null,"",0,null,"",0]
[49,"",0,0,null,"",0,0,null,"",0,0,null,"",0,0,null,"",0,0,null,"",0,null,"",0,0,null,"",0,null,"",0,0,null,"","",null,"","",null,"",0,null,"",0,null,"",0,null,"",0,null,"",0,null,"",0,null,"",0,null,"",0]
[50,"",0,0,null,"",0,0,null,"",0,0,null,"",0,0,null,"",0,0,null,"",0,null,"",0,0,null,"",0,null,"",0,0,null,"","",null,"","",null,"",0,null,"",0,null,"",0,null,"",0,null,"",0,null,"",0,null,"",0,null,"",0]
[51,"",0,0,null,"",0,0,null,"",0,0,null,"",0,0,null,"",0,0,null,"",0,null,"",0,0,null,"",0,null,"",0,0,null,"","",null,"","",null,"",0,null,"",0,null,"",0,null,"",0,null,"",0,null,"",0,null,"",0,null,"",0]
[52,"",0,0,null,"",0,0,null,"",0,0,null,"",0,0,null,"",0,0,null,"",0,null,"",0,0,null,"",0,null,"",0,0,null,"","",null,"","",null,"",0,null,"",0,null,"",0,null,"",0,null,"",0,null,"",0,null,"",0,null,"",0]
[53,"",0,0,null,"",0,0,null,"",0,0,null,"",0,0,null,"",0,0,null,"",0,null,"",0,0,null,"",0,null,"",0,0,null,"","",null,"","",null,"",0,null,"",0,null,"",0,null,"",0,null,"",0,null,"",0,null,"",0,null,"",0]
[54,"",0,0,null,"",0,0,null,"",0,0,null,"",0,0,null,"",0,0,null,"",0,null,"",0,0,null,"",0,null,"",0,0,null,"","",null,"","",null,"",0,null,"",0,null,"",0,null,"",0,null,"",0,null,"",0,null,"",0,null,"",0]
[55,"",0,0,null,"",0,0,null,"",0,0,null,"",0,0,null,"",0,0,null,"",0,null,"",0,0,null,"",0,null,"",0,0,null,"","",null,"","",null,"",0,null,"",0,null,"",0,null,"",0,null,"",0,null,"",0,null,"",0,null,"",0]
[56,"",0,0,null,"",0,0,null,"",0,0,null,"",0,0,null,"",0,0,null,"",0,null,"",0,0,null,"",0,null,"",0,0,null,"","",null,"","",null,"",0,null,"",0,null,"",0,null,"",0,null,"",0,null,"",0,null,"",0,null,"",0]
[57,"",0,0,null,"",0,0,null,"",0,0,null,"",0,0,null,"",0,0,null,"",0,null,"",0,0,null,"",0,null,"",0,0,null,"","",null,"","",null,"",0,null,"",0,null,"",0,null,"",0,null,"",0,null,"",0,null,"",0,null,"",0]
[58,"",0,0,null,"",0,0,null,"",0,0,null,"",0,0,null,"",0,0,null,"",0,null,"",0,0,null,"",0,null,"",0,0,null,"","",null,"","",null,"",0,null,"",0,null,"",0,null,"",0,null,"",0,null,"",0,null,"",0,null,"",0]
[59,"",0,0,null,"",0,0,null,"",0,0,null,"",0,0,null,"",0,0,null,"",0,null,"",0,0,null,"",0,null,"",0,0,null,"","",null,"","",null,"",0,null,"",0,null,"",0,null,"",0,null,"",0,null,"",0,null,"",0,null,"",0]
[60,"",0,0,null,"",0,0,null,"",0,0,null,"",0,0,null,"",0,0,null,"",0,null,"",0,0,null,"",0,null,"",0,0,null,"","",null,"","",null,"",0,null,"",0,null,"",0,null,"",0,null,"",0,null,"",0,null,"",0,null,"",0]
[61,"",0,0,null,"",0,0,null,"",0,0,null,"",0,0,null,"",0,0,null,"",0,null,"",0,0,null,"",0,null,"",0,0,null,"","",null,"","",null,"",0,null,"",0,null,"",0,null,"",0,null,"",0,null,"",0,null,"",0,null,"",0]
[62,"",0,0,null,"",0,0,null,"",0,0,null,"",0,0,null,"",0,0,null,"",0,null,"",0,0,null,"",0,null,"",0,0,null,"","",null,"","",null,"",0,null,"",0,null,"",0,null,"",0,null,"",0,null,"",0,null,"",0,null,"",0]
[63,"",0,0,null,"",0,0,null,"",0,0,null,"",0,0,null,"",0,0,null,"",0,null,"",0,0,null,"",0,null,"",0,0,null,"","",null,"","",null,"",0,null,"",0,null,"",0,null,"",0,null,"",0,null,"",0,null,"",0,null,"",0]
[64,"",0,0,null,"",0,0,null,"",0,0,null,"",0,0,null,"",0,0,null,"",0,null,"",0,0,null,"",0,null,"",0,0,null,"","",null,"","",null,"",0,null,"",0,null,"",0,null,"",0,null,"",0,null,"",0,null,"",0,null,"",0]
[65,"",0,0,null,"",0,0,null,"",0,0,null,"",0,0,null,"",0,0,null,"",0,null,"",0,0,null,"",0,null,"",0,0,null,"","",null,"","",null,"",0,null,"",0,null,"",0,null,"",0,null,"",0,null,"",0,null,"",0,null,"",0]
[66,"",0,0,null,"",0,0,null,"",0,0,null,"",0,0,null,"",0,0,null,"",0,null,"",0,0,null,"",0,null,"",0,0,null,"","",null,"","",null,"",0,null,"",0,null,"",0,null,"",0,null,"",0,null,"",0,null,"",0,null,"",0]
[67,"",0,0,null,"",0,0,null,"",0,0,null,"",0,0,null,"",0,0,null,"",0,null,"",0,0,null,"",0,null,"",0,0,null,"","",null,"","",null,"",0,null,"",0,null,"",0,null,"",0,null,"",0,null,"",0,null,"",0,null,"",0]
[68,"",0,0,null,"",0,0,null,"",0,0,null,"",0,0,null,"",0,0,null,"",0,null,"",0,0,null,"",0,null,"",0,0,null,"","",null,"","",null,"",0,null,"",0,null,"",0,null,"",0,null,"",0,null,"",0,null,"",0,null,"",0]
[69,"",0,0,null,"",0,0,null,"",0,0,null,"",0,0,null,"",0,0,null,"",0,null,"",0,0,null,"",0,null,"",0,0,null,"","",null,"","",null,"",0,null,"",0,null,"",0,null,"",0,null,"",0,null,"",0,null,"",0,null,"",0]
[70,"",0,0,null,"",0,0,null,"",0,0,null,"",0,0,null,"",0,0,null,"",0,null,"",0,0,null,"",0,null,"",0,0,null,"","",null,"","",null,"",0,null,"",0,null,"",0,null,"",0,null,"",0,null,"",0,null,"",0,null,"",0]
[71,"",0,0,null,"",0,0,null,"",0,0,null,"",0,0,null,"",0,0,null,"",0,null,"",0,0,null,"",0,null,"",0,0,null,"","",null,"","",null,"",0,null,"",0,null,"",0,null,"",0,null,"",0,null,"",0,null,"",0,null,"",0]
[72,"",0,0,null,"",0,0,null,"",0,0,null,"",0,0,null,"",0,0,null,"",0,null,"",0,0,null,"",0,null,"",0,0,null,"","",null,"","",null,"",0,null,"",0,null,"",0,null,"",0,null,"",0,null,"",0,null,"",0,null,"",0]
[73,"",0,0,null,"",0,0,null,"",0,0,null,"",0,0,null,"",0,0,null,"",0,null,"",0,0,null,"",0,null,"",0,0,null,"","",null,"","",null,"",0,null,"",0,null,"",0,null,"",0,null,"",0,null,"",0,null,"",0,null,"",0]
[74,"",0,0,null,"",0,0,null,"",0,0,null,"",0,0,null,"",0,0,null,"",0,null,"",0,0,null,"",0,null,"",0,0,null,"","",null,"","",null,"",0,null,"",0,null,"",0,null,"",0,null,"",0,null,"",0,null,"",0,null,"",0]
[75,"",0,0,null,"",0,0,null,"",0,0,null,"",0,0,null,"",0,0,null,"",0,null,"",0,0,null,"",0,null,"",0,0,null,"","",null,"","",null,"",0,null,"",0,null,"",0,null,"",0,null,"",0,null,"",0,null,"",0,null,"",0]
[76,"",0,0,null,"",0,0,null,"",0,0,null,"",0,0,null,"",0,0,null,"",0,null,"",0,0,null,"",0,null,"",0,0,null,"","",null,"","",null,"",0,null,"",0,null,"",0,null,"",0,null,"",0,null,"",0,null,"",0,null,"",0]
[77,"",0,0,null,"",0,0,null,"",0,0,null,"",0,0,null,"",0,0,null,"",0,null,"",0,0,null,"",0,null,"",0,0,null,"","",null,"","",null,"",0,null,"",0,null,"",0,null,"",0,null,"",0,null,"",0,null,"",0,null,"",0]
[78,"",0,0,null,"",0,0,null,"",0,0,null,"",0,0,null,"",0,0,null,"",0,null,"",0,0,null,"",0,null,"",0,0,null,"","",null,"","",null,"",0,null,"",0,null,"",0,null,"",0,null,"",0,null,"",0,null,"",0,null,"",0]
[79,"",0,0,null,"",0,0,null,"",0,0,null,"",0,0,null,"",0,0,null,"",0,null,"",0,0,null,"",0,null,"",0,0,null,"","",null,"","",null,"",0,null,"",0,null,"",0,null,"",0,null,"",0,null,"",0,null,"",0,null,"",0]
[80,"",0,0,null,"",0,0,null,"",0,0,null,"",0,0,null,"",0,0,null,"",0,null,"",0,0,null,"",0,null,"",0,0,null,"","",null,"","",null,"",0,null,"",0,null,"",0,null,"",0,null,"",0,null,"",0,null,"",0,null,"",0]
[81,"",0,0,null,"",0,0,null,"",0,0,null,"",0,0,null,"",0,0,null,"",0,null,"",0,0,null,"",0,null,"",0,0,null,"","",null,"","",null,"",0,null,"",0,null,"",0,null,"",0,null,"",0,null,"",0,null,"",0,null,"",0]
[82,"",0,0,null,"",0,0,null,"",0,0,null,"",0,0,null,"",0,0,null,"",0,null,"",0,0,null,"",0,null,"",0,0,null,"","",null,"","",null,"",0,null,"",0,null,"",0,null,"",0,null,"",0,null,"",0,null,"",0,null,"",0]
[83,"",0,0,null,"",0,0,null,"",0,0,null,"",0,0,null,"",0,0,null,"",0,null,"",0,0,null,"",0,null,"",0,0,null,"","",null,"","",null,"",0,null,"",0,null,"",0,null,"",0,null,"",0,null,"",0,null,"",0,null,"",0]
[84,"",0,0,null,"",0,0,null,"",0,0,null,"",0,0,null,"",0,0,null,"",0,null,"",0,0,null,"",0,null,"",0,0,null,"","",null,"","",null,"",0,null,"",0,null,"",0,null,"",0,null,"",0,null,"",0,null,"",0,null,"",0]
[85,"",0,0,null,"",0,0,null,"",0,0,null,"",0,0,null,"",0,0,null,"",0,null,"",0,0,null,"",0,null,"",0,0,null,"","",null,"","",null,"",0,null,"",0,null,"",0,null,"",0,null,"",0,null,"",0,null,"",0,null,"",0]
[86,"",0,0,null,"",0,0,null,"",0,0,null,"",0,0,null,"",0,0,null,"",0,null,"",0,0,null,"",0,null,"",0,0,null,"","",null,"","",null,"",0,null,"",0,null,"",0,null,"",0,null,"",0,null,"",0,null,"",0,null,"",0]
[87,"",0,0,null,"",0,0,null,"",0,0,null,"",0,0,null,"",0,0,null,"",0,null,"",0,0,null,"",0,null,"",0,0,null,"","",null,"","",null,"",0,null,"",0,null,"",0,null,"",0,null,"",0,null,"",0,null,"",0,null,"",0]
[88,"",0,0,null,"",0,0,null,"",0,0,null,"",0,0,null,"",0,0,null,"",0,null,"",0,0,null,"",0,null,"",0,0,null,"","",null,"","",null,"",0,null,"",0,null,"",0,null,"",0,null,"",0,null,"",0,null,"",0,null,"",0]
[89,"",0,0,null,"",0,0,null,"",0,0,null,"",0,0,null,"",0,0,null,"",0,null,"",0,0,null,"",0,null,"",0,0,null,"","",null,"","",null,"",0,null,"",0,null,"",0,null,"",0,null,"",0,null,"",0,null,"",0,null,"",0]
[90,"",0,0,null,"",0,0,null,"",0,0,null,"",0,0,null,"",0,0,null,"",0,null,"",0,0,null,"",0,null,"",0,0,null,"","",null,"","",null,"",0,null,"",0,null,"",0,null,"",0,null,"",0,null,"",0,null,"",0,null,"",0]
[91,"",0,0,null,"",0,0,null,"",0,0,null,"",0,0,null,"",0,0,null,"",0,null,"",0,0,null,"",0,null,"",0,0,null,"","",null,"","",null,"",0,null,"",0,null,"",0,null,"",0,null,"",0,null,"",0,null,"",0,null,"",0]
[92,"",0,0,null,"",0,0,null,"",0,0,null,"",0,0,null,"",0,0,null,"",0,null,"",0,0,null,"",0,null,"",0,0,null,"","",null,"","",null,"",0,null,"",0,null,"",0,null,"",0,null,"",0,null,"",0,null,"",0,null,"",0]
[93,"",0,0,null,"",0,0,null,"",0,0,null,"",0,0,null,"",0,0,null,"",0,null,"",0,0,null,"",0,null,"",0,0,null,"","",null,"","",null,"",0,null,"",0,null,"",0,null,"",0,null,"",0,null,"",0,null,"",0,null,"",0]
[94,"",0,0,null,"",0,0,null,"",0,0,null,"",0,0,null,"",0,0,null,"",0,null,"",0,0,null,"",0,null,"",0,0,null,"","",null,"","",null,"",0,null,"",0,null,"",0,null,"",0,null,"",0,null,"",0,null,"",0,null,"",0]
[95,"",0,0,null,"",0,0,null,"",0,0,null,"",0,0,null,"",0,0,null,"",0,null,"",0,0,null,"",0,null,"",0,0,null,"","",null,"","",null,"",0,null,"",0,null,"",0,null,"",0,null,"",0,null,"",0,null,"",0,null,"",0]
[96,"",0,0,null,"",0,0,null,"",0,0,null,"",0,0,null,"",0,0,null,"",0,null,"",0,0,null,"",0,null,"",0,0,null,"","",null,"","",null,"",0,null,"",0,null,"",0,null,"",0,null,"",0,null,"",0,null,"",0,null,"",0]
[97,"",0,0,null,"",0,0,null,"",0,0,null,"",0,0,null,"",0,0,null,"",0,null,"",0,0,null,"",0,null,"",0,0,null,"","",null,"","",null,"",0,null,"",0,null,"",0,null,"",0,null,"",0,null,"",0,null,"",0,null,"",0]
[98,"",0,0,null,"",0,0,null,"",0,0,null,"",0,0,null,"",0,0,null,"",0,null,"",0,0,null,"",0,null,"",0,0,null,"","",null,"","",null,"",0,null,"",0,null,"",0,null,"",0,null,"",0,null,"",0,null,"",0,null,"",0]
[99,"",0,0,null,"",0,0,null,"",0,0,null,"",0,0,null,"",0,0,null,"",0,null,"",0,0,null,"",0,null,"",0,0,null,"","",null,"","",null,"",0,null,"",0,null,"",0,null,"",0,null,"",0,null,"",0,null,"",0,null,"",0]
[100,"",0,0,null,"",0,0,null,"",0,0,null,"",0,0,null,"",0,0,null,"",0,null,"",0,0,null,"",0,null,"",0,0,null,"","",null,"","",null,"",0,null,"",0,null,"",0,null,"",0,null,"",0,null,"",0,null,"",0,null,"",0]
[101,"",0,0,null,"",0,0,null,"",0,0,null,"",0,0,null,"",0,0,null,"",0,null,"",0,0,null,"",0,null,"",0,0,null,"","",null,"","",null,"",0,null,"",0,null,"",0,null,"",0,null,"",0,null,"",0,null,"",0,null,"",0]
[102,"",0,0,null,"",0,0,null,"",0,0,null,"",0,0,null,"",0,0,null,"",0,null,"",0,0,null,"",0,null,"",0,0,null,"","",null,"","",null,"",0,null,"",0,null,"",0,null,"",0,null,"",0,null,"",0,null,"",0,null,"",0]
[103,"",0,0,null,"",0,0,null,"",0,0,null,"",0,0,null,"",0,0,null,"",0,null,"",0,0,null,"",0,null,"",0,0,null,"","",null,"","",null,"",0,null,"",0,null,"",0,null,"",0,null,"",0,null,"",0,null,"",0,null,"",0]
[104,"",0,0,null,"",0,0,null,"",0,0,null,"",0,0,null,"",0,0,null,"",0,null,"",0,0,null,"",0,null,"",0,0,null,"","",null,"","",null,"",0,null,"",0,null,"",0,null,"",0,null,"",0,null,"",0,null,"",0,null,"",0]
[105,"",0,0,null,"",0,0,null,"",0,0,null,"",0,0,null,"",0,0,null,"",0,null,"",0,0,null,"",0,null,"",0,0,null,"","",null,"","",null,"",0,null,"",0,null,"",0,null,"",0,null,"",0,null,"",0,null,"",0,null,"",0]
[106,"",0,0,null,"",0,0,null,"",0,0,null,"",0,0,null,"",0,0,null,"",0,null,"",0,0,null,"",0,null,"",0,0,null,"","",null,"","",null,"",0,null,"",0,null,"",0,null,"",0,null,"",0,null,"",0,null,"",0,null,"",0]
[107,"",0,0,null,"",0,0,null,"",0,0,null,"",0,0,null,"",0,0,null,"",0,null,"",0,0,null,"",0,null,"",0,0,null,"","",null,"","",null,"",0,null,"",0,null,"",0,null,"",0,null,"",0,null,"",0,null,"",0,null,"",0]
[108,"",0,0,null,"",0,0,null,"",0,0,null,"",0,0,null,"",0,0,null,"",0,null,"",0,0,null,"",0,null,"",0,0,null,"","",null,"","",null,"",0,null,"",0,null,"",0,null,"",0,null,"",0,null,"",0,null,"",0,null,"",0]
[109,"",0,0,null,"",0,0,null,"",0,0,null,"",0,0,null,"",0,0,null,"",0,null,"",0,0,null,"",0,null,"",0,0,null,"","",null,"","",null,"",0,null,"",0,null,"",0,null,"",0,null,"",0,null,"",0,null,"",0,null,"",0]
[110,"",0,0,null,"",0,0,null,"",0,0,null,"",0,0,null,"",0,0,null,"",0,null,"",0,0,null,"",0,null,"",0,0,null,"","",null,"","",null,"",0,null,"",0,null,"",0,null,"",0,null,"",0,null,"",0,null,"",0,null,"",0]
[111,"",0,0,null,"",0,0,null,"",0,0,null,"",0,0,null,"",0,0,null,"",0,null,"",0,0,null,"",0,null,"",0,0,null,"","",null,"","",null,"",0,null,"",0,null,"",0,null,"",0,null,"",0,null,"",0,null,"",0,null,"",0]
[112,"",0,0,null,"",0,0,null,"",0,0,null,"",0,0,null,"",0,0,null,"",0,null,"",0,0,null,"",0,null,"",0,0,null,"","",null,"","",null,"",0,null,"",0,null,"",0,null,"",0,null,"",0,null,"",0,null,"",0,null,"",0]
[113,"",0,0,null,"",0,0,null,"",0,0,null,"",0,0,null,"",0,0,null,"",0,null,"",0,0,null,"",0,null,"",0,0,null,"","",null,"","",null,"",0,null,"",0,null,"",0,null,"",0,null,"",0,null,"",0,null,"",0,null,"",0]
[114,"",0,0,null,"",0,0,null,"",0,0,null,"",0,0,null,"",0,0,null,"",0,null,"",0,0,null,"",0,null,"",0,0,null,"","",null,"","",null,"",0,null,"",0,null,"",0,null,"",0,null,"",0,null,"",0,null,"",0,null,"",0]
[115,"",0,0,null,"",0,0,null,"",0,0,null,"",0,0,null,"",0,0,null,"",0,null,"",0,0,null,"",0,null,"",0,0,null,"","",null,"","",null,"",0,null,"",0,null,"",0,null,"",0,null,"",0,null,"",0,null,"",0,null,"",0]
[116,"",0,0,null,"",0,0,null,"",0,0,null,"",0,0,null,"",0,0,null,"",0,null,"",0,0,null,"",0,null,"",0,0,null,"","",null,"","",null,"",0,null,"",0,null,"",0,null,"",0,null,"",0,null,"",0,null,"",0,null,"",0]
[117,"",0,0,null,"",0,0,null,"",0,0,null,"",0,0,null,"",0,0,null,"",0,null,"",0,0,null,"",0,null,"",0,0,null,"","",null,"","",null,"",0,null,"",0,null,"",0,null,"",0,null,"",0,null,"",0,null,"",0,null,"",0]
[118,"",0,0,null,"",0,0,null,"",0,0,null,"",0,0,null,"",0,0,null,"",0,null,"",0,0,null,"",0,null,"",0,0,null,"","",null,"","",null,"",0,null,"",0,null,"",0,null,"",0,null,"",0,null,"",0,null,"",0,null,"",0]
[119,"",0,0,null,"",0,0,null,"",0,0,null,"",0,0,null,"",0,0,null,"",0,null,"",0,0,null,"",0,null,"",0,0,null,"","",null,"","",null,"",0,null,"",0,null,"",0,null,"",0,null,"",0,null,"",0,null,"",0,null,"",0]
[120,"",0,0,null,"",0,0,null,"",0,0,null,"",0,0,null,"",0,0,null,"",0,null,"",0,0,null,"",0,null,"",0,0,null,"","",null,"","",null,"",0,null,"",0,null,"",0,null,"",0,null,"",0,null,"",0,null,"",0,null,"",0]
[121,"",0,0,null,"",0,0,null,"",0,0,null,"",0,0,null,"",0,0,null,"",0,null,"",0,0,null,"",0,null,"",0,0,null,"","",null,"","",null,"",0,null,"",0,null,"",0,null,"",0,null,"",0,null,"",0,null,"",0,null,"",0]
[122,"",0,0,null,"",0,0,null,"",0,0,null,"",0,0,null,"",0,0,null,"",0,null,"",0,0,null,"",0,null,"",0,0,null,"","",null,"","",null,"",0,null,"",0,null,"",0,null,"",0,null,"",0,null,"",0,null,"",0,null,"",0]
[123,"",0,0,null,"",0,0,null,"",0,0,null,"",0,0,null,"",0,0,null,"",0,null,"",0,0,null,"",0,null,"",0,0,null,"","",null,"","",null,"",0,null,"",0,null,"",0,null,"",0,null,"",0,null,"",0,null,"",0,null,"",0]
[124,"",0,0,null,"",0,0,null,"",0,0,null,"",0,0,null,"",0,0,null,"",0,null,"",0,0,null,"",0,null,"",0,0,null,"","",null,"","",null,"",0,null,"",0,null,"",0,null,"",0,null,"",0,null,"",0,null,"",0,null,"",0]
[125,"",0,0,null,"",0,0,null,"",0,0,null,"",0,0,null,"",0,0,null,"",0,null,"",0,0,null,"",0,null,"",0,0,null,"","",null,"","",null,"",0,null,"",0,null,"",0,null,"",0,null,"",0,null,"",0,null,"",0,null,"",0]
[126,"",0,0,null,"",0,0,null,"",0,0,null,"",0,0,null,"",0,0,null,"",0,null,"",0,0,null,"",0,null,"",0,0,null,"","",null,"","",null,"",0,null,"",0,null,"",0,null,"",0,null,"",0,null,"",0,null,"",0,null,"",0]
[127,"",0,0,null,"",0,0,null,"",0,0,null,"",0,0,null,"",0,0,null,"",0,null,"",0,0,null,"",0,null,"",0,0,null,"","",null,"","",null,"",0,null,"",0,null,"",0,null,"",0,null,"",0,null,"",0,null,"",0,null,"",0]
[128,"",0,0,null,"",0,0,null,"",0,0,null,"",0,0,null,"",0,0,null,"",0,null,"",0,0,null,"",0,null,"",0,0,null,"","",null,"","",null,"",0,null,"",0,null,"",0,null,"",0,null,"",0,null,"",0,null,"",0,null,"",0]
[129,"",0,0,null,"",0,0,null,"",0,0,null,"",0,0,null,"",0,0,null,"",0,null,"",0,0,null,"",0,null,"",0,0,null,"","",null,"","",null,"",0,null,"",0,null,"",0,null,"",0,null,"",0,null,"",0,null,"",0,null,"",0]
[130,"",0,0,null,"",0,0,null,"",0,0,null,"",0,0,null,"",0,0,null,"",0,null,"",0,0,null,"",0,null,"",0,0,null,"","",null,"","",null,"",0,null,"",0,null,"",0,null,"",0,null,"",0,null,"",0,null,"",0,null,"",0]
[131,"",0,0,null,"",0,0,null,"",0,0,null,"",0,0,null,"",0,0,null,"",0,null,"",0,0,null,"",0,null,"",0,0,null,"","",null,"","",null,"",0,null,"",0,null,"",0,null,"",0,null,"",0,null,"",0,null,"",0,null,"",0]
[132,"",0,0,null,"",0,0,null,"",0,0,null,"",0,0,null,"",0,0,null,"",0,null,"",0,0,null,"",0,null,"",0,0,null,"","",null,"","",null,"",0,null,"",0,null,"",0,null,"",0,null,"",0,null,"",0,null,"",0,null,"",0]
[133,"",0,0,null,"",0,0,null,"",0,0,null,"",0,0,null,"",0,0,null,"",0,null,"",0,0,null,"",0,null,"",0,0,null,"","",null,"","",null,"",0,null,"",0,null,"",0,null,"",0,null,"",0,null,"",0,null,"",0,null,"",0]
[134,"",0,0,null,"",0,0,null,"",0,0,null,"",0,0,null,"",0,0,null,"",0,null,"",0,0,null,"",0,null,"",0,0,null,"","",null,"","",null,"",0,null,"",0,null,"",0,null,"",0,null,"",0,null,"",0,null,"",0,null,"",0]
[135,"",0,0,null,"",0,0,null,"",0,0,null,"",0,0,null,"",0,0,null,"",0,null,"",0,0,null,"",0,null,"",0,0,null,"","",null,"","",null,"",0,null,"",0,null,"",0,null,"",0,null,"",0,null,"",0,null,"",0,null,"",0]
[136,"",0,0,null,"",0,0,null,"",0,0,null,"",0,0,null,"",0,0,null,"",0,null,"",0,0,null,"",0,null,"",0,0,null,"","",null,"","",null,"",0,null,"",0,null,"",0,null,"",0,null,"",0,null,"",0,null,"",0,null,"",0]
[137,"",0,0,null,"",0,0,null,"",0,0,null,"",0,0,null,"",0,0,null,"",0,null,"",0,0,null,"",0,null,"",0,0,null,"","",null,"","",null,"",0,null,"",0,null,"",0,null,"",0,null,"",0,null,"",0,null,"",0,null,"",0]
[138,"",0,0,null,"",0,0,null,"",0,0,null,"",0,0,null,"",0,0,null,"",0,null,"",0,0,null,"",0,null,"",0,0,null,"","",null,"","",null,"",0,null,"",0,null,"",0,null,"",0,null,"",0,null,"",0,null,"",0,null,"",0]
[139,"",0,0,null,"",0,0,null,"",0,0,null,"",0,0,null,"",0,0,null,"",0,null,"",0,0,null,"",0,null,"",0,0,null,"","",null,"","",null,"",0,null,"",0,null,"",0,null,"",0,null,"",0,null,"",0,null,"",0,null,"",0]
[140,"",0,0,null,"",0,0,null,"",0,0,null,"",0,0,null,"",0,0,null,"",0,null,"",0,0,null,"",0,null,"",0,0,null,"","",null,"","",null,"",0,null,"",0,null,"",0,null,"",0,null,"",0,null,"",0,null,"",0,null,"",0]
[141,"",0,0,null,"",0,0,null,"",0,0,null,"",0,0,null,"",0,0,null,"",0,null,"",0,0,null,"",0,null,"",0,0,null,"","",null,"","",null,"",0,null,"",0,null,"",0,null,"",0,null,"",0,null,"",0,null,"",0,null,"",0]
[142,"",0,0,null,"",0,0,null,"",0,0,null,"",0,0,null,"",0,0,null,"",0,null,"",0,0,null,"",0,null,"",0,0,null,"","",null,"","",null,"",0,null,"",0,null,"",0,null,"",0,null,"",0,null,"",0,null,"",0,null,"",0]
[143,"",0,0,null,"",0,0,null,"",0,0,null,"",0,0,null,"",0,0,null,"",0,null,"",0,0,null,"",0,null,"",0,0,null,"","",null,"","",null,"",0,null,"",0,null,"",0,null,"",0,null,"",0,null,"",0,null,"",0,null,"",0]
[144,"",0,0,null,"",0,0,null,"",0,0,null,"",0,0,null,"",0,0,null,"",0,null,"",0,0,null,"",0,null,"",0,0,null,"","",null,"","",null,"",0,null,"",0,null,"",0,null,"",0,null,"",0,null,"",0,null,"",0,null,"",0]
[145,"",0,0,null,"",0,0,null,"",0,0,null,"",0,0,null,"",0,0,null,"",0,null,"",0,0,null,"",0,null,"",0,0,null,"","",null,"","",null,"",0,null,"",0,null,"",0,null,"",0,null,"",0,null,"",0,null,"",0,null,"",0]
[146,"",0,0,null,"",0,0,null,"",0,0,null,"",0,0,null,"",0,0,null,"",0,null,"",0,0,null,"",0,null,"",0,0,null,"","",null,"","",null,"",0,null,"",0,null,"",0,null,"",0,null,"",0,null,"",0,null,"",0,null,"",0]
[147,"",0,0,null,"",0,0,null,"",0,0,null,"",0,0,null,"",0,0,null,"",0,null,"",0,0,null,"",0,null,"",0,0,null,"","",null,"","",null,"",0,null,"",0,null,"",0,null,"",0,null,"",0,null,"",0,null,"",0,null,"",0]
[148,"",0,0,null,"",0,0,null,"",0,0,null,"",0,0,null,"",0,0,null,"",0,null,"",0,0,null,"",0,null,"",0,0,null,"","",null,"","",null,"",0,null,"",0,null,"",0,null,"",0,null,"",0,null,"",0,null,"",0,null,"",0]
[149,"",0,0,null,"",0,0,null,"",0,0,null,"",0,0,null,"",0,0,null,"",0,null,"",0,0,null,"",0,null,"",0,0,null,"","",null,"","",null,"",0,null,"",0,null,"",0,null,"",0,null,"",0,null,"",0,null,"",0,null,"",0]
[150,"",0,0,null,"",0,0,null,"",0,0,null,"",0,0,null,"",0,0,null,"",0,null,"",0,0,null,"",0,null,"",0,0,null,"","",null,"","",null,"",0,null,"",0,null,"",0,null,"",0,null,"",0,null,"",0,null,"",0,null,"",0]
[151,"",0,0,null,"",0,0,null,"",0,0,null,"",0,0,null,"",0,0,null,"",0,null,"",0,0,null,"",0,null,"",0,0,null,"","",null,"","",null,"",0,null,"",0,null,"",0,null,"",0,null,"",0,null,"",0,null,"",0,null,"",0]
[152,"",0,0,null,"",0,0,null,"",0,0,null,"",0,0,null,"",0,0,null,"",0,null,"",0,0,null,"",0,null,"",0,0,null,"","",null,"","",null,"",0,null,"",0,null,"",0,null,"",0,null,"",0,null,"",0,null,"",0,null,"",0]
[153,"",0,0,null,"",0,0,null,"",0,0,null,"",0,0,null,"",0,0,null,"",0,null,"",0,0,null,"",0,null,"",0,0,null,"","",null,"","",null,"",0,null,"",0,null,"",0,null,"",0,null,"",0,null,"",0,null,"",0,null,"",0]
[154,"",0,0,null,"",0,0,null,"",0,0,null,"",0,0,null,"",0,0,null,"",0,null,"",0,0,null,"",0,null,"",0,0,null,"","",null,"","",null,"",0,null,"",0,null,"",0,null,"",0,null,"",0,null,"",0,null,"",0,null,"",0]
[155,"",0,0,null,"",0,0,null,"",0,0,null,"",0,0,null,"",0,0,null,"",0,null,"",0,0,null,"",0,null,"",0,0,null,"","",null,"","",null,"",0,null,"",0,null,"",0,null,"",0,null,"",0,null,"",0,null,"",0,null,"",0]
[156,"",0,0,null,"",0,0,null,"",0,0,null,"",0,0,null,"",0,0,null,"",0,null,"",0,0,null,"",0,null,"",0,0,null,"","",null,"","",null,"",0,null,"",0,null,"",0,null,"",0,null,"",0,null,"",0,null,"",0,null,"",0]
[157,"",0,0,null,"",0,0,null,"",0,0,null,"",0,0,null,"",0,0,null,"",0,null,"",0,0,null,"",0,null,"",0,0,null,"","",null,"","",null,"",0,null,"",0,null,"",0,null,"",0,null,"",0,null,"",0,null,"",0,null,"",0]
[158,"",0,0,null,"",0,0,null,"",0,0,null,"",0,0,null,"",0,0,null,"",0,null,"",0,0,null,"",0,null,"",0,0,null,"","",null,"","",null,"",0,null,"",0,null,"",0,null,"",0,null,"",0,null,"",0,null,"",0,null,"",0]
[159,"",0,0,null,"",0,0,null,"",0,0,null,"",0,0,null,"",0,0,null,"",0,null,"",0,0,null,"",0,null,"",0,0,null,"","",null,"","",null,"",0,null,"",0,null,"",0,null,"",0,null,"",0,null,"",0,null,"",0,null,"",0]
[160,"",0,0,null,"",0,0,null,"",0,0,null,"",0,0,null,"",0,0,null,"",0,null,"",0,0,null,"",0,null,"",0,0,null,"","",null,"","",null,"",0,null,"",0,null,"",0,null,"",0,null,"",0,null,"",0,null,"",0,null,"",0]
[161,"",0,0,null,"",0,0,null,"",0,0,null,"",0,0,null,"",0,0,null,"",0,null,"",0,0,null,"",0,null,"",0,0,null,"","",null,"","",null,"",0,null,"",0,null,"",0,null,"",0,null,"",0,null,"",0,null,"",0,null,"",0]
[162,"",0,0,null,"",0,0,null,"",0,0,null,"",0,0,null,"",0,0,null,"",0,null,"",0,0,null,"",0,null,"",0,0,null,"","",null,"","",null,"",0,null,"",0,null,"",0,null,"",0,null,"",0,null,"",0,null,"",0,null,"",0]
[163,"",0,0,null,"",0,0,null,"",0,0,null,"",0,0,null,"",0,0,null,"",0,null,"",0,0,null,"",0,null,"",0,0,null,"","",null,"","",null,"",0,null,"",0,null,"",0,null,"",0,null,"",0,null,"",0,null,"",0,null,"",0]
[164,"",0,0,null,"",0,0,null,"",0,0,null,"",0,0,null,"",0,0,null,"",0,null,"",0,0,null,"",0,null,"",0,0,null,"","",null,"","",null,"",0,null,"",0,null,"",0,null,"",0,null,"",0,null,"",0,null,"",0,null,"",0]
[165,"",0,0,null,"",0,0,null,"",0,0,null,"",0,0,null,"",0,0,null,"",0,null,"",0,0,null,"",0,null,"",0,0,null,"","",null,"","",null,"",0,null,"",0,null,"",0,null,"",0,null,"",0,null,"",0,null,"",0,null,"",0]
[166,"",0,0,null,"",0,0,null,"",0,0,null,"",0,0,null,"",0,0,null,"",0,null,"",0,0,null,"",0,null,"",0,0,null,"","",null,"","",null,"",0,null,"",0,null,"",0,null,"",0,null,"",0,null,"",0,null,"",0,null,"",0]
[167,"",0,0,null,"",0,0,null,"",0,0,null,"",0,0,null,"",0,0,null,"",0,null,"",0,0,null,"",0,null,"",0,0,null,"","",null,"","",null,"",0,null,"",0,null,"",0,null,"",0,null,"",0,null,"",0,null,"",0,null,"",0]
[168,"",0,0,null,"",0,0,null,"",0,0,null,"",0,0,null,"",0,0,null,"",0,null,"",0,0,null,"",0,null,"",0,0,null,"","",null,"","",null,"",0,null,"",0,null,"",0,null,"",0,null,"",0,null,"",0,null,"",0,null,"",0]
[169,"",0,0,null,"",0,0,null,"",0,0,null,"",0,0,null,"",0,0,null,"",0,null,"",0,0,null,"",0,null,"",0,0,null,"","",null,"","",null,"",0,null,"",0,null,"",0,null,"",0,null,"",0,null,"",0,null,"",0,null,"",0]
[170,"",0,0,null,"",0,0,null,"",0,0,null,"",0,0,null,"",0,0,null,"",0,null,"",0,0,null,"",0,null,"",0,0,null,"","",null,"","",null,"",0,null,"",0,null,"",0,null,"",0,null,"",0,null,"",0,null,"",0,null,"",0]
[171,"",0,0,null,"",0,0,null,"",0,0,null,"",0,0,null,"",0,0,null,"",0,null,"",0,0,null,"",0,null,"",0,0,null,"","",null,"","",null,"",0,null,"",0,null,"",0,null,"",0,null,"",0,null,"",0,null,"",0,null,"",0]
[172,"",0,0,null,"",0,0,null,"",0,0,null,"",0,0,null,"",0,0,null,"",0,null,"",0,0,null,"",0,null,"",0,0,null,"","",null,"","",null,"",0,null,"",0,null,"",0,null,"",0,null,"",0,null,"",0,null,"",0,null,"",0]
[173,"",0,0,null,"",0,0,null,"",0,0,null,"",0,0,null,"",0,0,null,"",0,null,"",0,0,null,"",0,null,"",0,0,null,"","",null,"","",null,"",0,null,"",0,null,"",0,null,"",0,null,"",0,null,"",0,null,"",0,null,"",0]
[174,"",0,0,null,"",0,0,null,"",0,0,null,"",0,0,null,"",0,0,null,"",0,null,"",0,0,null,"",0,null,"",0,0,null,"","",null,"","",null,"",0,null,"",0,null,"",0,null,"",0,null,"",0,null,"",0,null,"",0,null,"",0]
[175,"",0,0,null,"",0,0,null,"",0,0,null,"",0,0,null,"",0,0,null,"",0,null,"",0,0,null,"",0,null,"",0,0,null,"","",null,"","",null,"",0,null,"",0,null,"",0,null,"",0,null,"",0,null,"",0,null,"",0,null,"",0]
[176,"",0,0,null,"",0,0,null,"",0,0,null,"",0,0,null,"",0,0,null,"",0,null,"",0,0,null,"",0,null,"",0,0,null,"","",null,"","",null,"",0,null,"",0,null,"",0,null,"",0,null,"",0,null,"",0,null,"",0,null,"",0]
[177,"",0,0,null,"",0,0,null,"",0,0,null,"",0,0,null,"",0,0,null,"",0,null,"",0,0,null,"",0,null,"",0,0,null,"","",null,"","",null,"",0,null,"",0,null,"",0,null,"",0,null,"",0,null,"",0,null,"",0,null,"",0]
[178,"",0,0,null,"",0,0,null,"",0,0,null,"",0,0,null,"",0,0,null,"",0,null,"",0,0,null,"",0,null,"",0,0,null,"","",null,"","",null,"",0,null,"",0,null,"",0,null,"",0,null,"",0,null,"",0,null,"",0,null,"",0]
[179,"",0,0,null,"",0,0,null,"",0,0,null,"",0,0,null,"",0,0,null,"",0,null,"",0,0,null,"",0,null,"",0,0,null,"","",null,"","",null,"",0,null,"",0,null,"",0,null,"",0,null,"",0,null,"",0,null,"",0,null,"",0]
[180,"",0,0,null,"",0,0,null,"",0,0,null,"",0,0,null,"",0,0,null,"",0,null,"",0,0,null,"",0,null,"",0,0,null,"","",null,"","",null,"",0,null,"",0,null,"",0,null,"",0,null,"",0,null,"",0,null,"",0,null,"",0]
[181,"",0,0,null,"",0,0,null,"",0,0,null,"",0,0,null,"",0,0,null,"",0,null,"",0,0,null,"",0,null,"",0,0,null,"","",null,"","",null,"",0,null,"",0,null,"",0,null,"",0,null,"",0,null,"",0,null,"",0,null,"",0]
[182,"",0,0,null,"",0,0,null,"",0,0,null,"",0,0,null,"",0,0,null,"",0,null,"",0,0,null,"",0,null,"",0,0,null,"","",null,"","",null,"",0,null,"",0,null,"",0,null,"",0,null,"",0,null,"",0,null,"",0,null,"",0]
[183,"",0,0,null,"",0,0,null,"",0,0,null,"",0,0,null,"",0,0,null,"",0,null,"",0,0,null,"",0,null,"",0,0,null,"","",null,"","",null,"",0,null,"",0,null,"",0,null,"",0,null,"",0,null,"",0,null,"",0,null,"",0]
[184,"",0,0,null,"",0,0,null,"",0,0,null,"",0,0,null,"",0,0,null,"",0,null,"",0,0,null,"",0,null,"",0,0,null,"","",null,"","",null,"",0,null,"",0,null,"",0,null,"",0,null,"",0,null,"",0,null,"",0,null,"",0]
[185,"",0,0,null,"",0,0,null,"",0,0,null,"",0,0,null,"",0,0,null,"",0,null,"",0,0,null,"",0,null,"",0,0,null,"","",null,"","",null,"",0,null,"",0,null,"",0,null,"",0,null,"",0,null,"",0,null,"",0,null,"",0]
[186,"",0,0,null,"",0,0,null,"",0,0,null,"",0,0,null,"",0,0,null,"",0,null,"",0,0,null,"",0,null,"",0,0,null,"","",null,"","",null,"",0,null,"",0,null,"",0,null,"",0,null,"",0,null,"",0,null,"",0,null,"",0]
[187,"",0,0,null,"",0,0,null,"",0,0,null,"",0,0,null,"",0,0,null,"",0,null,"",0,0,null,"",0,null,"",0,0,null,"","",null,"","",null,"",0,null,"",0,null,"",0,null,"",0,null,"",0,null,"",0,null,"",0,null,"",0]
[188,"",0,0,null,"",0,0,null,"",0,0,null,"",0,0,null,"",0,0,null,"",0,null,"",0,0,null,"",0,null,"",0,0,null,"","",null,"","",null,"",0,null,"",0,null,"",0,null,"",0,null,"",0,null,"",0,null,"",0,null,"",0]
[189,"",0,0,null,"",0,0,null,"",0,0,null,"",0,0,null,"",0,0,null,"",0,null,"",0,0,null,"",0,null,"",0,0,null,"","",null,"","",null,"",0,null,"",0,null,"",0,null,"",0,null,"",0,null,"",0,null,"",0,null,"",0]
[190,"",0,0,null,"",0,0,null,"",0,0,null,"",0,0,null,"",0,0,null,"",0,null,"",0,0,null,"",0,null,"",0,0,null,"","",null,"","",null,"",0,null,"",0,null,"",0,null,"",0,null,"",0,null,"",0,null,"",0,null,"",0]
[191,"",0,0,null,"",0,0,null,"",0,0,null,"",0,0,null,"",0,0,null,"",0,null,"",0,0,null,"",0,null,"",0,0,null,"","",null,"","",null,"",0,null,"",0,null,"",0,null,"",0,null,"",0,null,"",0,null,"",0,null,"",0]
[192,"",0,0,null,"",0,0,null,"",0,0,null,"",0,0,null,"",0,0,null,"",0,null,"",0,0,null,"",0,null,"",0,0,null,"","",null,"","",null,"",0,null,"",0,null,"",0,null,"",0,null,"",0,null,"",0,null,"",0,null,"",0]
[193,"",0,0,null,"",0,0,null,"",0,0,null,"",0,0,null,"",0,0,null,"",0,null,"",0,0,null,"",0,null,"",0,0,null,"","",null,"","",null,"",0,null,"",0,null,"",0,null,"",0,null,"",0,null,"",0,null,"",0,null,"",0]
[194,"",0,0,null,"",0,0,null,"",0,0,null,"",0,0,null,"",0,0,null,"",0,null,"",0,0,null,"",0,null,"",0,0,null,"","",null,"","",null,"",0,null,"",0,null,"",0,null,"",0,null,"",0,null,"",0,null,"",0,null,"",0]
[195,"",0,0,null,"",0,0,null,"",0,0,null,"",0,0,null,"",0,0,null,"",0,null,"",0,0,null,"",0,null,"",0,0,null,"","",null,"","",null,"",0,null,"",0,null,"",0,null,"",0,null,"",0,null,"",0,null,"",0,null,"",0]
[196,"",0,0,null,"",0,0,null,"",0,0,null,"",0,0,null,"",0,0,null,"",0,null,"",0,0,null,"",0,null,"",0,0,null,"","",null,"","",null,"",0,null,"",0,null,"",0,null,"",0,null,"",0,null,"",0,null,"",0,null,"",0]
[197,"",0,0,null,"",0,0,null,"",0,0,null,"",0,0,null,"",0,0,null,"",0,null,"",0,0,null,"",0,null,"",0,0,null,"","",null,"","",null,"",0,null,"",0,null,"",0,null,"",0,null,"",0,null,"",0,null,"",0,null,"",0]
[198,"",0,0,null,"",0,0,null,"",0,0,null,"",0,0,null,"",0,0,null,"",0,null,"",0,0,null,"",0,null,"",0,0,null,"","",null,"","",null,"",0,null,"",0,null,"",0,null,"",0,null,"",0,null,"",0,null,"",0,null,"",0]
[199,"",0,0,null,"",0,0,null,"",0,0,null,"",0,0,null,"",0,0,null,"",0,null,"",0,0,null,"",0,null,"",0,0,null,"","",null,"","",null,"",0,null,"",0,null,"",0,null,"",0,null,"",0,null,"",0,null,"",0,null,"",0]
[200,"",0,0,null,"",0,0,null,"",0,0,null,"",0,0,null,"",0,0,null,"",0,null,"",0,0,null,"",0,null,"",0,0,null,"","",null,"","",null,"",0,null,"",0,null,"",0,null,"",0,null,"",0,null,"",0,null,"",0,null,"",0]

{"sheet":"Ergebnisse","index":12,"n_rows":30,"n_cols":7,"rows_kept":30,"cut":false,"hidden":false,"merged":[[0,1,0,4],[1,1,2,4],[17,1,17,2],[12,1,12,2],[13,1,13,2],[3,1,3,2],[4,1,4,2],[5,1,5,2],[6,1,6,2],[8,1,8,2],[7,1,7,2],[30,1,30,4],[18,1,19,4],[20,1,24,1],[25,1,29,1],[9,1,9,2],[10,1,10,2],[14,1,14,2],[15,1,15,2],[16,1,16,2],[11,1,11,2]]}
[null,{"$f":"CONCATENATE(\"Anschießen\",\" \",TEXT(TODAY(),\"JJJJ\"))","v":"Anschießen 2018"}]
[null,"Pokalschießen"]
[]
[null,{"$f":"CONCATENATE(TEXT(TODAY(),\"TTTT, TT. MMM. JJJJ\"))","v":"Dienstag, 23. Okt. 2018"},null,"Name:","Ringe:"]
[null,"Jubiläumspokal :",null,{"$f":"IF(D!B3=\"\",\"Keine Teilnahme\",D!B3)","v":"Keine Teilnahme"},{"$f":"IF(D!C3=0,\"\",D!C3)","v":""}]
[null,"Trudelpokal :",null,{"$f":"IF(D!F3=\"\",\"Keine Teilnahme\",D!F3)","v":"Keine Teilnahme"},{"$f":"IF(D!G3=0,\"\",D!G3)","v":""}]
[null,"Jugendpokal:",null,{"$f":"IF(D!J3=\"\",\"Keine Teilnahme\",D!J3)","v":"Keine Teilnahme"},{"$f":"IF(D!K3=0,\"\",D!K3)","v":""}]
[null,"Schülerpokal:",null,{"$f":"IF(D!N3=\"\",\"Keine Teilnahme\",D!N3)","v":"Keine Teilnahme"},{"$f":"IF(D!O3=0,\"\",D!O3)","v":""}]
[null,"Culemannpokal:",null,{"$f":"IF(D!R3=\"\",\"Keine Teilnahme\",D!R3)","v":"Keine Teilnahme"},{"$f":"IF(D!S3=0,\"\",D!S3)","v":""}]
[null,"Freihandpokal:",null,{"$f":"IF(D!V3=\"\",\"Keine Teilnahme\",D!V3)","v":"Keine Teilnahme"},{"$f":"IF(D!W3=0,\"\",D!W3)","v":""}]
[null,"Damenpokal:",null,{"$f":"IF(D!Y3=\"\",\"Keine Teilnahme\",D!Y3)","v":"Keine Teilnahme"},{"$f":"IF(D!Z3=0,\"\",D!Z3)","v":""}]
[null,"Wolfgang Streich Pokal:",null,{"$f":"IF(D!AC3=\"\",\"Keine Teilnahme\",D!AC3)","v":"Keine Teilnahme"},{"$f":"IF(D!AD3=0,\"\",D!AD3)","v":""}]
[null,"Auflagepokal:",null,{"$f":"IF(D!AF3=\"\",\"Keine Teilnahme\",D!AF3)","v":"Keine Teilnahme"},{"$f":"IF(D!AG3=0,\"\",D!AG3)","v":""}]
[null,"Bogenpokal:",null,{"$f":"IF(D!AY3=\"\",\"Keine Teilnahme\",D!AY3)","v":"Keine Teilnahme"},{"$f":"IF(D!AZ3=0,\"\",D!AZ3)","v":""}]
[null,"Bogenpokal (Schüler):",null,{"$f":"IF(D!BB3=\"\",\"Keine Teilnahme\",D!BB3)","v":"Keine Teilnahme"},{"$f":"IF(D!BC3=0,\"\",D!BC3)","v":""}]
[null,"Luftpistole Schützen:",null,{"$f":"IF(D!AS3=\"\",\"Keine Teilnahme\",D!AS3)","v":"Keine Teilnahme"},{"$f":"IF(D!AT3=0,\"\",D!AT3)","v":""}]
[null,"Luftpistole Damen:",null,{"$f":"IF(D!AV3=\"\",\"Keine Teilnahme\",D!AV3)","v":"Keine Teilnahme"},{"$f":"IF(D!AW3=0,\"\",D!AW3)","v":""}]
[null,"Luftpistole Jugend:",null,{"$f":"IF(D!AP3=\"\",\"Keine Teilnahme\",D!AP3)","v":"Keine Teilnahme"},{"$f":"IF(D!AQ3=0,\"\",D!AQ3)","v":""}]
[null,"Sau und Glücksschießen"]
[]
[null,"Sauenschießen :","1.",{"$f":"IF(D!BH3=\"\",\"Keine Teilnahme\",D!BH3)","v":"Keine Teilnahme"},{"$f":"IF(D!BI3=0,\"\",D!BI3)","v":""},null,"<== Preisbegrenzung mit \"x\" festlegen"]
[null,null,"2.",{"$f":"IF(D!BH4=\"\",\"\",D!BH4)","v":""},{"$f":"IF(D!BI4=0,\"\",D!BI4)","v":""},null,"<== Preisbegrenzung mit \"x\" festlegen"]
[null,null,"3.",{"$f":"IF(D!BH5=\"\",\"\",D!BH5)","v":""},{"$f":"IF(D!BI5=0,\"\",D!BI5)","v":""},null,"<== Preisbegrenzung mit \"x\" festlegen"]
[null,null,"4.",{"$f":"IF(D!BH6=\"\",\"\",D!BH6)","v":""},{"$f":"IF(D!BI6=0,\"\",D!BI6)","v":""},"x","<== Preisbegrenzung mit \"x\" festlegen"]
[null,null,"5.",{"$f":"IF(D!BH7=\"\",\"\",D!BH7)","v":""},{"$f":"IF(D!BI7=0,\"\",D!BI7)","v":""},"x","<== Preisbegrenzung mit \"x\" festlegen"]
[null,"Glückspreisschießen :","1.",{"$f":"IF(D!BK3=\"\",\"Keine Teilnahme\",D!BK3)","v":"Keine Teilnahme"},{"$f":"IF(D!BL3=0,\"\",D!BL3)","v":""},null,"<== Preisbegrenzung mit \"x\" festlegen"]
[null,null,"2.",{"$f":"IF(D!BK4=\"\",\"\",D!BK4)","v":""},{"$f":"IF(D!BL4=0,\"\",D!BL4)","v":""},null,"<== Preisbegrenzung mit \"x\" festlegen"]
[null,null,"3.",{"$f":"IF(D!BK5=\"\",\"\",D!BK5)","v":""},{"$f":"IF(D!BL5=0,\"\",D!BL5)","v":""},null,"<== Preisbegrenzung mit \"x\" festlegen"]
[null,null,"4.",{"$f":"IF(D!BK6=\"\",\"\",D!BK6)","v":""},{"$f":"IF(D!BL6=0,\"\",D!BL6)","v":""},"x","<== Preisbegrenzung mit \"x\" festlegen"]
[null,null,"5.",{"$f":"IF(D!BK7=\"\",\"\",D!BK7)","v":""},{"$f":"IF(D!BL7=0,\"\",D!BL7)","v":""},"x","<== Preisbegrenzung mit \"x\" festlegen"]

{"sheet":"Ergebnisse Preis","index":13,"n_rows":28,"n_cols":10,"rows_kept":28,"cut":false,"hidden":false,"merged":[[0,0,0,6],[1,4,1,6],[1,0,1,2]]}
[{"$f":"CONCATENATE(\"Anschießen\",\" \",TEXT(TODAY(),\"JJJJ\"))","v":"Anschießen 2018"}]
["\nPreisschießen - KK",null,null,null,"\nPreisschießen - LG",null,null,"KK","LG"]
["Platz","Name:","Teiler:",null,"Platz","Name:","Teiler:"]
[1,{"$f":"IF(D!AJ3=\"\",\"Keine Teilnahme\",D!AJ3)","v":"Keine Teilnahme"},{"$f":"IF(D!AK3=\"\",\"\",D!AK3)","v":""},null,1,{"$f":"IF(D!AM3=\"\",\"Keine Teilnahme\",D!AM3)","v":"Keine Teilnahme"},{"$f":"IF(D!AN3=\"\",\"\",D!AN3)","v":""},null,null,"<== Preisbegrenzung mit \"x\" festlegen"]
[2,{"$f":"IF(D!AJ4=\"\",\"\",D!AJ4)","v":""},{"$f":"IF(D!AK4=\"\",\"\",D!AK4)","v":""},null,2,{"$f":"IF(D!AM4=\"\",\"\",D!AM4)","v":""},{"$f":"IF(D!AN4=\"\",\"\",D!AN4)","v":""},null,null,"<== Preisbegrenzung mit \"x\" festlegen"]
[3,{"$f":"IF(D!AJ5=\"\",\"\",D!AJ5)","v":""},{"$f":"IF(D!AK5=\"\",\"\",D!AK5)","v":""},null,3,{"$f":"IF(D!AM5=\"\",\"\",D!AM5)","v":""},{"$f":"IF(D!AN5=\"\",\"\",D!AN5)","v":""},null,null,"<== Preisbegrenzung mit \"x\" festlegen"]
[4,{"$f":"IF(D!AJ6=\"\",\"\",D!AJ6)","v":""},{"$f":"IF(D!AK6=\"\",\"\",D!AK6)","v":""},null,4,{"$f":"IF(D!AM6=\"\",\"\",D!AM6)","v":""},{"$f":"IF(D!AN6=\"\",\"\",D!AN6)","v":""},null,"x","<== Preisbegrenzung mit \"x\" festlegen"]
[5,{"$f":"IF(D!AJ7=\"\",\"\",D!AJ7)","v":""},{"$f":"IF(D!AK7=\"\",\"\",D!AK7)","v":""},null,5,{"$f":"IF(D!AM7=\"\",\"\",D!AM7)","v":""},{"$f":"IF(D!AN7=\"\",\"\",D!AN7)","v":""},null,"x","<== Preisbegrenzung mit \"x\" festlegen"]
[6,{"$f":"IF(D!AJ8=\"\",\"\",D!AJ8)","v":""},{"$f":"IF(D!AK8=\"\",\"\",D!AK8)","v":""},null,6,{"$f":"IF(D!AM8=\"\",\"\",D!AM8)","v":""},{"$f":"IF(D!AN8=\"\",\"\",D!AN8)","v":""},null,"x","<== Preisbegrenzung mit \"x\" festlegen"]
[7,{"$f":"IF(D!AJ9=\"\",\"\",D!AJ9)","v":""},{"$f":"IF(D!AK9=\"\",\"\",D!AK9)","v":""},null,7,{"$f":"IF(D!AM9=\"\",\"\",D!AM9)","v":""},{"$f":"IF(D!AN9=\"\",\"\",D!AN9)","v":""},null,"x","<== Preisbegrenzung mit \"x\" festlegen"]
[8,{"$f":"IF(D!AJ10=\"\",\"\",D!AJ10)","v":""},{"$f":"IF(D!AK10=\"\",\"\",D!AK10)","v":""},null,8,{"$f":"IF(D!AM10=\"\",\"\",D!AM10)","v":""},{"$f":"IF(D!AN10=\"\",\"\",D!AN10)","v":""},null,"x","<== Preisbegrenzung mit \"x\" festlegen"]
[9,{"$f":"IF(D!AJ11=\"\",\"\",D!AJ11)","v":""},{"$f":"IF(D!AK11=\"\",\"\",D!AK11)","v":""},null,9,{"$f":"IF(D!AM11=\"\",\"\",D!AM11)","v":""},{"$f":"IF(D!AN11=\"\",\"\",D!AN11)","v":""},null,"x","<== Preisbegrenzung mit \"x\" festlegen"]
[10,{"$f":"IF(D!AJ12=\"\",\"\",D!AJ12)","v":""},{"$f":"IF(D!AK12=\"\",\"\",D!AK12)","v":""},null,10,{"$f":"IF(D!AM12=\"\",\"\",D!AM12)","v":""},{"$f":"IF(D!AN12=\"\",\"\",D!AN12)","v":""},null,"x","<== Preisbegrenzung mit \"x\" festlegen"]
[11,{"$f":"IF(D!AJ13=\"\",\"\",D!AJ13)","v":""},{"$f":"IF(D!AK13=\"\",\"\",D!AK13)","v":""},null,11,{"$f":"IF(D!AM13=\"\",\"\",D!AM13)","v":""},{"$f":"IF(D!AN13=\"\",\"\",D!AN13)","v":""},null,"x","<== Preisbegrenzung mit \"x\" festlegen"]
[12,{"$f":"IF(D!AJ14=\"\",\"\",D!AJ14)","v":""},{"$f":"IF(D!AK14=\"\",\"\",D!AK14)","v":""},null,12,{"$f":"IF(D!AM14=\"\",\"\",D!AM14)","v":""},{"$f":"IF(D!AN14=\"\",\"\",D!AN14)","v":""},null,"x","<== Preisbegrenzung mit \"x\" festlegen"]
[13,{"$f":"IF(D!AJ15=\"\",\"\",D!AJ15)","v":""},{"$f":"IF(D!AK15=\"\",\"\",D!AK15)","v":""},null,13,{"$f":"IF(D!AM15=\"\",\"\",D!AM15)","v":""},{"$f":"IF(D!AN15=\"\",\"\",D!AN15)","v":""},null,"x","<== Preisbegrenzung mit \"x\" festlegen"]
[14,{"$f":"IF(D!AJ16=\"\",\"\",D!AJ16)","v":""},{"$f":"IF(D!AK16=\"\",\"\",D!AK16)","v":""},null,14,{"$f":"IF(D!AM16=\"\",\"\",D!AM16)","v":""},{"$f":"IF(D!AN16=\"\",\"\",D!AN16)","v":""},null,"x","<== Preisbegrenzung mit \"x\" festlegen"]
[15,{"$f":"IF(D!AJ17=\"\",\"\",D!AJ17)","v":""},{"$f":"IF(D!AK17=\"\",\"\",D!AK17)","v":""},null,15,{"$f":"IF(D!AM17=\"\",\"\",D!AM17)","v":""},{"$f":"IF(D!AN17=\"\",\"\",D!AN17)","v":""},"x","x","<== Preisbegrenzung mit \"x\" festlegen"]
[16,{"$f":"IF(D!AJ18=\"\",\"\",D!AJ18)","v":""},{"$f":"IF(D!AK18=\"\",\"\",D!AK18)","v":""},null,16,{"$f":"IF(D!AM18=\"\",\"\",D!AM18)","v":""},{"$f":"IF(D!AN18=\"\",\"\",D!AN18)","v":""},"x","x","<== Preisbegrenzung mit \"x\" festlegen"]
[17,{"$f":"IF(D!AJ19=\"\",\"\",D!AJ19)","v":""},{"$f":"IF(D!AK19=\"\",\"\",D!AK19)","v":""},null,17,{"$f":"IF(D!AM19=\"\",\"\",D!AM19)","v":""},{"$f":"IF(D!AN19=\"\",\"\",D!AN19)","v":""},"x","x","<== Preisbegrenzung mit \"x\" festlegen"]
[18,{"$f":"IF(D!AJ20=\"\",\"\",D!AJ20)","v":""},{"$f":"IF(D!AK20=\"\",\"\",D!AK20)","v":""},null,18,{"$f":"IF(D!AM20=\"\",\"\",D!AM20)","v":""},{"$f":"IF(D!AN20=\"\",\"\",D!AN20)","v":""},"x","x","<== Preisbegrenzung mit \"x\" festlegen"]
[19,{"$f":"IF(D!AJ21=\"\",\"\",D!AJ21)","v":""},{"$f":"IF(D!AK21=\"\",\"\",D!AK21)","v":""},null,19,{"$f":"IF(D!AM21=\"\",\"\",D!AM21)","v":""},{"$f":"IF(D!AN21=\"\",\"\",D!AN21)","v":""},"x","x","<== Preisbegrenzung mit \"x\" festlegen"]
[20,{"$f":"IF(D!AJ22=\"\",\"\",D!AJ22)","v":""},{"$f":"IF(D!AK22=\"\",\"\",D!AK22)","v":""},null,20,{"$f":"IF(D!AM22=\"\",\"\",D!AM22)","v":""},{"$f":"IF(D!AN22=\"\",\"\",D!AN22)","v":""},"x","x","<== Preisbegrenzung mit \"x\" festlegen"]
[21,{"$f":"IF(D!AJ23=\"\",\"\",D!AJ23)","v":""},{"$f":"IF(D!AK23=\"\",\"\",D!AK23)","v":""},null,21,{"$f":"IF(D!AM23=\"\",\"\",D!AM23)","v":""},{"$f":"IF(D!AN23=\"\",\"\",D!AN23)","v":""},"x","x","<== Preisbegrenzung mit \"x\" festlegen"]
[22,{"$f":"IF(D!AJ24=\"\",\"\",D!AJ24)","v":""},{"$f":"IF(D!AK24=\"\",\"\",D!AK24)","v":""},null,22,{"$f":"IF(D!AM24=\"\",\"\",D!AM24)","v":""},{"$f":"IF(D!AN24=\"\",\"\",D!AN24)","v":""},"x","x","<== Preisbegrenzung mit \"x\" festlegen"]
[23,{"$f":"IF(D!AJ25=\"\",\"\",D!AJ25)","v":""},{"$f":"IF(D!AK25=\"\",\"\",D!AK25)","v":""},null,23,{"$f":"IF(D!AM25=\"\",\"\",D!AM25)","v":""},{"$f":"IF(D!AN25=\"\",\"\",D!AN25)","v":""},"x","x","<== Preisbegrenzung mit \"x\" festlegen"]
[24,{"$f":"IF(D!AJ26=\"\",\"\",D!AJ26)","v":""},{"$f":"IF(D!AK26=\"\",\"\",D!AK26)","v":""},null,24,{"$f":"IF(D!AM26=\"\",\"\",D!AM26)","v":""},{"$f":"IF(D!AN26=\"\",\"\",D!AN26)","v":""},"x","x","<== Preisbegrenzung mit \"x\" festlegen"]
[25,{"$f":"IF(D!AJ27=\"\",\"\",D!AJ27)","v":""},{"$f":"IF(D!AK27=\"\",\"\",D!AK27)","v":""},null,25,{"$f":"IF(D!AM27=\"\",\"\",D!AM27)","v":""},{"$f":"IF(D!AN27=\"\",\"\",D!AN27)","v":""},"x","x","<== Preisbegrenzung mit \"x\" festlegen"]

{"sheet":"Schnüre","index":14,"n_rows":45,"n_cols":14,"rows_kept":45,"cut":false,"hidden":false,"merged":[[0,0,0,14],[1,0,1,3],[23,0,23,3],[1,5,1,8],[23,5,23,8],[1,10,1,13],[23,10,23,13]]}
["Schnüre und Eicheln"]
["Jubiläumspokal (KK)  (ab 21 Jahre)",null,null,null,null,"Trudelpokal (KK)  (Damen ab 21 Jahre)",null,null,null,null,"Jugendpokal (LG)  (15 bis 20 Jahre)"]
["Vor- und Nachname:","Ringe:","schlechtester\nEinzelschuss","Würde bekommen:",null,"Vor- und Nachname:","Ringe:","schlechtester\nEinzelschuss","Würde bekommen:",null,"Vor- und Nachname:","Ringe:","schlechtester\nEinzelschuss","Würde bekommen:"]
[{"$f":"IF(JTP!B3=\"\",\"Keine Teilnahme\",JTP!C3)","v":"Keine Teilnahme"},{"$f":"IF(JTP!B3=\"\",\"\",JTP!D3)","v":""},{"$f":"IF(JTP!B3=\"\",\"\",JTP!E3)","v":""},{"$f":"IF(AND(B4=\"\",C4=\"\"),\"\",IF(AND(B4>=97,C4>=9),\"Halsbandorden\",IF(AND(B4>=95,C4>=9),\"Plakette\",IF(AND(B4>=93,C4>=8),\"2. Goldene Eichel\",IF(AND(B4>=91,C4>=8),\"1. Goldene Eichel\",IF(AND(B4>=89,C4>=8),\"Goldene Schnur\",IF(AND(B4>=87,C4>=7),\"2. Silberne Eichel\",IF(AND(B4>=84,C4>=7),\"1. Silberne Eichel\",IF(AND(B4>=81,C4>=7),\"Silberne Schnur\",IF(AND(B4>=78,C4>=6),\"2. Grüne Eichel\",IF(AND(B4>=75,C4>=6),\"1. Grüne Eichel\",IF(AND(B4>=72,C4>=6),\"Grüne Schnur\",\"gibt NIX :-(\"))))))))))))","v":""},null,{"$f":"IF(JTP!G3=\"\",\"Keine Teilnahme\",JTP!H3)","v":"Keine Teilnahme"},{"$f":"IF(JTP!G3=\"\",\"\",JTP!I3)","v":""},{"$f":"IF(JTP!G3=\"\",\"\",JTP!J3)","v":""},{"$f":"IF(AND(G4=\"\",H4=\"\"),\"\",IF(AND(G4>=97,H4>=9),\"Halsbandorden\",IF(AND(G4>=95,H4>=9),\"Plakette\",IF(AND(G4>=93,H4>=8),\"2. Goldene Eichel\",IF(AND(G4>=91,H4>=8),\"1. Goldene Eichel\",IF(AND(G4>=89,H4>=8),\"Goldene Schnur\",IF(AND(G4>=87,H4>=7),\"2. Silberne Eichel\",IF(AND(G4>=84,H4>=7),\"1. Silberne Eichel\",IF(AND(G4>=81,H4>=7),\"Silberne Schnur\",IF(AND(G4>=78,H4>=6),\"2. Grüne Eichel\",IF(AND(G4>=75,H4>=6),\"1. Grüne Eichel\",IF(AND(G4>=72,H4>=6),\"Grüne Schnur\",\"gibt NIX :-(\"))))))))))))","v":""},null,{"$f":"IF(JSP!B3=\"\",\"Keine Teilnahme\",JSP!C3)","v":"Keine Teilnahme"},{"$f":"IF(JSP!B3=\"\",\"\",JSP!D3)","v":""},{"$f":"IF(JSP!B3=\"\",\"\",JSP!E3)","v":""},{"$f":"IF(L4=\"\",\"\",IF(L4>=88,\"Halsbandorden\",IF(L4>=85,\"Plakette\",IF(L4>=82,\"2. Goldene Eichel\",IF(L4>=81,\"1. Goldene Eichel\",IF(L4>=80,\"Goldene Schnur\",IF(L4>=75,\"2. Silberne Eichel\",IF(L4>=73,\"1. Silberne Eichel\",IF(L4>=71,\"Silberne Schnur\",IF(L4>=68,\"2. Grüne Eichel\",IF(L4>=65,\"1. Grüne Eichel\",IF(L4>=63,\"Grüne Schnur\",\"gibt NIX :-(\"))))))))))))","v":""}]
[{"$f":"IF(JTP!B4=\"\",\"\",JTP!C4)","v":""},{"$f":"IF(JTP!B4=\"\",\"\",JTP!D4)","v":""},{"$f":"IF(JTP!B4=\"\",\"\",JTP!E4)","v":""},{"$f":"IF(AND(B5=\"\",C5=\"\"),\"\",IF(AND(B5>=97,C5>=9),\"Halsbandorden\",IF(AND(B5>=95,C5>=9),\"Plakette\",IF(AND(B5>=93,C5>=8),\"2. Goldene Eichel\",IF(AND(B5>=91,C5>=8),\"1. Goldene Eichel\",IF(AND(B5>=89,C5>=8),\"Goldene Schnur\",IF(AND(B5>=87,C5>=7),\"2. Silberne Eichel\",IF(AND(B5>=84,C5>=7),\"1. Silberne Eichel\",IF(AND(B5>=81,C5>=7),\"Silberne Schnur\",IF(AND(B5>=78,C5>=6),\"2. Grüne Eichel\",IF(AND(B5>=75,C5>=6),\"1. Grüne Eichel\",IF(AND(B5>=72,C5>=6),\"Grüne Schnur\",\"gibt NIX :-(\"))))))))))))","v":""},null,{"$f":"IF(JTP!G4=\"\",\"\",JTP!H4)","v":""},{"$f":"IF(JTP!G4=\"\",\"\",JTP!I4)","v":""},{"$f":"IF(JTP!G4=\"\",\"\",JTP!J4)","v":""},{"$f":"IF(AND(G5=\"\",H5=\"\"),\"\",IF(AND(G5>=97,H5>=9),\"Halsbandorden\",IF(AND(G5>=95,H5>=9),\"Plakette\",IF(AND(G5>=93,H5>=8),\"2. Goldene Eichel\",IF(AND(G5>=91,H5>=8),\"1. Goldene Eichel\",IF(AND(G5>=89,H5>=8),\"Goldene Schnur\",IF(AND(G5>=87,H5>=7),\"2. Silberne Eichel\",IF(AND(G5>=84,H5>=7),\"1. Silberne Eichel\",IF(AND(G5>=81,H5>=7),\"Silberne Schnur\",IF(AND(G5>=78,H5>=6),\"2. Grüne Eichel\",IF(AND(G5>=75,H5>=6),\"1. Grüne Eichel\",IF(AND(G5>=72,H5>=6),\"Grüne Schnur\",\"gibt NIX :-(\"))))))))))))","v":""},null,{"$f":"IF(JSP!B4=\"\",\"\",JSP!C4)","v":""},{"$f":"IF(JSP!B4=\"\",\"\",JSP!D4)","v":""},{"$f":"IF(JSP!B4=\"\",\"\",JSP!E4)","v":""},{"$f":"IF(L5=\"\",\"\",IF(L5>=88,\"Halsbandorden\",IF(L5>=85,\"Plakette\",IF(L5>=82,\"2. Goldene Eichel\",IF(L5>=81,\"1. Goldene Eichel\",IF(L5>=80,\"Goldene Schnur\",IF(L5>=75,\"2. Silberne Eichel\",IF(L5>=73,\"1. Silberne Eichel\",IF(L5>=71,\"Silberne Schnur\",IF(L5>=68,\"2. Grüne Eichel\",IF(L5>=65,\"1. Grüne Eichel\",IF(L5>=63,\"Grüne Schnur\",\"gibt NIX :-(\"))))))))))))","v":""}]
[{"$f":"IF(JTP!B5=\"\",\"\",JTP!C5)","v":""},{"$f":"IF(JTP!B5=\"\",\"\",JTP!D5)","v":""},{"$f":"IF(JTP!B5=\"\",\"\",JTP!E5)","v":""},"",null,{"$f":"IF(JTP!G5=\"\",\"\",JTP!H5)","v":""},{"$f":"IF(JTP!G5=\"\",\"\",JTP!I5)","v":""},{"$f":"IF(JTP!G5=\"\",\"\",JTP!J5)","v":""},"",null,{"$f":"IF(JSP!B5=\"\",\"\",JSP!C5)","v":""},{"$f":"IF(JSP!B5=\"\",\"\",JSP!D5)","v":""},{"$f":"IF(JSP!B5=\"\",\"\",JSP!E5)","v":""},""]
[{"$f":"IF(JTP!B6=\"\",\"\",JTP!C6)","v":""},{"$f":"IF(JTP!B6=\"\",\"\",JTP!D6)","v":""},{"$f":"IF(JTP!B6=\"\",\"\",JTP!E6)","v":""},"",null,{"$f":"IF(JTP!G6=\"\",\"\",JTP!H6)","v":""},{"$f":"IF(JTP!G6=\"\",\"\",JTP!I6)","v":""},{"$f":"IF(JTP!G6=\"\",\"\",JTP!J6)","v":""},"",null,{"$f":"IF(JSP!B6=\"\",\"\",JSP!C6)","v":""},{"$f":"IF(JSP!B6=\"\",\"\",JSP!D6)","v":""},{"$f":"IF(JSP!B6=\"\",\"\",JSP!E6)","v":""},""]
[{"$f":"IF(JTP!B7=\"\",\"\",JTP!C7)","v":""},{"$f":"IF(JTP!B7=\"\",\"\",JTP!D7)","v":""},{"$f":"IF(JTP!B7=\"\",\"\",JTP!E7)","v":""},"",null,{"$f":"IF(JTP!G7=\"\",\"\",JTP!H7)","v":""},{"$f":"IF(JTP!G7=\"\",\"\",JTP!I7)","v":""},{"$f":"IF(JTP!G7=\"\",\"\",JTP!J7)","v":""},"",null,{"$f":"IF(JSP!B7=\"\",\"\",JSP!C7)","v":""},{"$f":"IF(JSP!B7=\"\",\"\",JSP!D7)","v":""},{"$f":"IF(JSP!B7=\"\",\"\",JSP!E7)","v":""},""]
[{"$f":"IF(JTP!B8=\"\",\"\",JTP!C8)","v":""},{"$f":"IF(JTP!B8=\"\",\"\",JTP!D8)","v":""},{"$f":"IF(JTP!B8=\"\",\"\",JTP!E8)","v":""},"",null,{"$f":"IF(JTP!G8=\"\",\"\",JTP!H8)","v":""},{"$f":"IF(JTP!G8=\"\",\"\",JTP!I8)","v":""},{"$f":"IF(JTP!G8=\"\",\"\",JTP!J8)","v":""},"",null,{"$f":"IF(JSP!B8=\"\",\"\",JSP!C8)","v":""},{"$f":"IF(JSP!B8=\"\",\"\",JSP!D8)","v":""},{"$f":"IF(JSP!B8=\"\",\"\",JSP!E8)","v":""},""]
[{"$f":"IF(JTP!B9=\"\",\"\",JTP!C9)","v":""},{"$f":"IF(JTP!B9=\"\",\"\",JTP!D9)","v":""},{"$f":"IF(JTP!B9=\"\",\"\",JTP!E9)","v":""},"",null,{"$f":"IF(JTP!G9=\"\",\"\",JTP!H9)","v":""},{"$f":"IF(JTP!G9=\"\",\"\",JTP!I9)","v":""},{"$f":"IF(JTP!G9=\"\",\"\",JTP!J9)","v":""},"",null,{"$f":"IF(JSP!B9=\"\",\"\",JSP!C9)","v":""},{"$f":"IF(JSP!B9=\"\",\"\",JSP!D9)","v":""},{"$f":"IF(JSP!B9=\"\",\"\",JSP!E9)","v":""},""]
[{"$f":"IF(JTP!B10=\"\",\"\",JTP!C10)","v":""},{"$f":"IF(JTP!B10=\"\",\"\",JTP!D10)","v":""},{"$f":"IF(JTP!B10=\"\",\"\",JTP!E10)","v":""},"",null,{"$f":"IF(JTP!G10=\"\",\"\",JTP!H10)","v":""},{"$f":"IF(JTP!G10=\"\",\"\",JTP!I10)","v":""},{"$f":"IF(JTP!G10=\"\",\"\",JTP!J10)","v":""},"",null,{"$f":"IF(JSP!B10=\"\",\"\",JSP!C10)","v":""},{"$f":"IF(JSP!B10=\"\",\"\",JSP!D10)","v":""},{"$f":"IF(JSP!B10=\"\",\"\",JSP!E10)","v":""},""]
[{"$f":"IF(JTP!B11=\"\",\"\",JTP!C11)","v":""},{"$f":"IF(JTP!B11=\"\",\"\",JTP!D11)","v":""},{"$f":"IF(JTP!B11=\"\",\"\",JTP!E11)","v":""},"",null,{"$f":"IF(JTP!G11=\"\",\"\",JTP!H11)","v":""},{"$f":"IF(JTP!G11=\"\",\"\",JTP!I11)","v":""},{"$f":"IF(JTP!G11=\"\",\"\",JTP!J11)","v":""},"",null,{"$f":"IF(JSP!B11=\"\",\"\",JSP!C11)","v":""},{"$f":"IF(JSP!B11=\"\",\"\",JSP!D11)","v":""},{"$f":"IF(JSP!B11=\"\",\"\",JSP!E11)","v":""},""]
[{"$f":"IF(JTP!B12=\"\",\"\",JTP!C12)","v":""},{"$f":"IF(JTP!B12=\"\",\"\",JTP!D12)","v":""},{"$f":"IF(JTP!B12=\"\",\"\",JTP!E12)","v":""},"",null,{"$f":"IF(JTP!G12=\"\",\"\",JTP!H12)","v":""},{"$f":"IF(JTP!G12=\"\",\"\",JTP!I12)","v":""},{"$f":"IF(JTP!G12=\"\",\"\",JTP!J12)","v":""},"",null,{"$f":"IF(JSP!B12=\"\",\"\",JSP!C12)","v":""},{"$f":"IF(JSP!B12=\"\",\"\",JSP!D12)","v":""},{"$f":"IF(JSP!B12=\"\",\"\",JSP!E12)","v":""},""]
[{"$f":"IF(JTP!B13=\"\",\"\",JTP!C13)","v":""},{"$f":"IF(JTP!B13=\"\",\"\",JTP!D13)","v":""},{"$f":"IF(JTP!B13=\"\",\"\",JTP!E13)","v":""},"",null,{"$f":"IF(JTP!G13=\"\",\"\",JTP!H13)","v":""},{"$f":"IF(JTP!G13=\"\",\"\",JTP!I13)","v":""},{"$f":"IF(JTP!G13=\"\",\"\",JTP!J13)","v":""},"",null,{"$f":"IF(JSP!B13=\"\",\"\",JSP!C13)","v":""},{"$f":"IF(JSP!B13=\"\",\"\",JSP!D13)","v":""},{"$f":"IF(JSP!B13=\"\",\"\",JSP!E13)","v":""},""]
[{"$f":"IF(JTP!B14=\"\",\"\",JTP!C14)","v":""},{"$f":"IF(JTP!B14=\"\",\"\",JTP!D14)","v":""},{"$f":"IF(JTP!B14=\"\",\"\",JTP!E14)","v":""},"",null,{"$f":"IF(JTP!G14=\"\",\"\",JTP!H14)","v":""},{"$f":"IF(JTP!G14=\"\",\"\",JTP!I14)","v":""},{"$f":"IF(JTP!G14=\"\",\"\",JTP!J14)","v":""},"",null,{"$f":"IF(JSP!B14=\"\",\"\",JSP!C14)","v":""},{"$f":"IF(JSP!B14=\"\",\"\",JSP!D14)","v":""},{"$f":"IF(JSP!B14=\"\",\"\",JSP!E14)","v":""},""]
[{"$f":"IF(JTP!B15=\"\",\"\",JTP!C15)","v":""},{"$f":"IF(JTP!B15=\"\",\"\",JTP!D15)","v":""},{"$f":"IF(JTP!B15=\"\",\"\",JTP!E15)","v":""},"",null,{"$f":"IF(JTP!G15=\"\",\"\",JTP!H15)","v":""},{"$f":"IF(JTP!G15=\"\",\"\",JTP!I15)","v":""},{"$f":"IF(JTP!G15=\"\",\"\",JTP!J15)","v":""},"",null,{"$f":"IF(JSP!B15=\"\",\"\",JSP!C15)","v":""},{"$f":"IF(JSP!B15=\"\",\"\",JSP!D15)","v":""},{"$f":"IF(JSP!B15=\"\",\"\",JSP!E15)","v":""},""]
[{"$f":"IF(JTP!B16=\"\",\"\",JTP!C16)","v":""},{"$f":"IF(JTP!B16=\"\",\"\",JTP!D16)","v":""},{"$f":"IF(JTP!B16=\"\",\"\",JTP!E16)","v":""},"",null,{"$f":"IF(JTP!G16=\"\",\"\",JTP!H16)","v":""},{"$f":"IF(JTP!G16=\"\",\"\",JTP!I16)","v":""},{"$f":"IF(JTP!G16=\"\",\"\",JTP!J16)","v":""},"",null,{"$f":"IF(JSP!B16=\"\",\"\",JSP!C16)","v":""},{"$f":"IF(JSP!B16=\"\",\"\",JSP!D16)","v":""},{"$f":"IF(JSP!B16=\"\",\"\",JSP!E16)","v":""},""]
[{"$f":"IF(JTP!B17=\"\",\"\",JTP!C17)","v":""},{"$f":"IF(JTP!B17=\"\",\"\",JTP!D17)","v":""},{"$f":"IF(JTP!B17=\"\",\"\",JTP!E17)","v":""},"",null,{"$f":"IF(JTP!G17=\"\",\"\",JTP!H17)","v":""},{"$f":"IF(JTP!G17=\"\",\"\",JTP!I17)","v":""},{"$f":"IF(JTP!G17=\"\",\"\",JTP!J17)","v":""},"",null,{"$f":"IF(JSP!B17=\"\",\"\",JSP!C17)","v":""},{"$f":"IF(JSP!B17=\"\",\"\",JSP!D17)","v":""},{"$f":"IF(JSP!B17=\"\",\"\",JSP!E17)","v":""},""]
[{"$f":"IF(JTP!B18=\"\",\"\",JTP!C18)","v":""},{"$f":"IF(JTP!B18=\"\",\"\",JTP!D18)","v":""},{"$f":"IF(JTP!B18=\"\",\"\",JTP!E18)","v":""},"",null,{"$f":"IF(JTP!G18=\"\",\"\",JTP!H18)","v":""},{"$f":"IF(JTP!G18=\"\",\"\",JTP!I18)","v":""},{"$f":"IF(JTP!G18=\"\",\"\",JTP!J18)","v":""},"",null,{"$f":"IF(JSP!B18=\"\",\"\",JSP!C18)","v":""},{"$f":"IF(JSP!B18=\"\",\"\",JSP!D18)","v":""},{"$f":"IF(JSP!B18=\"\",\"\",JSP!E18)","v":""},""]
[{"$f":"IF(JTP!B19=\"\",\"\",JTP!C19)","v":""},{"$f":"IF(JTP!B19=\"\",\"\",JTP!D19)","v":""},{"$f":"IF(JTP!B19=\"\",\"\",JTP!E19)","v":""},"",null,{"$f":"IF(JTP!G19=\"\",\"\",JTP!H19)","v":""},{"$f":"IF(JTP!G19=\"\",\"\",JTP!I19)","v":""},{"$f":"IF(JTP!G19=\"\",\"\",JTP!J19)","v":""},"",null,{"$f":"IF(JSP!B19=\"\",\"\",JSP!C19)","v":""},{"$f":"IF(JSP!B19=\"\",\"\",JSP!D19)","v":""},{"$f":"IF(JSP!B19=\"\",\"\",JSP!E19)","v":""},""]
[{"$f":"IF(JTP!B20=\"\",\"\",JTP!C20)","v":""},{"$f":"IF(JTP!B20=\"\",\"\",JTP!D20)","v":""},{"$f":"IF(JTP!B20=\"\",\"\",JTP!E20)","v":""},"",null,{"$f":"IF(JTP!G20=\"\",\"\",JTP!H20)","v":""},{"$f":"IF(JTP!G20=\"\",\"\",JTP!I20)","v":""},{"$f":"IF(JTP!G20=\"\",\"\",JTP!J20)","v":""},"",null,{"$f":"IF(JSP!B20=\"\",\"\",JSP!C20)","v":""},{"$f":"IF(JSP!B20=\"\",\"\",JSP!D20)","v":""},{"$f":"IF(JSP!B20=\"\",\"\",JSP!E20)","v":""},""]
[{"$f":"IF(JTP!B21=\"\",\"\",JTP!C21)","v":""},{"$f":"IF(JTP!B21=\"\",\"\",JTP!D21)","v":""},{"$f":"IF(JTP!B21=\"\",\"\",JTP!E21)","v":""},"",null,{"$f":"IF(JTP!G21=\"\",\"\",JTP!H21)","v":""},{"$f":"IF(JTP!G21=\"\",\"\",JTP!I21)","v":""},{"$f":"IF(JTP!G21=\"\",\"\",JTP!J21)","v":""},"",null,{"$f":"IF(JSP!B21=\"\",\"\",JSP!C21)","v":""},{"$f":"IF(JSP!B21=\"\",\"\",JSP!D21)","v":""},{"$f":"IF(JSP!B21=\"\",\"\",JSP!E21)","v":""},""]
[{"$f":"IF(JTP!B22=\"\",\"\",JTP!C22)","v":""},{"$f":"IF(JTP!B22=\"\",\"\",JTP!D22)","v":""},{"$f":"IF(JTP!B22=\"\",\"\",JTP!E22)","v":""},"",null,{"$f":"IF(JTP!G22=\"\",\"\",JTP!H22)","v":""},{"$f":"IF(JTP!G22=\"\",\"\",JTP!I22)","v":""},{"$f":"IF(JTP!G22=\"\",\"\",JTP!J22)","v":""},{"$f":"IF(AND(G23=\"\",H23=\"\"),\"\",IF(AND(G23>=97,H23>=9),\"Halsbandorden\",IF(AND(G23>=95,H23>=9),\"Plakette\",IF(AND(G23>=93,H23>=8),\"2. Goldene Eichel\",IF(AND(G23>=91,H23>=8),\"1. Goldene Eichel\",IF(AND(G23>=89,H23>=8),\"Goldene Schnur\",IF(AND(G23>=87,H23>=7),\"2. Silberne Eichel\",IF(AND(G23>=84,H23>=7),\"1. Silberne Eichel\",IF(AND(G23>=81,H23>=7),\"Silberne Schnur\",IF(AND(G23>=78,H23>=6),\"2. Grüne Eichel\",IF(AND(G23>=75,H23>=6),\"1. Grüne Eichel\",IF(AND(G23>=72,H23>=6),\"Grüne Schnur\",\"gibt NIX :-(\"))))))))))))","v":""},null,{"$f":"IF(JSP!B22=\"\",\"\",JSP!C22)","v":""},{"$f":"IF(JSP!B22=\"\",\"\",JSP!D22)","v":""},{"$f":"IF(JSP!B22=\"\",\"\",JSP!E22)","v":""},""]
["Schülerpokal (LG)  (bis 14 Jahre)",null,null,null,null,"Culemannpokal (KK)",null,null,null,null,"Damenpokal (LG)"]
["Vor- und Nachname:","Ringe:","schlechtester\nEinzelschuss","Würde bekommen:",null,"Vor- und Nachname:","Ringe:","schlechtester\nEinzelschuss","Würde bekommen:",null,"Vor- und Nachname:","Ringe:","schlechtester\nEinzelschuss","Würde bekommen:"]
[{"$f":"IF(JSP!G3=\"\",\"Keine Teilnahme\",JSP!H3)","v":"Keine Teilnahme"},{"$f":"IF(JSP!G3=\"\",\"\",JSP!I3)","v":""},{"$f":"IF(JSP!G3=\"\",\"\",JSP!J3)","v":""},{"$f":"IF(B26=\"\",\"\",IF(B26>=88,\"Halsbandorden\",IF(B26>=85,\"Plakette\",IF(B26>=82,\"2. Goldene Eichel\",IF(B26>=81,\"1. Goldene Eichel\",IF(B26>=80,\"Goldene Schnur\",IF(B26>=75,\"2. Silberne Eichel\",IF(B26>=73,\"1. Silberne Eichel\",IF(B26>=71,\"Silberne Schnur\",IF(B26>=68,\"2. Grüne Eichel\",IF(B26>=65,\"1. Grüne Eichel\",IF(B26>=63,\"Grüne Schnur\",\"gibt NIX :-(\"))))))))))))","v":""},null,{"$f":"IF(CFP!B3=\"\",\"Keine Teilnahme\",CFP!C3)","v":"Keine Teilnahme"},{"$f":"IF(CFP!B3=\"\",\"\",CFP!D3)","v":""},{"$f":"IF(CFP!B3=\"\",\"\",CFP!E3)","v":""},{"$f":"IF(AND(G26=\"\",H26=\"\"),\"\",IF(AND(G26>=97,H26>=9),\"Halsbandorden\",IF(AND(G26>=95,H26>=9),\"Plakette\",IF(AND(G26>=93,H26>=8),\"2. Goldene Eichel\",IF(AND(G26>=91,H26>=8),\"1. Goldene Eichel\",IF(AND(G26>=89,H26>=8),\"Goldene Schnur\",IF(AND(G26>=87,H26>=7),\"2. Silberne Eichel\",IF(AND(G26>=84,H26>=7),\"1. Silberne Eichel\",IF(AND(G26>=81,H26>=7),\"Silberne Schnur\",IF(AND(G26>=78,H26>=6),\"2. Grüne Eichel\",IF(AND(G26>=75,H26>=6),\"1. Grüne Eichel\",IF(AND(G26>=72,H26>=6),\"Grüne Schnur\",\"gibt NIX :-(\"))))))))))))","v":""},null,{"$f":"IF(DWP!B3=\"\",\"Keine Teilnahme\",DWP!C3)","v":"Keine Teilnahme"},{"$f":"IF(DWP!B3=\"\",\"\",DWP!D3)","v":""},{"$f":"IF(DWP!B3=\"\",\"\",DWP!E3)","v":""},{"$f":"IF(L26=\"\",\"\",IF(L26>=88,\"Halsbandorden\",IF(L26>=85,\"Plakette\",IF(L26>=82,\"2. Goldene Eichel\",IF(L26>=81,\"1. Goldene Eichel\",IF(L26>=80,\"Goldene Schnur\",IF(L26>=75,\"2. Silberne Eichel\",IF(L26>=73,\"1. Silberne Eichel\",IF(L26>=71,\"Silberne Schnur\",IF(L26>=68,\"2. Grüne Eichel\",IF(L26>=65,\"1. Grüne Eichel\",IF(L26>=63,\"Grüne Schnur\",\"gibt NIX :-(\"))))))))))))","v":""}]
[{"$f":"IF(JSP!G4=\"\",\"\",JSP!H4)","v":""},{"$f":"IF(JSP!G4=\"\",\"\",JSP!I4)","v":""},{"$f":"IF(JSP!G4=\"\",\"\",JSP!J4)","v":""},{"$f":"IF(B27=\"\",\"\",IF(B27>=88,\"Halsbandorden\",IF(B27>=85,\"Plakette\",IF(B27>=82,\"2. Goldene Eichel\",IF(B27>=81,\"1. Goldene Eichel\",IF(B27>=80,\"Goldene Schnur\",IF(B27>=75,\"2. Silberne Eichel\",IF(B27>=73,\"1. Silberne Eichel\",IF(B27>=71,\"Silberne Schnur\",IF(B27>=68,\"2. Grüne Eichel\",IF(B27>=65,\"1. Grüne Eichel\",IF(B27>=63,\"Grüne Schnur\",\"gibt NIX :-(\"))))))))))))","v":""},null,{"$f":"IF(CFP!B4=\"\",\"\",CFP!C4)","v":""},{"$f":"IF(CFP!B4=\"\",\"\",CFP!D4)","v":""},{"$f":"IF(CFP!B4=\"\",\"\",CFP!E4)","v":""},{"$f":"IF(AND(G27=\"\",H27=\"\"),\"\",IF(AND(G27>=97,H27>=9),\"Halsbandorden\",IF(AND(G27>=95,H27>=9),\"Plakette\",IF(AND(G27>=93,H27>=8),\"2. Goldene Eichel\",IF(AND(G27>=91,H27>=8),\"1. Goldene Eichel\",IF(AND(G27>=89,H27>=8),\"Goldene Schnur\",IF(AND(G27>=87,H27>=7),\"2. Silberne Eichel\",IF(AND(G27>=84,H27>=7),\"1. Silberne Eichel\",IF(AND(G27>=81,H27>=7),\"Silberne Schnur\",IF(AND(G27>=78,H27>=6),\"2. Grüne Eichel\",IF(AND(G27>=75,H27>=6),\"1. Grüne Eichel\",IF(AND(G27>=72,H27>=6),\"Grüne Schnur\",\"gibt NIX :-(\"))))))))))))","v":""},null,{"$f":"IF(DWP!B4=\"\",\"\",DWP!C4)","v":""},{"$f":"IF(DWP!B4=\"\",\"\",DWP!D4)","v":""},{"$f":"IF(DWP!B4=\"\",\"\",DWP!E4)","v":""},{"$f":"IF(L27=\"\",\"\",IF(L27>=88,\"Halsbandorden\",IF(L27>=85,\"Plakette\",IF(L27>=82,\"2. Goldene Eichel\",IF(L27>=81,\"1. Goldene Eichel\",IF(L27>=80,\"Goldene Schnur\",IF(L27>=75,\"2. Silberne Eichel\",IF(L27>=73,\"1. Silberne Eichel\",IF(L27>=71,\"Silberne Schnur\",IF(L27>=68,\"2. Grüne Eichel\",IF(L27>=65,\"1. Grüne Eichel\",IF(L27>=63,\"Grüne Schnur\",\"gibt NIX :-(\"))))))))))))","v":""}]
[{"$f":"IF(JSP!G5=\"\",\"\",JSP!H5)","v":""},{"$f":"IF(JSP!G5=\"\",\"\",JSP!I5)","v":""},{"$f":"IF(JSP!G5=\"\",\"\",JSP!J5)","v":""},"",null,{"$f":"IF(CFP!B5=\"\",\"\",CFP!C5)","v":""},{"$f":"IF(CFP!B5=\"\",\"\",CFP!D5)","v":""},{"$f":"IF(CFP!B5=\"\",\"\",CFP!E5)","v":""},"",null,{"$f":"IF(DWP!B5=\"\",\"\",DWP!C5)","v":""},{"$f":"IF(DWP!B5=\"\",\"\",DWP!D5)","v":""},{"$f":"IF(DWP!B5=\"\",\"\",DWP!E5)","v":""},""]
[{"$f":"IF(JSP!G6=\"\",\"\",JSP!H6)","v":""},{"$f":"IF(JSP!G6=\"\",\"\",JSP!I6)","v":""},{"$f":"IF(JSP!G6=\"\",\"\",JSP!J6)","v":""},"",null,{"$f":"IF(CFP!B6=\"\",\"\",CFP!C6)","v":""},{"$f":"IF(CFP!B6=\"\",\"\",CFP!D6)","v":""},{"$f":"IF(CFP!B6=\"\",\"\",CFP!E6)","v":""},"",null,{"$f":"IF(DWP!B6=\"\",\"\",DWP!C6)","v":""},{"$f":"IF(DWP!B6=\"\",\"\",DWP!D6)","v":""},{"$f":"IF(DWP!B6=\"\",\"\",DWP!E6)","v":""},""]
[{"$f":"IF(JSP!G7=\"\",\"\",JSP!H7)","v":""},{"$f":"IF(JSP!G7=\"\",\"\",JSP!I7)","v":""},{"$f":"IF(JSP!G7=\"\",\"\",JSP!J7)","v":""},"",null,{"$f":"IF(CFP!B7=\"\",\"\",CFP!C7)","v":""},{"$f":"IF(CFP!B7=\"\",\"\",CFP!D7)","v":""},{"$f":"IF(CFP!B7=\"\",\"\",CFP!E7)","v":""},"",null,{"$f":"IF(DWP!B7=\"\",\"\",DWP!C7)","v":""},{"$f":"IF(DWP!B7=\"\",\"\",DWP!D7)","v":""},{"$f":"IF(DWP!B7=\"\",\"\",DWP!E7)","v":""},""]
[{"$f":"IF(JSP!G8=\"\",\"\",JSP!H8)","v":""},{"$f":"IF(JSP!G8=\"\",\"\",JSP!I8)","v":""},{"$f":"IF(JSP!G8=\"\",\"\",JSP!J8)","v":""},"",null,{"$f":"IF(CFP!B8=\"\",\"\",CFP!C8)","v":""},{"$f":"IF(CFP!B8=\"\",\"\",CFP!D8)","v":""},{"$f":"IF(CFP!B8=\"\",\"\",CFP!E8)","v":""},"",null,{"$f":"IF(DWP!B8=\"\",\"\",DWP!C8)","v":""},{"$f":"IF(DWP!B8=\"\",\"\",DWP!D8)","v":""},{"$f":"IF(DWP!B8=\"\",\"\",DWP!E8)","v":""},""]
[{"$f":"IF(JSP!G9=\"\",\"\",JSP!H9)","v":""},{"$f":"IF(JSP!G9=\"\",\"\",JSP!I9)","v":""},{"$f":"IF(JSP!G9=\"\",\"\",JSP!J9)","v":""},"",null,{"$f":"IF(CFP!B9=\"\",\"\",CFP!C9)","v":""},{"$f":"IF(CFP!B9=\"\",\"\",CFP!D9)","v":""},{"$f":"IF(CFP!B9=\"\",\"\",CFP!E9)","v":""},"",null,{"$f":"IF(DWP!B9=\"\",\"\",DWP!C9)","v":""},{"$f":"IF(DWP!B9=\"\",\"\",DWP!D9)","v":""},{"$f":"IF(DWP!B9=\"\",\"\",DWP!E9)","v":""},""]
[{"$f":"IF(JSP!G10=\"\",\"\",JSP!H10)","v":""},{"$f":"IF(JSP!G10=\"\",\"\",JSP!I10)","v":""},{"$f":"IF(JSP!G10=\"\",\"\",JSP!J10)","v":""},"",null,{"$f":"IF(CFP!B10=\"\",\"\",CFP!C10)","v":""},{"$f":"IF(CFP!B10=\"\",\"\",CFP!D10)","v":""},{"$f":"IF(CFP!B10=\"\",\"\",CFP!E10)","v":""},"",null,{"$f":"IF(DWP!B10=\"\",\"\",DWP!C10)","v":""},{"$f":"IF(DWP!B10=\"\",\"\",DWP!D10)","v":""},{"$f":"IF(DWP!B10=\"\",\"\",DWP!E10)","v":""},""]
[{"$f":"IF(JSP!G11=\"\",\"\",JSP!H11)","v":""},{"$f":"IF(JSP!G11=\"\",\"\",JSP!I11)","v":""},{"$f":"IF(JSP!G11=\"\",\"\",JSP!J11)","v":""},"",null,{"$f":"IF(CFP!B11=\"\",\"\",CFP!C11)","v":""},{"$f":"IF(CFP!B11=\"\",\"\",CFP!D11)","v":""},{"$f":"IF(CFP!B11=\"\",\"\",CFP!E11)","v":""},"",null,{"$f":"IF(DWP!B11=\"\",\"\",DWP!C11)","v":""},{"$f":"IF(DWP!B11=\"\",\"\",DWP!D11)","v":""},{"$f":"IF(DWP!B11=\"\",\"\",DWP!E11)","v":""},""]
[{"$f":"IF(JSP!G12=\"\",\"\",JSP!H12)","v":""},{"$f":"IF(JSP!G12=\"\",\"\",JSP!I12)","v":""},{"$f":"IF(JSP!G12=\"\",\"\",JSP!J12)","v":""},"",null,{"$f":"IF(CFP!B12=\"\",\"\",CFP!C12)","v":""},{"$f":"IF(CFP!B12=\"\",\"\",CFP!D12)","v":""},{"$f":"IF(CFP!B12=\"\",\"\",CFP!E12)","v":""},"",null,{"$f":"IF(DWP!B12=\"\",\"\",DWP!C12)","v":""},{"$f":"IF(DWP!B12=\"\",\"\",DWP!D12)","v":""},{"$f":"IF(DWP!B12=\"\",\"\",DWP!E12)","v":""},""]
[{"$f":"IF(JSP!G13=\"\",\"\",JSP!H13)","v":""},{"$f":"IF(JSP!G13=\"\",\"\",JSP!I13)","v":""},{"$f":"IF(JSP!G13=\"\",\"\",JSP!J13)","v":""},"",null,{"$f":"IF(CFP!B13=\"\",\"\",CFP!C13)","v":""},{"$f":"IF(CFP!B13=\"\",\"\",CFP!D13)","v":""},{"$f":"IF(CFP!B13=\"\",\"\",CFP!E13)","v":""},"",null,{"$f":"IF(DWP!B13=\"\",\"\",DWP!C13)","v":""},{"$f":"IF(DWP!B13=\"\",\"\",DWP!D13)","v":""},{"$f":"IF(DWP!B13=\"\",\"\",DWP!E13)","v":""},""]
[{"$f":"IF(JSP!G14=\"\",\"\",JSP!H14)","v":""},{"$f":"IF(JSP!G14=\"\",\"\",JSP!I14)","v":""},{"$f":"IF(JSP!G14=\"\",\"\",JSP!J14)","v":""},"",null,{"$f":"IF(CFP!B14=\"\",\"\",CFP!C14)","v":""},{"$f":"IF(CFP!B14=\"\",\"\",CFP!D14)","v":""},{"$f":"IF(CFP!B14=\"\",\"\",CFP!E14)","v":""},"",null,{"$f":"IF(DWP!B14=\"\",\"\",DWP!C14)","v":""},{"$f":"IF(DWP!B14=\"\",\"\",DWP!D14)","v":""},{"$f":"IF(DWP!B14=\"\",\"\",DWP!E14)","v":""},""]
[{"$f":"IF(JSP!G15=\"\",\"\",JSP!H15)","v":""},{"$f":"IF(JSP!G15=\"\",\"\",JSP!I15)","v":""},{"$f":"IF(JSP!G15=\"\",\"\",JSP!J15)","v":""},"",null,{"$f":"IF(CFP!B15=\"\",\"\",CFP!C15)","v":""},{"$f":"IF(CFP!B15=\"\",\"\",CFP!D15)","v":""},{"$f":"IF(CFP!B15=\"\",\"\",CFP!E15)","v":""},"",null,{"$f":"IF(DWP!B15=\"\",\"\",DWP!C15)","v":""},{"$f":"IF(DWP!B15=\"\",\"\",DWP!D15)","v":""},{"$f":"IF(DWP!B15=\"\",\"\",DWP!E15)","v":""},""]
[{"$f":"IF(JSP!G16=\"\",\"\",JSP!H16)","v":""},{"$f":"IF(JSP!G16=\"\",\"\",JSP!I16)","v":""},{"$f":"IF(JSP!G16=\"\",\"\",JSP!J16)","v":""},"",null,{"$f":"IF(CFP!B16=\"\",\"\",CFP!C16)","v":""},{"$f":"IF(CFP!B16=\"\",\"\",CFP!D16)","v":""},{"$f":"IF(CFP!B16=\"\",\"\",CFP!E16)","v":""},"",null,{"$f":"IF(DWP!B16=\"\",\"\",DWP!C16)","v":""},{"$f":"IF(DWP!B16=\"\",\"\",DWP!D16)","v":""},{"$f":"IF(DWP!B16=\"\",\"\",DWP!E16)","v":""},""]
[{"$f":"IF(JSP!G17=\"\",\"\",JSP!H17)","v":""},{"$f":"IF(JSP!G17=\"\",\"\",JSP!I17)","v":""},{"$f":"IF(JSP!G17=\"\",\"\",JSP!J17)","v":""},"",null,{"$f":"IF(CFP!B17=\"\",\"\",CFP!C17)","v":""},{"$f":"IF(CFP!B17=\"\",\"\",CFP!D17)","v":""},{"$f":"IF(CFP!B17=\"\",\"\",CFP!E17)","v":""},"",null,{"$f":"IF(DWP!B17=\"\",\"\",DWP!C17)","v":""},{"$f":"IF(DWP!B17=\"\",\"\",DWP!D17)","v":""},{"$f":"IF(DWP!B17=\"\",\"\",DWP!E17)","v":""},""]
[{"$f":"IF(JSP!G18=\"\",\"\",JSP!H18)","v":""},{"$f":"IF(JSP!G18=\"\",\"\",JSP!I18)","v":""},{"$f":"IF(JSP!G18=\"\",\"\",JSP!J18)","v":""},"",null,{"$f":"IF(CFP!B18=\"\",\"\",CFP!C18)","v":""},{"$f":"IF(CFP!B18=\"\",\"\",CFP!D18)","v":""},{"$f":"IF(CFP!B18=\"\",\"\",CFP!E18)","v":""},"",null,{"$f":"IF(DWP!B18=\"\",\"\",DWP!C18)","v":""},{"$f":"IF(DWP!B18=\"\",\"\",DWP!D18)","v":""},{"$f":"IF(DWP!B18=\"\",\"\",DWP!E18)","v":""},""]
[{"$f":"IF(JSP!G19=\"\",\"\",JSP!H19)","v":""},{"$f":"IF(JSP!G19=\"\",\"\",JSP!I19)","v":""},{"$f":"IF(JSP!G19=\"\",\"\",JSP!J19)","v":""},"",null,{"$f":"IF(CFP!B19=\"\",\"\",CFP!C19)","v":""},{"$f":"IF(CFP!B19=\"\",\"\",CFP!D19)","v":""},{"$f":"IF(CFP!B19=\"\",\"\",CFP!E19)","v":""},"",null,{"$f":"IF(DWP!B19=\"\",\"\",DWP!C19)","v":""},{"$f":"IF(DWP!B19=\"\",\"\",DWP!D19)","v":""},{"$f":"IF(DWP!B19=\"\",\"\",DWP!E19)","v":""},""]
[{"$f":"IF(JSP!G20=\"\",\"\",JSP!H20)","v":""},{"$f":"IF(JSP!G20=\"\",\"\",JSP!I20)","v":""},{"$f":"IF(JSP!G20=\"\",\"\",JSP!J20)","v":""},"",null,{"$f":"IF(CFP!B20=\"\",\"\",CFP!C20)","v":""},{"$f":"IF(CFP!B20=\"\",\"\",CFP!D20)","v":""},{"$f":"IF(CFP!B20=\"\",\"\",CFP!E20)","v":""},"",null,{"$f":"IF(DWP!B20=\"\",\"\",DWP!C20)","v":""},{"$f":"IF(DWP!B20=\"\",\"\",DWP!D20)","v":""},{"$f":"IF(DWP!B20=\"\",\"\",DWP!E20)","v":""},""]
[{"$f":"IF(JSP!G21=\"\",\"\",JSP!H21)","v":""},{"$f":"IF(JSP!G21=\"\",\"\",JSP!I21)","v":""},{"$f":"IF(JSP!G21=\"\",\"\",JSP!J21)","v":""},"",null,{"$f":"IF(CFP!B21=\"\",\"\",CFP!C21)","v":""},{"$f":"IF(CFP!B21=\"\",\"\",CFP!D21)","v":""},{"$f":"IF(CFP!B21=\"\",\"\",CFP!E21)","v":""},"",null,{"$f":"IF(DWP!B21=\"\",\"\",DWP!C21)","v":""},{"$f":"IF(DWP!B21=\"\",\"\",DWP!D21)","v":""},{"$f":"IF(DWP!B21=\"\",\"\",DWP!E21)","v":""},""]
[{"$f":"IF(JSP!G22=\"\",\"\",JSP!H22)","v":""},{"$f":"IF(JSP!G22=\"\",\"\",JSP!I22)","v":""},{"$f":"IF(JSP!G22=\"\",\"\",JSP!J22)","v":""},"",null,{"$f":"IF(CFP!B22=\"\",\"\",CFP!C22)","v":""},{"$f":"IF(CFP!B22=\"\",\"\",CFP!D22)","v":""},{"$f":"IF(CFP!B22=\"\",\"\",CFP!E22)","v":""},"",null,{"$f":"IF(DWP!B22=\"\",\"\",DWP!C22)","v":""},{"$f":"IF(DWP!B22=\"\",\"\",DWP!D22)","v":""},{"$f":"IF(DWP!B22=\"\",\"\",DWP!E22)","v":""},""]

{"sheet":"Info","index":15,"n_rows":1,"n_cols":1,"rows_kept":1,"cut":false,"hidden":false,"merged":[[0,0,3,10]]}
["Informationen zum Schießbetrieb beim Anschießen"]

{"sheet":"Kasse","index":16,"n_rows":28,"n_cols":4,"rows_kept":28,"cut":false,"hidden":false,"merged":[[0,0,0,3],[1,1,1,3]]}
["Kassen-/ und Verkaufsübersicht"]
[null,{"$f":"HM!E5","v":"Anschießen 2018"}]
[null,"gesamt Einnahmen Abschießen:",{"$f":"HM!D218","v":0},"Anzahl\nTeilnehmer"]
[null,"Einnahmen Preisschießen KK:",{"$f":"HM!D214","v":0},{"$f":"COUNTA(HM!B10:B209)","v":0}]
[null,"Einnahmen Preisschießen LG:",{"$f":"HM!D215","v":0}]
[null,"Einnahmen Sauenschießen:",{"$f":"HM!D216","v":0}]
[null,"Einnahmen Glückspreisschießen:",{"$f":"HM!D217","v":0}]
[null,"Einnahmen Munition:",{"$f":"HM!D213","v":0}]
[]
[]
[null,"gelöste Scheiben:","gelöst:","Einnahmen:"]
[null,"Munition \"RWS\"",{"$f":"SUM(HM!D211:E211)","v":0},{"$f":"C8","v":0}]
[null,"Jubiläumspokal  (ab 21 Jahre)",{"$f":"HM!F211","v":0},{"$f":"C13*HM!D238","v":0}]
[null,"Culemannpokal KK  (Jugend 16 bis 20 Jahre)",{"$f":"HM!G211","v":0},{"$f":"C14*HM!D243","v":0}]
[null,"Schülerpokal   (bis 14 Jahre) = Frei",{"$f":"HM!H211","v":0},"Frei"]
[null,"Jugendpokal  (15 bis 20 Jahre LG - Freihand)",{"$f":"HM!I211","v":0},{"$f":"C16*HM!D240","v":0}]
[null,"Freihandpokal   (ab 16 Jahre)",{"$f":"HM!J211","v":0},{"$f":"C17*HM!D242","v":0}]
[null,"Damenpokal  (LG - Freihand)",{"$f":"HM!K211","v":0},{"$f":"C18*HM!D254","v":0}]
[null,"Trudelpokal  (Damen ab 21 Jahre)",{"$f":"HM!L211","v":0},{"$f":"C19*HM!D239","v":0}]
[null,"Auflagepokal  (LG alle ab 21 Jahre)",{"$f":"HM!M211","v":0},{"$f":"C20*HM!D255","v":0}]
[null,"Bundesorden  (ab 21 Jahre)",{"$f":"HM!N211","v":0},{"$f":"C21*HM!D256","v":0}]
[null,"Luftpistole",{"$f":"HM!O211","v":0},{"$f":"C22*HM!D244","v":0}]
[null,"Preisschießen KK",{"$f":"HM!P211","v":0},{"$f":"C23*HM!D247","v":0}]
[null,"Preisschießen KK  (nachgelöst)",{"$f":"HM!Q211","v":0},{"$f":"C24*HM!D248","v":0}]
[null,"Preisschießen LG   bis 18 Jahre (Satzweise)",{"$f":"HM!R211","v":0},{"$f":"C25*HM!D249","v":0}]
[null,"Sauenschießen  (Freihand - ab 12 Jahre)",{"$f":"HM!S211","v":0},{"$f":"C26*HM!D251","v":0}]
[null,"Sauenschießen  (nachgelöst)",{"$f":"HM!T211","v":0},{"$f":"C27*HM!D252","v":0}]
[null,"Glückspreisschießen  (ohne Limit)",{"$f":"HM!U211","v":0},{"$f":"C28*HM!D253","v":0}]