{"text_format":"1","workbook":"xlsx","n_sheets":19,"sheets":["Preisverteilung","Auflage u. Freihand","Hauptmenü","Wettkampfklassen","Daten","D-SAMMLER","Testseite für Versuche","Stammdaten","SV-Soderstorf","SV-Egestorf","SV-Evendorf","SV-Eyendorf","SV-Garlstorf","SV-Garstedt","SV-Raven-Rolfsen","SV-Salzhausen","SV-Toppenstedt","SV-Wetzen","Anmeldeblatt"],"not_rendered":{"charts":0,"images":70,"macros":1,"external_links":0,"defined_names":8,"comments":11,"pivot_tables":0},"unopened":[],"bounds":{"document_bytes":16777216,"sheet_cells":100000,"rows_first":2000,"rows_last":500,"rows_between":2000,"halvings":0,"cell_chars":16384,"cell_head_chars":4096},"cells_cut":0,"cells_raw":0,"read":"whole","date_system":"1900"}

{"sheet":"Preisverteilung","index":0,"n_rows":215,"n_cols":10,"rows_kept":215,"cut":false,"hidden":false,"merged":[[110,5,110,8],[117,0,117,3],[159,0,159,3],[159,5,159,8],[166,5,166,8],[166,0,166,3],[152,5,152,8],[152,0,152,3],[75,5,75,8],[82,0,82,3],[82,5,82,8],[96,0,96,3],[96,5,96,8],[103,0,103,3],[103,5,103,8],[175,0,175,1],[176,0,176,1],[61,0,61,3],[61,5,61,8],[0,0,0,9],[41,0,41,3],[28,0,28,3],[15,0,15,3],[2,0,2,3],[2,5,2,7],[28,5,28,8],[15,5,15,8],[41,5,41,8],[54,0,54,3],[54,5,54,8],[138,0,138,3],[138,5,138,8],[145,5,145,8],[145,0,145,3],[89,0,89,3],[89,5,89,8],[68,0,68,3],[68,5,68,8],[75,0,75,3],[192,0,192,1],[185,0,185,1],[186,0,186,1],[187,0,187,1],[188,0,188,1],[197,0,197,1],[110,0,110,3],[124,0,124,3],[124,5,124,8],[131,0,131,3],[131,5,131,8],[183,0,183,1],[184,0,184,1],[177,0,177,1],[178,0,178,1],[179,0,179,1],[180,0,180,1],[117,5,117,8],[181,0,181,1],[182,0,182,1],[174,5,174,6],[173,5,173,9],[173,0,173,3],[174,0,174,1],[214,0,214,1],[209,0,209,1],[210,0,210,1],[211,0,211,1],[212,0,212,1],[213,0,213,1],[205,0,205,1],[206,0,206,1],[207,0,207,1],[208,0,208,1],[185,5,185,6],[186,5,186,6],[188,5,188,6],[201,0,201,1],[202,0,202,1],[203,0,203,1],[204,0,204,1],[208,5,208,6],[201,5,201,6],[202,5,202,6],[203,5,203,6],[204,5,204,6],[199,5,199,6],[200,5,200,6],[198,0,198,1],[199,0,199,1],[200,0,200,1],[193,0,193,1],[194,0,194,1],[195,0,195,1],[196,0,196,1],[189,0,189,1],[190,0,190,1],[191,0,191,1],[213,5,213,6],[214,5,214,6],[187,5,187,9],[209,5,209,6],[210,5,210,6],[211,5,211,6],[212,5,212,6],[205,5,205,6],[206,5,206,6],[207,5,207,6]]}
[{"$f":"CONCATENATE(\"Ergebnisse vom Unterkreis III schiessen \nam\",\" \",Hauptmenü!A4,\" \",\n\"in\",\" \",Hauptmenü!A2)","v":"Ergebnisse vom Unterkreis III schiessen \nam ??? in ???"}]
[]
["Mannschaftswertung Präsidentenpokal",null,null,null,null,"UK-Standarte Mannschaft"]
[null,"Verein","Ringe","M-Teiler",null,null,"Verein","Ringe"]
["01.",{"$f":"Daten!A3","v":0},{"$f":"Daten!B3","v":0},{"$f":"Daten!C3","v":0},null,"01.",{"$f":"Daten!I3","v":0},{"$f":"Daten!J3","v":0}]
["02.",{"$f":"Daten!A4","v":0},{"$f":"Daten!B4","v":0},{"$f":"Daten!C4","v":0},null,"02.",{"$f":"Daten!I4","v":0},{"$f":"Daten!J4","v":0}]
["03.",{"$f":"Daten!A5","v":0},{"$f":"Daten!B5","v":0},{"$f":"Daten!C5","v":0},null,"03.",{"$f":"Daten!I5","v":0},{"$f":"Daten!J5","v":0}]
["04.",{"$f":"Daten!A6","v":0},{"$f":"Daten!B6","v":0},{"$f":"Daten!C6","v":0},null,"04.",{"$f":"Daten!I6","v":0},{"$f":"Daten!J6","v":0}]
["05.",{"$f":"Daten!A7","v":0},{"$f":"Daten!B7","v":0},{"$f":"Daten!C7","v":0},null,"05.",{"$f":"Daten!I7","v":0},{"$f":"Daten!J7","v":0}]
["06.",{"$f":"Daten!A8","v":0},{"$f":"Daten!B8","v":0},{"$f":"Daten!C8","v":0},null,"06.",{"$f":"Daten!I8","v":0},{"$f":"Daten!J8","v":0}]
["07.",{"$f":"Daten!A9","v":0},{"$f":"Daten!B9","v":0},{"$f":"Daten!C9","v":0},null,"07.",{"$f":"Daten!I9","v":0},{"$f":"Daten!J9","v":0}]
["08.",{"$f":"Daten!A10","v":0},{"$f":"Daten!B10","v":0},{"$f":"Daten!C10","v":0},null,"08.",{"$f":"Daten!I10","v":0},{"$f":"Daten!J10","v":0}]
["09.",{"$f":"Daten!A11","v":0},{"$f":"Daten!B11","v":0},{"$f":"Daten!C11","v":0},null,"09.",{"$f":"Daten!I11","v":0},{"$f":"Daten!J11","v":0}]
["10.",{"$f":"Daten!A12","v":0},{"$f":"Daten!B12","v":0},{"$f":"Daten!C12","v":0},null,"10.",{"$f":"Daten!I12","v":0},{"$f":"Daten!J12","v":0}]
[]
["Mannschaftswertung Damenpokal",null,null,null,null,"Adjutanten vom König"]
[null,"Verein","Ringe","M-Teiler",null,null,"Vor- und Nachname","Verein","Teiler"]
["01.",{"$f":"Daten!E3","v":0},{"$f":"Daten!F3","v":0},{"$f":"Daten!G3","v":0},null,"01.",{"$f":"Daten!Z3","v":0},{"$f":"Daten!AA3","v":0},{"$f":"Daten!AB3","v":0}]
["02.",{"$f":"Daten!E4","v":0},{"$f":"Daten!F4","v":0},{"$f":"Daten!G4","v":0},null,"02.",{"$f":"Daten!Z4","v":0},{"$f":"Daten!AA4","v":0},{"$f":"Daten!AB4","v":0}]
["03.",{"$f":"Daten!E5","v":0},{"$f":"Daten!F5","v":0},{"$f":"Daten!G5","v":0},null,"03.",{"$f":"Daten!Z5","v":0},{"$f":"Daten!AA5","v":0},{"$f":"Daten!AB5","v":0}]
["04.",{"$f":"Daten!E6","v":0},{"$f":"Daten!F6","v":0},{"$f":"Daten!G6","v":0},null,"04.",{"$f":"Daten!Z6","v":0},{"$f":"Daten!AA6","v":0},{"$f":"Daten!AB6","v":0}]
["05.",{"$f":"Daten!E7","v":0},{"$f":"Daten!F7","v":0},{"$f":"Daten!G7","v":0},null,"05.",{"$f":"Daten!Z7","v":0},{"$f":"Daten!AA7","v":0},{"$f":"Daten!AB7","v":0}]
["06.",{"$f":"Daten!E8","v":0},{"$f":"Daten!F8","v":0},{"$f":"Daten!G8","v":0},null,"06.",{"$f":"Daten!Z8","v":0},{"$f":"Daten!AA8","v":0},{"$f":"Daten!AB8","v":0}]
["07.",{"$f":"Daten!E9","v":0},{"$f":"Daten!F9","v":0},{"$f":"Daten!G9","v":0},null,"07.",{"$f":"Daten!Z9","v":0},{"$f":"Daten!AA9","v":0},{"$f":"Daten!AB9","v":0}]
["08.",{"$f":"Daten!E10","v":0},{"$f":"Daten!F10","v":0},{"$f":"Daten!G10","v":0},null,"08.",{"$f":"Daten!Z10","v":0},{"$f":"Daten!AA10","v":0},{"$f":"Daten!AB10","v":0}]
["09.",{"$f":"Daten!E11","v":0},{"$f":"Daten!F11","v":0},{"$f":"Daten!G11","v":0},null,"09.",{"$f":"Daten!Z11","v":0},{"$f":"Daten!AA11","v":0},{"$f":"Daten!AB11","v":0}]
["10.",{"$f":"Daten!E12","v":0},{"$f":"Daten!F12","v":0},{"$f":"Daten!G12","v":0},null,"10.",{"$f":"Daten!Z12","v":0},{"$f":"Daten!AA12","v":0},{"$f":"Daten!AB12","v":0}]
[]
["Präsident",null,null,null,null,"Adjutantinnen von Königin"]
[null,"Vor- und Nachname","Verein","Teiler",null,null,"Vor- und Nachname","Verein","Teiler"]
["01.",{"$f":"Daten!AH3","v":0},{"$f":"Daten!AI3","v":0},{"$f":"Daten!AJ3","v":0},null,"01.",{"$f":"Daten!AD3","v":0},{"$f":"Daten!AE3","v":0},{"$f":"Daten!AF3","v":0}]
["02.",{"$f":"Daten!AH4","v":0},{"$f":"Daten!AI4","v":0},{"$f":"Daten!AJ4","v":0},null,"02.",{"$f":"Daten!AD4","v":0},{"$f":"Daten!AE4","v":0},{"$f":"Daten!AF4","v":0}]
["03.",{"$f":"Daten!AH5","v":0},{"$f":"Daten!AI5","v":0},{"$f":"Daten!AJ5","v":0},null,"03.",{"$f":"Daten!AD5","v":0},{"$f":"Daten!AE5","v":0},{"$f":"Daten!AF5","v":0}]
["04.",{"$f":"Daten!AH6","v":0},{"$f":"Daten!AI6","v":0},{"$f":"Daten!AJ6","v":0},null,"04.",{"$f":"Daten!AD6","v":0},{"$f":"Daten!AE6","v":0},{"$f":"Daten!AF6","v":0}]
["05.",{"$f":"Daten!AH7","v":0},{"$f":"Daten!AI7","v":0},{"$f":"Daten!AJ7","v":0},null,"05.",{"$f":"Daten!AD7","v":0},{"$f":"Daten!AE7","v":0},{"$f":"Daten!AF7","v":0}]
["06.",{"$f":"Daten!AH8","v":0},{"$f":"Daten!AI8","v":0},{"$f":"Daten!AJ8","v":0},null,"06.",{"$f":"Daten!AD8","v":0},{"$f":"Daten!AE8","v":0},{"$f":"Daten!AF8","v":0}]
["07.",{"$f":"Daten!AH9","v":0},{"$f":"Daten!AI9","v":0},{"$f":"Daten!AJ9","v":0},null,"07.",{"$f":"Daten!AD9","v":0},{"$f":"Daten!AE9","v":0},{"$f":"Daten!AF9","v":0}]
["08.",{"$f":"Daten!AH10","v":0},{"$f":"Daten!AI10","v":0},{"$f":"Daten!AJ10","v":0},null,"08.",{"$f":"Daten!AD10","v":0},{"$f":"Daten!AE10","v":0},{"$f":"Daten!AF10","v":0}]
["09.",{"$f":"Daten!AH11","v":0},{"$f":"Daten!AI11","v":0},{"$f":"Daten!AJ11","v":0},null,"09.",{"$f":"Daten!AD11","v":0},{"$f":"Daten!AE11","v":0},{"$f":"Daten!AF11","v":0}]
["10.",{"$f":"Daten!AH12","v":0},{"$f":"Daten!AI12","v":0},{"$f":"Daten!AJ12","v":0},null,"10.",{"$f":"Daten!AD12","v":0},{"$f":"Daten!AE12","v":0},{"$f":"Daten!AF12","v":0}]
[]
["Unterkreis - König",null,null,null,null,"Unterkreis - Königin"]
[null,"Vor- und Nachname","Verein","Teiler",null,null,"Vor- und Nachname","Verein","Teiler"]
["01.",{"$f":"Daten!R3","v":0},{"$f":"Daten!S3","v":0},{"$f":"Daten!T3","v":0},null,"01.",{"$f":"Daten!V3","v":0},{"$f":"Daten!W3","v":0},{"$f":"Daten!X3","v":0}]
["02.",{"$f":"Daten!R4","v":0},{"$f":"Daten!S4","v":0},{"$f":"Daten!T4","v":0},null,"02.",{"$f":"Daten!V4","v":0},{"$f":"Daten!W4","v":0},{"$f":"Daten!X4","v":0}]
["03.",{"$f":"Daten!R5","v":0},{"$f":"Daten!S5","v":0},{"$f":"Daten!T5","v":0},null,"03.",{"$f":"Daten!V5","v":0},{"$f":"Daten!W5","v":0},{"$f":"Daten!X5","v":0}]
["04.",{"$f":"Daten!R6","v":0},{"$f":"Daten!S6","v":0},{"$f":"Daten!T6","v":0},null,"04.",{"$f":"Daten!V6","v":0},{"$f":"Daten!W6","v":0},{"$f":"Daten!X6","v":0}]
["05.",{"$f":"Daten!R7","v":0},{"$f":"Daten!S7","v":0},{"$f":"Daten!T7","v":0},null,"05.",{"$f":"Daten!V7","v":0},{"$f":"Daten!W7","v":0},{"$f":"Daten!X7","v":0}]
["06.",{"$f":"Daten!R8","v":0},{"$f":"Daten!S8","v":0},{"$f":"Daten!T8","v":0},null,"06.",{"$f":"Daten!V8","v":0},{"$f":"Daten!W8","v":0},{"$f":"Daten!X8","v":0}]
["07.",{"$f":"Daten!R9","v":0},{"$f":"Daten!S9","v":0},{"$f":"Daten!T9","v":0},null,"07.",{"$f":"Daten!V9","v":0},{"$f":"Daten!W9","v":0},{"$f":"Daten!X9","v":0}]
["08.",{"$f":"Daten!R10","v":0},{"$f":"Daten!S10","v":0},{"$f":"Daten!T10","v":0},null,"08.",{"$f":"Daten!V10","v":0},{"$f":"Daten!W10","v":0},{"$f":"Daten!X10","v":0}]
["09.",{"$f":"Daten!R11","v":0},{"$f":"Daten!S11","v":0},{"$f":"Daten!T11","v":0},null,"09.",{"$f":"Daten!V11","v":0},{"$f":"Daten!W11","v":0},{"$f":"Daten!X11","v":0}]
["10.",{"$f":"Daten!R12","v":0},{"$f":"Daten!S12","v":0},{"$f":"Daten!T12","v":0},null,"10.",{"$f":"Daten!V12","v":0},{"$f":"Daten!W12","v":0},{"$f":"Daten!X12","v":0}]
[]
["Wettkampfklasse 10 (Auflage)",null,null,null,null,"Wettkampfklasse 10 (Freihand)"]
[null,"Vor- und Nachname","Verein","Ringe",null,null,"Vor- und Nachname","Verein","Ringe"]
["01.",{"$f":"IFERROR(INDEX(Daten!$AM$2:$AM$292,LARGE((Daten!$AL$2:$AL$292=10)*(ROW(Daten!$AL$2:$AL$292)-1),COUNTIF(Daten!$AL$2:$AL$292,10)+1-ROW($AL$1))),\"\")","v":""},{"$f":"IF(B57=\"\",\"\",(VLOOKUP(B57,Daten!$AM$3:$AP$292,2,)))","v":""},{"$f":"IF(B57=\"\",\"\",(VLOOKUP(B57,Daten!$AM$3:$AP$292,3,)))","v":""},null,"01.",{"$f":"IFERROR(INDEX(Daten!$AS$2:$AS$292,LARGE((Daten!$AR$2:$AR$292=10)*(ROW(Daten!$AR$2:$AR$292)-1),COUNTIF(Daten!$AR$2:$AR$292,10)+1-ROW($AS$1))),\"\")","v":""},{"$f":"IF(G57=\"\",\"\",(VLOOKUP(G57,Daten!$AS$3:$AV$292,2,)))","v":""},{"$f":"IF(G57=\"\",\"\",(VLOOKUP(G57,Daten!$AS$3:$AV$292,3,)))","v":""}]
["02.",{"$f":"IFERROR(INDEX(Daten!$AM$2:$AM$292,LARGE((Daten!$AL$2:$AL$292=10)*(ROW(Daten!$AL$2:$AL$292)-1),COUNTIF(Daten!$AL$2:$AL$292,10)+1-ROW($AL$2))),\"\")","v":""},{"$f":"IF(B58=\"\",\"\",(VLOOKUP(B58,Daten!$AM$3:$AP$292,2,)))","v":""},{"$f":"IF(B58=\"\",\"\",(VLOOKUP(B58,Daten!$AM$3:$AP$292,3,)))","v":""},null,"02.",{"$f":"IFERROR(INDEX(Daten!$AS$2:$AS$292,LARGE((Daten!$AR$2:$AR$292=10)*(ROW(Daten!$AR$2:$AR$292)-1),COUNTIF(Daten!$AR$2:$AR$292,10)+1-ROW($AS$2))),\"\")","v":""},{"$f":"IF(G58=\"\",\"\",(VLOOKUP(G58,Daten!$AS$3:$AV$292,2,)))","v":""},{"$f":"IF(G58=\"\",\"\",(VLOOKUP(G58,Daten!$AS$3:$AV$292,3,)))","v":""}]
["03.",{"$f":"IFERROR(INDEX(Daten!$AM$2:$AM$292,LARGE((Daten!$AL$2:$AL$292=10)*(ROW(Daten!$AL$2:$AL$292)-1),COUNTIF(Daten!$AL$2:$AL$292,10)+1-ROW($AL$3))),\"\")","v":""},{"$f":"IF(B59=\"\",\"\",(VLOOKUP(B59,Daten!$AM$3:$AP$292,2,)))","v":""},{"$f":"IF(B59=\"\",\"\",(VLOOKUP(B59,Daten!$AM$3:$AP$292,3,)))","v":""},null,"03.",{"$f":"IFERROR(INDEX(Daten!$AS$2:$AS$292,LARGE((Daten!$AR$2:$AR$292=10)*(ROW(Daten!$AR$2:$AR$292)-1),COUNTIF(Daten!$AR$2:$AR$292,10)+1-ROW($AS$3))),\"\")","v":""},{"$f":"IF(G59=\"\",\"\",(VLOOKUP(G59,Daten!$AS$3:$AV$292,2,)))","v":""},{"$f":"IF(G59=\"\",\"\",(VLOOKUP(G59,Daten!$AS$3:$AV$292,3,)))","v":""}]
["04.",{"$f":"IFERROR(INDEX(Daten!$AM$2:$AM$292,LARGE((Daten!$AL$2:$AL$292=10)*(ROW(Daten!$AL$2:$AL$292)-1),COUNTIF(Daten!$AL$2:$AL$292,10)+1-ROW($AL$4))),\"\")","v":""},{"$f":"IF(B60=\"\",\"\",(VLOOKUP(B60,Daten!$AM$3:$AP$292,2,)))","v":""},{"$f":"IF(B60=\"\",\"\",(VLOOKUP(B60,Daten!$AM$3:$AP$292,3,)))","v":""},null,"04.",{"$f":"IFERROR(INDEX(Daten!$AS$2:$AS$292,LARGE((Daten!$AR$2:$AR$292=10)*(ROW(Daten!$AR$2:$AR$292)-1),COUNTIF(Daten!$AR$2:$AR$292,10)+1-ROW($AS$4))),\"\")","v":""},{"$f":"IF(G60=\"\",\"\",(VLOOKUP(G60,Daten!$AS$3:$AV$292,2,)))","v":""},{"$f":"IF(G60=\"\",\"\",(VLOOKUP(G60,Daten!$AS$3:$AV$292,3,)))","v":""}]
[]
["Wettkampfklasse 11 (Auflage)",null,null,null,null,"Wettkampfklasse 11 (Freihand)"]
[null,"Vor- und Nachname","Verein","Ringe",null,null,"Vor- und Nachname","Verein","Ringe"]
["01.",{"$f":"IFERROR(INDEX(Daten!$AM$2:$AM$292,LARGE((Daten!$AL$2:$AL$292=11)*(ROW(Daten!$AL$2:$AL$292)-1),COUNTIF(Daten!$AL$2:$AL$292,11)+1-ROW($AL$1))),\"\")","v":""},{"$f":"IF(B64=\"\",\"\",(VLOOKUP(B64,Daten!$AM$3:$AP$292,2,)))","v":""},{"$f":"IF(B64=\"\",\"\",(VLOOKUP(B64,Daten!$AM$3:$AP$292,3,)))","v":""},null,"01.",{"$f":"IFERROR(INDEX(Daten!$AS$2:$AS$292,LARGE((Daten!$AR$2:$AR$292=11)*(ROW(Daten!$AR$2:$AR$292)-1),COUNTIF(Daten!$AR$2:$AR$292,11)+1-ROW($AS$1))),\"\")","v":""},{"$f":"IF(G64=\"\",\"\",(VLOOKUP(G64,Daten!$AS$3:$AV$292,2,)))","v":""},{"$f":"IF(G64=\"\",\"\",(VLOOKUP(G64,Daten!$AS$3:$AV$292,3,)))","v":""}]
["02.",{"$f":"IFERROR(INDEX(Daten!$AM$2:$AM$292,LARGE((Daten!$AL$2:$AL$292=11)*(ROW(Daten!$AL$2:$AL$292)-1),COUNTIF(Daten!$AL$2:$AL$292,11)+1-ROW($AL$2))),\"\")","v":""},{"$f":"IF(B65=\"\",\"\",(VLOOKUP(B65,Daten!$AM$3:$AP$292,2,)))","v":""},{"$f":"IF(B65=\"\",\"\",(VLOOKUP(B65,Daten!$AM$3:$AP$292,3,)))","v":""},null,"02.",{"$f":"IFERROR(INDEX(Daten!$AS$2:$AS$292,LARGE((Daten!$AR$2:$AR$292=11)*(ROW(Daten!$AR$2:$AR$292)-1),COUNTIF(Daten!$AR$2:$AR$292,11)+1-ROW($AS$2))),\"\")","v":""},{"$f":"IF(G65=\"\",\"\",(VLOOKUP(G65,Daten!$AS$3:$AV$292,2,)))","v":""},{"$f":"IF(G65=\"\",\"\",(VLOOKUP(G65,Daten!$AS$3:$AV$292,3,)))","v":""}]
["03.",{"$f":"IFERROR(INDEX(Daten!$AM$2:$AM$292,LARGE((Daten!$AL$2:$AL$292=11)*(ROW(Daten!$AL$2:$AL$292)-1),COUNTIF(Daten!$AL$2:$AL$292,11)+1-ROW($AL$3))),\"\")","v":""},{"$f":"IF(B66=\"\",\"\",(VLOOKUP(B66,Daten!$AM$3:$AP$292,2,)))","v":""},{"$f":"IF(B66=\"\",\"\",(VLOOKUP(B66,Daten!$AM$3:$AP$292,3,)))","v":""},null,"03.",{"$f":"IFERROR(INDEX(Daten!$AS$2:$AS$292,LARGE((Daten!$AR$2:$AR$292=11)*(ROW(Daten!$AR$2:$AR$292)-1),COUNTIF(Daten!$AR$2:$AR$292,11)+1-ROW($AS$3))),\"\")","v":""},{"$f":"IF(G66=\"\",\"\",(VLOOKUP(G66,Daten!$AS$3:$AV$292,2,)))","v":""},{"$f":"IF(G66=\"\",\"\",(VLOOKUP(G66,Daten!$AS$3:$AV$292,3,)))","v":""}]
["04.",{"$f":"IFERROR(INDEX(Daten!$AM$2:$AM$292,LARGE((Daten!$AL$2:$AL$292=11)*(ROW(Daten!$AL$2:$AL$292)-1),COUNTIF(Daten!$AL$2:$AL$292,11)+1-ROW($AL$4))),\"\")","v":""},{"$f":"IF(B67=\"\",\"\",(VLOOKUP(B67,Daten!$AM$3:$AP$292,2,)))","v":""},{"$f":"IF(B67=\"\",\"\",(VLOOKUP(B67,Daten!$AM$3:$AP$292,3,)))","v":""},null,"04.",{"$f":"IFERROR(INDEX(Daten!$AS$2:$AS$292,LARGE((Daten!$AR$2:$AR$292=11)*(ROW(Daten!$AR$2:$AR$292)-1),COUNTIF(Daten!$AR$2:$AR$292,11)+1-ROW($AS$4))),\"\")","v":""},{"$f":"IF(G67=\"\",\"\",(VLOOKUP(G67,Daten!$AS$3:$AV$292,2,)))","v":""},{"$f":"IF(G67=\"\",\"\",(VLOOKUP(G67,Daten!$AS$3:$AV$292,3,)))","v":""}]
[]
["Wettkampfklasse 12 (Auflage)",null,null,null,null,"Wettkampfklasse 12 (Freihand)"]
[null,"Vor- und Nachname","Verein","Ringe",null,null,"Vor- und Nachname","Verein","Ringe"]
["01.",{"$f":"IFERROR(INDEX(Daten!$AM$2:$AM$292,LARGE((Daten!$AL$2:$AL$292=12)*(ROW(Daten!$AL$2:$AL$292)-1),COUNTIF(Daten!$AL$2:$AL$292,12)+1-ROW($AL$1))),\"\")","v":""},{"$f":"IF(B71=\"\",\"\",(VLOOKUP(B71,Daten!$AM$3:$AP$292,2,)))","v":""},{"$f":"IF(B71=\"\",\"\",(VLOOKUP(B71,Daten!$AM$3:$AP$292,3,)))","v":""},null,"01.",{"$f":"IFERROR(INDEX(Daten!$AS$2:$AS$292,LARGE((Daten!$AR$2:$AR$292=12)*(ROW(Daten!$AR$2:$AR$292)-1),COUNTIF(Daten!$AR$2:$AR$292,12)+1-ROW($AS$1))),\"\")","v":""},{"$f":"IF(G71=\"\",\"\",(VLOOKUP(G71,Daten!$AS$3:$AV$292,2,)))","v":""},{"$f":"IF(G71=\"\",\"\",(VLOOKUP(G71,Daten!$AS$3:$AV$292,3,)))","v":""}]
["02.",{"$f":"IFERROR(INDEX(Daten!$AM$2:$AM$292,LARGE((Daten!$AL$2:$AL$292=12)*(ROW(Daten!$AL$2:$AL$292)-1),COUNTIF(Daten!$AL$2:$AL$292,12)+1-ROW($AL$2))),\"\")","v":""},{"$f":"IF(B72=\"\",\"\",(VLOOKUP(B72,Daten!$AM$3:$AP$292,2,)))","v":""},{"$f":"IF(B72=\"\",\"\",(VLOOKUP(B72,Daten!$AM$3:$AP$292,3,)))","v":""},null,"02.",{"$f":"IFERROR(INDEX(Daten!$AS$2:$AS$292,LARGE((Daten!$AR$2:$AR$292=12)*(ROW(Daten!$AR$2:$AR$292)-1),COUNTIF(Daten!$AR$2:$AR$292,12)+1-ROW($AS$2))),\"\")","v":""},{"$f":"IF(G72=\"\",\"\",(VLOOKUP(G72,Daten!$AS$3:$AV$292,2,)))","v":""},{"$f":"IF(G72=\"\",\"\",(VLOOKUP(G72,Daten!$AS$3:$AV$292,3,)))","v":""}]
["03.",{"$f":"IFERROR(INDEX(Daten!$AM$2:$AM$292,LARGE((Daten!$AL$2:$AL$292=12)*(ROW(Daten!$AL$2:$AL$292)-1),COUNTIF(Daten!$AL$2:$AL$292,12)+1-ROW($AL$3))),\"\")","v":""},{"$f":"IF(B73=\"\",\"\",(VLOOKUP(B73,Daten!$AM$3:$AP$292,2,)))","v":""},{"$f":"IF(B73=\"\",\"\",(VLOOKUP(B73,Daten!$AM$3:$AP$292,3,)))","v":""},null,"03.",{"$f":"IFERROR(INDEX(Daten!$AS$2:$AS$292,LARGE((Daten!$AR$2:$AR$292=12)*(ROW(Daten!$AR$2:$AR$292)-1),COUNTIF(Daten!$AR$2:$AR$292,12)+1-ROW($AS$3))),\"\")","v":""},{"$f":"IF(G73=\"\",\"\",(VLOOKUP(G73,Daten!$AS$3:$AV$292,2,)))","v":""},{"$f":"IF(G73=\"\",\"\",(VLOOKUP(G73,Daten!$AS$3:$AV$292,3,)))","v":""}]
["04.",{"$f":"IFERROR(INDEX(Daten!$AM$2:$AM$292,LARGE((Daten!$AL$2:$AL$292=12)*(ROW(Daten!$AL$2:$AL$292)-1),COUNTIF(Daten!$AL$2:$AL$292,12)+1-ROW($AL$4))),\"\")","v":""},{"$f":"IF(B74=\"\",\"\",(VLOOKUP(B74,Daten!$AM$3:$AP$292,2,)))","v":""},{"$f":"IF(B74=\"\",\"\",(VLOOKUP(B74,Daten!$AM$3:$AP$292,3,)))","v":""},null,"04.",{"$f":"IFERROR(INDEX(Daten!$AS$2:$AS$292,LARGE((Daten!$AR$2:$AR$292=12)*(ROW(Daten!$AR$2:$AR$292)-1),COUNTIF(Daten!$AR$2:$AR$292,12)+1-ROW($AS$4))),\"\")","v":""},{"$f":"IF(G74=\"\",\"\",(VLOOKUP(G74,Daten!$AS$3:$AV$292,2,)))","v":""},{"$f":"IF(G74=\"\",\"\",(VLOOKUP(G74,Daten!$AS$3:$AV$292,3,)))","v":""}]
[]
["Wettkampfklasse 13 (Auflage)",null,null,null,null,"Wettkampfklasse 13 (Freihand)"]
[null,"Vor- und Nachname","Verein","Ringe",null,null,"Vor- und Nachname","Verein","Ringe"]
["01.",{"$f":"IFERROR(INDEX(Daten!$AM$2:$AM$292,LARGE((Daten!$AL$2:$AL$292=13)*(ROW(Daten!$AL$2:$AL$292)-1),COUNTIF(Daten!$AL$2:$AL$292,13)+1-ROW($AL$1))),\"\")","v":""},{"$f":"IF(B78=\"\",\"\",(VLOOKUP(B78,Daten!$AM$3:$AP$292,2,)))","v":""},{"$f":"IF(B78=\"\",\"\",(VLOOKUP(B78,Daten!$AM$3:$AP$292,3,)))","v":""},null,"01.",{"$f":"IFERROR(INDEX(Daten!$AS$2:$AS$292,LARGE((Daten!$AR$2:$AR$292=13)*(ROW(Daten!$AR$2:$AR$292)-1),COUNTIF(Daten!$AR$2:$AR$292,13)+1-ROW($AS$1))),\"\")","v":""},{"$f":"IF(G78=\"\",\"\",(VLOOKUP(G78,Daten!$AS$3:$AV$292,2,)))","v":""},{"$f":"IF(G78=\"\",\"\",(VLOOKUP(G78,Daten!$AS$3:$AV$292,3,)))","v":""}]
["02.",{"$f":"IFERROR(INDEX(Daten!$AM$2:$AM$292,LARGE((Daten!$AL$2:$AL$292=13)*(ROW(Daten!$AL$2:$AL$292)-1),COUNTIF(Daten!$AL$2:$AL$292,13)+1-ROW($AL$2))),\"\")","v":""},{"$f":"IF(B79=\"\",\"\",(VLOOKUP(B79,Daten!$AM$3:$AP$292,2,)))","v":""},{"$f":"IF(B79=\"\",\"\",(VLOOKUP(B79,Daten!$AM$3:$AP$292,3,)))","v":""},null,"02.",{"$f":"IFERROR(INDEX(Daten!$AS$2:$AS$292,LARGE((Daten!$AR$2:$AR$292=13)*(ROW(Daten!$AR$2:$AR$292)-1),COUNTIF(Daten!$AR$2:$AR$292,13)+1-ROW($AS$2))),\"\")","v":""},{"$f":"IF(G79=\"\",\"\",(VLOOKUP(G79,Daten!$AS$3:$AV$292,2,)))","v":""},{"$f":"IF(G79=\"\",\"\",(VLOOKUP(G79,Daten!$AS$3:$AV$292,3,)))","v":""}]
["03.",{"$f":"IFERROR(INDEX(Daten!$AM$2:$AM$292,LARGE((Daten!$AL$2:$AL$292=13)*(ROW(Daten!$AL$2:$AL$292)-1),COUNTIF(Daten!$AL$2:$AL$292,13)+1-ROW($AL$3))),\"\")","v":""},{"$f":"IF(B80=\"\",\"\",(VLOOKUP(B80,Daten!$AM$3:$AP$292,2,)))","v":""},{"$f":"IF(B80=\"\",\"\",(VLOOKUP(B80,Daten!$AM$3:$AP$292,3,)))","v":""},null,"03.",{"$f":"IFERROR(INDEX(Daten!$AS$2:$AS$292,LARGE((Daten!$AR$2:$AR$292=13)*(ROW(Daten!$AR$2:$AR$292)-1),COUNTIF(Daten!$AR$2:$AR$292,13)+1-ROW($AS$3))),\"\")","v":""},{"$f":"IF(G80=\"\",\"\",(VLOOKUP(G80,Daten!$AS$3:$AV$292,2,)))","v":""},{"$f":"IF(G80=\"\",\"\",(VLOOKUP(G80,Daten!$AS$3:$AV$292,3,)))","v":""}]
["04.",{"$f":"IFERROR(INDEX(Daten!$AM$2:$AM$292,LARGE((Daten!$AL$2:$AL$292=13)*(ROW(Daten!$AL$2:$AL$292)-1),COUNTIF(Daten!$AL$2:$AL$292,13)+1-ROW($AL$4))),\"\")","v":""},{"$f":"IF(B81=\"\",\"\",(VLOOKUP(B81,Daten!$AM$3:$AP$292,2,)))","v":""},{"$f":"IF(B81=\"\",\"\",(VLOOKUP(B81,Daten!$AM$3:$AP$292,3,)))","v":""},null,"04.",{"$f":"IFERROR(INDEX(Daten!$AS$2:$AS$292,LARGE((Daten!$AR$2:$AR$292=13)*(ROW(Daten!$AR$2:$AR$292)-1),COUNTIF(Daten!$AR$2:$AR$292,13)+1-ROW($AS$4))),\"\")","v":""},{"$f":"IF(G81=\"\",\"\",(VLOOKUP(G81,Daten!$AS$3:$AV$292,2,)))","v":""},{"$f":"IF(G81=\"\",\"\",(VLOOKUP(G81,Daten!$AS$3:$AV$292,3,)))","v":""}]
[]
["Wettkampfklasse 14 (Freihand)",null,null,null,null,"Wettkampfklasse 15 (Freihand)"]
[null,"Vor- und Nachname","Verein","Ringe",null,null,"Vor- und Nachname","Verein","Ringe"]
["01.",{"$f":"IFERROR(INDEX(Daten!$AS$2:$AS$292,LARGE((Daten!$AR$2:$AR$292=14)*(ROW(Daten!$AR$2:$AR$292)-1),COUNTIF(Daten!$AR$2:$AR$292,14)+1-ROW($AS$1))),\"\")","v":""},{"$f":"IF(B85=\"\",\"\",(VLOOKUP(B85,Daten!$AS$3:$AV$292,2,)))","v":""},{"$f":"IF(B85=\"\",\"\",(VLOOKUP(B85,Daten!$AS$3:$AV$292,3,)))","v":""},null,"01.",{"$f":"IFERROR(INDEX(Daten!$AS$2:$AS$292,LARGE((Daten!$AR$2:$AR$292=15)*(ROW(Daten!$AR$2:$AR$292)-1),COUNTIF(Daten!$AR$2:$AR$292,15)+1-ROW($AS$1))),\"\")","v":""},{"$f":"IF(G85=\"\",\"\",(VLOOKUP(G85,Daten!$AS$3:$AV$292,2,)))","v":""},{"$f":"IF(G85=\"\",\"\",(VLOOKUP(G85,Daten!$AS$3:$AV$292,3,)))","v":""}]
["02.",{"$f":"IFERROR(INDEX(Daten!$AS$2:$AS$292,LARGE((Daten!$AR$2:$AR$292=14)*(ROW(Daten!$AR$2:$AR$292)-1),COUNTIF(Daten!$AR$2:$AR$292,14)+1-ROW($AS$2))),\"\")","v":""},{"$f":"IF(B86=\"\",\"\",(VLOOKUP(B86,Daten!$AS$3:$AV$292,2,)))","v":""},{"$f":"IF(B86=\"\",\"\",(VLOOKUP(B86,Daten!$AS$3:$AV$292,3,)))","v":""},null,"02.",{"$f":"IFERROR(INDEX(Daten!$AS$2:$AS$292,LARGE((Daten!$AR$2:$AR$292=15)*(ROW(Daten!$AR$2:$AR$292)-1),COUNTIF(Daten!$AR$2:$AR$292,15)+1-ROW($AS$2))),\"\")","v":""},{"$f":"IF(G86=\"\",\"\",(VLOOKUP(G86,Daten!$AS$3:$AV$292,2,)))","v":""},{"$f":"IF(G86=\"\",\"\",(VLOOKUP(G86,Daten!$AS$3:$AV$292,3,)))","v":""}]
["03.",{"$f":"IFERROR(INDEX(Daten!$AS$2:$AS$292,LARGE((Daten!$AR$2:$AR$292=14)*(ROW(Daten!$AR$2:$AR$292)-1),COUNTIF(Daten!$AR$2:$AR$292,14)+1-ROW($AS$3))),\"\")","v":""},{"$f":"IF(B87=\"\",\"\",(VLOOKUP(B87,Daten!$AS$3:$AV$292,2,)))","v":""},{"$f":"IF(B87=\"\",\"\",(VLOOKUP(B87,Daten!$AS$3:$AV$292,3,)))","v":""},null,"03.",{"$f":"IFERROR(INDEX(Daten!$AS$2:$AS$292,LARGE((Daten!$AR$2:$AR$292=15)*(ROW(Daten!$AR$2:$AR$292)-1),COUNTIF(Daten!$AR$2:$AR$292,15)+1-ROW($AS$3))),\"\")","v":""},{"$f":"IF(G87=\"\",\"\",(VLOOKUP(G87,Daten!$AS$3:$AV$292,2,)))","v":""},{"$f":"IF(G87=\"\",\"\",(VLOOKUP(G87,Daten!$AS$3:$AV$292,3,)))","v":""}]
["04.",{"$f":"IFERROR(INDEX(Daten!$AS$2:$AS$292,LARGE((Daten!$AR$2:$AR$292=14)*(ROW(Daten!$AR$2:$AR$292)-1),COUNTIF(Daten!$AR$2:$AR$292,14)+1-ROW($AS$4))),\"\")","v":""},{"$f":"IF(B88=\"\",\"\",(VLOOKUP(B88,Daten!$AS$3:$AV$292,2,)))","v":""},{"$f":"IF(B88=\"\",\"\",(VLOOKUP(B88,Daten!$AS$3:$AV$292,3,)))","v":""},null,"04.",{"$f":"IFERROR(INDEX(Daten!$AS$2:$AS$292,LARGE((Daten!$AR$2:$AR$292=15)*(ROW(Daten!$AR$2:$AR$292)-1),COUNTIF(Daten!$AR$2:$AR$292,15)+1-ROW($AS$4))),\"\")","v":""},{"$f":"IF(G88=\"\",\"\",(VLOOKUP(G88,Daten!$AS$3:$AV$292,2,)))","v":""},{"$f":"IF(G88=\"\",\"\",(VLOOKUP(G88,Daten!$AS$3:$AV$292,3,)))","v":""}]
[]
["Wettkampfklasse 16 (Freihand)",null,null,null,null,"Wettkampfklasse 17 (Freihand)"]
[null,"Vor- und Nachname","Verein","Ringe",null,null,"Vor- und Nachname","Verein","Ringe"]
["01.",{"$f":"IFERROR(INDEX(Daten!$AS$2:$AS$292,LARGE((Daten!$AR$2:$AR$292=16)*(ROW(Daten!$AR$2:$AR$292)-1),COUNTIF(Daten!$AR$2:$AR$292,16)+1-ROW($AS$1))),\"\")","v":""},{"$f":"IF(B92=\"\",\"\",(VLOOKUP(B92,Daten!$AS$3:$AV$292,2,)))","v":""},{"$f":"IF(B92=\"\",\"\",(VLOOKUP(B92,Daten!$AS$3:$AV$292,3,)))","v":""},null,"01.",{"$f":"IFERROR(INDEX(Daten!$AS$2:$AS$292,LARGE((Daten!$AR$2:$AR$292=17)*(ROW(Daten!$AR$2:$AR$292)-1),COUNTIF(Daten!$AR$2:$AR$292,17)+1-ROW($AS$1))),\"\")","v":""},{"$f":"IF(G92=\"\",\"\",(VLOOKUP(G92,Daten!$AS$3:$AV$292,2,)))","v":""},{"$f":"IF(G92=\"\",\"\",(VLOOKUP(G92,Daten!$AS$3:$AV$292,3,)))","v":""}]
["02.",{"$f":"IFERROR(INDEX(Daten!$AS$2:$AS$292,LARGE((Daten!$AR$2:$AR$292=16)*(ROW(Daten!$AR$2:$AR$292)-1),COUNTIF(Daten!$AR$2:$AR$292,16)+1-ROW($AS$2))),\"\")","v":""},{"$f":"IF(B93=\"\",\"\",(VLOOKUP(B93,Daten!$AS$3:$AV$292,2,)))","v":""},{"$f":"IF(B93=\"\",\"\",(VLOOKUP(B93,Daten!$AS$3:$AV$292,3,)))","v":""},null,"02.",{"$f":"IFERROR(INDEX(Daten!$AS$2:$AS$292,LARGE((Daten!$AR$2:$AR$292=17)*(ROW(Daten!$AR$2:$AR$292)-1),COUNTIF(Daten!$AR$2:$AR$292,17)+1-ROW($AS$2))),\"\")","v":""},{"$f":"IF(G93=\"\",\"\",(VLOOKUP(G93,Daten!$AS$3:$AV$292,2,)))","v":""},{"$f":"IF(G93=\"\",\"\",(VLOOKUP(G93,Daten!$AS$3:$AV$292,3,)))","v":""}]
["03.",{"$f":"IFERROR(INDEX(Daten!$AS$2:$AS$292,LARGE((Daten!$AR$2:$AR$292=16)*(ROW(Daten!$AR$2:$AR$292)-1),COUNTIF(Daten!$AR$2:$AR$292,16)+1-ROW($AS$3))),\"\")","v":""},{"$f":"IF(B94=\"\",\"\",(VLOOKUP(B94,Daten!$AS$3:$AV$292,2,)))","v":""},{"$f":"IF(B94=\"\",\"\",(VLOOKUP(B94,Daten!$AS$3:$AV$292,3,)))","v":""},null,"03.",{"$f":"IFERROR(INDEX(Daten!$AS$2:$AS$292,LARGE((Daten!$AR$2:$AR$292=17)*(ROW(Daten!$AR$2:$AR$292)-1),COUNTIF(Daten!$AR$2:$AR$292,17)+1-ROW($AS$3))),\"\")","v":""},{"$f":"IF(G94=\"\",\"\",(VLOOKUP(G94,Daten!$AS$3:$AV$292,2,)))","v":""},{"$f":"IF(G94=\"\",\"\",(VLOOKUP(G94,Daten!$AS$3:$AV$292,3,)))","v":""}]
["04.",{"$f":"IFERROR(INDEX(Daten!$AS$2:$AS$292,LARGE((Daten!$AR$2:$AR$292=16)*(ROW(Daten!$AR$2:$AR$292)-1),COUNTIF(Daten!$AR$2:$AR$292,16)+1-ROW($AS$4))),\"\")","v":""},{"$f":"IF(B95=\"\",\"\",(VLOOKUP(B95,Daten!$AS$3:$AV$292,2,)))","v":""},{"$f":"IF(B95=\"\",\"\",(VLOOKUP(B95,Daten!$AS$3:$AV$292,3,)))","v":""},null,"04.",{"$f":"IFERROR(INDEX(Daten!$AS$2:$AS$292,LARGE((Daten!$AR$2:$AR$292=17)*(ROW(Daten!$AR$2:$AR$292)-1),COUNTIF(Daten!$AR$2:$AR$292,17)+1-ROW($AS$4))),\"\")","v":""},{"$f":"IF(G95=\"\",\"\",(VLOOKUP(G95,Daten!$AS$3:$AV$292,2,)))","v":""},{"$f":"IF(G95=\"\",\"\",(VLOOKUP(G95,Daten!$AS$3:$AV$292,3,)))","v":""}]
[]
["Wettkampfklasse 30 (Auflage)",null,null,null,null,"Wettkampfklasse 30 (Freihand)"]
[null,"Vor- und Nachname","Verein","Ringe",null,null,"Vor- und Nachname","Verein","Ringe"]
["01.",{"$f":"IFERROR(INDEX(Daten!$AM$2:$AM$292,LARGE((Daten!$AL$2:$AL$292=30)*(ROW(Daten!$AL$2:$AL$292)-1),COUNTIF(Daten!$AL$2:$AL$292,30)+1-ROW($AL$1))),\"\")","v":""},{"$f":"IF(B99=\"\",\"\",(VLOOKUP(B99,Daten!$AM$3:$AP$292,2,)))","v":""},{"$f":"IF(B99=\"\",\"\",(VLOOKUP(B99,Daten!$AM$3:$AP$292,3,)))","v":""},null,"01.",{"$f":"IFERROR(INDEX(Daten!$AS$2:$AS$292,LARGE((Daten!$AR$2:$AR$292=30)*(ROW(Daten!$AR$2:$AR$292)-1),COUNTIF(Daten!$AR$2:$AR$292,30)+1-ROW($AS$1))),\"\")","v":""},{"$f":"IF(G99=\"\",\"\",(VLOOKUP(G99,Daten!$AS$3:$AV$292,2,)))","v":""},{"$f":"IF(G99=\"\",\"\",(VLOOKUP(G99,Daten!$AS$3:$AV$292,3,)))","v":""}]
["02.",{"$f":"IFERROR(INDEX(Daten!$AM$2:$AM$292,LARGE((Daten!$AL$2:$AL$292=30)*(ROW(Daten!$AL$2:$AL$292)-1),COUNTIF(Daten!$AL$2:$AL$292,30)+1-ROW($AL$2))),\"\")","v":""},{"$f":"IF(B100=\"\",\"\",(VLOOKUP(B100,Daten!$AM$3:$AP$292,2,)))","v":""},{"$f":"IF(B100=\"\",\"\",(VLOOKUP(B100,Daten!$AM$3:$AP$292,3,)))","v":""},null,"02.",{"$f":"IFERROR(INDEX(Daten!$AS$2:$AS$292,LARGE((Daten!$AR$2:$AR$292=30)*(ROW(Daten!$AR$2:$AR$292)-1),COUNTIF(Daten!$AR$2:$AR$292,30)+1-ROW($AS$2))),\"\")","v":""},{"$f":"IF(G100=\"\",\"\",(VLOOKUP(G100,Daten!$AS$3:$AV$292,2,)))","v":""},{"$f":"IF(G100=\"\",\"\",(VLOOKUP(G100,Daten!$AS$3:$AV$292,3,)))","v":""}]
["03.",{"$f":"IFERROR(INDEX(Daten!$AM$2:$AM$292,LARGE((Daten!$AL$2:$AL$292=30)*(ROW(Daten!$AL$2:$AL$292)-1),COUNTIF(Daten!$AL$2:$AL$292,30)+1-ROW($AL$3))),\"\")","v":""},{"$f":"IF(B101=\"\",\"\",(VLOOKUP(B101,Daten!$AM$3:$AP$292,2,)))","v":""},{"$f":"IF(B101=\"\",\"\",(VLOOKUP(B101,Daten!$AM$3:$AP$292,3,)))","v":""},null,"03.",{"$f":"IFERROR(INDEX(Daten!$AS$2:$AS$292,LARGE((Daten!$AR$2:$AR$292=30)*(ROW(Daten!$AR$2:$AR$292)-1),COUNTIF(Daten!$AR$2:$AR$292,30)+1-ROW($AS$3))),\"\")","v":""},{"$f":"IF(G101=\"\",\"\",(VLOOKUP(G101,Daten!$AS$3:$AV$292,2,)))","v":""},{"$f":"IF(G101=\"\",\"\",(VLOOKUP(G101,Daten!$AS$3:$AV$292,3,)))","v":""}]
["04.",{"$f":"IFERROR(INDEX(Daten!$AM$2:$AM$292,LARGE((Daten!$AL$2:$AL$292=30)*(ROW(Daten!$AL$2:$AL$292)-1),COUNTIF(Daten!$AL$2:$AL$292,30)+1-ROW($AL$4))),\"\")","v":""},{"$f":"IF(B102=\"\",\"\",(VLOOKUP(B102,Daten!$AM$3:$AP$292,2,)))","v":""},{"$f":"IF(B102=\"\",\"\",(VLOOKUP(B102,Daten!$AM$3:$AP$292,3,)))","v":""},null,"04.",{"$f":"IFERROR(INDEX(Daten!$AS$2:$AS$292,LARGE((Daten!$AR$2:$AR$292=30)*(ROW(Daten!$AR$2:$AR$292)-1),COUNTIF(Daten!$AR$2:$AR$292,30)+1-ROW($AS$4))),\"\")","v":""},{"$f":"IF(G102=\"\",\"\",(VLOOKUP(G102,Daten!$AS$3:$AV$292,2,)))","v":""},{"$f":"IF(G102=\"\",\"\",(VLOOKUP(G102,Daten!$AS$3:$AV$292,3,)))","v":""}]
[]
["Wettkampfklasse 31 (Auflage)",null,null,null,null,"Wettkampfklasse 31 (Freihand)"]
[null,"Vor- und Nachname","Verein","Ringe",null,null,"Vor- und Nachname","Verein","Ringe"]
["01.",{"$f":"IFERROR(INDEX(Daten!$AM$2:$AM$292,LARGE((Daten!$AL$2:$AL$292=31)*(ROW(Daten!$AL$2:$AL$292)-1),COUNTIF(Daten!$AL$2:$AL$292,31)+1-ROW($AL$1))),\"\")","v":""},{"$f":"IF(B106=\"\",\"\",(VLOOKUP(B106,Daten!$AM$3:$AP$292,2,)))","v":""},{"$f":"IF(B106=\"\",\"\",(VLOOKUP(B106,Daten!$AM$3:$AP$292,3,)))","v":""},null,"01.",{"$f":"IFERROR(INDEX(Daten!$AS$2:$AS$292,LARGE((Daten!$AR$2:$AR$292=31)*(ROW(Daten!$AR$2:$AR$292)-1),COUNTIF(Daten!$AR$2:$AR$292,31)+1-ROW($AS$1))),\"\")","v":""},{"$f":"IF(G106=\"\",\"\",(VLOOKUP(G106,Daten!$AS$3:$AV$292,2,)))","v":""},{"$f":"IF(G106=\"\",\"\",(VLOOKUP(G106,Daten!$AS$3:$AV$292,3,)))","v":""}]
["02.",{"$f":"IFERROR(INDEX(Daten!$AM$2:$AM$292,LARGE((Daten!$AL$2:$AL$292=31)*(ROW(Daten!$AL$2:$AL$292)-1),COUNTIF(Daten!$AL$2:$AL$292,31)+1-ROW($AL$2))),\"\")","v":""},{"$f":"IF(B107=\"\",\"\",(VLOOKUP(B107,Daten!$AM$3:$AP$292,2,)))","v":""},{"$f":"IF(B107=\"\",\"\",(VLOOKUP(B107,Daten!$AM$3:$AP$292,3,)))","v":""},null,"02.",{"$f":"IFERROR(INDEX(Daten!$AS$2:$AS$292,LARGE((Daten!$AR$2:$AR$292=31)*(ROW(Daten!$AR$2:$AR$292)-1),COUNTIF(Daten!$AR$2:$AR$292,31)+1-ROW($AS$2))),\"\")","v":""},{"$f":"IF(G107=\"\",\"\",(VLOOKUP(G107,Daten!$AS$3:$AV$292,2,)))","v":""},{"$f":"IF(G107=\"\",\"\",(VLOOKUP(G107,Daten!$AS$3:$AV$292,3,)))","v":""}]
["03.",{"$f":"IFERROR(INDEX(Daten!$AM$2:$AM$292,LARGE((Daten!$AL$2:$AL$292=31)*(ROW(Daten!$AL$2:$AL$292)-1),COUNTIF(Daten!$AL$2:$AL$292,31)+1-ROW($AL$3))),\"\")","v":""},{"$f":"IF(B108=\"\",\"\",(VLOOKUP(B108,Daten!$AM$3:$AP$292,2,)))","v":""},{"$f":"IF(B108=\"\",\"\",(VLOOKUP(B108,Daten!$AM$3:$AP$292,3,)))","v":""},null,"03.",{"$f":"IFERROR(INDEX(Daten!$AS$2:$AS$292,LARGE((Daten!$AR$2:$AR$292=31)*(ROW(Daten!$AR$2:$AR$292)-1),COUNTIF(Daten!$AR$2:$AR$292,31)+1-ROW($AS$3))),\"\")","v":""},{"$f":"IF(G108=\"\",\"\",(VLOOKUP(G108,Daten!$AS$3:$AV$292,2,)))","v":""},{"$f":"IF(G108=\"\",\"\",(VLOOKUP(G108,Daten!$AS$3:$AV$292,3,)))","v":""}]
["04.",{"$f":"IFERROR(INDEX(Daten!$AM$2:$AM$292,LARGE((Daten!$AL$2:$AL$292=31)*(ROW(Daten!$AL$2:$AL$292)-1),COUNTIF(Daten!$AL$2:$AL$292,31)+1-ROW($AL$4))),\"\")","v":""},{"$f":"IF(B109=\"\",\"\",(VLOOKUP(B109,Daten!$AM$3:$AP$292,2,)))","v":""},{"$f":"IF(B109=\"\",\"\",(VLOOKUP(B109,Daten!$AM$3:$AP$292,3,)))","v":""},null,"04.",{"$f":"IFERROR(INDEX(Daten!$AS$2:$AS$292,LARGE((Daten!$AR$2:$AR$292=31)*(ROW(Daten!$AR$2:$AR$292)-1),COUNTIF(Daten!$AR$2:$AR$292,31)+1-ROW($AS$4))),\"\")","v":""},{"$f":"IF(G109=\"\",\"\",(VLOOKUP(G109,Daten!$AS$3:$AV$292,2,)))","v":""},{"$f":"IF(G109=\"\",\"\",(VLOOKUP(G109,Daten!$AS$3:$AV$292,3,)))","v":""}]
[]
["Wettkampfklasse 40 (Auflage)",null,null,null,null,"Wettkampfklasse 40 (Freihand)"]
[null,"Vor- und Nachname","Verein","Ringe",null,null,"Vor- und Nachname","Verein","Ringe"]
["01.",{"$f":"IFERROR(INDEX(Daten!$AM$2:$AM$292,LARGE((Daten!$AL$2:$AL$292=40)*(ROW(Daten!$AL$2:$AL$292)-1),COUNTIF(Daten!$AL$2:$AL$292,40)+1-ROW($AL$1))),\"\")","v":""},{"$f":"IF(B113=\"\",\"\",(VLOOKUP(B113,Daten!$AM$3:$AP$292,2,)))","v":""},{"$f":"IF(B113=\"\",\"\",(VLOOKUP(B113,Daten!$AM$3:$AP$292,3,)))","v":""},null,"01.",{"$f":"IFERROR(INDEX(Daten!$AS$2:$AS$292,LARGE((Daten!$AR$2:$AR$292=40)*(ROW(Daten!$AR$2:$AR$292)-1),COUNTIF(Daten!$AR$2:$AR$292,40)+1-ROW($AS$1))),\"\")","v":""},{"$f":"IF(G113=\"\",\"\",(VLOOKUP(G113,Daten!$AS$3:$AV$292,2,)))","v":""},{"$f":"IF(G113=\"\",\"\",(VLOOKUP(G113,Daten!$AS$3:$AV$292,3,)))","v":""}]
["02.",{"$f":"IFERROR(INDEX(Daten!$AM$2:$AM$292,LARGE((Daten!$AL$2:$AL$292=40)*(ROW(Daten!$AL$2:$AL$292)-1),COUNTIF(Daten!$AL$2:$AL$292,40)+1-ROW($AL$2))),\"\")","v":""},{"$f":"IF(B114=\"\",\"\",(VLOOKUP(B114,Daten!$AM$3:$AP$292,2,)))","v":""},{"$f":"IF(B114=\"\",\"\",(VLOOKUP(B114,Daten!$AM$3:$AP$292,3,)))","v":""},null,"02.",{"$f":"IFERROR(INDEX(Daten!$AS$2:$AS$292,LARGE((Daten!$AR$2:$AR$292=40)*(ROW(Daten!$AR$2:$AR$292)-1),COUNTIF(Daten!$AR$2:$AR$292,40)+1-ROW($AS$2))),\"\")","v":""},{"$f":"IF(G114=\"\",\"\",(VLOOKUP(G114,Daten!$AS$3:$AV$292,2,)))","v":""},{"$f":"IF(G114=\"\",\"\",(VLOOKUP(G114,Daten!$AS$3:$AV$292,3,)))","v":""}]
["03.",{"$f":"IFERROR(INDEX(Daten!$AM$2:$AM$292,LARGE((Daten!$AL$2:$AL$292=40)*(ROW(Daten!$AL$2:$AL$292)-1),COUNTIF(Daten!$AL$2:$AL$292,40)+1-ROW($AL$3))),\"\")","v":""},{"$f":"IF(B115=\"\",\"\",(VLOOKUP(B115,Daten!$AM$3:$AP$292,2,)))","v":""},{"$f":"IF(B115=\"\",\"\",(VLOOKUP(B115,Daten!$AM$3:$AP$292,3,)))","v":""},null,"03.",{"$f":"IFERROR(INDEX(Daten!$AS$2:$AS$292,LARGE((Daten!$AR$2:$AR$292=40)*(ROW(Daten!$AR$2:$AR$292)-1),COUNTIF(Daten!$AR$2:$AR$292,40)+1-ROW($AS$3))),\"\")","v":""},{"$f":"IF(G115=\"\",\"\",(VLOOKUP(G115,Daten!$AS$3:$AV$292,2,)))","v":""},{"$f":"IF(G115=\"\",\"\",(VLOOKUP(G115,Daten!$AS$3:$AV$292,3,)))","v":""}]
["04.",{"$f":"IFERROR(INDEX(Daten!$AM$2:$AM$292,LARGE((Daten!$AL$2:$AL$292=40)*(ROW(Daten!$AL$2:$AL$292)-1),COUNTIF(Daten!$AL$2:$AL$292,40)+1-ROW($AL$4))),\"\")","v":""},{"$f":"IF(B116=\"\",\"\",(VLOOKUP(B116,Daten!$AM$3:$AP$292,2,)))","v":""},{"$f":"IF(B116=\"\",\"\",(VLOOKUP(B116,Daten!$AM$3:$AP$292,3,)))","v":""},null,"04.",{"$f":"IFERROR(INDEX(Daten!$AS$2:$AS$292,LARGE((Daten!$AR$2:$AR$292=40)*(ROW(Daten!$AR$2:$AR$292)-1),COUNTIF(Daten!$AR$2:$AR$292,40)+1-ROW($AS$4))),\"\")","v":""},{"$f":"IF(G116=\"\",\"\",(VLOOKUP(G116,Daten!$AS$3:$AV$292,2,)))","v":""},{"$f":"IF(G116=\"\",\"\",(VLOOKUP(G116,Daten!$AS$3:$AV$292,3,)))","v":""}]
[]
["Wettkampfklasse 41 (Auflage)",null,null,null,null,"Wettkampfklasse 41 (Freihand)"]
[null,"Vor- und Nachname","Verein","Ringe",null,null,"Vor- und Nachname","Verein","Ringe"]
["01.",{"$f":"IFERROR(INDEX(Daten!$AM$2:$AM$292,LARGE((Daten!$AL$2:$AL$292=41)*(ROW(Daten!$AL$2:$AL$292)-1),COUNTIF(Daten!$AL$2:$AL$292,41)+1-ROW($AL$1))),\"\")","v":""},{"$f":"IF(B120=\"\",\"\",(VLOOKUP(B120,Daten!$AM$3:$AP$292,2,)))","v":""},{"$f":"IF(B120=\"\",\"\",(VLOOKUP(B120,Daten!$AM$3:$AP$292,3,)))","v":""},null,"01.",{"$f":"IFERROR(INDEX(Daten!$AS$2:$AS$292,LARGE((Daten!$AR$2:$AR$292=41)*(ROW(Daten!$AR$2:$AR$292)-1),COUNTIF(Daten!$AR$2:$AR$292,41)+1-ROW($AS$1))),\"\")","v":""},{"$f":"IF(G120=\"\",\"\",(VLOOKUP(G120,Daten!$AS$3:$AV$292,2,)))","v":""},{"$f":"IF(G120=\"\",\"\",(VLOOKUP(G120,Daten!$AS$3:$AV$292,3,)))","v":""}]
["02.",{"$f":"IFERROR(INDEX(Daten!$AM$2:$AM$292,LARGE((Daten!$AL$2:$AL$292=41)*(ROW(Daten!$AL$2:$AL$292)-1),COUNTIF(Daten!$AL$2:$AL$292,41)+1-ROW($AL$2))),\"\")","v":""},{"$f":"IF(B121=\"\",\"\",(VLOOKUP(B121,Daten!$AM$3:$AP$292,2,)))","v":""},{"$f":"IF(B121=\"\",\"\",(VLOOKUP(B121,Daten!$AM$3:$AP$292,3,)))","v":""},null,"02.",{"$f":"IFERROR(INDEX(Daten!$AS$2:$AS$292,LARGE((Daten!$AR$2:$AR$292=41)*(ROW(Daten!$AR$2:$AR$292)-1),COUNTIF(Daten!$AR$2:$AR$292,41)+1-ROW($AS$2))),\"\")","v":""},{"$f":"IF(G121=\"\",\"\",(VLOOKUP(G121,Daten!$AS$3:$AV$292,2,)))","v":""},{"$f":"IF(G121=\"\",\"\",(VLOOKUP(G121,Daten!$AS$3:$AV$292,3,)))","v":""}]
["03.",{"$f":"IFERROR(INDEX(Daten!$AM$2:$AM$292,LARGE((Daten!$AL$2:$AL$292=41)*(ROW(Daten!$AL$2:$AL$292)-1),COUNTIF(Daten!$AL$2:$AL$292,41)+1-ROW($AL$3))),\"\")","v":""},{"$f":"IF(B122=\"\",\"\",(VLOOKUP(B122,Daten!$AM$3:$AP$292,2,)))","v":""},{"$f":"IF(B122=\"\",\"\",(VLOOKUP(B122,Daten!$AM$3:$AP$292,3,)))","v":""},null,"03.",{"$f":"IFERROR(INDEX(Daten!$AS$2:$AS$292,LARGE((Daten!$AR$2:$AR$292=41)*(ROW(Daten!$AR$2:$AR$292)-1),COUNTIF(Daten!$AR$2:$AR$292,41)+1-ROW($AS$3))),\"\")","v":""},{"$f":"IF(G122=\"\",\"\",(VLOOKUP(G122,Daten!$AS$3:$AV$292,2,)))","v":""},{"$f":"IF(G122=\"\",\"\",(VLOOKUP(G122,Daten!$AS$3:$AV$292,3,)))","v":""}]
["04.",{"$f":"IFERROR(INDEX(Daten!$AM$2:$AM$292,LARGE((Daten!$AL$2:$AL$292=41)*(ROW(Daten!$AL$2:$AL$292)-1),COUNTIF(Daten!$AL$2:$AL$292,41)+1-ROW($AL$4))),\"\")","v":""},{"$f":"IF(B123=\"\",\"\",(VLOOKUP(B123,Daten!$AM$3:$AP$292,2,)))","v":""},{"$f":"IF(B123=\"\",\"\",(VLOOKUP(B123,Daten!$AM$3:$AP$292,3,)))","v":""},null,"04.",{"$f":"IFERROR(INDEX(Daten!$AS$2:$AS$292,LARGE((Daten!$AR$2:$AR$292=41)*(ROW(Daten!$AR$2:$AR$292)-1),COUNTIF(Daten!$AR$2:$AR$292,41)+1-ROW($AS$4))),\"\")","v":""},{"$f":"IF(G123=\"\",\"\",(VLOOKUP(G123,Daten!$AS$3:$AV$292,2,)))","v":""},{"$f":"IF(G123=\"\",\"\",(VLOOKUP(G123,Daten!$AS$3:$AV$292,3,)))","v":""}]
[]
["Wettkampfklasse 42 (Auflage)",null,null,null,null,"Wettkampfklasse 42 (Freihand)"]
[null,"Vor- und Nachname","Verein","Ringe",null,null,"Vor- und Nachname","Verein","Ringe"]
["01.",{"$f":"IFERROR(INDEX(Daten!$AM$2:$AM$292,LARGE((Daten!$AL$2:$AL$292=42)*(ROW(Daten!$AL$2:$AL$292)-1),COUNTIF(Daten!$AL$2:$AL$292,42)+1-ROW($AL$1))),\"\")","v":""},{"$f":"IF(B127=\"\",\"\",(VLOOKUP(B127,Daten!$AM$3:$AP$292,2,)))","v":""},{"$f":"IF(B127=\"\",\"\",(VLOOKUP(B127,Daten!$AM$3:$AP$292,3,)))","v":""},null,"01.",{"$f":"IFERROR(INDEX(Daten!$AS$2:$AS$292,LARGE((Daten!$AR$2:$AR$292=42)*(ROW(Daten!$AR$2:$AR$292)-1),COUNTIF(Daten!$AR$2:$AR$292,42)+1-ROW($AS$1))),\"\")","v":""},{"$f":"IF(G127=\"\",\"\",(VLOOKUP(G127,Daten!$AS$3:$AV$292,2,)))","v":""},{"$f":"IF(G127=\"\",\"\",(VLOOKUP(G127,Daten!$AS$3:$AV$292,3,)))","v":""}]
["02.",{"$f":"IFERROR(INDEX(Daten!$AM$2:$AM$292,LARGE((Daten!$AL$2:$AL$292=42)*(ROW(Daten!$AL$2:$AL$292)-1),COUNTIF(Daten!$AL$2:$AL$292,42)+1-ROW($AL$2))),\"\")","v":""},{"$f":"IF(B128=\"\",\"\",(VLOOKUP(B128,Daten!$AM$3:$AP$292,2,)))","v":""},{"$f":"IF(B128=\"\",\"\",(VLOOKUP(B128,Daten!$AM$3:$AP$292,3,)))","v":""},null,"02.",{"$f":"IFERROR(INDEX(Daten!$AS$2:$AS$292,LARGE((Daten!$AR$2:$AR$292=42)*(ROW(Daten!$AR$2:$AR$292)-1),COUNTIF(Daten!$AR$2:$AR$292,42)+1-ROW($AS$2))),\"\")","v":""},{"$f":"IF(G128=\"\",\"\",(VLOOKUP(G128,Daten!$AS$3:$AV$292,2,)))","v":""},{"$f":"IF(G128=\"\",\"\",(VLOOKUP(G128,Daten!$AS$3:$AV$292,3,)))","v":""}]
["03.",{"$f":"IFERROR(INDEX(Daten!$AM$2:$AM$292,LARGE((Daten!$AL$2:$AL$292=42)*(ROW(Daten!$AL$2:$AL$292)-1),COUNTIF(Daten!$AL$2:$AL$292,42)+1-ROW($AL$3))),\"\")","v":""},{"$f":"IF(B129=\"\",\"\",(VLOOKUP(B129,Daten!$AM$3:$AP$292,2,)))","v":""},{"$f":"IF(B129=\"\",\"\",(VLOOKUP(B129,Daten!$AM$3:$AP$292,3,)))","v":""},null,"03.",{"$f":"IFERROR(INDEX(Daten!$AS$2:$AS$292,LARGE((Daten!$AR$2:$AR$292=42)*(ROW(Daten!$AR$2:$AR$292)-1),COUNTIF(Daten!$AR$2:$AR$292,42)+1-ROW($AS$3))),\"\")","v":""},{"$f":"IF(G129=\"\",\"\",(VLOOKUP(G129,Daten!$AS$3:$AV$292,2,)))","v":""},{"$f":"IF(G129=\"\",\"\",(VLOOKUP(G129,Daten!$AS$3:$AV$292,3,)))","v":""}]
["04.",{"$f":"IFERROR(INDEX(Daten!$AM$2:$AM$292,LARGE((Daten!$AL$2:$AL$292=42)*(ROW(Daten!$AL$2:$AL$292)-1),COUNTIF(Daten!$AL$2:$AL$292,42)+1-ROW($AL$4))),\"\")","v":""},{"$f":"IF(B130=\"\",\"\",(VLOOKUP(B130,Daten!$AM$3:$AP$292,2,)))","v":""},{"$f":"IF(B130=\"\",\"\",(VLOOKUP(B130,Daten!$AM$3:$AP$292,3,)))","v":""},null,"04.",{"$f":"IFERROR(INDEX(Daten!$AS$2:$AS$292,LARGE((Daten!$AR$2:$AR$292=42)*(ROW(Daten!$AR$2:$AR$292)-1),COUNTIF(Daten!$AR$2:$AR$292,42)+1-ROW($AS$4))),\"\")","v":""},{"$f":"IF(G130=\"\",\"\",(VLOOKUP(G130,Daten!$AS$3:$AV$292,2,)))","v":""},{"$f":"IF(G130=\"\",\"\",(VLOOKUP(G130,Daten!$AS$3:$AV$292,3,)))","v":""}]
[]
["Wettkampfklasse 43 (Auflage)",null,null,null,null,"Wettkampfklasse 43 (Freihand)"]
[null,"Vor- und Nachname","Verein","Ringe",null,null,"Vor- und Nachname","Verein","Ringe"]
["01.",{"$f":"IFERROR(INDEX(Daten!$AM$2:$AM$292,LARGE((Daten!$AL$2:$AL$292=43)*(ROW(Daten!$AL$2:$AL$292)-1),COUNTIF(Daten!$AL$2:$AL$292,43)+1-ROW($AL$1))),\"\")","v":""},{"$f":"IF(B134=\"\",\"\",(VLOOKUP(B134,Daten!$AM$3:$AP$292,2,)))","v":""},{"$f":"IF(B134=\"\",\"\",(VLOOKUP(B134,Daten!$AM$3:$AP$292,3,)))","v":""},null,"01.",{"$f":"IFERROR(INDEX(Daten!$AS$2:$AS$292,LARGE((Daten!$AR$2:$AR$292=43)*(ROW(Daten!$AR$2:$AR$292)-1),COUNTIF(Daten!$AR$2:$AR$292,43)+1-ROW($AS$1))),\"\")","v":""},{"$f":"IF(G134=\"\",\"\",(VLOOKUP(G134,Daten!$AS$3:$AV$292,2,)))","v":""},{"$f":"IF(G134=\"\",\"\",(VLOOKUP(G134,Daten!$AS$3:$AV$292,3,)))","v":""}]
["02.",{"$f":"IFERROR(INDEX(Daten!$AM$2:$AM$292,LARGE((Daten!$AL$2:$AL$292=43)*(ROW(Daten!$AL$2:$AL$292)-1),COUNTIF(Daten!$AL$2:$AL$292,43)+1-ROW($AL$2))),\"\")","v":""},{"$f":"IF(B135=\"\",\"\",(VLOOKUP(B135,Daten!$AM$3:$AP$292,2,)))","v":""},{"$f":"IF(B135=\"\",\"\",(VLOOKUP(B135,Daten!$AM$3:$AP$292,3,)))","v":""},null,"02.",{"$f":"IFERROR(INDEX(Daten!$AS$2:$AS$292,LARGE((Daten!$AR$2:$AR$292=43)*(ROW(Daten!$AR$2:$AR$292)-1),COUNTIF(Daten!$AR$2:$AR$292,43)+1-ROW($AS$2))),\"\")","v":""},{"$f":"IF(G135=\"\",\"\",(VLOOKUP(G135,Daten!$AS$3:$AV$292,2,)))","v":""},{"$f":"IF(G135=\"\",\"\",(VLOOKUP(G135,Daten!$AS$3:$AV$292,3,)))","v":""}]
["03.",{"$f":"IFERROR(INDEX(Daten!$AM$2:$AM$292,LARGE((Daten!$AL$2:$AL$292=43)*(ROW(Daten!$AL$2:$AL$292)-1),COUNTIF(Daten!$AL$2:$AL$292,43)+1-ROW($AL$3))),\"\")","v":""},{"$f":"IF(B136=\"\",\"\",(VLOOKUP(B136,Daten!$AM$3:$AP$292,2,)))","v":""},{"$f":"IF(B136=\"\",\"\",(VLOOKUP(B136,Daten!$AM$3:$AP$292,3,)))","v":""},null,"03.",{"$f":"IFERROR(INDEX(Daten!$AS$2:$AS$292,LARGE((Daten!$AR$2:$AR$292=43)*(ROW(Daten!$AR$2:$AR$292)-1),COUNTIF(Daten!$AR$2:$AR$292,43)+1-ROW($AS$3))),\"\")","v":""},{"$f":"IF(G136=\"\",\"\",(VLOOKUP(G136,Daten!$AS$3:$AV$292,2,)))","v":""},{"$f":"IF(G136=\"\",\"\",(VLOOKUP(G136,Daten!$AS$3:$AV$292,3,)))","v":""}]
["04.",{"$f":"IFERROR(INDEX(Daten!$AM$2:$AM$292,LARGE((Daten!$AL$2:$AL$292=43)*(ROW(Daten!$AL$2:$AL$292)-1),COUNTIF(Daten!$AL$2:$AL$292,43)+1-ROW($AL$4))),\"\")","v":""},{"$f":"IF(B137=\"\",\"\",(VLOOKUP(B137,Daten!$AM$3:$AP$292,2,)))","v":""},{"$f":"IF(B137=\"\",\"\",(VLOOKUP(B137,Daten!$AM$3:$AP$292,3,)))","v":""},null,"04.",{"$f":"IFERROR(INDEX(Daten!$AS$2:$AS$292,LARGE((Daten!$AR$2:$AR$292=43)*(ROW(Daten!$AR$2:$AR$292)-1),COUNTIF(Daten!$AR$2:$AR$292,43)+1-ROW($AS$4))),\"\")","v":""},{"$f":"IF(G137=\"\",\"\",(VLOOKUP(G137,Daten!$AS$3:$AV$292,2,)))","v":""},{"$f":"IF(G137=\"\",\"\",(VLOOKUP(G137,Daten!$AS$3:$AV$292,3,)))","v":""}]
[]
["Wettkampfklasse 70 (Auflage)",null,null,null,null,"Wettkampfklasse 71 (Auflage)"]
[null,"Vor- und Nachname","Verein","Ringe",null,null,"Vor- und Nachname","Verein","Ringe"]
["01.",{"$f":"IFERROR(INDEX(Daten!$AM$2:$AM$292,LARGE((Daten!$AL$2:$AL$292=70)*(ROW(Daten!$AL$2:$AL$292)-1),COUNTIF(Daten!$AL$2:$AL$292,70)+1-ROW($AL$1))),\"\")","v":""},{"$f":"IF(B141=\"\",\"\",(VLOOKUP(B141,Daten!$AM$3:$AP$292,2,)))","v":""},{"$f":"IF(B141=\"\",\"\",(VLOOKUP(B141,Daten!$AM$3:$AP$292,3,)))","v":""},null,"01.",{"$f":"IFERROR(INDEX(Daten!$AM$2:$AM$292,LARGE((Daten!$AL$2:$AL$292=71)*(ROW(Daten!$AL$2:$AL$292)-1),COUNTIF(Daten!$AL$2:$AL$292,71)+1-ROW($AL$1))),\"\")","v":""},{"$f":"IF(G141=\"\",\"\",(VLOOKUP(G141,Daten!$AM$3:$AP$292,2,)))","v":""},{"$f":"IF(G141=\"\",\"\",(VLOOKUP(G141,Daten!$AM$3:$AP$292,3,)))","v":""}]
["02.",{"$f":"IFERROR(INDEX(Daten!$AM$2:$AM$292,LARGE((Daten!$AL$2:$AL$292=70)*(ROW(Daten!$AL$2:$AL$292)-1),COUNTIF(Daten!$AL$2:$AL$292,70)+1-ROW($AL$2))),\"\")","v":""},{"$f":"IF(B142=\"\",\"\",(VLOOKUP(B142,Daten!$AM$3:$AP$292,2,)))","v":""},{"$f":"IF(B142=\"\",\"\",(VLOOKUP(B142,Daten!$AM$3:$AP$292,3,)))","v":""},null,"02.",{"$f":"IFERROR(INDEX(Daten!$AM$2:$AM$292,LARGE((Daten!$AL$2:$AL$292=71)*(ROW(Daten!$AL$2:$AL$292)-1),COUNTIF(Daten!$AL$2:$AL$292,71)+1-ROW($AL$2))),\"\")","v":""},{"$f":"IF(G142=\"\",\"\",(VLOOKUP(G142,Daten!$AM$3:$AP$292,2,)))","v":""},{"$f":"IF(G142=\"\",\"\",(VLOOKUP(G142,Daten!$AM$3:$AP$292,3,)))","v":""}]
["03.",{"$f":"IFERROR(INDEX(Daten!$AM$2:$AM$292,LARGE((Daten!$AL$2:$AL$292=70)*(ROW(Daten!$AL$2:$AL$292)-1),COUNTIF(Daten!$AL$2:$AL$292,70)+1-ROW($AL$3))),\"\")","v":""},{"$f":"IF(B143=\"\",\"\",(VLOOKUP(B143,Daten!$AM$3:$AP$292,2,)))","v":""},{"$f":"IF(B143=\"\",\"\",(VLOOKUP(B143,Daten!$AM$3:$AP$292,3,)))","v":""},null,"03.",{"$f":"IFERROR(INDEX(Daten!$AM$2:$AM$292,LARGE((Daten!$AL$2:$AL$292=71)*(ROW(Daten!$AL$2:$AL$292)-1),COUNTIF(Daten!$AL$2:$AL$292,71)+1-ROW($AL$3))),\"\")","v":""},{"$f":"IF(G143=\"\",\"\",(VLOOKUP(G143,Daten!$AM$3:$AP$292,2,)))","v":""},{"$f":"IF(G143=\"\",\"\",(VLOOKUP(G143,Daten!$AM$3:$AP$292,3,)))","v":""}]
["04.",{"$f":"IFERROR(INDEX(Daten!$AM$2:$AM$292,LARGE((Daten!$AL$2:$AL$292=70)*(ROW(Daten!$AL$2:$AL$292)-1),COUNTIF(Daten!$AL$2:$AL$292,70)+1-ROW($AL$4))),\"\")","v":""},{"$f":"IF(B144=\"\",\"\",(VLOOKUP(B144,Daten!$AM$3:$AP$292,2,)))","v":""},{"$f":"IF(B144=\"\",\"\",(VLOOKUP(B144,Daten!$AM$3:$AP$292,3,)))","v":""},null,"04.",{"$f":"IFERROR(INDEX(Daten!$AM$2:$AM$292,LARGE((Daten!$AL$2:$AL$292=71)*(ROW(Daten!$AL$2:$AL$292)-1),COUNTIF(Daten!$AL$2:$AL$292,71)+1-ROW($AL$4))),\"\")","v":""},{"$f":"IF(G144=\"\",\"\",(VLOOKUP(G144,Daten!$AM$3:$AP$292,2,)))","v":""},{"$f":"IF(G144=\"\",\"\",(VLOOKUP(G144,Daten!$AM$3:$AP$292,3,)))","v":""}]
[]
["Wettkampfklasse 72 (Auflage)",null,null,null,null,"Wettkampfklasse 73 (Auflage)"]
[null,"Vor- und Nachname","Verein","Ringe",null,null,"Vor- und Nachname","Verein","Ringe"]
["01.",{"$f":"IFERROR(INDEX(Daten!$AM$2:$AM$292,LARGE((Daten!$AL$2:$AL$292=72)*(ROW(Daten!$AL$2:$AL$292)-1),COUNTIF(Daten!$AL$2:$AL$292,72)+1-ROW($AL$1))),\"\")","v":""},{"$f":"IF(B148=\"\",\"\",(VLOOKUP(B148,Daten!$AM$3:$AP$292,2,)))","v":""},{"$f":"IF(B148=\"\",\"\",(VLOOKUP(B148,Daten!$AM$3:$AP$292,3,)))","v":""},null,"01.",{"$f":"IFERROR(INDEX(Daten!$AM$2:$AM$292,LARGE((Daten!$AL$2:$AL$292=73)*(ROW(Daten!$AL$2:$AL$292)-1),COUNTIF(Daten!$AL$2:$AL$292,73)+1-ROW($AL$1))),\"\")","v":""},{"$f":"IF(G148=\"\",\"\",(VLOOKUP(G148,Daten!$AM$3:$AP$292,2,)))","v":""},{"$f":"IF(G148=\"\",\"\",(VLOOKUP(G148,Daten!$AM$3:$AP$292,3,)))","v":""}]
["02.",{"$f":"IFERROR(INDEX(Daten!$AM$2:$AM$292,LARGE((Daten!$AL$2:$AL$292=72)*(ROW(Daten!$AL$2:$AL$292)-1),COUNTIF(Daten!$AL$2:$AL$292,72)+1-ROW($AL$2))),\"\")","v":""},{"$f":"IF(B149=\"\",\"\",(VLOOKUP(B149,Daten!$AM$3:$AP$292,2,)))","v":""},{"$f":"IF(B149=\"\",\"\",(VLOOKUP(B149,Daten!$AM$3:$AP$292,3,)))","v":""},null,"02.",{"$f":"IFERROR(INDEX(Daten!$AM$2:$AM$292,LARGE((Daten!$AL$2:$AL$292=73)*(ROW(Daten!$AL$2:$AL$292)-1),COUNTIF(Daten!$AL$2:$AL$292,73)+1-ROW($AL$2))),\"\")","v":""},{"$f":"IF(G149=\"\",\"\",(VLOOKUP(G149,Daten!$AM$3:$AP$292,2,)))","v":""},{"$f":"IF(G149=\"\",\"\",(VLOOKUP(G149,Daten!$AM$3:$AP$292,3,)))","v":""}]
["03.",{"$f":"IFERROR(INDEX(Daten!$AM$2:$AM$292,LARGE((Daten!$AL$2:$AL$292=72)*(ROW(Daten!$AL$2:$AL$292)-1),COUNTIF(Daten!$AL$2:$AL$292,72)+1-ROW($AL$3))),\"\")","v":""},{"$f":"IF(B150=\"\",\"\",(VLOOKUP(B150,Daten!$AM$3:$AP$292,2,)))","v":""},{"$f":"IF(B150=\"\",\"\",(VLOOKUP(B150,Daten!$AM$3:$AP$292,3,)))","v":""},null,"03.",{"$f":"IFERROR(INDEX(Daten!$AM$2:$AM$292,LARGE((Daten!$AL$2:$AL$292=73)*(ROW(Daten!$AL$2:$AL$292)-1),COUNTIF(Daten!$AL$2:$AL$292,73)+1-ROW($AL$3))),\"\")","v":""},{"$f":"IF(G150=\"\",\"\",(VLOOKUP(G150,Daten!$AM$3:$AP$292,2,)))","v":""},{"$f":"IF(G150=\"\",\"\",(VLOOKUP(G150,Daten!$AM$3:$AP$292,3,)))","v":""}]
["04.",{"$f":"IFERROR(INDEX(Daten!$AM$2:$AM$292,LARGE((Daten!$AL$2:$AL$292=72)*(ROW(Daten!$AL$2:$AL$292)-1),COUNTIF(Daten!$AL$2:$AL$292,72)+1-ROW($AL$4))),\"\")","v":""},{"$f":"IF(B151=\"\",\"\",(VLOOKUP(B151,Daten!$AM$3:$AP$292,2,)))","v":""},{"$f":"IF(B151=\"\",\"\",(VLOOKUP(B151,Daten!$AM$3:$AP$292,3,)))","v":""},null,"04.",{"$f":"IFERROR(INDEX(Daten!$AM$2:$AM$292,LARGE((Daten!$AL$2:$AL$292=73)*(ROW(Daten!$AL$2:$AL$292)-1),COUNTIF(Daten!$AL$2:$AL$292,73)+1-ROW($AL$4))),\"\")","v":""},{"$f":"IF(G151=\"\",\"\",(VLOOKUP(G151,Daten!$AM$3:$AP$292,2,)))","v":""},{"$f":"IF(G151=\"\",\"\",(VLOOKUP(G151,Daten!$AM$3:$AP$292,3,)))","v":""}]
[]
["Wettkampfklasse 74 (Auflage)",null,null,null,null,"Wettkampfklasse 75 (Auflage)"]
[null,"Vor- und Nachname","Verein","Ringe",null,null,"Vor- und Nachname","Verein","Ringe"]
["01.",{"$f":"IFERROR(INDEX(Daten!$AM$2:$AM$292,LARGE((Daten!$AL$2:$AL$292=74)*(ROW(Daten!$AL$2:$AL$292)-1),COUNTIF(Daten!$AL$2:$AL$292,74)+1-ROW($AL$1))),\"\")","v":""},{"$f":"IF(B155=\"\",\"\",(VLOOKUP(B155,Daten!$AM$3:$AP$292,2,)))","v":""},{"$f":"IF(B155=\"\",\"\",(VLOOKUP(B155,Daten!$AM$3:$AP$292,3,)))","v":""},null,"01.",{"$f":"IFERROR(INDEX(Daten!$AM$2:$AM$292,LARGE((Daten!$AL$2:$AL$292=75)*(ROW(Daten!$AL$2:$AL$292)-1),COUNTIF(Daten!$AL$2:$AL$292,75)+1-ROW($AL$1))),\"\")","v":""},{"$f":"IF(G155=\"\",\"\",(VLOOKUP(G155,Daten!$AM$3:$AP$292,2,)))","v":""},{"$f":"IF(G155=\"\",\"\",(VLOOKUP(G155,Daten!$AM$3:$AP$292,3,)))","v":""}]
["02.",{"$f":"IFERROR(INDEX(Daten!$AM$2:$AM$292,LARGE((Daten!$AL$2:$AL$292=74)*(ROW(Daten!$AL$2:$AL$292)-1),COUNTIF(Daten!$AL$2:$AL$292,74)+1-ROW($AL$2))),\"\")","v":""},{"$f":"IF(B156=\"\",\"\",(VLOOKUP(B156,Daten!$AM$3:$AP$292,2,)))","v":""},{"$f":"IF(B156=\"\",\"\",(VLOOKUP(B156,Daten!$AM$3:$AP$292,3,)))","v":""},null,"02.",{"$f":"IFERROR(INDEX(Daten!$AM$2:$AM$292,LARGE((Daten!$AL$2:$AL$292=75)*(ROW(Daten!$AL$2:$AL$292)-1),COUNTIF(Daten!$AL$2:$AL$292,75)+1-ROW($AL$2))),\"\")","v":""},{"$f":"IF(G156=\"\",\"\",(VLOOKUP(G156,Daten!$AM$3:$AP$292,2,)))","v":""},{"$f":"IF(G156=\"\",\"\",(VLOOKUP(G156,Daten!$AM$3:$AP$292,3,)))","v":""}]
["03.",{"$f":"IFERROR(INDEX(Daten!$AM$2:$AM$292,LARGE((Daten!$AL$2:$AL$292=74)*(ROW(Daten!$AL$2:$AL$292)-1),COUNTIF(Daten!$AL$2:$AL$292,74)+1-ROW($AL$3))),\"\")","v":""},{"$f":"IF(B157=\"\",\"\",(VLOOKUP(B157,Daten!$AM$3:$AP$292,2,)))","v":""},{"$f":"IF(B157=\"\",\"\",(VLOOKUP(B157,Daten!$AM$3:$AP$292,3,)))","v":""},null,"03.",{"$f":"IFERROR(INDEX(Daten!$AM$2:$AM$292,LARGE((Daten!$AL$2:$AL$292=75)*(ROW(Daten!$AL$2:$AL$292)-1),COUNTIF(Daten!$AL$2:$AL$292,75)+1-ROW($AL$3))),\"\")","v":""},{"$f":"IF(G157=\"\",\"\",(VLOOKUP(G157,Daten!$AM$3:$AP$292,2,)))","v":""},{"$f":"IF(G157=\"\",\"\",(VLOOKUP(G157,Daten!$AM$3:$AP$292,3,)))","v":""}]
["04.",{"$f":"IFERROR(INDEX(Daten!$AM$2:$AM$292,LARGE((Daten!$AL$2:$AL$292=74)*(ROW(Daten!$AL$2:$AL$292)-1),COUNTIF(Daten!$AL$2:$AL$292,74)+1-ROW($AL$4))),\"\")","v":""},{"$f":"IF(B158=\"\",\"\",(VLOOKUP(B158,Daten!$AM$3:$AP$292,2,)))","v":""},{"$f":"IF(B158=\"\",\"\",(VLOOKUP(B158,Daten!$AM$3:$AP$292,3,)))","v":""},null,"04.",{"$f":"IFERROR(INDEX(Daten!$AM$2:$AM$292,LARGE((Daten!$AL$2:$AL$292=75)*(ROW(Daten!$AL$2:$AL$292)-1),COUNTIF(Daten!$AL$2:$AL$292,75)+1-ROW($AL$4))),\"\")","v":""},{"$f":"IF(G158=\"\",\"\",(VLOOKUP(G158,Daten!$AM$3:$AP$292,2,)))","v":""},{"$f":"IF(G158=\"\",\"\",(VLOOKUP(G158,Daten!$AM$3:$AP$292,3,)))","v":""}]
[]
["Wettkampfklasse 76 (Auflage)",null,null,null,null,"Wettkampfklasse 77 (Auflage)"]
[null,"Vor- und Nachname","Verein","Ringe",null,null,"Vor- und Nachname","Verein","Ringe"]
["01.",{"$f":"IFERROR(INDEX(Daten!$AM$2:$AM$292,LARGE((Daten!$AL$2:$AL$292=76)*(ROW(Daten!$AL$2:$AL$292)-1),COUNTIF(Daten!$AL$2:$AL$292,76)+1-ROW($AL$1))),\"\")","v":""},{"$f":"IF(B162=\"\",\"\",(VLOOKUP(B162,Daten!$AM$3:$AP$292,2,)))","v":""},{"$f":"IF(B162=\"\",\"\",(VLOOKUP(B162,Daten!$AM$3:$AP$292,3,)))","v":""},null,"01.",{"$f":"IFERROR(INDEX(Daten!$AM$2:$AM$292,LARGE((Daten!$AL$2:$AL$292=77)*(ROW(Daten!$AL$2:$AL$292)-1),COUNTIF(Daten!$AL$2:$AL$292,77)+1-ROW($AL$1))),\"\")","v":""},{"$f":"IF(G162=\"\",\"\",(VLOOKUP(G162,Daten!$AM$3:$AP$292,2,)))","v":""},{"$f":"IF(G162=\"\",\"\",(VLOOKUP(G162,Daten!$AM$3:$AP$292,3,)))","v":""}]
["02.",{"$f":"IFERROR(INDEX(Daten!$AM$2:$AM$292,LARGE((Daten!$AL$2:$AL$292=76)*(ROW(Daten!$AL$2:$AL$292)-1),COUNTIF(Daten!$AL$2:$AL$292,76)+1-ROW($AL$2))),\"\")","v":""},{"$f":"IF(B163=\"\",\"\",(VLOOKUP(B163,Daten!$AM$3:$AP$292,2,)))","v":""},{"$f":"IF(B163=\"\",\"\",(VLOOKUP(B163,Daten!$AM$3:$AP$292,3,)))","v":""},null,"02.",{"$f":"IFERROR(INDEX(Daten!$AM$2:$AM$292,LARGE((Daten!$AL$2:$AL$292=77)*(ROW(Daten!$AL$2:$AL$292)-1),COUNTIF(Daten!$AL$2:$AL$292,77)+1-ROW($AL$2))),\"\")","v":""},{"$f":"IF(G163=\"\",\"\",(VLOOKUP(G163,Daten!$AM$3:$AP$292,2,)))","v":""},{"$f":"IF(G163=\"\",\"\",(VLOOKUP(G163,Daten!$AM$3:$AP$292,3,)))","v":""}]
["03.",{"$f":"IFERROR(INDEX(Daten!$AM$2:$AM$292,LARGE((Daten!$AL$2:$AL$292=76)*(ROW(Daten!$AL$2:$AL$292)-1),COUNTIF(Daten!$AL$2:$AL$292,76)+1-ROW($AL$3))),\"\")","v":""},{"$f":"IF(B164=\"\",\"\",(VLOOKUP(B164,Daten!$AM$3:$AP$292,2,)))","v":""},{"$f":"IF(B164=\"\",\"\",(VLOOKUP(B164,Daten!$AM$3:$AP$292,3,)))","v":""},null,"03.",{"$f":"IFERROR(INDEX(Daten!$AM$2:$AM$292,LARGE((Daten!$AL$2:$AL$292=77)*(ROW(Daten!$AL$2:$AL$292)-1),COUNTIF(Daten!$AL$2:$AL$292,77)+1-ROW($AL$3))),\"\")","v":""},{"$f":"IF(G164=\"\",\"\",(VLOOKUP(G164,Daten!$AM$3:$AP$292,2,)))","v":""},{"$f":"IF(G164=\"\",\"\",(VLOOKUP(G164,Daten!$AM$3:$AP$292,3,)))","v":""}]
["04.",{"$f":"IFERROR(INDEX(Daten!$AM$2:$AM$292,LARGE((Daten!$AL$2:$AL$292=76)*(ROW(Daten!$AL$2:$AL$292)-1),COUNTIF(Daten!$AL$2:$AL$292,76)+1-ROW($AL$4))),\"\")","v":""},{"$f":"IF(B165=\"\",\"\",(VLOOKUP(B165,Daten!$AM$3:$AP$292,2,)))","v":""},{"$f":"IF(B165=\"\",\"\",(VLOOKUP(B165,Daten!$AM$3:$AP$292,3,)))","v":""},null,"04.",{"$f":"IFERROR(INDEX(Daten!$AM$2:$AM$292,LARGE((Daten!$AL$2:$AL$292=77)*(ROW(Daten!$AL$2:$AL$292)-1),COUNTIF(Daten!$AL$2:$AL$292,77)+1-ROW($AL$4))),\"\")","v":""},{"$f":"IF(G165=\"\",\"\",(VLOOKUP(G165,Daten!$AM$3:$AP$292,2,)))","v":""},{"$f":"IF(G165=\"\",\"\",(VLOOKUP(G165,Daten!$AM$3:$AP$292,3,)))","v":""}]
[]
["Wettkampfklasse 78 (Auflage)",null,null,null,null,"Wettkampfklasse 79 (Auflage)"]
[null,"Vor- und Nachname","Verein","Ringe",null,null,"Vor- und Nachname","Verein","Ringe"]
["01.",{"$f":"IFERROR(INDEX(Daten!$AM$2:$AM$292,LARGE((Daten!$AL$2:$AL$292=78)*(ROW(Daten!$AL$2:$AL$292)-1),COUNTIF(Daten!$AL$2:$AL$292,78)+1-ROW($AL$1))),\"\")","v":""},{"$f":"IF(B169=\"\",\"\",(VLOOKUP(B169,Daten!$AM$3:$AP$292,2,)))","v":""},{"$f":"IF(B169=\"\",\"\",(VLOOKUP(B169,Daten!$AM$3:$AP$292,3,)))","v":""},null,"01.",{"$f":"IFERROR(INDEX(Daten!$AM$2:$AM$292,LARGE((Daten!$AL$2:$AL$292=79)*(ROW(Daten!$AL$2:$AL$292)-1),COUNTIF(Daten!$AL$2:$AL$292,79)+1-ROW($AL$1))),\"\")","v":""},{"$f":"IF(G169=\"\",\"\",(VLOOKUP(G169,Daten!$AM$3:$AP$292,2,)))","v":""},{"$f":"IF(G169=\"\",\"\",(VLOOKUP(G169,Daten!$AM$3:$AP$292,3,)))","v":""}]
["02.",{"$f":"IFERROR(INDEX(Daten!$AM$2:$AM$292,LARGE((Daten!$AL$2:$AL$292=78)*(ROW(Daten!$AL$2:$AL$292)-1),COUNTIF(Daten!$AL$2:$AL$292,78)+1-ROW($AL$2))),\"\")","v":""},{"$f":"IF(B170=\"\",\"\",(VLOOKUP(B170,Daten!$AM$3:$AP$292,2,)))","v":""},{"$f":"IF(B170=\"\",\"\",(VLOOKUP(B170,Daten!$AM$3:$AP$292,3,)))","v":""},null,"02.",{"$f":"IFERROR(INDEX(Daten!$AM$2:$AM$292,LARGE((Daten!$AL$2:$AL$292=79)*(ROW(Daten!$AL$2:$AL$292)-1),COUNTIF(Daten!$AL$2:$AL$292,79)+1-ROW($AL$2))),\"\")","v":""},{"$f":"IF(G170=\"\",\"\",(VLOOKUP(G170,Daten!$AM$3:$AP$292,2,)))","v":""},{"$f":"IF(G170=\"\",\"\",(VLOOKUP(G170,Daten!$AM$3:$AP$292,3,)))","v":""}]
["03.",{"$f":"IFERROR(INDEX(Daten!$AM$2:$AM$292,LARGE((Daten!$AL$2:$AL$292=78)*(ROW(Daten!$AL$2:$AL$292)-1),COUNTIF(Daten!$AL$2:$AL$292,78)+1-ROW($AL$3))),\"\")","v":""},{"$f":"IF(B171=\"\",\"\",(VLOOKUP(B171,Daten!$AM$3:$AP$292,2,)))","v":""},{"$f":"IF(B171=\"\",\"\",(VLOOKUP(B171,Daten!$AM$3:$AP$292,3,)))","v":""},null,"03.",{"$f":"IFERROR(INDEX(Daten!$AM$2:$AM$292,LARGE((Daten!$AL$2:$AL$292=79)*(ROW(Daten!$AL$2:$AL$292)-1),COUNTIF(Daten!$AL$2:$AL$292,79)+1-ROW($AL$3))),\"\")","v":""},{"$f":"IF(G171=\"\",\"\",(VLOOKUP(G171,Daten!$AM$3:$AP$292,2,)))","v":""},{"$f":"IF(G171=\"\",\"\",(VLOOKUP(G171,Daten!$AM$3:$AP$292,3,)))","v":""}]
["04.",{"$f":"IFERROR(INDEX(Daten!$AM$2:$AM$292,LARGE((Daten!$AL$2:$AL$292=78)*(ROW(Daten!$AL$2:$AL$292)-1),COUNTIF(Daten!$AL$2:$AL$292,78)+1-ROW($AL$4))),\"\")","v":""},{"$f":"IF(B172=\"\",\"\",(VLOOKUP(B172,Daten!$AM$3:$AP$292,2,)))","v":""},{"$f":"IF(B172=\"\",\"\",(VLOOKUP(B172,Daten!$AM$3:$AP$292,3,)))","v":""},null,"04.",{"$f":"IFERROR(INDEX(Daten!$AM$2:$AM$292,LARGE((Daten!$AL$2:$AL$292=79)*(ROW(Daten!$AL$2:$AL$292)-1),COUNTIF(Daten!$AL$2:$AL$292,79)+1-ROW($AL$4))),\"\")","v":""},{"$f":"IF(G172=\"\",\"\",(VLOOKUP(G172,Daten!$AM$3:$AP$292,2,)))","v":""},{"$f":"IF(G172=\"\",\"\",(VLOOKUP(G172,Daten!$AM$3:$AP$292,3,)))","v":""}]
[]
["UK-Standarte Einzelauswertung",null,null,null,null,"Top 10 - Bestmann Präsidentenpokal"]
["Vor- und Nachname",null,"Verein","Ringe",null,"Vor- und Nachname",null,"Verein","Ringe","10'nen"]
[{"$f":"Daten!M3","v":0},null,{"$f":"Daten!N3","v":0},{"$f":"Daten!O3","v":0},null,"01.",{"$f":"Daten!AY3","v":0},{"$f":"Daten!AZ3","v":0},{"$f":"Daten!BA3","v":0},{"$f":"Daten!BB3","v":0}]
[{"$f":"Daten!M4","v":0},null,{"$f":"Daten!N4","v":0},{"$f":"Daten!O4","v":0},null,"02.",{"$f":"Daten!AY4","v":0},{"$f":"Daten!AZ4","v":0},{"$f":"Daten!BA4","v":0},{"$f":"Daten!BB4","v":0}]
[{"$f":"Daten!M5","v":0},null,{"$f":"Daten!N5","v":0},{"$f":"Daten!O5","v":0},null,"03.",{"$f":"Daten!AY5","v":0},{"$f":"Daten!AZ5","v":0},{"$f":"Daten!BA5","v":0},{"$f":"Daten!BB5","v":0}]
[{"$f":"Daten!M6","v":0},null,{"$f":"Daten!N6","v":0},{"$f":"Daten!O6","v":0},null,"04.",{"$f":"Daten!AY6","v":0},{"$f":"Daten!AZ6","v":0},{"$f":"Daten!BA6","v":0},{"$f":"Daten!BB6","v":0}]
[{"$f":"Daten!M7","v":0},null,{"$f":"Daten!N7","v":0},{"$f":"Daten!O7","v":0},null,"05.",{"$f":"Daten!AY7","v":0},{"$f":"Daten!AZ7","v":0},{"$f":"Daten!BA7","v":0},{"$f":"Daten!BB7","v":0}]
[{"$f":"Daten!M8","v":0},null,{"$f":"Daten!N8","v":0},{"$f":"Daten!O8","v":0},null,"06.",{"$f":"Daten!AY8","v":0},{"$f":"Daten!AZ8","v":0},{"$f":"Daten!BA8","v":0},{"$f":"Daten!BB8","v":0}]
[{"$f":"Daten!M9","v":0},null,{"$f":"Daten!N9","v":0},{"$f":"Daten!O9","v":0},null,"07.",{"$f":"Daten!AY9","v":0},{"$f":"Daten!AZ9","v":0},{"$f":"Daten!BA9","v":0},{"$f":"Daten!BB9","v":0}]
[{"$f":"Daten!M10","v":0},null,{"$f":"Daten!N10","v":0},{"$f":"Daten!O10","v":0},null,"08.",{"$f":"Daten!AY10","v":0},{"$f":"Daten!AZ10","v":0},{"$f":"Daten!BA10","v":0},{"$f":"Daten!BB10","v":0}]
[{"$f":"Daten!M11","v":0},null,{"$f":"Daten!N11","v":0},{"$f":"Daten!O11","v":0},null,"09.",{"$f":"Daten!AY11","v":0},{"$f":"Daten!AZ11","v":0},{"$f":"Daten!BA11","v":0},{"$f":"Daten!BB11","v":0}]
[{"$f":"Daten!M12","v":0},null,{"$f":"Daten!N12","v":0},{"$f":"Daten!O12","v":0},null,"10.",{"$f":"Daten!AY12","v":0},{"$f":"Daten!AZ12","v":0},{"$f":"Daten!BA12","v":0},{"$f":"Daten!BB12","v":0}]
[{"$f":"Daten!M13","v":0},null,{"$f":"Daten!N13","v":0},{"$f":"Daten!O13","v":0}]
[{"$f":"Daten!M14","v":0},null,{"$f":"Daten!N14","v":0},{"$f":"Daten!O14","v":0}]
[{"$f":"Daten!M15","v":0},null,{"$f":"Daten!N15","v":0},{"$f":"Daten!O15","v":0},null,"Top 10 - Bestfrau Damenpokal"]
[{"$f":"Daten!M16","v":0},null,{"$f":"Daten!N16","v":0},{"$f":"Daten!O16","v":0},null,"Vor- und Nachname",null,"Verein","Ringe","10'nen"]
[{"$f":"Daten!M17","v":0},null,{"$f":"Daten!N17","v":0},{"$f":"Daten!O17","v":0},null,"01.",{"$f":"Daten!BE3","v":0},{"$f":"Daten!BF3","v":0},{"$f":"Daten!BG3","v":0},{"$f":"Daten!BH3","v":0}]
[{"$f":"Daten!M18","v":0},null,{"$f":"Daten!N18","v":0},{"$f":"Daten!O18","v":0},null,"02.",{"$f":"Daten!BE4","v":0},{"$f":"Daten!BF4","v":0},{"$f":"Daten!BG4","v":0},{"$f":"Daten!BH4","v":0}]
[{"$f":"Daten!M19","v":0},null,{"$f":"Daten!N19","v":0},{"$f":"Daten!O19","v":0},null,"03.",{"$f":"Daten!BE5","v":0},{"$f":"Daten!BF5","v":0},{"$f":"Daten!BG5","v":0},{"$f":"Daten!BH5","v":0}]
[{"$f":"Daten!M20","v":0},null,{"$f":"Daten!N20","v":0},{"$f":"Daten!O20","v":0},null,"04.",{"$f":"Daten!BE6","v":0},{"$f":"Daten!BF6","v":0},{"$f":"Daten!BG6","v":0},{"$f":"Daten!BH6","v":0}]
[{"$f":"Daten!M21","v":0},null,{"$f":"Daten!N21","v":0},{"$f":"Daten!O21","v":0},null,"05.",{"$f":"Daten!BE7","v":0},{"$f":"Daten!BF7","v":0},{"$f":"Daten!BG7","v":0},{"$f":"Daten!BH7","v":0}]
[{"$f":"Daten!M22","v":0},null,{"$f":"Daten!N22","v":0},{"$f":"Daten!O22","v":0},null,"06.",{"$f":"Daten!BE8","v":0},{"$f":"Daten!BF8","v":0},{"$f":"Daten!BG8","v":0},{"$f":"Daten!BH8","v":0}]
[{"$f":"Daten!M23","v":0},null,{"$f":"Daten!N23","v":0},{"$f":"Daten!O23","v":0},null,"07.",{"$f":"Daten!BE9","v":0},{"$f":"Daten!BF9","v":0},{"$f":"Daten!BG9","v":0},{"$f":"Daten!BH9","v":0}]
[{"$f":"Daten!M24","v":0},null,{"$f":"Daten!N24","v":0},{"$f":"Daten!O24","v":0},null,"08.",{"$f":"Daten!BE10","v":0},{"$f":"Daten!BF10","v":0},{"$f":"Daten!BG10","v":0},{"$f":"Daten!BH10","v":0}]
[{"$f":"Daten!M25","v":0},null,{"$f":"Daten!N25","v":0},{"$f":"Daten!O25","v":0},null,"09.",{"$f":"Daten!BE11","v":0},{"$f":"Daten!BF11","v":0},{"$f":"Daten!BG11","v":0},{"$f":"Daten!BH11","v":0}]
[{"$f":"Daten!M26","v":0},null,{"$f":"Daten!N26","v":0},{"$f":"Daten!O26","v":0},null,"10.",{"$f":"Daten!BE12","v":0},{"$f":"Daten!BF12","v":0},{"$f":"Daten!BG12","v":0},{"$f":"Daten!BH12","v":0}]
[{"$f":"Daten!M27","v":0},null,{"$f":"Daten!N27","v":0},{"$f":"Daten!O27","v":0}]
[{"$f":"Daten!M28","v":0},null,{"$f":"Daten!N28","v":0},{"$f":"Daten!O28","v":0}]
[{"$f":"Daten!M29","v":0},null,{"$f":"Daten!N29","v":0},{"$f":"Daten!O29","v":0}]
[{"$f":"Daten!M30","v":0},null,{"$f":"Daten!N30","v":0},{"$f":"Daten!O30","v":0}]
[{"$f":"Daten!M31","v":0},null,{"$f":"Daten!N31","v":0},{"$f":"Daten!O31","v":0}]
[{"$f":"Daten!M32","v":0},null,{"$f":"Daten!N32","v":0},{"$f":"Daten!O32","v":0}]
[{"$f":"Daten!M33","v":0},null,{"$f":"Daten!N33","v":0},{"$f":"Daten!O33","v":0}]
[{"$f":"Daten!M34","v":0},null,{"$f":"Daten!N34","v":0},{"$f":"Daten!O34","v":0}]
[{"$f":"Daten!M35","v":0},null,{"$f":"Daten!N35","v":0},{"$f":"Daten!O35","v":0}]
[{"$f":"Daten!M36","v":0},null,{"$f":"Daten!N36","v":0},{"$f":"Daten!O36","v":0}]
[{"$f":"Daten!M37","v":0},null,{"$f":"Daten!N37","v":0},{"$f":"Daten!O37","v":0}]
[{"$f":"Daten!M38","v":0},null,{"$f":"Daten!N38","v":0},{"$f":"Daten!O38","v":0}]
[{"$f":"Daten!M39","v":0},null,{"$f":"Daten!N39","v":0},{"$f":"Daten!O39","v":0}]
[{"$f":"Daten!M40","v":0},null,{"$f":"Daten!N40","v":0},{"$f":"Daten!O40","v":0}]
[{"$f":"Daten!M41","v":0},null,{"$f":"Daten!N41","v":0},{"$f":"Daten!O41","v":0}]
[{"$f":"Daten!M42","v":0},null,{"$f":"Daten!N42","v":0},{"$f":"Daten!O42","v":0}]

{"sheet":"Auflage u. Freihand","index":1,"n_rows":293,"n_cols":9,"rows_kept":293,"cut":false,"hidden":false,"merged":[[1,0,1,3],[1,5,1,8],[0,0,0,8],[204,5,204,8],[209,5,209,6],[210,5,210,6],[211,5,211,6],[212,5,212,6],[205,5,205,6],[206,5,206,6],[207,5,207,6],[208,5,208,6],[217,5,217,6],[218,5,218,6],[219,5,219,6],[220,5,220,6],[213,5,213,6],[214,5,214,6],[215,5,215,6],[216,5,216,6],[225,5,225,6],[226,5,226,6],[227,5,227,6],[228,5,228,6],[221,5,221,6],[222,5,222,6],[223,5,223,6],[224,5,224,6],[233,5,233,6],[234,5,234,6],[235,5,235,6],[236,5,236,6],[229,5,229,6],[230,5,230,6],[231,5,231,6],[232,5,232,6],[237,5,237,6],[238,5,238,6],[239,5,239,6],[240,5,240,6],[245,5,245,6],[241,5,241,6],[242,5,242,6],[243,5,243,6],[244,5,244,6]]}
[{"$f":"CONCATENATE(\"Ergebnisse vom Unterkreis III schiessen \nam\",\" \",Hauptmenü!A4,\" \",\n\"in\",\" \",Hauptmenü!A2)","v":"Ergebnisse vom Unterkreis III schiessen \nam ??? in ???"}]
["Auflage Einzelwertung\n(nach Klassen sortiert)",null,null,null,null,"Freihand Einzelwertung\n(nach Klassen sortiert)"]
["Klasse","Vor- und Nachname","Verein","Ringe",null,"Klasse","Vor- und Nachname","Verein","Ringe"]
[{"$f":"Daten!AL3","v":0},{"$f":"Daten!AM3","v":0},{"$f":"Daten!AN3","v":0},{"$f":"Daten!AO3","v":0},null,{"$f":"Daten!AR3","v":0},{"$f":"Daten!AS3","v":0},{"$f":"Daten!AT3","v":0},{"$f":"Daten!AU3","v":0}]
[{"$f":"Daten!AL4","v":0},{"$f":"Daten!AM4","v":0},{"$f":"Daten!AN4","v":0},{"$f":"Daten!AO4","v":0},null,{"$f":"Daten!AR4","v":0},{"$f":"Daten!AS4","v":0},{"$f":"Daten!AT4","v":0},{"$f":"Daten!AU4","v":0}]
[{"$f":"Daten!AL5","v":0},{"$f":"Daten!AM5","v":0},{"$f":"Daten!AN5","v":0},{"$f":"Daten!AO5","v":0},null,{"$f":"Daten!AR5","v":0},{"$f":"Daten!AS5","v":0},{"$f":"Daten!AT5","v":0},{"$f":"Daten!AU5","v":0}]
[{"$f":"Daten!AL6","v":0},{"$f":"Daten!AM6","v":0},{"$f":"Daten!AN6","v":0},{"$f":"Daten!AO6","v":0},null,{"$f":"Daten!AR6","v":0},{"$f":"Daten!AS6","v":0},{"$f":"Daten!AT6","v":0},{"$f":"Daten!AU6","v":0}]
[{"$f":"Daten!AL7","v":0},{"$f":"Daten!AM7","v":0},{"$f":"Daten!AN7","v":0},{"$f":"Daten!AO7","v":0},null,{"$f":"Daten!AR7","v":0},{"$f":"Daten!AS7","v":0},{"$f":"Daten!AT7","v":0},{"$f":"Daten!AU7","v":0}]
[{"$f":"Daten!AL8","v":0},{"$f":"Daten!AM8","v":0},{"$f":"Daten!AN8","v":0},{"$f":"Daten!AO8","v":0},null,{"$f":"Daten!AR8","v":0},{"$f":"Daten!AS8","v":0},{"$f":"Daten!AT8","v":0},{"$f":"Daten!AU8","v":0}]
[{"$f":"Daten!AL9","v":0},{"$f":"Daten!AM9","v":0},{"$f":"Daten!AN9","v":0},{"$f":"Daten!AO9","v":0},null,{"$f":"Daten!AR9","v":0},{"$f":"Daten!AS9","v":0},{"$f":"Daten!AT9","v":0},{"$f":"Daten!AU9","v":0}]
[{"$f":"Daten!AL10","v":0},{"$f":"Daten!AM10","v":0},{"$f":"Daten!AN10","v":0},{"$f":"Daten!AO10","v":0},null,{"$f":"Daten!AR10","v":0},{"$f":"Daten!AS10","v":0},{"$f":"Daten!AT10","v":0},{"$f":"Daten!AU10","v":0}]
[{"$f":"Daten!AL11","v":0},{"$f":"Daten!AM11","v":0},{"$f":"Daten!AN11","v":0},{"$f":"Daten!AO11","v":0},null,{"$f":"Daten!AR11","v":0},{"$f":"Daten!AS11","v":0},{"$f":"Daten!AT11","v":0},{"$f":"Daten!AU11","v":0}]
[{"$f":"Daten!AL12","v":0},{"$f":"Daten!AM12","v":0},{"$f":"Daten!AN12","v":0},{"$f":"Daten!AO12","v":0},null,{"$f":"Daten!AR12","v":0},{"$f":"Daten!AS12","v":0},{"$f":"Daten!AT12","v":0},{"$f":"Daten!AU12","v":0}]
[{"$f":"Daten!AL13","v":0},{"$f":"Daten!AM13","v":0},{"$f":"Daten!AN13","v":0},{"$f":"Daten!AO13","v":0},null,{"$f":"Daten!AR13","v":0},{"$f":"Daten!AS13","v":0},{"$f":"Daten!AT13","v":0},{"$f":"Daten!AU13","v":0}]
[{"$f":"Daten!AL14","v":0},{"$f":"Daten!AM14","v":0},{"$f":"Daten!AN14","v":0},{"$f":"Daten!AO14","v":0},null,{"$f":"Daten!AR14","v":0},{"$f":"Daten!AS14","v":0},{"$f":"Daten!AT14","v":0},{"$f":"Daten!AU14","v":0}]
[{"$f":"Daten!AL15","v":0},{"$f":"Daten!AM15","v":0},{"$f":"Daten!AN15","v":0},{"$f":"Daten!AO15","v":0},null,{"$f":"Daten!AR15","v":0},{"$f":"Daten!AS15","v":0},{"$f":"Daten!AT15","v":0},{"$f":"Daten!AU15","v":0}]
[{"$f":"Daten!AL16","v":0},{"$f":"Daten!AM16","v":0},{"$f":"Daten!AN16","v":0},{"$f":"Daten!AO16","v":0},null,{"$f":"Daten!AR16","v":0},{"$f":"Daten!AS16","v":0},{"$f":"Daten!AT16","v":0},{"$f":"Daten!AU16","v":0}]
[{"$f":"Daten!AL17","v":0},{"$f":"Daten!AM17","v":0},{"$f":"Daten!AN17","v":0},{"$f":"Daten!AO17","v":0},null,{"$f":"Daten!AR17","v":0},{"$f":"Daten!AS17","v":0},{"$f":"Daten!AT17","v":0},{"$f":"Daten!AU17","v":0}]
[{"$f":"Daten!AL18","v":0},{"$f":"Daten!AM18","v":0},{"$f":"Daten!AN18","v":0},{"$f":"Daten!AO18","v":0},null,{"$f":"Daten!AR18","v":0},{"$f":"Daten!AS18","v":0},{"$f":"Daten!AT18","v":0},{"$f":"Daten!AU18","v":0}]
[{"$f":"Daten!AL19","v":0},{"$f":"Daten!AM19","v":0},{"$f":"Daten!AN19","v":0},{"$f":"Daten!AO19","v":0},null,{"$f":"Daten!AR19","v":0},{"$f":"Daten!AS19","v":0},{"$f":"Daten!AT19","v":0},{"$f":"Daten!AU19","v":0}]
[{"$f":"Daten!AL20","v":0},{"$f":"Daten!AM20","v":0},{"$f":"Daten!AN20","v":0},{"$f":"Daten!AO20","v":0},null,{"$f":"Daten!AR20","v":0},{"$f":"Daten!AS20","v":0},{"$f":"Daten!AT20","v":0},{"$f":"Daten!AU20","v":0}]
[{"$f":"Daten!AL21","v":0},{"$f":"Daten!AM21","v":0},{"$f":"Daten!AN21","v":0},{"$f":"Daten!AO21","v":0},null,{"$f":"Daten!AR21","v":0},{"$f":"Daten!AS21","v":0},{"$f":"Daten!AT21","v":0},{"$f":"Daten!AU21","v":0}]
[{"$f":"Daten!AL22","v":0},{"$f":"Daten!AM22","v":0},{"$f":"Daten!AN22","v":0},{"$f":"Daten!AO22","v":0},null,{"$f":"Daten!AR22","v":0},{"$f":"Daten!AS22","v":0},{"$f":"Daten!AT22","v":0},{"$f":"Daten!AU22","v":0}]
[{"$f":"Daten!AL23","v":0},{"$f":"Daten!AM23","v":0},{"$f":"Daten!AN23","v":0},{"$f":"Daten!AO23","v":0},null,{"$f":"Daten!AR23","v":0},{"$f":"Daten!AS23","v":0},{"$f":"Daten!AT23","v":0},{"$f":"Daten!AU23","v":0}]
[{"$f":"Daten!AL24","v":0},{"$f":"Daten!AM24","v":0},{"$f":"Daten!AN24","v":0},{"$f":"Daten!AO24","v":0},null,{"$f":"Daten!AR24","v":0},{"$f":"Daten!AS24","v":0},{"$f":"Daten!AT24","v":0},{"$f":"Daten!AU24","v":0}]
[{"$f":"Daten!AL25","v":0},{"$f":"Daten!AM25","v":0},{"$f":"Daten!AN25","v":0},{"$f":"Daten!AO25","v":0},null,{"$f":"Daten!AR25","v":0},{"$f":"Daten!AS25","v":0},{"$f":"Daten!AT25","v":0},{"$f":"Daten!AU25","v":0}]
[{"$f":"Daten!AL26","v":0},{"$f":"Daten!AM26","v":0},{"$f":"Daten!AN26","v":0},{"$f":"Daten!AO26","v":0},null,{"$f":"Daten!AR26","v":0},{"$f":"Daten!AS26","v":0},{"$f":"Daten!AT26","v":0},{"$f":"Daten!AU26","v":0}]
[{"$f":"Daten!AL27","v":0},{"$f":"Daten!AM27","v":0},{"$f":"Daten!AN27","v":0},{"$f":"Daten!AO27","v":0},null,{"$f":"Daten!AR27","v":0},{"$f":"Daten!AS27","v":0},{"$f":"Daten!AT27","v":0},{"$f":"Daten!AU27","v":0}]
[{"$f":"Daten!AL28","v":0},{"$f":"Daten!AM28","v":0},{"$f":"Daten!AN28","v":0},{"$f":"Daten!AO28","v":0},null,{"$f":"Daten!AR28","v":0},{"$f":"Daten!AS28","v":0},{"$f":"Daten!AT28","v":0},{"$f":"Daten!AU28","v":0}]
[{"$f":"Daten!AL29","v":0},{"$f":"Daten!AM29","v":0},{"$f":"Daten!AN29","v":0},{"$f":"Daten!AO29","v":0},null,{"$f":"Daten!AR29","v":0},{"$f":"Daten!AS29","v":0},{"$f":"Daten!AT29","v":0},{"$f":"Daten!AU29","v":0}]
[{"$f":"Daten!AL30","v":0},{"$f":"Daten!AM30","v":0},{"$f":"Daten!AN30","v":0},{"$f":"Daten!AO30","v":0},null,{"$f":"Daten!AR30","v":0},{"$f":"Daten!AS30","v":0},{"$f":"Daten!AT30","v":0},{"$f":"Daten!AU30","v":0}]
[{"$f":"Daten!AL31","v":0},{"$f":"Daten!AM31","v":0},{"$f":"Daten!AN31","v":0},{"$f":"Daten!AO31","v":0},null,{"$f":"Daten!AR31","v":0},{"$f":"Daten!AS31","v":0},{"$f":"Daten!AT31","v":0},{"$f":"Daten!AU31","v":0}]
[{"$f":"Daten!AL32","v":0},{"$f":"Daten!AM32","v":0},{"$f":"Daten!AN32","v":0},{"$f":"Daten!AO32","v":0},null,{"$f":"Daten!AR32","v":0},{"$f":"Daten!AS32","v":0},{"$f":"Daten!AT32","v":0},{"$f":"Daten!AU32","v":0}]
[{"$f":"Daten!AL33","v":0},{"$f":"Daten!AM33","v":0},{"$f":"Daten!AN33","v":0},{"$f":"Daten!AO33","v":0},null,{"$f":"Daten!AR33","v":0},{"$f":"Daten!AS33","v":0},{"$f":"Daten!AT33","v":0},{"$f":"Daten!AU33","v":0}]
[{"$f":"Daten!AL34","v":0},{"$f":"Daten!AM34","v":0},{"$f":"Daten!AN34","v":0},{"$f":"Daten!AO34","v":0},null,{"$f":"Daten!AR34","v":0},{"$f":"Daten!AS34","v":0},{"$f":"Daten!AT34","v":0},{"$f":"Daten!AU34","v":0}]
[{"$f":"Daten!AL35","v":0},{"$f":"Daten!AM35","v":0},{"$f":"Daten!AN35","v":0},{"$f":"Daten!AO35","v":0},null,{"$f":"Daten!AR35","v":0},{"$f":"Daten!AS35","v":0},{"$f":"Daten!AT35","v":0},{"$f":"Daten!AU35","v":0}]
[{"$f":"Daten!AL36","v":0},{"$f":"Daten!AM36","v":0},{"$f":"Daten!AN36","v":0},{"$f":"Daten!AO36","v":0},null,{"$f":"Daten!AR36","v":0},{"$f":"Daten!AS36","v":0},{"$f":"Daten!AT36","v":0},{"$f":"Daten!AU36","v":0}]
[{"$f":"Daten!AL37","v":0},{"$f":"Daten!AM37","v":0},{"$f":"Daten!AN37","v":0},{"$f":"Daten!AO37","v":0},null,{"$f":"Daten!AR37","v":0},{"$f":"Daten!AS37","v":0},{"$f":"Daten!AT37","v":0},{"$f":"Daten!AU37","v":0}]
[{"$f":"Daten!AL38","v":0},{"$f":"Daten!AM38","v":0},{"$f":"Daten!AN38","v":0},{"$f":"Daten!AO38","v":0},null,{"$f":"Daten!AR38","v":0},{"$f":"Daten!AS38","v":0},{"$f":"Daten!AT38","v":0},{"$f":"Daten!AU38","v":0}]
[{"$f":"Daten!AL39","v":0},{"$f":"Daten!AM39","v":0},{"$f":"Daten!AN39","v":0},{"$f":"Daten!AO39","v":0},null,{"$f":"Daten!AR39","v":0},{"$f":"Daten!AS39","v":0},{"$f":"Daten!AT39","v":0},{"$f":"Daten!AU39","v":0}]
[{"$f":"Daten!AL40","v":0},{"$f":"Daten!AM40","v":0},{"$f":"Daten!AN40","v":0},{"$f":"Daten!AO40","v":0},null,{"$f":"Daten!AR40","v":0},{"$f":"Daten!AS40","v":0},{"$f":"Daten!AT40","v":0},{"$f":"Daten!AU40","v":0}]
[{"$f":"Daten!AL41","v":0},{"$f":"Daten!AM41","v":0},{"$f":"Daten!AN41","v":0},{"$f":"Daten!AO41","v":0},null,{"$f":"Daten!AR41","v":0},{"$f":"Daten!AS41","v":0},{"$f":"Daten!AT41","v":0},{"$f":"Daten!AU41","v":0}]
[{"$f":"Daten!AL42","v":0},{"$f":"Daten!AM42","v":0},{"$f":"Daten!AN42","v":0},{"$f":"Daten!AO42","v":0},null,{"$f":"Daten!AR42","v":0},{"$f":"Daten!AS42","v":0},{"$f":"Daten!AT42","v":0},{"$f":"Daten!AU42","v":0}]
[{"$f":"Daten!AL43","v":0},{"$f":"Daten!AM43","v":0},{"$f":"Daten!AN43","v":0},{"$f":"Daten!AO43","v":0},null,{"$f":"Daten!AR43","v":0},{"$f":"Daten!AS43","v":0},{"$f":"Daten!AT43","v":0},{"$f":"Daten!AU43","v":0}]
[{"$f":"Daten!AL44","v":0},{"$f":"Daten!AM44","v":0},{"$f":"Daten!AN44","v":0},{"$f":"Daten!AO44","v":0},null,{"$f":"Daten!AR44","v":0},{"$f":"Daten!AS44","v":0},{"$f":"Daten!AT44","v":0},{"$f":"Daten!AU44","v":0}]
[{"$f":"Daten!AL45","v":0},{"$f":"Daten!AM45","v":0},{"$f":"Daten!AN45","v":0},{"$f":"Daten!AO45","v":0},null,{"$f":"Daten!AR45","v":0},{"$f":"Daten!AS45","v":0},{"$f":"Daten!AT45","v":0},{"$f":"Daten!AU45","v":0}]
[{"$f":"Daten!AL46","v":0},{"$f":"Daten!AM46","v":0},{"$f":"Daten!AN46","v":0},{"$f":"Daten!AO46","v":0},null,{"$f":"Daten!AR46","v":0},{"$f":"Daten!AS46","v":0},{"$f":"Daten!AT46","v":0},{"$f":"Daten!AU46","v":0}]
[{"$f":"Daten!AL47","v":0},{"$f":"Daten!AM47","v":0},{"$f":"Daten!AN47","v":0},{"$f":"Daten!AO47","v":0},null,{"$f":"Daten!AR47","v":0},{"$f":"Daten!AS47","v":0},{"$f":"Daten!AT47","v":0},{"$f":"Daten!AU47","v":0}]
[{"$f":"Daten!AL48","v":0},{"$f":"Daten!AM48","v":0},{"$f":"Daten!AN48","v":0},{"$f":"Daten!AO48","v":0},null,{"$f":"Daten!AR48","v":0},{"$f":"Daten!AS48","v":0},{"$f":"Daten!AT48","v":0},{"$f":"Daten!AU48","v":0}]
[{"$f":"Daten!AL49","v":0},{"$f":"Daten!AM49","v":0},{"$f":"Daten!AN49","v":0},{"$f":"Daten!AO49","v":0},null,{"$f":"Daten!AR49","v":0},{"$f":"Daten!AS49","v":0},{"$f":"Daten!AT49","v":0},{"$f":"Daten!AU49","v":0}]
[{"$f":"Daten!AL50","v":0},{"$f":"Daten!AM50","v":0},{"$f":"Daten!AN50","v":0},{"$f":"Daten!AO50","v":0},null,{"$f":"Daten!AR50","v":0},{"$f":"Daten!AS50","v":0},{"$f":"Daten!AT50","v":0},{"$f":"Daten!AU50","v":0}]
[{"$f":"Daten!AL51","v":0},{"$f":"Daten!AM51","v":0},{"$f":"Daten!AN51","v":0},{"$f":"Daten!AO51","v":0},null,{"$f":"Daten!AR51","v":0},{"$f":"Daten!AS51","v":0},{"$f":"Daten!AT51","v":0},{"$f":"Daten!AU51","v":0}]
[{"$f":"Daten!AL52","v":0},{"$f":"Daten!AM52","v":0},{"$f":"Daten!AN52","v":0},{"$f":"Daten!AO52","v":0},null,{"$f":"Daten!AR52","v":0},{"$f":"Daten!AS52","v":0},{"$f":"Daten!AT52","v":0},{"$f":"Daten!AU52","v":0}]
[{"$f":"Daten!AL53","v":0},{"$f":"Daten!AM53","v":0},{"$f":"Daten!AN53","v":0},{"$f":"Daten!AO53","v":0},null,{"$f":"Daten!AR53","v":0},{"$f":"Daten!AS53","v":0},{"$f":"Daten!AT53","v":0},{"$f":"Daten!AU53","v":0}]
[{"$f":"Daten!AL54","v":0},{"$f":"Daten!AM54","v":0},{"$f":"Daten!AN54","v":0},{"$f":"Daten!AO54","v":0},null,{"$f":"Daten!AR54","v":0},{"$f":"Daten!AS54","v":0},{"$f":"Daten!AT54","v":0},{"$f":"Daten!AU54","v":0}]
[{"$f":"Daten!AL55","v":0},{"$f":"Daten!AM55","v":0},{"$f":"Daten!AN55","v":0},{"$f":"Daten!AO55","v":0},null,{"$f":"Daten!AR55","v":0},{"$f":"Daten!AS55","v":0},{"$f":"Daten!AT55","v":0},{"$f":"Daten!AU55","v":0}]
[{"$f":"Daten!AL56","v":0},{"$f":"Daten!AM56","v":0},{"$f":"Daten!AN56","v":0},{"$f":"Daten!AO56","v":0},null,{"$f":"Daten!AR56","v":0},{"$f":"Daten!AS56","v":0},{"$f":"Daten!AT56","v":0},{"$f":"Daten!AU56","v":0}]
[{"$f":"Daten!AL57","v":0},{"$f":"Daten!AM57","v":0},{"$f":"Daten!AN57","v":0},{"$f":"Daten!AO57","v":0},null,{"$f":"Daten!AR57","v":0},{"$f":"Daten!AS57","v":0},{"$f":"Daten!AT57","v":0},{"$f":"Daten!AU57","v":0}]
[{"$f":"Daten!AL58","v":0},{"$f":"Daten!AM58","v":0},{"$f":"Daten!AN58","v":0},{"$f":"Daten!AO58","v":0},null,{"$f":"Daten!AR58","v":0},{"$f":"Daten!AS58","v":0},{"$f":"Daten!AT58","v":0},{"$f":"Daten!AU58","v":0}]
[{"$f":"Daten!AL59","v":0},{"$f":"Daten!AM59","v":0},{"$f":"Daten!AN59","v":0},{"$f":"Daten!AO59","v":0},null,{"$f":"Daten!AR59","v":0},{"$f":"Daten!AS59","v":0},{"$f":"Daten!AT59","v":0},{"$f":"Daten!AU59","v":0}]
[{"$f":"Daten!AL60","v":0},{"$f":"Daten!AM60","v":0},{"$f":"Daten!AN60","v":0},{"$f":"Daten!AO60","v":0},null,{"$f":"Daten!AR60","v":0},{"$f":"Daten!AS60","v":0},{"$f":"Daten!AT60","v":0},{"$f":"Daten!AU60","v":0}]
[{"$f":"Daten!AL61","v":0},{"$f":"Daten!AM61","v":0},{"$f":"Daten!AN61","v":0},{"$f":"Daten!AO61","v":0},null,{"$f":"Daten!AR61","v":0},{"$f":"Daten!AS61","v":0},{"$f":"Daten!AT61","v":0},{"$f":"Daten!AU61","v":0}]
[{"$f":"Daten!AL62","v":0},{"$f":"Daten!AM62","v":0},{"$f":"Daten!AN62","v":0},{"$f":"Daten!AO62","v":0},null,{"$f":"Daten!AR62","v":0},{"$f":"Daten!AS62","v":0},{"$f":"Daten!AT62","v":0},{"$f":"Daten!AU62","v":0}]
[{"$f":"Daten!AL63","v":0},{"$f":"Daten!AM63","v":0},{"$f":"Daten!AN63","v":0},{"$f":"Daten!AO63","v":0},null,{"$f":"Daten!AR63","v":0},{"$f":"Daten!AS63","v":0},{"$f":"Daten!AT63","v":0},{"$f":"Daten!AU63","v":0}]
[{"$f":"Daten!AL64","v":0},{"$f":"Daten!AM64","v":0},{"$f":"Daten!AN64","v":0},{"$f":"Daten!AO64","v":0},null,{"$f":"Daten!AR64","v":0},{"$f":"Daten!AS64","v":0},{"$f":"Daten!AT64","v":0},{"$f":"Daten!AU64","v":0}]
[{"$f":"Daten!AL65","v":0},{"$f":"Daten!AM65","v":0},{"$f":"Daten!AN65","v":0},{"$f":"Daten!AO65","v":0},null,{"$f":"Daten!AR65","v":0},{"$f":"Daten!AS65","v":0},{"$f":"Daten!AT65","v":0},{"$f":"Daten!AU65","v":0}]
[{"$f":"Daten!AL66","v":0},{"$f":"Daten!AM66","v":0},{"$f":"Daten!AN66","v":0},{"$f":"Daten!AO66","v":0},null,{"$f":"Daten!AR66","v":0},{"$f":"Daten!AS66","v":0},{"$f":"Daten!AT66","v":0},{"$f":"Daten!AU66","v":0}]
[{"$f":"Daten!AL67","v":0},{"$f":"Daten!AM67","v":0},{"$f":"Daten!AN67","v":0},{"$f":"Daten!AO67","v":0},null,{"$f":"Daten!AR67","v":0},{"$f":"Daten!AS67","v":0},{"$f":"Daten!AT67","v":0},{"$f":"Daten!AU67","v":0}]
[{"$f":"Daten!AL68","v":0},{"$f":"Daten!AM68","v":0},{"$f":"Daten!AN68","v":0},{"$f":"Daten!AO68","v":0},null,{"$f":"Daten!AR68","v":0},{"$f":"Daten!AS68","v":0},{"$f":"Daten!AT68","v":0},{"$f":"Daten!AU68","v":0}]
[{"$f":"Daten!AL69","v":0},{"$f":"Daten!AM69","v":0},{"$f":"Daten!AN69","v":0},{"$f":"Daten!AO69","v":0},null,{"$f":"Daten!AR69","v":0},{"$f":"Daten!AS69","v":0},{"$f":"Daten!AT69","v":0},{"$f":"Daten!AU69","v":0}]
[{"$f":"Daten!AL70","v":0},{"$f":"Daten!AM70","v":0},{"$f":"Daten!AN70","v":0},{"$f":"Daten!AO70","v":0},null,{"$f":"Daten!AR70","v":0},{"$f":"Daten!AS70","v":0},{"$f":"Daten!AT70","v":0},{"$f":"Daten!AU70","v":0}]
[{"$f":"Daten!AL71","v":0},{"$f":"Daten!AM71","v":0},{"$f":"Daten!AN71","v":0},{"$f":"Daten!AO71","v":0},null,{"$f":"Daten!AR71","v":0},{"$f":"Daten!AS71","v":0},{"$f":"Daten!AT71","v":0},{"$f":"Daten!AU71","v":0}]
[{"$f":"Daten!AL72","v":0},{"$f":"Daten!AM72","v":0},{"$f":"Daten!AN72","v":0},{"$f":"Daten!AO72","v":0},null,{"$f":"Daten!AR72","v":0},{"$f":"Daten!AS72","v":0},{"$f":"Daten!AT72","v":0},{"$f":"Daten!AU72","v":0}]
[{"$f":"Daten!AL73","v":0},{"$f":"Daten!AM73","v":0},{"$f":"Daten!AN73","v":0},{"$f":"Daten!AO73","v":0},null,{"$f":"Daten!AR73","v":0},{"$f":"Daten!AS73","v":0},{"$f":"Daten!AT73","v":0},{"$f":"Daten!AU73","v":0}]
[{"$f":"Daten!AL74","v":0},{"$f":"Daten!AM74","v":0},{"$f":"Daten!AN74","v":0},{"$f":"Daten!AO74","v":0},null,{"$f":"Daten!AR74","v":0},{"$f":"Daten!AS74","v":0},{"$f":"Daten!AT74","v":0},{"$f":"Daten!AU74","v":0}]
[{"$f":"Daten!AL75","v":0},{"$f":"Daten!AM75","v":0},{"$f":"Daten!AN75","v":0},{"$f":"Daten!AO75","v":0},null,{"$f":"Daten!AR75","v":0},{"$f":"Daten!AS75","v":0},{"$f":"Daten!AT75","v":0},{"$f":"Daten!AU75","v":0}]
[{"$f":"Daten!AL76","v":0},{"$f":"Daten!AM76","v":0},{"$f":"Daten!AN76","v":0},{"$f":"Daten!AO76","v":0},null,{"$f":"Daten!AR76","v":0},{"$f":"Daten!AS76","v":0},{"$f":"Daten!AT76","v":0},{"$f":"Daten!AU76","v":0}]
[{"$f":"Daten!AL77","v":0},{"$f":"Daten!AM77","v":0},{"$f":"Daten!AN77","v":0},{"$f":"Daten!AO77","v":0},null,{"$f":"Daten!AR77","v":0},{"$f":"Daten!AS77","v":0},{"$f":"Daten!AT77","v":0},{"$f":"Daten!AU77","v":0}]
[{"$f":"Daten!AL78","v":0},{"$f":"Daten!AM78","v":0},{"$f":"Daten!AN78","v":0},{"$f":"Daten!AO78","v":0},null,{"$f":"Daten!AR78","v":0},{"$f":"Daten!AS78","v":0},{"$f":"Daten!AT78","v":0},{"$f":"Daten!AU78","v":0}]
[{"$f":"Daten!AL79","v":0},{"$f":"Daten!AM79","v":0},{"$f":"Daten!AN79","v":0},{"$f":"Daten!AO79","v":0},null,{"$f":"Daten!AR79","v":0},{"$f":"Daten!AS79","v":0},{"$f":"Daten!AT79","v":0},{"$f":"Daten!AU79","v":0}]
[{"$f":"Daten!AL80","v":0},{"$f":"Daten!AM80","v":0},{"$f":"Daten!AN80","v":0},{"$f":"Daten!AO80","v":0},null,{"$f":"Daten!AR80","v":0},{"$f":"Daten!AS80","v":0},{"$f":"Daten!AT80","v":0},{"$f":"Daten!AU80","v":0}]
[{"$f":"Daten!AL81","v":0},{"$f":"Daten!AM81","v":0},{"$f":"Daten!AN81","v":0},{"$f":"Daten!AO81","v":0},null,{"$f":"Daten!AR81","v":0},{"$f":"Daten!AS81","v":0},{"$f":"Daten!AT81","v":0},{"$f":"Daten!AU81","v":0}]
[{"$f":"Daten!AL82","v":0},{"$f":"Daten!AM82","v":0},{"$f":"Daten!AN82","v":0},{"$f":"Daten!AO82","v":0},null,{"$f":"Daten!AR82","v":0},{"$f":"Daten!AS82","v":0},{"$f":"Daten!AT82","v":0},{"$f":"Daten!AU82","v":0}]
[{"$f":"Daten!AL83","v":0},{"$f":"Daten!AM83","v":0},{"$f":"Daten!AN83","v":0},{"$f":"Daten!AO83","v":0},null,{"$f":"Daten!AR83","v":0},{"$f":"Daten!AS83","v":0},{"$f":"Daten!AT83","v":0},{"$f":"Daten!AU83","v":0}]
[{"$f":"Daten!AL84","v":0},{"$f":"Daten!AM84","v":0},{"$f":"Daten!AN84","v":0},{"$f":"Daten!AO84","v":0},null,{"$f":"Daten!AR84","v":0},{"$f":"Daten!AS84","v":0},{"$f":"Daten!AT84","v":0},{"$f":"Daten!AU84","v":0}]
[{"$f":"Daten!AL85","v":0},{"$f":"Daten!AM85","v":0},{"$f":"Daten!AN85","v":0},{"$f":"Daten!AO85","v":0},null,{"$f":"Daten!AR85","v":0},{"$f":"Daten!AS85","v":0},{"$f":"Daten!AT85","v":0},{"$f":"Daten!AU85","v":0}]
[{"$f":"Daten!AL86","v":0},{"$f":"Daten!AM86","v":0},{"$f":"Daten!AN86","v":0},{"$f":"Daten!AO86","v":0},null,{"$f":"Daten!AR86","v":0},{"$f":"Daten!AS86","v":0},{"$f":"Daten!AT86","v":0},{"$f":"Daten!AU86","v":0}]
[{"$f":"Daten!AL87","v":0},{"$f":"Daten!AM87","v":0},{"$f":"Daten!AN87","v":0},{"$f":"Daten!AO87","v":0},null,{"$f":"Daten!AR87","v":0},{"$f":"Daten!AS87","v":0},{"$f":"Daten!AT87","v":0},{"$f":"Daten!AU87","v":0}]
[{"$f":"Daten!AL88","v":0},{"$f":"Daten!AM88","v":0},{"$f":"Daten!AN88","v":0},{"$f":"Daten!AO88","v":0},null,{"$f":"Daten!AR88","v":0},{"$f":"Daten!AS88","v":0},{"$f":"Daten!AT88","v":0},{"$f":"Daten!AU88","v":0}]
[{"$f":"Daten!AL89","v":0},{"$f":"Daten!AM89","v":0},{"$f":"Daten!AN89","v":0},{"$f":"Daten!AO89","v":0},null,{"$f":"Daten!AR89","v":0},{"$f":"Daten!AS89","v":0},{"$f":"Daten!AT89","v":0},{"$f":"Daten!AU89","v":0}]
[{"$f":"Daten!AL90","v":0},{"$f":"Daten!AM90","v":0},{"$f":"Daten!AN90","v":0},{"$f":"Daten!AO90","v":0},null,{"$f":"Daten!AR90","v":0},{"$f":"Daten!AS90","v":0},{"$f":"Daten!AT90","v":0},{"$f":"Daten!AU90","v":0}]
[{"$f":"Daten!AL91","v":0},{"$f":"Daten!AM91","v":0},{"$f":"Daten!AN91","v":0},{"$f":"Daten!AO91","v":0},null,{"$f":"Daten!AR91","v":0},{"$f":"Daten!AS91","v":0},{"$f":"Daten!AT91","v":0},{"$f":"Daten!AU91","v":0}]
[{"$f":"Daten!AL92","v":0},{"$f":"Daten!AM92","v":0},{"$f":"Daten!AN92","v":0},{"$f":"Daten!AO92","v":0},null,{"$f":"Daten!AR92","v":0},{"$f":"Daten!AS92","v":0},{"$f":"Daten!AT92","v":0},{"$f":"Daten!AU92","v":0}]
[{"$f":"Daten!AL93","v":0},{"$f":"Daten!AM93","v":0},{"$f":"Daten!AN93","v":0},{"$f":"Daten!AO93","v":0},null,{"$f":"Daten!AR93","v":0},{"$f":"Daten!AS93","v":0},{"$f":"Daten!AT93","v":0},{"$f":"Daten!AU93","v":0}]
[{"$f":"Daten!AL94","v":0},{"$f":"Daten!AM94","v":0},{"$f":"Daten!AN94","v":0},{"$f":"Daten!AO94","v":0},null,{"$f":"Daten!AR94","v":0},{"$f":"Daten!AS94","v":0},{"$f":"Daten!AT94","v":0},{"$f":"Daten!AU94","v":0}]
[{"$f":"Daten!AL95","v":0},{"$f":"Daten!AM95","v":0},{"$f":"Daten!AN95","v":0},{"$f":"Daten!AO95","v":0},null,{"$f":"Daten!AR95","v":0},{"$f":"Daten!AS95","v":0},{"$f":"Daten!AT95","v":0},{"$f":"Daten!AU95","v":0}]
[{"$f":"Daten!AL96","v":0},{"$f":"Daten!AM96","v":0},{"$f":"Daten!AN96","v":0},{"$f":"Daten!AO96","v":0},null,{"$f":"Daten!AR96","v":0},{"$f":"Daten!AS96","v":0},{"$f":"Daten!AT96","v":0},{"$f":"Daten!AU96","v":0}]
[{"$f":"Daten!AL97","v":0},{"$f":"Daten!AM97","v":0},{"$f":"Daten!AN97","v":0},{"$f":"Daten!AO97","v":0},null,{"$f":"Daten!AR97","v":0},{"$f":"Daten!AS97","v":0},{"$f":"Daten!AT97","v":0},{"$f":"Daten!AU97","v":0}]
[{"$f":"Daten!AL98","v":0},{"$f":"Daten!AM98","v":0},{"$f":"Daten!AN98","v":0},{"$f":"Daten!AO98","v":0},null,{"$f":"Daten!AR98","v":0},{"$f":"Daten!AS98","v":0},{"$f":"Daten!AT98","v":0},{"$f":"Daten!AU98","v":0}]
[{"$f":"Daten!AL99","v":0},{"$f":"Daten!AM99","v":0},{"$f":"Daten!AN99","v":0},{"$f":"Daten!AO99","v":0},null,{"$f":"Daten!AR99","v":0},{"$f":"Daten!AS99","v":0},{"$f":"Daten!AT99","v":0},{"$f":"Daten!AU99","v":0}]
[{"$f":"Daten!AL100","v":0},{"$f":"Daten!AM100","v":0},{"$f":"Daten!AN100","v":0},{"$f":"Daten!AO100","v":0},null,{"$f":"Daten!AR100","v":0},{"$f":"Daten!AS100","v":0},{"$f":"Daten!AT100","v":0},{"$f":"Daten!AU100","v":0}]
[{"$f":"Daten!AL101","v":0},{"$f":"Daten!AM101","v":0},{"$f":"Daten!AN101","v":0},{"$f":"Daten!AO101","v":0},null,{"$f":"Daten!AR101","v":0},{"$f":"Daten!AS101","v":0},{"$f":"Daten!AT101","v":0},{"$f":"Daten!AU101","v":0}]
[{"$f":"Daten!AL102","v":0},{"$f":"Daten!AM102","v":0},{"$f":"Daten!AN102","v":0},{"$f":"Daten!AO102","v":0},null,{"$f":"Daten!AR102","v":0},{"$f":"Daten!AS102","v":0},{"$f":"Daten!AT102","v":0},{"$f":"Daten!AU102","v":0}]
[{"$f":"Daten!AL103","v":0},{"$f":"Daten!AM103","v":0},{"$f":"Daten!AN103","v":0},{"$f":"Daten!AO103","v":0},null,{"$f":"Daten!AR103","v":0},{"$f":"Daten!AS103","v":0},{"$f":"Daten!AT103","v":0},{"$f":"Daten!AU103","v":0}]
[{"$f":"Daten!AL104","v":0},{"$f":"Daten!AM104","v":0},{"$f":"Daten!AN104","v":0},{"$f":"Daten!AO104","v":0},null,{"$f":"Daten!AR104","v":0},{"$f":"Daten!AS104","v":0},{"$f":"Daten!AT104","v":0},{"$f":"Daten!AU104","v":0}]
[{"$f":"Daten!AL105","v":0},{"$f":"Daten!AM105","v":0},{"$f":"Daten!AN105","v":0},{"$f":"Daten!AO105","v":0},null,{"$f":"Daten!AR105","v":0},{"$f":"Daten!AS105","v":0},{"$f":"Daten!AT105","v":0},{"$f":"Daten!AU105","v":0}]
[{"$f":"Daten!AL106","v":0},{"$f":"Daten!AM106","v":0},{"$f":"Daten!AN106","v":0},{"$f":"Daten!AO106","v":0},null,{"$f":"Daten!AR106","v":0},{"$f":"Daten!AS106","v":0},{"$f":"Daten!AT106","v":0},{"$f":"Daten!AU106","v":0}]
[{"$f":"Daten!AL107","v":0},{"$f":"Daten!AM107","v":0},{"$f":"Daten!AN107","v":0},{"$f":"Daten!AO107","v":0},null,{"$f":"Daten!AR107","v":0},{"$f":"Daten!AS107","v":0},{"$f":"Daten!AT107","v":0},{"$f":"Daten!AU107","v":0}]
[{"$f":"Daten!AL108","v":0},{"$f":"Daten!AM108","v":0},{"$f":"Daten!AN108","v":0},{"$f":"Daten!AO108","v":0},null,{"$f":"Daten!AR108","v":0},{"$f":"Daten!AS108","v":0},{"$f":"Daten!AT108","v":0},{"$f":"Daten!AU108","v":0}]
[{"$f":"Daten!AL109","v":0},{"$f":"Daten!AM109","v":0},{"$f":"Daten!AN109","v":0},{"$f":"Daten!AO109","v":0},null,{"$f":"Daten!AR109","v":0},{"$f":"Daten!AS109","v":0},{"$f":"Daten!AT109","v":0},{"$f":"Daten!AU109","v":0}]
[{"$f":"Daten!AL110","v":0},{"$f":"Daten!AM110","v":0},{"$f":"Daten!AN110","v":0},{"$f":"Daten!AO110","v":0},null,{"$f":"Daten!AR110","v":0},{"$f":"Daten!AS110","v":0},{"$f":"Daten!AT110","v":0},{"$f":"Daten!AU110","v":0}]
[{"$f":"Daten!AL111","v":0},{"$f":"Daten!AM111","v":0},{"$f":"Daten!AN111","v":0},{"$f":"Daten!AO111","v":0},null,{"$f":"Daten!AR111","v":0},{"$f":"Daten!AS111","v":0},{"$f":"Daten!AT111","v":0},{"$f":"Daten!AU111","v":0}]
[{"$f":"Daten!AL112","v":0},{"$f":"Daten!AM112","v":0},{"$f":"Daten!AN112","v":0},{"$f":"Daten!AO112","v":0},null,{"$f":"Daten!AR112","v":0},{"$f":"Daten!AS112","v":0},{"$f":"Daten!AT112","v":0},{"$f":"Daten!AU112","v":0}]
[{"$f":"Daten!AL113","v":0},{"$f":"Daten!AM113","v":0},{"$f":"Daten!AN113","v":0},{"$f":"Daten!AO113","v":0},null,{"$f":"Daten!AR113","v":0},{"$f":"Daten!AS113","v":0},{"$f":"Daten!AT113","v":0},{"$f":"Daten!AU113","v":0}]
[{"$f":"Daten!AL114","v":0},{"$f":"Daten!AM114","v":0},{"$f":"Daten!AN114","v":0},{"$f":"Daten!AO114","v":0},null,{"$f":"Daten!AR114","v":0},{"$f":"Daten!AS114","v":0},{"$f":"Daten!AT114","v":0},{"$f":"Daten!AU114","v":0}]
[{"$f":"Daten!AL115","v":0},{"$f":"Daten!AM115","v":0},{"$f":"Daten!AN115","v":0},{"$f":"Daten!AO115","v":0},null,{"$f":"Daten!AR115","v":0},{"$f":"Daten!AS115","v":0},{"$f":"Daten!AT115","v":0},{"$f":"Daten!AU115","v":0}]
[{"$f":"Daten!AL116","v":0},{"$f":"Daten!AM116","v":0},{"$f":"Daten!AN116","v":0},{"$f":"Daten!AO116","v":0},null,{"$f":"Daten!AR116","v":0},{"$f":"Daten!AS116","v":0},{"$f":"Daten!AT116","v":0},{"$f":"Daten!AU116","v":0}]
[{"$f":"Daten!AL117","v":0},{"$f":"Daten!AM117","v":0},{"$f":"Daten!AN117","v":0},{"$f":"Daten!AO117","v":0},null,{"$f":"Daten!AR117","v":0},{"$f":"Daten!AS117","v":0},{"$f":"Daten!AT117","v":0},{"$f":"Daten!AU117","v":0}]
[{"$f":"Daten!AL118","v":0},{"$f":"Daten!AM118","v":0},{"$f":"Daten!AN118","v":0},{"$f":"Daten!AO118","v":0},null,{"$f":"Daten!AR118","v":0},{"$f":"Daten!AS118","v":0},{"$f":"Daten!AT118","v":0},{"$f":"Daten!AU118","v":0}]
[{"$f":"Daten!AL119","v":0},{"$f":"Daten!AM119","v":0},{"$f":"Daten!AN119","v":0},{"$f":"Daten!AO119","v":0},null,{"$f":"Daten!AR119","v":0},{"$f":"Daten!AS119","v":0},{"$f":"Daten!AT119","v":0},{"$f":"Daten!AU119","v":0}]
[{"$f":"Daten!AL120","v":0},{"$f":"Daten!AM120","v":0},{"$f":"Daten!AN120","v":0},{"$f":"Daten!AO120","v":0},null,{"$f":"Daten!AR120","v":0},{"$f":"Daten!AS120","v":0},{"$f":"Daten!AT120","v":0},{"$f":"Daten!AU120","v":0}]
[{"$f":"Daten!AL121","v":0},{"$f":"Daten!AM121","v":0},{"$f":"Daten!AN121","v":0},{"$f":"Daten!AO121","v":0},null,{"$f":"Daten!AR121","v":0},{"$f":"Daten!AS121","v":0},{"$f":"Daten!AT121","v":0},{"$f":"Daten!AU121","v":0}]
[{"$f":"Daten!AL122","v":0},{"$f":"Daten!AM122","v":0},{"$f":"Daten!AN122","v":0},{"$f":"Daten!AO122","v":0},null,{"$f":"Daten!AR122","v":0},{"$f":"Daten!AS122","v":0},{"$f":"Daten!AT122","v":0},{"$f":"Daten!AU122","v":0}]
[{"$f":"Daten!AL123","v":0},{"$f":"Daten!AM123","v":0},{"$f":"Daten!AN123","v":0},{"$f":"Daten!AO123","v":0},null,{"$f":"Daten!AR123","v":0},{"$f":"Daten!AS123","v":0},{"$f":"Daten!AT123","v":0},{"$f":"Daten!AU123","v":0}]
[{"$f":"Daten!AL124","v":0},{"$f":"Daten!AM124","v":0},{"$f":"Daten!AN124","v":0},{"$f":"Daten!AO124","v":0},null,{"$f":"Daten!AR124","v":0},{"$f":"Daten!AS124","v":0},{"$f":"Daten!AT124","v":0},{"$f":"Daten!AU124","v":0}]
[{"$f":"Daten!AL125","v":0},{"$f":"Daten!AM125","v":0},{"$f":"Daten!AN125","v":0},{"$f":"Daten!AO125","v":0},null,{"$f":"Daten!AR125","v":0},{"$f":"Daten!AS125","v":0},{"$f":"Daten!AT125","v":0},{"$f":"Daten!AU125","v":0}]
[{"$f":"Daten!AL126","v":0},{"$f":"Daten!AM126","v":0},{"$f":"Daten!AN126","v":0},{"$f":"Daten!AO126","v":0},null,{"$f":"Daten!AR126","v":0},{"$f":"Daten!AS126","v":0},{"$f":"Daten!AT126","v":0},{"$f":"Daten!AU126","v":0}]
[{"$f":"Daten!AL127","v":0},{"$f":"Daten!AM127","v":0},{"$f":"Daten!AN127","v":0},{"$f":"Daten!AO127","v":0},null,{"$f":"Daten!AR127","v":0},{"$f":"Daten!AS127","v":0},{"$f":"Daten!AT127","v":0},{"$f":"Daten!AU127","v":0}]
[{"$f":"Daten!AL128","v":0},{"$f":"Daten!AM128","v":0},{"$f":"Daten!AN128","v":0},{"$f":"Daten!AO128","v":0},null,{"$f":"Daten!AR128","v":0},{"$f":"Daten!AS128","v":0},{"$f":"Daten!AT128","v":0},{"$f":"Daten!AU128","v":0}]
[{"$f":"Daten!AL129","v":0},{"$f":"Daten!AM129","v":0},{"$f":"Daten!AN129","v":0},{"$f":"Daten!AO129","v":0},null,{"$f":"Daten!AR129","v":0},{"$f":"Daten!AS129","v":0},{"$f":"Daten!AT129","v":0},{"$f":"Daten!AU129","v":0}]
[{"$f":"Daten!AL130","v":0},{"$f":"Daten!AM130","v":0},{"$f":"Daten!AN130","v":0},{"$f":"Daten!AO130","v":0},null,{"$f":"Daten!AR130","v":0},{"$f":"Daten!AS130","v":0},{"$f":"Daten!AT130","v":0},{"$f":"Daten!AU130","v":0}]
[{"$f":"Daten!AL131","v":0},{"$f":"Daten!AM131","v":0},{"$f":"Daten!AN131","v":0},{"$f":"Daten!AO131","v":0},null,{"$f":"Daten!AR131","v":0},{"$f":"Daten!AS131","v":0},{"$f":"Daten!AT131","v":0},{"$f":"Daten!AU131","v":0}]
[{"$f":"Daten!AL132","v":0},{"$f":"Daten!AM132","v":0},{"$f":"Daten!AN132","v":0},{"$f":"Daten!AO132","v":0},null,{"$f":"Daten!AR132","v":0},{"$f":"Daten!AS132","v":0},{"$f":"Daten!AT132","v":0},{"$f":"Daten!AU132","v":0}]
[{"$f":"Daten!AL133","v":0},{"$f":"Daten!AM133","v":0},{"$f":"Daten!AN133","v":0},{"$f":"Daten!AO133","v":0},null,{"$f":"Daten!AR133","v":0},{"$f":"Daten!AS133","v":0},{"$f":"Daten!AT133","v":0},{"$f":"Daten!AU133","v":0}]
[{"$f":"Daten!AL134","v":0},{"$f":"Daten!AM134","v":0},{"$f":"Daten!AN134","v":0},{"$f":"Daten!AO134","v":0},null,{"$f":"Daten!AR134","v":0},{"$f":"Daten!AS134","v":0},{"$f":"Daten!AT134","v":0},{"$f":"Daten!AU134","v":0}]
[{"$f":"Daten!AL135","v":0},{"$f":"Daten!AM135","v":0},{"$f":"Daten!AN135","v":0},{"$f":"Daten!AO135","v":0},null,{"$f":"Daten!AR135","v":0},{"$f":"Daten!AS135","v":0},{"$f":"Daten!AT135","v":0},{"$f":"Daten!AU135","v":0}]
[{"$f":"Daten!AL136","v":0},{"$f":"Daten!AM136","v":0},{"$f":"Daten!AN136","v":0},{"$f":"Daten!AO136","v":0},null,{"$f":"Daten!AR136","v":0},{"$f":"Daten!AS136","v":0},{"$f":"Daten!AT136","v":0},{"$f":"Daten!AU136","v":0}]
[{"$f":"Daten!AL137","v":0},{"$f":"Daten!AM137","v":0},{"$f":"Daten!AN137","v":0},{"$f":"Daten!AO137","v":0},null,{"$f":"Daten!AR137","v":0},{"$f":"Daten!AS137","v":0},{"$f":"Daten!AT137","v":0},{"$f":"Daten!AU137","v":0}]
[{"$f":"Daten!AL138","v":0},{"$f":"Daten!AM138","v":0},{"$f":"Daten!AN138","v":0},{"$f":"Daten!AO138","v":0},null,{"$f":"Daten!AR138","v":0},{"$f":"Daten!AS138","v":0},{"$f":"Daten!AT138","v":0},{"$f":"Daten!AU138","v":0}]
[{"$f":"Daten!AL139","v":0},{"$f":"Daten!AM139","v":0},{"$f":"Daten!AN139","v":0},{"$f":"Daten!AO139","v":0},null,{"$f":"Daten!AR139","v":0},{"$f":"Daten!AS139","v":0},{"$f":"Daten!AT139","v":0},{"$f":"Daten!AU139","v":0}]
[{"$f":"Daten!AL140","v":0},{"$f":"Daten!AM140","v":0},{"$f":"Daten!AN140","v":0},{"$f":"Daten!AO140","v":0},null,{"$f":"Daten!AR140","v":0},{"$f":"Daten!AS140","v":0},{"$f":"Daten!AT140","v":0},{"$f":"Daten!AU140","v":0}]
[{"$f":"Daten!AL141","v":0},{"$f":"Daten!AM141","v":0},{"$f":"Daten!AN141","v":0},{"$f":"Daten!AO141","v":0},null,{"$f":"Daten!AR141","v":0},{"$f":"Daten!AS141","v":0},{"$f":"Daten!AT141","v":0},{"$f":"Daten!AU141","v":0}]
[{"$f":"Daten!AL142","v":0},{"$f":"Daten!AM142","v":0},{"$f":"Daten!AN142","v":0},{"$f":"Daten!AO142","v":0},null,{"$f":"Daten!AR142","v":0},{"$f":"Daten!AS142","v":0},{"$f":"Daten!AT142","v":0},{"$f":"Daten!AU142","v":0}]
[{"$f":"Daten!AL143","v":0},{"$f":"Daten!AM143","v":0},{"$f":"Daten!AN143","v":0},{"$f":"Daten!AO143","v":0},null,{"$f":"Daten!AR143","v":0},{"$f":"Daten!AS143","v":0},{"$f":"Daten!AT143","v":0},{"$f":"Daten!AU143","v":0}]
[{"$f":"Daten!AL144","v":0},{"$f":"Daten!AM144","v":0},{"$f":"Daten!AN144","v":0},{"$f":"Daten!AO144","v":0},null,{"$f":"Daten!AR144","v":0},{"$f":"Daten!AS144","v":0},{"$f":"Daten!AT144","v":0},{"$f":"Daten!AU144","v":0}]
[{"$f":"Daten!AL145","v":0},{"$f":"Daten!AM145","v":0},{"$f":"Daten!AN145","v":0},{"$f":"Daten!AO145","v":0},null,{"$f":"Daten!AR145","v":0},{"$f":"Daten!AS145","v":0},{"$f":"Daten!AT145","v":0},{"$f":"Daten!AU145","v":0}]
[{"$f":"Daten!AL146","v":0},{"$f":"Daten!AM146","v":0},{"$f":"Daten!AN146","v":0},{"$f":"Daten!AO146","v":0},null,{"$f":"Daten!AR146","v":0},{"$f":"Daten!AS146","v":0},{"$f":"Daten!AT146","v":0},{"$f":"Daten!AU146","v":0}]
[{"$f":"Daten!AL147","v":0},{"$f":"Daten!AM147","v":0},{"$f":"Daten!AN147","v":0},{"$f":"Daten!AO147","v":0},null,{"$f":"Daten!AR147","v":0},{"$f":"Daten!AS147","v":0},{"$f":"Daten!AT147","v":0},{"$f":"Daten!AU147","v":0}]
[{"$f":"Daten!AL148","v":0},{"$f":"Daten!AM148","v":0},{"$f":"Daten!AN148","v":0},{"$f":"Daten!AO148","v":0},null,{"$f":"Daten!AR148","v":0},{"$f":"Daten!AS148","v":0},{"$f":"Daten!AT148","v":0},{"$f":"Daten!AU148","v":0}]
[{"$f":"Daten!AL149","v":0},{"$f":"Daten!AM149","v":0},{"$f":"Daten!AN149","v":0},{"$f":"Daten!AO149","v":0},null,{"$f":"Daten!AR149","v":0},{"$f":"Daten!AS149","v":0},{"$f":"Daten!AT149","v":0},{"$f":"Daten!AU149","v":0}]
[{"$f":"Daten!AL150","v":0},{"$f":"Daten!AM150","v":0},{"$f":"Daten!AN150","v":0},{"$f":"Daten!AO150","v":0},null,{"$f":"Daten!AR150","v":0},{"$f":"Daten!AS150","v":0},{"$f":"Daten!AT150","v":0},{"$f":"Daten!AU150","v":0}]
[{"$f":"Daten!AL151","v":0},{"$f":"Daten!AM151","v":0},{"$f":"Daten!AN151","v":0},{"$f":"Daten!AO151","v":0},null,{"$f":"Daten!AR151","v":0},{"$f":"Daten!AS151","v":0},{"$f":"Daten!AT151","v":0},{"$f":"Daten!AU151","v":0}]
[{"$f":"Daten!AL152","v":0},{"$f":"Daten!AM152","v":0},{"$f":"Daten!AN152","v":0},{"$f":"Daten!AO152","v":0},null,{"$f":"Daten!AR152","v":0},{"$f":"Daten!AS152","v":0},{"$f":"Daten!AT152","v":0},{"$f":"Daten!AU152","v":0}]
[{"$f":"Daten!AL153","v":0},{"$f":"Daten!AM153","v":0},{"$f":"Daten!AN153","v":0},{"$f":"Daten!AO153","v":0},null,{"$f":"Daten!AR153","v":0},{"$f":"Daten!AS153","v":0},{"$f":"Daten!AT153","v":0},{"$f":"Daten!AU153","v":0}]
[{"$f":"Daten!AL154","v":0},{"$f":"Daten!AM154","v":0},{"$f":"Daten!AN154","v":0},{"$f":"Daten!AO154","v":0},null,{"$f":"Daten!AR154","v":0},{"$f":"Daten!AS154","v":0},{"$f":"Daten!AT154","v":0},{"$f":"Daten!AU154","v":0}]
[{"$f":"Daten!AL155","v":0},{"$f":"Daten!AM155","v":0},{"$f":"Daten!AN155","v":0},{"$f":"Daten!AO155","v":0},null,{"$f":"Daten!AR155","v":0},{"$f":"Daten!AS155","v":0},{"$f":"Daten!AT155","v":0},{"$f":"Daten!AU155","v":0}]
[{"$f":"Daten!AL156","v":0},{"$f":"Daten!AM156","v":0},{"$f":"Daten!AN156","v":0},{"$f":"Daten!AO156","v":0},null,{"$f":"Daten!AR156","v":0},{"$f":"Daten!AS156","v":0},{"$f":"Daten!AT156","v":0},{"$f":"Daten!AU156","v":0}]
[{"$f":"Daten!AL157","v":0},{"$f":"Daten!AM157","v":0},{"$f":"Daten!AN157","v":0},{"$f":"Daten!AO157","v":0},null,{"$f":"Daten!AR157","v":0},{"$f":"Daten!AS157","v":0},{"$f":"Daten!AT157","v":0},{"$f":"Daten!AU157","v":0}]
[{"$f":"Daten!AL158","v":0},{"$f":"Daten!AM158","v":0},{"$f":"Daten!AN158","v":0},{"$f":"Daten!AO158","v":0},null,{"$f":"Daten!AR158","v":0},{"$f":"Daten!AS158","v":0},{"$f":"Daten!AT158","v":0},{"$f":"Daten!AU158","v":0}]
[{"$f":"Daten!AL159","v":0},{"$f":"Daten!AM159","v":0},{"$f":"Daten!AN159","v":0},{"$f":"Daten!AO159","v":0},null,{"$f":"Daten!AR159","v":0},{"$f":"Daten!AS159","v":0},{"$f":"Daten!AT159","v":0},{"$f":"Daten!AU159","v":0}]
[{"$f":"Daten!AL160","v":0},{"$f":"Daten!AM160","v":0},{"$f":"Daten!AN160","v":0},{"$f":"Daten!AO160","v":0},null,{"$f":"Daten!AR160","v":0},{"$f":"Daten!AS160","v":0},{"$f":"Daten!AT160","v":0},{"$f":"Daten!AU160","v":0}]
[{"$f":"Daten!AL161","v":0},{"$f":"Daten!AM161","v":0},{"$f":"Daten!AN161","v":0},{"$f":"Daten!AO161","v":0},null,{"$f":"Daten!AR161","v":0},{"$f":"Daten!AS161","v":0},{"$f":"Daten!AT161","v":0},{"$f":"Daten!AU161","v":0}]
[{"$f":"Daten!AL162","v":0},{"$f":"Daten!AM162","v":0},{"$f":"Daten!AN162","v":0},{"$f":"Daten!AO162","v":0},null,{"$f":"Daten!AR162","v":0},{"$f":"Daten!AS162","v":0},{"$f":"Daten!AT162","v":0},{"$f":"Daten!AU162","v":0}]
[{"$f":"Daten!AL163","v":0},{"$f":"Daten!AM163","v":0},{"$f":"Daten!AN163","v":0},{"$f":"Daten!AO163","v":0},null,{"$f":"Daten!AR163","v":0},{"$f":"Daten!AS163","v":0},{"$f":"Daten!AT163","v":0},{"$f":"Daten!AU163","v":0}]
[{"$f":"Daten!AL164","v":0},{"$f":"Daten!AM164","v":0},{"$f":"Daten!AN164","v":0},{"$f":"Daten!AO164","v":0},null,{"$f":"Daten!AR164","v":0},{"$f":"Daten!AS164","v":0},{"$f":"Daten!AT164","v":0},{"$f":"Daten!AU164","v":0}]
[{"$f":"Daten!AL165","v":0},{"$f":"Daten!AM165","v":0},{"$f":"Daten!AN165","v":0},{"$f":"Daten!AO165","v":0},null,{"$f":"Daten!AR165","v":0},{"$f":"Daten!AS165","v":0},{"$f":"Daten!AT165","v":0},{"$f":"Daten!AU165","v":0}]
[{"$f":"Daten!AL166","v":0},{"$f":"Daten!AM166","v":0},{"$f":"Daten!AN166","v":0},{"$f":"Daten!AO166","v":0},null,{"$f":"Daten!AR166","v":0},{"$f":"Daten!AS166","v":0},{"$f":"Daten!AT166","v":0},{"$f":"Daten!AU166","v":0}]
[{"$f":"Daten!AL167","v":0},{"$f":"Daten!AM167","v":0},{"$f":"Daten!AN167","v":0},{"$f":"Daten!AO167","v":0},null,{"$f":"Daten!AR167","v":0},{"$f":"Daten!AS167","v":0},{"$f":"Daten!AT167","v":0},{"$f":"Daten!AU167","v":0}]
[{"$f":"Daten!AL168","v":0},{"$f":"Daten!AM168","v":0},{"$f":"Daten!AN168","v":0},{"$f":"Daten!AO168","v":0},null,{"$f":"Daten!AR168","v":0},{"$f":"Daten!AS168","v":0},{"$f":"Daten!AT168","v":0},{"$f":"Daten!AU168","v":0}]
[{"$f":"Daten!AL169","v":0},{"$f":"Daten!AM169","v":0},{"$f":"Daten!AN169","v":0},{"$f":"Daten!AO169","v":0},null,{"$f":"Daten!AR169","v":0},{"$f":"Daten!AS169","v":0},{"$f":"Daten!AT169","v":0},{"$f":"Daten!AU169","v":0}]
[{"$f":"Daten!AL170","v":0},{"$f":"Daten!AM170","v":0},{"$f":"Daten!AN170","v":0},{"$f":"Daten!AO170","v":0},null,{"$f":"Daten!AR170","v":0},{"$f":"Daten!AS170","v":0},{"$f":"Daten!AT170","v":0},{"$f":"Daten!AU170","v":0}]
[{"$f":"Daten!AL171","v":0},{"$f":"Daten!AM171","v":0},{"$f":"Daten!AN171","v":0},{"$f":"Daten!AO171","v":0},null,{"$f":"Daten!AR171","v":0},{"$f":"Daten!AS171","v":0},{"$f":"Daten!AT171","v":0},{"$f":"Daten!AU171","v":0}]
[{"$f":"Daten!AL172","v":0},{"$f":"Daten!AM172","v":0},{"$f":"Daten!AN172","v":0},{"$f":"Daten!AO172","v":0},null,{"$f":"Daten!AR172","v":0},{"$f":"Daten!AS172","v":0},{"$f":"Daten!AT172","v":0},{"$f":"Daten!AU172","v":0}]
[{"$f":"Daten!AL173","v":0},{"$f":"Daten!AM173","v":0},{"$f":"Daten!AN173","v":0},{"$f":"Daten!AO173","v":0},null,{"$f":"Daten!AR173","v":0},{"$f":"Daten!AS173","v":0},{"$f":"Daten!AT173","v":0},{"$f":"Daten!AU173","v":0}]
[{"$f":"Daten!AL174","v":0},{"$f":"Daten!AM174","v":0},{"$f":"Daten!AN174","v":0},{"$f":"Daten!AO174","v":0},null,{"$f":"Daten!AR174","v":0},{"$f":"Daten!AS174","v":0},{"$f":"Daten!AT174","v":0},{"$f":"Daten!AU174","v":0}]
[{"$f":"Daten!AL175","v":0},{"$f":"Daten!AM175","v":0},{"$f":"Daten!AN175","v":0},{"$f":"Daten!AO175","v":0},null,{"$f":"Daten!AR175","v":0},{"$f":"Daten!AS175","v":0},{"$f":"Daten!AT175","v":0},{"$f":"Daten!AU175","v":0}]
[{"$f":"Daten!AL176","v":0},{"$f":"Daten!AM176","v":0},{"$f":"Daten!AN176","v":0},{"$f":"Daten!AO176","v":0},null,{"$f":"Daten!AR176","v":0},{"$f":"Daten!AS176","v":0},{"$f":"Daten!AT176","v":0},{"$f":"Daten!AU176","v":0}]
[{"$f":"Daten!AL177","v":0},{"$f":"Daten!AM177","v":0},{"$f":"Daten!AN177","v":0},{"$f":"Daten!AO177","v":0},null,{"$f":"Daten!AR177","v":0},{"$f":"Daten!AS177","v":0},{"$f":"Daten!AT177","v":0},{"$f":"Daten!AU177","v":0}]
[{"$f":"Daten!AL178","v":0},{"$f":"Daten!AM178","v":0},{"$f":"Daten!AN178","v":0},{"$f":"Daten!AO178","v":0},null,{"$f":"Daten!AR178","v":0},{"$f":"Daten!AS178","v":0},{"$f":"Daten!AT178","v":0},{"$f":"Daten!AU178","v":0}]
[{"$f":"Daten!AL179","v":0},{"$f":"Daten!AM179","v":0},{"$f":"Daten!AN179","v":0},{"$f":"Daten!AO179","v":0},null,{"$f":"Daten!AR179","v":0},{"$f":"Daten!AS179","v":0},{"$f":"Daten!AT179","v":0},{"$f":"Daten!AU179","v":0}]
[{"$f":"Daten!AL180","v":0},{"$f":"Daten!AM180","v":0},{"$f":"Daten!AN180","v":0},{"$f":"Daten!AO180","v":0},null,{"$f":"Daten!AR180","v":0},{"$f":"Daten!AS180","v":0},{"$f":"Daten!AT180","v":0},{"$f":"Daten!AU180","v":0}]
[{"$f":"Daten!AL181","v":0},{"$f":"Daten!AM181","v":0},{"$f":"Daten!AN181","v":0},{"$f":"Daten!AO181","v":0},null,{"$f":"Daten!AR181","v":0},{"$f":"Daten!AS181","v":0},{"$f":"Daten!AT181","v":0},{"$f":"Daten!AU181","v":0}]
[{"$f":"Daten!AL182","v":0},{"$f":"Daten!AM182","v":0},{"$f":"Daten!AN182","v":0},{"$f":"Daten!AO182","v":0},null,{"$f":"Daten!AR182","v":0},{"$f":"Daten!AS182","v":0},{"$f":"Daten!AT182","v":0},{"$f":"Daten!AU182","v":0}]
[{"$f":"Daten!AL183","v":0},{"$f":"Daten!AM183","v":0},{"$f":"Daten!AN183","v":0},{"$f":"Daten!AO183","v":0},null,{"$f":"Daten!AR183","v":0},{"$f":"Daten!AS183","v":0},{"$f":"Daten!AT183","v":0},{"$f":"Daten!AU183","v":0}]
[{"$f":"Daten!AL184","v":0},{"$f":"Daten!AM184","v":0},{"$f":"Daten!AN184","v":0},{"$f":"Daten!AO184","v":0},null,{"$f":"Daten!AR184","v":0},{"$f":"Daten!AS184","v":0},{"$f":"Daten!AT184","v":0},{"$f":"Daten!AU184","v":0}]
[{"$f":"Daten!AL185","v":0},{"$f":"Daten!AM185","v":0},{"$f":"Daten!AN185","v":0},{"$f":"Daten!AO185","v":0},null,{"$f":"Daten!AR185","v":0},{"$f":"Daten!AS185","v":0},{"$f":"Daten!AT185","v":0},{"$f":"Daten!AU185","v":0}]
[{"$f":"Daten!AL186","v":0},{"$f":"Daten!AM186","v":0},{"$f":"Daten!AN186","v":0},{"$f":"Daten!AO186","v":0},null,{"$f":"Daten!AR186","v":0},{"$f":"Daten!AS186","v":0},{"$f":"Daten!AT186","v":0},{"$f":"Daten!AU186","v":0}]
[{"$f":"Daten!AL187","v":0},{"$f":"Daten!AM187","v":0},{"$f":"Daten!AN187","v":0},{"$f":"Daten!AO187","v":0},null,{"$f":"Daten!AR187","v":0},{"$f":"Daten!AS187","v":0},{"$f":"Daten!AT187","v":0},{"$f":"Daten!AU187","v":0}]
[{"$f":"Daten!AL188","v":0},{"$f":"Daten!AM188","v":0},{"$f":"Daten!AN188","v":0},{"$f":"Daten!AO188","v":0},null,{"$f":"Daten!AR188","v":0},{"$f":"Daten!AS188","v":0},{"$f":"Daten!AT188","v":0},{"$f":"Daten!AU188","v":0}]
[{"$f":"Daten!AL189","v":0},{"$f":"Daten!AM189","v":0},{"$f":"Daten!AN189","v":0},{"$f":"Daten!AO189","v":0},null,{"$f":"Daten!AR189","v":0},{"$f":"Daten!AS189","v":0},{"$f":"Daten!AT189","v":0},{"$f":"Daten!AU189","v":0}]
[{"$f":"Daten!AL190","v":0},{"$f":"Daten!AM190","v":0},{"$f":"Daten!AN190","v":0},{"$f":"Daten!AO190","v":0},null,{"$f":"Daten!AR190","v":0},{"$f":"Daten!AS190","v":0},{"$f":"Daten!AT190","v":0},{"$f":"Daten!AU190","v":0}]
[{"$f":"Daten!AL191","v":0},{"$f":"Daten!AM191","v":0},{"$f":"Daten!AN191","v":0},{"$f":"Daten!AO191","v":0},null,{"$f":"Daten!AR191","v":0},{"$f":"Daten!AS191","v":0},{"$f":"Daten!AT191","v":0},{"$f":"Daten!AU191","v":0}]
[{"$f":"Daten!AL192","v":0},{"$f":"Daten!AM192","v":0},{"$f":"Daten!AN192","v":0},{"$f":"Daten!AO192","v":0},null,{"$f":"Daten!AR192","v":0},{"$f":"Daten!AS192","v":0},{"$f":"Daten!AT192","v":0},{"$f":"Daten!AU192","v":0}]
[{"$f":"Daten!AL193","v":0},{"$f":"Daten!AM193","v":0},{"$f":"Daten!AN193","v":0},{"$f":"Daten!AO193","v":0},null,{"$f":"Daten!AR193","v":0},{"$f":"Daten!AS193","v":0},{"$f":"Daten!AT193","v":0},{"$f":"Daten!AU193","v":0}]
[{"$f":"Daten!AL194","v":0},{"$f":"Daten!AM194","v":0},{"$f":"Daten!AN194","v":0},{"$f":"Daten!AO194","v":0},null,{"$f":"Daten!AR194","v":0},{"$f":"Daten!AS194","v":0},{"$f":"Daten!AT194","v":0},{"$f":"Daten!AU194","v":0}]
[{"$f":"Daten!AL195","v":0},{"$f":"Daten!AM195","v":0},{"$f":"Daten!AN195","v":0},{"$f":"Daten!AO195","v":0},null,{"$f":"Daten!AR195","v":0},{"$f":"Daten!AS195","v":0},{"$f":"Daten!AT195","v":0},{"$f":"Daten!AU195","v":0}]
[{"$f":"Daten!AL196","v":0},{"$f":"Daten!AM196","v":0},{"$f":"Daten!AN196","v":0},{"$f":"Daten!AO196","v":0},null,{"$f":"Daten!AR196","v":0},{"$f":"Daten!AS196","v":0},{"$f":"Daten!AT196","v":0},{"$f":"Daten!AU196","v":0}]
[{"$f":"Daten!AL197","v":0},{"$f":"Daten!AM197","v":0},{"$f":"Daten!AN197","v":0},{"$f":"Daten!AO197","v":0},null,{"$f":"Daten!AR197","v":0},{"$f":"Daten!AS197","v":0},{"$f":"Daten!AT197","v":0},{"$f":"Daten!AU197","v":0}]
[{"$f":"Daten!AL198","v":0},{"$f":"Daten!AM198","v":0},{"$f":"Daten!AN198","v":0},{"$f":"Daten!AO198","v":0},null,{"$f":"Daten!AR198","v":0},{"$f":"Daten!AS198","v":0},{"$f":"Daten!AT198","v":0},{"$f":"Daten!AU198","v":0}]
[{"$f":"Daten!AL199","v":0},{"$f":"Daten!AM199","v":0},{"$f":"Daten!AN199","v":0},{"$f":"Daten!AO199","v":0},null,{"$f":"Daten!AR199","v":0},{"$f":"Daten!AS199","v":0},{"$f":"Daten!AT199","v":0},{"$f":"Daten!AU199","v":0}]
[{"$f":"Daten!AL200","v":0},{"$f":"Daten!AM200","v":0},{"$f":"Daten!AN200","v":0},{"$f":"Daten!AO200","v":0},null,{"$f":"Daten!AR200","v":0},{"$f":"Daten!AS200","v":0},{"$f":"Daten!AT200","v":0},{"$f":"Daten!AU200","v":0}]
[{"$f":"Daten!AL201","v":0},{"$f":"Daten!AM201","v":0},{"$f":"Daten!AN201","v":0},{"$f":"Daten!AO201","v":0},null,{"$f":"Daten!AR201","v":0},{"$f":"Daten!AS201","v":0},{"$f":"Daten!AT201","v":0},{"$f":"Daten!AU201","v":0}]
[{"$f":"Daten!AL202","v":0},{"$f":"Daten!AM202","v":0},{"$f":"Daten!AN202","v":0},{"$f":"Daten!AO202","v":0},null,{"$f":"Daten!AR202","v":0},{"$f":"Daten!AS202","v":0},{"$f":"Daten!AT202","v":0},{"$f":"Daten!AU202","v":0}]
[{"$f":"Daten!AL203","v":0},{"$f":"Daten!AM203","v":0},{"$f":"Daten!AN203","v":0},{"$f":"Daten!AO203","v":0}]
[{"$f":"Daten!AL204","v":0},{"$f":"Daten!AM204","v":0},{"$f":"Daten!AN204","v":0},{"$f":"Daten!AO204","v":0},null," - Ende der Liste -"]
[{"$f":"Daten!AL205","v":0},{"$f":"Daten!AM205","v":0},{"$f":"Daten!AN205","v":0},{"$f":"Daten!AO205","v":0}]
[{"$f":"Daten!AL206","v":0},{"$f":"Daten!AM206","v":0},{"$f":"Daten!AN206","v":0},{"$f":"Daten!AO206","v":0}]
[{"$f":"Daten!AL207","v":0},{"$f":"Daten!AM207","v":0},{"$f":"Daten!AN207","v":0},{"$f":"Daten!AO207","v":0}]
[{"$f":"Daten!AL208","v":0},{"$f":"Daten!AM208","v":0},{"$f":"Daten!AN208","v":0},{"$f":"Daten!AO208","v":0}]
[{"$f":"Daten!AL209","v":0},{"$f":"Daten!AM209","v":0},{"$f":"Daten!AN209","v":0},{"$f":"Daten!AO209","v":0}]
[{"$f":"Daten!AL210","v":0},{"$f":"Daten!AM210","v":0},{"$f":"Daten!AN210","v":0},{"$f":"Daten!AO210","v":0}]
[{"$f":"Daten!AL211","v":0},{"$f":"Daten!AM211","v":0},{"$f":"Daten!AN211","v":0},{"$f":"Daten!AO211","v":0}]
[{"$f":"Daten!AL212","v":0},{"$f":"Daten!AM212","v":0},{"$f":"Daten!AN212","v":0},{"$f":"Daten!AO212","v":0}]
[{"$f":"Daten!AL213","v":0},{"$f":"Daten!AM213","v":0},{"$f":"Daten!AN213","v":0},{"$f":"Daten!AO213","v":0}]
[{"$f":"Daten!AL214","v":0},{"$f":"Daten!AM214","v":0},{"$f":"Daten!AN214","v":0},{"$f":"Daten!AO214","v":0}]
[{"$f":"Daten!AL215","v":0},{"$f":"Daten!AM215","v":0},{"$f":"Daten!AN215","v":0},{"$f":"Daten!AO215","v":0}]
[{"$f":"Daten!AL216","v":0},{"$f":"Daten!AM216","v":0},{"$f":"Daten!AN216","v":0},{"$f":"Daten!AO216","v":0}]
[{"$f":"Daten!AL217","v":0},{"$f":"Daten!AM217","v":0},{"$f":"Daten!AN217","v":0},{"$f":"Daten!AO217","v":0}]
[{"$f":"Daten!AL218","v":0},{"$f":"Daten!AM218","v":0},{"$f":"Daten!AN218","v":0},{"$f":"Daten!AO218","v":0}]
[{"$f":"Daten!AL219","v":0},{"$f":"Daten!AM219","v":0},{"$f":"Daten!AN219","v":0},{"$f":"Daten!AO219","v":0}]
[{"$f":"Daten!AL220","v":0},{"$f":"Daten!AM220","v":0},{"$f":"Daten!AN220","v":0},{"$f":"Daten!AO220","v":0}]
[{"$f":"Daten!AL221","v":0},{"$f":"Daten!AM221","v":0},{"$f":"Daten!AN221","v":0},{"$f":"Daten!AO221","v":0}]
[{"$f":"Daten!AL222","v":0},{"$f":"Daten!AM222","v":0},{"$f":"Daten!AN222","v":0},{"$f":"Daten!AO222","v":0}]
[{"$f":"Daten!AL223","v":0},{"$f":"Daten!AM223","v":0},{"$f":"Daten!AN223","v":0},{"$f":"Daten!AO223","v":0}]
[{"$f":"Daten!AL224","v":0},{"$f":"Daten!AM224","v":0},{"$f":"Daten!AN224","v":0},{"$f":"Daten!AO224","v":0}]
[{"$f":"Daten!AL225","v":0},{"$f":"Daten!AM225","v":0},{"$f":"Daten!AN225","v":0},{"$f":"Daten!AO225","v":0}]
[{"$f":"Daten!AL226","v":0},{"$f":"Daten!AM226","v":0},{"$f":"Daten!AN226","v":0},{"$f":"Daten!AO226","v":0}]
[{"$f":"Daten!AL227","v":0},{"$f":"Daten!AM227","v":0},{"$f":"Daten!AN227","v":0},{"$f":"Daten!AO227","v":0}]
[{"$f":"Daten!AL228","v":0},{"$f":"Daten!AM228","v":0},{"$f":"Daten!AN228","v":0},{"$f":"Daten!AO228","v":0}]
[{"$f":"Daten!AL229","v":0},{"$f":"Daten!AM229","v":0},{"$f":"Daten!AN229","v":0},{"$f":"Daten!AO229","v":0}]
[{"$f":"Daten!AL230","v":0},{"$f":"Daten!AM230","v":0},{"$f":"Daten!AN230","v":0},{"$f":"Daten!AO230","v":0}]
[{"$f":"Daten!AL231","v":0},{"$f":"Daten!AM231","v":0},{"$f":"Daten!AN231","v":0},{"$f":"Daten!AO231","v":0}]
[{"$f":"Daten!AL232","v":0},{"$f":"Daten!AM232","v":0},{"$f":"Daten!AN232","v":0},{"$f":"Daten!AO232","v":0}]
[{"$f":"Daten!AL233","v":0},{"$f":"Daten!AM233","v":0},{"$f":"Daten!AN233","v":0},{"$f":"Daten!AO233","v":0}]
[{"$f":"Daten!AL234","v":0},{"$f":"Daten!AM234","v":0},{"$f":"Daten!AN234","v":0},{"$f":"Daten!AO234","v":0}]
[{"$f":"Daten!AL235","v":0},{"$f":"Daten!AM235","v":0},{"$f":"Daten!AN235","v":0},{"$f":"Daten!AO235","v":0}]
[{"$f":"Daten!AL236","v":0},{"$f":"Daten!AM236","v":0},{"$f":"Daten!AN236","v":0},{"$f":"Daten!AO236","v":0}]
[{"$f":"Daten!AL237","v":0},{"$f":"Daten!AM237","v":0},{"$f":"Daten!AN237","v":0},{"$f":"Daten!AO237","v":0}]
[{"$f":"Daten!AL238","v":0},{"$f":"Daten!AM238","v":0},{"$f":"Daten!AN238","v":0},{"$f":"Daten!AO238","v":0}]
[{"$f":"Daten!AL239","v":0},{"$f":"Daten!AM239","v":0},{"$f":"Daten!AN239","v":0},{"$f":"Daten!AO239","v":0}]
[{"$f":"Daten!AL240","v":0},{"$f":"Daten!AM240","v":0},{"$f":"Daten!AN240","v":0},{"$f":"Daten!AO240","v":0}]
[{"$f":"Daten!AL241","v":0},{"$f":"Daten!AM241","v":0},{"$f":"Daten!AN241","v":0},{"$f":"Daten!AO241","v":0}]
[{"$f":"Daten!AL242","v":0},{"$f":"Daten!AM242","v":0},{"$f":"Daten!AN242","v":0},{"$f":"Daten!AO242","v":0}]
[{"$f":"Daten!AL243","v":0},{"$f":"Daten!AM243","v":0},{"$f":"Daten!AN243","v":0},{"$f":"Daten!AO243","v":0}]
[{"$f":"Daten!AL244","v":0},{"$f":"Daten!AM244","v":0},{"$f":"Daten!AN244","v":0},{"$f":"Daten!AO244","v":0}]
[{"$f":"Daten!AL245","v":0},{"$f":"Daten!AM245","v":0},{"$f":"Daten!AN245","v":0},{"$f":"Daten!AO245","v":0}]
[{"$f":"Daten!AL246","v":0},{"$f":"Daten!AM246","v":0},{"$f":"Daten!AN246","v":0},{"$f":"Daten!AO246","v":0}]
[{"$f":"Daten!AL247","v":0},{"$f":"Daten!AM247","v":0},{"$f":"Daten!AN247","v":0},{"$f":"Daten!AO247","v":0}]
[{"$f":"Daten!AL248","v":0},{"$f":"Daten!AM248","v":0},{"$f":"Daten!AN248","v":0},{"$f":"Daten!AO248","v":0}]
[{"$f":"Daten!AL249","v":0},{"$f":"Daten!AM249","v":0},{"$f":"Daten!AN249","v":0},{"$f":"Daten!AO249","v":0}]
[{"$f":"Daten!AL250","v":0},{"$f":"Daten!AM250","v":0},{"$f":"Daten!AN250","v":0},{"$f":"Daten!AO250","v":0}]
[{"$f":"Daten!AL251","v":0},{"$f":"Daten!AM251","v":0},{"$f":"Daten!AN251","v":0},{"$f":"Daten!AO251","v":0}]
[{"$f":"Daten!AL252","v":0},{"$f":"Daten!AM252","v":0},{"$f":"Daten!AN252","v":0},{"$f":"Daten!AO252","v":0}]
[{"$f":"Daten!AL253","v":0},{"$f":"Daten!AM253","v":0},{"$f":"Daten!AN253","v":0},{"$f":"Daten!AO253","v":0}]
[{"$f":"Daten!AL254","v":0},{"$f":"Daten!AM254","v":0},{"$f":"Daten!AN254","v":0},{"$f":"Daten!AO254","v":0}]
[{"$f":"Daten!AL255","v":0},{"$f":"Daten!AM255","v":0},{"$f":"Daten!AN255","v":0},{"$f":"Daten!AO255","v":0}]
[{"$f":"Daten!AL256","v":0},{"$f":"Daten!AM256","v":0},{"$f":"Daten!AN256","v":0},{"$f":"Daten!AO256","v":0}]
[{"$f":"Daten!AL257","v":0},{"$f":"Daten!AM257","v":0},{"$f":"Daten!AN257","v":0},{"$f":"Daten!AO257","v":0}]
[{"$f":"Daten!AL258","v":0},{"$f":"Daten!AM258","v":0},{"$f":"Daten!AN258","v":0},{"$f":"Daten!AO258","v":0}]
[{"$f":"Daten!AL259","v":0},{"$f":"Daten!AM259","v":0},{"$f":"Daten!AN259","v":0},{"$f":"Daten!AO259","v":0}]
[{"$f":"Daten!AL260","v":0},{"$f":"Daten!AM260","v":0},{"$f":"Daten!AN260","v":0},{"$f":"Daten!AO260","v":0}]
[{"$f":"Daten!AL261","v":0},{"$f":"Daten!AM261","v":0},{"$f":"Daten!AN261","v":0},{"$f":"Daten!AO261","v":0}]
[{"$f":"Daten!AL262","v":0},{"$f":"Daten!AM262","v":0},{"$f":"Daten!AN262","v":0},{"$f":"Daten!AO262","v":0}]
[{"$f":"Daten!AL263","v":0},{"$f":"Daten!AM263","v":0},{"$f":"Daten!AN263","v":0},{"$f":"Daten!AO263","v":0}]
[{"$f":"Daten!AL264","v":0},{"$f":"Daten!AM264","v":0},{"$f":"Daten!AN264","v":0},{"$f":"Daten!AO264","v":0}]
[{"$f":"Daten!AL265","v":0},{"$f":"Daten!AM265","v":0},{"$f":"Daten!AN265","v":0},{"$f":"Daten!AO265","v":0}]
[{"$f":"Daten!AL266","v":0},{"$f":"Daten!AM266","v":0},{"$f":"Daten!AN266","v":0},{"$f":"Daten!AO266","v":0}]
[{"$f":"Daten!AL267","v":0},{"$f":"Daten!AM267","v":0},{"$f":"Daten!AN267","v":0},{"$f":"Daten!AO267","v":0}]
[{"$f":"Daten!AL268","v":0},{"$f":"Daten!AM268","v":0},{"$f":"Daten!AN268","v":0},{"$f":"Daten!AO268","v":0}]
[{"$f":"Daten!AL269","v":0},{"$f":"Daten!AM269","v":0},{"$f":"Daten!AN269","v":0},{"$f":"Daten!AO269","v":0}]
[{"$f":"Daten!AL270","v":0},{"$f":"Daten!AM270","v":0},{"$f":"Daten!AN270","v":0},{"$f":"Daten!AO270","v":0}]
[{"$f":"Daten!AL271","v":0},{"$f":"Daten!AM271","v":0},{"$f":"Daten!AN271","v":0},{"$f":"Daten!AO271","v":0}]
[{"$f":"Daten!AL272","v":0},{"$f":"Daten!AM272","v":0},{"$f":"Daten!AN272","v":0},{"$f":"Daten!AO272","v":0}]
[{"$f":"Daten!AL273","v":0},{"$f":"Daten!AM273","v":0},{"$f":"Daten!AN273","v":0},{"$f":"Daten!AO273","v":0}]
[{"$f":"Daten!AL274","v":0},{"$f":"Daten!AM274","v":0},{"$f":"Daten!AN274","v":0},{"$f":"Daten!AO274","v":0}]
[{"$f":"Daten!AL275","v":0},{"$f":"Daten!AM275","v":0},{"$f":"Daten!AN275","v":0},{"$f":"Daten!AO275","v":0}]
[{"$f":"Daten!AL276","v":0},{"$f":"Daten!AM276","v":0},{"$f":"Daten!AN276","v":0},{"$f":"Daten!AO276","v":0}]
[{"$f":"Daten!AL277","v":0},{"$f":"Daten!AM277","v":0},{"$f":"Daten!AN277","v":0},{"$f":"Daten!AO277","v":0}]
[{"$f":"Daten!AL278","v":0},{"$f":"Daten!AM278","v":0},{"$f":"Daten!AN278","v":0},{"$f":"Daten!AO278","v":0}]
[{"$f":"Daten!AL279","v":0},{"$f":"Daten!AM279","v":0},{"$f":"Daten!AN279","v":0},{"$f":"Daten!AO279","v":0}]
[{"$f":"Daten!AL280","v":0},{"$f":"Daten!AM280","v":0},{"$f":"Daten!AN280","v":0},{"$f":"Daten!AO280","v":0}]
[{"$f":"Daten!AL281","v":0},{"$f":"Daten!AM281","v":0},{"$f":"Daten!AN281","v":0},{"$f":"Daten!AO281","v":0}]
[{"$f":"Daten!AL282","v":0},{"$f":"Daten!AM282","v":0},{"$f":"Daten!AN282","v":0},{"$f":"Daten!AO282","v":0}]
[{"$f":"Daten!AL283","v":0},{"$f":"Daten!AM283","v":0},{"$f":"Daten!AN283","v":0},{"$f":"Daten!AO283","v":0}]
[{"$f":"Daten!AL284","v":0},{"$f":"Daten!AM284","v":0},{"$f":"Daten!AN284","v":0},{"$f":"Daten!AO284","v":0}]
[{"$f":"Daten!AL285","v":0},{"$f":"Daten!AM285","v":0},{"$f":"Daten!AN285","v":0},{"$f":"Daten!AO285","v":0}]
[{"$f":"Daten!AL286","v":0},{"$f":"Daten!AM286","v":0},{"$f":"Daten!AN286","v":0},{"$f":"Daten!AO286","v":0}]
[{"$f":"Daten!AL287","v":0},{"$f":"Daten!AM287","v":0},{"$f":"Daten!AN287","v":0},{"$f":"Daten!AO287","v":0}]
[{"$f":"Daten!AL288","v":0},{"$f":"Daten!AM288","v":0},{"$f":"Daten!AN288","v":0},{"$f":"Daten!AO288","v":0}]
[{"$f":"Daten!AL289","v":0},{"$f":"Daten!AM289","v":0},{"$f":"Daten!AN289","v":0},{"$f":"Daten!AO289","v":0}]
[{"$f":"Daten!AL290","v":0},{"$f":"Daten!AM290","v":0},{"$f":"Daten!AN290","v":0},{"$f":"Daten!AO290","v":0}]
[{"$f":"Daten!AL291","v":0},{"$f":"Daten!AM291","v":0},{"$f":"Daten!AN291","v":0},{"$f":"Daten!AO291","v":0}]
[{"$f":"Daten!AL292","v":0},{"$f":"Daten!AM292","v":0},{"$f":"Daten!AN292","v":0},{"$f":"Daten!AO292","v":0}]

{"sheet":"Hauptmenü","index":2,"n_rows":28,"n_cols":10,"rows_kept":28,"cut":false,"hidden":false,"merged":[[1,0,1,1],[0,7,1,9]]}
["Austragungsort:",null,null,"Version 6.1 - RM",null,null,null,"© 2019 - R. Marquardt, Soderstorf"]
["???"]
["Datum:"]
["???"]
["∑ aller Startgelder"]
[{"$f":"IF('SV-Soderstorf'!AG11+'SV-Egestorf'!AG11+'SV-Evendorf'!AG11+'SV-Eyendorf'!AG11+'SV-Garlstorf'!AG11+'SV-Garstedt'!AG11+'SV-Raven-Rolfsen'!AG11+'SV-Salzhausen'!AG11+'SV-Toppenstedt'!AG11+'SV-Wetzen'!AG11=0,\"\",'SV-Soderstorf'!AG11+'SV-Egestorf'!AG11+'SV-Evendorf'!AG11+'SV-Eyendorf'!AG11+'SV-Garlstorf'!AG11+'SV-Garstedt'!AG11+'SV-Raven-Rolfsen'!AG11+'SV-Salzhausen'!AG11+'SV-Toppenstedt'!AG11+'SV-Wetzen'!AG11)","v":""}]
["Startgeld entfällt ab 2018 !"]
[]
[]
[]
[]
[null,null,null,null,null,{"$f":"COUNTA('SV-Egestorf'!F7:Q11,'SV-Egestorf'!F18:Q21,'SV-Egestorf'!F26:Q28,'SV-Egestorf'!F33:Q33,'SV-Egestorf'!F37:Q37,'SV-Egestorf'!F41:Q41,'SV-Egestorf'!F45:Q46,'SV-Egestorf'!F50:Q51,'SV-Egestorf'!F62:Q81,'SV-Egestorf'!F86:Q105)","v":0},null,null,null,{"$f":"COUNTA('SV-Raven-Rolfsen'!F7:Q11,'SV-Raven-Rolfsen'!F18:Q21,'SV-Raven-Rolfsen'!F26:Q28,'SV-Raven-Rolfsen'!F33:Q33,'SV-Raven-Rolfsen'!F37:Q37,'SV-Raven-Rolfsen'!F41:Q41,'SV-Raven-Rolfsen'!F45:Q46,'SV-Raven-Rolfsen'!F50:Q51,'SV-Raven-Rolfsen'!F62:Q81,'SV-Raven-Rolfsen'!F86:Q105)","v":0}]
[]
[]
[]
[null,null,null,null,null,{"$f":"COUNTA('SV-Evendorf'!F7:Q11,'SV-Evendorf'!F18:Q21,'SV-Evendorf'!F26:Q28,'SV-Evendorf'!F33:Q33,'SV-Evendorf'!F37:Q37,'SV-Evendorf'!F41:Q41,'SV-Evendorf'!F45:Q46,'SV-Evendorf'!F50:Q51,'SV-Evendorf'!F62:Q81,'SV-Evendorf'!F86:Q105)","v":0},null,null,null,{"$f":"COUNTA('SV-Salzhausen'!F7:Q11,'SV-Salzhausen'!F18:Q21,'SV-Salzhausen'!F26:Q28,'SV-Salzhausen'!F33:Q33,'SV-Salzhausen'!F37:Q37,'SV-Salzhausen'!F41:Q41,'SV-Salzhausen'!F45:Q46,'SV-Salzhausen'!F50:Q51,'SV-Salzhausen'!F62:Q81,'SV-Salzhausen'!F86:Q105)","v":0}]
[]
[]
[]
[null,null,null,null,null,{"$f":"COUNTA('SV-Eyendorf'!F7:Q11,'SV-Eyendorf'!F18:Q21,'SV-Eyendorf'!F26:Q28,'SV-Eyendorf'!F33:Q33,'SV-Eyendorf'!F37:Q37,'SV-Eyendorf'!F41:Q41,'SV-Eyendorf'!F45:Q46,'SV-Eyendorf'!F50:Q51,'SV-Eyendorf'!F62:Q81,'SV-Eyendorf'!F86:Q105)","v":0},null,null,null,{"$f":"COUNTA('SV-Soderstorf'!F7:Q11,'SV-Soderstorf'!F18:Q21,'SV-Soderstorf'!F26:Q28,'SV-Soderstorf'!F33:Q33,'SV-Soderstorf'!F37:Q37,'SV-Soderstorf'!F41:Q41,'SV-Soderstorf'!F45:Q46,'SV-Soderstorf'!F50:Q51,'SV-Soderstorf'!F62:Q81,'SV-Soderstorf'!F86:Q105)","v":0}]
[]
[]
[]
[null,null,null,null,null,{"$f":"COUNTA('SV-Garlstorf'!F7:Q11,'SV-Garlstorf'!F18:Q21,'SV-Garlstorf'!F26:Q28,'SV-Garlstorf'!F33:Q33,'SV-Garlstorf'!F37:Q37,'SV-Garlstorf'!F41:Q41,'SV-Garlstorf'!F45:Q46,'SV-Garlstorf'!F50:Q51,'SV-Garlstorf'!F62:Q81,'SV-Garlstorf'!F86:Q105)","v":0},null,null,null,{"$f":"COUNTA('SV-Toppenstedt'!F7:Q11,'SV-Toppenstedt'!F18:Q21,'SV-Toppenstedt'!F26:Q28,'SV-Toppenstedt'!F33:Q33,'SV-Toppenstedt'!F37:Q37,'SV-Toppenstedt'!F41:Q41,'SV-Toppenstedt'!F50:Q51,'SV-Toppenstedt'!F45:Q46,'SV-Toppenstedt'!F62:Q81,'SV-Toppenstedt'!F86:Q105)","v":0}]
[]
[]
[]
[null,null,null,null,null,{"$f":"COUNTA('SV-Garstedt'!F7:Q11,'SV-Garstedt'!F18:Q21,'SV-Garstedt'!F26:Q28,'SV-Garstedt'!F33:Q33,'SV-Garstedt'!F37:Q37,'SV-Garstedt'!F41:Q41,'SV-Garstedt'!F45:Q46,'SV-Garstedt'!F50:Q51,'SV-Garstedt'!F62:Q81,'SV-Garstedt'!F86:Q105)","v":0},null,null,null,{"$f":"COUNTA('SV-Wetzen'!F7:Q11,'SV-Wetzen'!F18:Q21,'SV-Wetzen'!F26:Q28,'SV-Wetzen'!F33:Q33,'SV-Wetzen'!F37:Q37,'SV-Wetzen'!F41:Q41,'SV-Wetzen'!F45:Q46,'SV-Wetzen'!F50:Q51,'SV-Wetzen'!F62:Q81,'SV-Wetzen'!F86:Q105)","v":0}]

{"sheet":"Wettkampfklassen","index":3,"n_rows":23,"n_cols":7,"rows_kept":23,"cut":false,"hidden":false,"merged":[[0,0,0,6],[1,0,1,2],[1,4,1,6]]}
["Wettkampfklassen\n( NEU ab 01.01.2018 )\n"]
["KK-Auflage",null,null,null,"KK-Freihand"]
["Wettkampfklasse","WK","Alter",null,"Wettkampfklasse","WK","Alter"]
["Jugend männlich",30,"15 - 16",null,"Jugend männlich",30,"15 - 16"]
["Jugend weiblich",31,"15 - 16",null,"Jugend weiblich",31,"15 - 16"]
["Junioren II männlich",42,"17 - 18",null,"Junioren II männlich",42,"17 - 18"]
["Junioren II weiblich",43,"17 - 18",null,"Junioren II weiblich",43,"17 - 18"]
["Junioren I männlich",40,"19 - 20",null,"Junioren I männlich",40,"19 - 20"]
["Junioren I weiblich",41,"19 - 20",null,"Junioren I weiblich",41,"19 - 20"]
["Herren I",10,"21 - 40",null,"Herren I",10,"21 - 40"]
["Damen I",11,"21 - 40",null,"Damen I",11,"21 - 40"]
["Herren II",12,"41 - 50",null,"Herren II",12,"41 - 50"]
["Damen II",13,"41 - 50",null,"Damen II",13,"41 - 50"]
["Senioren I männlich",70,"51 - 60",null,"Herren III",14,"51 - 60"]
["Senioren I weiblich",71,"51 - 60",null,"Damen III",15,"51 - 60"]
["Senioren II männlich",72,"61 - 65",null,"Herren IV",16,"61 und älter"]
["Senioren II weiblich",73,"61 - 65",null,"Damen IV",17,"61 und älter"]
["Senioren III männlich",74,"66 - 70"]
["Senioren III weiblich",75,"66 - 70"]
["Senioren IV männlich",76,"71 - 75"]
["Senioren IV weiblich",77,"71 - 75"]
["Senioren V männlich",78,"76 und älter"]
["Senioren V weiblich",79,"76 und älter"]

{"sheet":"Daten","index":4,"n_rows":2,"n_cols":60,"rows_kept":2,"cut":false,"hidden":false,"merged":[[0,49,0,53],[0,55,0,59],[0,37,0,41],[0,43,0,47],[0,0,0,2],[0,4,0,6],[0,8,0,10],[0,12,0,15],[0,33,0,35],[0,17,0,19],[0,21,0,23],[0,25,0,27],[0,29,0,31]]}
["Mannschaftswertung Präsidentenpokal",null,null,null,"Mannschaftswertung Damenpokal",null,null,null,"UK-Standarte Mannschaft",null,null,null,"UK-Standarte Einzelauswertung",null,null,null,null,"UK-König",null,null,null,"UK-Königin",null,null,null,"Adjutanten vom König",null,null,null,"Adjutantinnen von Königin",null,null,null,"Präsident",null,null,null,"Auflage Einzelwertung",null,null,null,null,null,"Freihand Einzelwertung",null,null,null,null,null,"Präsidentenpokal Einzelwertung",null,null,null,null,null,"Damenpokal Einzelwertung"]
["Verein","Ringe","M-Teiler",null,"Verein","Ringe","M-Teiler",null,"Verein","Ringe","∑ FH",null,"Vor- und Nachname","Verein","Ringe","FH",null,"Vor- und Nachname","Verein","Teiler",null,"Vor- und Nachname","Verein","Teiler",null,"Vor- und Nachname","Verein","Teiler",null,"Vor- und Nachname","Verein","Teiler",null,"Vor- und Nachname","Verein","Teiler",null,"Klasse","Vor- und Nachname","Verein","Ringe","Anzahl 10' nen",null,"Klasse","Vor- und Nachname","Verein","Ringe","Anzahl 10' nen",null,"Klasse","Vor- und Nachname","Verein","Ringe","Anzahl 10' nen",null,"Klasse","Vor- und Nachname","Verein","Ringe","Anzahl 10' nen"]

{"sheet":"D-SAMMLER","index":5,"n_rows":292,"n_cols":60,"rows_kept":292,"cut":false,"hidden":false,"merged":[[0,49,0,53],[0,55,0,59],[0,0,0,2],[0,4,0,6],[0,29,0,31],[0,8,0,10],[0,12,0,15],[0,37,0,41],[0,43,0,47],[0,17,0,19],[0,21,0,23],[0,25,0,27],[0,33,0,35]]}
["Mannschaftswertung Präsidentenpokal",null,null,null,"Mannschaftswertung Damenpokal",null,null,null,"UK-Standarte Mannschaft",null,null,null,"UK-Standarte Einzelauswertung",null,null,null,null,"UK-König",null,null,null,"UK-Königin",null,null,null,"Adjutanten vom König",null,null,null,"Adjutantinnen von Königin",null,null,null,"Präsident",null,null,null,"Auflage Einzelwertung",null,null,null,null,null,"Freihand Einzelwertung",null,null,null,null,null,"Präsidentenpokal Einzelwertung",null,null,null,null,null,"Damenpokal Einzelwertung"]
["Verein","Ringe","M-Teiler",null,"Verein","Ringe","M-Teiler",null,"Verein","Ringe","∑ FH",null,"Vor- und Nachname","Verein","Ringe","FH",null,"Vor- und Nachname","Verein","Teiler",null,"Vor- und Nachname","Verein","Teiler",null,"Vor- und Nachname","Verein","Teiler",null,"Vor- und Nachname","Verein","Teiler",null,"Vor- und Nachname","Verein","Teiler",null,"Klasse","Vor- und Nachname","Verein","Ringe","Anzahl 10' nen",null,"Klasse","Vor- und Nachname","Verein","Ringe","Anzahl 10' nen",null,"Klasse","Vor- und Nachname","Verein","Ringe","Anzahl 10' nen",null,"Klasse","Vor- und Nachname","Verein","Ringe","Anzahl 10' nen"]
[{"$f":"IF(B3=0,\"\",\"SV-Soderstorf\")","v":""},{"$f":"IF('SV-Soderstorf'!R13=\"\",0,'SV-Soderstorf'!R13)","v":0},{"$f":"IF('SV-Soderstorf'!F13=\"\",\"-\",'SV-Soderstorf'!F13)","v":"-"},null,{"$f":"IF(F3=0,\"\",\"SV-Soderstorf\")","v":""},{"$f":"IF('SV-Soderstorf'!R29=\"\",0,'SV-Soderstorf'!R29)","v":0},{"$f":"IF('SV-Soderstorf'!F29=\"\",\"-\",'SV-Soderstorf'!F29)","v":"-"},null,{"$f":"IF(J3=0,\"\",\"SV-Soderstorf\")","v":""},{"$f":"IF('SV-Soderstorf'!AB22=\"\",0,'SV-Soderstorf'!AB22)","v":0},{"$f":"'SV-Soderstorf'!AF18","v":0},null,{"$f":"IF('SV-Soderstorf'!R18=\"\",\"\",'SV-Soderstorf'!F18)","v":""},{"$f":"IF(M3=\"\",\"\",\"SV-Soderstorf\")","v":""},{"$f":"IF('SV-Soderstorf'!AB18=\"\",0,'SV-Soderstorf'!AB18)","v":0},{"$f":"'SV-Soderstorf'!W18","v":0},null,{"$f":"IF('SV-Soderstorf'!R37=\"\",\"\",'SV-Soderstorf'!F37)","v":""},{"$f":"IF(R3=\"\",\"\",\"SV-Soderstorf\")","v":""},{"$f":"IF('SV-Soderstorf'!R37=\"\",\"-\",'SV-Soderstorf'!R37)","v":"-"},null,{"$f":"IF('SV-Soderstorf'!R41=\"\",\"\",'SV-Soderstorf'!F41)","v":""},{"$f":"IF(V3=\"\",\"\",\"SV-Soderstorf\")","v":""},{"$f":"IF('SV-Soderstorf'!R41=\"\",\"-\",'SV-Soderstorf'!R41)","v":"-"},null,{"$f":"IF('SV-Soderstorf'!R45=\"\",\"\",'SV-Soderstorf'!F45)","v":""},{"$f":"IF(Z3=\"\",\"\",\"SV-Soderstorf\")","v":""},{"$f":"IF('SV-Soderstorf'!R45=\"\",\"-\",'SV-Soderstorf'!R45)","v":"-"},null,{"$f":"IF('SV-Soderstorf'!R50=\"\",\"\",'SV-Soderstorf'!F50)","v":""},{"$f":"IF(AD3=\"\",\"\",\"SV-Soderstorf\")","v":""},{"$f":"IF('SV-Soderstorf'!R50=\"\",\"-\",'SV-Soderstorf'!R50)","v":"-"},null,{"$f":"IF('SV-Soderstorf'!R33=\"\",\"\",'SV-Soderstorf'!F33)","v":""},{"$f":"IF(AH3=\"\",\"\",\"SV-Soderstorf\")","v":""},{"$f":"IF('SV-Soderstorf'!R33=\"\",\"-\",'SV-Soderstorf'!R33)","v":"-"},null,{"$f":"IF(AO3=0,\"\",'SV-Soderstorf'!C7)","v":""},{"$f":"IF(AO3=0,\"\",'SV-Soderstorf'!F7)","v":""},{"$f":"IF(AM3=\"\",\"\",\"SV-Soderstorf\")","v":""},{"$f":"IF('SV-Soderstorf'!R7=\"\",0,'SV-Soderstorf'!R7)","v":0},{"$f":"IF('SV-Soderstorf'!U7=\"\",0,'SV-Soderstorf'!U7)","v":0},null,{"$f":"IF(AU3=0,\"\",'SV-Soderstorf'!C86)","v":""},{"$f":"IF(AU3=0,\"\",'SV-Soderstorf'!F86)","v":""},{"$f":"IF(AS3=\"\",\"\",\"SV-Soderstorf\")","v":""},{"$f":"IF('SV-Soderstorf'!R86=\"\",0,'SV-Soderstorf'!R86)","v":0},{"$f":"IF('SV-Soderstorf'!U86=\"\",0,'SV-Soderstorf'!U86)","v":0},null,{"$f":"AL3","v":""},"","",0,0,null,{"$f":"AL263","v":""},{"$f":"AM263","v":""},{"$f":"AN263","v":""},{"$f":"AO263","v":0},{"$f":"AP263","v":0}]
[{"$f":"IF(B4=0,\"\",\"SV-Egestorf\")","v":""},{"$f":"IF('SV-Egestorf'!R13=\"\",0,'SV-Egestorf'!R13)","v":0},{"$f":"IF('SV-Egestorf'!F13=\"\",\"-\",'SV-Egestorf'!F13)","v":"-"},null,{"$f":"IF(F4=0,\"\",\"SV-Egestorf\")","v":""},{"$f":"IF('SV-Egestorf'!R29=\"\",0,'SV-Egestorf'!R29)","v":0},{"$f":"IF('SV-Egestorf'!F29=\"\",\"-\",'SV-Egestorf'!F29)","v":"-"},null,{"$f":"IF(J4=0,\"\",\"SV-Egestorf\")","v":""},{"$f":"IF('SV-Egestorf'!AB22=\"\",0,'SV-Egestorf'!AB22)","v":0},{"$f":"'SV-Egestorf'!AF18","v":0},null,{"$f":"IF('SV-Soderstorf'!R19=\"\",\"\",'SV-Soderstorf'!F19)","v":""},{"$f":"IF(M4=\"\",\"\",\"SV-Soderstorf\")","v":""},{"$f":"IF('SV-Soderstorf'!AB19=\"\",0,'SV-Soderstorf'!AB19)","v":0},{"$f":"'SV-Soderstorf'!W19","v":0},null,{"$f":"IF('SV-Egestorf'!R37=\"\",\"\",'SV-Egestorf'!F37)","v":""},{"$f":"IF(R4=\"\",\"\",\"SV-Egestorf\")","v":""},{"$f":"IF('SV-Egestorf'!R37=\"\",\"-\",'SV-Egestorf'!R37)","v":"-"},null,{"$f":"IF('SV-Egestorf'!R41=\"\",\"\",'SV-Egestorf'!F41)","v":""},{"$f":"IF(V4=\"\",\"\",\"SV-Egestorf\")","v":""},{"$f":"IF('SV-Egestorf'!R41=\"\",\"-\",'SV-Egestorf'!R41)","v":"-"},null,{"$f":"IF('SV-Soderstorf'!R46=\"\",\"\",'SV-Soderstorf'!F46)","v":""},{"$f":"IF(Z4=\"\",\"\",\"SV-Soderstorf\")","v":""},{"$f":"IF('SV-Soderstorf'!R46=\"\",\"-\",'SV-Soderstorf'!R46)","v":"-"},null,{"$f":"IF('SV-Soderstorf'!R51=\"\",\"\",'SV-Soderstorf'!F51)","v":""},{"$f":"IF(AD4=\"\",\"\",\"SV-Soderstorf\")","v":""},{"$f":"IF('SV-Soderstorf'!R51=\"\",\"-\",'SV-Soderstorf'!R51)","v":"-"},null,{"$f":"IF('SV-Egestorf'!R33=\"\",\"\",'SV-Egestorf'!F33)","v":""},{"$f":"IF(AH4=\"\",\"\",\"SV-Egestorf\")","v":""},{"$f":"IF('SV-Egestorf'!R33=\"\",\"-\",'SV-Egestorf'!R33)","v":"-"},null,{"$f":"IF(AO4=0,\"\",'SV-Soderstorf'!C8)","v":""},{"$f":"IF(AO4=0,\"\",'SV-Soderstorf'!F8)","v":""},"",{"$f":"IF('SV-Soderstorf'!R8=\"\",0,'SV-Soderstorf'!R8)","v":0},{"$f":"IF('SV-Soderstorf'!U8=\"\",0,'SV-Soderstorf'!U8)","v":0},null,{"$f":"IF(AU4=0,\"\",'SV-Soderstorf'!C87)","v":""},{"$f":"IF(AU4=0,\"\",'SV-Soderstorf'!F87)","v":""},"",{"$f":"IF('SV-Soderstorf'!R87=\"\",0,'SV-Soderstorf'!R87)","v":0},{"$f":"IF('SV-Soderstorf'!U87=\"\",0,'SV-Soderstorf'!U87)","v":0},null,"","","",0,0,null,"","","",0,0]
[{"$f":"IF(B5=0,\"\",\"SV-Evendorf\")","v":""},{"$f":"IF('SV-Evendorf'!R13=\"\",0,'SV-Evendorf'!R13)","v":0},{"$f":"IF('SV-Evendorf'!F13=\"\",\"-\",'SV-Evendorf'!F13)","v":"-"},null,{"$f":"IF(F5=0,\"\",\"SV-Evendorf\")","v":""},{"$f":"IF('SV-Evendorf'!R29=\"\",0,'SV-Evendorf'!R29)","v":0},{"$f":"IF('SV-Evendorf'!F29=\"\",\"-\",'SV-Evendorf'!F29)","v":"-"},null,{"$f":"IF(J5=0,\"\",\"SV-Evendorf\")","v":""},{"$f":"IF('SV-Evendorf'!AB22=\"\",0,'SV-Evendorf'!AB22)","v":0},{"$f":"'SV-Evendorf'!AF18","v":0},null,{"$f":"IF('SV-Soderstorf'!R20=\"\",\"\",'SV-Soderstorf'!F20)","v":""},{"$f":"IF(M5=\"\",\"\",\"SV-Soderstorf\")","v":""},{"$f":"IF('SV-Soderstorf'!AB20=\"\",0,'SV-Soderstorf'!AB20)","v":0},{"$f":"'SV-Soderstorf'!W20","v":0},null,{"$f":"IF('SV-Evendorf'!R37=\"\",\"\",'SV-Evendorf'!F37)","v":""},{"$f":"IF(R5=\"\",\"\",\"SV-Evendorf\")","v":""},{"$f":"IF('SV-Evendorf'!R37=\"\",\"-\",'SV-Evendorf'!R37)","v":"-"},null,{"$f":"IF('SV-Evendorf'!R41=\"\",\"\",'SV-Evendorf'!F41)","v":""},{"$f":"IF(V5=\"\",\"\",\"SV-Evendorf\")","v":""},{"$f":"IF('SV-Evendorf'!R41=\"\",\"-\",'SV-Evendorf'!R41)","v":"-"},null,{"$f":"IF('SV-Egestorf'!R45=\"\",\"\",'SV-Egestorf'!F45)","v":""},{"$f":"IF(Z5=\"\",\"\",\"SV-Egestorf\")","v":""},{"$f":"IF('SV-Egestorf'!R45=\"\",\"-\",'SV-Egestorf'!R45)","v":"-"},null,{"$f":"IF('SV-Egestorf'!R50=\"\",\"\",'SV-Egestorf'!F50)","v":""},{"$f":"IF(AD5=\"\",\"\",\"SV-Egestorf\")","v":""},{"$f":"IF('SV-Egestorf'!R50=\"\",\"-\",'SV-Egestorf'!R50)","v":"-"},null,{"$f":"IF('SV-Evendorf'!R33=\"\",\"\",'SV-Evendorf'!F33)","v":""},{"$f":"IF(AH5=\"\",\"\",\"SV-Evendorf\")","v":""},{"$f":"IF('SV-Evendorf'!R33=\"\",\"-\",'SV-Evendorf'!R33)","v":"-"},null,{"$f":"IF(AO5=0,\"\",'SV-Soderstorf'!C9)","v":""},{"$f":"IF(AO5=0,\"\",'SV-Soderstorf'!F9)","v":""},"",{"$f":"IF('SV-Soderstorf'!R9=\"\",0,'SV-Soderstorf'!R9)","v":0},{"$f":"IF('SV-Soderstorf'!U9=\"\",0,'SV-Soderstorf'!U9)","v":0},null,{"$f":"IF(AU5=0,\"\",'SV-Soderstorf'!C88)","v":""},{"$f":"IF(AU5=0,\"\",'SV-Soderstorf'!F88)","v":""},"",{"$f":"IF('SV-Soderstorf'!R88=\"\",0,'SV-Soderstorf'!R88)","v":0},{"$f":"IF('SV-Soderstorf'!U88=\"\",0,'SV-Soderstorf'!U88)","v":0},null,"","","",0,0,null,"","","",0,0]
[{"$f":"IF(B6=0,\"\",\"SV-Eyendorf\")","v":""},{"$f":"IF('SV-Eyendorf'!R13=\"\",0,'SV-Eyendorf'!R13)","v":0},{"$f":"IF('SV-Eyendorf'!F13=\"\",\"-\",'SV-Eyendorf'!F13)","v":"-"},null,{"$f":"IF(F6=0,\"\",\"SV-Eyendorf\")","v":""},{"$f":"IF('SV-Eyendorf'!R29=\"\",0,'SV-Eyendorf'!R29)","v":0},{"$f":"IF('SV-Eyendorf'!F29=\"\",\"-\",'SV-Eyendorf'!F29)","v":"-"},null,{"$f":"IF(J6=0,\"\",\"SV-Eyendorf\")","v":""},{"$f":"IF('SV-Eyendorf'!AB22=\"\",0,'SV-Eyendorf'!AB22)","v":0},{"$f":"'SV-Eyendorf'!AF18","v":0},null,{"$f":"IF('SV-Soderstorf'!R21=\"\",\"\",'SV-Soderstorf'!F21)","v":""},{"$f":"IF(M6=\"\",\"\",\"SV-Soderstorf\")","v":""},{"$f":"IF('SV-Soderstorf'!AB21=\"\",0,'SV-Soderstorf'!AB21)","v":0},{"$f":"'SV-Soderstorf'!W21","v":0},null,{"$f":"IF('SV-Eyendorf'!R37=\"\",\"\",'SV-Eyendorf'!F37)","v":""},{"$f":"IF(R6=\"\",\"\",\"SV-Eyendorf\")","v":""},{"$f":"IF('SV-Eyendorf'!R37=\"\",\"-\",'SV-Eyendorf'!R37)","v":"-"},null,{"$f":"IF('SV-Eyendorf'!R41=\"\",\"\",'SV-Eyendorf'!F41)","v":""},{"$f":"IF(V6=\"\",\"\",\"SV-Eyendorf\")","v":""},{"$f":"IF('SV-Eyendorf'!R41=\"\",\"-\",'SV-Eyendorf'!R41)","v":"-"},null,{"$f":"IF('SV-Egestorf'!R46=\"\",\"\",'SV-Egestorf'!F46)","v":""},{"$f":"IF(Z6=\"\",\"\",\"SV-Egestorf\")","v":""},{"$f":"IF('SV-Egestorf'!R46=\"\",\"-\",'SV-Egestorf'!R46)","v":"-"},null,{"$f":"IF('SV-Egestorf'!R51=\"\",\"\",'SV-Egestorf'!F51)","v":""},{"$f":"IF(AD6=\"\",\"\",\"SV-Egestorf\")","v":""},{"$f":"IF('SV-Egestorf'!R51=\"\",\"-\",'SV-Egestorf'!R51)","v":"-"},null,{"$f":"IF('SV-Eyendorf'!R33=\"\",\"\",'SV-Eyendorf'!F33)","v":""},{"$f":"IF(AH6=\"\",\"\",\"SV-Eyendorf\")","v":""},{"$f":"IF('SV-Eyendorf'!R33=\"\",\"-\",'SV-Eyendorf'!R33)","v":"-"},null,{"$f":"IF(AO6=0,\"\",'SV-Soderstorf'!C10)","v":""},{"$f":"IF(AO6=0,\"\",'SV-Soderstorf'!F10)","v":""},"",{"$f":"IF('SV-Soderstorf'!R10=\"\",0,'SV-Soderstorf'!R10)","v":0},{"$f":"IF('SV-Soderstorf'!U10=\"\",0,'SV-Soderstorf'!U10)","v":0},null,{"$f":"IF(AU6=0,\"\",'SV-Soderstorf'!C89)","v":""},{"$f":"IF(AU6=0,\"\",'SV-Soderstorf'!F89)","v":""},"",{"$f":"IF('SV-Soderstorf'!R89=\"\",0,'SV-Soderstorf'!R89)","v":0},{"$f":"IF('SV-Soderstorf'!U89=\"\",0,'SV-Soderstorf'!U89)","v":0},null,"","","",0,0,null,"","","",0,0]
[{"$f":"IF(B7=0,\"\",\"SV-Garlstorf\")","v":""},{"$f":"IF('SV-Garlstorf'!R13=\"\",0,'SV-Garlstorf'!R13)","v":0},{"$f":"IF('SV-Garlstorf'!F13=\"\",\"-\",'SV-Garlstorf'!F13)","v":"-"},null,{"$f":"IF(F7=0,\"\",\"SV-Garlstorf\")","v":""},{"$f":"IF('SV-Garlstorf'!R29=\"\",0,'SV-Garlstorf'!R29)","v":0},{"$f":"IF('SV-Garlstorf'!F29=\"\",\"-\",'SV-Garlstorf'!F29)","v":"-"},null,{"$f":"IF(J7=0,\"\",\"SV-Garlstorf\")","v":""},{"$f":"IF('SV-Garlstorf'!AB22=\"\",0,'SV-Garlstorf'!AB22)","v":0},{"$f":"'SV-Garlstorf'!AF18","v":0},null,{"$f":"IF('SV-Egestorf'!R18=\"\",\"\",'SV-Egestorf'!F18)","v":""},{"$f":"IF(M7=\"\",\"\",\"SV-Egestorf\")","v":""},{"$f":"IF('SV-Egestorf'!AB18=\"\",0,'SV-Egestorf'!AB18)","v":0},{"$f":"'SV-Egestorf'!W18","v":0},null,{"$f":"IF('SV-Garlstorf'!R37=\"\",\"\",'SV-Garlstorf'!F37)","v":""},{"$f":"IF(R7=\"\",\"\",\"SV-Garlstorf\")","v":""},{"$f":"IF('SV-Garlstorf'!R37=\"\",\"-\",'SV-Garlstorf'!R37)","v":"-"},null,{"$f":"IF('SV-Garlstorf'!R41=\"\",\"\",'SV-Garlstorf'!F41)","v":""},{"$f":"IF(V7=\"\",\"\",\"SV-Garlstorf\")","v":""},{"$f":"IF('SV-Garlstorf'!R41=\"\",\"-\",'SV-Garlstorf'!R41)","v":"-"},null,{"$f":"IF('SV-Evendorf'!R45=\"\",\"\",'SV-Evendorf'!F45)","v":""},{"$f":"IF(Z7=\"\",\"\",\"SV-Evendorf\")","v":""},{"$f":"IF('SV-Evendorf'!R45=\"\",\"-\",'SV-Evendorf'!R45)","v":"-"},null,{"$f":"IF('SV-Evendorf'!R50=\"\",\"\",'SV-Evendorf'!F50)","v":""},{"$f":"IF(AD7=\"\",\"\",\"SV-Evendorf\")","v":""},{"$f":"IF('SV-Evendorf'!R50=\"\",\"-\",'SV-Evendorf'!R50)","v":"-"},null,{"$f":"IF('SV-Garlstorf'!R33=\"\",\"\",'SV-Garlstorf'!F33)","v":""},{"$f":"IF(AH7=\"\",\"\",\"SV-Garlstorf\")","v":""},{"$f":"IF('SV-Garlstorf'!R33=\"\",\"-\",'SV-Garlstorf'!R33)","v":"-"},null,{"$f":"IF(AO7=0,\"\",'SV-Soderstorf'!C11)","v":""},{"$f":"IF(AO7=0,\"\",'SV-Soderstorf'!F11)","v":""},"",{"$f":"IF('SV-Soderstorf'!R11=\"\",0,'SV-Soderstorf'!R11)","v":0},{"$f":"IF('SV-Soderstorf'!U11=\"\",0,'SV-Soderstorf'!U11)","v":0},null,{"$f":"IF(AU7=0,\"\",'SV-Soderstorf'!C90)","v":""},{"$f":"IF(AU7=0,\"\",'SV-Soderstorf'!F90)","v":""},"",{"$f":"IF('SV-Soderstorf'!R90=\"\",0,'SV-Soderstorf'!R90)","v":0},{"$f":"IF('SV-Soderstorf'!U90=\"\",0,'SV-Soderstorf'!U90)","v":0},null,"","","",0,0,null,"","","",0,0]
[{"$f":"IF(B8=0,\"\",\"SV-Garstedt\")","v":""},{"$f":"IF('SV-Garstedt'!R13=\"\",0,'SV-Garstedt'!R13)","v":0},{"$f":"IF('SV-Garstedt'!F13=\"\",\"-\",'SV-Garstedt'!F13)","v":"-"},null,{"$f":"IF(F8=0,\"\",\"SV-Garstedt\")","v":""},{"$f":"IF('SV-Garstedt'!R29=\"\",0,'SV-Garstedt'!R29)","v":0},{"$f":"IF('SV-Garstedt'!F29=\"\",\"-\",'SV-Garstedt'!F29)","v":"-"},null,{"$f":"IF(J8=0,\"\",\"SV-Garstedt\")","v":""},{"$f":"IF('SV-Garstedt'!AB22=\"\",0,'SV-Garstedt'!AB22)","v":0},{"$f":"'SV-Garstedt'!AF18","v":0},null,{"$f":"IF('SV-Egestorf'!R19=\"\",\"\",'SV-Egestorf'!F19)","v":""},{"$f":"IF(M8=\"\",\"\",\"SV-Egestorf\")","v":""},{"$f":"IF('SV-Egestorf'!AB19=\"\",0,'SV-Egestorf'!AB19)","v":0},{"$f":"'SV-Egestorf'!W19","v":0},null,{"$f":"IF('SV-Garstedt'!R37=\"\",\"\",'SV-Garstedt'!F37)","v":""},{"$f":"IF(R8=\"\",\"\",\"SV-Garstedt\")","v":""},{"$f":"IF('SV-Garstedt'!R37=\"\",\"-\",'SV-Garstedt'!R37)","v":"-"},null,{"$f":"IF('SV-Garstedt'!R41=\"\",\"\",'SV-Garstedt'!F41)","v":""},{"$f":"IF(V8=\"\",\"\",\"SV-Garstedt\")","v":""},{"$f":"IF('SV-Garstedt'!R41=\"\",\"-\",'SV-Garstedt'!R41)","v":"-"},null,{"$f":"IF('SV-Evendorf'!R46=\"\",\"\",'SV-Evendorf'!F46)","v":""},{"$f":"IF(Z8=\"\",\"\",\"SV-Evendorf\")","v":""},{"$f":"IF('SV-Evendorf'!R46=\"\",\"-\",'SV-Evendorf'!R46)","v":"-"},null,{"$f":"IF('SV-Evendorf'!R51=\"\",\"\",'SV-Evendorf'!F51)","v":""},{"$f":"IF(AD8=\"\",\"\",\"SV-Evendorf\")","v":""},{"$f":"IF('SV-Evendorf'!R51=\"\",\"-\",'SV-Evendorf'!R51)","v":"-"},null,{"$f":"IF('SV-Garstedt'!R33=\"\",\"\",'SV-Garstedt'!F33)","v":""},{"$f":"IF(AH8=\"\",\"\",\"SV-Garstedt\")","v":""},{"$f":"IF('SV-Garstedt'!R33=\"\",\"-\",'SV-Garstedt'!R33)","v":"-"},null,{"$f":"IF(AO8=0,\"\",'SV-Soderstorf'!C12)","v":""},{"$f":"IF(AO8=0,\"\",'SV-Soderstorf'!F12)","v":""},"",{"$f":"IF('SV-Soderstorf'!R12=\"\",0,'SV-Soderstorf'!R12)","v":0},{"$f":"IF('SV-Soderstorf'!U12=\"\",0,'SV-Soderstorf'!U12)","v":0},null,{"$f":"IF(AU8=0,\"\",'SV-Soderstorf'!C91)","v":""},{"$f":"IF(AU8=0,\"\",'SV-Soderstorf'!F91)","v":""},"",{"$f":"IF('SV-Soderstorf'!R91=\"\",0,'SV-Soderstorf'!R91)","v":0},{"$f":"IF('SV-Soderstorf'!U91=\"\",0,'SV-Soderstorf'!U91)","v":0},null,"","","",0,0,null,"","","",0,0]
[{"$f":"IF(B9=0,\"\",\"SV-Raven-Rolfsen\")","v":""},{"$f":"IF('SV-Raven-Rolfsen'!R13=\"\",0,'SV-Raven-Rolfsen'!R13)","v":0},{"$f":"IF('SV-Raven-Rolfsen'!F13=\"\",\"-\",'SV-Raven-Rolfsen'!F13)","v":"-"},null,{"$f":"IF(F9=0,\"\",\"SV-Raven-Rolfsen\")","v":""},{"$f":"IF('SV-Raven-Rolfsen'!R29=\"\",0,'SV-Raven-Rolfsen'!R29)","v":0},{"$f":"IF('SV-Raven-Rolfsen'!F29=\"\",\"-\",'SV-Raven-Rolfsen'!F29)","v":"-"},null,{"$f":"IF(J9=0,\"\",\"SV-Raven-Rolfsen\")","v":""},{"$f":"IF('SV-Raven-Rolfsen'!AB22=\"\",0,'SV-Raven-Rolfsen'!AB22)","v":0},{"$f":"'SV-Raven-Rolfsen'!AF18","v":0},null,{"$f":"IF('SV-Egestorf'!R20=\"\",\"\",'SV-Egestorf'!F20)","v":""},{"$f":"IF(M9=\"\",\"\",\"SV-Egestorf\")","v":""},{"$f":"IF('SV-Egestorf'!AB20=\"\",0,'SV-Egestorf'!AB20)","v":0},{"$f":"'SV-Egestorf'!W20","v":0},null,{"$f":"IF('SV-Raven-Rolfsen'!R37=\"\",\"\",'SV-Raven-Rolfsen'!F37)","v":""},{"$f":"IF(R9=\"\",\"\",\"SV-Raven-Rolfsen\")","v":""},{"$f":"IF('SV-Raven-Rolfsen'!R37=\"\",\"-\",'SV-Raven-Rolfsen'!R37)","v":"-"},null,{"$f":"IF('SV-Raven-Rolfsen'!R41=\"\",\"\",'SV-Raven-Rolfsen'!F41)","v":""},{"$f":"IF(V9=\"\",\"\",\"SV-Raven-Rolfsen\")","v":""},{"$f":"IF('SV-Raven-Rolfsen'!R41=\"\",\"-\",'SV-Raven-Rolfsen'!R41)","v":"-"},null,{"$f":"IF('SV-Eyendorf'!R45=\"\",\"\",'SV-Eyendorf'!F45)","v":""},{"$f":"IF(Z9=\"\",\"\",\"SV-Eyendorf\")","v":""},{"$f":"IF('SV-Eyendorf'!R45=\"\",\"-\",'SV-Eyendorf'!R45)","v":"-"},null,{"$f":"IF('SV-Eyendorf'!R50=\"\",\"\",'SV-Eyendorf'!F50)","v":""},{"$f":"IF(AD9=\"\",\"\",\"SV-Eyendorf\")","v":""},{"$f":"IF('SV-Eyendorf'!R50=\"\",\"-\",'SV-Eyendorf'!R50)","v":"-"},null,{"$f":"IF('SV-Raven-Rolfsen'!R33=\"\",\"\",'SV-Raven-Rolfsen'!F33)","v":""},{"$f":"IF(AH9=\"\",\"\",\"SV-Raven-Rolfsen\")","v":""},{"$f":"IF('SV-Raven-Rolfsen'!R33=\"\",\"-\",'SV-Raven-Rolfsen'!R33)","v":"-"},null,{"$f":"IF(AO9=0,\"\",'SV-Soderstorf'!C62)","v":""},{"$f":"IF(AO9=0,\"\",'SV-Soderstorf'!F62)","v":""},"",{"$f":"IF('SV-Soderstorf'!R62=\"\",0,'SV-Soderstorf'!R62)","v":0},{"$f":"IF('SV-Soderstorf'!U62=\"\",0,'SV-Soderstorf'!U62)","v":0},null,{"$f":"IF(AU9=0,\"\",'SV-Soderstorf'!C92)","v":""},{"$f":"IF(AU9=0,\"\",'SV-Soderstorf'!F92)","v":""},"",{"$f":"IF('SV-Soderstorf'!R92=\"\",0,'SV-Soderstorf'!R92)","v":0},{"$f":"IF('SV-Soderstorf'!U92=\"\",0,'SV-Soderstorf'!U92)","v":0},null,{"$f":"AL29","v":""},"","",0,0,null,"","","",0,0]
[{"$f":"IF(B10=0,\"\",\"SV-Salzhausen\")","v":""},{"$f":"IF('SV-Salzhausen'!R13=\"\",0,'SV-Salzhausen'!R13)","v":0},{"$f":"IF('SV-Salzhausen'!F13=\"\",\"-\",'SV-Salzhausen'!F13)","v":"-"},null,{"$f":"IF(F10=0,\"\",\"SV-Salzhausen\")","v":""},{"$f":"IF('SV-Salzhausen'!R29=\"\",0,'SV-Salzhausen'!R29)","v":0},{"$f":"IF('SV-Salzhausen'!F29=\"\",\"-\",'SV-Salzhausen'!F29)","v":"-"},null,{"$f":"IF(J10=0,\"\",\"SV-Salzhausen\")","v":""},{"$f":"IF('SV-Salzhausen'!AB22=\"\",0,'SV-Salzhausen'!AB22)","v":0},{"$f":"'SV-Salzhausen'!AF18","v":0},null,{"$f":"IF('SV-Egestorf'!R21=\"\",\"\",'SV-Egestorf'!F21)","v":""},{"$f":"IF(M10=\"\",\"\",\"SV-Egestorf\")","v":""},{"$f":"IF('SV-Egestorf'!AB21=\"\",0,'SV-Egestorf'!AB21)","v":0},{"$f":"'SV-Egestorf'!W21","v":0},null,{"$f":"IF('SV-Salzhausen'!R37=\"\",\"\",'SV-Salzhausen'!F37)","v":""},{"$f":"IF(R10=\"\",\"\",\"SV-Salzhausen\")","v":""},{"$f":"IF('SV-Salzhausen'!R37=\"\",\"-\",'SV-Salzhausen'!R37)","v":"-"},null,{"$f":"IF('SV-Salzhausen'!R41=\"\",\"\",'SV-Salzhausen'!F41)","v":""},{"$f":"IF(V10=\"\",\"\",\"SV-Salzhausen\")","v":""},{"$f":"IF('SV-Salzhausen'!R41=\"\",\"-\",'SV-Salzhausen'!R41)","v":"-"},null,{"$f":"IF('SV-Eyendorf'!R46=\"\",\"\",'SV-Eyendorf'!F46)","v":""},{"$f":"IF(Z10=\"\",\"\",\"SV-Eyendorf\")","v":""},{"$f":"IF('SV-Eyendorf'!R46=\"\",\"-\",'SV-Eyendorf'!R46)","v":"-"},null,{"$f":"IF('SV-Eyendorf'!R51=\"\",\"\",'SV-Eyendorf'!F51)","v":""},{"$f":"IF(AD10=\"\",\"\",\"SV-Eyendorf\")","v":""},{"$f":"IF('SV-Eyendorf'!R51=\"\",\"-\",'SV-Eyendorf'!R51)","v":"-"},null,{"$f":"IF('SV-Salzhausen'!R33=\"\",\"\",'SV-Salzhausen'!F33)","v":""},{"$f":"IF(AH10=\"\",\"\",\"SV-Salzhausen\")","v":""},{"$f":"IF('SV-Salzhausen'!R33=\"\",\"-\",'SV-Salzhausen'!R33)","v":"-"},null,{"$f":"IF(AO10=0,\"\",'SV-Soderstorf'!C63)","v":""},{"$f":"IF(AO10=0,\"\",'SV-Soderstorf'!F63)","v":""},{"$f":"IF(AM10=\"\",\"\",\"SV-Soderstorf\")","v":""},{"$f":"IF('SV-Soderstorf'!R63=\"\",0,'SV-Soderstorf'!R63)","v":0},{"$f":"IF('SV-Soderstorf'!U63=\"\",0,'SV-Soderstorf'!U63)","v":0},null,{"$f":"IF(AU10=0,\"\",'SV-Soderstorf'!C93)","v":""},{"$f":"IF(AU10=0,\"\",'SV-Soderstorf'!F93)","v":""},"",{"$f":"IF('SV-Soderstorf'!R93=\"\",0,'SV-Soderstorf'!R93)","v":0},{"$f":"IF('SV-Soderstorf'!U93=\"\",0,'SV-Soderstorf'!U93)","v":0},null,"","","",0,0,null,"","","",0,0]
[{"$f":"IF(B11=0,\"\",\"Toppenstedt\")","v":""},{"$f":"IF('SV-Toppenstedt'!R13=\"\",0,'SV-Toppenstedt'!R13)","v":0},{"$f":"IF('SV-Toppenstedt'!F13=\"\",\"-\",'SV-Toppenstedt'!F13)","v":"-"},null,{"$f":"IF(F11=0,\"\",\"Toppenstedt\")","v":""},{"$f":"IF('SV-Toppenstedt'!R29=\"\",0,'SV-Toppenstedt'!R29)","v":0},{"$f":"IF('SV-Toppenstedt'!F29=\"\",\"-\",'SV-Toppenstedt'!F29)","v":"-"},null,{"$f":"IF(J11=0,\"\",\"Toppenstedt\")","v":""},{"$f":"IF('SV-Toppenstedt'!AB22=\"\",0,'SV-Toppenstedt'!AB22)","v":0},{"$f":"'SV-Toppenstedt'!AF18","v":0},null,{"$f":"IF('SV-Evendorf'!R18=\"\",\"\",'SV-Evendorf'!F18)","v":""},{"$f":"IF(M11=\"\",\"\",\"SV-Evendorf\")","v":""},{"$f":"IF('SV-Evendorf'!AB18=\"\",0,'SV-Evendorf'!AB18)","v":0},{"$f":"'SV-Evendorf'!W18","v":0},null,{"$f":"IF('SV-Toppenstedt'!R37=\"\",\"\",'SV-Toppenstedt'!F37)","v":""},{"$f":"IF(R11=\"\",\"\",\"SV-Toppenstedt\")","v":""},{"$f":"IF('SV-Toppenstedt'!R37=\"\",\"-\",'SV-Toppenstedt'!R37)","v":"-"},null,{"$f":"IF('SV-Toppenstedt'!R41=\"\",\"\",'SV-Toppenstedt'!F41)","v":""},{"$f":"IF(V11=\"\",\"\",\"SV-Toppenstedt\")","v":""},{"$f":"IF('SV-Toppenstedt'!R41=\"\",\"-\",'SV-Toppenstedt'!R41)","v":"-"},null,{"$f":"IF('SV-Garlstorf'!R45=\"\",\"\",'SV-Garlstorf'!F45)","v":""},{"$f":"IF(Z11=\"\",\"\",\"SV-Garlstorf\")","v":""},{"$f":"IF('SV-Garlstorf'!R45=\"\",\"-\",'SV-Garlstorf'!R45)","v":"-"},null,{"$f":"IF('SV-Garlstorf'!R50=\"\",\"\",'SV-Garlstorf'!F50)","v":""},{"$f":"IF(AD11=\"\",\"\",\"SV-Garlstorf\")","v":""},{"$f":"IF('SV-Garlstorf'!R50=\"\",\"-\",'SV-Garlstorf'!R50)","v":"-"},null,{"$f":"IF('SV-Toppenstedt'!R33=\"\",\"\",'SV-Toppenstedt'!F33)","v":""},{"$f":"IF(AH11=\"\",\"\",\"SV-Toppenstedt\")","v":""},{"$f":"IF('SV-Toppenstedt'!R33=\"\",\"-\",'SV-Toppenstedt'!R33)","v":"-"},null,{"$f":"IF(AO11=0,\"\",'SV-Soderstorf'!C64)","v":""},{"$f":"IF(AO11=0,\"\",'SV-Soderstorf'!F64)","v":""},"",{"$f":"IF('SV-Soderstorf'!R64=\"\",0,'SV-Soderstorf'!R64)","v":0},{"$f":"IF('SV-Soderstorf'!U64=\"\",0,'SV-Soderstorf'!U64)","v":0},null,{"$f":"IF(AU11=0,\"\",'SV-Soderstorf'!C94)","v":""},{"$f":"IF(AU11=0,\"\",'SV-Soderstorf'!F94)","v":""},"",{"$f":"IF('SV-Soderstorf'!R94=\"\",0,'SV-Soderstorf'!R94)","v":0},{"$f":"IF('SV-Soderstorf'!U94=\"\",0,'SV-Soderstorf'!U94)","v":0},null,"","","",0,0,null,"","","",0,0]
[{"$f":"IF(B12=0,\"\",\"SV-Wetzen\")","v":""},{"$f":"IF('SV-Wetzen'!R13=\"\",0,'SV-Wetzen'!R13)","v":0},{"$f":"IF('SV-Wetzen'!F13=\"\",\"-\",'SV-Wetzen'!F13)","v":"-"},null,{"$f":"IF(F12=0,\"\",\"SV-Wetzen\")","v":""},{"$f":"IF('SV-Wetzen'!R29=\"\",0,'SV-Wetzen'!R29)","v":0},{"$f":"IF('SV-Wetzen'!F29=\"\",\"-\",'SV-Wetzen'!F29)","v":"-"},null,{"$f":"IF(J12=0,\"\",\"SV-Wetzen\")","v":""},{"$f":"IF('SV-Wetzen'!AB22=\"\",0,'SV-Wetzen'!AB22)","v":0},{"$f":"'SV-Wetzen'!AF18","v":0},null,{"$f":"IF('SV-Evendorf'!R19=\"\",\"\",'SV-Evendorf'!F19)","v":""},{"$f":"IF(M12=\"\",\"\",\"SV-Evendorf\")","v":""},{"$f":"IF('SV-Evendorf'!AB19=\"\",0,'SV-Evendorf'!AB19)","v":0},{"$f":"'SV-Evendorf'!W19","v":0},null,{"$f":"IF('SV-Wetzen'!R37=\"\",\"\",'SV-Wetzen'!F37)","v":""},{"$f":"IF(R12=\"\",\"\",\"SV-Wetzen\")","v":""},{"$f":"IF('SV-Wetzen'!R37=\"\",\"-\",'SV-Wetzen'!R37)","v":"-"},null,{"$f":"IF('SV-Wetzen'!R41=\"\",\"\",'SV-Wetzen'!F41)","v":""},{"$f":"IF(V12=\"\",\"\",\"SV-Wetzen\")","v":""},{"$f":"IF('SV-Wetzen'!R41=\"\",\"-\",'SV-Wetzen'!R41)","v":"-"},null,{"$f":"IF('SV-Garlstorf'!R46=\"\",\"\",'SV-Garlstorf'!F46)","v":""},{"$f":"IF(Z12=\"\",\"\",\"SV-Garlstorf\")","v":""},{"$f":"IF('SV-Garlstorf'!R46=\"\",\"-\",'SV-Garlstorf'!R46)","v":"-"},null,{"$f":"IF('SV-Garlstorf'!R51=\"\",\"\",'SV-Garlstorf'!F51)","v":""},{"$f":"IF(AD12=\"\",\"\",\"SV-Garlstorf\")","v":""},{"$f":"IF('SV-Garlstorf'!R51=\"\",\"-\",'SV-Garlstorf'!R51)","v":"-"},null,{"$f":"IF('SV-Wetzen'!R33=\"\",\"\",'SV-Wetzen'!F33)","v":""},{"$f":"IF(AH12=\"\",\"\",\"SV-Wetzen\")","v":""},{"$f":"IF('SV-Wetzen'!R33=\"\",\"-\",'SV-Wetzen'!R33)","v":"-"},null,{"$f":"IF(AO12=0,\"\",'SV-Soderstorf'!C65)","v":""},{"$f":"IF(AO12=0,\"\",'SV-Soderstorf'!F65)","v":""},"",{"$f":"IF('SV-Soderstorf'!R65=\"\",0,'SV-Soderstorf'!R65)","v":0},{"$f":"IF('SV-Soderstorf'!U65=\"\",0,'SV-Soderstorf'!U65)","v":0},null,{"$f":"IF(AU12=0,\"\",'SV-Soderstorf'!C95)","v":""},{"$f":"IF(AU12=0,\"\",'SV-Soderstorf'!F95)","v":""},"",{"$f":"IF('SV-Soderstorf'!R95=\"\",0,'SV-Soderstorf'!R95)","v":0},{"$f":"IF('SV-Soderstorf'!U95=\"\",0,'SV-Soderstorf'!U95)","v":0},null,"","","",0,0,null,"","","",0,0]
[null,null,null,null,null,null,null,null,null,null,null,null,{"$f":"IF('SV-Evendorf'!R20=\"\",\"\",'SV-Evendorf'!F20)","v":""},{"$f":"IF(M13=\"\",\"\",\"SV-Evendorf\")","v":""},{"$f":"IF('SV-Evendorf'!AB20=\"\",0,'SV-Evendorf'!AB20)","v":0},{"$f":"'SV-Evendorf'!W20","v":0},null,null,null,null,null,null,null,null,null,{"$f":"IF('SV-Garstedt'!R45=\"\",\"\",'SV-Garstedt'!F45)","v":""},{"$f":"IF(Z13=\"\",\"\",\"SV-Garstedt\")","v":""},{"$f":"IF('SV-Garstedt'!R45=\"\",\"-\",'SV-Garstedt'!R45)","v":"-"},null,{"$f":"IF('SV-Garstedt'!R50=\"\",\"\",'SV-Garstedt'!F50)","v":""},{"$f":"IF(AD13=\"\",\"\",\"SV-Garstedt\")","v":""},{"$f":"IF('SV-Garstedt'!R50=\"\",\"-\",'SV-Garstedt'!R50)","v":"-"},null,null,null,null,null,{"$f":"IF(AO13=0,\"\",'SV-Soderstorf'!C66)","v":""},{"$f":"IF(AO13=0,\"\",'SV-Soderstorf'!F66)","v":""},"",{"$f":"IF('SV-Soderstorf'!R66=\"\",0,'SV-Soderstorf'!R66)","v":0},{"$f":"IF('SV-Soderstorf'!U66=\"\",0,'SV-Soderstorf'!U66)","v":0},null,{"$f":"IF(AU13=0,\"\",'SV-Soderstorf'!C96)","v":""},{"$f":"IF(AU13=0,\"\",'SV-Soderstorf'!F96)","v":""},"",{"$f":"IF('SV-Soderstorf'!R96=\"\",0,'SV-Soderstorf'!R96)","v":0},{"$f":"IF('SV-Soderstorf'!U96=\"\",0,'SV-Soderstorf'!U96)","v":0},null,"","","",0,0,null,"","","",0,0]
[null,null,null,null,null,null,null,null,null,null,null,null,{"$f":"IF('SV-Evendorf'!R21=\"\",\"\",'SV-Evendorf'!F21)","v":""},{"$f":"IF(M14=\"\",\"\",\"SV-Evendorf\")","v":""},{"$f":"IF('SV-Evendorf'!AB21=\"\",0,'SV-Evendorf'!AB21)","v":0},{"$f":"'SV-Evendorf'!W21","v":0},null,null,null,null,null,null,null,null,null,{"$f":"IF('SV-Garstedt'!R46=\"\",\"\",'SV-Garstedt'!F46)","v":""},{"$f":"IF(Z14=\"\",\"\",\"SV-Garstedt\")","v":""},{"$f":"IF('SV-Garstedt'!R46=\"\",\"-\",'SV-Garstedt'!R46)","v":"-"},null,{"$f":"IF('SV-Garstedt'!R51=\"\",\"\",'SV-Garstedt'!F51)","v":""},{"$f":"IF(AD14=\"\",\"\",\"SV-Garstedt\")","v":""},{"$f":"IF('SV-Garstedt'!R51=\"\",\"-\",'SV-Garstedt'!R51)","v":"-"},null,null,null,null,null,{"$f":"IF(AO14=0,\"\",'SV-Soderstorf'!C67)","v":""},{"$f":"IF(AO14=0,\"\",'SV-Soderstorf'!F67)","v":""},"",{"$f":"IF('SV-Soderstorf'!R67=\"\",0,'SV-Soderstorf'!R67)","v":0},{"$f":"IF('SV-Soderstorf'!U67=\"\",0,'SV-Soderstorf'!U67)","v":0},null,{"$f":"IF(AU14=0,\"\",'SV-Soderstorf'!C97)","v":""},{"$f":"IF(AU14=0,\"\",'SV-Soderstorf'!F97)","v":""},"",{"$f":"IF('SV-Soderstorf'!R97=\"\",0,'SV-Soderstorf'!R97)","v":0},{"$f":"IF('SV-Soderstorf'!U97=\"\",0,'SV-Soderstorf'!U97)","v":0},null,"","","",0,0,null,"","","",0,0]
[null,null,null,null,null,null,null,null,null,null,null,null,{"$f":"IF('SV-Eyendorf'!R18=\"\",\"\",'SV-Eyendorf'!F18)","v":""},{"$f":"IF(M15=\"\",\"\",\"SV-Eyendorf\")","v":""},{"$f":"IF('SV-Eyendorf'!AB18=\"\",0,'SV-Eyendorf'!AB18)","v":0},{"$f":"'SV-Eyendorf'!W18","v":0},null,null,null,null,null,null,null,null,null,{"$f":"IF('SV-Raven-Rolfsen'!R45=\"\",\"\",'SV-Raven-Rolfsen'!F45)","v":""},{"$f":"IF(Z15=\"\",\"\",\"SV-Raven-Rolfsen\")","v":""},{"$f":"IF('SV-Raven-Rolfsen'!R45=\"\",\"-\",'SV-Raven-Rolfsen'!R45)","v":"-"},null,{"$f":"IF('SV-Raven-Rolfsen'!R50=\"\",\"\",'SV-Raven-Rolfsen'!F50)","v":""},{"$f":"IF(AD15=\"\",\"\",\"SV-Raven-Rolfsen\")","v":""},{"$f":"IF('SV-Raven-Rolfsen'!R50=\"\",\"-\",'SV-Raven-Rolfsen'!R50)","v":"-"},null,null,null,null,null,{"$f":"IF(AO15=0,\"\",'SV-Soderstorf'!C68)","v":""},{"$f":"IF(AO15=0,\"\",'SV-Soderstorf'!F68)","v":""},"",{"$f":"IF('SV-Soderstorf'!R68=\"\",0,'SV-Soderstorf'!R68)","v":0},{"$f":"IF('SV-Soderstorf'!U68=\"\",0,'SV-Soderstorf'!U68)","v":0},null,{"$f":"IF(AU15=0,\"\",'SV-Soderstorf'!C98)","v":""},{"$f":"IF(AU15=0,\"\",'SV-Soderstorf'!F98)","v":""},"",{"$f":"IF('SV-Soderstorf'!R98=\"\",0,'SV-Soderstorf'!R98)","v":0},{"$f":"IF('SV-Soderstorf'!U98=\"\",0,'SV-Soderstorf'!U98)","v":0},null,{"$f":"AL55","v":""},"","",0,0,null,"","","",0,0]
[null,null,null,null,null,null,null,null,null,null,null,null,{"$f":"IF('SV-Eyendorf'!R19=\"\",\"\",'SV-Eyendorf'!F19)","v":""},{"$f":"IF(M16=\"\",\"\",\"SV-Eyendorf\")","v":""},{"$f":"IF('SV-Eyendorf'!AB19=\"\",0,'SV-Eyendorf'!AB19)","v":0},{"$f":"'SV-Eyendorf'!W19","v":0},null,null,null,null,null,null,null,null,null,{"$f":"IF('SV-Raven-Rolfsen'!R46=\"\",\"\",'SV-Raven-Rolfsen'!F46)","v":""},{"$f":"IF(Z16=\"\",\"\",\"SV-Raven-Rolfsen\")","v":""},{"$f":"IF('SV-Raven-Rolfsen'!R46=\"\",\"-\",'SV-Raven-Rolfsen'!R46)","v":"-"},null,{"$f":"IF('SV-Raven-Rolfsen'!R51=\"\",\"\",'SV-Raven-Rolfsen'!F51)","v":""},{"$f":"IF(AD16=\"\",\"\",\"SV-Raven-Rolfsen\")","v":""},{"$f":"IF('SV-Raven-Rolfsen'!R51=\"\",\"-\",'SV-Raven-Rolfsen'!R51)","v":"-"},null,null,null,null,null,{"$f":"IF(AO16=0,\"\",'SV-Soderstorf'!C69)","v":""},{"$f":"IF(AO16=0,\"\",'SV-Soderstorf'!F69)","v":""},"",{"$f":"IF('SV-Soderstorf'!R69=\"\",0,'SV-Soderstorf'!R69)","v":0},{"$f":"IF('SV-Soderstorf'!U69=\"\",0,'SV-Soderstorf'!U69)","v":0},null,{"$f":"IF(AU16=0,\"\",'SV-Soderstorf'!C99)","v":""},{"$f":"IF(AU16=0,\"\",'SV-Soderstorf'!F99)","v":""},"",{"$f":"IF('SV-Soderstorf'!R99=\"\",0,'SV-Soderstorf'!R99)","v":0},{"$f":"IF('SV-Soderstorf'!U99=\"\",0,'SV-Soderstorf'!U99)","v":0},null,"","","",0,0,null,"","","",0,0]
[null,null,null,null,null,null,null,null,null,null,null,null,{"$f":"IF('SV-Eyendorf'!R20=\"\",\"\",'SV-Eyendorf'!F20)","v":""},{"$f":"IF(M17=\"\",\"\",\"SV-Eyendorf\")","v":""},{"$f":"IF('SV-Eyendorf'!AB20=\"\",0,'SV-Eyendorf'!AB20)","v":0},{"$f":"'SV-Eyendorf'!W20","v":0},null,null,null,null,null,null,null,null,null,{"$f":"IF('SV-Salzhausen'!R45=\"\",\"\",'SV-Salzhausen'!F45)","v":""},{"$f":"IF(Z17=\"\",\"\",\"SV-Salzhausen\")","v":""},{"$f":"IF('SV-Salzhausen'!R45=\"\",\"-\",'SV-Salzhausen'!R45)","v":"-"},null,{"$f":"IF('SV-Salzhausen'!R50=\"\",\"\",'SV-Salzhausen'!F50)","v":""},{"$f":"IF(AD17=\"\",\"\",\"SV-Salzhausen\")","v":""},{"$f":"IF('SV-Salzhausen'!R50=\"\",\"-\",'SV-Salzhausen'!R50)","v":"-"},null,null,null,null,null,{"$f":"IF(AO17=0,\"\",'SV-Soderstorf'!C70)","v":""},{"$f":"IF(AO17=0,\"\",'SV-Soderstorf'!F70)","v":""},"",{"$f":"IF('SV-Soderstorf'!R70=\"\",0,'SV-Soderstorf'!R70)","v":0},{"$f":"IF('SV-Soderstorf'!U70=\"\",0,'SV-Soderstorf'!U70)","v":0},null,{"$f":"IF(AU17=0,\"\",'SV-Soderstorf'!C100)","v":""},{"$f":"IF(AU17=0,\"\",'SV-Soderstorf'!F100)","v":""},"",{"$f":"IF('SV-Soderstorf'!R100=\"\",0,'SV-Soderstorf'!R100)","v":0},{"$f":"IF('SV-Soderstorf'!U100=\"\",0,'SV-Soderstorf'!U100)","v":0},null,"","","",0,0,null,"","","",0,0]
[null,null,null,null,null,null,null,null,null,null,null,null,{"$f":"IF('SV-Eyendorf'!R21=\"\",\"\",'SV-Eyendorf'!F21)","v":""},{"$f":"IF(M18=\"\",\"\",\"SV-Eyendorf\")","v":""},{"$f":"IF('SV-Eyendorf'!AB21=\"\",0,'SV-Eyendorf'!AB21)","v":0},{"$f":"'SV-Eyendorf'!W21","v":0},null,null,null,null,null,null,null,null,null,{"$f":"IF('SV-Salzhausen'!R46=\"\",\"\",'SV-Salzhausen'!F46)","v":""},{"$f":"IF(Z18=\"\",\"\",\"SV-Salzhausen\")","v":""},{"$f":"IF('SV-Salzhausen'!R46=\"\",\"-\",'SV-Salzhausen'!R46)","v":"-"},null,{"$f":"IF('SV-Salzhausen'!R51=\"\",\"\",'SV-Salzhausen'!F51)","v":""},{"$f":"IF(AD18=\"\",\"\",\"SV-Salzhausen\")","v":""},{"$f":"IF('SV-Salzhausen'!R51=\"\",\"-\",'SV-Salzhausen'!R51)","v":"-"},null,null,null,null,null,{"$f":"IF(AO18=0,\"\",'SV-Soderstorf'!C71)","v":""},{"$f":"IF(AO18=0,\"\",'SV-Soderstorf'!F71)","v":""},"",{"$f":"IF('SV-Soderstorf'!R71=\"\",0,'SV-Soderstorf'!R71)","v":0},{"$f":"IF('SV-Soderstorf'!U71=\"\",0,'SV-Soderstorf'!U71)","v":0},null,{"$f":"IF(AU18=0,\"\",'SV-Soderstorf'!C101)","v":""},{"$f":"IF(AU18=0,\"\",'SV-Soderstorf'!F101)","v":""},"",{"$f":"IF('SV-Soderstorf'!R101=\"\",0,'SV-Soderstorf'!R101)","v":0},{"$f":"IF('SV-Soderstorf'!U101=\"\",0,'SV-Soderstorf'!U101)","v":0},null,"","","",0,0,null,"","","",0,0]
[null,null,null,null,null,null,null,null,null,null,null,null,{"$f":"IF('SV-Garlstorf'!R18=\"\",\"\",'SV-Garlstorf'!F18)","v":""},{"$f":"IF(M19=\"\",\"\",\"SV-Garlstorf\")","v":""},{"$f":"IF('SV-Garlstorf'!AB18=\"\",0,'SV-Garlstorf'!AB18)","v":0},{"$f":"'SV-Garlstorf'!W18","v":0},null,null,null,null,null,null,null,null,null,{"$f":"IF('SV-Toppenstedt'!R45=\"\",\"\",'SV-Toppenstedt'!F45)","v":""},{"$f":"IF(Z19=\"\",\"\",\"SV-Toppenstedt\")","v":""},{"$f":"IF('SV-Toppenstedt'!R45=\"\",\"-\",'SV-Toppenstedt'!R45)","v":"-"},null,{"$f":"IF('SV-Toppenstedt'!R50=\"\",\"\",'SV-Toppenstedt'!F50)","v":""},{"$f":"IF(AD19=\"\",\"\",\"SV-Toppenstedt\")","v":""},{"$f":"IF('SV-Toppenstedt'!R50=\"\",\"-\",'SV-Toppenstedt'!R50)","v":"-"},null,null,null,null,null,{"$f":"IF(AO19=0,\"\",'SV-Soderstorf'!C72)","v":""},{"$f":"IF(AO19=0,\"\",'SV-Soderstorf'!F72)","v":""},"",{"$f":"IF('SV-Soderstorf'!R72=\"\",0,'SV-Soderstorf'!R72)","v":0},{"$f":"IF('SV-Soderstorf'!U72=\"\",0,'SV-Soderstorf'!U72)","v":0},null,{"$f":"IF(AU19=0,\"\",'SV-Soderstorf'!C102)","v":""},{"$f":"IF(AU19=0,\"\",'SV-Soderstorf'!F102)","v":""},"",{"$f":"IF('SV-Soderstorf'!R102=\"\",0,'SV-Soderstorf'!R102)","v":0},{"$f":"IF('SV-Soderstorf'!U102=\"\",0,'SV-Soderstorf'!U102)","v":0},null,"","","",0,0,null,"","","",0,0]
[null,null,null,null,null,null,null,null,null,null,null,null,{"$f":"IF('SV-Garlstorf'!R19=\"\",\"\",'SV-Garlstorf'!F19)","v":""},{"$f":"IF(M20=\"\",\"\",\"SV-Garlstorf\")","v":""},{"$f":"IF('SV-Garlstorf'!AB19=\"\",0,'SV-Garlstorf'!AB19)","v":0},{"$f":"'SV-Garlstorf'!W19","v":0},null,null,null,null,null,null,null,null,null,{"$f":"IF('SV-Toppenstedt'!R46=\"\",\"\",'SV-Toppenstedt'!F46)","v":""},{"$f":"IF(Z20=\"\",\"\",\"SV-Toppenstedt\")","v":""},{"$f":"IF('SV-Toppenstedt'!R46=\"\",\"-\",'SV-Toppenstedt'!R46)","v":"-"},null,{"$f":"IF('SV-Toppenstedt'!R51=\"\",\"\",'SV-Toppenstedt'!F51)","v":""},{"$f":"IF(AD20=\"\",\"\",\"SV-Toppenstedt\")","v":""},{"$f":"IF('SV-Toppenstedt'!R51=\"\",\"-\",'SV-Toppenstedt'!R51)","v":"-"},null,null,null,null,null,{"$f":"IF(AO20=0,\"\",'SV-Soderstorf'!C73)","v":""},{"$f":"IF(AO20=0,\"\",'SV-Soderstorf'!F73)","v":""},"",{"$f":"IF('SV-Soderstorf'!R73=\"\",0,'SV-Soderstorf'!R73)","v":0},{"$f":"IF('SV-Soderstorf'!U73=\"\",0,'SV-Soderstorf'!U73)","v":0},null,{"$f":"IF(AU20=0,\"\",'SV-Soderstorf'!C103)","v":""},{"$f":"IF(AU20=0,\"\",'SV-Soderstorf'!F103)","v":""},"",{"$f":"IF('SV-Soderstorf'!R103=\"\",0,'SV-Soderstorf'!R103)","v":0},{"$f":"IF('SV-Soderstorf'!U103=\"\",0,'SV-Soderstorf'!U103)","v":0},null,"","","",0,0,null,"","","",0,0]
[null,null,null,null,null,null,null,null,null,null,null,null,{"$f":"IF('SV-Garlstorf'!R20=\"\",\"\",'SV-Garlstorf'!F20)","v":""},{"$f":"IF(M21=\"\",\"\",\"SV-Garlstorf\")","v":""},{"$f":"IF('SV-Garlstorf'!AB20=\"\",0,'SV-Garlstorf'!AB20)","v":0},{"$f":"'SV-Garlstorf'!W20","v":0},null,null,null,null,null,null,null,null,null,{"$f":"IF('SV-Wetzen'!R45=\"\",\"\",'SV-Wetzen'!F45)","v":""},{"$f":"IF(Z21=\"\",\"\",\"SV-Wetzen\")","v":""},{"$f":"IF('SV-Wetzen'!R45=\"\",\"-\",'SV-Wetzen'!R45)","v":"-"},null,{"$f":"IF('SV-Wetzen'!R50=\"\",\"\",'SV-Wetzen'!F50)","v":""},{"$f":"IF(AD21=\"\",\"\",\"SV-Wetzen\")","v":""},{"$f":"IF('SV-Wetzen'!R50=\"\",\"-\",'SV-Wetzen'!R50)","v":"-"},null,null,null,null,null,{"$f":"IF(AO21=0,\"\",'SV-Soderstorf'!C74)","v":""},{"$f":"IF(AO21=0,\"\",'SV-Soderstorf'!F74)","v":""},"",{"$f":"IF('SV-Soderstorf'!R74=\"\",0,'SV-Soderstorf'!R74)","v":0},{"$f":"IF('SV-Soderstorf'!U74=\"\",0,'SV-Soderstorf'!U74)","v":0},null,{"$f":"IF(AU21=0,\"\",'SV-Soderstorf'!C104)","v":""},{"$f":"IF(AU21=0,\"\",'SV-Soderstorf'!F104)","v":""},"",{"$f":"IF('SV-Soderstorf'!R104=\"\",0,'SV-Soderstorf'!R104)","v":0},{"$f":"IF('SV-Soderstorf'!U104=\"\",0,'SV-Soderstorf'!U104)","v":0},null,{"$f":"AL81","v":""},"","",0,0,null,"","","",0,0]
[null,null,null,null,null,null,null,null,null,null,null,null,{"$f":"IF('SV-Garlstorf'!R21=\"\",\"\",'SV-Garlstorf'!F21)","v":""},{"$f":"IF(M22=\"\",\"\",\"SV-Garlstorf\")","v":""},{"$f":"IF('SV-Garlstorf'!AB21=\"\",0,'SV-Garlstorf'!AB21)","v":0},{"$f":"'SV-Garlstorf'!W21","v":0},null,null,null,null,null,null,null,null,null,{"$f":"IF('SV-Wetzen'!R46=\"\",\"\",'SV-Wetzen'!F46)","v":""},{"$f":"IF(Z22=\"\",\"\",\"SV-Wetzen\")","v":""},{"$f":"IF('SV-Wetzen'!R46=\"\",\"-\",'SV-Wetzen'!R46)","v":"-"},null,{"$f":"IF('SV-Wetzen'!R51=\"\",\"\",'SV-Wetzen'!F51)","v":""},{"$f":"IF(AD22=\"\",\"\",\"SV-Wetzen\")","v":""},{"$f":"IF('SV-Wetzen'!R51=\"\",\"-\",'SV-Wetzen'!R51)","v":"-"},null,null,null,null,null,{"$f":"IF(AO22=0,\"\",'SV-Soderstorf'!C75)","v":""},{"$f":"IF(AO22=0,\"\",'SV-Soderstorf'!F75)","v":""},"",{"$f":"IF('SV-Soderstorf'!R75=\"\",0,'SV-Soderstorf'!R75)","v":0},{"$f":"IF('SV-Soderstorf'!U75=\"\",0,'SV-Soderstorf'!U75)","v":0},null,{"$f":"IF(AU22=0,\"\",'SV-Soderstorf'!C105)","v":""},{"$f":"IF(AU22=0,\"\",'SV-Soderstorf'!F105)","v":""},"",{"$f":"IF('SV-Soderstorf'!R105=\"\",0,'SV-Soderstorf'!R105)","v":0},{"$f":"IF('SV-Soderstorf'!U105=\"\",0,'SV-Soderstorf'!U105)","v":0},null,"","","",0,0,null,"","","",0,0]
[null,null,null,null,null,null,null,null,null,null,null,null,{"$f":"IF('SV-Garstedt'!R18=\"\",\"\",'SV-Garstedt'!F18)","v":""},{"$f":"IF(M23=\"\",\"\",\"SV-Garstedt\")","v":""},{"$f":"IF('SV-Garstedt'!AB18=\"\",0,'SV-Garstedt'!AB18)","v":0},{"$f":"'SV-Garstedt'!W18","v":0},null,null,null,null,null,null,null,null,null,null,null,null,null,null,null,null,null,null,null,null,null,{"$f":"IF(AO23=0,\"\",'SV-Soderstorf'!C76)","v":""},{"$f":"IF(AO23=0,\"\",'SV-Soderstorf'!F76)","v":""},"",{"$f":"IF('SV-Soderstorf'!R76=\"\",0,'SV-Soderstorf'!R76)","v":0},{"$f":"IF('SV-Soderstorf'!U76=\"\",0,'SV-Soderstorf'!U76)","v":0},null,{"$f":"IF(AU23=0,\"\",'SV-Egestorf'!C86)","v":""},{"$f":"IF(AU23=0,\"\",'SV-Egestorf'!F86)","v":""},{"$f":"IF(AS23=\"\",\"\",\"SV-Egestorf\")","v":""},{"$f":"IF('SV-Egestorf'!R86=\"\",0,'SV-Egestorf'!R86)","v":0},{"$f":"IF('SV-Egestorf'!U86=\"\",0,'SV-Egestorf'!U86)","v":0},null,"","","",0,0,null,"","","",0,0]
[null,null,null,null,null,null,null,null,null,null,null,null,{"$f":"IF('SV-Garstedt'!R19=\"\",\"\",'SV-Garstedt'!F19)","v":""},{"$f":"IF(M24=\"\",\"\",\"SV-Garstedt\")","v":""},{"$f":"IF('SV-Garstedt'!AB19=\"\",0,'SV-Garstedt'!AB19)","v":0},{"$f":"'SV-Garstedt'!W19","v":0},null,null,null,null,null,null,null,null,null,null,null,null,null,null,null,null,null,null,null,null,null,{"$f":"IF(AO24=0,\"\",'SV-Soderstorf'!C77)","v":""},{"$f":"IF(AO24=0,\"\",'SV-Soderstorf'!F77)","v":""},"",{"$f":"IF('SV-Soderstorf'!R77=\"\",0,'SV-Soderstorf'!R77)","v":0},{"$f":"IF('SV-Soderstorf'!U77=\"\",0,'SV-Soderstorf'!U77)","v":0},null,{"$f":"IF(AU24=0,\"\",'SV-Egestorf'!C87)","v":""},{"$f":"IF(AU24=0,\"\",'SV-Egestorf'!F87)","v":""},"",{"$f":"IF('SV-Egestorf'!R87=\"\",0,'SV-Egestorf'!R87)","v":0},{"$f":"IF('SV-Egestorf'!U87=\"\",0,'SV-Egestorf'!U87)","v":0},null,"","","",0,0,null,"","","",0,0]
[null,null,null,null,null,null,null,null,null,null,null,null,{"$f":"IF('SV-Garstedt'!R20=\"\",\"\",'SV-Garstedt'!F20)","v":""},{"$f":"IF(M25=\"\",\"\",\"SV-Garstedt\")","v":""},{"$f":"IF('SV-Garstedt'!AB20=\"\",0,'SV-Garstedt'!AB20)","v":0},{"$f":"'SV-Garstedt'!W20","v":0},null,null,null,null,null,null,null,null,null,null,null,null,null,null,null,null,null,null,null,null,null,{"$f":"IF(AO25=0,\"\",'SV-Soderstorf'!C78)","v":""},{"$f":"IF(AO25=0,\"\",'SV-Soderstorf'!F78)","v":""},"",{"$f":"IF('SV-Soderstorf'!R78=\"\",0,'SV-Soderstorf'!R78)","v":0},{"$f":"IF('SV-Soderstorf'!U78=\"\",0,'SV-Soderstorf'!U78)","v":0},null,{"$f":"IF(AU25=0,\"\",'SV-Egestorf'!C88)","v":""},{"$f":"IF(AU25=0,\"\",'SV-Egestorf'!F88)","v":""},"",{"$f":"IF('SV-Egestorf'!R88=\"\",0,'SV-Egestorf'!R88)","v":0},{"$f":"IF('SV-Egestorf'!U88=\"\",0,'SV-Egestorf'!U88)","v":0},null,"","","",0,0,null,"","","",0,0]
[null,null,null,null,null,null,null,null,null,null,null,null,{"$f":"IF('SV-Garstedt'!R21=\"\",\"\",'SV-Garstedt'!F21)","v":""},{"$f":"IF(M26=\"\",\"\",\"SV-Garstedt\")","v":""},{"$f":"IF('SV-Garstedt'!AB21=\"\",0,'SV-Garstedt'!AB21)","v":0},{"$f":"'SV-Garstedt'!W21","v":0},null,null,null,null,null,null,null,null,null,null,null,null,null,null,null,null,null,null,null,null,null,{"$f":"IF(AO26=0,\"\",'SV-Soderstorf'!C79)","v":""},{"$f":"IF(AO26=0,\"\",'SV-Soderstorf'!F79)","v":""},"",{"$f":"IF('SV-Soderstorf'!R79=\"\",0,'SV-Soderstorf'!R79)","v":0},{"$f":"IF('SV-Soderstorf'!U79=\"\",0,'SV-Soderstorf'!U79)","v":0},null,{"$f":"IF(AU26=0,\"\",'SV-Egestorf'!C89)","v":""},{"$f":"IF(AU26=0,\"\",'SV-Egestorf'!F89)","v":""},"",{"$f":"IF('SV-Egestorf'!R89=\"\",0,'SV-Egestorf'!R89)","v":0},{"$f":"IF('SV-Egestorf'!U89=\"\",0,'SV-Egestorf'!U89)","v":0},null,"","","",0,0,null,"","","",0,0]
[null,null,null,null,null,null,null,null,null,null,null,null,{"$f":"IF('SV-Raven-Rolfsen'!R18=\"\",\"\",'SV-Raven-Rolfsen'!F18)","v":""},{"$f":"IF(M27=\"\",\"\",\"SV-Raven-Rolfsen\")","v":""},{"$f":"IF('SV-Raven-Rolfsen'!AB18=\"\",0,'SV-Raven-Rolfsen'!AB18)","v":0},{"$f":"'SV-Raven-Rolfsen'!W18","v":0},null,null,null,null,null,null,null,null,null,null,null,null,null,null,null,null,null,null,null,null,null,{"$f":"IF(AO27=0,\"\",'SV-Soderstorf'!C80)","v":""},{"$f":"IF(AO27=0,\"\",'SV-Soderstorf'!F80)","v":""},"",{"$f":"IF('SV-Soderstorf'!R80=\"\",0,'SV-Soderstorf'!R80)","v":0},{"$f":"IF('SV-Soderstorf'!U80=\"\",0,'SV-Soderstorf'!U80)","v":0},null,{"$f":"IF(AU27=0,\"\",'SV-Egestorf'!C90)","v":""},{"$f":"IF(AU27=0,\"\",'SV-Egestorf'!F90)","v":""},"",{"$f":"IF('SV-Egestorf'!R90=\"\",0,'SV-Egestorf'!R90)","v":0},{"$f":"IF('SV-Egestorf'!U90=\"\",0,'SV-Egestorf'!U90)","v":0},null,{"$f":"AL107","v":""},"","",0,0,null,"","","",0,0]
[null,null,null,null,null,null,null,null,null,null,null,null,{"$f":"IF('SV-Raven-Rolfsen'!R19=\"\",\"\",'SV-Raven-Rolfsen'!F19)","v":""},{"$f":"IF(M28=\"\",\"\",\"SV-Raven-Rolfsen\")","v":""},{"$f":"IF('SV-Raven-Rolfsen'!AB19=\"\",0,'SV-Raven-Rolfsen'!AB19)","v":0},{"$f":"'SV-Raven-Rolfsen'!W19","v":0},null,null,null,null,null,null,null,null,null,null,null,null,null,null,null,null,null,null,null,null,null,{"$f":"IF(AO28=0,\"\",'SV-Soderstorf'!C81)","v":""},{"$f":"IF(AO28=0,\"\",'SV-Soderstorf'!F81)","v":""},"",{"$f":"IF('SV-Soderstorf'!R81=\"\",0,'SV-Soderstorf'!R81)","v":0},{"$f":"IF('SV-Soderstorf'!U81=\"\",0,'SV-Soderstorf'!U81)","v":0},null,{"$f":"IF(AU28=0,\"\",'SV-Egestorf'!C91)","v":""},{"$f":"IF(AU28=0,\"\",'SV-Egestorf'!F91)","v":""},"",{"$f":"IF('SV-Egestorf'!R91=\"\",0,'SV-Egestorf'!R91)","v":0},{"$f":"IF('SV-Egestorf'!U91=\"\",0,'SV-Egestorf'!U91)","v":0},null,"","","",0,0,null,"","","",0,0]
[null,null,null,null,null,null,null,null,null,null,null,null,{"$f":"IF('SV-Raven-Rolfsen'!R20=\"\",\"\",'SV-Raven-Rolfsen'!F20)","v":""},{"$f":"IF(M29=\"\",\"\",\"SV-Raven-Rolfsen\")","v":""},{"$f":"IF('SV-Raven-Rolfsen'!AB20=\"\",0,'SV-Raven-Rolfsen'!AB20)","v":0},{"$f":"'SV-Raven-Rolfsen'!W20","v":0},null,null,null,null,null,null,null,null,null,null,null,null,null,null,null,null,null,null,null,null,null,{"$f":"IF(AO29=0,\"\",'SV-Egestorf'!C7)","v":""},{"$f":"IF(AO29=0,\"\",'SV-Egestorf'!F7)","v":""},{"$f":"IF(AM29=\"\",\"\",\"SV-Egestorf\")","v":""},{"$f":"IF('SV-Egestorf'!R7=\"\",0,'SV-Egestorf'!R7)","v":0},{"$f":"IF('SV-Egestorf'!U7=\"\",0,'SV-Egestorf'!U7)","v":0},null,{"$f":"IF(AU29=0,\"\",'SV-Egestorf'!C92)","v":""},{"$f":"IF(AU29=0,\"\",'SV-Egestorf'!F92)","v":""},"",{"$f":"IF('SV-Egestorf'!R92=\"\",0,'SV-Egestorf'!R92)","v":0},{"$f":"IF('SV-Egestorf'!U92=\"\",0,'SV-Egestorf'!U92)","v":0},null,"","","",0,0,null,"","","",0,0]
[null,null,null,null,null,null,null,null,null,null,null,null,{"$f":"IF('SV-Raven-Rolfsen'!R21=\"\",\"\",'SV-Raven-Rolfsen'!F21)","v":""},{"$f":"IF(M30=\"\",\"\",\"SV-Raven-Rolfsen\")","v":""},{"$f":"IF('SV-Raven-Rolfsen'!AB21=\"\",0,'SV-Raven-Rolfsen'!AB21)","v":0},{"$f":"'SV-Raven-Rolfsen'!W21","v":0},null,null,null,null,null,null,null,null,null,null,null,null,null,null,null,null,null,null,null,null,null,{"$f":"IF(AO30=0,\"\",'SV-Egestorf'!C8)","v":""},{"$f":"IF(AO30=0,\"\",'SV-Egestorf'!F8)","v":""},{"$f":"IF(AM30=\"\",\"\",\"SV-Egestorf\")","v":""},{"$f":"IF('SV-Egestorf'!R8=\"\",0,'SV-Egestorf'!R8)","v":0},{"$f":"IF('SV-Egestorf'!U8=\"\",0,'SV-Egestorf'!U8)","v":0},null,{"$f":"IF(AU30=0,\"\",'SV-Egestorf'!C93)","v":""},{"$f":"IF(AU30=0,\"\",'SV-Egestorf'!F93)","v":""},"",{"$f":"IF('SV-Egestorf'!R93=\"\",0,'SV-Egestorf'!R93)","v":0},{"$f":"IF('SV-Egestorf'!U93=\"\",0,'SV-Egestorf'!U93)","v":0},null,"","","",0,0,null,"","","",0,0]
[null,null,null,null,null,null,null,null,null,null,null,null,{"$f":"IF('SV-Salzhausen'!R18=\"\",\"\",'SV-Salzhausen'!F18)","v":""},{"$f":"IF(M31=\"\",\"\",\"SV-Salzhausen\")","v":""},{"$f":"IF('SV-Salzhausen'!AB18=\"\",0,'SV-Salzhausen'!AB18)","v":0},{"$f":"'SV-Salzhausen'!W18","v":0},null,null,null,null,null,null,null,null,null,null,null,null,null,null,null,null,null,null,null,null,null,{"$f":"IF(AO31=0,\"\",'SV-Egestorf'!C9)","v":""},{"$f":"IF(AO31=0,\"\",'SV-Egestorf'!F9)","v":""},"",{"$f":"IF('SV-Egestorf'!R9=\"\",0,'SV-Egestorf'!R9)","v":0},{"$f":"IF('SV-Egestorf'!U9=\"\",0,'SV-Egestorf'!U9)","v":0},null,{"$f":"IF(AU31=0,\"\",'SV-Egestorf'!C94)","v":""},{"$f":"IF(AU31=0,\"\",'SV-Egestorf'!F94)","v":""},"",{"$f":"IF('SV-Egestorf'!R94=\"\",0,'SV-Egestorf'!R94)","v":0},{"$f":"IF('SV-Egestorf'!U94=\"\",0,'SV-Egestorf'!U94)","v":0},null,"","","",0,0,null,"","","",0,0]
[null,null,null,null,null,null,null,null,null,null,null,null,{"$f":"IF('SV-Salzhausen'!R19=\"\",\"\",'SV-Salzhausen'!F19)","v":""},{"$f":"IF(M32=\"\",\"\",\"SV-Salzhausen\")","v":""},{"$f":"IF('SV-Salzhausen'!AB19=\"\",0,'SV-Salzhausen'!AB19)","v":0},{"$f":"'SV-Salzhausen'!W19","v":0},null,null,null,null,null,null,null,null,null,null,null,null,null,null,null,null,null,null,null,null,null,{"$f":"IF(AO32=0,\"\",'SV-Egestorf'!C10)","v":""},{"$f":"IF(AO32=0,\"\",'SV-Egestorf'!F10)","v":""},"",{"$f":"IF('SV-Egestorf'!R10=\"\",0,'SV-Egestorf'!R10)","v":0},{"$f":"IF('SV-Egestorf'!U10=\"\",0,'SV-Egestorf'!U10)","v":0},null,{"$f":"IF(AU32=0,\"\",'SV-Egestorf'!C95)","v":""},{"$f":"IF(AU32=0,\"\",'SV-Egestorf'!F95)","v":""},"",{"$f":"IF('SV-Egestorf'!R95=\"\",0,'SV-Egestorf'!R95)","v":0},{"$f":"IF('SV-Egestorf'!U95=\"\",0,'SV-Egestorf'!U95)","v":0},null,"","","",0,0,null,"","","",0,0]
[null,null,null,null,null,null,null,null,null,null,null,null,{"$f":"IF('SV-Salzhausen'!R20=\"\",\"\",'SV-Salzhausen'!F20)","v":""},{"$f":"IF(M33=\"\",\"\",\"SV-Salzhausen\")","v":""},{"$f":"IF('SV-Salzhausen'!AB20=\"\",0,'SV-Salzhausen'!AB20)","v":0},{"$f":"'SV-Salzhausen'!W20","v":0},null,null,null,null,null,null,null,null,null,null,null,null,null,null,null,null,null,null,null,null,null,{"$f":"IF(AO33=0,\"\",'SV-Egestorf'!C11)","v":""},{"$f":"IF(AO33=0,\"\",'SV-Egestorf'!F11)","v":""},"",{"$f":"IF('SV-Egestorf'!R11=\"\",0,'SV-Egestorf'!R11)","v":0},{"$f":"IF('SV-Egestorf'!U11=\"\",0,'SV-Egestorf'!U11)","v":0},null,{"$f":"IF(AU33=0,\"\",'SV-Egestorf'!C96)","v":""},{"$f":"IF(AU33=0,\"\",'SV-Egestorf'!F96)","v":""},"",{"$f":"IF('SV-Egestorf'!R96=\"\",0,'SV-Egestorf'!R96)","v":0},{"$f":"IF('SV-Egestorf'!U96=\"\",0,'SV-Egestorf'!U96)","v":0},null,{"$f":"AL133","v":""},"","",0,0]
[null,null,null,null,null,null,null,null,null,null,null,null,{"$f":"IF('SV-Salzhausen'!R21=\"\",\"\",'SV-Salzhausen'!F21)","v":""},{"$f":"IF(M34=\"\",\"\",\"SV-Salzhausen\")","v":""},{"$f":"IF('SV-Salzhausen'!AB21=\"\",0,'SV-Salzhausen'!AB21)","v":0},{"$f":"'SV-Salzhausen'!W21","v":0},null,null,null,null,null,null,null,null,null,null,null,null,null,null,null,null,null,null,null,null,null,{"$f":"IF(AO34=0,\"\",'SV-Egestorf'!C12)","v":""},{"$f":"IF(AO34=0,\"\",'SV-Egestorf'!F12)","v":""},"",{"$f":"IF('SV-Egestorf'!R12=\"\",0,'SV-Egestorf'!R12)","v":0},{"$f":"IF('SV-Egestorf'!U12=\"\",0,'SV-Egestorf'!U12)","v":0},null,{"$f":"IF(AU34=0,\"\",'SV-Egestorf'!C97)","v":""},{"$f":"IF(AU34=0,\"\",'SV-Egestorf'!F97)","v":""},"",{"$f":"IF('SV-Egestorf'!R97=\"\",0,'SV-Egestorf'!R97)","v":0},{"$f":"IF('SV-Egestorf'!U97=\"\",0,'SV-Egestorf'!U97)","v":0},null,"","","",0,0]
[null,null,null,null,null,null,null,null,null,null,null,null,{"$f":"IF('SV-Toppenstedt'!R18=\"\",\"\",'SV-Toppenstedt'!F18)","v":""},{"$f":"IF(M35=\"\",\"\",\"SV-Toppenstedt\")","v":""},{"$f":"IF('SV-Toppenstedt'!AB18=\"\",0,'SV-Toppenstedt'!AB18)","v":0},{"$f":"'SV-Toppenstedt'!W18","v":0},null,null,null,null,null,null,null,null,null,null,null,null,null,null,null,null,null,null,null,null,null,{"$f":"IF(AO35=0,\"\",'SV-Egestorf'!C62)","v":""},{"$f":"IF(AO35=0,\"\",'SV-Egestorf'!F62)","v":""},"",{"$f":"IF('SV-Egestorf'!R62=\"\",0,'SV-Egestorf'!R62)","v":0},{"$f":"IF('SV-Egestorf'!U62=\"\",0,'SV-Egestorf'!U62)","v":0},null,{"$f":"IF(AU35=0,\"\",'SV-Egestorf'!C98)","v":""},{"$f":"IF(AU35=0,\"\",'SV-Egestorf'!F98)","v":""},"",{"$f":"IF('SV-Egestorf'!R98=\"\",0,'SV-Egestorf'!R98)","v":0},{"$f":"IF('SV-Egestorf'!U98=\"\",0,'SV-Egestorf'!U98)","v":0},null,"","","",0,0]
[null,null,null,null,null,null,null,null,null,null,null,null,{"$f":"IF('SV-Toppenstedt'!R19=\"\",\"\",'SV-Toppenstedt'!F19)","v":""},{"$f":"IF(M36=\"\",\"\",\"SV-Toppenstedt\")","v":""},{"$f":"IF('SV-Toppenstedt'!AB19=\"\",0,'SV-Toppenstedt'!AB19)","v":0},{"$f":"'SV-Toppenstedt'!W19","v":0},null,null,null,null,null,null,null,null,null,null,null,null,null,null,null,null,null,null,null,null,null,{"$f":"IF(AO36=0,\"\",'SV-Egestorf'!C63)","v":""},{"$f":"IF(AO36=0,\"\",'SV-Egestorf'!F63)","v":""},"",{"$f":"IF('SV-Egestorf'!R63=\"\",0,'SV-Egestorf'!R63)","v":0},{"$f":"IF('SV-Egestorf'!U63=\"\",0,'SV-Egestorf'!U63)","v":0},null,{"$f":"IF(AU36=0,\"\",'SV-Egestorf'!C99)","v":""},{"$f":"IF(AU36=0,\"\",'SV-Egestorf'!F99)","v":""},"",{"$f":"IF('SV-Egestorf'!R99=\"\",0,'SV-Egestorf'!R99)","v":0},{"$f":"IF('SV-Egestorf'!U99=\"\",0,'SV-Egestorf'!U99)","v":0},null,"","","",0,0]
[null,null,null,null,null,null,null,null,null,null,null,null,{"$f":"IF('SV-Toppenstedt'!R20=\"\",\"\",'SV-Toppenstedt'!F20)","v":""},{"$f":"IF(M37=\"\",\"\",\"SV-Toppenstedt\")","v":""},{"$f":"IF('SV-Toppenstedt'!AB20=\"\",0,'SV-Toppenstedt'!AB20)","v":0},{"$f":"'SV-Toppenstedt'!W20","v":0},null,null,null,null,null,null,null,null,null,null,null,null,null,null,null,null,null,null,null,null,null,{"$f":"IF(AO37=0,\"\",'SV-Egestorf'!C64)","v":""},{"$f":"IF(AO37=0,\"\",'SV-Egestorf'!F64)","v":""},"",{"$f":"IF('SV-Egestorf'!R64=\"\",0,'SV-Egestorf'!R64)","v":0},{"$f":"IF('SV-Egestorf'!U64=\"\",0,'SV-Egestorf'!U64)","v":0},null,{"$f":"IF(AU37=0,\"\",'SV-Egestorf'!C100)","v":""},{"$f":"IF(AU37=0,\"\",'SV-Egestorf'!F100)","v":""},"",{"$f":"IF('SV-Egestorf'!R100=\"\",0,'SV-Egestorf'!R100)","v":0},{"$f":"IF('SV-Egestorf'!U100=\"\",0,'SV-Egestorf'!U100)","v":0},null,"","","",0,0]
[null,null,null,null,null,null,null,null,null,null,null,null,{"$f":"IF('SV-Toppenstedt'!R21=\"\",\"\",'SV-Toppenstedt'!F21)","v":""},{"$f":"IF(M38=\"\",\"\",\"SV-Toppenstedt\")","v":""},{"$f":"IF('SV-Toppenstedt'!AB21=\"\",0,'SV-Toppenstedt'!AB21)","v":0},{"$f":"'SV-Toppenstedt'!W21","v":0},null,null,null,null,null,null,null,null,null,null,null,null,null,null,null,null,null,null,null,null,null,{"$f":"IF(AO38=0,\"\",'SV-Egestorf'!C65)","v":""},{"$f":"IF(AO38=0,\"\",'SV-Egestorf'!F65)","v":""},"",{"$f":"IF('SV-Egestorf'!R65=\"\",0,'SV-Egestorf'!R65)","v":0},{"$f":"IF('SV-Egestorf'!U65=\"\",0,'SV-Egestorf'!U65)","v":0},null,{"$f":"IF(AU38=0,\"\",'SV-Egestorf'!C101)","v":""},{"$f":"IF(AU38=0,\"\",'SV-Egestorf'!F101)","v":""},"",{"$f":"IF('SV-Egestorf'!R101=\"\",0,'SV-Egestorf'!R101)","v":0},{"$f":"IF('SV-Egestorf'!U101=\"\",0,'SV-Egestorf'!U101)","v":0},null,"","","",0,0]
[null,null,null,null,null,null,null,null,null,null,null,null,{"$f":"IF('SV-Wetzen'!R18=\"\",\"\",'SV-Wetzen'!F18)","v":""},{"$f":"IF(M39=\"\",\"\",\"SV-Wetzen\")","v":""},{"$f":"IF('SV-Wetzen'!AB18=\"\",0,'SV-Wetzen'!AB18)","v":0},{"$f":"'SV-Wetzen'!W18","v":0},null,null,null,null,null,null,null,null,null,null,null,null,null,null,null,null,null,null,null,null,null,{"$f":"IF(AO39=0,\"\",'SV-Egestorf'!C66)","v":""},{"$f":"IF(AO39=0,\"\",'SV-Egestorf'!F66)","v":""},"",{"$f":"IF('SV-Egestorf'!R66=\"\",0,'SV-Egestorf'!R66)","v":0},{"$f":"IF('SV-Egestorf'!U66=\"\",0,'SV-Egestorf'!U66)","v":0},null,{"$f":"IF(AU39=0,\"\",'SV-Egestorf'!C102)","v":""},{"$f":"IF(AU39=0,\"\",'SV-Egestorf'!F102)","v":""},"",{"$f":"IF('SV-Egestorf'!R102=\"\",0,'SV-Egestorf'!R102)","v":0},{"$f":"IF('SV-Egestorf'!U102=\"\",0,'SV-Egestorf'!U102)","v":0},null,{"$f":"AL159","v":""},"","",0,0]
[null,null,null,null,null,null,null,null,null,null,null,null,{"$f":"IF('SV-Wetzen'!R19=\"\",\"\",'SV-Wetzen'!F19)","v":""},{"$f":"IF(M40=\"\",\"\",\"SV-Wetzen\")","v":""},{"$f":"IF('SV-Wetzen'!AB19=\"\",0,'SV-Wetzen'!AB19)","v":0},{"$f":"'SV-Wetzen'!W19","v":0},null,null,null,null,null,null,null,null,null,null,null,null,null,null,null,null,null,null,null,null,null,{"$f":"IF(AO40=0,\"\",'SV-Egestorf'!C67)","v":""},{"$f":"IF(AO40=0,\"\",'SV-Egestorf'!F67)","v":""},"",{"$f":"IF('SV-Egestorf'!R67=\"\",0,'SV-Egestorf'!R67)","v":0},{"$f":"IF('SV-Egestorf'!U67=\"\",0,'SV-Egestorf'!U67)","v":0},null,{"$f":"IF(AU40=0,\"\",'SV-Egestorf'!C103)","v":""},{"$f":"IF(AU40=0,\"\",'SV-Egestorf'!F103)","v":""},"",{"$f":"IF('SV-Egestorf'!R103=\"\",0,'SV-Egestorf'!R103)","v":0},{"$f":"IF('SV-Egestorf'!U103=\"\",0,'SV-Egestorf'!U103)","v":0},null,"","","",0,0]
[null,null,null,null,null,null,null,null,null,null,null,null,{"$f":"IF('SV-Wetzen'!R20=\"\",\"\",'SV-Wetzen'!F20)","v":""},{"$f":"IF(M41=\"\",\"\",\"SV-Wetzen\")","v":""},{"$f":"IF('SV-Wetzen'!AB20=\"\",0,'SV-Wetzen'!AB20)","v":0},{"$f":"'SV-Wetzen'!W20","v":0},null,null,null,null,null,null,null,null,null,null,null,null,null,null,null,null,null,null,null,null,null,{"$f":"IF(AO41=0,\"\",'SV-Egestorf'!C68)","v":""},{"$f":"IF(AO41=0,\"\",'SV-Egestorf'!F68)","v":""},"",{"$f":"IF('SV-Egestorf'!R68=\"\",0,'SV-Egestorf'!R68)","v":0},{"$f":"IF('SV-Egestorf'!U68=\"\",0,'SV-Egestorf'!U68)","v":0},null,{"$f":"IF(AU41=0,\"\",'SV-Egestorf'!C104)","v":""},{"$f":"IF(AU41=0,\"\",'SV-Egestorf'!F104)","v":""},"",{"$f":"IF('SV-Egestorf'!R104=\"\",0,'SV-Egestorf'!R104)","v":0},{"$f":"IF('SV-Egestorf'!U104=\"\",0,'SV-Egestorf'!U104)","v":0},null,"","","",0,0]
[null,null,null,null,null,null,null,null,null,null,null,null,{"$f":"IF('SV-Wetzen'!R21=\"\",\"\",'SV-Wetzen'!F21)","v":""},{"$f":"IF(M42=\"\",\"\",\"SV-Wetzen\")","v":""},{"$f":"IF('SV-Wetzen'!AB21=\"\",0,'SV-Wetzen'!AB21)","v":0},{"$f":"'SV-Wetzen'!W21","v":0},null,null,null,null,null,null,null,null,null,null,null,null,null,null,null,null,null,null,null,null,null,{"$f":"IF(AO42=0,\"\",'SV-Egestorf'!C69)","v":""},{"$f":"IF(AO42=0,\"\",'SV-Egestorf'!F69)","v":""},"",{"$f":"IF('SV-Egestorf'!R69=\"\",0,'SV-Egestorf'!R69)","v":0},{"$f":"IF('SV-Egestorf'!U69=\"\",0,'SV-Egestorf'!U69)","v":0},null,{"$f":"IF(AU42=0,\"\",'SV-Egestorf'!C105)","v":""},{"$f":"IF(AU42=0,\"\",'SV-Egestorf'!F105)","v":""},"",{"$f":"IF('SV-Egestorf'!R105=\"\",0,'SV-Egestorf'!R105)","v":0},{"$f":"IF('SV-Egestorf'!U105=\"\",0,'SV-Egestorf'!U105)","v":0},null,"","","",0,0]
[null,null,null,null,null,null,null,null,null,null,null,null,null,null,null,null,null,null,null,null,null,null,null,null,null,null,null,null,null,null,null,null,null,null,null,null,null,{"$f":"IF(AO43=0,\"\",'SV-Egestorf'!C70)","v":""},{"$f":"IF(AO43=0,\"\",'SV-Egestorf'!F70)","v":""},"",{"$f":"IF('SV-Egestorf'!R70=\"\",0,'SV-Egestorf'!R70)","v":0},{"$f":"IF('SV-Egestorf'!U70=\"\",0,'SV-Egestorf'!U70)","v":0},null,{"$f":"IF(AU43=0,\"\",'SV-Evendorf'!C86)","v":""},{"$f":"IF(AU43=0,\"\",'SV-Evendorf'!F86)","v":""},{"$f":"IF(AS43=\"\",\"\",\"SV-Evendorf\")","v":""},{"$f":"IF('SV-Evendorf'!R86=\"\",0,'SV-Evendorf'!R86)","v":0},{"$f":"IF('SV-Evendorf'!U86=\"\",0,'SV-Evendorf'!U86)","v":0},null,"","","",0,0]
[null,null,null,null,null,null,null,null,null,null,null,null,null,null,null,null,null,null,null,null,null,null,null,null,null,null,null,null,null,null,null,null,null,null,null,null,null,{"$f":"IF(AO44=0,\"\",'SV-Egestorf'!C71)","v":""},{"$f":"IF(AO44=0,\"\",'SV-Egestorf'!F71)","v":""},"",{"$f":"IF('SV-Egestorf'!R71=\"\",0,'SV-Egestorf'!R71)","v":0},{"$f":"IF('SV-Egestorf'!U71=\"\",0,'SV-Egestorf'!U71)","v":0},null,{"$f":"IF(AU44=0,\"\",'SV-Evendorf'!C87)","v":""},{"$f":"IF(AU44=0,\"\",'SV-Evendorf'!F87)","v":""},"",{"$f":"IF('SV-Evendorf'!R87=\"\",0,'SV-Evendorf'!R87)","v":0},{"$f":"IF('SV-Evendorf'!U87=\"\",0,'SV-Evendorf'!U87)","v":0},null,"","","",0,0]
[null,null,null,null,null,null,null,null,null,null,null,null,null,null,null,null,null,null,null,null,null,null,null,null,null,null,null,null,null,null,null,null,null,null,null,null,null,{"$f":"IF(AO45=0,\"\",'SV-Egestorf'!C72)","v":""},{"$f":"IF(AO45=0,\"\",'SV-Egestorf'!F72)","v":""},"",{"$f":"IF('SV-Egestorf'!R72=\"\",0,'SV-Egestorf'!R72)","v":0},{"$f":"IF('SV-Egestorf'!U72=\"\",0,'SV-Egestorf'!U72)","v":0},null,{"$f":"IF(AU45=0,\"\",'SV-Evendorf'!C88)","v":""},{"$f":"IF(AU45=0,\"\",'SV-Evendorf'!F88)","v":""},"",{"$f":"IF('SV-Evendorf'!R88=\"\",0,'SV-Evendorf'!R88)","v":0},{"$f":"IF('SV-Evendorf'!U88=\"\",0,'SV-Evendorf'!U88)","v":0},null,{"$f":"AL185","v":""},"","",0,0]
[null,null,null,null,null,null,null,null,null,null,null,null,null,null,null,null,null,null,null,null,null,null,null,null,null,null,null,null,null,null,null,null,null,null,null,null,null,{"$f":"IF(AO46=0,\"\",'SV-Egestorf'!C73)","v":""},{"$f":"IF(AO46=0,\"\",'SV-Egestorf'!F73)","v":""},"",{"$f":"IF('SV-Egestorf'!R73=\"\",0,'SV-Egestorf'!R73)","v":0},{"$f":"IF('SV-Egestorf'!U73=\"\",0,'SV-Egestorf'!U73)","v":0},null,{"$f":"IF(AU46=0,\"\",'SV-Evendorf'!C89)","v":""},{"$f":"IF(AU46=0,\"\",'SV-Evendorf'!F89)","v":""},"",{"$f":"IF('SV-Evendorf'!R89=\"\",0,'SV-Evendorf'!R89)","v":0},{"$f":"IF('SV-Evendorf'!U89=\"\",0,'SV-Evendorf'!U89)","v":0},null,"","","",0,0]
[null,null,null,null,null,null,null,null,null,null,null,null,null,null,null,null,null,null,null,null,null,null,null,null,null,null,null,null,null,null,null,null,null,null,null,null,null,{"$f":"IF(AO47=0,\"\",'SV-Egestorf'!C74)","v":""},{"$f":"IF(AO47=0,\"\",'SV-Egestorf'!F74)","v":""},"",{"$f":"IF('SV-Egestorf'!R74=\"\",0,'SV-Egestorf'!R74)","v":0},{"$f":"IF('SV-Egestorf'!U74=\"\",0,'SV-Egestorf'!U74)","v":0},null,{"$f":"IF(AU47=0,\"\",'SV-Evendorf'!C90)","v":""},{"$f":"IF(AU47=0,\"\",'SV-Evendorf'!F90)","v":""},"",{"$f":"IF('SV-Evendorf'!R90=\"\",0,'SV-Evendorf'!R90)","v":0},{"$f":"IF('SV-Evendorf'!U90=\"\",0,'SV-Evendorf'!U90)","v":0},null,"","","",0,0]
[null,null,null,null,null,null,null,null,null,null,null,null,null,null,null,null,null,null,null,null,null,null,null,null,null,null,null,null,null,null,null,null,null,null,null,null,null,{"$f":"IF(AO48=0,\"\",'SV-Egestorf'!C75)","v":""},{"$f":"IF(AO48=0,\"\",'SV-Egestorf'!F75)","v":""},"",{"$f":"IF('SV-Egestorf'!R75=\"\",0,'SV-Egestorf'!R75)","v":0},{"$f":"IF('SV-Egestorf'!U75=\"\",0,'SV-Egestorf'!U75)","v":0},null,{"$f":"IF(AU48=0,\"\",'SV-Evendorf'!C91)","v":""},{"$f":"IF(AU48=0,\"\",'SV-Evendorf'!F91)","v":""},"",{"$f":"IF('SV-Evendorf'!R91=\"\",0,'SV-Evendorf'!R91)","v":0},{"$f":"IF('SV-Evendorf'!U91=\"\",0,'SV-Evendorf'!U91)","v":0},null,"","","",0,0]
[null,null,null,null,null,null,null,null,null,null,null,null,null,null,null,null,null,null,null,null,null,null,null,null,null,null,null,null,null,null,null,null,null,null,null,null,null,{"$f":"IF(AO49=0,\"\",'SV-Egestorf'!C76)","v":""},{"$f":"IF(AO49=0,\"\",'SV-Egestorf'!F76)","v":""},"",{"$f":"IF('SV-Egestorf'!R76=\"\",0,'SV-Egestorf'!R76)","v":0},{"$f":"IF('SV-Egestorf'!U76=\"\",0,'SV-Egestorf'!U76)","v":0},null,{"$f":"IF(AU49=0,\"\",'SV-Evendorf'!C92)","v":""},{"$f":"IF(AU49=0,\"\",'SV-Evendorf'!F92)","v":""},"",{"$f":"IF('SV-Evendorf'!R92=\"\",0,'SV-Evendorf'!R92)","v":0},{"$f":"IF('SV-Evendorf'!U92=\"\",0,'SV-Evendorf'!U92)","v":0},null,"","","",0,0]
[null,null,null,null,null,null,null,null,null,null,null,null,null,null,null,null,null,null,null,null,null,null,null,null,null,null,null,null,null,null,null,null,null,null,null,null,null,{"$f":"IF(AO50=0,\"\",'SV-Egestorf'!C77)","v":""},{"$f":"IF(AO50=0,\"\",'SV-Egestorf'!F77)","v":""},"",{"$f":"IF('SV-Egestorf'!R77=\"\",0,'SV-Egestorf'!R77)","v":0},{"$f":"IF('SV-Egestorf'!U77=\"\",0,'SV-Egestorf'!U77)","v":0},null,{"$f":"IF(AU50=0,\"\",'SV-Evendorf'!C93)","v":""},{"$f":"IF(AU50=0,\"\",'SV-Evendorf'!F93)","v":""},"",{"$f":"IF('SV-Evendorf'!R93=\"\",0,'SV-Evendorf'!R93)","v":0},{"$f":"IF('SV-Evendorf'!U93=\"\",0,'SV-Evendorf'!U93)","v":0},null,"","","",0,0]
[null,null,null,null,null,null,null,null,null,null,null,null,null,null,null,null,null,null,null,null,null,null,null,null,null,null,null,null,null,null,null,null,null,null,null,null,null,{"$f":"IF(AO51=0,\"\",'SV-Egestorf'!C78)","v":""},{"$f":"IF(AO51=0,\"\",'SV-Egestorf'!F78)","v":""},"",{"$f":"IF('SV-Egestorf'!R78=\"\",0,'SV-Egestorf'!R78)","v":0},{"$f":"IF('SV-Egestorf'!U78=\"\",0,'SV-Egestorf'!U78)","v":0},null,{"$f":"IF(AU51=0,\"\",'SV-Evendorf'!C94)","v":""},{"$f":"IF(AU51=0,\"\",'SV-Evendorf'!F94)","v":""},"",{"$f":"IF('SV-Evendorf'!R94=\"\",0,'SV-Evendorf'!R94)","v":0},{"$f":"IF('SV-Evendorf'!U94=\"\",0,'SV-Evendorf'!U94)","v":0},null,{"$f":"AL211","v":""},"","",0,0]
[null,null,null,null,null,null,null,null,null,null,null,null,null,null,null,null,null,null,null,null,null,null,null,null,null,null,null,null,null,null,null,null,null,null,null,null,null,{"$f":"IF(AO52=0,\"\",'SV-Egestorf'!C79)","v":""},{"$f":"IF(AO52=0,\"\",'SV-Egestorf'!F79)","v":""},"",{"$f":"IF('SV-Egestorf'!R79=\"\",0,'SV-Egestorf'!R79)","v":0},{"$f":"IF('SV-Egestorf'!U79=\"\",0,'SV-Egestorf'!U79)","v":0},null,{"$f":"IF(AU52=0,\"\",'SV-Evendorf'!C95)","v":""},{"$f":"IF(AU52=0,\"\",'SV-Evendorf'!F95)","v":""},"",{"$f":"IF('SV-Evendorf'!R95=\"\",0,'SV-Evendorf'!R95)","v":0},{"$f":"IF('SV-Evendorf'!U95=\"\",0,'SV-Evendorf'!U95)","v":0},null,"","","",0,0]
[null,null,null,null,null,null,null,null,null,null,null,null,null,null,null,null,null,null,null,null,null,null,null,null,null,null,null,null,null,null,null,null,null,null,null,null,null,{"$f":"IF(AO53=0,\"\",'SV-Egestorf'!C80)","v":""},{"$f":"IF(AO53=0,\"\",'SV-Egestorf'!F80)","v":""},"",{"$f":"IF('SV-Egestorf'!R80=\"\",0,'SV-Egestorf'!R80)","v":0},{"$f":"IF('SV-Egestorf'!U80=\"\",0,'SV-Egestorf'!U80)","v":0},null,{"$f":"IF(AU53=0,\"\",'SV-Evendorf'!C96)","v":""},{"$f":"IF(AU53=0,\"\",'SV-Evendorf'!F96)","v":""},"",{"$f":"IF('SV-Evendorf'!R96=\"\",0,'SV-Evendorf'!R96)","v":0},{"$f":"IF('SV-Evendorf'!U96=\"\",0,'SV-Evendorf'!U96)","v":0},null,"","","",0,0]
[null,null,null,null,null,null,null,null,null,null,null,null,null,null,null,null,null,null,null,null,null,null,null,null,null,null,null,null,null,null,null,null,null,null,null,null,null,{"$f":"IF(AO54=0,\"\",'SV-Egestorf'!C81)","v":""},{"$f":"IF(AO54=0,\"\",'SV-Egestorf'!F81)","v":""},"",{"$f":"IF('SV-Egestorf'!R81=\"\",0,'SV-Egestorf'!R81)","v":0},{"$f":"IF('SV-Egestorf'!U81=\"\",0,'SV-Egestorf'!U81)","v":0},null,{"$f":"IF(AU54=0,\"\",'SV-Evendorf'!C97)","v":""},{"$f":"IF(AU54=0,\"\",'SV-Evendorf'!F97)","v":""},"",{"$f":"IF('SV-Evendorf'!R97=\"\",0,'SV-Evendorf'!R97)","v":0},{"$f":"IF('SV-Evendorf'!U97=\"\",0,'SV-Evendorf'!U97)","v":0},null,"","","",0,0]
[null,null,null,null,null,null,null,null,null,null,null,null,null,null,null,null,null,null,null,null,null,null,null,null,null,null,null,null,null,null,null,null,null,null,null,null,null,{"$f":"IF(AO55=0,\"\",'SV-Evendorf'!C7)","v":""},{"$f":"IF(AO55=0,\"\",'SV-Evendorf'!F7)","v":""},{"$f":"IF(AM55=\"\",\"\",\"SV-Evendorf\")","v":""},{"$f":"IF('SV-Evendorf'!R7=\"\",0,'SV-Evendorf'!R7)","v":0},{"$f":"IF('SV-Evendorf'!U7=\"\",0,'SV-Evendorf'!U7)","v":0},null,{"$f":"IF(AU55=0,\"\",'SV-Evendorf'!C98)","v":""},{"$f":"IF(AU55=0,\"\",'SV-Evendorf'!F98)","v":""},"",{"$f":"IF('SV-Evendorf'!R98=\"\",0,'SV-Evendorf'!R98)","v":0},{"$f":"IF('SV-Evendorf'!U98=\"\",0,'SV-Evendorf'!U98)","v":0},null,"","","",0,0]
[null,null,null,null,null,null,null,null,null,null,null,null,null,null,null,null,null,null,null,null,null,null,null,null,null,null,null,null,null,null,null,null,null,null,null,null,null,{"$f":"IF(AO56=0,\"\",'SV-Evendorf'!C8)","v":""},{"$f":"IF(AO56=0,\"\",'SV-Evendorf'!F8)","v":""},{"$f":"IF(AM56=\"\",\"\",\"SV-Evendorf\")","v":""},{"$f":"IF('SV-Evendorf'!R8=\"\",0,'SV-Evendorf'!R8)","v":0},{"$f":"IF('SV-Evendorf'!U8=\"\",0,'SV-Evendorf'!U8)","v":0},null,{"$f":"IF(AU56=0,\"\",'SV-Evendorf'!C99)","v":""},{"$f":"IF(AU56=0,\"\",'SV-Evendorf'!F99)","v":""},"",{"$f":"IF('SV-Evendorf'!R99=\"\",0,'SV-Evendorf'!R99)","v":0},{"$f":"IF('SV-Evendorf'!U99=\"\",0,'SV-Evendorf'!U99)","v":0},null,"","","",0,0]
[null,null,null,null,null,null,null,null,null,null,null,null,null,null,null,null,null,null,null,null,null,null,null,null,null,null,null,null,null,null,null,null,null,null,null,null,null,{"$f":"IF(AO57=0,\"\",'SV-Evendorf'!C9)","v":""},{"$f":"IF(AO57=0,\"\",'SV-Evendorf'!F9)","v":""},"",{"$f":"IF('SV-Evendorf'!R9=\"\",0,'SV-Evendorf'!R9)","v":0},{"$f":"IF('SV-Evendorf'!U9=\"\",0,'SV-Evendorf'!U9)","v":0},null,{"$f":"IF(AU57=0,\"\",'SV-Evendorf'!C100)","v":""},{"$f":"IF(AU57=0,\"\",'SV-Evendorf'!F100)","v":""},"",{"$f":"IF('SV-Evendorf'!R100=\"\",0,'SV-Evendorf'!R100)","v":0},{"$f":"IF('SV-Evendorf'!U100=\"\",0,'SV-Evendorf'!U100)","v":0},null,{"$f":"AL237","v":""},"","",0,0]
[null,null,null,null,null,null,null,null,null,null,null,null,null,null,null,null,null,null,null,null,null,null,null,null,null,null,null,null,null,null,null,null,null,null,null,null,null,{"$f":"IF(AO58=0,\"\",'SV-Evendorf'!C10)","v":""},{"$f":"IF(AO58=0,\"\",'SV-Evendorf'!F10)","v":""},"",{"$f":"IF('SV-Evendorf'!R10=\"\",0,'SV-Evendorf'!R10)","v":0},{"$f":"IF('SV-Evendorf'!U10=\"\",0,'SV-Evendorf'!U10)","v":0},null,{"$f":"IF(AU58=0,\"\",'SV-Evendorf'!C101)","v":""},{"$f":"IF(AU58=0,\"\",'SV-Evendorf'!F101)","v":""},"",{"$f":"IF('SV-Evendorf'!R101=\"\",0,'SV-Evendorf'!R101)","v":0},{"$f":"IF('SV-Evendorf'!U101=\"\",0,'SV-Evendorf'!U101)","v":0},null,"","","",0,0]
[null,null,null,null,null,null,null,null,null,null,null,null,null,null,null,null,null,null,null,null,null,null,null,null,null,null,null,null,null,null,null,null,null,null,null,null,null,{"$f":"IF(AO59=0,\"\",'SV-Evendorf'!C11)","v":""},{"$f":"IF(AO59=0,\"\",'SV-Evendorf'!F11)","v":""},"",{"$f":"IF('SV-Evendorf'!R11=\"\",0,'SV-Evendorf'!R11)","v":0},{"$f":"IF('SV-Evendorf'!U11=\"\",0,'SV-Evendorf'!U11)","v":0},null,{"$f":"IF(AU59=0,\"\",'SV-Evendorf'!C102)","v":""},{"$f":"IF(AU59=0,\"\",'SV-Evendorf'!F102)","v":""},"",{"$f":"IF('SV-Evendorf'!R102=\"\",0,'SV-Evendorf'!R102)","v":0},{"$f":"IF('SV-Evendorf'!U102=\"\",0,'SV-Evendorf'!U102)","v":0},null,"","","",0,0]
[null,null,null,null,null,null,null,null,null,null,null,null,null,null,null,null,null,null,null,null,null,null,null,null,null,null,null,null,null,null,null,null,null,null,null,null,null,{"$f":"IF(AO60=0,\"\",'SV-Evendorf'!C12)","v":""},{"$f":"IF(AO60=0,\"\",'SV-Evendorf'!F12)","v":""},"",{"$f":"IF('SV-Evendorf'!R12=\"\",0,'SV-Evendorf'!R12)","v":0},{"$f":"IF('SV-Evendorf'!U12=\"\",0,'SV-Evendorf'!U12)","v":0},null,{"$f":"IF(AU60=0,\"\",'SV-Evendorf'!C103)","v":""},{"$f":"IF(AU60=0,\"\",'SV-Evendorf'!F103)","v":""},"",{"$f":"IF('SV-Evendorf'!R103=\"\",0,'SV-Evendorf'!R103)","v":0},{"$f":"IF('SV-Evendorf'!U103=\"\",0,'SV-Evendorf'!U103)","v":0},null,"","","",0,0]
[null,null,null,null,null,null,null,null,null,null,null,null,null,null,null,null,null,null,null,null,null,null,null,null,null,null,null,null,null,null,null,null,null,null,null,null,null,{"$f":"IF(AO61=0,\"\",'SV-Evendorf'!C62)","v":""},{"$f":"IF(AO61=0,\"\",'SV-Evendorf'!F62)","v":""},"",{"$f":"IF('SV-Evendorf'!R62=\"\",0,'SV-Evendorf'!R62)","v":0},{"$f":"IF('SV-Evendorf'!U62=\"\",0,'SV-Evendorf'!U62)","v":0},null,{"$f":"IF(AU61=0,\"\",'SV-Evendorf'!C104)","v":""},{"$f":"IF(AU61=0,\"\",'SV-Evendorf'!F104)","v":""},"",{"$f":"IF('SV-Evendorf'!R104=\"\",0,'SV-Evendorf'!R104)","v":0},{"$f":"IF('SV-Evendorf'!U104=\"\",0,'SV-Evendorf'!U104)","v":0},null,"","","",0,0]
[null,null,null,null,null,null,null,null,null,null,null,null,null,null,null,null,null,null,null,null,null,null,null,null,null,null,null,null,null,null,null,null,null,null,null,null,null,{"$f":"IF(AO62=0,\"\",'SV-Evendorf'!C63)","v":""},{"$f":"IF(AO62=0,\"\",'SV-Evendorf'!F63)","v":""},"",{"$f":"IF('SV-Evendorf'!R63=\"\",0,'SV-Evendorf'!R63)","v":0},{"$f":"IF('SV-Evendorf'!U63=\"\",0,'SV-Evendorf'!U63)","v":0},null,{"$f":"IF(AU62=0,\"\",'SV-Evendorf'!C105)","v":""},{"$f":"IF(AU62=0,\"\",'SV-Evendorf'!F105)","v":""},"",{"$f":"IF('SV-Evendorf'!R105=\"\",0,'SV-Evendorf'!R105)","v":0},{"$f":"IF('SV-Evendorf'!U105=\"\",0,'SV-Evendorf'!U105)","v":0},null,"","","",0,0]
[null,null,null,null,null,null,null,null,null,null,null,null,null,null,null,null,null,null,null,null,null,null,null,null,null,null,null,null,null,null,null,null,null,null,null,null,null,{"$f":"IF(AO63=0,\"\",'SV-Evendorf'!C64)","v":""},{"$f":"IF(AO63=0,\"\",'SV-Evendorf'!F64)","v":""},"",{"$f":"IF('SV-Evendorf'!R64=\"\",0,'SV-Evendorf'!R64)","v":0},{"$f":"IF('SV-Evendorf'!U64=\"\",0,'SV-Evendorf'!U64)","v":0},null,{"$f":"IF(AU63=0,\"\",'SV-Eyendorf'!C86)","v":""},{"$f":"IF(AU63=0,\"\",'SV-Eyendorf'!F86)","v":""},{"$f":"IF(AS63=\"\",\"\",\"SV-Eyendorf\")","v":""},{"$f":"IF('SV-Eyendorf'!R86=\"\",0,'SV-Eyendorf'!R86)","v":0},{"$f":"IF('SV-Eyendorf'!U86=\"\",0,'SV-Eyendorf'!U86)","v":0}]
[null,null,null,null,null,null,null,null,null,null,null,null,null,null,null,null,null,null,null,null,null,null,null,null,null,null,null,null,null,null,null,null,null,null,null,null,null,{"$f":"IF(AO64=0,\"\",'SV-Evendorf'!C65)","v":""},{"$f":"IF(AO64=0,\"\",'SV-Evendorf'!F65)","v":""},"",{"$f":"IF('SV-Evendorf'!R65=\"\",0,'SV-Evendorf'!R65)","v":0},{"$f":"IF('SV-Evendorf'!U65=\"\",0,'SV-Evendorf'!U65)","v":0},null,{"$f":"IF(AU64=0,\"\",'SV-Eyendorf'!C87)","v":""},{"$f":"IF(AU64=0,\"\",'SV-Eyendorf'!F87)","v":""},"",{"$f":"IF('SV-Eyendorf'!R87=\"\",0,'SV-Eyendorf'!R87)","v":0},{"$f":"IF('SV-Eyendorf'!U87=\"\",0,'SV-Eyendorf'!U87)","v":0}]
[null,null,null,null,null,null,null,null,null,null,null,null,null,null,null,null,null,null,null,null,null,null,null,null,null,null,null,null,null,null,null,null,null,null,null,null,null,{"$f":"IF(AO65=0,\"\",'SV-Evendorf'!C66)","v":""},{"$f":"IF(AO65=0,\"\",'SV-Evendorf'!F66)","v":""},"",{"$f":"IF('SV-Evendorf'!R66=\"\",0,'SV-Evendorf'!R66)","v":0},{"$f":"IF('SV-Evendorf'!U66=\"\",0,'SV-Evendorf'!U66)","v":0},null,{"$f":"IF(AU65=0,\"\",'SV-Eyendorf'!C88)","v":""},{"$f":"IF(AU65=0,\"\",'SV-Eyendorf'!F88)","v":""},"",{"$f":"IF('SV-Eyendorf'!R88=\"\",0,'SV-Eyendorf'!R88)","v":0},{"$f":"IF('SV-Eyendorf'!U88=\"\",0,'SV-Eyendorf'!U88)","v":0}]
[null,null,null,null,null,null,null,null,null,null,null,null,null,null,null,null,null,null,null,null,null,null,null,null,null,null,null,null,null,null,null,null,null,null,null,null,null,{"$f":"IF(AO66=0,\"\",'SV-Evendorf'!C67)","v":""},{"$f":"IF(AO66=0,\"\",'SV-Evendorf'!F67)","v":""},"",{"$f":"IF('SV-Evendorf'!R67=\"\",0,'SV-Evendorf'!R67)","v":0},{"$f":"IF('SV-Evendorf'!U67=\"\",0,'SV-Evendorf'!U67)","v":0},null,{"$f":"IF(AU66=0,\"\",'SV-Eyendorf'!C89)","v":""},{"$f":"IF(AU66=0,\"\",'SV-Eyendorf'!F89)","v":""},"",{"$f":"IF('SV-Eyendorf'!R89=\"\",0,'SV-Eyendorf'!R89)","v":0},{"$f":"IF('SV-Eyendorf'!U89=\"\",0,'SV-Eyendorf'!U89)","v":0}]
[null,null,null,null,null,null,null,null,null,null,null,null,null,null,null,null,null,null,null,null,null,null,null,null,null,null,null,null,null,null,null,null,null,null,null,null,null,{"$f":"IF(AO67=0,\"\",'SV-Evendorf'!C68)","v":""},{"$f":"IF(AO67=0,\"\",'SV-Evendorf'!F68)","v":""},"",{"$f":"IF('SV-Evendorf'!R68=\"\",0,'SV-Evendorf'!R68)","v":0},{"$f":"IF('SV-Evendorf'!U68=\"\",0,'SV-Evendorf'!U68)","v":0},null,{"$f":"IF(AU67=0,\"\",'SV-Eyendorf'!C90)","v":""},{"$f":"IF(AU67=0,\"\",'SV-Eyendorf'!F90)","v":""},"",{"$f":"IF('SV-Eyendorf'!R90=\"\",0,'SV-Eyendorf'!R90)","v":0},{"$f":"IF('SV-Eyendorf'!U90=\"\",0,'SV-Eyendorf'!U90)","v":0}]
[null,null,null,null,null,null,null,null,null,null,null,null,null,null,null,null,null,null,null,null,null,null,null,null,null,null,null,null,null,null,null,null,null,null,null,null,null,{"$f":"IF(AO68=0,\"\",'SV-Evendorf'!C69)","v":""},{"$f":"IF(AO68=0,\"\",'SV-Evendorf'!F69)","v":""},"",{"$f":"IF('SV-Evendorf'!R69=\"\",0,'SV-Evendorf'!R69)","v":0},{"$f":"IF('SV-Evendorf'!U69=\"\",0,'SV-Evendorf'!U69)","v":0},null,{"$f":"IF(AU68=0,\"\",'SV-Eyendorf'!C91)","v":""},{"$f":"IF(AU68=0,\"\",'SV-Eyendorf'!F91)","v":""},"",{"$f":"IF('SV-Eyendorf'!R91=\"\",0,'SV-Eyendorf'!R91)","v":0},{"$f":"IF('SV-Eyendorf'!U91=\"\",0,'SV-Eyendorf'!U91)","v":0}]
[null,null,null,null,null,null,null,null,null,null,null,null,null,null,null,null,null,null,null,null,null,null,null,null,null,null,null,null,null,null,null,null,null,null,null,null,null,{"$f":"IF(AO69=0,\"\",'SV-Evendorf'!C70)","v":""},{"$f":"IF(AO69=0,\"\",'SV-Evendorf'!F70)","v":""},"",{"$f":"IF('SV-Evendorf'!R70=\"\",0,'SV-Evendorf'!R70)","v":0},{"$f":"IF('SV-Evendorf'!U70=\"\",0,'SV-Evendorf'!U70)","v":0},null,{"$f":"IF(AU69=0,\"\",'SV-Eyendorf'!C92)","v":""},{"$f":"IF(AU69=0,\"\",'SV-Eyendorf'!F92)","v":""},"",{"$f":"IF('SV-Eyendorf'!R92=\"\",0,'SV-Eyendorf'!R92)","v":0},{"$f":"IF('SV-Eyendorf'!U92=\"\",0,'SV-Eyendorf'!U92)","v":0}]
[null,null,null,null,null,null,null,null,null,null,null,null,null,null,null,null,null,null,null,null,null,null,null,null,null,null,null,null,null,null,null,null,null,null,null,null,null,{"$f":"IF(AO70=0,\"\",'SV-Evendorf'!C71)","v":""},{"$f":"IF(AO70=0,\"\",'SV-Evendorf'!F71)","v":""},"",{"$f":"IF('SV-Evendorf'!R71=\"\",0,'SV-Evendorf'!R71)","v":0},{"$f":"IF('SV-Evendorf'!U71=\"\",0,'SV-Evendorf'!U71)","v":0},null,{"$f":"IF(AU70=0,\"\",'SV-Eyendorf'!C93)","v":""},{"$f":"IF(AU70=0,\"\",'SV-Eyendorf'!F93)","v":""},"",{"$f":"IF('SV-Eyendorf'!R93=\"\",0,'SV-Eyendorf'!R93)","v":0},{"$f":"IF('SV-Eyendorf'!U93=\"\",0,'SV-Eyendorf'!U93)","v":0}]
[null,null,null,null,null,null,null,null,null,null,null,null,null,null,null,null,null,null,null,null,null,null,null,null,null,null,null,null,null,null,null,null,null,null,null,null,null,{"$f":"IF(AO71=0,\"\",'SV-Evendorf'!C72)","v":""},{"$f":"IF(AO71=0,\"\",'SV-Evendorf'!F72)","v":""},"",{"$f":"IF('SV-Evendorf'!R72=\"\",0,'SV-Evendorf'!R72)","v":0},{"$f":"IF('SV-Evendorf'!U72=\"\",0,'SV-Evendorf'!U72)","v":0},null,{"$f":"IF(AU71=0,\"\",'SV-Eyendorf'!C94)","v":""},{"$f":"IF(AU71=0,\"\",'SV-Eyendorf'!F94)","v":""},"",{"$f":"IF('SV-Eyendorf'!R94=\"\",0,'SV-Eyendorf'!R94)","v":0},{"$f":"IF('SV-Eyendorf'!U94=\"\",0,'SV-Eyendorf'!U94)","v":0}]
[null,null,null,null,null,null,null,null,null,null,null,null,null,null,null,null,null,null,null,null,null,null,null,null,null,null,null,null,null,null,null,null,null,null,null,null,null,{"$f":"IF(AO72=0,\"\",'SV-Evendorf'!C73)","v":""},{"$f":"IF(AO72=0,\"\",'SV-Evendorf'!F73)","v":""},"",{"$f":"IF('SV-Evendorf'!R73=\"\",0,'SV-Evendorf'!R73)","v":0},{"$f":"IF('SV-Evendorf'!U73=\"\",0,'SV-Evendorf'!U73)","v":0},null,{"$f":"IF(AU72=0,\"\",'SV-Eyendorf'!C95)","v":""},{"$f":"IF(AU72=0,\"\",'SV-Eyendorf'!F95)","v":""},"",{"$f":"IF('SV-Eyendorf'!R95=\"\",0,'SV-Eyendorf'!R95)","v":0},{"$f":"IF('SV-Eyendorf'!U95=\"\",0,'SV-Eyendorf'!U95)","v":0}]
[null,null,null,null,null,null,null,null,null,null,null,null,null,null,null,null,null,null,null,null,null,null,null,null,null,null,null,null,null,null,null,null,null,null,null,null,null,{"$f":"IF(AO73=0,\"\",'SV-Evendorf'!C74)","v":""},{"$f":"IF(AO73=0,\"\",'SV-Evendorf'!F74)","v":""},"",{"$f":"IF('SV-Evendorf'!R74=\"\",0,'SV-Evendorf'!R74)","v":0},{"$f":"IF('SV-Evendorf'!U74=\"\",0,'SV-Evendorf'!U74)","v":0},null,{"$f":"IF(AU73=0,\"\",'SV-Eyendorf'!C96)","v":""},{"$f":"IF(AU73=0,\"\",'SV-Eyendorf'!F96)","v":""},"",{"$f":"IF('SV-Eyendorf'!R96=\"\",0,'SV-Eyendorf'!R96)","v":0},{"$f":"IF('SV-Eyendorf'!U96=\"\",0,'SV-Eyendorf'!U96)","v":0}]
[null,null,null,null,null,null,null,null,null,null,null,null,null,null,null,null,null,null,null,null,null,null,null,null,null,null,null,null,null,null,null,null,null,null,null,null,null,{"$f":"IF(AO74=0,\"\",'SV-Evendorf'!C75)","v":""},{"$f":"IF(AO74=0,\"\",'SV-Evendorf'!F75)","v":""},"",{"$f":"IF('SV-Evendorf'!R75=\"\",0,'SV-Evendorf'!R75)","v":0},{"$f":"IF('SV-Evendorf'!U75=\"\",0,'SV-Evendorf'!U75)","v":0},null,{"$f":"IF(AU74=0,\"\",'SV-Eyendorf'!C97)","v":""},{"$f":"IF(AU74=0,\"\",'SV-Eyendorf'!F97)","v":""},"",{"$f":"IF('SV-Eyendorf'!R97=\"\",0,'SV-Eyendorf'!R97)","v":0},{"$f":"IF('SV-Eyendorf'!U97=\"\",0,'SV-Eyendorf'!U97)","v":0}]
[null,null,null,null,null,null,null,null,null,null,null,null,null,null,null,null,null,null,null,null,null,null,null,null,null,null,null,null,null,null,null,null,null,null,null,null,null,{"$f":"IF(AO75=0,\"\",'SV-Evendorf'!C76)","v":""},{"$f":"IF(AO75=0,\"\",'SV-Evendorf'!F76)","v":""},"",{"$f":"IF('SV-Evendorf'!R76=\"\",0,'SV-Evendorf'!R76)","v":0},{"$f":"IF('SV-Evendorf'!U76=\"\",0,'SV-Evendorf'!U76)","v":0},null,{"$f":"IF(AU75=0,\"\",'SV-Eyendorf'!C98)","v":""},{"$f":"IF(AU75=0,\"\",'SV-Eyendorf'!F98)","v":""},"",{"$f":"IF('SV-Eyendorf'!R98=\"\",0,'SV-Eyendorf'!R98)","v":0},{"$f":"IF('SV-Eyendorf'!U98=\"\",0,'SV-Eyendorf'!U98)","v":0}]
[null,null,null,null,null,null,null,null,null,null,null,null,null,null,null,null,null,null,null,null,null,null,null,null,null,null,null,null,null,null,null,null,null,null,null,null,null,{"$f":"IF(AO76=0,\"\",'SV-Evendorf'!C77)","v":""},{"$f":"IF(AO76=0,\"\",'SV-Evendorf'!F77)","v":""},"",{"$f":"IF('SV-Evendorf'!R77=\"\",0,'SV-Evendorf'!R77)","v":0},{"$f":"IF('SV-Evendorf'!U77=\"\",0,'SV-Evendorf'!U77)","v":0},null,{"$f":"IF(AU76=0,\"\",'SV-Eyendorf'!C99)","v":""},{"$f":"IF(AU76=0,\"\",'SV-Eyendorf'!F99)","v":""},"",{"$f":"IF('SV-Eyendorf'!R99=\"\",0,'SV-Eyendorf'!R99)","v":0},{"$f":"IF('SV-Eyendorf'!U99=\"\",0,'SV-Eyendorf'!U99)","v":0}]
[null,null,null,null,null,null,null,null,null,null,null,null,null,null,null,null,null,null,null,null,null,null,null,null,null,null,null,null,null,null,null,null,null,null,null,null,null,{"$f":"IF(AO77=0,\"\",'SV-Evendorf'!C78)","v":""},{"$f":"IF(AO77=0,\"\",'SV-Evendorf'!F78)","v":""},"",{"$f":"IF('SV-Evendorf'!R78=\"\",0,'SV-Evendorf'!R78)","v":0},{"$f":"IF('SV-Evendorf'!U78=\"\",0,'SV-Evendorf'!U78)","v":0},null,{"$f":"IF(AU77=0,\"\",'SV-Eyendorf'!C100)","v":""},{"$f":"IF(AU77=0,\"\",'SV-Eyendorf'!F100)","v":""},"",{"$f":"IF('SV-Eyendorf'!R100=\"\",0,'SV-Eyendorf'!R100)","v":0},{"$f":"IF('SV-Eyendorf'!U100=\"\",0,'SV-Eyendorf'!U100)","v":0}]
[null,null,null,null,null,null,null,null,null,null,null,null,null,null,null,null,null,null,null,null,null,null,null,null,null,null,null,null,null,null,null,null,null,null,null,null,null,{"$f":"IF(AO78=0,\"\",'SV-Evendorf'!C79)","v":""},{"$f":"IF(AO78=0,\"\",'SV-Evendorf'!F79)","v":""},"",{"$f":"IF('SV-Evendorf'!R79=\"\",0,'SV-Evendorf'!R79)","v":0},{"$f":"IF('SV-Evendorf'!U79=\"\",0,'SV-Evendorf'!U79)","v":0},null,{"$f":"IF(AU78=0,\"\",'SV-Eyendorf'!C101)","v":""},{"$f":"IF(AU78=0,\"\",'SV-Eyendorf'!F101)","v":""},"",{"$f":"IF('SV-Eyendorf'!R101=\"\",0,'SV-Eyendorf'!R101)","v":0},{"$f":"IF('SV-Eyendorf'!U101=\"\",0,'SV-Eyendorf'!U101)","v":0}]
[null,null,null,null,null,null,null,null,null,null,null,null,null,null,null,null,null,null,null,null,null,null,null,null,null,null,null,null,null,null,null,null,null,null,null,null,null,{"$f":"IF(AO79=0,\"\",'SV-Evendorf'!C80)","v":""},{"$f":"IF(AO79=0,\"\",'SV-Evendorf'!F80)","v":""},"",{"$f":"IF('SV-Evendorf'!R80=\"\",0,'SV-Evendorf'!R80)","v":0},{"$f":"IF('SV-Evendorf'!U80=\"\",0,'SV-Evendorf'!U80)","v":0},null,{"$f":"IF(AU79=0,\"\",'SV-Eyendorf'!C102)","v":""},{"$f":"IF(AU79=0,\"\",'SV-Eyendorf'!F102)","v":""},"",{"$f":"IF('SV-Eyendorf'!R102=\"\",0,'SV-Eyendorf'!R102)","v":0},{"$f":"IF('SV-Eyendorf'!U102=\"\",0,'SV-Eyendorf'!U102)","v":0}]
[null,null,null,null,null,null,null,null,null,null,null,null,null,null,null,null,null,null,null,null,null,null,null,null,null,null,null,null,null,null,null,null,null,null,null,null,null,{"$f":"IF(AO80=0,\"\",'SV-Evendorf'!C81)","v":""},{"$f":"IF(AO80=0,\"\",'SV-Evendorf'!F81)","v":""},"",{"$f":"IF('SV-Evendorf'!R81=\"\",0,'SV-Evendorf'!R81)","v":0},{"$f":"IF('SV-Evendorf'!U81=\"\",0,'SV-Evendorf'!U81)","v":0},null,{"$f":"IF(AU80=0,\"\",'SV-Eyendorf'!C103)","v":""},{"$f":"IF(AU80=0,\"\",'SV-Eyendorf'!F103)","v":""},"",{"$f":"IF('SV-Eyendorf'!R103=\"\",0,'SV-Eyendorf'!R103)","v":0},{"$f":"IF('SV-Eyendorf'!U103=\"\",0,'SV-Eyendorf'!U103)","v":0}]
[null,null,null,null,null,null,null,null,null,null,null,null,null,null,null,null,null,null,null,null,null,null,null,null,null,null,null,null,null,null,null,null,null,null,null,null,null,{"$f":"IF(AO81=0,\"\",'SV-Eyendorf'!C7)","v":""},{"$f":"IF(AO81=0,\"\",'SV-Eyendorf'!F7)","v":""},{"$f":"IF(AM81=\"\",\"\",\"SV-Eyendorf\")","v":""},{"$f":"IF('SV-Eyendorf'!R7=\"\",0,'SV-Eyendorf'!R7)","v":0},{"$f":"IF('SV-Eyendorf'!U7=\"\",0,'SV-Eyendorf'!U7)","v":0},null,{"$f":"IF(AU81=0,\"\",'SV-Eyendorf'!C104)","v":""},{"$f":"IF(AU81=0,\"\",'SV-Eyendorf'!F104)","v":""},"",{"$f":"IF('SV-Eyendorf'!R104=\"\",0,'SV-Eyendorf'!R104)","v":0},{"$f":"IF('SV-Eyendorf'!U104=\"\",0,'SV-Eyendorf'!U104)","v":0}]
[null,null,null,null,null,null,null,null,null,null,null,null,null,null,null,null,null,null,null,null,null,null,null,null,null,null,null,null,null,null,null,null,null,null,null,null,null,{"$f":"IF(AO82=0,\"\",'SV-Eyendorf'!C8)","v":""},{"$f":"IF(AO82=0,\"\",'SV-Eyendorf'!F8)","v":""},{"$f":"IF(AM82=\"\",\"\",\"SV-Eyendorf\")","v":""},{"$f":"IF('SV-Eyendorf'!R8=\"\",0,'SV-Eyendorf'!R8)","v":0},{"$f":"IF('SV-Eyendorf'!U8=\"\",0,'SV-Eyendorf'!U8)","v":0},null,{"$f":"IF(AU82=0,\"\",'SV-Eyendorf'!C105)","v":""},{"$f":"IF(AU82=0,\"\",'SV-Eyendorf'!F105)","v":""},"",{"$f":"IF('SV-Eyendorf'!R105=\"\",0,'SV-Eyendorf'!R105)","v":0},{"$f":"IF('SV-Eyendorf'!U105=\"\",0,'SV-Eyendorf'!U105)","v":0}]
[null,null,null,null,null,null,null,null,null,null,null,null,null,null,null,null,null,null,null,null,null,null,null,null,null,null,null,null,null,null,null,null,null,null,null,null,null,{"$f":"IF(AO83=0,\"\",'SV-Eyendorf'!C9)","v":""},{"$f":"IF(AO83=0,\"\",'SV-Eyendorf'!F9)","v":""},"",{"$f":"IF('SV-Eyendorf'!R9=\"\",0,'SV-Eyendorf'!R9)","v":0},{"$f":"IF('SV-Eyendorf'!U9=\"\",0,'SV-Eyendorf'!U9)","v":0},null,{"$f":"IF(AU83=0,\"\",'SV-Garlstorf'!C86)","v":""},{"$f":"IF(AU83=0,\"\",'SV-Garlstorf'!F86)","v":""},{"$f":"IF(AS83=\"\",\"\",\"SV-Garlstorf\")","v":""},{"$f":"IF('SV-Garlstorf'!R86=\"\",0,'SV-Garlstorf'!R86)","v":0},{"$f":"IF('SV-Garlstorf'!U86=\"\",0,'SV-Garlstorf'!U86)","v":0}]
[null,null,null,null,null,null,null,null,null,null,null,null,null,null,null,null,null,null,null,null,null,null,null,null,null,null,null,null,null,null,null,null,null,null,null,null,null,{"$f":"IF(AO84=0,\"\",'SV-Eyendorf'!C10)","v":""},{"$f":"IF(AO84=0,\"\",'SV-Eyendorf'!F10)","v":""},"",{"$f":"IF('SV-Eyendorf'!R10=\"\",0,'SV-Eyendorf'!R10)","v":0},{"$f":"IF('SV-Eyendorf'!U10=\"\",0,'SV-Eyendorf'!U10)","v":0},null,{"$f":"IF(AU84=0,\"\",'SV-Garlstorf'!C87)","v":""},{"$f":"IF(AU84=0,\"\",'SV-Garlstorf'!F87)","v":""},"",{"$f":"IF('SV-Garlstorf'!R87=\"\",0,'SV-Garlstorf'!R87)","v":0},{"$f":"IF('SV-Garlstorf'!U87=\"\",0,'SV-Garlstorf'!U87)","v":0}]
[null,null,null,null,null,null,null,null,null,null,null,null,null,null,null,null,null,null,null,null,null,null,null,null,null,null,null,null,null,null,null,null,null,null,null,null,null,{"$f":"IF(AO85=0,\"\",'SV-Eyendorf'!C11)","v":""},{"$f":"IF(AO85=0,\"\",'SV-Eyendorf'!F11)","v":""},"",{"$f":"IF('SV-Eyendorf'!R11=\"\",0,'SV-Eyendorf'!R11)","v":0},{"$f":"IF('SV-Eyendorf'!U11=\"\",0,'SV-Eyendorf'!U11)","v":0},null,{"$f":"IF(AU85=0,\"\",'SV-Garlstorf'!C88)","v":""},{"$f":"IF(AU85=0,\"\",'SV-Garlstorf'!F88)","v":""},"",{"$f":"IF('SV-Garlstorf'!R88=\"\",0,'SV-Garlstorf'!R88)","v":0},{"$f":"IF('SV-Garlstorf'!U88=\"\",0,'SV-Garlstorf'!U88)","v":0}]
[null,null,null,null,null,null,null,null,null,null,null,null,null,null,null,null,null,null,null,null,null,null,null,null,null,null,null,null,null,null,null,null,null,null,null,null,null,{"$f":"IF(AO86=0,\"\",'SV-Eyendorf'!C12)","v":""},{"$f":"IF(AO86=0,\"\",'SV-Eyendorf'!F12)","v":""},"",{"$f":"IF('SV-Eyendorf'!R12=\"\",0,'SV-Eyendorf'!R12)","v":0},{"$f":"IF('SV-Eyendorf'!U12=\"\",0,'SV-Eyendorf'!U12)","v":0},null,{"$f":"IF(AU86=0,\"\",'SV-Garlstorf'!C89)","v":""},{"$f":"IF(AU86=0,\"\",'SV-Garlstorf'!F89)","v":""},"",{"$f":"IF('SV-Garlstorf'!R89=\"\",0,'SV-Garlstorf'!R89)","v":0},{"$f":"IF('SV-Garlstorf'!U89=\"\",0,'SV-Garlstorf'!U89)","v":0}]
[null,null,null,null,null,null,null,null,null,null,null,null,null,null,null,null,null,null,null,null,null,null,null,null,null,null,null,null,null,null,null,null,null,null,null,null,null,{"$f":"IF(AO87=0,\"\",'SV-Eyendorf'!C62)","v":""},{"$f":"IF(AO87=0,\"\",'SV-Eyendorf'!F62)","v":""},"",{"$f":"IF('SV-Eyendorf'!R62=\"\",0,'SV-Eyendorf'!R62)","v":0},{"$f":"IF('SV-Eyendorf'!U62=\"\",0,'SV-Eyendorf'!U62)","v":0},null,{"$f":"IF(AU87=0,\"\",'SV-Garlstorf'!C90)","v":""},{"$f":"IF(AU87=0,\"\",'SV-Garlstorf'!F90)","v":""},"",{"$f":"IF('SV-Garlstorf'!R90=\"\",0,'SV-Garlstorf'!R90)","v":0},{"$f":"IF('SV-Garlstorf'!U90=\"\",0,'SV-Garlstorf'!U90)","v":0}]
[null,null,null,null,null,null,null,null,null,null,null,null,null,null,null,null,null,null,null,null,null,null,null,null,null,null,null,null,null,null,null,null,null,null,null,null,null,{"$f":"IF(AO88=0,\"\",'SV-Eyendorf'!C63)","v":""},{"$f":"IF(AO88=0,\"\",'SV-Eyendorf'!F63)","v":""},"",{"$f":"IF('SV-Eyendorf'!R63=\"\",0,'SV-Eyendorf'!R63)","v":0},{"$f":"IF('SV-Eyendorf'!U63=\"\",0,'SV-Eyendorf'!U63)","v":0},null,{"$f":"IF(AU88=0,\"\",'SV-Garlstorf'!C91)","v":""},{"$f":"IF(AU88=0,\"\",'SV-Garlstorf'!F91)","v":""},"",{"$f":"IF('SV-Garlstorf'!R91=\"\",0,'SV-Garlstorf'!R91)","v":0},{"$f":"IF('SV-Garlstorf'!U91=\"\",0,'SV-Garlstorf'!U91)","v":0}]
[null,null,null,null,null,null,null,null,null,null,null,null,null,null,null,null,null,null,null,null,null,null,null,null,null,null,null,null,null,null,null,null,null,null,null,null,null,{"$f":"IF(AO89=0,\"\",'SV-Eyendorf'!C64)","v":""},{"$f":"IF(AO89=0,\"\",'SV-Eyendorf'!F64)","v":""},"",{"$f":"IF('SV-Eyendorf'!R64=\"\",0,'SV-Eyendorf'!R64)","v":0},{"$f":"IF('SV-Eyendorf'!U64=\"\",0,'SV-Eyendorf'!U64)","v":0},null,{"$f":"IF(AU89=0,\"\",'SV-Garlstorf'!C92)","v":""},{"$f":"IF(AU89=0,\"\",'SV-Garlstorf'!F92)","v":""},"",{"$f":"IF('SV-Garlstorf'!R92=\"\",0,'SV-Garlstorf'!R92)","v":0},{"$f":"IF('SV-Garlstorf'!U92=\"\",0,'SV-Garlstorf'!U92)","v":0}]
[null,null,null,null,null,null,null,null,null,null,null,null,null,null,null,null,null,null,null,null,null,null,null,null,null,null,null,null,null,null,null,null,null,null,null,null,null,{"$f":"IF(AO90=0,\"\",'SV-Eyendorf'!C65)","v":""},{"$f":"IF(AO90=0,\"\",'SV-Eyendorf'!F65)","v":""},"",{"$f":"IF('SV-Eyendorf'!R65=\"\",0,'SV-Eyendorf'!R65)","v":0},{"$f":"IF('SV-Eyendorf'!U65=\"\",0,'SV-Eyendorf'!U65)","v":0},null,{"$f":"IF(AU90=0,\"\",'SV-Garlstorf'!C93)","v":""},{"$f":"IF(AU90=0,\"\",'SV-Garlstorf'!F93)","v":""},"",{"$f":"IF('SV-Garlstorf'!R93=\"\",0,'SV-Garlstorf'!R93)","v":0},{"$f":"IF('SV-Garlstorf'!U93=\"\",0,'SV-Garlstorf'!U93)","v":0}]
[null,null,null,null,null,null,null,null,null,null,null,null,null,null,null,null,null,null,null,null,null,null,null,null,null,null,null,null,null,null,null,null,null,null,null,null,null,{"$f":"IF(AO91=0,\"\",'SV-Eyendorf'!C66)","v":""},{"$f":"IF(AO91=0,\"\",'SV-Eyendorf'!F66)","v":""},"",{"$f":"IF('SV-Eyendorf'!R66=\"\",0,'SV-Eyendorf'!R66)","v":0},{"$f":"IF('SV-Eyendorf'!U66=\"\",0,'SV-Eyendorf'!U66)","v":0},null,{"$f":"IF(AU91=0,\"\",'SV-Garlstorf'!C94)","v":""},{"$f":"IF(AU91=0,\"\",'SV-Garlstorf'!F94)","v":""},"",{"$f":"IF('SV-Garlstorf'!R94=\"\",0,'SV-Garlstorf'!R94)","v":0},{"$f":"IF('SV-Garlstorf'!U94=\"\",0,'SV-Garlstorf'!U94)","v":0}]
[null,null,null,null,null,null,null,null,null,null,null,null,null,null,null,null,null,null,null,null,null,null,null,null,null,null,null,null,null,null,null,null,null,null,null,null,null,{"$f":"IF(AO92=0,\"\",'SV-Eyendorf'!C67)","v":""},{"$f":"IF(AO92=0,\"\",'SV-Eyendorf'!F67)","v":""},"",{"$f":"IF('SV-Eyendorf'!R67=\"\",0,'SV-Eyendorf'!R67)","v":0},{"$f":"IF('SV-Eyendorf'!U67=\"\",0,'SV-Eyendorf'!U67)","v":0},null,{"$f":"IF(AU92=0,\"\",'SV-Garlstorf'!C95)","v":""},{"$f":"IF(AU92=0,\"\",'SV-Garlstorf'!F95)","v":""},"",{"$f":"IF('SV-Garlstorf'!R95=\"\",0,'SV-Garlstorf'!R95)","v":0},{"$f":"IF('SV-Garlstorf'!U95=\"\",0,'SV-Garlstorf'!U95)","v":0}]
[null,null,null,null,null,null,null,null,null,null,null,null,null,null,null,null,null,null,null,null,null,null,null,null,null,null,null,null,null,null,null,null,null,null,null,null,null,{"$f":"IF(AO93=0,\"\",'SV-Eyendorf'!C68)","v":""},{"$f":"IF(AO93=0,\"\",'SV-Eyendorf'!F68)","v":""},"",{"$f":"IF('SV-Eyendorf'!R68=\"\",0,'SV-Eyendorf'!R68)","v":0},{"$f":"IF('SV-Eyendorf'!U68=\"\",0,'SV-Eyendorf'!U68)","v":0},null,{"$f":"IF(AU93=0,\"\",'SV-Garlstorf'!C96)","v":""},{"$f":"IF(AU93=0,\"\",'SV-Garlstorf'!F96)","v":""},"",{"$f":"IF('SV-Garlstorf'!R96=\"\",0,'SV-Garlstorf'!R96)","v":0},{"$f":"IF('SV-Garlstorf'!U96=\"\",0,'SV-Garlstorf'!U96)","v":0}]
[null,null,null,null,null,null,null,null,null,null,null,null,null,null,null,null,null,null,null,null,null,null,null,null,null,null,null,null,null,null,null,null,null,null,null,null,null,{"$f":"IF(AO94=0,\"\",'SV-Eyendorf'!C69)","v":""},{"$f":"IF(AO94=0,\"\",'SV-Eyendorf'!F69)","v":""},"",{"$f":"IF('SV-Eyendorf'!R69=\"\",0,'SV-Eyendorf'!R69)","v":0},{"$f":"IF('SV-Eyendorf'!U69=\"\",0,'SV-Eyendorf'!U69)","v":0},null,{"$f":"IF(AU94=0,\"\",'SV-Garlstorf'!C97)","v":""},{"$f":"IF(AU94=0,\"\",'SV-Garlstorf'!F97)","v":""},"",{"$f":"IF('SV-Garlstorf'!R97=\"\",0,'SV-Garlstorf'!R97)","v":0},{"$f":"IF('SV-Garlstorf'!U97=\"\",0,'SV-Garlstorf'!U97)","v":0}]
[null,null,null,null,null,null,null,null,null,null,null,null,null,null,null,null,null,null,null,null,null,null,null,null,null,null,null,null,null,null,null,null,null,null,null,null,null,{"$f":"IF(AO95=0,\"\",'SV-Eyendorf'!C70)","v":""},{"$f":"IF(AO95=0,\"\",'SV-Eyendorf'!F70)","v":""},"",{"$f":"IF('SV-Eyendorf'!R70=\"\",0,'SV-Eyendorf'!R70)","v":0},{"$f":"IF('SV-Eyendorf'!U70=\"\",0,'SV-Eyendorf'!U70)","v":0},null,{"$f":"IF(AU95=0,\"\",'SV-Garlstorf'!C98)","v":""},{"$f":"IF(AU95=0,\"\",'SV-Garlstorf'!F98)","v":""},"",{"$f":"IF('SV-Garlstorf'!R98=\"\",0,'SV-Garlstorf'!R98)","v":0},{"$f":"IF('SV-Garlstorf'!U98=\"\",0,'SV-Garlstorf'!U98)","v":0}]
[null,null,null,null,null,null,null,null,null,null,null,null,null,null,null,null,null,null,null,null,null,null,null,null,null,null,null,null,null,null,null,null,null,null,null,null,null,{"$f":"IF(AO96=0,\"\",'SV-Eyendorf'!C71)","v":""},{"$f":"IF(AO96=0,\"\",'SV-Eyendorf'!F71)","v":""},"",{"$f":"IF('SV-Eyendorf'!R71=\"\",0,'SV-Eyendorf'!R71)","v":0},{"$f":"IF('SV-Eyendorf'!U71=\"\",0,'SV-Eyendorf'!U71)","v":0},null,{"$f":"IF(AU96=0,\"\",'SV-Garlstorf'!C99)","v":""},{"$f":"IF(AU96=0,\"\",'SV-Garlstorf'!F99)","v":""},"",{"$f":"IF('SV-Garlstorf'!R99=\"\",0,'SV-Garlstorf'!R99)","v":0},{"$f":"IF('SV-Garlstorf'!U99=\"\",0,'SV-Garlstorf'!U99)","v":0}]
[null,null,null,null,null,null,null,null,null,null,null,null,null,null,null,null,null,null,null,null,null,null,null,null,null,null,null,null,null,null,null,null,null,null,null,null,null,{"$f":"IF(AO97=0,\"\",'SV-Eyendorf'!C72)","v":""},{"$f":"IF(AO97=0,\"\",'SV-Eyendorf'!F72)","v":""},"",{"$f":"IF('SV-Eyendorf'!R72=\"\",0,'SV-Eyendorf'!R72)","v":0},{"$f":"IF('SV-Eyendorf'!U72=\"\",0,'SV-Eyendorf'!U72)","v":0},null,{"$f":"IF(AU97=0,\"\",'SV-Garlstorf'!C100)","v":""},{"$f":"IF(AU97=0,\"\",'SV-Garlstorf'!F100)","v":""},"",{"$f":"IF('SV-Garlstorf'!R100=\"\",0,'SV-Garlstorf'!R100)","v":0},{"$f":"IF('SV-Garlstorf'!U100=\"\",0,'SV-Garlstorf'!U100)","v":0}]
[null,null,null,null,null,null,null,null,null,null,null,null,null,null,null,null,null,null,null,null,null,null,null,null,null,null,null,null,null,null,null,null,null,null,null,null,null,{"$f":"IF(AO98=0,\"\",'SV-Eyendorf'!C73)","v":""},{"$f":"IF(AO98=0,\"\",'SV-Eyendorf'!F73)","v":""},"",{"$f":"IF('SV-Eyendorf'!R73=\"\",0,'SV-Eyendorf'!R73)","v":0},{"$f":"IF('SV-Eyendorf'!U73=\"\",0,'SV-Eyendorf'!U73)","v":0},null,{"$f":"IF(AU98=0,\"\",'SV-Garlstorf'!C101)","v":""},{"$f":"IF(AU98=0,\"\",'SV-Garlstorf'!F101)","v":""},"",{"$f":"IF('SV-Garlstorf'!R101=\"\",0,'SV-Garlstorf'!R101)","v":0},{"$f":"IF('SV-Garlstorf'!U101=\"\",0,'SV-Garlstorf'!U101)","v":0}]
[null,null,null,null,null,null,null,null,null,null,null,null,null,null,null,null,null,null,null,null,null,null,null,null,null,null,null,null,null,null,null,null,null,null,null,null,null,{"$f":"IF(AO99=0,\"\",'SV-Eyendorf'!C74)","v":""},{"$f":"IF(AO99=0,\"\",'SV-Eyendorf'!F74)","v":""},"",{"$f":"IF('SV-Eyendorf'!R74=\"\",0,'SV-Eyendorf'!R74)","v":0},{"$f":"IF('SV-Eyendorf'!U74=\"\",0,'SV-Eyendorf'!U74)","v":0},null,{"$f":"IF(AU99=0,\"\",'SV-Garlstorf'!C102)","v":""},{"$f":"IF(AU99=0,\"\",'SV-Garlstorf'!F102)","v":""},"",{"$f":"IF('SV-Garlstorf'!R102=\"\",0,'SV-Garlstorf'!R102)","v":0},{"$f":"IF('SV-Garlstorf'!U102=\"\",0,'SV-Garlstorf'!U102)","v":0}]
[null,null,null,null,null,null,null,null,null,null,null,null,null,null,null,null,null,null,null,null,null,null,null,null,null,null,null,null,null,null,null,null,null,null,null,null,null,{"$f":"IF(AO100=0,\"\",'SV-Eyendorf'!C75)","v":""},{"$f":"IF(AO100=0,\"\",'SV-Eyendorf'!F75)","v":""},"",{"$f":"IF('SV-Eyendorf'!R75=\"\",0,'SV-Eyendorf'!R75)","v":0},{"$f":"IF('SV-Eyendorf'!U75=\"\",0,'SV-Eyendorf'!U75)","v":0},null,{"$f":"IF(AU100=0,\"\",'SV-Garlstorf'!C103)","v":""},{"$f":"IF(AU100=0,\"\",'SV-Garlstorf'!F103)","v":""},"",{"$f":"IF('SV-Garlstorf'!R103=\"\",0,'SV-Garlstorf'!R103)","v":0},{"$f":"IF('SV-Garlstorf'!U103=\"\",0,'SV-Garlstorf'!U103)","v":0}]
[null,null,null,null,null,null,null,null,null,null,null,null,null,null,null,null,null,null,null,null,null,null,null,null,null,null,null,null,null,null,null,null,null,null,null,null,null,{"$f":"IF(AO101=0,\"\",'SV-Eyendorf'!C76)","v":""},{"$f":"IF(AO101=0,\"\",'SV-Eyendorf'!F76)","v":""},"",{"$f":"IF('SV-Eyendorf'!R76=\"\",0,'SV-Eyendorf'!R76)","v":0},{"$f":"IF('SV-Eyendorf'!U76=\"\",0,'SV-Eyendorf'!U76)","v":0},null,{"$f":"IF(AU101=0,\"\",'SV-Garlstorf'!C104)","v":""},{"$f":"IF(AU101=0,\"\",'SV-Garlstorf'!F104)","v":""},"",{"$f":"IF('SV-Garlstorf'!R104=\"\",0,'SV-Garlstorf'!R104)","v":0},{"$f":"IF('SV-Garlstorf'!U104=\"\",0,'SV-Garlstorf'!U104)","v":0}]
[null,null,null,null,null,null,null,null,null,null,null,null,null,null,null,null,null,null,null,null,null,null,null,null,null,null,null,null,null,null,null,null,null,null,null,null,null,{"$f":"IF(AO102=0,\"\",'SV-Eyendorf'!C77)","v":""},{"$f":"IF(AO102=0,\"\",'SV-Eyendorf'!F77)","v":""},"",{"$f":"IF('SV-Eyendorf'!R77=\"\",0,'SV-Eyendorf'!R77)","v":0},{"$f":"IF('SV-Eyendorf'!U77=\"\",0,'SV-Eyendorf'!U77)","v":0},null,{"$f":"IF(AU102=0,\"\",'SV-Garlstorf'!C105)","v":""},{"$f":"IF(AU102=0,\"\",'SV-Garlstorf'!F105)","v":""},"",{"$f":"IF('SV-Garlstorf'!R105=\"\",0,'SV-Garlstorf'!R105)","v":0},{"$f":"IF('SV-Garlstorf'!U105=\"\",0,'SV-Garlstorf'!U105)","v":0}]
[null,null,null,null,null,null,null,null,null,null,null,null,null,null,null,null,null,null,null,null,null,null,null,null,null,null,null,null,null,null,null,null,null,null,null,null,null,{"$f":"IF(AO103=0,\"\",'SV-Eyendorf'!C78)","v":""},{"$f":"IF(AO103=0,\"\",'SV-Eyendorf'!F78)","v":""},"",{"$f":"IF('SV-Eyendorf'!R78=\"\",0,'SV-Eyendorf'!R78)","v":0},{"$f":"IF('SV-Eyendorf'!U78=\"\",0,'SV-Eyendorf'!U78)","v":0},null,{"$f":"IF(AU103=0,\"\",'SV-Garstedt'!C86)","v":""},{"$f":"IF(AU103=0,\"\",'SV-Garstedt'!F86)","v":""},{"$f":"IF(AS103=\"\",\"\",\"SV-Garstedt\")","v":""},{"$f":"IF('SV-Garstedt'!R86=\"\",0,'SV-Garstedt'!R86)","v":0},{"$f":"IF('SV-Garstedt'!U86=\"\",0,'SV-Garstedt'!U86)","v":0}]
[null,null,null,null,null,null,null,null,null,null,null,null,null,null,null,null,null,null,null,null,null,null,null,null,null,null,null,null,null,null,null,null,null,null,null,null,null,{"$f":"IF(AO104=0,\"\",'SV-Eyendorf'!C79)","v":""},{"$f":"IF(AO104=0,\"\",'SV-Eyendorf'!F79)","v":""},"",{"$f":"IF('SV-Eyendorf'!R79=\"\",0,'SV-Eyendorf'!R79)","v":0},{"$f":"IF('SV-Eyendorf'!U79=\"\",0,'SV-Eyendorf'!U79)","v":0},null,{"$f":"IF(AU104=0,\"\",'SV-Garstedt'!C87)","v":""},{"$f":"IF(AU104=0,\"\",'SV-Garstedt'!F87)","v":""},"",{"$f":"IF('SV-Garstedt'!R87=\"\",0,'SV-Garstedt'!R87)","v":0},{"$f":"IF('SV-Garstedt'!U87=\"\",0,'SV-Garstedt'!U87)","v":0}]
[null,null,null,null,null,null,null,null,null,null,null,null,null,null,null,null,null,null,null,null,null,null,null,null,null,null,null,null,null,null,null,null,null,null,null,null,null,{"$f":"IF(AO105=0,\"\",'SV-Eyendorf'!C80)","v":""},{"$f":"IF(AO105=0,\"\",'SV-Eyendorf'!F80)","v":""},"",{"$f":"IF('SV-Eyendorf'!R80=\"\",0,'SV-Eyendorf'!R80)","v":0},{"$f":"IF('SV-Eyendorf'!U80=\"\",0,'SV-Eyendorf'!U80)","v":0},null,{"$f":"IF(AU105=0,\"\",'SV-Garstedt'!C88)","v":""},{"$f":"IF(AU105=0,\"\",'SV-Garstedt'!F88)","v":""},"",{"$f":"IF('SV-Garstedt'!R88=\"\",0,'SV-Garstedt'!R88)","v":0},{"$f":"IF('SV-Garstedt'!U88=\"\",0,'SV-Garstedt'!U88)","v":0}]
[null,null,null,null,null,null,null,null,null,null,null,null,null,null,null,null,null,null,null,null,null,null,null,null,null,null,null,null,null,null,null,null,null,null,null,null,null,{"$f":"IF(AO106=0,\"\",'SV-Eyendorf'!C81)","v":""},{"$f":"IF(AO106=0,\"\",'SV-Eyendorf'!F81)","v":""},"",{"$f":"IF('SV-Eyendorf'!R81=\"\",0,'SV-Eyendorf'!R81)","v":0},{"$f":"IF('SV-Eyendorf'!U81=\"\",0,'SV-Eyendorf'!U81)","v":0},null,{"$f":"IF(AU106=0,\"\",'SV-Garstedt'!C89)","v":""},{"$f":"IF(AU106=0,\"\",'SV-Garstedt'!F89)","v":""},"",{"$f":"IF('SV-Garstedt'!R89=\"\",0,'SV-Garstedt'!R89)","v":0},{"$f":"IF('SV-Garstedt'!U89=\"\",0,'SV-Garstedt'!U89)","v":0}]
[null,null,null,null,null,null,null,null,null,null,null,null,null,null,null,null,null,null,null,null,null,null,null,null,null,null,null,null,null,null,null,null,null,null,null,null,null,{"$f":"IF(AO107=0,\"\",'SV-Garlstorf'!C7)","v":""},{"$f":"IF(AO107=0,\"\",'SV-Garlstorf'!F7)","v":""},{"$f":"IF(AM107=\"\",\"\",\"SV-Garlstorf\")","v":""},{"$f":"IF('SV-Garlstorf'!R7=\"\",0,'SV-Garlstorf'!R7)","v":0},{"$f":"IF('SV-Garlstorf'!U7=\"\",0,'SV-Garlstorf'!U7)","v":0},null,{"$f":"IF(AU107=0,\"\",'SV-Garstedt'!C90)","v":""},{"$f":"IF(AU107=0,\"\",'SV-Garstedt'!F90)","v":""},"",{"$f":"IF('SV-Garstedt'!R90=\"\",0,'SV-Garstedt'!R90)","v":0},{"$f":"IF('SV-Garstedt'!U90=\"\",0,'SV-Garstedt'!U90)","v":0}]
[null,null,null,null,null,null,null,null,null,null,null,null,null,null,null,null,null,null,null,null,null,null,null,null,null,null,null,null,null,null,null,null,null,null,null,null,null,{"$f":"IF(AO108=0,\"\",'SV-Garlstorf'!C8)","v":""},{"$f":"IF(AO108=0,\"\",'SV-Garlstorf'!F8)","v":""},{"$f":"IF(AM108=\"\",\"\",\"SV-Garlstorf\")","v":""},{"$f":"IF('SV-Garlstorf'!R8=\"\",0,'SV-Garlstorf'!R8)","v":0},{"$f":"IF('SV-Garlstorf'!U8=\"\",0,'SV-Garlstorf'!U8)","v":0},null,{"$f":"IF(AU108=0,\"\",'SV-Garstedt'!C91)","v":""},{"$f":"IF(AU108=0,\"\",'SV-Garstedt'!F91)","v":""},"",{"$f":"IF('SV-Garstedt'!R91=\"\",0,'SV-Garstedt'!R91)","v":0},{"$f":"IF('SV-Garstedt'!U91=\"\",0,'SV-Garstedt'!U91)","v":0}]
[null,null,null,null,null,null,null,null,null,null,null,null,null,null,null,null,null,null,null,null,null,null,null,null,null,null,null,null,null,null,null,null,null,null,null,null,null,{"$f":"IF(AO109=0,\"\",'SV-Garlstorf'!C9)","v":""},{"$f":"IF(AO109=0,\"\",'SV-Garlstorf'!F9)","v":""},"",{"$f":"IF('SV-Garlstorf'!R9=\"\",0,'SV-Garlstorf'!R9)","v":0},{"$f":"IF('SV-Garlstorf'!U9=\"\",0,'SV-Garlstorf'!U9)","v":0},null,{"$f":"IF(AU109=0,\"\",'SV-Garstedt'!C92)","v":""},{"$f":"IF(AU109=0,\"\",'SV-Garstedt'!F92)","v":""},"",{"$f":"IF('SV-Garstedt'!R92=\"\",0,'SV-Garstedt'!R92)","v":0},{"$f":"IF('SV-Garstedt'!U92=\"\",0,'SV-Garstedt'!U92)","v":0}]
[null,null,null,null,null,null,null,null,null,null,null,null,null,null,null,null,null,null,null,null,null,null,null,null,null,null,null,null,null,null,null,null,null,null,null,null,null,{"$f":"IF(AO110=0,\"\",'SV-Garlstorf'!C10)","v":""},{"$f":"IF(AO110=0,\"\",'SV-Garlstorf'!F10)","v":""},"",{"$f":"IF('SV-Garlstorf'!R10=\"\",0,'SV-Garlstorf'!R10)","v":0},{"$f":"IF('SV-Garlstorf'!U10=\"\",0,'SV-Garlstorf'!U10)","v":0},null,{"$f":"IF(AU110=0,\"\",'SV-Garstedt'!C93)","v":""},{"$f":"IF(AU110=0,\"\",'SV-Garstedt'!F93)","v":""},"",{"$f":"IF('SV-Garstedt'!R93=\"\",0,'SV-Garstedt'!R93)","v":0},{"$f":"IF('SV-Garstedt'!U93=\"\",0,'SV-Garstedt'!U93)","v":0}]
[null,null,null,null,null,null,null,null,null,null,null,null,null,null,null,null,null,null,null,null,null,null,null,null,null,null,null,null,null,null,null,null,null,null,null,null,null,{"$f":"IF(AO111=0,\"\",'SV-Garlstorf'!C11)","v":""},{"$f":"IF(AO111=0,\"\",'SV-Garlstorf'!F11)","v":""},"",{"$f":"IF('SV-Garlstorf'!R11=\"\",0,'SV-Garlstorf'!R11)","v":0},{"$f":"IF('SV-Garlstorf'!U11=\"\",0,'SV-Garlstorf'!U11)","v":0},null,{"$f":"IF(AU111=0,\"\",'SV-Garstedt'!C94)","v":""},{"$f":"IF(AU111=0,\"\",'SV-Garstedt'!F94)","v":""},"",{"$f":"IF('SV-Garstedt'!R94=\"\",0,'SV-Garstedt'!R94)","v":0},{"$f":"IF('SV-Garstedt'!U94=\"\",0,'SV-Garstedt'!U94)","v":0}]
[null,null,null,null,null,null,null,null,null,null,null,null,null,null,null,null,null,null,null,null,null,null,null,null,null,null,null,null,null,null,null,null,null,null,null,null,null,{"$f":"IF(AO112=0,\"\",'SV-Garlstorf'!C12)","v":""},{"$f":"IF(AO112=0,\"\",'SV-Garlstorf'!F12)","v":""},"",{"$f":"IF('SV-Garlstorf'!R12=\"\",0,'SV-Garlstorf'!R12)","v":0},{"$f":"IF('SV-Garlstorf'!U12=\"\",0,'SV-Garlstorf'!U12)","v":0},null,{"$f":"IF(AU112=0,\"\",'SV-Garstedt'!C95)","v":""},{"$f":"IF(AU112=0,\"\",'SV-Garstedt'!F95)","v":""},"",{"$f":"IF('SV-Garstedt'!R95=\"\",0,'SV-Garstedt'!R95)","v":0},{"$f":"IF('SV-Garstedt'!U95=\"\",0,'SV-Garstedt'!U95)","v":0}]
[null,null,null,null,null,null,null,null,null,null,null,null,null,null,null,null,null,null,null,null,null,null,null,null,null,null,null,null,null,null,null,null,null,null,null,null,null,{"$f":"IF(AO113=0,\"\",'SV-Garlstorf'!C62)","v":""},{"$f":"IF(AO113=0,\"\",'SV-Garlstorf'!F62)","v":""},"",{"$f":"IF('SV-Garlstorf'!R62=\"\",0,'SV-Garlstorf'!R62)","v":0},{"$f":"IF('SV-Garlstorf'!U62=\"\",0,'SV-Garlstorf'!U62)","v":0},null,{"$f":"IF(AU113=0,\"\",'SV-Garstedt'!C96)","v":""},{"$f":"IF(AU113=0,\"\",'SV-Garstedt'!F96)","v":""},"",{"$f":"IF('SV-Garstedt'!R96=\"\",0,'SV-Garstedt'!R96)","v":0},{"$f":"IF('SV-Garstedt'!U96=\"\",0,'SV-Garstedt'!U96)","v":0}]
[null,null,null,null,null,null,null,null,null,null,null,null,null,null,null,null,null,null,null,null,null,null,null,null,null,null,null,null,null,null,null,null,null,null,null,null,null,{"$f":"IF(AO114=0,\"\",'SV-Garlstorf'!C63)","v":""},{"$f":"IF(AO114=0,\"\",'SV-Garlstorf'!F63)","v":""},"",{"$f":"IF('SV-Garlstorf'!R63=\"\",0,'SV-Garlstorf'!R63)","v":0},{"$f":"IF('SV-Garlstorf'!U63=\"\",0,'SV-Garlstorf'!U63)","v":0},null,{"$f":"IF(AU114=0,\"\",'SV-Garstedt'!C97)","v":""},{"$f":"IF(AU114=0,\"\",'SV-Garstedt'!F97)","v":""},"",{"$f":"IF('SV-Garstedt'!R97=\"\",0,'SV-Garstedt'!R97)","v":0},{"$f":"IF('SV-Garstedt'!U97=\"\",0,'SV-Garstedt'!U97)","v":0}]
[null,null,null,null,null,null,null,null,null,null,null,null,null,null,null,null,null,null,null,null,null,null,null,null,null,null,null,null,null,null,null,null,null,null,null,null,null,{"$f":"IF(AO115=0,\"\",'SV-Garlstorf'!C64)","v":""},{"$f":"IF(AO115=0,\"\",'SV-Garlstorf'!F64)","v":""},"",{"$f":"IF('SV-Garlstorf'!R64=\"\",0,'SV-Garlstorf'!R64)","v":0},{"$f":"IF('SV-Garlstorf'!U64=\"\",0,'SV-Garlstorf'!U64)","v":0},null,{"$f":"IF(AU115=0,\"\",'SV-Garstedt'!C98)","v":""},{"$f":"IF(AU115=0,\"\",'SV-Garstedt'!F98)","v":""},"",{"$f":"IF('SV-Garstedt'!R98=\"\",0,'SV-Garstedt'!R98)","v":0},{"$f":"IF('SV-Garstedt'!U98=\"\",0,'SV-Garstedt'!U98)","v":0}]
[null,null,null,null,null,null,null,null,null,null,null,null,null,null,null,null,null,null,null,null,null,null,null,null,null,null,null,null,null,null,null,null,null,null,null,null,null,{"$f":"IF(AO116=0,\"\",'SV-Garlstorf'!C65)","v":""},{"$f":"IF(AO116=0,\"\",'SV-Garlstorf'!F65)","v":""},"",{"$f":"IF('SV-Garlstorf'!R65=\"\",0,'SV-Garlstorf'!R65)","v":0},{"$f":"IF('SV-Garlstorf'!U65=\"\",0,'SV-Garlstorf'!U65)","v":0},null,{"$f":"IF(AU116=0,\"\",'SV-Garstedt'!C99)","v":""},{"$f":"IF(AU116=0,\"\",'SV-Garstedt'!F99)","v":""},"",{"$f":"IF('SV-Garstedt'!R99=\"\",0,'SV-Garstedt'!R99)","v":0},{"$f":"IF('SV-Garstedt'!U99=\"\",0,'SV-Garstedt'!U99)","v":0}]
[null,null,null,null,null,null,null,null,null,null,null,null,null,null,null,null,null,null,null,null,null,null,null,null,null,null,null,null,null,null,null,null,null,null,null,null,null,{"$f":"IF(AO117=0,\"\",'SV-Garlstorf'!C66)","v":""},{"$f":"IF(AO117=0,\"\",'SV-Garlstorf'!F66)","v":""},"",{"$f":"IF('SV-Garlstorf'!R66=\"\",0,'SV-Garlstorf'!R66)","v":0},{"$f":"IF('SV-Garlstorf'!U66=\"\",0,'SV-Garlstorf'!U66)","v":0},null,{"$f":"IF(AU117=0,\"\",'SV-Garstedt'!C100)","v":""},{"$f":"IF(AU117=0,\"\",'SV-Garstedt'!F100)","v":""},"",{"$f":"IF('SV-Garstedt'!R100=\"\",0,'SV-Garstedt'!R100)","v":0},{"$f":"IF('SV-Garstedt'!U100=\"\",0,'SV-Garstedt'!U100)","v":0}]
[null,null,null,null,null,null,null,null,null,null,null,null,null,null,null,null,null,null,null,null,null,null,null,null,null,null,null,null,null,null,null,null,null,null,null,null,null,{"$f":"IF(AO118=0,\"\",'SV-Garlstorf'!C67)","v":""},{"$f":"IF(AO118=0,\"\",'SV-Garlstorf'!F67)","v":""},"",{"$f":"IF('SV-Garlstorf'!R67=\"\",0,'SV-Garlstorf'!R67)","v":0},{"$f":"IF('SV-Garlstorf'!U67=\"\",0,'SV-Garlstorf'!U67)","v":0},null,{"$f":"IF(AU118=0,\"\",'SV-Garstedt'!C101)","v":""},{"$f":"IF(AU118=0,\"\",'SV-Garstedt'!F101)","v":""},"",{"$f":"IF('SV-Garstedt'!R101=\"\",0,'SV-Garstedt'!R101)","v":0},{"$f":"IF('SV-Garstedt'!U101=\"\",0,'SV-Garstedt'!U101)","v":0}]
[null,null,null,null,null,null,null,null,null,null,null,null,null,null,null,null,null,null,null,null,null,null,null,null,null,null,null,null,null,null,null,null,null,null,null,null,null,{"$f":"IF(AO119=0,\"\",'SV-Garlstorf'!C68)","v":""},{"$f":"IF(AO119=0,\"\",'SV-Garlstorf'!F68)","v":""},"",{"$f":"IF('SV-Garlstorf'!R68=\"\",0,'SV-Garlstorf'!R68)","v":0},{"$f":"IF('SV-Garlstorf'!U68=\"\",0,'SV-Garlstorf'!U68)","v":0},null,{"$f":"IF(AU119=0,\"\",'SV-Garstedt'!C102)","v":""},{"$f":"IF(AU119=0,\"\",'SV-Garstedt'!F102)","v":""},"",{"$f":"IF('SV-Garstedt'!R102=\"\",0,'SV-Garstedt'!R102)","v":0},{"$f":"IF('SV-Garstedt'!U102=\"\",0,'SV-Garstedt'!U102)","v":0}]
[null,null,null,null,null,null,null,null,null,null,null,null,null,null,null,null,null,null,null,null,null,null,null,null,null,null,null,null,null,null,null,null,null,null,null,null,null,{"$f":"IF(AO120=0,\"\",'SV-Garlstorf'!C69)","v":""},{"$f":"IF(AO120=0,\"\",'SV-Garlstorf'!F69)","v":""},"",{"$f":"IF('SV-Garlstorf'!R69=\"\",0,'SV-Garlstorf'!R69)","v":0},{"$f":"IF('SV-Garlstorf'!U69=\"\",0,'SV-Garlstorf'!U69)","v":0},null,{"$f":"IF(AU120=0,\"\",'SV-Garstedt'!C103)","v":""},{"$f":"IF(AU120=0,\"\",'SV-Garstedt'!F103)","v":""},"",{"$f":"IF('SV-Garstedt'!R103=\"\",0,'SV-Garstedt'!R103)","v":0},{"$f":"IF('SV-Garstedt'!U103=\"\",0,'SV-Garstedt'!U103)","v":0}]
[null,null,null,null,null,null,null,null,null,null,null,null,null,null,null,null,null,null,null,null,null,null,null,null,null,null,null,null,null,null,null,null,null,null,null,null,null,{"$f":"IF(AO121=0,\"\",'SV-Garlstorf'!C70)","v":""},{"$f":"IF(AO121=0,\"\",'SV-Garlstorf'!F70)","v":""},"",{"$f":"IF('SV-Garlstorf'!R70=\"\",0,'SV-Garlstorf'!R70)","v":0},{"$f":"IF('SV-Garlstorf'!U70=\"\",0,'SV-Garlstorf'!U70)","v":0},null,{"$f":"IF(AU121=0,\"\",'SV-Garstedt'!C104)","v":""},{"$f":"IF(AU121=0,\"\",'SV-Garstedt'!F104)","v":""},"",{"$f":"IF('SV-Garstedt'!R104=\"\",0,'SV-Garstedt'!R104)","v":0},{"$f":"IF('SV-Garstedt'!U104=\"\",0,'SV-Garstedt'!U104)","v":0}]
[null,null,null,null,null,null,null,null,null,null,null,null,null,null,null,null,null,null,null,null,null,null,null,null,null,null,null,null,null,null,null,null,null,null,null,null,null,{"$f":"IF(AO122=0,\"\",'SV-Garlstorf'!C71)","v":""},{"$f":"IF(AO122=0,\"\",'SV-Garlstorf'!F71)","v":""},"",{"$f":"IF('SV-Garlstorf'!R71=\"\",0,'SV-Garlstorf'!R71)","v":0},{"$f":"IF('SV-Garlstorf'!U71=\"\",0,'SV-Garlstorf'!U71)","v":0},null,{"$f":"IF(AU122=0,\"\",'SV-Garstedt'!C105)","v":""},{"$f":"IF(AU122=0,\"\",'SV-Garstedt'!F105)","v":""},"",{"$f":"IF('SV-Garstedt'!R105=\"\",0,'SV-Garstedt'!R105)","v":0},{"$f":"IF('SV-Garstedt'!U105=\"\",0,'SV-Garstedt'!U105)","v":0}]
[null,null,null,null,null,null,null,null,null,null,null,null,null,null,null,null,null,null,null,null,null,null,null,null,null,null,null,null,null,null,null,null,null,null,null,null,null,{"$f":"IF(AO123=0,\"\",'SV-Garlstorf'!C72)","v":""},{"$f":"IF(AO123=0,\"\",'SV-Garlstorf'!F72)","v":""},"",{"$f":"IF('SV-Garlstorf'!R72=\"\",0,'SV-Garlstorf'!R72)","v":0},{"$f":"IF('SV-Garlstorf'!U72=\"\",0,'SV-Garlstorf'!U72)","v":0},null,{"$f":"IF(AU123=0,\"\",'SV-Raven-Rolfsen'!C86)","v":""},{"$f":"IF(AU123=0,\"\",'SV-Raven-Rolfsen'!F86)","v":""},{"$f":"IF(AS123=\"\",\"\",\"SV-Raven-Rolfsen\")","v":""},{"$f":"IF('SV-Raven-Rolfsen'!R86=\"\",0,'SV-Raven-Rolfsen'!R86)","v":0},{"$f":"IF('SV-Raven-Rolfsen'!U86=\"\",0,'SV-Raven-Rolfsen'!U86)","v":0}]
[null,null,null,null,null,null,null,null,null,null,null,null,null,null,null,null,null,null,null,null,null,null,null,null,null,null,null,null,null,null,null,null,null,null,null,null,null,{"$f":"IF(AO124=0,\"\",'SV-Garlstorf'!C73)","v":""},{"$f":"IF(AO124=0,\"\",'SV-Garlstorf'!F73)","v":""},"",{"$f":"IF('SV-Garlstorf'!R73=\"\",0,'SV-Garlstorf'!R73)","v":0},{"$f":"IF('SV-Garlstorf'!U73=\"\",0,'SV-Garlstorf'!U73)","v":0},null,{"$f":"IF(AU124=0,\"\",'SV-Raven-Rolfsen'!C87)","v":""},{"$f":"IF(AU124=0,\"\",'SV-Raven-Rolfsen'!F87)","v":""},"",{"$f":"IF('SV-Raven-Rolfsen'!R87=\"\",0,'SV-Raven-Rolfsen'!R87)","v":0},{"$f":"IF('SV-Raven-Rolfsen'!U87=\"\",0,'SV-Raven-Rolfsen'!U87)","v":0}]
[null,null,null,null,null,null,null,null,null,null,null,null,null,null,null,null,null,null,null,null,null,null,null,null,null,null,null,null,null,null,null,null,null,null,null,null,null,{"$f":"IF(AO125=0,\"\",'SV-Garlstorf'!C74)","v":""},{"$f":"IF(AO125=0,\"\",'SV-Garlstorf'!F74)","v":""},"",{"$f":"IF('SV-Garlstorf'!R74=\"\",0,'SV-Garlstorf'!R74)","v":0},{"$f":"IF('SV-Garlstorf'!U74=\"\",0,'SV-Garlstorf'!U74)","v":0},null,{"$f":"IF(AU125=0,\"\",'SV-Raven-Rolfsen'!C88)","v":""},{"$f":"IF(AU125=0,\"\",'SV-Raven-Rolfsen'!F88)","v":""},"",{"$f":"IF('SV-Raven-Rolfsen'!R88=\"\",0,'SV-Raven-Rolfsen'!R88)","v":0},{"$f":"IF('SV-Raven-Rolfsen'!U88=\"\",0,'SV-Raven-Rolfsen'!U88)","v":0}]
[null,null,null,null,null,null,null,null,null,null,null,null,null,null,null,null,null,null,null,null,null,null,null,null,null,null,null,null,null,null,null,null,null,null,null,null,null,{"$f":"IF(AO126=0,\"\",'SV-Garlstorf'!C75)","v":""},{"$f":"IF(AO126=0,\"\",'SV-Garlstorf'!F75)","v":""},"",{"$f":"IF('SV-Garlstorf'!R75=\"\",0,'SV-Garlstorf'!R75)","v":0},{"$f":"IF('SV-Garlstorf'!U75=\"\",0,'SV-Garlstorf'!U75)","v":0},null,{"$f":"IF(AU126=0,\"\",'SV-Raven-Rolfsen'!C89)","v":""},{"$f":"IF(AU126=0,\"\",'SV-Raven-Rolfsen'!F89)","v":""},"",{"$f":"IF('SV-Raven-Rolfsen'!R89=\"\",0,'SV-Raven-Rolfsen'!R89)","v":0},{"$f":"IF('SV-Raven-Rolfsen'!U89=\"\",0,'SV-Raven-Rolfsen'!U89)","v":0}]
[null,null,null,null,null,null,null,null,null,null,null,null,null,null,null,null,null,null,null,null,null,null,null,null,null,null,null,null,null,null,null,null,null,null,null,null,null,{"$f":"IF(AO127=0,\"\",'SV-Garlstorf'!C76)","v":""},{"$f":"IF(AO127=0,\"\",'SV-Garlstorf'!F76)","v":""},"",{"$f":"IF('SV-Garlstorf'!R76=\"\",0,'SV-Garlstorf'!R76)","v":0},{"$f":"IF('SV-Garlstorf'!U76=\"\",0,'SV-Garlstorf'!U76)","v":0},null,{"$f":"IF(AU127=0,\"\",'SV-Raven-Rolfsen'!C90)","v":""},{"$f":"IF(AU127=0,\"\",'SV-Raven-Rolfsen'!F90)","v":""},"",{"$f":"IF('SV-Raven-Rolfsen'!R90=\"\",0,'SV-Raven-Rolfsen'!R90)","v":0},{"$f":"IF('SV-Raven-Rolfsen'!U90=\"\",0,'SV-Raven-Rolfsen'!U90)","v":0}]
[null,null,null,null,null,null,null,null,null,null,null,null,null,null,null,null,null,null,null,null,null,null,null,null,null,null,null,null,null,null,null,null,null,null,null,null,null,{"$f":"IF(AO128=0,\"\",'SV-Garlstorf'!C77)","v":""},{"$f":"IF(AO128=0,\"\",'SV-Garlstorf'!F77)","v":""},"",{"$f":"IF('SV-Garlstorf'!R77=\"\",0,'SV-Garlstorf'!R77)","v":0},{"$f":"IF('SV-Garlstorf'!U77=\"\",0,'SV-Garlstorf'!U77)","v":0},null,{"$f":"IF(AU128=0,\"\",'SV-Raven-Rolfsen'!C91)","v":""},{"$f":"IF(AU128=0,\"\",'SV-Raven-Rolfsen'!F91)","v":""},"",{"$f":"IF('SV-Raven-Rolfsen'!R91=\"\",0,'SV-Raven-Rolfsen'!R91)","v":0},{"$f":"IF('SV-Raven-Rolfsen'!U91=\"\",0,'SV-Raven-Rolfsen'!U91)","v":0}]
[null,null,null,null,null,null,null,null,null,null,null,null,null,null,null,null,null,null,null,null,null,null,null,null,null,null,null,null,null,null,null,null,null,null,null,null,null,{"$f":"IF(AO129=0,\"\",'SV-Garlstorf'!C78)","v":""},{"$f":"IF(AO129=0,\"\",'SV-Garlstorf'!F78)","v":""},"",{"$f":"IF('SV-Garlstorf'!R78=\"\",0,'SV-Garlstorf'!R78)","v":0},{"$f":"IF('SV-Garlstorf'!U78=\"\",0,'SV-Garlstorf'!U78)","v":0},null,{"$f":"IF(AU129=0,\"\",'SV-Raven-Rolfsen'!C92)","v":""},{"$f":"IF(AU129=0,\"\",'SV-Raven-Rolfsen'!F92)","v":""},"",{"$f":"IF('SV-Raven-Rolfsen'!R92=\"\",0,'SV-Raven-Rolfsen'!R92)","v":0},{"$f":"IF('SV-Raven-Rolfsen'!U92=\"\",0,'SV-Raven-Rolfsen'!U92)","v":0}]
[null,null,null,null,null,null,null,null,null,null,null,null,null,null,null,null,null,null,null,null,null,null,null,null,null,null,null,null,null,null,null,null,null,null,null,null,null,{"$f":"IF(AO130=0,\"\",'SV-Garlstorf'!C79)","v":""},{"$f":"IF(AO130=0,\"\",'SV-Garlstorf'!F79)","v":""},"",{"$f":"IF('SV-Garlstorf'!R79=\"\",0,'SV-Garlstorf'!R79)","v":0},{"$f":"IF('SV-Garlstorf'!U79=\"\",0,'SV-Garlstorf'!U79)","v":0},null,{"$f":"IF(AU130=0,\"\",'SV-Raven-Rolfsen'!C93)","v":""},{"$f":"IF(AU130=0,\"\",'SV-Raven-Rolfsen'!F93)","v":""},"",{"$f":"IF('SV-Raven-Rolfsen'!R93=\"\",0,'SV-Raven-Rolfsen'!R93)","v":0},{"$f":"IF('SV-Raven-Rolfsen'!U93=\"\",0,'SV-Raven-Rolfsen'!U93)","v":0}]
[null,null,null,null,null,null,null,null,null,null,null,null,null,null,null,null,null,null,null,null,null,null,null,null,null,null,null,null,null,null,null,null,null,null,null,null,null,{"$f":"IF(AO131=0,\"\",'SV-Garlstorf'!C80)","v":""},{"$f":"IF(AO131=0,\"\",'SV-Garlstorf'!F80)","v":""},"",{"$f":"IF('SV-Garlstorf'!R80=\"\",0,'SV-Garlstorf'!R80)","v":0},{"$f":"IF('SV-Garlstorf'!U80=\"\",0,'SV-Garlstorf'!U80)","v":0},null,{"$f":"IF(AU131=0,\"\",'SV-Raven-Rolfsen'!C94)","v":""},{"$f":"IF(AU131=0,\"\",'SV-Raven-Rolfsen'!F94)","v":""},"",{"$f":"IF('SV-Raven-Rolfsen'!R94=\"\",0,'SV-Raven-Rolfsen'!R94)","v":0},{"$f":"IF('SV-Raven-Rolfsen'!U94=\"\",0,'SV-Raven-Rolfsen'!U94)","v":0}]
[null,null,null,null,null,null,null,null,null,null,null,null,null,null,null,null,null,null,null,null,null,null,null,null,null,null,null,null,null,null,null,null,null,null,null,null,null,{"$f":"IF(AO132=0,\"\",'SV-Garlstorf'!C81)","v":""},{"$f":"IF(AO132=0,\"\",'SV-Garlstorf'!F81)","v":""},"",{"$f":"IF('SV-Garlstorf'!R81=\"\",0,'SV-Garlstorf'!R81)","v":0},{"$f":"IF('SV-Garlstorf'!U81=\"\",0,'SV-Garlstorf'!U81)","v":0},null,{"$f":"IF(AU132=0,\"\",'SV-Raven-Rolfsen'!C95)","v":""},{"$f":"IF(AU132=0,\"\",'SV-Raven-Rolfsen'!F95)","v":""},"",{"$f":"IF('SV-Raven-Rolfsen'!R95=\"\",0,'SV-Raven-Rolfsen'!R95)","v":0},{"$f":"IF('SV-Raven-Rolfsen'!U95=\"\",0,'SV-Raven-Rolfsen'!U95)","v":0}]
[null,null,null,null,null,null,null,null,null,null,null,null,null,null,null,null,null,null,null,null,null,null,null,null,null,null,null,null,null,null,null,null,null,null,null,null,null,{"$f":"IF(AO133=0,\"\",'SV-Garstedt'!C7)","v":""},{"$f":"IF(AO133=0,\"\",'SV-Garstedt'!F7)","v":""},{"$f":"IF(AM133=\"\",\"\",\"SV-Garstedt\")","v":""},{"$f":"IF('SV-Garstedt'!R7=\"\",0,'SV-Garstedt'!R7)","v":0},{"$f":"IF('SV-Garstedt'!U7=\"\",0,'SV-Garstedt'!U7)","v":0},null,{"$f":"IF(AU133=0,\"\",'SV-Raven-Rolfsen'!C96)","v":""},{"$f":"IF(AU133=0,\"\",'SV-Raven-Rolfsen'!F96)","v":""},"",{"$f":"IF('SV-Raven-Rolfsen'!R96=\"\",0,'SV-Raven-Rolfsen'!R96)","v":0},{"$f":"IF('SV-Raven-Rolfsen'!U96=\"\",0,'SV-Raven-Rolfsen'!U96)","v":0}]
[null,null,null,null,null,null,null,null,null,null,null,null,null,null,null,null,null,null,null,null,null,null,null,null,null,null,null,null,null,null,null,null,null,null,null,null,null,{"$f":"IF(AO134=0,\"\",'SV-Garstedt'!C8)","v":""},{"$f":"IF(AO134=0,\"\",'SV-Garstedt'!F8)","v":""},{"$f":"IF(AM134=\"\",\"\",\"SV-Garstedt\")","v":""},{"$f":"IF('SV-Garstedt'!R8=\"\",0,'SV-Garstedt'!R8)","v":0},{"$f":"IF('SV-Garstedt'!U8=\"\",0,'SV-Garstedt'!U8)","v":0},null,{"$f":"IF(AU134=0,\"\",'SV-Raven-Rolfsen'!C97)","v":""},{"$f":"IF(AU134=0,\"\",'SV-Raven-Rolfsen'!F97)","v":""},"",{"$f":"IF('SV-Raven-Rolfsen'!R97=\"\",0,'SV-Raven-Rolfsen'!R97)","v":0},{"$f":"IF('SV-Raven-Rolfsen'!U97=\"\",0,'SV-Raven-Rolfsen'!U97)","v":0}]
[null,null,null,null,null,null,null,null,null,null,null,null,null,null,null,null,null,null,null,null,null,null,null,null,null,null,null,null,null,null,null,null,null,null,null,null,null,{"$f":"IF(AO135=0,\"\",'SV-Garstedt'!C9)","v":""},{"$f":"IF(AO135=0,\"\",'SV-Garstedt'!F9)","v":""},"",{"$f":"IF('SV-Garstedt'!R9=\"\",0,'SV-Garstedt'!R9)","v":0},{"$f":"IF('SV-Garstedt'!U9=\"\",0,'SV-Garstedt'!U9)","v":0},null,{"$f":"IF(AU135=0,\"\",'SV-Raven-Rolfsen'!C98)","v":""},{"$f":"IF(AU135=0,\"\",'SV-Raven-Rolfsen'!F98)","v":""},"",{"$f":"IF('SV-Raven-Rolfsen'!R98=\"\",0,'SV-Raven-Rolfsen'!R98)","v":0},{"$f":"IF('SV-Raven-Rolfsen'!U98=\"\",0,'SV-Raven-Rolfsen'!U98)","v":0}]
[null,null,null,null,null,null,null,null,null,null,null,null,null,null,null,null,null,null,null,null,null,null,null,null,null,null,null,null,null,null,null,null,null,null,null,null,null,{"$f":"IF(AO136=0,\"\",'SV-Garstedt'!C10)","v":""},{"$f":"IF(AO136=0,\"\",'SV-Garstedt'!F10)","v":""},"",{"$f":"IF('SV-Garstedt'!R10=\"\",0,'SV-Garstedt'!R10)","v":0},{"$f":"IF('SV-Garstedt'!U10=\"\",0,'SV-Garstedt'!U10)","v":0},null,{"$f":"IF(AU136=0,\"\",'SV-Raven-Rolfsen'!C99)","v":""},{"$f":"IF(AU136=0,\"\",'SV-Raven-Rolfsen'!F99)","v":""},"",{"$f":"IF('SV-Raven-Rolfsen'!R99=\"\",0,'SV-Raven-Rolfsen'!R99)","v":0},{"$f":"IF('SV-Raven-Rolfsen'!U99=\"\",0,'SV-Raven-Rolfsen'!U99)","v":0}]
[null,null,null,null,null,null,null,null,null,null,null,null,null,null,null,null,null,null,null,null,null,null,null,null,null,null,null,null,null,null,null,null,null,null,null,null,null,{"$f":"IF(AO137=0,\"\",'SV-Garstedt'!C11)","v":""},{"$f":"IF(AO137=0,\"\",'SV-Garstedt'!F11)","v":""},"",{"$f":"IF('SV-Garstedt'!R11=\"\",0,'SV-Garstedt'!R11)","v":0},{"$f":"IF('SV-Garstedt'!U11=\"\",0,'SV-Garstedt'!U11)","v":0},null,{"$f":"IF(AU137=0,\"\",'SV-Raven-Rolfsen'!C100)","v":""},{"$f":"IF(AU137=0,\"\",'SV-Raven-Rolfsen'!F100)","v":""},"",{"$f":"IF('SV-Raven-Rolfsen'!R100=\"\",0,'SV-Raven-Rolfsen'!R100)","v":0},{"$f":"IF('SV-Raven-Rolfsen'!U100=\"\",0,'SV-Raven-Rolfsen'!U100)","v":0}]
[null,null,null,null,null,null,null,null,null,null,null,null,null,null,null,null,null,null,null,null,null,null,null,null,null,null,null,null,null,null,null,null,null,null,null,null,null,{"$f":"IF(AO138=0,\"\",'SV-Garstedt'!C12)","v":""},{"$f":"IF(AO138=0,\"\",'SV-Garstedt'!F12)","v":""},"",{"$f":"IF('SV-Garstedt'!R12=\"\",0,'SV-Garstedt'!R12)","v":0},{"$f":"IF('SV-Garstedt'!U12=\"\",0,'SV-Garstedt'!U12)","v":0},null,{"$f":"IF(AU138=0,\"\",'SV-Raven-Rolfsen'!C101)","v":""},{"$f":"IF(AU138=0,\"\",'SV-Raven-Rolfsen'!F101)","v":""},"",{"$f":"IF('SV-Raven-Rolfsen'!R101=\"\",0,'SV-Raven-Rolfsen'!R101)","v":0},{"$f":"IF('SV-Raven-Rolfsen'!U101=\"\",0,'SV-Raven-Rolfsen'!U101)","v":0}]
[null,null,null,null,null,null,null,null,null,null,null,null,null,null,null,null,null,null,null,null,null,null,null,null,null,null,null,null,null,null,null,null,null,null,null,null,null,{"$f":"IF(AO139=0,\"\",'SV-Garstedt'!C62)","v":""},{"$f":"IF(AO139=0,\"\",'SV-Garstedt'!F62)","v":""},"",{"$f":"IF('SV-Garstedt'!R62=\"\",0,'SV-Garstedt'!R62)","v":0},{"$f":"IF('SV-Garstedt'!U62=\"\",0,'SV-Garstedt'!U62)","v":0},null,{"$f":"IF(AU139=0,\"\",'SV-Raven-Rolfsen'!C102)","v":""},{"$f":"IF(AU139=0,\"\",'SV-Raven-Rolfsen'!F102)","v":""},"",{"$f":"IF('SV-Raven-Rolfsen'!R102=\"\",0,'SV-Raven-Rolfsen'!R102)","v":0},{"$f":"IF('SV-Raven-Rolfsen'!U102=\"\",0,'SV-Raven-Rolfsen'!U102)","v":0}]
[null,null,null,null,null,null,null,null,null,null,null,null,null,null,null,null,null,null,null,null,null,null,null,null,null,null,null,null,null,null,null,null,null,null,null,null,null,{"$f":"IF(AO140=0,\"\",'SV-Garstedt'!C63)","v":""},{"$f":"IF(AO140=0,\"\",'SV-Garstedt'!F63)","v":""},"",{"$f":"IF('SV-Garstedt'!R63=\"\",0,'SV-Garstedt'!R63)","v":0},{"$f":"IF('SV-Garstedt'!U63=\"\",0,'SV-Garstedt'!U63)","v":0},null,{"$f":"IF(AU140=0,\"\",'SV-Raven-Rolfsen'!C103)","v":""},{"$f":"IF(AU140=0,\"\",'SV-Raven-Rolfsen'!F103)","v":""},"",{"$f":"IF('SV-Raven-Rolfsen'!R103=\"\",0,'SV-Raven-Rolfsen'!R103)","v":0},{"$f":"IF('SV-Raven-Rolfsen'!U103=\"\",0,'SV-Raven-Rolfsen'!U103)","v":0}]
[null,null,null,null,null,null,null,null,null,null,null,null,null,null,null,null,null,null,null,null,null,null,null,null,null,null,null,null,null,null,null,null,null,null,null,null,null,{"$f":"IF(AO141=0,\"\",'SV-Garstedt'!C64)","v":""},{"$f":"IF(AO141=0,\"\",'SV-Garstedt'!F64)","v":""},"",{"$f":"IF('SV-Garstedt'!R64=\"\",0,'SV-Garstedt'!R64)","v":0},{"$f":"IF('SV-Garstedt'!U64=\"\",0,'SV-Garstedt'!U64)","v":0},null,{"$f":"IF(AU141=0,\"\",'SV-Raven-Rolfsen'!C104)","v":""},{"$f":"IF(AU141=0,\"\",'SV-Raven-Rolfsen'!F104)","v":""},"",{"$f":"IF('SV-Raven-Rolfsen'!R104=\"\",0,'SV-Raven-Rolfsen'!R104)","v":0},{"$f":"IF('SV-Raven-Rolfsen'!U104=\"\",0,'SV-Raven-Rolfsen'!U104)","v":0}]
[null,null,null,null,null,null,null,null,null,null,null,null,null,null,null,null,null,null,null,null,null,null,null,null,null,null,null,null,null,null,null,null,null,null,null,null,null,{"$f":"IF(AO142=0,\"\",'SV-Garstedt'!C65)","v":""},{"$f":"IF(AO142=0,\"\",'SV-Garstedt'!F65)","v":""},"",{"$f":"IF('SV-Garstedt'!R65=\"\",0,'SV-Garstedt'!R65)","v":0},{"$f":"IF('SV-Garstedt'!U65=\"\",0,'SV-Garstedt'!U65)","v":0},null,{"$f":"IF(AU142=0,\"\",'SV-Raven-Rolfsen'!C105)","v":""},{"$f":"IF(AU142=0,\"\",'SV-Raven-Rolfsen'!F105)","v":""},"",{"$f":"IF('SV-Raven-Rolfsen'!R105=\"\",0,'SV-Raven-Rolfsen'!R105)","v":0},{"$f":"IF('SV-Raven-Rolfsen'!U105=\"\",0,'SV-Raven-Rolfsen'!U105)","v":0}]
[null,null,null,null,null,null,null,null,null,null,null,null,null,null,null,null,null,null,null,null,null,null,null,null,null,null,null,null,null,null,null,null,null,null,null,null,null,{"$f":"IF(AO143=0,\"\",'SV-Garstedt'!C66)","v":""},{"$f":"IF(AO143=0,\"\",'SV-Garstedt'!F66)","v":""},"",{"$f":"IF('SV-Garstedt'!R66=\"\",0,'SV-Garstedt'!R66)","v":0},{"$f":"IF('SV-Garstedt'!U66=\"\",0,'SV-Garstedt'!U66)","v":0},null,{"$f":"IF(AU143=0,\"\",'SV-Salzhausen'!C86)","v":""},{"$f":"IF(AU143=0,\"\",'SV-Salzhausen'!F86)","v":""},{"$f":"IF(AS143=\"\",\"\",\"SV-Salzhausen\")","v":""},{"$f":"IF('SV-Salzhausen'!R86=\"\",0,'SV-Salzhausen'!R86)","v":0},{"$f":"IF('SV-Salzhausen'!U86=\"\",0,'SV-Salzhausen'!U86)","v":0}]
[null,null,null,null,null,null,null,null,null,null,null,null,null,null,null,null,null,null,null,null,null,null,null,null,null,null,null,null,null,null,null,null,null,null,null,null,null,{"$f":"IF(AO144=0,\"\",'SV-Garstedt'!C67)","v":""},{"$f":"IF(AO144=0,\"\",'SV-Garstedt'!F67)","v":""},"",{"$f":"IF('SV-Garstedt'!R67=\"\",0,'SV-Garstedt'!R67)","v":0},{"$f":"IF('SV-Garstedt'!U67=\"\",0,'SV-Garstedt'!U67)","v":0},null,{"$f":"IF(AU144=0,\"\",'SV-Salzhausen'!C87)","v":""},{"$f":"IF(AU144=0,\"\",'SV-Salzhausen'!F87)","v":""},"",{"$f":"IF('SV-Salzhausen'!R87=\"\",0,'SV-Salzhausen'!R87)","v":0},{"$f":"IF('SV-Salzhausen'!U87=\"\",0,'SV-Salzhausen'!U87)","v":0}]
[null,null,null,null,null,null,null,null,null,null,null,null,null,null,null,null,null,null,null,null,null,null,null,null,null,null,null,null,null,null,null,null,null,null,null,null,null,{"$f":"IF(AO145=0,\"\",'SV-Garstedt'!C68)","v":""},{"$f":"IF(AO145=0,\"\",'SV-Garstedt'!F68)","v":""},"",{"$f":"IF('SV-Garstedt'!R68=\"\",0,'SV-Garstedt'!R68)","v":0},{"$f":"IF('SV-Garstedt'!U68=\"\",0,'SV-Garstedt'!U68)","v":0},null,{"$f":"IF(AU145=0,\"\",'SV-Salzhausen'!C88)","v":""},{"$f":"IF(AU145=0,\"\",'SV-Salzhausen'!F88)","v":""},"",{"$f":"IF('SV-Salzhausen'!R88=\"\",0,'SV-Salzhausen'!R88)","v":0},{"$f":"IF('SV-Salzhausen'!U88=\"\",0,'SV-Salzhausen'!U88)","v":0}]
[null,null,null,null,null,null,null,null,null,null,null,null,null,null,null,null,null,null,null,null,null,null,null,null,null,null,null,null,null,null,null,null,null,null,null,null,null,{"$f":"IF(AO146=0,\"\",'SV-Garstedt'!C69)","v":""},{"$f":"IF(AO146=0,\"\",'SV-Garstedt'!F69)","v":""},"",{"$f":"IF('SV-Garstedt'!R69=\"\",0,'SV-Garstedt'!R69)","v":0},{"$f":"IF('SV-Garstedt'!U69=\"\",0,'SV-Garstedt'!U69)","v":0},null,{"$f":"IF(AU146=0,\"\",'SV-Salzhausen'!C89)","v":""},{"$f":"IF(AU146=0,\"\",'SV-Salzhausen'!F89)","v":""},"",{"$f":"IF('SV-Salzhausen'!R89=\"\",0,'SV-Salzhausen'!R89)","v":0},{"$f":"IF('SV-Salzhausen'!U89=\"\",0,'SV-Salzhausen'!U89)","v":0}]
[null,null,null,null,null,null,null,null,null,null,null,null,null,null,null,null,null,null,null,null,null,null,null,null,null,null,null,null,null,null,null,null,null,null,null,null,null,{"$f":"IF(AO147=0,\"\",'SV-Garstedt'!C70)","v":""},{"$f":"IF(AO147=0,\"\",'SV-Garstedt'!F70)","v":""},"",{"$f":"IF('SV-Garstedt'!R70=\"\",0,'SV-Garstedt'!R70)","v":0},{"$f":"IF('SV-Garstedt'!U70=\"\",0,'SV-Garstedt'!U70)","v":0},null,{"$f":"IF(AU147=0,\"\",'SV-Salzhausen'!C90)","v":""},{"$f":"IF(AU147=0,\"\",'SV-Salzhausen'!F90)","v":""},"",{"$f":"IF('SV-Salzhausen'!R90=\"\",0,'SV-Salzhausen'!R90)","v":0},{"$f":"IF('SV-Salzhausen'!U90=\"\",0,'SV-Salzhausen'!U90)","v":0}]
[null,null,null,null,null,null,null,null,null,null,null,null,null,null,null,null,null,null,null,null,null,null,null,null,null,null,null,null,null,null,null,null,null,null,null,null,null,{"$f":"IF(AO148=0,\"\",'SV-Garstedt'!C71)","v":""},{"$f":"IF(AO148=0,\"\",'SV-Garstedt'!F71)","v":""},"",{"$f":"IF('SV-Garstedt'!R71=\"\",0,'SV-Garstedt'!R71)","v":0},{"$f":"IF('SV-Garstedt'!U71=\"\",0,'SV-Garstedt'!U71)","v":0},null,{"$f":"IF(AU148=0,\"\",'SV-Salzhausen'!C91)","v":""},{"$f":"IF(AU148=0,\"\",'SV-Salzhausen'!F91)","v":""},"",{"$f":"IF('SV-Salzhausen'!R91=\"\",0,'SV-Salzhausen'!R91)","v":0},{"$f":"IF('SV-Salzhausen'!U91=\"\",0,'SV-Salzhausen'!U91)","v":0}]
[null,null,null,null,null,null,null,null,null,null,null,null,null,null,null,null,null,null,null,null,null,null,null,null,null,null,null,null,null,null,null,null,null,null,null,null,null,{"$f":"IF(AO149=0,\"\",'SV-Garstedt'!C72)","v":""},{"$f":"IF(AO149=0,\"\",'SV-Garstedt'!F72)","v":""},"",{"$f":"IF('SV-Garstedt'!R72=\"\",0,'SV-Garstedt'!R72)","v":0},{"$f":"IF('SV-Garstedt'!U72=\"\",0,'SV-Garstedt'!U72)","v":0},null,{"$f":"IF(AU149=0,\"\",'SV-Salzhausen'!C92)","v":""},{"$f":"IF(AU149=0,\"\",'SV-Salzhausen'!F92)","v":""},"",{"$f":"IF('SV-Salzhausen'!R92=\"\",0,'SV-Salzhausen'!R92)","v":0},{"$f":"IF('SV-Salzhausen'!U92=\"\",0,'SV-Salzhausen'!U92)","v":0}]
[null,null,null,null,null,null,null,null,null,null,null,null,null,null,null,null,null,null,null,null,null,null,null,null,null,null,null,null,null,null,null,null,null,null,null,null,null,{"$f":"IF(AO150=0,\"\",'SV-Garstedt'!C73)","v":""},{"$f":"IF(AO150=0,\"\",'SV-Garstedt'!F73)","v":""},"",{"$f":"IF('SV-Garstedt'!R73=\"\",0,'SV-Garstedt'!R73)","v":0},{"$f":"IF('SV-Garstedt'!U73=\"\",0,'SV-Garstedt'!U73)","v":0},null,{"$f":"IF(AU150=0,\"\",'SV-Salzhausen'!C93)","v":""},{"$f":"IF(AU150=0,\"\",'SV-Salzhausen'!F93)","v":""},"",{"$f":"IF('SV-Salzhausen'!R93=\"\",0,'SV-Salzhausen'!R93)","v":0},{"$f":"IF('SV-Salzhausen'!U93=\"\",0,'SV-Salzhausen'!U93)","v":0}]
[null,null,null,null,null,null,null,null,null,null,null,null,null,null,null,null,null,null,null,null,null,null,null,null,null,null,null,null,null,null,null,null,null,null,null,null,null,{"$f":"IF(AO151=0,\"\",'SV-Garstedt'!C74)","v":""},{"$f":"IF(AO151=0,\"\",'SV-Garstedt'!F74)","v":""},"",{"$f":"IF('SV-Garstedt'!R74=\"\",0,'SV-Garstedt'!R74)","v":0},{"$f":"IF('SV-Garstedt'!U74=\"\",0,'SV-Garstedt'!U74)","v":0},null,{"$f":"IF(AU151=0,\"\",'SV-Salzhausen'!C94)","v":""},{"$f":"IF(AU151=0,\"\",'SV-Salzhausen'!F94)","v":""},"",{"$f":"IF('SV-Salzhausen'!R94=\"\",0,'SV-Salzhausen'!R94)","v":0},{"$f":"IF('SV-Salzhausen'!U94=\"\",0,'SV-Salzhausen'!U94)","v":0}]
[null,null,null,null,null,null,null,null,null,null,null,null,null,null,null,null,null,null,null,null,null,null,null,null,null,null,null,null,null,null,null,null,null,null,null,null,null,{"$f":"IF(AO152=0,\"\",'SV-Garstedt'!C75)","v":""},{"$f":"IF(AO152=0,\"\",'SV-Garstedt'!F75)","v":""},"",{"$f":"IF('SV-Garstedt'!R75=\"\",0,'SV-Garstedt'!R75)","v":0},{"$f":"IF('SV-Garstedt'!U75=\"\",0,'SV-Garstedt'!U75)","v":0},null,{"$f":"IF(AU152=0,\"\",'SV-Salzhausen'!C95)","v":""},{"$f":"IF(AU152=0,\"\",'SV-Salzhausen'!F95)","v":""},"",{"$f":"IF('SV-Salzhausen'!R95=\"\",0,'SV-Salzhausen'!R95)","v":0},{"$f":"IF('SV-Salzhausen'!U95=\"\",0,'SV-Salzhausen'!U95)","v":0}]
[null,null,null,null,null,null,null,null,null,null,null,null,null,null,null,null,null,null,null,null,null,null,null,null,null,null,null,null,null,null,null,null,null,null,null,null,null,{"$f":"IF(AO153=0,\"\",'SV-Garstedt'!C76)","v":""},{"$f":"IF(AO153=0,\"\",'SV-Garstedt'!F76)","v":""},"",{"$f":"IF('SV-Garstedt'!R76=\"\",0,'SV-Garstedt'!R76)","v":0},{"$f":"IF('SV-Garstedt'!U76=\"\",0,'SV-Garstedt'!U76)","v":0},null,{"$f":"IF(AU153=0,\"\",'SV-Salzhausen'!C96)","v":""},{"$f":"IF(AU153=0,\"\",'SV-Salzhausen'!F96)","v":""},"",{"$f":"IF('SV-Salzhausen'!R96=\"\",0,'SV-Salzhausen'!R96)","v":0},{"$f":"IF('SV-Salzhausen'!U96=\"\",0,'SV-Salzhausen'!U96)","v":0}]
[null,null,null,null,null,null,null,null,null,null,null,null,null,null,null,null,null,null,null,null,null,null,null,null,null,null,null,null,null,null,null,null,null,null,null,null,null,{"$f":"IF(AO154=0,\"\",'SV-Garstedt'!C77)","v":""},{"$f":"IF(AO154=0,\"\",'SV-Garstedt'!F77)","v":""},"",{"$f":"IF('SV-Garstedt'!R77=\"\",0,'SV-Garstedt'!R77)","v":0},{"$f":"IF('SV-Garstedt'!U77=\"\",0,'SV-Garstedt'!U77)","v":0},null,{"$f":"IF(AU154=0,\"\",'SV-Salzhausen'!C97)","v":""},{"$f":"IF(AU154=0,\"\",'SV-Salzhausen'!F97)","v":""},"",{"$f":"IF('SV-Salzhausen'!R97=\"\",0,'SV-Salzhausen'!R97)","v":0},{"$f":"IF('SV-Salzhausen'!U97=\"\",0,'SV-Salzhausen'!U97)","v":0}]
[null,null,null,null,null,null,null,null,null,null,null,null,null,null,null,null,null,null,null,null,null,null,null,null,null,null,null,null,null,null,null,null,null,null,null,null,null,{"$f":"IF(AO155=0,\"\",'SV-Garstedt'!C78)","v":""},{"$f":"IF(AO155=0,\"\",'SV-Garstedt'!F78)","v":""},"",{"$f":"IF('SV-Garstedt'!R78=\"\",0,'SV-Garstedt'!R78)","v":0},{"$f":"IF('SV-Garstedt'!U78=\"\",0,'SV-Garstedt'!U78)","v":0},null,{"$f":"IF(AU155=0,\"\",'SV-Salzhausen'!C98)","v":""},{"$f":"IF(AU155=0,\"\",'SV-Salzhausen'!F98)","v":""},"",{"$f":"IF('SV-Salzhausen'!R98=\"\",0,'SV-Salzhausen'!R98)","v":0},{"$f":"IF('SV-Salzhausen'!U98=\"\",0,'SV-Salzhausen'!U98)","v":0}]
[null,null,null,null,null,null,null,null,null,null,null,null,null,null,null,null,null,null,null,null,null,null,null,null,null,null,null,null,null,null,null,null,null,null,null,null,null,{"$f":"IF(AO156=0,\"\",'SV-Garstedt'!C79)","v":""},{"$f":"IF(AO156=0,\"\",'SV-Garstedt'!F79)","v":""},"",{"$f":"IF('SV-Garstedt'!R79=\"\",0,'SV-Garstedt'!R79)","v":0},{"$f":"IF('SV-Garstedt'!U79=\"\",0,'SV-Garstedt'!U79)","v":0},null,{"$f":"IF(AU156=0,\"\",'SV-Salzhausen'!C99)","v":""},{"$f":"IF(AU156=0,\"\",'SV-Salzhausen'!F99)","v":""},"",{"$f":"IF('SV-Salzhausen'!R99=\"\",0,'SV-Salzhausen'!R99)","v":0},{"$f":"IF('SV-Salzhausen'!U99=\"\",0,'SV-Salzhausen'!U99)","v":0}]
[null,null,null,null,null,null,null,null,null,null,null,null,null,null,null,null,null,null,null,null,null,null,null,null,null,null,null,null,null,null,null,null,null,null,null,null,null,{"$f":"IF(AO157=0,\"\",'SV-Garstedt'!C80)","v":""},{"$f":"IF(AO157=0,\"\",'SV-Garstedt'!F80)","v":""},"",{"$f":"IF('SV-Garstedt'!R80=\"\",0,'SV-Garstedt'!R80)","v":0},{"$f":"IF('SV-Garstedt'!U80=\"\",0,'SV-Garstedt'!U80)","v":0},null,{"$f":"IF(AU157=0,\"\",'SV-Salzhausen'!C100)","v":""},{"$f":"IF(AU157=0,\"\",'SV-Salzhausen'!F100)","v":""},"",{"$f":"IF('SV-Salzhausen'!R100=\"\",0,'SV-Salzhausen'!R100)","v":0},{"$f":"IF('SV-Salzhausen'!U100=\"\",0,'SV-Salzhausen'!U100)","v":0}]
[null,null,null,null,null,null,null,null,null,null,null,null,null,null,null,null,null,null,null,null,null,null,null,null,null,null,null,null,null,null,null,null,null,null,null,null,null,{"$f":"IF(AO158=0,\"\",'SV-Garstedt'!C81)","v":""},{"$f":"IF(AO158=0,\"\",'SV-Garstedt'!F81)","v":""},"",{"$f":"IF('SV-Garstedt'!R81=\"\",0,'SV-Garstedt'!R81)","v":0},{"$f":"IF('SV-Garstedt'!U81=\"\",0,'SV-Garstedt'!U81)","v":0},null,{"$f":"IF(AU158=0,\"\",'SV-Salzhausen'!C101)","v":""},{"$f":"IF(AU158=0,\"\",'SV-Salzhausen'!F101)","v":""},"",{"$f":"IF('SV-Salzhausen'!R101=\"\",0,'SV-Salzhausen'!R101)","v":0},{"$f":"IF('SV-Salzhausen'!U101=\"\",0,'SV-Salzhausen'!U101)","v":0}]
[null,null,null,null,null,null,null,null,null,null,null,null,null,null,null,null,null,null,null,null,null,null,null,null,null,null,null,null,null,null,null,null,null,null,null,null,null,{"$f":"IF(AO159=0,\"\",'SV-Raven-Rolfsen'!C7)","v":""},{"$f":"IF(AO159=0,\"\",'SV-Raven-Rolfsen'!F7)","v":""},{"$f":"IF(AM159=\"\",\"\",\"SV-Raven-Rolfsen\")","v":""},{"$f":"IF('SV-Raven-Rolfsen'!R7=\"\",0,'SV-Raven-Rolfsen'!R7)","v":0},{"$f":"IF('SV-Raven-Rolfsen'!U7=\"\",0,'SV-Raven-Rolfsen'!U7)","v":0},null,{"$f":"IF(AU159=0,\"\",'SV-Salzhausen'!C102)","v":""},{"$f":"IF(AU159=0,\"\",'SV-Salzhausen'!F102)","v":""},"",{"$f":"IF('SV-Salzhausen'!R102=\"\",0,'SV-Salzhausen'!R102)","v":0},{"$f":"IF('SV-Salzhausen'!U102=\"\",0,'SV-Salzhausen'!U102)","v":0}]
[null,null,null,null,null,null,null,null,null,null,null,null,null,null,null,null,null,null,null,null,null,null,null,null,null,null,null,null,null,null,null,null,null,null,null,null,null,{"$f":"IF(AO160=0,\"\",'SV-Raven-Rolfsen'!C8)","v":""},{"$f":"IF(AO160=0,\"\",'SV-Raven-Rolfsen'!F8)","v":""},{"$f":"IF(AM160=\"\",\"\",\"SV-Raven-Rolfsen\")","v":""},{"$f":"IF('SV-Raven-Rolfsen'!R8=\"\",0,'SV-Raven-Rolfsen'!R8)","v":0},{"$f":"IF('SV-Raven-Rolfsen'!U8=\"\",0,'SV-Raven-Rolfsen'!U8)","v":0},null,{"$f":"IF(AU160=0,\"\",'SV-Salzhausen'!C103)","v":""},{"$f":"IF(AU160=0,\"\",'SV-Salzhausen'!F103)","v":""},"",{"$f":"IF('SV-Salzhausen'!R103=\"\",0,'SV-Salzhausen'!R103)","v":0},{"$f":"IF('SV-Salzhausen'!U103=\"\",0,'SV-Salzhausen'!U103)","v":0}]
[null,null,null,null,null,null,null,null,null,null,null,null,null,null,null,null,null,null,null,null,null,null,null,null,null,null,null,null,null,null,null,null,null,null,null,null,null,{"$f":"IF(AO161=0,\"\",'SV-Raven-Rolfsen'!C9)","v":""},{"$f":"IF(AO161=0,\"\",'SV-Raven-Rolfsen'!F9)","v":""},"",{"$f":"IF('SV-Raven-Rolfsen'!R9=\"\",0,'SV-Raven-Rolfsen'!R9)","v":0},{"$f":"IF('SV-Raven-Rolfsen'!U9=\"\",0,'SV-Raven-Rolfsen'!U9)","v":0},null,{"$f":"IF(AU161=0,\"\",'SV-Salzhausen'!C104)","v":""},{"$f":"IF(AU161=0,\"\",'SV-Salzhausen'!F104)","v":""},"",{"$f":"IF('SV-Salzhausen'!R104=\"\",0,'SV-Salzhausen'!R104)","v":0},{"$f":"IF('SV-Salzhausen'!U104=\"\",0,'SV-Salzhausen'!U104)","v":0}]
[null,null,null,null,null,null,null,null,null,null,null,null,null,null,null,null,null,null,null,null,null,null,null,null,null,null,null,null,null,null,null,null,null,null,null,null,null,{"$f":"IF(AO162=0,\"\",'SV-Raven-Rolfsen'!C10)","v":""},{"$f":"IF(AO162=0,\"\",'SV-Raven-Rolfsen'!F10)","v":""},"",{"$f":"IF('SV-Raven-Rolfsen'!R10=\"\",0,'SV-Raven-Rolfsen'!R10)","v":0},{"$f":"IF('SV-Raven-Rolfsen'!U10=\"\",0,'SV-Raven-Rolfsen'!U10)","v":0},null,{"$f":"IF(AU162=0,\"\",'SV-Salzhausen'!C105)","v":""},{"$f":"IF(AU162=0,\"\",'SV-Salzhausen'!F105)","v":""},"",{"$f":"IF('SV-Salzhausen'!R105=\"\",0,'SV-Salzhausen'!R105)","v":0},{"$f":"IF('SV-Salzhausen'!U105=\"\",0,'SV-Salzhausen'!U105)","v":0}]
[null,null,null,null,null,null,null,null,null,null,null,null,null,null,null,null,null,null,null,null,null,null,null,null,null,null,null,null,null,null,null,null,null,null,null,null,null,{"$f":"IF(AO163=0,\"\",'SV-Raven-Rolfsen'!C11)","v":""},{"$f":"IF(AO163=0,\"\",'SV-Raven-Rolfsen'!F11)","v":""},"",{"$f":"IF('SV-Raven-Rolfsen'!R11=\"\",0,'SV-Raven-Rolfsen'!R11)","v":0},{"$f":"IF('SV-Raven-Rolfsen'!U11=\"\",0,'SV-Raven-Rolfsen'!U11)","v":0},null,{"$f":"IF(AU163=0,\"\",'SV-Toppenstedt'!C86)","v":""},{"$f":"IF(AU163=0,\"\",'SV-Toppenstedt'!F86)","v":""},{"$f":"IF(AS163=\"\",\"\",\"SV-Toppenstedt\")","v":""},{"$f":"IF('SV-Toppenstedt'!R86=\"\",0,'SV-Toppenstedt'!R86)","v":0},{"$f":"IF('SV-Toppenstedt'!U86=\"\",0,'SV-Toppenstedt'!U86)","v":0}]
[null,null,null,null,null,null,null,null,null,null,null,null,null,null,null,null,null,null,null,null,null,null,null,null,null,null,null,null,null,null,null,null,null,null,null,null,null,{"$f":"IF(AO164=0,\"\",'SV-Raven-Rolfsen'!C12)","v":""},{"$f":"IF(AO164=0,\"\",'SV-Raven-Rolfsen'!F12)","v":""},"",{"$f":"IF('SV-Raven-Rolfsen'!R12=\"\",0,'SV-Raven-Rolfsen'!R12)","v":0},{"$f":"IF('SV-Raven-Rolfsen'!U12=\"\",0,'SV-Raven-Rolfsen'!U12)","v":0},null,{"$f":"IF(AU164=0,\"\",'SV-Toppenstedt'!C87)","v":""},{"$f":"IF(AU164=0,\"\",'SV-Toppenstedt'!F87)","v":""},"",{"$f":"IF('SV-Toppenstedt'!R87=\"\",0,'SV-Toppenstedt'!R87)","v":0},{"$f":"IF('SV-Toppenstedt'!U87=\"\",0,'SV-Toppenstedt'!U87)","v":0}]
[null,null,null,null,null,null,null,null,null,null,null,null,null,null,null,null,null,null,null,null,null,null,null,null,null,null,null,null,null,null,null,null,null,null,null,null,null,{"$f":"IF(AO165=0,\"\",'SV-Raven-Rolfsen'!C62)","v":""},{"$f":"IF(AO165=0,\"\",'SV-Raven-Rolfsen'!F62)","v":""},"",{"$f":"IF('SV-Raven-Rolfsen'!R62=\"\",0,'SV-Raven-Rolfsen'!R62)","v":0},{"$f":"IF('SV-Raven-Rolfsen'!U62=\"\",0,'SV-Raven-Rolfsen'!U62)","v":0},null,{"$f":"IF(AU165=0,\"\",'SV-Toppenstedt'!C88)","v":""},{"$f":"IF(AU165=0,\"\",'SV-Toppenstedt'!F88)","v":""},"",{"$f":"IF('SV-Toppenstedt'!R88=\"\",0,'SV-Toppenstedt'!R88)","v":0},{"$f":"IF('SV-Toppenstedt'!U88=\"\",0,'SV-Toppenstedt'!U88)","v":0}]
[null,null,null,null,null,null,null,null,null,null,null,null,null,null,null,null,null,null,null,null,null,null,null,null,null,null,null,null,null,null,null,null,null,null,null,null,null,{"$f":"IF(AO166=0,\"\",'SV-Raven-Rolfsen'!C63)","v":""},{"$f":"IF(AO166=0,\"\",'SV-Raven-Rolfsen'!F63)","v":""},"",{"$f":"IF('SV-Raven-Rolfsen'!R63=\"\",0,'SV-Raven-Rolfsen'!R63)","v":0},{"$f":"IF('SV-Raven-Rolfsen'!U63=\"\",0,'SV-Raven-Rolfsen'!U63)","v":0},null,{"$f":"IF(AU166=0,\"\",'SV-Toppenstedt'!C89)","v":""},{"$f":"IF(AU166=0,\"\",'SV-Toppenstedt'!F89)","v":""},"",{"$f":"IF('SV-Toppenstedt'!R89=\"\",0,'SV-Toppenstedt'!R89)","v":0},{"$f":"IF('SV-Toppenstedt'!U89=\"\",0,'SV-Toppenstedt'!U89)","v":0}]
[null,null,null,null,null,null,null,null,null,null,null,null,null,null,null,null,null,null,null,null,null,null,null,null,null,null,null,null,null,null,null,null,null,null,null,null,null,{"$f":"IF(AO167=0,\"\",'SV-Raven-Rolfsen'!C64)","v":""},{"$f":"IF(AO167=0,\"\",'SV-Raven-Rolfsen'!F64)","v":""},"",{"$f":"IF('SV-Raven-Rolfsen'!R64=\"\",0,'SV-Raven-Rolfsen'!R64)","v":0},{"$f":"IF('SV-Raven-Rolfsen'!U64=\"\",0,'SV-Raven-Rolfsen'!U64)","v":0},null,{"$f":"IF(AU167=0,\"\",'SV-Toppenstedt'!C90)","v":""},{"$f":"IF(AU167=0,\"\",'SV-Toppenstedt'!F90)","v":""},"",{"$f":"IF('SV-Toppenstedt'!R90=\"\",0,'SV-Toppenstedt'!R90)","v":0},{"$f":"IF('SV-Toppenstedt'!U90=\"\",0,'SV-Toppenstedt'!U90)","v":0}]
[null,null,null,null,null,null,null,null,null,null,null,null,null,null,null,null,null,null,null,null,null,null,null,null,null,null,null,null,null,null,null,null,null,null,null,null,null,{"$f":"IF(AO168=0,\"\",'SV-Raven-Rolfsen'!C65)","v":""},{"$f":"IF(AO168=0,\"\",'SV-Raven-Rolfsen'!F65)","v":""},"",{"$f":"IF('SV-Raven-Rolfsen'!R65=\"\",0,'SV-Raven-Rolfsen'!R65)","v":0},{"$f":"IF('SV-Raven-Rolfsen'!U65=\"\",0,'SV-Raven-Rolfsen'!U65)","v":0},null,{"$f":"IF(AU168=0,\"\",'SV-Toppenstedt'!C91)","v":""},{"$f":"IF(AU168=0,\"\",'SV-Toppenstedt'!F91)","v":""},"",{"$f":"IF('SV-Toppenstedt'!R91=\"\",0,'SV-Toppenstedt'!R91)","v":0},{"$f":"IF('SV-Toppenstedt'!U91=\"\",0,'SV-Toppenstedt'!U91)","v":0}]
[null,null,null,null,null,null,null,null,null,null,null,null,null,null,null,null,null,null,null,null,null,null,null,null,null,null,null,null,null,null,null,null,null,null,null,null,null,{"$f":"IF(AO169=0,\"\",'SV-Raven-Rolfsen'!C66)","v":""},{"$f":"IF(AO169=0,\"\",'SV-Raven-Rolfsen'!F66)","v":""},"",{"$f":"IF('SV-Raven-Rolfsen'!R66=\"\",0,'SV-Raven-Rolfsen'!R66)","v":0},{"$f":"IF('SV-Raven-Rolfsen'!U66=\"\",0,'SV-Raven-Rolfsen'!U66)","v":0},null,{"$f":"IF(AU169=0,\"\",'SV-Toppenstedt'!C92)","v":""},{"$f":"IF(AU169=0,\"\",'SV-Toppenstedt'!F92)","v":""},"",{"$f":"IF('SV-Toppenstedt'!R92=\"\",0,'SV-Toppenstedt'!R92)","v":0},{"$f":"IF('SV-Toppenstedt'!U92=\"\",0,'SV-Toppenstedt'!U92)","v":0}]
[null,null,null,null,null,null,null,null,null,null,null,null,null,null,null,null,null,null,null,null,null,null,null,null,null,null,null,null,null,null,null,null,null,null,null,null,null,{"$f":"IF(AO170=0,\"\",'SV-Raven-Rolfsen'!C67)","v":""},{"$f":"IF(AO170=0,\"\",'SV-Raven-Rolfsen'!F67)","v":""},"",{"$f":"IF('SV-Raven-Rolfsen'!R67=\"\",0,'SV-Raven-Rolfsen'!R67)","v":0},{"$f":"IF('SV-Raven-Rolfsen'!U67=\"\",0,'SV-Raven-Rolfsen'!U67)","v":0},null,{"$f":"IF(AU170=0,\"\",'SV-Toppenstedt'!C93)","v":""},{"$f":"IF(AU170=0,\"\",'SV-Toppenstedt'!F93)","v":""},"",{"$f":"IF('SV-Toppenstedt'!R93=\"\",0,'SV-Toppenstedt'!R93)","v":0},{"$f":"IF('SV-Toppenstedt'!U93=\"\",0,'SV-Toppenstedt'!U93)","v":0}]
[null,null,null,null,null,null,null,null,null,null,null,null,null,null,null,null,null,null,null,null,null,null,null,null,null,null,null,null,null,null,null,null,null,null,null,null,null,{"$f":"IF(AO171=0,\"\",'SV-Raven-Rolfsen'!C68)","v":""},{"$f":"IF(AO171=0,\"\",'SV-Raven-Rolfsen'!F68)","v":""},"",{"$f":"IF('SV-Raven-Rolfsen'!R68=\"\",0,'SV-Raven-Rolfsen'!R68)","v":0},{"$f":"IF('SV-Raven-Rolfsen'!U68=\"\",0,'SV-Raven-Rolfsen'!U68)","v":0},null,{"$f":"IF(AU171=0,\"\",'SV-Toppenstedt'!C94)","v":""},{"$f":"IF(AU171=0,\"\",'SV-Toppenstedt'!F94)","v":""},"",{"$f":"IF('SV-Toppenstedt'!R94=\"\",0,'SV-Toppenstedt'!R94)","v":0},{"$f":"IF('SV-Toppenstedt'!U94=\"\",0,'SV-Toppenstedt'!U94)","v":0}]
[null,null,null,null,null,null,null,null,null,null,null,null,null,null,null,null,null,null,null,null,null,null,null,null,null,null,null,null,null,null,null,null,null,null,null,null,null,{"$f":"IF(AO172=0,\"\",'SV-Raven-Rolfsen'!C69)","v":""},{"$f":"IF(AO172=0,\"\",'SV-Raven-Rolfsen'!F69)","v":""},"",{"$f":"IF('SV-Raven-Rolfsen'!R69=\"\",0,'SV-Raven-Rolfsen'!R69)","v":0},{"$f":"IF('SV-Raven-Rolfsen'!U69=\"\",0,'SV-Raven-Rolfsen'!U69)","v":0},null,{"$f":"IF(AU172=0,\"\",'SV-Toppenstedt'!C95)","v":""},{"$f":"IF(AU172=0,\"\",'SV-Toppenstedt'!F95)","v":""},"",{"$f":"IF('SV-Toppenstedt'!R95=\"\",0,'SV-Toppenstedt'!R95)","v":0},{"$f":"IF('SV-Toppenstedt'!U95=\"\",0,'SV-Toppenstedt'!U95)","v":0}]
[null,null,null,null,null,null,null,null,null,null,null,null,null,null,null,null,null,null,null,null,null,null,null,null,null,null,null,null,null,null,null,null,null,null,null,null,null,{"$f":"IF(AO173=0,\"\",'SV-Raven-Rolfsen'!C70)","v":""},{"$f":"IF(AO173=0,\"\",'SV-Raven-Rolfsen'!F70)","v":""},"",{"$f":"IF('SV-Raven-Rolfsen'!R70=\"\",0,'SV-Raven-Rolfsen'!R70)","v":0},{"$f":"IF('SV-Raven-Rolfsen'!U70=\"\",0,'SV-Raven-Rolfsen'!U70)","v":0},null,{"$f":"IF(AU173=0,\"\",'SV-Toppenstedt'!C96)","v":""},{"$f":"IF(AU173=0,\"\",'SV-Toppenstedt'!F96)","v":""},"",{"$f":"IF('SV-Toppenstedt'!R96=\"\",0,'SV-Toppenstedt'!R96)","v":0},{"$f":"IF('SV-Toppenstedt'!U96=\"\",0,'SV-Toppenstedt'!U96)","v":0}]
[null,null,null,null,null,null,null,null,null,null,null,null,null,null,null,null,null,null,null,null,null,null,null,null,null,null,null,null,null,null,null,null,null,null,null,null,null,{"$f":"IF(AO174=0,\"\",'SV-Raven-Rolfsen'!C71)","v":""},{"$f":"IF(AO174=0,\"\",'SV-Raven-Rolfsen'!F71)","v":""},"",{"$f":"IF('SV-Raven-Rolfsen'!R71=\"\",0,'SV-Raven-Rolfsen'!R71)","v":0},{"$f":"IF('SV-Raven-Rolfsen'!U71=\"\",0,'SV-Raven-Rolfsen'!U71)","v":0},null,{"$f":"IF(AU174=0,\"\",'SV-Toppenstedt'!C97)","v":""},{"$f":"IF(AU174=0,\"\",'SV-Toppenstedt'!F97)","v":""},"",{"$f":"IF('SV-Toppenstedt'!R97=\"\",0,'SV-Toppenstedt'!R97)","v":0},{"$f":"IF('SV-Toppenstedt'!U97=\"\",0,'SV-Toppenstedt'!U97)","v":0}]
[null,null,null,null,null,null,null,null,null,null,null,null,null,null,null,null,null,null,null,null,null,null,null,null,null,null,null,null,null,null,null,null,null,null,null,null,null,{"$f":"IF(AO175=0,\"\",'SV-Raven-Rolfsen'!C72)","v":""},{"$f":"IF(AO175=0,\"\",'SV-Raven-Rolfsen'!F72)","v":""},"",{"$f":"IF('SV-Raven-Rolfsen'!R72=\"\",0,'SV-Raven-Rolfsen'!R72)","v":0},{"$f":"IF('SV-Raven-Rolfsen'!U72=\"\",0,'SV-Raven-Rolfsen'!U72)","v":0},null,{"$f":"IF(AU175=0,\"\",'SV-Toppenstedt'!C98)","v":""},{"$f":"IF(AU175=0,\"\",'SV-Toppenstedt'!F98)","v":""},"",{"$f":"IF('SV-Toppenstedt'!R98=\"\",0,'SV-Toppenstedt'!R98)","v":0},{"$f":"IF('SV-Toppenstedt'!U98=\"\",0,'SV-Toppenstedt'!U98)","v":0}]
[null,null,null,null,null,null,null,null,null,null,null,null,null,null,null,null,null,null,null,null,null,null,null,null,null,null,null,null,null,null,null,null,null,null,null,null,null,{"$f":"IF(AO176=0,\"\",'SV-Raven-Rolfsen'!C73)","v":""},{"$f":"IF(AO176=0,\"\",'SV-Raven-Rolfsen'!F73)","v":""},"",{"$f":"IF('SV-Raven-Rolfsen'!R73=\"\",0,'SV-Raven-Rolfsen'!R73)","v":0},{"$f":"IF('SV-Raven-Rolfsen'!U73=\"\",0,'SV-Raven-Rolfsen'!U73)","v":0},null,{"$f":"IF(AU176=0,\"\",'SV-Toppenstedt'!C99)","v":""},{"$f":"IF(AU176=0,\"\",'SV-Toppenstedt'!F99)","v":""},"",{"$f":"IF('SV-Toppenstedt'!R99=\"\",0,'SV-Toppenstedt'!R99)","v":0},{"$f":"IF('SV-Toppenstedt'!U99=\"\",0,'SV-Toppenstedt'!U99)","v":0}]
[null,null,null,null,null,null,null,null,null,null,null,null,null,null,null,null,null,null,null,null,null,null,null,null,null,null,null,null,null,null,null,null,null,null,null,null,null,{"$f":"IF(AO177=0,\"\",'SV-Raven-Rolfsen'!C74)","v":""},{"$f":"IF(AO177=0,\"\",'SV-Raven-Rolfsen'!F74)","v":""},"",{"$f":"IF('SV-Raven-Rolfsen'!R74=\"\",0,'SV-Raven-Rolfsen'!R74)","v":0},{"$f":"IF('SV-Raven-Rolfsen'!U74=\"\",0,'SV-Raven-Rolfsen'!U74)","v":0},null,{"$f":"IF(AU177=0,\"\",'SV-Toppenstedt'!C100)","v":""},{"$f":"IF(AU177=0,\"\",'SV-Toppenstedt'!F100)","v":""},"",{"$f":"IF('SV-Toppenstedt'!R100=\"\",0,'SV-Toppenstedt'!R100)","v":0},{"$f":"IF('SV-Toppenstedt'!U100=\"\",0,'SV-Toppenstedt'!U100)","v":0}]
[null,null,null,null,null,null,null,null,null,null,null,null,null,null,null,null,null,null,null,null,null,null,null,null,null,null,null,null,null,null,null,null,null,null,null,null,null,{"$f":"IF(AO178=0,\"\",'SV-Raven-Rolfsen'!C75)","v":""},{"$f":"IF(AO178=0,\"\",'SV-Raven-Rolfsen'!F75)","v":""},"",{"$f":"IF('SV-Raven-Rolfsen'!R75=\"\",0,'SV-Raven-Rolfsen'!R75)","v":0},{"$f":"IF('SV-Raven-Rolfsen'!U75=\"\",0,'SV-Raven-Rolfsen'!U75)","v":0},null,{"$f":"IF(AU178=0,\"\",'SV-Toppenstedt'!C101)","v":""},{"$f":"IF(AU178=0,\"\",'SV-Toppenstedt'!F101)","v":""},"",{"$f":"IF('SV-Toppenstedt'!R101=\"\",0,'SV-Toppenstedt'!R101)","v":0},{"$f":"IF('SV-Toppenstedt'!U101=\"\",0,'SV-Toppenstedt'!U101)","v":0}]
[null,null,null,null,null,null,null,null,null,null,null,null,null,null,null,null,null,null,null,null,null,null,null,null,null,null,null,null,null,null,null,null,null,null,null,null,null,{"$f":"IF(AO179=0,\"\",'SV-Raven-Rolfsen'!C76)","v":""},{"$f":"IF(AO179=0,\"\",'SV-Raven-Rolfsen'!F76)","v":""},"",{"$f":"IF('SV-Raven-Rolfsen'!R76=\"\",0,'SV-Raven-Rolfsen'!R76)","v":0},{"$f":"IF('SV-Raven-Rolfsen'!U76=\"\",0,'SV-Raven-Rolfsen'!U76)","v":0},null,{"$f":"IF(AU179=0,\"\",'SV-Toppenstedt'!C102)","v":""},{"$f":"IF(AU179=0,\"\",'SV-Toppenstedt'!F102)","v":""},"",{"$f":"IF('SV-Toppenstedt'!R102=\"\",0,'SV-Toppenstedt'!R102)","v":0},{"$f":"IF('SV-Toppenstedt'!U102=\"\",0,'SV-Toppenstedt'!U102)","v":0}]
[null,null,null,null,null,null,null,null,null,null,null,null,null,null,null,null,null,null,null,null,null,null,null,null,null,null,null,null,null,null,null,null,null,null,null,null,null,{"$f":"IF(AO180=0,\"\",'SV-Raven-Rolfsen'!C77)","v":""},{"$f":"IF(AO180=0,\"\",'SV-Raven-Rolfsen'!F77)","v":""},"",{"$f":"IF('SV-Raven-Rolfsen'!R77=\"\",0,'SV-Raven-Rolfsen'!R77)","v":0},{"$f":"IF('SV-Raven-Rolfsen'!U77=\"\",0,'SV-Raven-Rolfsen'!U77)","v":0},null,{"$f":"IF(AU180=0,\"\",'SV-Toppenstedt'!C103)","v":""},{"$f":"IF(AU180=0,\"\",'SV-Toppenstedt'!F103)","v":""},"",{"$f":"IF('SV-Toppenstedt'!R103=\"\",0,'SV-Toppenstedt'!R103)","v":0},{"$f":"IF('SV-Toppenstedt'!U103=\"\",0,'SV-Toppenstedt'!U103)","v":0}]
[null,null,null,null,null,null,null,null,null,null,null,null,null,null,null,null,null,null,null,null,null,null,null,null,null,null,null,null,null,null,null,null,null,null,null,null,null,{"$f":"IF(AO181=0,\"\",'SV-Raven-Rolfsen'!C78)","v":""},{"$f":"IF(AO181=0,\"\",'SV-Raven-Rolfsen'!F78)","v":""},"",{"$f":"IF('SV-Raven-Rolfsen'!R78=\"\",0,'SV-Raven-Rolfsen'!R78)","v":0},{"$f":"IF('SV-Raven-Rolfsen'!U78=\"\",0,'SV-Raven-Rolfsen'!U78)","v":0},null,{"$f":"IF(AU181=0,\"\",'SV-Toppenstedt'!C104)","v":""},{"$f":"IF(AU181=0,\"\",'SV-Toppenstedt'!F104)","v":""},"",{"$f":"IF('SV-Toppenstedt'!R104=\"\",0,'SV-Toppenstedt'!R104)","v":0},{"$f":"IF('SV-Toppenstedt'!U104=\"\",0,'SV-Toppenstedt'!U104)","v":0}]
[null,null,null,null,null,null,null,null,null,null,null,null,null,null,null,null,null,null,null,null,null,null,null,null,null,null,null,null,null,null,null,null,null,null,null,null,null,{"$f":"IF(AO182=0,\"\",'SV-Raven-Rolfsen'!C79)","v":""},{"$f":"IF(AO182=0,\"\",'SV-Raven-Rolfsen'!F79)","v":""},"",{"$f":"IF('SV-Raven-Rolfsen'!R79=\"\",0,'SV-Raven-Rolfsen'!R79)","v":0},{"$f":"IF('SV-Raven-Rolfsen'!U79=\"\",0,'SV-Raven-Rolfsen'!U79)","v":0},null,{"$f":"IF(AU182=0,\"\",'SV-Toppenstedt'!C105)","v":""},{"$f":"IF(AU182=0,\"\",'SV-Toppenstedt'!F105)","v":""},"",{"$f":"IF('SV-Toppenstedt'!R105=\"\",0,'SV-Toppenstedt'!R105)","v":0},{"$f":"IF('SV-Toppenstedt'!U105=\"\",0,'SV-Toppenstedt'!U105)","v":0}]
[null,null,null,null,null,null,null,null,null,null,null,null,null,null,null,null,null,null,null,null,null,null,null,null,null,null,null,null,null,null,null,null,null,null,null,null,null,{"$f":"IF(AO183=0,\"\",'SV-Raven-Rolfsen'!C80)","v":""},{"$f":"IF(AO183=0,\"\",'SV-Raven-Rolfsen'!F80)","v":""},"",{"$f":"IF('SV-Raven-Rolfsen'!R80=\"\",0,'SV-Raven-Rolfsen'!R80)","v":0},{"$f":"IF('SV-Raven-Rolfsen'!U80=\"\",0,'SV-Raven-Rolfsen'!U80)","v":0},null,{"$f":"IF(AU183=0,\"\",'SV-Wetzen'!C86)","v":""},{"$f":"IF(AU183=0,\"\",'SV-Wetzen'!F86)","v":""},{"$f":"IF(AS183=\"\",\"\",\"SV-Wetzen\")","v":""},{"$f":"IF('SV-Wetzen'!R86=\"\",0,'SV-Wetzen'!R86)","v":0},{"$f":"IF('SV-Wetzen'!U86=\"\",0,'SV-Wetzen'!U86)","v":0}]
[null,null,null,null,null,null,null,null,null,null,null,null,null,null,null,null,null,null,null,null,null,null,null,null,null,null,null,null,null,null,null,null,null,null,null,null,null,{"$f":"IF(AO184=0,\"\",'SV-Raven-Rolfsen'!C81)","v":""},{"$f":"IF(AO184=0,\"\",'SV-Raven-Rolfsen'!F81)","v":""},"",{"$f":"IF('SV-Raven-Rolfsen'!R81=\"\",0,'SV-Raven-Rolfsen'!R81)","v":0},{"$f":"IF('SV-Raven-Rolfsen'!U81=\"\",0,'SV-Raven-Rolfsen'!U81)","v":0},null,{"$f":"IF(AU184=0,\"\",'SV-Wetzen'!C87)","v":""},{"$f":"IF(AU184=0,\"\",'SV-Wetzen'!F87)","v":""},"",{"$f":"IF('SV-Wetzen'!R87=\"\",0,'SV-Wetzen'!R87)","v":0},{"$f":"IF('SV-Wetzen'!U87=\"\",0,'SV-Wetzen'!U87)","v":0}]
[null,null,null,null,null,null,null,null,null,null,null,null,null,null,null,null,null,null,null,null,null,null,null,null,null,null,null,null,null,null,null,null,null,null,null,null,null,{"$f":"IF(AO185=0,\"\",'SV-Salzhausen'!C7)","v":""},{"$f":"IF(AO185=0,\"\",'SV-Salzhausen'!F7)","v":""},{"$f":"IF(AM185=\"\",\"\",\"SV-Salzhausen\")","v":""},{"$f":"IF('SV-Salzhausen'!R7=\"\",0,'SV-Salzhausen'!R7)","v":0},{"$f":"IF('SV-Salzhausen'!U7=\"\",0,'SV-Salzhausen'!U7)","v":0},null,{"$f":"IF(AU185=0,\"\",'SV-Wetzen'!C88)","v":""},{"$f":"IF(AU185=0,\"\",'SV-Wetzen'!F88)","v":""},"",{"$f":"IF('SV-Wetzen'!R88=\"\",0,'SV-Wetzen'!R88)","v":0},{"$f":"IF('SV-Wetzen'!U88=\"\",0,'SV-Wetzen'!U88)","v":0}]
[null,null,null,null,null,null,null,null,null,null,null,null,null,null,null,null,null,null,null,null,null,null,null,null,null,null,null,null,null,null,null,null,null,null,null,null,null,{"$f":"IF(AO186=0,\"\",'SV-Salzhausen'!C8)","v":""},{"$f":"IF(AO186=0,\"\",'SV-Salzhausen'!F8)","v":""},{"$f":"IF(AM186=\"\",\"\",\"SV-Salzhausen\")","v":""},{"$f":"IF('SV-Salzhausen'!R8=\"\",0,'SV-Salzhausen'!R8)","v":0},{"$f":"IF('SV-Salzhausen'!U8=\"\",0,'SV-Salzhausen'!U8)","v":0},null,{"$f":"IF(AU186=0,\"\",'SV-Wetzen'!C89)","v":""},{"$f":"IF(AU186=0,\"\",'SV-Wetzen'!F89)","v":""},"",{"$f":"IF('SV-Wetzen'!R89=\"\",0,'SV-Wetzen'!R89)","v":0},{"$f":"IF('SV-Wetzen'!U89=\"\",0,'SV-Wetzen'!U89)","v":0}]
[null,null,null,null,null,null,null,null,null,null,null,null,null,null,null,null,null,null,null,null,null,null,null,null,null,null,null,null,null,null,null,null,null,null,null,null,null,{"$f":"IF(AO187=0,\"\",'SV-Salzhausen'!C9)","v":""},{"$f":"IF(AO187=0,\"\",'SV-Salzhausen'!F9)","v":""},"",{"$f":"IF('SV-Salzhausen'!R9=\"\",0,'SV-Salzhausen'!R9)","v":0},{"$f":"IF('SV-Salzhausen'!U9=\"\",0,'SV-Salzhausen'!U9)","v":0},null,{"$f":"IF(AU187=0,\"\",'SV-Wetzen'!C90)","v":""},{"$f":"IF(AU187=0,\"\",'SV-Wetzen'!F90)","v":""},"",{"$f":"IF('SV-Wetzen'!R90=\"\",0,'SV-Wetzen'!R90)","v":0},{"$f":"IF('SV-Wetzen'!U90=\"\",0,'SV-Wetzen'!U90)","v":0}]
[null,null,null,null,null,null,null,null,null,null,null,null,null,null,null,null,null,null,null,null,null,null,null,null,null,null,null,null,null,null,null,null,null,null,null,null,null,{"$f":"IF(AO188=0,\"\",'SV-Salzhausen'!C10)","v":""},{"$f":"IF(AO188=0,\"\",'SV-Salzhausen'!F10)","v":""},"",{"$f":"IF('SV-Salzhausen'!R10=\"\",0,'SV-Salzhausen'!R10)","v":0},{"$f":"IF('SV-Salzhausen'!U10=\"\",0,'SV-Salzhausen'!U10)","v":0},null,{"$f":"IF(AU188=0,\"\",'SV-Wetzen'!C91)","v":""},{"$f":"IF(AU188=0,\"\",'SV-Wetzen'!F91)","v":""},"",{"$f":"IF('SV-Wetzen'!R91=\"\",0,'SV-Wetzen'!R91)","v":0},{"$f":"IF('SV-Wetzen'!U91=\"\",0,'SV-Wetzen'!U91)","v":0}]
[null,null,null,null,null,null,null,null,null,null,null,null,null,null,null,null,null,null,null,null,null,null,null,null,null,null,null,null,null,null,null,null,null,null,null,null,null,{"$f":"IF(AO189=0,\"\",'SV-Salzhausen'!C11)","v":""},{"$f":"IF(AO189=0,\"\",'SV-Salzhausen'!F11)","v":""},"",{"$f":"IF('SV-Salzhausen'!R11=\"\",0,'SV-Salzhausen'!R11)","v":0},{"$f":"IF('SV-Salzhausen'!U11=\"\",0,'SV-Salzhausen'!U11)","v":0},null,{"$f":"IF(AU189=0,\"\",'SV-Wetzen'!C92)","v":""},{"$f":"IF(AU189=0,\"\",'SV-Wetzen'!F92)","v":""},"",{"$f":"IF('SV-Wetzen'!R92=\"\",0,'SV-Wetzen'!R92)","v":0},{"$f":"IF('SV-Wetzen'!U92=\"\",0,'SV-Wetzen'!U92)","v":0}]
[null,null,null,null,null,null,null,null,null,null,null,null,null,null,null,null,null,null,null,null,null,null,null,null,null,null,null,null,null,null,null,null,null,null,null,null,null,{"$f":"IF(AO190=0,\"\",'SV-Salzhausen'!C12)","v":""},{"$f":"IF(AO190=0,\"\",'SV-Salzhausen'!F12)","v":""},"",{"$f":"IF('SV-Salzhausen'!R12=\"\",0,'SV-Salzhausen'!R12)","v":0},{"$f":"IF('SV-Salzhausen'!U12=\"\",0,'SV-Salzhausen'!U12)","v":0},null,{"$f":"IF(AU190=0,\"\",'SV-Wetzen'!C93)","v":""},{"$f":"IF(AU190=0,\"\",'SV-Wetzen'!F93)","v":""},"",{"$f":"IF('SV-Wetzen'!R93=\"\",0,'SV-Wetzen'!R93)","v":0},{"$f":"IF('SV-Wetzen'!U93=\"\",0,'SV-Wetzen'!U93)","v":0}]
[null,null,null,null,null,null,null,null,null,null,null,null,null,null,null,null,null,null,null,null,null,null,null,null,null,null,null,null,null,null,null,null,null,null,null,null,null,{"$f":"IF(AO191=0,\"\",'SV-Salzhausen'!C62)","v":""},{"$f":"IF(AO191=0,\"\",'SV-Salzhausen'!F62)","v":""},"",{"$f":"IF('SV-Salzhausen'!R62=\"\",0,'SV-Salzhausen'!R62)","v":0},{"$f":"IF('SV-Salzhausen'!U62=\"\",0,'SV-Salzhausen'!U62)","v":0},null,{"$f":"IF(AU191=0,\"\",'SV-Wetzen'!C94)","v":""},{"$f":"IF(AU191=0,\"\",'SV-Wetzen'!F94)","v":""},"",{"$f":"IF('SV-Wetzen'!R94=\"\",0,'SV-Wetzen'!R94)","v":0},{"$f":"IF('SV-Wetzen'!U94=\"\",0,'SV-Wetzen'!U94)","v":0}]
[null,null,null,null,null,null,null,null,null,null,null,null,null,null,null,null,null,null,null,null,null,null,null,null,null,null,null,null,null,null,null,null,null,null,null,null,null,{"$f":"IF(AO192=0,\"\",'SV-Salzhausen'!C63)","v":""},{"$f":"IF(AO192=0,\"\",'SV-Salzhausen'!F63)","v":""},"",{"$f":"IF('SV-Salzhausen'!R63=\"\",0,'SV-Salzhausen'!R63)","v":0},{"$f":"IF('SV-Salzhausen'!U63=\"\",0,'SV-Salzhausen'!U63)","v":0},null,{"$f":"IF(AU192=0,\"\",'SV-Wetzen'!C95)","v":""},{"$f":"IF(AU192=0,\"\",'SV-Wetzen'!F95)","v":""},"",{"$f":"IF('SV-Wetzen'!R95=\"\",0,'SV-Wetzen'!R95)","v":0},{"$f":"IF('SV-Wetzen'!U95=\"\",0,'SV-Wetzen'!U95)","v":0}]
[null,null,null,null,null,null,null,null,null,null,null,null,null,null,null,null,null,null,null,null,null,null,null,null,null,null,null,null,null,null,null,null,null,null,null,null,null,{"$f":"IF(AO193=0,\"\",'SV-Salzhausen'!C64)","v":""},{"$f":"IF(AO193=0,\"\",'SV-Salzhausen'!F64)","v":""},"",{"$f":"IF('SV-Salzhausen'!R64=\"\",0,'SV-Salzhausen'!R64)","v":0},{"$f":"IF('SV-Salzhausen'!U64=\"\",0,'SV-Salzhausen'!U64)","v":0},null,{"$f":"IF(AU193=0,\"\",'SV-Wetzen'!C96)","v":""},{"$f":"IF(AU193=0,\"\",'SV-Wetzen'!F96)","v":""},"",{"$f":"IF('SV-Wetzen'!R96=\"\",0,'SV-Wetzen'!R96)","v":0},{"$f":"IF('SV-Wetzen'!U96=\"\",0,'SV-Wetzen'!U96)","v":0}]
[null,null,null,null,null,null,null,null,null,null,null,null,null,null,null,null,null,null,null,null,null,null,null,null,null,null,null,null,null,null,null,null,null,null,null,null,null,{"$f":"IF(AO194=0,\"\",'SV-Salzhausen'!C65)","v":""},{"$f":"IF(AO194=0,\"\",'SV-Salzhausen'!F65)","v":""},"",{"$f":"IF('SV-Salzhausen'!R65=\"\",0,'SV-Salzhausen'!R65)","v":0},{"$f":"IF('SV-Salzhausen'!U65=\"\",0,'SV-Salzhausen'!U65)","v":0},null,{"$f":"IF(AU194=0,\"\",'SV-Wetzen'!C97)","v":""},{"$f":"IF(AU194=0,\"\",'SV-Wetzen'!F97)","v":""},"",{"$f":"IF('SV-Wetzen'!R97=\"\",0,'SV-Wetzen'!R97)","v":0},{"$f":"IF('SV-Wetzen'!U97=\"\",0,'SV-Wetzen'!U97)","v":0}]
[null,null,null,null,null,null,null,null,null,null,null,null,null,null,null,null,null,null,null,null,null,null,null,null,null,null,null,null,null,null,null,null,null,null,null,null,null,{"$f":"IF(AO195=0,\"\",'SV-Salzhausen'!C66)","v":""},{"$f":"IF(AO195=0,\"\",'SV-Salzhausen'!F66)","v":""},"",{"$f":"IF('SV-Salzhausen'!R66=\"\",0,'SV-Salzhausen'!R66)","v":0},{"$f":"IF('SV-Salzhausen'!U66=\"\",0,'SV-Salzhausen'!U66)","v":0},null,{"$f":"IF(AU195=0,\"\",'SV-Wetzen'!C98)","v":""},{"$f":"IF(AU195=0,\"\",'SV-Wetzen'!F98)","v":""},"",{"$f":"IF('SV-Wetzen'!R98=\"\",0,'SV-Wetzen'!R98)","v":0},{"$f":"IF('SV-Wetzen'!U98=\"\",0,'SV-Wetzen'!U98)","v":0}]
[null,null,null,null,null,null,null,null,null,null,null,null,null,null,null,null,null,null,null,null,null,null,null,null,null,null,null,null,null,null,null,null,null,null,null,null,null,{"$f":"IF(AO196=0,\"\",'SV-Salzhausen'!C67)","v":""},{"$f":"IF(AO196=0,\"\",'SV-Salzhausen'!F67)","v":""},"",{"$f":"IF('SV-Salzhausen'!R67=\"\",0,'SV-Salzhausen'!R67)","v":0},{"$f":"IF('SV-Salzhausen'!U67=\"\",0,'SV-Salzhausen'!U67)","v":0},null,{"$f":"IF(AU196=0,\"\",'SV-Wetzen'!C99)","v":""},{"$f":"IF(AU196=0,\"\",'SV-Wetzen'!F99)","v":""},"",{"$f":"IF('SV-Wetzen'!R99=\"\",0,'SV-Wetzen'!R99)","v":0},{"$f":"IF('SV-Wetzen'!U99=\"\",0,'SV-Wetzen'!U99)","v":0}]
[null,null,null,null,null,null,null,null,null,null,null,null,null,null,null,null,null,null,null,null,null,null,null,null,null,null,null,null,null,null,null,null,null,null,null,null,null,{"$f":"IF(AO197=0,\"\",'SV-Salzhausen'!C68)","v":""},{"$f":"IF(AO197=0,\"\",'SV-Salzhausen'!F68)","v":""},"",{"$f":"IF('SV-Salzhausen'!R68=\"\",0,'SV-Salzhausen'!R68)","v":0},{"$f":"IF('SV-Salzhausen'!U68=\"\",0,'SV-Salzhausen'!U68)","v":0},null,{"$f":"IF(AU197=0,\"\",'SV-Wetzen'!C100)","v":""},{"$f":"IF(AU197=0,\"\",'SV-Wetzen'!F100)","v":""},"",{"$f":"IF('SV-Wetzen'!R100=\"\",0,'SV-Wetzen'!R100)","v":0},{"$f":"IF('SV-Wetzen'!U100=\"\",0,'SV-Wetzen'!U100)","v":0}]
[null,null,null,null,null,null,null,null,null,null,null,null,null,null,null,null,null,null,null,null,null,null,null,null,null,null,null,null,null,null,null,null,null,null,null,null,null,{"$f":"IF(AO198=0,\"\",'SV-Salzhausen'!C69)","v":""},{"$f":"IF(AO198=0,\"\",'SV-Salzhausen'!F69)","v":""},"",{"$f":"IF('SV-Salzhausen'!R69=\"\",0,'SV-Salzhausen'!R69)","v":0},{"$f":"IF('SV-Salzhausen'!U69=\"\",0,'SV-Salzhausen'!U69)","v":0},null,{"$f":"IF(AU198=0,\"\",'SV-Wetzen'!C101)","v":""},{"$f":"IF(AU198=0,\"\",'SV-Wetzen'!F101)","v":""},"",{"$f":"IF('SV-Wetzen'!R101=\"\",0,'SV-Wetzen'!R101)","v":0},{"$f":"IF('SV-Wetzen'!U101=\"\",0,'SV-Wetzen'!U101)","v":0}]
[null,null,null,null,null,null,null,null,null,null,null,null,null,null,null,null,null,null,null,null,null,null,null,null,null,null,null,null,null,null,null,null,null,null,null,null,null,{"$f":"IF(AO199=0,\"\",'SV-Salzhausen'!C70)","v":""},{"$f":"IF(AO199=0,\"\",'SV-Salzhausen'!F70)","v":""},"",{"$f":"IF('SV-Salzhausen'!R70=\"\",0,'SV-Salzhausen'!R70)","v":0},{"$f":"IF('SV-Salzhausen'!U70=\"\",0,'SV-Salzhausen'!U70)","v":0},null,{"$f":"IF(AU199=0,\"\",'SV-Wetzen'!C102)","v":""},{"$f":"IF(AU199=0,\"\",'SV-Wetzen'!F102)","v":""},"",{"$f":"IF('SV-Wetzen'!R102=\"\",0,'SV-Wetzen'!R102)","v":0},{"$f":"IF('SV-Wetzen'!U102=\"\",0,'SV-Wetzen'!U102)","v":0}]
[null,null,null,null,null,null,null,null,null,null,null,null,null,null,null,null,null,null,null,null,null,null,null,null,null,null,null,null,null,null,null,null,null,null,null,null,null,{"$f":"IF(AO200=0,\"\",'SV-Salzhausen'!C71)","v":""},{"$f":"IF(AO200=0,\"\",'SV-Salzhausen'!F71)","v":""},"",{"$f":"IF('SV-Salzhausen'!R71=\"\",0,'SV-Salzhausen'!R71)","v":0},{"$f":"IF('SV-Salzhausen'!U71=\"\",0,'SV-Salzhausen'!U71)","v":0},null,{"$f":"IF(AU200=0,\"\",'SV-Wetzen'!C103)","v":""},{"$f":"IF(AU200=0,\"\",'SV-Wetzen'!F103)","v":""},"",{"$f":"IF('SV-Wetzen'!R103=\"\",0,'SV-Wetzen'!R103)","v":0},{"$f":"IF('SV-Wetzen'!U103=\"\",0,'SV-Wetzen'!U103)","v":0}]
[null,null,null,null,null,null,null,null,null,null,null,null,null,null,null,null,null,null,null,null,null,null,null,null,null,null,null,null,null,null,null,null,null,null,null,null,null,{"$f":"IF(AO201=0,\"\",'SV-Salzhausen'!C72)","v":""},{"$f":"IF(AO201=0,\"\",'SV-Salzhausen'!F72)","v":""},"",{"$f":"IF('SV-Salzhausen'!R72=\"\",0,'SV-Salzhausen'!R72)","v":0},{"$f":"IF('SV-Salzhausen'!U72=\"\",0,'SV-Salzhausen'!U72)","v":0},null,{"$f":"IF(AU201=0,\"\",'SV-Wetzen'!C104)","v":""},{"$f":"IF(AU201=0,\"\",'SV-Wetzen'!F104)","v":""},"",{"$f":"IF('SV-Wetzen'!R104=\"\",0,'SV-Wetzen'!R104)","v":0},{"$f":"IF('SV-Wetzen'!U104=\"\",0,'SV-Wetzen'!U104)","v":0}]
[null,null,null,null,null,null,null,null,null,null,null,null,null,null,null,null,null,null,null,null,null,null,null,null,null,null,null,null,null,null,null,null,null,null,null,null,null,{"$f":"IF(AO202=0,\"\",'SV-Salzhausen'!C73)","v":""},{"$f":"IF(AO202=0,\"\",'SV-Salzhausen'!F73)","v":""},"",{"$f":"IF('SV-Salzhausen'!R73=\"\",0,'SV-Salzhausen'!R73)","v":0},{"$f":"IF('SV-Salzhausen'!U73=\"\",0,'SV-Salzhausen'!U73)","v":0},null,{"$f":"IF(AU202=0,\"\",'SV-Wetzen'!C105)","v":""},{"$f":"IF(AU202=0,\"\",'SV-Wetzen'!F105)","v":""},"",{"$f":"IF('SV-Wetzen'!R105=\"\",0,'SV-Wetzen'!R105)","v":0},{"$f":"IF('SV-Wetzen'!U105=\"\",0,'SV-Wetzen'!U105)","v":0}]
[null,null,null,null,null,null,null,null,null,null,null,null,null,null,null,null,null,null,null,null,null,null,null,null,null,null,null,null,null,null,null,null,null,null,null,null,null,{"$f":"IF(AO203=0,\"\",'SV-Salzhausen'!C74)","v":""},{"$f":"IF(AO203=0,\"\",'SV-Salzhausen'!F74)","v":""},"",{"$f":"IF('SV-Salzhausen'!R74=\"\",0,'SV-Salzhausen'!R74)","v":0},{"$f":"IF('SV-Salzhausen'!U74=\"\",0,'SV-Salzhausen'!U74)","v":0}]
[null,null,null,null,null,null,null,null,null,null,null,null,null,null,null,null,null,null,null,null,null,null,null,null,null,null,null,null,null,null,null,null,null,null,null,null,null,{"$f":"IF(AO204=0,\"\",'SV-Salzhausen'!C75)","v":""},{"$f":"IF(AO204=0,\"\",'SV-Salzhausen'!F75)","v":""},"",{"$f":"IF('SV-Salzhausen'!R75=\"\",0,'SV-Salzhausen'!R75)","v":0},{"$f":"IF('SV-Salzhausen'!U75=\"\",0,'SV-Salzhausen'!U75)","v":0}]
[null,null,null,null,null,null,null,null,null,null,null,null,null,null,null,null,null,null,null,null,null,null,null,null,null,null,null,null,null,null,null,null,null,null,null,null,null,{"$f":"IF(AO205=0,\"\",'SV-Salzhausen'!C76)","v":""},{"$f":"IF(AO205=0,\"\",'SV-Salzhausen'!F76)","v":""},"",{"$f":"IF('SV-Salzhausen'!R76=\"\",0,'SV-Salzhausen'!R76)","v":0},{"$f":"IF('SV-Salzhausen'!U76=\"\",0,'SV-Salzhausen'!U76)","v":0}]
[null,null,null,null,null,null,null,null,null,null,null,null,null,null,null,null,null,null,null,null,null,null,null,null,null,null,null,null,null,null,null,null,null,null,null,null,null,{"$f":"IF(AO206=0,\"\",'SV-Salzhausen'!C77)","v":""},{"$f":"IF(AO206=0,\"\",'SV-Salzhausen'!F77)","v":""},"",{"$f":"IF('SV-Salzhausen'!R77=\"\",0,'SV-Salzhausen'!R77)","v":0},{"$f":"IF('SV-Salzhausen'!U77=\"\",0,'SV-Salzhausen'!U77)","v":0}]
[null,null,null,null,null,null,null,null,null,null,null,null,null,null,null,null,null,null,null,null,null,null,null,null,null,null,null,null,null,null,null,null,null,null,null,null,null,{"$f":"IF(AO207=0,\"\",'SV-Salzhausen'!C78)","v":""},{"$f":"IF(AO207=0,\"\",'SV-Salzhausen'!F78)","v":""},"",{"$f":"IF('SV-Salzhausen'!R78=\"\",0,'SV-Salzhausen'!R78)","v":0},{"$f":"IF('SV-Salzhausen'!U78=\"\",0,'SV-Salzhausen'!U78)","v":0}]
[null,null,null,null,null,null,null,null,null,null,null,null,null,null,null,null,null,null,null,null,null,null,null,null,null,null,null,null,null,null,null,null,null,null,null,null,null,{"$f":"IF(AO208=0,\"\",'SV-Salzhausen'!C79)","v":""},{"$f":"IF(AO208=0,\"\",'SV-Salzhausen'!F79)","v":""},"",{"$f":"IF('SV-Salzhausen'!R79=\"\",0,'SV-Salzhausen'!R79)","v":0},{"$f":"IF('SV-Salzhausen'!U79=\"\",0,'SV-Salzhausen'!U79)","v":0}]
[null,null,null,null,null,null,null,null,null,null,null,null,null,null,null,null,null,null,null,null,null,null,null,null,null,null,null,null,null,null,null,null,null,null,null,null,null,{"$f":"IF(AO209=0,\"\",'SV-Salzhausen'!C80)","v":""},{"$f":"IF(AO209=0,\"\",'SV-Salzhausen'!F80)","v":""},"",{"$f":"IF('SV-Salzhausen'!R80=\"\",0,'SV-Salzhausen'!R80)","v":0},{"$f":"IF('SV-Salzhausen'!U80=\"\",0,'SV-Salzhausen'!U80)","v":0}]
[null,null,null,null,null,null,null,null,null,null,null,null,null,null,null,null,null,null,null,null,null,null,null,null,null,null,null,null,null,null,null,null,null,null,null,null,null,{"$f":"IF(AO210=0,\"\",'SV-Salzhausen'!C81)","v":""},{"$f":"IF(AO210=0,\"\",'SV-Salzhausen'!F81)","v":""},"",{"$f":"IF('SV-Salzhausen'!R81=\"\",0,'SV-Salzhausen'!R81)","v":0},{"$f":"IF('SV-Salzhausen'!U81=\"\",0,'SV-Salzhausen'!U81)","v":0}]
[null,null,null,null,null,null,null,null,null,null,null,null,null,null,null,null,null,null,null,null,null,null,null,null,null,null,null,null,null,null,null,null,null,null,null,null,null,{"$f":"IF(AO211=0,\"\",'SV-Toppenstedt'!C7)","v":""},{"$f":"IF(AO211=0,\"\",'SV-Toppenstedt'!F7)","v":""},{"$f":"IF(AM211=\"\",\"\",\"SV-Toppenstedt\")","v":""},{"$f":"IF('SV-Toppenstedt'!R7=\"\",0,'SV-Toppenstedt'!R7)","v":0},{"$f":"IF('SV-Toppenstedt'!U7=\"\",0,'SV-Toppenstedt'!U7)","v":0}]
[null,null,null,null,null,null,null,null,null,null,null,null,null,null,null,null,null,null,null,null,null,null,null,null,null,null,null,null,null,null,null,null,null,null,null,null,null,{"$f":"IF(AO212=0,\"\",'SV-Toppenstedt'!C8)","v":""},{"$f":"IF(AO212=0,\"\",'SV-Toppenstedt'!F8)","v":""},{"$f":"IF(AM212=\"\",\"\",\"SV-Toppenstedt\")","v":""},{"$f":"IF('SV-Toppenstedt'!R8=\"\",0,'SV-Toppenstedt'!R8)","v":0},{"$f":"IF('SV-Toppenstedt'!U8=\"\",0,'SV-Toppenstedt'!U8)","v":0}]
[null,null,null,null,null,null,null,null,null,null,null,null,null,null,null,null,null,null,null,null,null,null,null,null,null,null,null,null,null,null,null,null,null,null,null,null,null,{"$f":"IF(AO213=0,\"\",'SV-Toppenstedt'!C9)","v":""},{"$f":"IF(AO213=0,\"\",'SV-Toppenstedt'!F9)","v":""},"",{"$f":"IF('SV-Toppenstedt'!R9=\"\",0,'SV-Toppenstedt'!R9)","v":0},{"$f":"IF('SV-Toppenstedt'!U9=\"\",0,'SV-Toppenstedt'!U9)","v":0}]
[null,null,null,null,null,null,null,null,null,null,null,null,null,null,null,null,null,null,null,null,null,null,null,null,null,null,null,null,null,null,null,null,null,null,null,null,null,{"$f":"IF(AO214=0,\"\",'SV-Toppenstedt'!C10)","v":""},{"$f":"IF(AO214=0,\"\",'SV-Toppenstedt'!F10)","v":""},"",{"$f":"IF('SV-Toppenstedt'!R10=\"\",0,'SV-Toppenstedt'!R10)","v":0},{"$f":"IF('SV-Toppenstedt'!U10=\"\",0,'SV-Toppenstedt'!U10)","v":0}]
[null,null,null,null,null,null,null,null,null,null,null,null,null,null,null,null,null,null,null,null,null,null,null,null,null,null,null,null,null,null,null,null,null,null,null,null,null,{"$f":"IF(AO215=0,\"\",'SV-Toppenstedt'!C11)","v":""},{"$f":"IF(AO215=0,\"\",'SV-Toppenstedt'!F11)","v":""},"",{"$f":"IF('SV-Toppenstedt'!R11=\"\",0,'SV-Toppenstedt'!R11)","v":0},{"$f":"IF('SV-Toppenstedt'!U11=\"\",0,'SV-Toppenstedt'!U11)","v":0}]
[null,null,null,null,null,null,null,null,null,null,null,null,null,null,null,null,null,null,null,null,null,null,null,null,null,null,null,null,null,null,null,null,null,null,null,null,null,{"$f":"IF(AO216=0,\"\",'SV-Toppenstedt'!C12)","v":""},{"$f":"IF(AO216=0,\"\",'SV-Toppenstedt'!F12)","v":""},"",{"$f":"IF('SV-Toppenstedt'!R12=\"\",0,'SV-Toppenstedt'!R12)","v":0},{"$f":"IF('SV-Toppenstedt'!U12=\"\",0,'SV-Toppenstedt'!U12)","v":0}]
[null,null,null,null,null,null,null,null,null,null,null,null,null,null,null,null,null,null,null,null,null,null,null,null,null,null,null,null,null,null,null,null,null,null,null,null,null,{"$f":"IF(AO217=0,\"\",'SV-Toppenstedt'!C62)","v":""},{"$f":"IF(AO217=0,\"\",'SV-Toppenstedt'!F62)","v":""},"",{"$f":"IF('SV-Toppenstedt'!R62=\"\",0,'SV-Toppenstedt'!R62)","v":0},{"$f":"IF('SV-Toppenstedt'!U62=\"\",0,'SV-Toppenstedt'!U62)","v":0}]
[null,null,null,null,null,null,null,null,null,null,null,null,null,null,null,null,null,null,null,null,null,null,null,null,null,null,null,null,null,null,null,null,null,null,null,null,null,{"$f":"IF(AO218=0,\"\",'SV-Toppenstedt'!C63)","v":""},{"$f":"IF(AO218=0,\"\",'SV-Toppenstedt'!F63)","v":""},"",{"$f":"IF('SV-Toppenstedt'!R63=\"\",0,'SV-Toppenstedt'!R63)","v":0},{"$f":"IF('SV-Toppenstedt'!U63=\"\",0,'SV-Toppenstedt'!U63)","v":0}]
[null,null,null,null,null,null,null,null,null,null,null,null,null,null,null,null,null,null,null,null,null,null,null,null,null,null,null,null,null,null,null,null,null,null,null,null,null,{"$f":"IF(AO219=0,\"\",'SV-Toppenstedt'!C64)","v":""},{"$f":"IF(AO219=0,\"\",'SV-Toppenstedt'!F64)","v":""},"",{"$f":"IF('SV-Toppenstedt'!R64=\"\",0,'SV-Toppenstedt'!R64)","v":0},{"$f":"IF('SV-Toppenstedt'!U64=\"\",0,'SV-Toppenstedt'!U64)","v":0}]
[null,null,null,null,null,null,null,null,null,null,null,null,null,null,null,null,null,null,null,null,null,null,null,null,null,null,null,null,null,null,null,null,null,null,null,null,null,{"$f":"IF(AO220=0,\"\",'SV-Toppenstedt'!C65)","v":""},{"$f":"IF(AO220=0,\"\",'SV-Toppenstedt'!F65)","v":""},"",{"$f":"IF('SV-Toppenstedt'!R65=\"\",0,'SV-Toppenstedt'!R65)","v":0},{"$f":"IF('SV-Toppenstedt'!U65=\"\",0,'SV-Toppenstedt'!U65)","v":0}]
[null,null,null,null,null,null,null,null,null,null,null,null,null,null,null,null,null,null,null,null,null,null,null,null,null,null,null,null,null,null,null,null,null,null,null,null,null,{"$f":"IF(AO221=0,\"\",'SV-Toppenstedt'!C66)","v":""},{"$f":"IF(AO221=0,\"\",'SV-Toppenstedt'!F66)","v":""},"",{"$f":"IF('SV-Toppenstedt'!R66=\"\",0,'SV-Toppenstedt'!R66)","v":0},{"$f":"IF('SV-Toppenstedt'!U66=\"\",0,'SV-Toppenstedt'!U66)","v":0}]
[null,null,null,null,null,null,null,null,null,null,null,null,null,null,null,null,null,null,null,null,null,null,null,null,null,null,null,null,null,null,null,null,null,null,null,null,null,{"$f":"IF(AO222=0,\"\",'SV-Toppenstedt'!C67)","v":""},{"$f":"IF(AO222=0,\"\",'SV-Toppenstedt'!F67)","v":""},"",{"$f":"IF('SV-Toppenstedt'!R67=\"\",0,'SV-Toppenstedt'!R67)","v":0},{"$f":"IF('SV-Toppenstedt'!U67=\"\",0,'SV-Toppenstedt'!U67)","v":0}]
[null,null,null,null,null,null,null,null,null,null,null,null,null,null,null,null,null,null,null,null,null,null,null,null,null,null,null,null,null,null,null,null,null,null,null,null,null,{"$f":"IF(AO223=0,\"\",'SV-Toppenstedt'!C68)","v":""},{"$f":"IF(AO223=0,\"\",'SV-Toppenstedt'!F68)","v":""},"",{"$f":"IF('SV-Toppenstedt'!R68=\"\",0,'SV-Toppenstedt'!R68)","v":0},{"$f":"IF('SV-Toppenstedt'!U68=\"\",0,'SV-Toppenstedt'!U68)","v":0}]
[null,null,null,null,null,null,null,null,null,null,null,null,null,null,null,null,null,null,null,null,null,null,null,null,null,null,null,null,null,null,null,null,null,null,null,null,null,{"$f":"IF(AO224=0,\"\",'SV-Toppenstedt'!C69)","v":""},{"$f":"IF(AO224=0,\"\",'SV-Toppenstedt'!F69)","v":""},"",{"$f":"IF('SV-Toppenstedt'!R69=\"\",0,'SV-Toppenstedt'!R69)","v":0},{"$f":"IF('SV-Toppenstedt'!U69=\"\",0,'SV-Toppenstedt'!U69)","v":0}]
[null,null,null,null,null,null,null,null,null,null,null,null,null,null,null,null,null,null,null,null,null,null,null,null,null,null,null,null,null,null,null,null,null,null,null,null,null,{"$f":"IF(AO225=0,\"\",'SV-Toppenstedt'!C70)","v":""},{"$f":"IF(AO225=0,\"\",'SV-Toppenstedt'!F70)","v":""},"",{"$f":"IF('SV-Toppenstedt'!R70=\"\",0,'SV-Toppenstedt'!R70)","v":0},{"$f":"IF('SV-Toppenstedt'!U70=\"\",0,'SV-Toppenstedt'!U70)","v":0}]
[null,null,null,null,null,null,null,null,null,null,null,null,null,null,null,null,null,null,null,null,null,null,null,null,null,null,null,null,null,null,null,null,null,null,null,null,null,{"$f":"IF(AO226=0,\"\",'SV-Toppenstedt'!C71)","v":""},{"$f":"IF(AO226=0,\"\",'SV-Toppenstedt'!F71)","v":""},"",{"$f":"IF('SV-Toppenstedt'!R71=\"\",0,'SV-Toppenstedt'!R71)","v":0},{"$f":"IF('SV-Toppenstedt'!U71=\"\",0,'SV-Toppenstedt'!U71)","v":0}]
[null,null,null,null,null,null,null,null,null,null,null,null,null,null,null,null,null,null,null,null,null,null,null,null,null,null,null,null,null,null,null,null,null,null,null,null,null,{"$f":"IF(AO227=0,\"\",'SV-Toppenstedt'!C72)","v":""},{"$f":"IF(AO227=0,\"\",'SV-Toppenstedt'!F72)","v":""},"",{"$f":"IF('SV-Toppenstedt'!R72=\"\",0,'SV-Toppenstedt'!R72)","v":0},{"$f":"IF('SV-Toppenstedt'!U72=\"\",0,'SV-Toppenstedt'!U72)","v":0}]
[null,null,null,null,null,null,null,null,null,null,null,null,null,null,null,null,null,null,null,null,null,null,null,null,null,null,null,null,null,null,null,null,null,null,null,null,null,{"$f":"IF(AO228=0,\"\",'SV-Toppenstedt'!C73)","v":""},{"$f":"IF(AO228=0,\"\",'SV-Toppenstedt'!F73)","v":""},"",{"$f":"IF('SV-Toppenstedt'!R73=\"\",0,'SV-Toppenstedt'!R73)","v":0},{"$f":"IF('SV-Toppenstedt'!U73=\"\",0,'SV-Toppenstedt'!U73)","v":0}]
[null,null,null,null,null,null,null,null,null,null,null,null,null,null,null,null,null,null,null,null,null,null,null,null,null,null,null,null,null,null,null,null,null,null,null,null,null,{"$f":"IF(AO229=0,\"\",'SV-Toppenstedt'!C74)","v":""},{"$f":"IF(AO229=0,\"\",'SV-Toppenstedt'!F74)","v":""},"",{"$f":"IF('SV-Toppenstedt'!R74=\"\",0,'SV-Toppenstedt'!R74)","v":0},{"$f":"IF('SV-Toppenstedt'!U74=\"\",0,'SV-Toppenstedt'!U74)","v":0}]
[null,null,null,null,null,null,null,null,null,null,null,null,null,null,null,null,null,null,null,null,null,null,null,null,null,null,null,null,null,null,null,null,null,null,null,null,null,{"$f":"IF(AO230=0,\"\",'SV-Toppenstedt'!C75)","v":""},{"$f":"IF(AO230=0,\"\",'SV-Toppenstedt'!F75)","v":""},"",{"$f":"IF('SV-Toppenstedt'!R75=\"\",0,'SV-Toppenstedt'!R75)","v":0},{"$f":"IF('SV-Toppenstedt'!U75=\"\",0,'SV-Toppenstedt'!U75)","v":0}]
[null,null,null,null,null,null,null,null,null,null,null,null,null,null,null,null,null,null,null,null,null,null,null,null,null,null,null,null,null,null,null,null,null,null,null,null,null,{"$f":"IF(AO231=0,\"\",'SV-Toppenstedt'!C76)","v":""},{"$f":"IF(AO231=0,\"\",'SV-Toppenstedt'!F76)","v":""},"",{"$f":"IF('SV-Toppenstedt'!R76=\"\",0,'SV-Toppenstedt'!R76)","v":0},{"$f":"IF('SV-Toppenstedt'!U76=\"\",0,'SV-Toppenstedt'!U76)","v":0}]
[null,null,null,null,null,null,null,null,null,null,null,null,null,null,null,null,null,null,null,null,null,null,null,null,null,null,null,null,null,null,null,null,null,null,null,null,null,{"$f":"IF(AO232=0,\"\",'SV-Toppenstedt'!C77)","v":""},{"$f":"IF(AO232=0,\"\",'SV-Toppenstedt'!F77)","v":""},"",{"$f":"IF('SV-Toppenstedt'!R77=\"\",0,'SV-Toppenstedt'!R77)","v":0},{"$f":"IF('SV-Toppenstedt'!U77=\"\",0,'SV-Toppenstedt'!U77)","v":0}]
[null,null,null,null,null,null,null,null,null,null,null,null,null,null,null,null,null,null,null,null,null,null,null,null,null,null,null,null,null,null,null,null,null,null,null,null,null,{"$f":"IF(AO233=0,\"\",'SV-Toppenstedt'!C78)","v":""},{"$f":"IF(AO233=0,\"\",'SV-Toppenstedt'!F78)","v":""},"",{"$f":"IF('SV-Toppenstedt'!R78=\"\",0,'SV-Toppenstedt'!R78)","v":0},{"$f":"IF('SV-Toppenstedt'!U78=\"\",0,'SV-Toppenstedt'!U78)","v":0}]
[null,null,null,null,null,null,null,null,null,null,null,null,null,null,null,null,null,null,null,null,null,null,null,null,null,null,null,null,null,null,null,null,null,null,null,null,null,{"$f":"IF(AO234=0,\"\",'SV-Toppenstedt'!C79)","v":""},{"$f":"IF(AO234=0,\"\",'SV-Toppenstedt'!F79)","v":""},"",{"$f":"IF('SV-Toppenstedt'!R79=\"\",0,'SV-Toppenstedt'!R79)","v":0},{"$f":"IF('SV-Toppenstedt'!U79=\"\",0,'SV-Toppenstedt'!U79)","v":0}]
[null,null,null,null,null,null,null,null,null,null,null,null,null,null,null,null,null,null,null,null,null,null,null,null,null,null,null,null,null,null,null,null,null,null,null,null,null,{"$f":"IF(AO235=0,\"\",'SV-Toppenstedt'!C80)","v":""},{"$f":"IF(AO235=0,\"\",'SV-Toppenstedt'!F80)","v":""},"",{"$f":"IF('SV-Toppenstedt'!R80=\"\",0,'SV-Toppenstedt'!R80)","v":0},{"$f":"IF('SV-Toppenstedt'!U80=\"\",0,'SV-Toppenstedt'!U80)","v":0}]
[null,null,null,null,null,null,null,null,null,null,null,null,null,null,null,null,null,null,null,null,null,null,null,null,null,null,null,null,null,null,null,null,null,null,null,null,null,{"$f":"IF(AO236=0,\"\",'SV-Toppenstedt'!C81)","v":""},{"$f":"IF(AO236=0,\"\",'SV-Toppenstedt'!F81)","v":""},"",{"$f":"IF('SV-Toppenstedt'!R81=\"\",0,'SV-Toppenstedt'!R81)","v":0},{"$f":"IF('SV-Toppenstedt'!U81=\"\",0,'SV-Toppenstedt'!U81)","v":0}]
[null,null,null,null,null,null,null,null,null,null,null,null,null,null,null,null,null,null,null,null,null,null,null,null,null,null,null,null,null,null,null,null,null,null,null,null,null,{"$f":"IF(AO237=0,\"\",'SV-Wetzen'!C7)","v":""},{"$f":"IF(AO237=0,\"\",'SV-Wetzen'!F7)","v":""},{"$f":"IF(AM237=\"\",\"\",\"SV-Wetzen\")","v":""},{"$f":"IF('SV-Wetzen'!R7=\"\",0,'SV-Wetzen'!R7)","v":0},{"$f":"IF('SV-Wetzen'!U7=\"\",0,'SV-Wetzen'!U7)","v":0}]
[null,null,null,null,null,null,null,null,null,null,null,null,null,null,null,null,null,null,null,null,null,null,null,null,null,null,null,null,null,null,null,null,null,null,null,null,null,{"$f":"IF(AO238=0,\"\",'SV-Wetzen'!C8)","v":""},{"$f":"IF(AO238=0,\"\",'SV-Wetzen'!F8)","v":""},{"$f":"IF(AM238=\"\",\"\",\"SV-Wetzen\")","v":""},{"$f":"IF('SV-Wetzen'!R8=\"\",0,'SV-Wetzen'!R8)","v":0},{"$f":"IF('SV-Wetzen'!U8=\"\",0,'SV-Wetzen'!U8)","v":0}]
[null,null,null,null,null,null,null,null,null,null,null,null,null,null,null,null,null,null,null,null,null,null,null,null,null,null,null,null,null,null,null,null,null,null,null,null,null,{"$f":"IF(AO239=0,\"\",'SV-Wetzen'!C9)","v":""},{"$f":"IF(AO239=0,\"\",'SV-Wetzen'!F9)","v":""},"",{"$f":"IF('SV-Wetzen'!R9=\"\",0,'SV-Wetzen'!R9)","v":0},{"$f":"IF('SV-Wetzen'!U9=\"\",0,'SV-Wetzen'!U9)","v":0}]
[null,null,null,null,null,null,null,null,null,null,null,null,null,null,null,null,null,null,null,null,null,null,null,null,null,null,null,null,null,null,null,null,null,null,null,null,null,{"$f":"IF(AO240=0,\"\",'SV-Wetzen'!C10)","v":""},{"$f":"IF(AO240=0,\"\",'SV-Wetzen'!F10)","v":""},"",{"$f":"IF('SV-Wetzen'!R10=\"\",0,'SV-Wetzen'!R10)","v":0},{"$f":"IF('SV-Wetzen'!U10=\"\",0,'SV-Wetzen'!U10)","v":0}]
[null,null,null,null,null,null,null,null,null,null,null,null,null,null,null,null,null,null,null,null,null,null,null,null,null,null,null,null,null,null,null,null,null,null,null,null,null,{"$f":"IF(AO241=0,\"\",'SV-Wetzen'!C11)","v":""},{"$f":"IF(AO241=0,\"\",'SV-Wetzen'!F11)","v":""},"",{"$f":"IF('SV-Wetzen'!R11=\"\",0,'SV-Wetzen'!R11)","v":0},{"$f":"IF('SV-Wetzen'!U11=\"\",0,'SV-Wetzen'!U11)","v":0}]
[null,null,null,null,null,null,null,null,null,null,null,null,null,null,null,null,null,null,null,null,null,null,null,null,null,null,null,null,null,null,null,null,null,null,null,null,null,{"$f":"IF(AO242=0,\"\",'SV-Wetzen'!C12)","v":""},{"$f":"IF(AO242=0,\"\",'SV-Wetzen'!F12)","v":""},"",{"$f":"IF('SV-Wetzen'!R12=\"\",0,'SV-Wetzen'!R12)","v":0},{"$f":"IF('SV-Wetzen'!U12=\"\",0,'SV-Wetzen'!U12)","v":0}]
[null,null,null,null,null,null,null,null,null,null,null,null,null,null,null,null,null,null,null,null,null,null,null,null,null,null,null,null,null,null,null,null,null,null,null,null,null,{"$f":"IF(AO243=0,\"\",'SV-Wetzen'!C62)","v":""},{"$f":"IF(AO243=0,\"\",'SV-Wetzen'!F62)","v":""},"",{"$f":"IF('SV-Wetzen'!R62=\"\",0,'SV-Wetzen'!R62)","v":0},{"$f":"IF('SV-Wetzen'!U62=\"\",0,'SV-Wetzen'!U62)","v":0}]
[null,null,null,null,null,null,null,null,null,null,null,null,null,null,null,null,null,null,null,null,null,null,null,null,null,null,null,null,null,null,null,null,null,null,null,null,null,{"$f":"IF(AO244=0,\"\",'SV-Wetzen'!C63)","v":""},{"$f":"IF(AO244=0,\"\",'SV-Wetzen'!F63)","v":""},"",{"$f":"IF('SV-Wetzen'!R63=\"\",0,'SV-Wetzen'!R63)","v":0},{"$f":"IF('SV-Wetzen'!U63=\"\",0,'SV-Wetzen'!U63)","v":0}]
[null,null,null,null,null,null,null,null,null,null,null,null,null,null,null,null,null,null,null,null,null,null,null,null,null,null,null,null,null,null,null,null,null,null,null,null,null,{"$f":"IF(AO245=0,\"\",'SV-Wetzen'!C64)","v":""},{"$f":"IF(AO245=0,\"\",'SV-Wetzen'!F64)","v":""},"",{"$f":"IF('SV-Wetzen'!R64=\"\",0,'SV-Wetzen'!R64)","v":0},{"$f":"IF('SV-Wetzen'!U64=\"\",0,'SV-Wetzen'!U64)","v":0}]
[null,null,null,null,null,null,null,null,null,null,null,null,null,null,null,null,null,null,null,null,null,null,null,null,null,null,null,null,null,null,null,null,null,null,null,null,null,{"$f":"IF(AO246=0,\"\",'SV-Wetzen'!C65)","v":""},{"$f":"IF(AO246=0,\"\",'SV-Wetzen'!F65)","v":""},"",{"$f":"IF('SV-Wetzen'!R65=\"\",0,'SV-Wetzen'!R65)","v":0},{"$f":"IF('SV-Wetzen'!U65=\"\",0,'SV-Wetzen'!U65)","v":0}]
[null,null,null,null,null,null,null,null,null,null,null,null,null,null,null,null,null,null,null,null,null,null,null,null,null,null,null,null,null,null,null,null,null,null,null,null,null,{"$f":"IF(AO247=0,\"\",'SV-Wetzen'!C66)","v":""},{"$f":"IF(AO247=0,\"\",'SV-Wetzen'!F66)","v":""},"",{"$f":"IF('SV-Wetzen'!R66=\"\",0,'SV-Wetzen'!R66)","v":0},{"$f":"IF('SV-Wetzen'!U66=\"\",0,'SV-Wetzen'!U66)","v":0}]
[null,null,null,null,null,null,null,null,null,null,null,null,null,null,null,null,null,null,null,null,null,null,null,null,null,null,null,null,null,null,null,null,null,null,null,null,null,{"$f":"IF(AO248=0,\"\",'SV-Wetzen'!C67)","v":""},{"$f":"IF(AO248=0,\"\",'SV-Wetzen'!F67)","v":""},"",{"$f":"IF('SV-Wetzen'!R67=\"\",0,'SV-Wetzen'!R67)","v":0},{"$f":"IF('SV-Wetzen'!U67=\"\",0,'SV-Wetzen'!U67)","v":0}]
[null,null,null,null,null,null,null,null,null,null,null,null,null,null,null,null,null,null,null,null,null,null,null,null,null,null,null,null,null,null,null,null,null,null,null,null,null,{"$f":"IF(AO249=0,\"\",'SV-Wetzen'!C68)","v":""},{"$f":"IF(AO249=0,\"\",'SV-Wetzen'!F68)","v":""},"",{"$f":"IF('SV-Wetzen'!R68=\"\",0,'SV-Wetzen'!R68)","v":0},{"$f":"IF('SV-Wetzen'!U68=\"\",0,'SV-Wetzen'!U68)","v":0}]
[null,null,null,null,null,null,null,null,null,null,null,null,null,null,null,null,null,null,null,null,null,null,null,null,null,null,null,null,null,null,null,null,null,null,null,null,null,{"$f":"IF(AO250=0,\"\",'SV-Wetzen'!C69)","v":""},{"$f":"IF(AO250=0,\"\",'SV-Wetzen'!F69)","v":""},"",{"$f":"IF('SV-Wetzen'!R69=\"\",0,'SV-Wetzen'!R69)","v":0},{"$f":"IF('SV-Wetzen'!U69=\"\",0,'SV-Wetzen'!U69)","v":0}]
[null,null,null,null,null,null,null,null,null,null,null,null,null,null,null,null,null,null,null,null,null,null,null,null,null,null,null,null,null,null,null,null,null,null,null,null,null,{"$f":"IF(AO251=0,\"\",'SV-Wetzen'!C70)","v":""},{"$f":"IF(AO251=0,\"\",'SV-Wetzen'!F70)","v":""},"",{"$f":"IF('SV-Wetzen'!R70=\"\",0,'SV-Wetzen'!R70)","v":0},{"$f":"IF('SV-Wetzen'!U70=\"\",0,'SV-Wetzen'!U70)","v":0}]
[null,null,null,null,null,null,null,null,null,null,null,null,null,null,null,null,null,null,null,null,null,null,null,null,null,null,null,null,null,null,null,null,null,null,null,null,null,{"$f":"IF(AO252=0,\"\",'SV-Wetzen'!C71)","v":""},{"$f":"IF(AO252=0,\"\",'SV-Wetzen'!F71)","v":""},"",{"$f":"IF('SV-Wetzen'!R71=\"\",0,'SV-Wetzen'!R71)","v":0},{"$f":"IF('SV-Wetzen'!U71=\"\",0,'SV-Wetzen'!U71)","v":0}]
[null,null,null,null,null,null,null,null,null,null,null,null,null,null,null,null,null,null,null,null,null,null,null,null,null,null,null,null,null,null,null,null,null,null,null,null,null,{"$f":"IF(AO253=0,\"\",'SV-Wetzen'!C72)","v":""},{"$f":"IF(AO253=0,\"\",'SV-Wetzen'!F72)","v":""},"",{"$f":"IF('SV-Wetzen'!R72=\"\",0,'SV-Wetzen'!R72)","v":0},{"$f":"IF('SV-Wetzen'!U72=\"\",0,'SV-Wetzen'!U72)","v":0}]
[null,null,null,null,null,null,null,null,null,null,null,null,null,null,null,null,null,null,null,null,null,null,null,null,null,null,null,null,null,null,null,null,null,null,null,null,null,{"$f":"IF(AO254=0,\"\",'SV-Wetzen'!C73)","v":""},{"$f":"IF(AO254=0,\"\",'SV-Wetzen'!F73)","v":""},"",{"$f":"IF('SV-Wetzen'!R73=\"\",0,'SV-Wetzen'!R73)","v":0},{"$f":"IF('SV-Wetzen'!U73=\"\",0,'SV-Wetzen'!U73)","v":0}]
[null,null,null,null,null,null,null,null,null,null,null,null,null,null,null,null,null,null,null,null,null,null,null,null,null,null,null,null,null,null,null,null,null,null,null,null,null,{"$f":"IF(AO255=0,\"\",'SV-Wetzen'!C74)","v":""},{"$f":"IF(AO255=0,\"\",'SV-Wetzen'!F74)","v":""},"",{"$f":"IF('SV-Wetzen'!R74=\"\",0,'SV-Wetzen'!R74)","v":0},{"$f":"IF('SV-Wetzen'!U74=\"\",0,'SV-Wetzen'!U74)","v":0}]
[null,null,null,null,null,null,null,null,null,null,null,null,null,null,null,null,null,null,null,null,null,null,null,null,null,null,null,null,null,null,null,null,null,null,null,null,null,{"$f":"IF(AO256=0,\"\",'SV-Wetzen'!C75)","v":""},{"$f":"IF(AO256=0,\"\",'SV-Wetzen'!F75)","v":""},"",{"$f":"IF('SV-Wetzen'!R75=\"\",0,'SV-Wetzen'!R75)","v":0},{"$f":"IF('SV-Wetzen'!U75=\"\",0,'SV-Wetzen'!U75)","v":0}]
[null,null,null,null,null,null,null,null,null,null,null,null,null,null,null,null,null,null,null,null,null,null,null,null,null,null,null,null,null,null,null,null,null,null,null,null,null,{"$f":"IF(AO257=0,\"\",'SV-Wetzen'!C76)","v":""},{"$f":"IF(AO257=0,\"\",'SV-Wetzen'!F76)","v":""},"",{"$f":"IF('SV-Wetzen'!R76=\"\",0,'SV-Wetzen'!R76)","v":0},{"$f":"IF('SV-Wetzen'!U76=\"\",0,'SV-Wetzen'!U76)","v":0}]
[null,null,null,null,null,null,null,null,null,null,null,null,null,null,null,null,null,null,null,null,null,null,null,null,null,null,null,null,null,null,null,null,null,null,null,null,null,{"$f":"IF(AO258=0,\"\",'SV-Wetzen'!C77)","v":""},{"$f":"IF(AO258=0,\"\",'SV-Wetzen'!F77)","v":""},"",{"$f":"IF('SV-Wetzen'!R77=\"\",0,'SV-Wetzen'!R77)","v":0},{"$f":"IF('SV-Wetzen'!U77=\"\",0,'SV-Wetzen'!U77)","v":0}]
[null,null,null,null,null,null,null,null,null,null,null,null,null,null,null,null,null,null,null,null,null,null,null,null,null,null,null,null,null,null,null,null,null,null,null,null,null,{"$f":"IF(AO259=0,\"\",'SV-Wetzen'!C78)","v":""},{"$f":"IF(AO259=0,\"\",'SV-Wetzen'!F78)","v":""},"",{"$f":"IF('SV-Wetzen'!R78=\"\",0,'SV-Wetzen'!R78)","v":0},{"$f":"IF('SV-Wetzen'!U78=\"\",0,'SV-Wetzen'!U78)","v":0}]
[null,null,null,null,null,null,null,null,null,null,null,null,null,null,null,null,null,null,null,null,null,null,null,null,null,null,null,null,null,null,null,null,null,null,null,null,null,{"$f":"IF(AO260=0,\"\",'SV-Wetzen'!C79)","v":""},{"$f":"IF(AO260=0,\"\",'SV-Wetzen'!F79)","v":""},"",{"$f":"IF('SV-Wetzen'!R79=\"\",0,'SV-Wetzen'!R79)","v":0},{"$f":"IF('SV-Wetzen'!U79=\"\",0,'SV-Wetzen'!U79)","v":0}]
[null,null,null,null,null,null,null,null,null,null,null,null,null,null,null,null,null,null,null,null,null,null,null,null,null,null,null,null,null,null,null,null,null,null,null,null,null,{"$f":"IF(AO261=0,\"\",'SV-Wetzen'!C80)","v":""},{"$f":"IF(AO261=0,\"\",'SV-Wetzen'!F80)","v":""},"",{"$f":"IF('SV-Wetzen'!R80=\"\",0,'SV-Wetzen'!R80)","v":0},{"$f":"IF('SV-Wetzen'!U80=\"\",0,'SV-Wetzen'!U80)","v":0}]
[null,null,null,null,null,null,null,null,null,null,null,null,null,null,null,null,null,null,null,null,null,null,null,null,null,null,null,null,null,null,null,null,null,null,null,null,null,{"$f":"IF(AO262=0,\"\",'SV-Wetzen'!C81)","v":""},{"$f":"IF(AO262=0,\"\",'SV-Wetzen'!F81)","v":""},"",{"$f":"IF('SV-Wetzen'!R81=\"\",0,'SV-Wetzen'!R81)","v":0},{"$f":"IF('SV-Wetzen'!U81=\"\",0,'SV-Wetzen'!U81)","v":0}]
[null,null,null,null,null,null,null,null,null,null,null,null,null,null,null,null,null,null,null,null,null,null,null,null,null,null,null,null,null,null,null,null,null,null,null,null,null,{"$f":"IF(AO263=0,\"\",'SV-Soderstorf'!C26)","v":""},{"$f":"IF(AO263=0,\"\",'SV-Soderstorf'!F26)","v":""},{"$f":"IF(AM263=\"\",\"\",\"SV-Soderstorf\")","v":""},{"$f":"IF('SV-Soderstorf'!R26=\"\",0,'SV-Soderstorf'!R26)","v":0},{"$f":"IF('SV-Soderstorf'!U26=\"\",0,'SV-Soderstorf'!U26)","v":0}]
[null,null,null,null,null,null,null,null,null,null,null,null,null,null,null,null,null,null,null,null,null,null,null,null,null,null,null,null,null,null,null,null,null,null,null,null,null,{"$f":"IF(AO264=0,\"\",'SV-Soderstorf'!C27)","v":""},{"$f":"IF(AO264=0,\"\",'SV-Soderstorf'!F27)","v":""},{"$f":"IF(AM264=\"\",\"\",\"SV-Soderstorf\")","v":""},{"$f":"IF('SV-Soderstorf'!R27=\"\",0,'SV-Soderstorf'!R27)","v":0},{"$f":"IF('SV-Soderstorf'!U27=\"\",0,'SV-Soderstorf'!U27)","v":0}]
[null,null,null,null,null,null,null,null,null,null,null,null,null,null,null,null,null,null,null,null,null,null,null,null,null,null,null,null,null,null,null,null,null,null,null,null,null,{"$f":"IF(AO265=0,\"\",'SV-Soderstorf'!C28)","v":""},{"$f":"IF(AO265=0,\"\",'SV-Soderstorf'!F28)","v":""},{"$f":"IF(AM265=\"\",\"\",\"SV-Soderstorf\")","v":""},{"$f":"IF('SV-Soderstorf'!R28=\"\",0,'SV-Soderstorf'!R28)","v":0},{"$f":"IF('SV-Soderstorf'!U28=\"\",0,'SV-Soderstorf'!U28)","v":0}]
[null,null,null,null,null,null,null,null,null,null,null,null,null,null,null,null,null,null,null,null,null,null,null,null,null,null,null,null,null,null,null,null,null,null,null,null,null,{"$f":"IF(AO266=0,\"\",'SV-Egestorf'!C26)","v":""},{"$f":"IF(AO266=0,\"\",'SV-Egestorf'!F26)","v":""},{"$f":"IF(AM266=\"\",\"\",\"SV-Egestorf\")","v":""},{"$f":"IF('SV-Egestorf'!R26=\"\",0,'SV-Egestorf'!R26)","v":0},{"$f":"IF('SV-Egestorf'!U26=\"\",0,'SV-Egestorf'!U26)","v":0}]
[null,null,null,null,null,null,null,null,null,null,null,null,null,null,null,null,null,null,null,null,null,null,null,null,null,null,null,null,null,null,null,null,null,null,null,null,null,{"$f":"IF(AO267=0,\"\",'SV-Egestorf'!C27)","v":""},{"$f":"IF(AO267=0,\"\",'SV-Egestorf'!F27)","v":""},{"$f":"IF(AM267=\"\",\"\",\"SV-Egestorf\")","v":""},{"$f":"IF('SV-Egestorf'!R27=\"\",0,'SV-Egestorf'!R27)","v":0},{"$f":"IF('SV-Egestorf'!U27=\"\",0,'SV-Egestorf'!U27)","v":0}]
[null,null,null,null,null,null,null,null,null,null,null,null,null,null,null,null,null,null,null,null,null,null,null,null,null,null,null,null,null,null,null,null,null,null,null,null,null,{"$f":"IF(AO268=0,\"\",'SV-Egestorf'!C28)","v":""},{"$f":"IF(AO268=0,\"\",'SV-Egestorf'!F28)","v":""},{"$f":"IF(AM268=\"\",\"\",\"SV-Egestorf\")","v":""},{"$f":"IF('SV-Egestorf'!R28=\"\",0,'SV-Egestorf'!R28)","v":0},{"$f":"IF('SV-Egestorf'!U28=\"\",0,'SV-Egestorf'!U28)","v":0}]
[null,null,null,null,null,null,null,null,null,null,null,null,null,null,null,null,null,null,null,null,null,null,null,null,null,null,null,null,null,null,null,null,null,null,null,null,null,{"$f":"IF(AO269=0,\"\",'SV-Evendorf'!C26)","v":""},{"$f":"IF(AO269=0,\"\",'SV-Evendorf'!F26)","v":""},{"$f":"IF(AM269=\"\",\"\",\"SV-Evendorf\")","v":""},{"$f":"IF('SV-Evendorf'!R26=\"\",0,'SV-Evendorf'!R26)","v":0},{"$f":"IF('SV-Evendorf'!U26=\"\",0,'SV-Evendorf'!U26)","v":0}]
[null,null,null,null,null,null,null,null,null,null,null,null,null,null,null,null,null,null,null,null,null,null,null,null,null,null,null,null,null,null,null,null,null,null,null,null,null,{"$f":"IF(AO270=0,\"\",'SV-Evendorf'!C27)","v":""},{"$f":"IF(AO270=0,\"\",'SV-Evendorf'!F27)","v":""},{"$f":"IF(AM270=\"\",\"\",\"SV-Evendorf\")","v":""},{"$f":"IF('SV-Evendorf'!R27=\"\",0,'SV-Evendorf'!R27)","v":0},{"$f":"IF('SV-Evendorf'!U27=\"\",0,'SV-Evendorf'!U27)","v":0}]
[null,null,null,null,null,null,null,null,null,null,null,null,null,null,null,null,null,null,null,null,null,null,null,null,null,null,null,null,null,null,null,null,null,null,null,null,null,{"$f":"IF(AO271=0,\"\",'SV-Evendorf'!C28)","v":""},{"$f":"IF(AO271=0,\"\",'SV-Evendorf'!F28)","v":""},{"$f":"IF(AM271=\"\",\"\",\"SV-Evendorf\")","v":""},{"$f":"IF('SV-Evendorf'!R28=\"\",0,'SV-Evendorf'!R28)","v":0},{"$f":"IF('SV-Evendorf'!U28=\"\",0,'SV-Evendorf'!U28)","v":0}]
[null,null,null,null,null,null,null,null,null,null,null,null,null,null,null,null,null,null,null,null,null,null,null,null,null,null,null,null,null,null,null,null,null,null,null,null,null,{"$f":"IF(AO272=0,\"\",'SV-Eyendorf'!C26)","v":""},{"$f":"IF(AO272=0,\"\",'SV-Eyendorf'!F26)","v":""},{"$f":"IF(AM272=\"\",\"\",\"SV-Eyendorf\")","v":""},{"$f":"IF('SV-Eyendorf'!R26=\"\",0,'SV-Eyendorf'!R26)","v":0},{"$f":"IF('SV-Eyendorf'!U26=\"\",0,'SV-Eyendorf'!U26)","v":0}]
[null,null,null,null,null,null,null,null,null,null,null,null,null,null,null,null,null,null,null,null,null,null,null,null,null,null,null,null,null,null,null,null,null,null,null,null,null,{"$f":"IF(AO273=0,\"\",'SV-Eyendorf'!C27)","v":""},{"$f":"IF(AO273=0,\"\",'SV-Eyendorf'!F27)","v":""},{"$f":"IF(AM273=\"\",\"\",\"SV-Eyendorf\")","v":""},{"$f":"IF('SV-Eyendorf'!R27=\"\",0,'SV-Eyendorf'!R27)","v":0},{"$f":"IF('SV-Eyendorf'!U27=\"\",0,'SV-Eyendorf'!U27)","v":0}]
[null,null,null,null,null,null,null,null,null,null,null,null,null,null,null,null,null,null,null,null,null,null,null,null,null,null,null,null,null,null,null,null,null,null,null,null,null,{"$f":"IF(AO274=0,\"\",'SV-Eyendorf'!C28)","v":""},{"$f":"IF(AO274=0,\"\",'SV-Eyendorf'!F28)","v":""},{"$f":"IF(AM274=\"\",\"\",\"SV-Eyendorf\")","v":""},{"$f":"IF('SV-Eyendorf'!R28=\"\",0,'SV-Eyendorf'!R28)","v":0},{"$f":"IF('SV-Eyendorf'!U28=\"\",0,'SV-Eyendorf'!U28)","v":0}]
[null,null,null,null,null,null,null,null,null,null,null,null,null,null,null,null,null,null,null,null,null,null,null,null,null,null,null,null,null,null,null,null,null,null,null,null,null,{"$f":"IF(AO275=0,\"\",'SV-Garlstorf'!C26)","v":""},{"$f":"IF(AO275=0,\"\",'SV-Garlstorf'!F26)","v":""},{"$f":"IF(AM275=\"\",\"\",\"SV-Garlstorf\")","v":""},{"$f":"IF('SV-Garlstorf'!R26=\"\",0,'SV-Garlstorf'!R26)","v":0},{"$f":"IF('SV-Garlstorf'!U26=\"\",0,'SV-Garlstorf'!U26)","v":0}]
[null,null,null,null,null,null,null,null,null,null,null,null,null,null,null,null,null,null,null,null,null,null,null,null,null,null,null,null,null,null,null,null,null,null,null,null,null,{"$f":"IF(AO276=0,\"\",'SV-Garlstorf'!C27)","v":""},{"$f":"IF(AO276=0,\"\",'SV-Garlstorf'!F27)","v":""},{"$f":"IF(AM276=\"\",\"\",\"SV-Garlstorf\")","v":""},{"$f":"IF('SV-Garlstorf'!R27=\"\",0,'SV-Garlstorf'!R27)","v":0},{"$f":"IF('SV-Garlstorf'!U27=\"\",0,'SV-Garlstorf'!U27)","v":0}]
[null,null,null,null,null,null,null,null,null,null,null,null,null,null,null,null,null,null,null,null,null,null,null,null,null,null,null,null,null,null,null,null,null,null,null,null,null,{"$f":"IF(AO277=0,\"\",'SV-Garlstorf'!C28)","v":""},{"$f":"IF(AO277=0,\"\",'SV-Garlstorf'!F28)","v":""},{"$f":"IF(AM277=\"\",\"\",\"SV-Garlstorf\")","v":""},{"$f":"IF('SV-Garlstorf'!R28=\"\",0,'SV-Garlstorf'!R28)","v":0},{"$f":"IF('SV-Garlstorf'!U28=\"\",0,'SV-Garlstorf'!U28)","v":0}]
[null,null,null,null,null,null,null,null,null,null,null,null,null,null,null,null,null,null,null,null,null,null,null,null,null,null,null,null,null,null,null,null,null,null,null,null,null,{"$f":"IF(AO278=0,\"\",'SV-Garstedt'!C26)","v":""},{"$f":"IF(AO278=0,\"\",'SV-Garstedt'!F26)","v":""},{"$f":"IF(AM278=\"\",\"\",\"SV-Garstedt\")","v":""},{"$f":"IF('SV-Garstedt'!R26=\"\",0,'SV-Garstedt'!R26)","v":0},{"$f":"IF('SV-Garstedt'!U26=\"\",0,'SV-Garstedt'!U26)","v":0}]
[null,null,null,null,null,null,null,null,null,null,null,null,null,null,null,null,null,null,null,null,null,null,null,null,null,null,null,null,null,null,null,null,null,null,null,null,null,{"$f":"IF(AO279=0,\"\",'SV-Garstedt'!C27)","v":""},{"$f":"IF(AO279=0,\"\",'SV-Garstedt'!F27)","v":""},{"$f":"IF(AM279=\"\",\"\",\"SV-Garstedt\")","v":""},{"$f":"IF('SV-Garstedt'!R27=\"\",0,'SV-Garstedt'!R27)","v":0},{"$f":"IF('SV-Garstedt'!U27=\"\",0,'SV-Garstedt'!U27)","v":0}]
[null,null,null,null,null,null,null,null,null,null,null,null,null,null,null,null,null,null,null,null,null,null,null,null,null,null,null,null,null,null,null,null,null,null,null,null,null,{"$f":"IF(AO280=0,\"\",'SV-Garstedt'!C28)","v":""},{"$f":"IF(AO280=0,\"\",'SV-Garstedt'!F28)","v":""},{"$f":"IF(AM280=\"\",\"\",\"SV-Garstedt\")","v":""},{"$f":"IF('SV-Garstedt'!R28=\"\",0,'SV-Garstedt'!R28)","v":0},{"$f":"IF('SV-Garstedt'!U28=\"\",0,'SV-Garstedt'!U28)","v":0}]
[null,null,null,null,null,null,null,null,null,null,null,null,null,null,null,null,null,null,null,null,null,null,null,null,null,null,null,null,null,null,null,null,null,null,null,null,null,{"$f":"IF(AO281=0,\"\",'SV-Raven-Rolfsen'!C26)","v":""},{"$f":"IF(AO281=0,\"\",'SV-Raven-Rolfsen'!F26)","v":""},{"$f":"IF(AM281=\"\",\"\",\"SV-Raven-Rolfsen\")","v":""},{"$f":"IF('SV-Raven-Rolfsen'!R26=\"\",0,'SV-Raven-Rolfsen'!R26)","v":0},{"$f":"IF('SV-Raven-Rolfsen'!U26=\"\",0,'SV-Raven-Rolfsen'!U26)","v":0}]
[null,null,null,null,null,null,null,null,null,null,null,null,null,null,null,null,null,null,null,null,null,null,null,null,null,null,null,null,null,null,null,null,null,null,null,null,null,{"$f":"IF(AO282=0,\"\",'SV-Raven-Rolfsen'!C27)","v":""},{"$f":"IF(AO282=0,\"\",'SV-Raven-Rolfsen'!F27)","v":""},{"$f":"IF(AM282=\"\",\"\",\"SV-Raven-Rolfsen\")","v":""},{"$f":"IF('SV-Raven-Rolfsen'!R27=\"\",0,'SV-Raven-Rolfsen'!R27)","v":0},{"$f":"IF('SV-Raven-Rolfsen'!U27=\"\",0,'SV-Raven-Rolfsen'!U27)","v":0}]
[null,null,null,null,null,null,null,null,null,null,null,null,null,null,null,null,null,null,null,null,null,null,null,null,null,null,null,null,null,null,null,null,null,null,null,null,null,{"$f":"IF(AO283=0,\"\",'SV-Raven-Rolfsen'!C28)","v":""},{"$f":"IF(AO283=0,\"\",'SV-Raven-Rolfsen'!F28)","v":""},{"$f":"IF(AM283=\"\",\"\",\"SV-Raven-Rolfsen\")","v":""},{"$f":"IF('SV-Raven-Rolfsen'!R28=\"\",0,'SV-Raven-Rolfsen'!R28)","v":0},{"$f":"IF('SV-Raven-Rolfsen'!U28=\"\",0,'SV-Raven-Rolfsen'!U28)","v":0}]
[null,null,null,null,null,null,null,null,null,null,null,null,null,null,null,null,null,null,null,null,null,null,null,null,null,null,null,null,null,null,null,null,null,null,null,null,null,{"$f":"IF(AO284=0,\"\",'SV-Salzhausen'!C26)","v":""},{"$f":"IF(AO284=0,\"\",'SV-Salzhausen'!F26)","v":""},{"$f":"IF(AM284=\"\",\"\",\"SV-Salzhausen\")","v":""},{"$f":"IF('SV-Salzhausen'!R26=\"\",0,'SV-Salzhausen'!R26)","v":0},{"$f":"IF('SV-Salzhausen'!U26=\"\",0,'SV-Salzhausen'!U26)","v":0}]
[null,null,null,null,null,null,null,null,null,null,null,null,null,null,null,null,null,null,null,null,null,null,null,null,null,null,null,null,null,null,null,null,null,null,null,null,null,{"$f":"IF(AO285=0,\"\",'SV-Salzhausen'!C27)","v":""},{"$f":"IF(AO285=0,\"\",'SV-Salzhausen'!F27)","v":""},{"$f":"IF(AM285=\"\",\"\",\"SV-Salzhausen\")","v":""},{"$f":"IF('SV-Salzhausen'!R27=\"\",0,'SV-Salzhausen'!R27)","v":0},{"$f":"IF('SV-Salzhausen'!U27=\"\",0,'SV-Salzhausen'!U27)","v":0}]
[null,null,null,null,null,null,null,null,null,null,null,null,null,null,null,null,null,null,null,null,null,null,null,null,null,null,null,null,null,null,null,null,null,null,null,null,null,{"$f":"IF(AO286=0,\"\",'SV-Salzhausen'!C28)","v":""},{"$f":"IF(AO286=0,\"\",'SV-Salzhausen'!F28)","v":""},{"$f":"IF(AM286=\"\",\"\",\"SV-Salzhausen\")","v":""},{"$f":"IF('SV-Salzhausen'!R28=\"\",0,'SV-Salzhausen'!R28)","v":0},{"$f":"IF('SV-Salzhausen'!U28=\"\",0,'SV-Salzhausen'!U28)","v":0}]
[null,null,null,null,null,null,null,null,null,null,null,null,null,null,null,null,null,null,null,null,null,null,null,null,null,null,null,null,null,null,null,null,null,null,null,null,null,{"$f":"IF(AO287=0,\"\",'SV-Toppenstedt'!C26)","v":""},{"$f":"IF(AO287=0,\"\",'SV-Toppenstedt'!F26)","v":""},{"$f":"IF(AM287=\"\",\"\",\"SV-Toppenstedt\")","v":""},{"$f":"IF('SV-Toppenstedt'!R26=\"\",0,'SV-Toppenstedt'!R26)","v":0},{"$f":"IF('SV-Toppenstedt'!U26=\"\",0,'SV-Toppenstedt'!U26)","v":0}]
[null,null,null,null,null,null,null,null,null,null,null,null,null,null,null,null,null,null,null,null,null,null,null,null,null,null,null,null,null,null,null,null,null,null,null,null,null,{"$f":"IF(AO288=0,\"\",'SV-Toppenstedt'!C27)","v":""},{"$f":"IF(AO288=0,\"\",'SV-Toppenstedt'!F27)","v":""},{"$f":"IF(AM288=\"\",\"\",\"SV-Toppenstedt\")","v":""},{"$f":"IF('SV-Toppenstedt'!R27=\"\",0,'SV-Toppenstedt'!R27)","v":0},{"$f":"IF('SV-Toppenstedt'!U27=\"\",0,'SV-Toppenstedt'!U27)","v":0}]
[null,null,null,null,null,null,null,null,null,null,null,null,null,null,null,null,null,null,null,null,null,null,null,null,null,null,null,null,null,null,null,null,null,null,null,null,null,{"$f":"IF(AO289=0,\"\",'SV-Toppenstedt'!C28)","v":""},{"$f":"IF(AO289=0,\"\",'SV-Toppenstedt'!F28)","v":""},{"$f":"IF(AM289=\"\",\"\",\"SV-Toppenstedt\")","v":""},{"$f":"IF('SV-Toppenstedt'!R28=\"\",0,'SV-Toppenstedt'!R28)","v":0},{"$f":"IF('SV-Toppenstedt'!U28=\"\",0,'SV-Toppenstedt'!U28)","v":0}]
[null,null,null,null,null,null,null,null,null,null,null,null,null,null,null,null,null,null,null,null,null,null,null,null,null,null,null,null,null,null,null,null,null,null,null,null,null,{"$f":"IF(AO290=0,\"\",'SV-Wetzen'!C26)","v":""},{"$f":"IF(AO290=0,\"\",'SV-Wetzen'!F26)","v":""},{"$f":"IF(AM290=\"\",\"\",\"SV-Wetzen\")","v":""},{"$f":"IF('SV-Wetzen'!R26=\"\",0,'SV-Wetzen'!R26)","v":0},{"$f":"IF('SV-Wetzen'!U26=\"\",0,'SV-Wetzen'!U26)","v":0}]
[null,null,null,null,null,null,null,null,null,null,null,null,null,null,null,null,null,null,null,null,null,null,null,null,null,null,null,null,null,null,null,null,null,null,null,null,null,{"$f":"IF(AO291=0,\"\",'SV-Wetzen'!C27)","v":""},{"$f":"IF(AO291=0,\"\",'SV-Wetzen'!F27)","v":""},{"$f":"IF(AM291=\"\",\"\",\"SV-Wetzen\")","v":""},{"$f":"IF('SV-Wetzen'!R27=\"\",0,'SV-Wetzen'!R27)","v":0},{"$f":"IF('SV-Wetzen'!U27=\"\",0,'SV-Wetzen'!U27)","v":0}]
[null,null,null,null,null,null,null,null,null,null,null,null,null,null,null,null,null,null,null,null,null,null,null,null,null,null,null,null,null,null,null,null,null,null,null,null,null,{"$f":"IF(AO292=0,\"\",'SV-Wetzen'!C28)","v":""},{"$f":"IF(AO292=0,\"\",'SV-Wetzen'!F28)","v":""},{"$f":"IF(AM292=\"\",\"\",\"SV-Wetzen\")","v":""},{"$f":"IF('SV-Wetzen'!R28=\"\",0,'SV-Wetzen'!R28)","v":0},{"$f":"IF('SV-Wetzen'!U28=\"\",0,'SV-Wetzen'!U28)","v":0}]

{"sheet":"Testseite für Versuche","index":6,"n_rows":28,"n_cols":10,"rows_kept":28,"cut":false,"hidden":false,"merged":[]}
[null,"Beispiel","Auflage",null,null,null,"Beispiel","Freihand"]
[null,"Schützenklasse 10 Auflage",null,null,null,null,"Schützenklasse 10 Auflage"]
[null,"Name","Verein","Ringe","10nen",null,"Name","Verein","Ringe","10nen"]
[null,{"$f":"IFERROR(INDEX(Daten!$AM$2:$AM$292,LARGE((Daten!$AL$2:$AL$292=10)*(ROW(Daten!$AL$2:$AL$292)-1),COUNTIF(Daten!$AL$2:$AL$292,10)+1-ROW(AM1))),\"\")","v":""},{"$f":"IF(B4=\"\",\"\",(VLOOKUP(B4,Daten!$AM$3:$AP$292,2,)))","v":""},{"$f":"IF(B4=\"\",\"\",(VLOOKUP(B4,Daten!$AM$3:$AP$292,3,)))","v":""},{"$f":"IF(B4=\"\",\"\",(VLOOKUP(B4,Daten!$AM$3:$AP$292,4,)))","v":""},null,{"$f":"IFERROR(INDEX(Daten!$AS$2:$AS$292,LARGE((Daten!$AR$2:$AR$292=10)*(ROW(Daten!$AR$2:$AR$292)-1),COUNTIF(Daten!$AR$2:$AR$292,10)+1-ROW(AS1))),\"\")","v":""},{"$f":"IF(G4=\"\",\"\",(VLOOKUP(G4,Daten!$AS$3:$AV$292,2,)))","v":""},{"$f":"IF(G4=\"\",\"\",(VLOOKUP(G4,Daten!$AS$3:$AV$292,3,)))","v":""},{"$f":"IF(G4=\"\",\"\",(VLOOKUP(G4,Daten!$AS$3:$AV$292,4,)))","v":""}]
[null,{"$f":"IFERROR(INDEX(Daten!$AM$2:$AM$292,LARGE((Daten!$AL$2:$AL$292=10)*(ROW(Daten!$AL$2:$AL$292)-1),COUNTIF(Daten!$AL$2:$AL$292,10)+1-ROW(AM2))),\"\")","v":""},{"$f":"IF(B5=\"\",\"\",(VLOOKUP(B5,Daten!$AM$3:$AP$292,2,)))","v":""},{"$f":"IF(B5=\"\",\"\",(VLOOKUP(B5,Daten!$AM$3:$AP$292,3,)))","v":""},{"$f":"IF(B5=\"\",\"\",(VLOOKUP(B5,Daten!$AM$3:$AP$292,4,)))","v":""},null,{"$f":"IFERROR(INDEX(Daten!$AS$2:$AS$292,LARGE((Daten!$AR$2:$AR$292=10)*(ROW(Daten!$AR$2:$AR$292)-1),COUNTIF(Daten!$AR$2:$AR$292,10)+1-ROW(AS2))),\"\")","v":""},{"$f":"IF(G5=\"\",\"\",(VLOOKUP(G5,Daten!$AS$3:$AV$292,2,)))","v":""},{"$f":"IF(G5=\"\",\"\",(VLOOKUP(G5,Daten!$AS$3:$AV$292,3,)))","v":""},{"$f":"IF(G5=\"\",\"\",(VLOOKUP(G5,Daten!$AS$3:$AV$292,4,)))","v":""}]
[null,{"$f":"IFERROR(INDEX(Daten!$AM$2:$AM$292,LARGE((Daten!$AL$2:$AL$292=10)*(ROW(Daten!$AL$2:$AL$292)-1),COUNTIF(Daten!$AL$2:$AL$292,10)+1-ROW(AM3))),\"\")","v":""},{"$f":"IF(B6=\"\",\"\",(VLOOKUP(B6,Daten!$AM$3:$AP$292,2,)))","v":""},{"$f":"IF(B6=\"\",\"\",(VLOOKUP(B6,Daten!$AM$3:$AP$292,3,)))","v":""},{"$f":"IF(B6=\"\",\"\",(VLOOKUP(B6,Daten!$AM$3:$AP$292,4,)))","v":""},null,{"$f":"IFERROR(INDEX(Daten!$AS$2:$AS$292,LARGE((Daten!$AR$2:$AR$292=10)*(ROW(Daten!$AR$2:$AR$292)-1),COUNTIF(Daten!$AR$2:$AR$292,10)+1-ROW(AS3))),\"\")","v":""},{"$f":"IF(G6=\"\",\"\",(VLOOKUP(G6,Daten!$AS$3:$AV$292,2,)))","v":""},{"$f":"IF(G6=\"\",\"\",(VLOOKUP(G6,Daten!$AS$3:$AV$292,3,)))","v":""},{"$f":"IF(G6=\"\",\"\",(VLOOKUP(G6,Daten!$AS$3:$AV$292,4,)))","v":""}]
[null,{"$f":"IFERROR(INDEX(Daten!$AM$2:$AM$292,LARGE((Daten!$AL$2:$AL$292=10)*(ROW(Daten!$AL$2:$AL$292)-1),COUNTIF(Daten!$AL$2:$AL$292,10)+1-ROW(AM4))),\"\")","v":""},{"$f":"IF(B7=\"\",\"\",(VLOOKUP(B7,Daten!$AM$3:$AP$292,2,)))","v":""},{"$f":"IF(B7=\"\",\"\",(VLOOKUP(B7,Daten!$AM$3:$AP$292,3,)))","v":""},{"$f":"IF(B7=\"\",\"\",(VLOOKUP(B7,Daten!$AM$3:$AP$292,4,)))","v":""},null,{"$f":"IFERROR(INDEX(Daten!$AS$2:$AS$292,LARGE((Daten!$AR$2:$AR$292=10)*(ROW(Daten!$AR$2:$AR$292)-1),COUNTIF(Daten!$AR$2:$AR$292,10)+1-ROW(AS4))),\"\")","v":""},{"$f":"IF(G7=\"\",\"\",(VLOOKUP(G7,Daten!$AS$3:$AV$292,2,)))","v":""},{"$f":"IF(G7=\"\",\"\",(VLOOKUP(G7,Daten!$AS$3:$AV$292,3,)))","v":""},{"$f":"IF(G7=\"\",\"\",(VLOOKUP(G7,Daten!$AS$3:$AV$292,4,)))","v":""}]
[null,{"$f":"IFERROR(INDEX(Daten!$AM$2:$AM$292,LARGE((Daten!$AL$2:$AL$292=10)*(ROW(Daten!$AL$2:$AL$292)-1),COUNTIF(Daten!$AL$2:$AL$292,10)+1-ROW(AM5))),\"\")","v":""},{"$f":"IF(B8=\"\",\"\",(VLOOKUP(B8,Daten!$AM$3:$AP$292,2,)))","v":""},{"$f":"IF(B8=\"\",\"\",(VLOOKUP(B8,Daten!$AM$3:$AP$292,3,)))","v":""},{"$f":"IF(B8=\"\",\"\",(VLOOKUP(B8,Daten!$AM$3:$AP$292,4,)))","v":""},null,{"$f":"IFERROR(INDEX(Daten!$AS$2:$AS$292,LARGE((Daten!$AR$2:$AR$292=10)*(ROW(Daten!$AR$2:$AR$292)-1),COUNTIF(Daten!$AR$2:$AR$292,10)+1-ROW(AS5))),\"\")","v":""},{"$f":"IF(G8=\"\",\"\",(VLOOKUP(G8,Daten!$AS$3:$AV$292,2,)))","v":""},{"$f":"IF(G8=\"\",\"\",(VLOOKUP(G8,Daten!$AS$3:$AV$292,3,)))","v":""},{"$f":"IF(G8=\"\",\"\",(VLOOKUP(G8,Daten!$AS$3:$AV$292,4,)))","v":""}]
[null,{"$f":"IFERROR(INDEX(Daten!$AM$2:$AM$292,LARGE((Daten!$AL$2:$AL$292=10)*(ROW(Daten!$AL$2:$AL$292)-1),COUNTIF(Daten!$AL$2:$AL$292,10)+1-ROW(AM6))),\"\")","v":""},{"$f":"IF(B9=\"\",\"\",(VLOOKUP(B9,Daten!$AM$3:$AP$292,2,)))","v":""},{"$f":"IF(B9=\"\",\"\",(VLOOKUP(B9,Daten!$AM$3:$AP$292,3,)))","v":""},{"$f":"IF(B9=\"\",\"\",(VLOOKUP(B9,Daten!$AM$3:$AP$292,4,)))","v":""},null,{"$f":"IFERROR(INDEX(Daten!$AS$2:$AS$292,LARGE((Daten!$AR$2:$AR$292=10)*(ROW(Daten!$AR$2:$AR$292)-1),COUNTIF(Daten!$AR$2:$AR$292,10)+1-ROW(AS6))),\"\")","v":""},{"$f":"IF(G9=\"\",\"\",(VLOOKUP(G9,Daten!$AS$3:$AV$292,2,)))","v":""},{"$f":"IF(G9=\"\",\"\",(VLOOKUP(G9,Daten!$AS$3:$AV$292,3,)))","v":""},{"$f":"IF(G9=\"\",\"\",(VLOOKUP(G9,Daten!$AS$3:$AV$292,4,)))","v":""}]
[null,{"$f":"IFERROR(INDEX(Daten!$AM$2:$AM$292,LARGE((Daten!$AL$2:$AL$292=10)*(ROW(Daten!$AL$2:$AL$292)-1),COUNTIF(Daten!$AL$2:$AL$292,10)+1-ROW(AM7))),\"\")","v":""},{"$f":"IF(B10=\"\",\"\",(VLOOKUP(B10,Daten!$AM$3:$AP$292,2,)))","v":""},{"$f":"IF(B10=\"\",\"\",(VLOOKUP(B10,Daten!$AM$3:$AP$292,3,)))","v":""},{"$f":"IF(B10=\"\",\"\",(VLOOKUP(B10,Daten!$AM$3:$AP$292,4,)))","v":""},null,{"$f":"IFERROR(INDEX(Daten!$AS$2:$AS$292,LARGE((Daten!$AR$2:$AR$292=10)*(ROW(Daten!$AR$2:$AR$292)-1),COUNTIF(Daten!$AR$2:$AR$292,10)+1-ROW(AS7))),\"\")","v":""},{"$f":"IF(G10=\"\",\"\",(VLOOKUP(G10,Daten!$AS$3:$AV$292,2,)))","v":""},{"$f":"IF(G10=\"\",\"\",(VLOOKUP(G10,Daten!$AS$3:$AV$292,3,)))","v":""},{"$f":"IF(G10=\"\",\"\",(VLOOKUP(G10,Daten!$AS$3:$AV$292,4,)))","v":""}]
[null,{"$f":"IFERROR(INDEX(Daten!$AM$2:$AM$292,LARGE((Daten!$AL$2:$AL$292=10)*(ROW(Daten!$AL$2:$AL$292)-1),COUNTIF(Daten!$AL$2:$AL$292,10)+1-ROW(AM8))),\"\")","v":""},{"$f":"IF(B11=\"\",\"\",(VLOOKUP(B11,Daten!$AM$3:$AP$292,2,)))","v":""},{"$f":"IF(B11=\"\",\"\",(VLOOKUP(B11,Daten!$AM$3:$AP$292,3,)))","v":""},{"$f":"IF(B11=\"\",\"\",(VLOOKUP(B11,Daten!$AM$3:$AP$292,4,)))","v":""},null,{"$f":"IFERROR(INDEX(Daten!$AS$2:$AS$292,LARGE((Daten!$AR$2:$AR$292=10)*(ROW(Daten!$AR$2:$AR$292)-1),COUNTIF(Daten!$AR$2:$AR$292,10)+1-ROW(AS8))),\"\")","v":""},{"$f":"IF(G11=\"\",\"\",(VLOOKUP(G11,Daten!$AS$3:$AV$292,2,)))","v":""},{"$f":"IF(G11=\"\",\"\",(VLOOKUP(G11,Daten!$AS$3:$AV$292,3,)))","v":""},{"$f":"IF(G11=\"\",\"\",(VLOOKUP(G11,Daten!$AS$3:$AV$292,4,)))","v":""}]
[null,{"$f":"IFERROR(INDEX(Daten!$AM$2:$AM$292,LARGE((Daten!$AL$2:$AL$292=10)*(ROW(Daten!$AL$2:$AL$292)-1),COUNTIF(Daten!$AL$2:$AL$292,10)+1-ROW(AM9))),\"\")","v":""},{"$f":"IF(B12=\"\",\"\",(VLOOKUP(B12,Daten!$AM$3:$AP$292,2,)))","v":""},{"$f":"IF(B12=\"\",\"\",(VLOOKUP(B12,Daten!$AM$3:$AP$292,3,)))","v":""},{"$f":"IF(B12=\"\",\"\",(VLOOKUP(B12,Daten!$AM$3:$AP$292,4,)))","v":""},null,{"$f":"IFERROR(INDEX(Daten!$AS$2:$AS$292,LARGE((Daten!$AR$2:$AR$292=10)*(ROW(Daten!$AR$2:$AR$292)-1),COUNTIF(Daten!$AR$2:$AR$292,10)+1-ROW(AS9))),\"\")","v":""},{"$f":"IF(G12=\"\",\"\",(VLOOKUP(G12,Daten!$AS$3:$AV$292,2,)))","v":""},{"$f":"IF(G12=\"\",\"\",(VLOOKUP(G12,Daten!$AS$3:$AV$292,3,)))","v":""},{"$f":"IF(G12=\"\",\"\",(VLOOKUP(G12,Daten!$AS$3:$AV$292,4,)))","v":""}]
[null,{"$f":"IFERROR(INDEX(Daten!$AM$2:$AM$292,LARGE((Daten!$AL$2:$AL$292=10)*(ROW(Daten!$AL$2:$AL$292)-1),COUNTIF(Daten!$AL$2:$AL$292,10)+1-ROW(AM10))),\"\")","v":""},{"$f":"IF(B13=\"\",\"\",(VLOOKUP(B13,Daten!$AM$3:$AP$292,2,)))","v":""},{"$f":"IF(B13=\"\",\"\",(VLOOKUP(B13,Daten!$AM$3:$AP$292,3,)))","v":""},{"$f":"IF(B13=\"\",\"\",(VLOOKUP(B13,Daten!$AM$3:$AP$292,4,)))","v":""},null,{"$f":"IFERROR(INDEX(Daten!$AS$2:$AS$292,LARGE((Daten!$AR$2:$AR$292=10)*(ROW(Daten!$AR$2:$AR$292)-1),COUNTIF(Daten!$AR$2:$AR$292,10)+1-ROW(AS10))),\"\")","v":""},{"$f":"IF(G13=\"\",\"\",(VLOOKUP(G13,Daten!$AS$3:$AV$292,2,)))","v":""},{"$f":"IF(G13=\"\",\"\",(VLOOKUP(G13,Daten!$AS$3:$AV$292,3,)))","v":""},{"$f":"IF(G13=\"\",\"\",(VLOOKUP(G13,Daten!$AS$3:$AV$292,4,)))","v":""}]
[null,{"$f":"IFERROR(INDEX(Daten!$AM$2:$AM$292,LARGE((Daten!$AL$2:$AL$292=10)*(ROW(Daten!$AL$2:$AL$292)-1),COUNTIF(Daten!$AL$2:$AL$292,10)+1-ROW(AM11))),\"\")","v":""},{"$f":"IF(B14=\"\",\"\",(VLOOKUP(B14,Daten!$AM$3:$AP$292,2,)))","v":""},{"$f":"IF(B14=\"\",\"\",(VLOOKUP(B14,Daten!$AM$3:$AP$292,3,)))","v":""},{"$f":"IF(B14=\"\",\"\",(VLOOKUP(B14,Daten!$AM$3:$AP$292,4,)))","v":""},null,{"$f":"IFERROR(INDEX(Daten!$AS$2:$AS$292,LARGE((Daten!$AR$2:$AR$292=10)*(ROW(Daten!$AR$2:$AR$292)-1),COUNTIF(Daten!$AR$2:$AR$292,10)+1-ROW(AS11))),\"\")","v":""},{"$f":"IF(G14=\"\",\"\",(VLOOKUP(G14,Daten!$AS$3:$AV$292,2,)))","v":""},{"$f":"IF(G14=\"\",\"\",(VLOOKUP(G14,Daten!$AS$3:$AV$292,3,)))","v":""},{"$f":"IF(G14=\"\",\"\",(VLOOKUP(G14,Daten!$AS$3:$AV$292,4,)))","v":""}]
[null,{"$f":"IFERROR(INDEX(Daten!$AM$2:$AM$292,LARGE((Daten!$AL$2:$AL$292=10)*(ROW(Daten!$AL$2:$AL$292)-1),COUNTIF(Daten!$AL$2:$AL$292,10)+1-ROW(AM12))),\"\")","v":""},{"$f":"IF(B15=\"\",\"\",(VLOOKUP(B15,Daten!$AM$3:$AP$292,2,)))","v":""},{"$f":"IF(B15=\"\",\"\",(VLOOKUP(B15,Daten!$AM$3:$AP$292,3,)))","v":""},{"$f":"IF(B15=\"\",\"\",(VLOOKUP(B15,Daten!$AM$3:$AP$292,4,)))","v":""},null,{"$f":"IFERROR(INDEX(Daten!$AS$2:$AS$292,LARGE((Daten!$AR$2:$AR$292=10)*(ROW(Daten!$AR$2:$AR$292)-1),COUNTIF(Daten!$AR$2:$AR$292,10)+1-ROW(AS12))),\"\")","v":""},{"$f":"IF(G15=\"\",\"\",(VLOOKUP(G15,Daten!$AS$3:$AV$292,2,)))","v":""},{"$f":"IF(G15=\"\",\"\",(VLOOKUP(G15,Daten!$AS$3:$AV$292,3,)))","v":""},{"$f":"IF(G15=\"\",\"\",(VLOOKUP(G15,Daten!$AS$3:$AV$292,4,)))","v":""}]
[null,{"$f":"IFERROR(INDEX(Daten!$AM$2:$AM$292,LARGE((Daten!$AL$2:$AL$292=10)*(ROW(Daten!$AL$2:$AL$292)-1),COUNTIF(Daten!$AL$2:$AL$292,10)+1-ROW(AM13))),\"\")","v":""},{"$f":"IF(B16=\"\",\"\",(VLOOKUP(B16,Daten!$AM$3:$AP$292,2,)))","v":""},{"$f":"IF(B16=\"\",\"\",(VLOOKUP(B16,Daten!$AM$3:$AP$292,3,)))","v":""},{"$f":"IF(B16=\"\",\"\",(VLOOKUP(B16,Daten!$AM$3:$AP$292,4,)))","v":""},null,{"$f":"IFERROR(INDEX(Daten!$AS$2:$AS$292,LARGE((Daten!$AR$2:$AR$292=10)*(ROW(Daten!$AR$2:$AR$292)-1),COUNTIF(Daten!$AR$2:$AR$292,10)+1-ROW(AS13))),\"\")","v":""},{"$f":"IF(G16=\"\",\"\",(VLOOKUP(G16,Daten!$AS$3:$AV$292,2,)))","v":""},{"$f":"IF(G16=\"\",\"\",(VLOOKUP(G16,Daten!$AS$3:$AV$292,3,)))","v":""},{"$f":"IF(G16=\"\",\"\",(VLOOKUP(G16,Daten!$AS$3:$AV$292,4,)))","v":""}]
[null,{"$f":"IFERROR(INDEX(Daten!$AM$2:$AM$292,LARGE((Daten!$AL$2:$AL$292=10)*(ROW(Daten!$AL$2:$AL$292)-1),COUNTIF(Daten!$AL$2:$AL$292,10)+1-ROW(AM14))),\"\")","v":""},{"$f":"IF(B17=\"\",\"\",(VLOOKUP(B17,Daten!$AM$3:$AP$292,2,)))","v":""},{"$f":"IF(B17=\"\",\"\",(VLOOKUP(B17,Daten!$AM$3:$AP$292,3,)))","v":""},{"$f":"IF(B17=\"\",\"\",(VLOOKUP(B17,Daten!$AM$3:$AP$292,4,)))","v":""},null,{"$f":"IFERROR(INDEX(Daten!$AS$2:$AS$292,LARGE((Daten!$AR$2:$AR$292=10)*(ROW(Daten!$AR$2:$AR$292)-1),COUNTIF(Daten!$AR$2:$AR$292,10)+1-ROW(AS14))),\"\")","v":""},{"$f":"IF(G17=\"\",\"\",(VLOOKUP(G17,Daten!$AS$3:$AV$292,2,)))","v":""},{"$f":"IF(G17=\"\",\"\",(VLOOKUP(G17,Daten!$AS$3:$AV$292,3,)))","v":""},{"$f":"IF(G17=\"\",\"\",(VLOOKUP(G17,Daten!$AS$3:$AV$292,4,)))","v":""}]
[null,{"$f":"IFERROR(INDEX(Daten!$AM$2:$AM$292,LARGE((Daten!$AL$2:$AL$292=10)*(ROW(Daten!$AL$2:$AL$292)-1),COUNTIF(Daten!$AL$2:$AL$292,10)+1-ROW(AM15))),\"\")","v":""},{"$f":"IF(B18=\"\",\"\",(VLOOKUP(B18,Daten!$AM$3:$AP$292,2,)))","v":""},{"$f":"IF(B18=\"\",\"\",(VLOOKUP(B18,Daten!$AM$3:$AP$292,3,)))","v":""},{"$f":"IF(B18=\"\",\"\",(VLOOKUP(B18,Daten!$AM$3:$AP$292,4,)))","v":""},null,{"$f":"IFERROR(INDEX(Daten!$AS$2:$AS$292,LARGE((Daten!$AR$2:$AR$292=10)*(ROW(Daten!$AR$2:$AR$292)-1),COUNTIF(Daten!$AR$2:$AR$292,10)+1-ROW(AS15))),\"\")","v":""},{"$f":"IF(G18=\"\",\"\",(VLOOKUP(G18,Daten!$AS$3:$AV$292,2,)))","v":""},{"$f":"IF(G18=\"\",\"\",(VLOOKUP(G18,Daten!$AS$3:$AV$292,3,)))","v":""},{"$f":"IF(G18=\"\",\"\",(VLOOKUP(G18,Daten!$AS$3:$AV$292,4,)))","v":""}]
[null,{"$f":"IFERROR(INDEX(Daten!$AM$2:$AM$292,LARGE((Daten!$AL$2:$AL$292=10)*(ROW(Daten!$AL$2:$AL$292)-1),COUNTIF(Daten!$AL$2:$AL$292,10)+1-ROW(AM16))),\"\")","v":""},{"$f":"IF(B19=\"\",\"\",(VLOOKUP(B19,Daten!$AM$3:$AP$292,2,)))","v":""},{"$f":"IF(B19=\"\",\"\",(VLOOKUP(B19,Daten!$AM$3:$AP$292,3,)))","v":""},{"$f":"IF(B19=\"\",\"\",(VLOOKUP(B19,Daten!$AM$3:$AP$292,4,)))","v":""},null,{"$f":"IFERROR(INDEX(Daten!$AS$2:$AS$292,LARGE((Daten!$AR$2:$AR$292=10)*(ROW(Daten!$AR$2:$AR$292)-1),COUNTIF(Daten!$AR$2:$AR$292,10)+1-ROW(AS16))),\"\")","v":""},{"$f":"IF(G19=\"\",\"\",(VLOOKUP(G19,Daten!$AS$3:$AV$292,2,)))","v":""},{"$f":"IF(G19=\"\",\"\",(VLOOKUP(G19,Daten!$AS$3:$AV$292,3,)))","v":""},{"$f":"IF(G19=\"\",\"\",(VLOOKUP(G19,Daten!$AS$3:$AV$292,4,)))","v":""}]
[null,{"$f":"IFERROR(INDEX(Daten!$AM$2:$AM$292,LARGE((Daten!$AL$2:$AL$292=10)*(ROW(Daten!$AL$2:$AL$292)-1),COUNTIF(Daten!$AL$2:$AL$292,10)+1-ROW(AM17))),\"\")","v":""},{"$f":"IF(B20=\"\",\"\",(VLOOKUP(B20,Daten!$AM$3:$AP$292,2,)))","v":""},{"$f":"IF(B20=\"\",\"\",(VLOOKUP(B20,Daten!$AM$3:$AP$292,3,)))","v":""},{"$f":"IF(B20=\"\",\"\",(VLOOKUP(B20,Daten!$AM$3:$AP$292,4,)))","v":""},null,{"$f":"IFERROR(INDEX(Daten!$AS$2:$AS$292,LARGE((Daten!$AR$2:$AR$292=10)*(ROW(Daten!$AR$2:$AR$292)-1),COUNTIF(Daten!$AR$2:$AR$292,10)+1-ROW(AS17))),\"\")","v":""},{"$f":"IF(G20=\"\",\"\",(VLOOKUP(G20,Daten!$AS$3:$AV$292,2,)))","v":""},{"$f":"IF(G20=\"\",\"\",(VLOOKUP(G20,Daten!$AS$3:$AV$292,3,)))","v":""},{"$f":"IF(G20=\"\",\"\",(VLOOKUP(G20,Daten!$AS$3:$AV$292,4,)))","v":""}]
[null,{"$f":"IFERROR(INDEX(Daten!$AM$2:$AM$292,LARGE((Daten!$AL$2:$AL$292=10)*(ROW(Daten!$AL$2:$AL$292)-1),COUNTIF(Daten!$AL$2:$AL$292,10)+1-ROW(AM18))),\"\")","v":""},{"$f":"IF(B21=\"\",\"\",(VLOOKUP(B21,Daten!$AM$3:$AP$292,2,)))","v":""},{"$f":"IF(B21=\"\",\"\",(VLOOKUP(B21,Daten!$AM$3:$AP$292,3,)))","v":""},{"$f":"IF(B21=\"\",\"\",(VLOOKUP(B21,Daten!$AM$3:$AP$292,4,)))","v":""},null,{"$f":"IFERROR(INDEX(Daten!$AS$2:$AS$292,LARGE((Daten!$AR$2:$AR$292=10)*(ROW(Daten!$AR$2:$AR$292)-1),COUNTIF(Daten!$AR$2:$AR$292,10)+1-ROW(AS18))),\"\")","v":""},{"$f":"IF(G21=\"\",\"\",(VLOOKUP(G21,Daten!$AS$3:$AV$292,2,)))","v":""},{"$f":"IF(G21=\"\",\"\",(VLOOKUP(G21,Daten!$AS$3:$AV$292,3,)))","v":""},{"$f":"IF(G21=\"\",\"\",(VLOOKUP(G21,Daten!$AS$3:$AV$292,4,)))","v":""}]
[null,{"$f":"IFERROR(INDEX(Daten!$AM$2:$AM$292,LARGE((Daten!$AL$2:$AL$292=10)*(ROW(Daten!$AL$2:$AL$292)-1),COUNTIF(Daten!$AL$2:$AL$292,10)+1-ROW(AM19))),\"\")","v":""},{"$f":"IF(B22=\"\",\"\",(VLOOKUP(B22,Daten!$AM$3:$AP$292,2,)))","v":""},{"$f":"IF(B22=\"\",\"\",(VLOOKUP(B22,Daten!$AM$3:$AP$292,3,)))","v":""},{"$f":"IF(B22=\"\",\"\",(VLOOKUP(B22,Daten!$AM$3:$AP$292,4,)))","v":""},null,{"$f":"IFERROR(INDEX(Daten!$AS$2:$AS$292,LARGE((Daten!$AR$2:$AR$292=10)*(ROW(Daten!$AR$2:$AR$292)-1),COUNTIF(Daten!$AR$2:$AR$292,10)+1-ROW(AS19))),\"\")","v":""},{"$f":"IF(G22=\"\",\"\",(VLOOKUP(G22,Daten!$AS$3:$AV$292,2,)))","v":""},{"$f":"IF(G22=\"\",\"\",(VLOOKUP(G22,Daten!$AS$3:$AV$292,3,)))","v":""},{"$f":"IF(G22=\"\",\"\",(VLOOKUP(G22,Daten!$AS$3:$AV$292,4,)))","v":""}]
[null,{"$f":"IFERROR(INDEX(Daten!$AM$2:$AM$292,LARGE((Daten!$AL$2:$AL$292=10)*(ROW(Daten!$AL$2:$AL$292)-1),COUNTIF(Daten!$AL$2:$AL$292,10)+1-ROW(AM20))),\"\")","v":""},{"$f":"IF(B23=\"\",\"\",(VLOOKUP(B23,Daten!$AM$3:$AP$292,2,)))","v":""},{"$f":"IF(B23=\"\",\"\",(VLOOKUP(B23,Daten!$AM$3:$AP$292,3,)))","v":""},{"$f":"IF(B23=\"\",\"\",(VLOOKUP(B23,Daten!$AM$3:$AP$292,4,)))","v":""},null,{"$f":"IFERROR(INDEX(Daten!$AS$2:$AS$292,LARGE((Daten!$AR$2:$AR$292=10)*(ROW(Daten!$AR$2:$AR$292)-1),COUNTIF(Daten!$AR$2:$AR$292,10)+1-ROW(AS20))),\"\")","v":""},{"$f":"IF(G23=\"\",\"\",(VLOOKUP(G23,Daten!$AS$3:$AV$292,2,)))","v":""},{"$f":"IF(G23=\"\",\"\",(VLOOKUP(G23,Daten!$AS$3:$AV$292,3,)))","v":""},{"$f":"IF(G23=\"\",\"\",(VLOOKUP(G23,Daten!$AS$3:$AV$292,4,)))","v":""}]
[null,{"$f":"IFERROR(INDEX(Daten!$AM$2:$AM$292,LARGE((Daten!$AL$2:$AL$292=10)*(ROW(Daten!$AL$2:$AL$292)-1),COUNTIF(Daten!$AL$2:$AL$292,10)+1-ROW(AM21))),\"\")","v":""},{"$f":"IF(B24=\"\",\"\",(VLOOKUP(B24,Daten!$AM$3:$AP$292,2,)))","v":""},{"$f":"IF(B24=\"\",\"\",(VLOOKUP(B24,Daten!$AM$3:$AP$292,3,)))","v":""},{"$f":"IF(B24=\"\",\"\",(VLOOKUP(B24,Daten!$AM$3:$AP$292,4,)))","v":""},null,{"$f":"IFERROR(INDEX(Daten!$AS$2:$AS$292,LARGE((Daten!$AR$2:$AR$292=10)*(ROW(Daten!$AR$2:$AR$292)-1),COUNTIF(Daten!$AR$2:$AR$292,10)+1-ROW(AS21))),\"\")","v":""},{"$f":"IF(G24=\"\",\"\",(VLOOKUP(G24,Daten!$AS$3:$AV$292,2,)))","v":""},{"$f":"IF(G24=\"\",\"\",(VLOOKUP(G24,Daten!$AS$3:$AV$292,3,)))","v":""},{"$f":"IF(G24=\"\",\"\",(VLOOKUP(G24,Daten!$AS$3:$AV$292,4,)))","v":""}]
[null,{"$f":"IFERROR(INDEX(Daten!$AM$2:$AM$292,LARGE((Daten!$AL$2:$AL$292=10)*(ROW(Daten!$AL$2:$AL$292)-1),COUNTIF(Daten!$AL$2:$AL$292,10)+1-ROW(AM22))),\"\")","v":""},{"$f":"IF(B25=\"\",\"\",(VLOOKUP(B25,Daten!$AM$3:$AP$292,2,)))","v":""},{"$f":"IF(B25=\"\",\"\",(VLOOKUP(B25,Daten!$AM$3:$AP$292,3,)))","v":""},{"$f":"IF(B25=\"\",\"\",(VLOOKUP(B25,Daten!$AM$3:$AP$292,4,)))","v":""},null,{"$f":"IFERROR(INDEX(Daten!$AS$2:$AS$292,LARGE((Daten!$AR$2:$AR$292=10)*(ROW(Daten!$AR$2:$AR$292)-1),COUNTIF(Daten!$AR$2:$AR$292,10)+1-ROW(AS22))),\"\")","v":""},{"$f":"IF(G25=\"\",\"\",(VLOOKUP(G25,Daten!$AS$3:$AV$292,2,)))","v":""},{"$f":"IF(G25=\"\",\"\",(VLOOKUP(G25,Daten!$AS$3:$AV$292,3,)))","v":""},{"$f":"IF(G25=\"\",\"\",(VLOOKUP(G25,Daten!$AS$3:$AV$292,4,)))","v":""}]
[null,{"$f":"IFERROR(INDEX(Daten!$AM$2:$AM$292,LARGE((Daten!$AL$2:$AL$292=10)*(ROW(Daten!$AL$2:$AL$292)-1),COUNTIF(Daten!$AL$2:$AL$292,10)+1-ROW(AM23))),\"\")","v":""},{"$f":"IF(B26=\"\",\"\",(VLOOKUP(B26,Daten!$AM$3:$AP$292,2,)))","v":""},{"$f":"IF(B26=\"\",\"\",(VLOOKUP(B26,Daten!$AM$3:$AP$292,3,)))","v":""},{"$f":"IF(B26=\"\",\"\",(VLOOKUP(B26,Daten!$AM$3:$AP$292,4,)))","v":""},null,{"$f":"IFERROR(INDEX(Daten!$AS$2:$AS$292,LARGE((Daten!$AR$2:$AR$292=10)*(ROW(Daten!$AR$2:$AR$292)-1),COUNTIF(Daten!$AR$2:$AR$292,10)+1-ROW(AS23))),\"\")","v":""},{"$f":"IF(G26=\"\",\"\",(VLOOKUP(G26,Daten!$AS$3:$AV$292,2,)))","v":""},{"$f":"IF(G26=\"\",\"\",(VLOOKUP(G26,Daten!$AS$3:$AV$292,3,)))","v":""},{"$f":"IF(G26=\"\",\"\",(VLOOKUP(G26,Daten!$AS$3:$AV$292,4,)))","v":""}]
[null,{"$f":"IFERROR(INDEX(Daten!$AM$2:$AM$292,LARGE((Daten!$AL$2:$AL$292=10)*(ROW(Daten!$AL$2:$AL$292)-1),COUNTIF(Daten!$AL$2:$AL$292,10)+1-ROW(AM24))),\"\")","v":""},{"$f":"IF(B27=\"\",\"\",(VLOOKUP(B27,Daten!$AM$3:$AP$292,2,)))","v":""},{"$f":"IF(B27=\"\",\"\",(VLOOKUP(B27,Daten!$AM$3:$AP$292,3,)))","v":""},{"$f":"IF(B27=\"\",\"\",(VLOOKUP(B27,Daten!$AM$3:$AP$292,4,)))","v":""},null,{"$f":"IFERROR(INDEX(Daten!$AS$2:$AS$292,LARGE((Daten!$AR$2:$AR$292=10)*(ROW(Daten!$AR$2:$AR$292)-1),COUNTIF(Daten!$AR$2:$AR$292,10)+1-ROW(AS24))),\"\")","v":""},{"$f":"IF(G27=\"\",\"\",(VLOOKUP(G27,Daten!$AS$3:$AV$292,2,)))","v":""},{"$f":"IF(G27=\"\",\"\",(VLOOKUP(G27,Daten!$AS$3:$AV$292,3,)))","v":""},{"$f":"IF(G27=\"\",\"\",(VLOOKUP(G27,Daten!$AS$3:$AV$292,4,)))","v":""}]
[null,{"$f":"IFERROR(INDEX(Daten!$AM$2:$AM$292,LARGE((Daten!$AL$2:$AL$292=10)*(ROW(Daten!$AL$2:$AL$292)-1),COUNTIF(Daten!$AL$2:$AL$292,10)+1-ROW(AM25))),\"\")","v":""},{"$f":"IF(B28=\"\",\"\",(VLOOKUP(B28,Daten!$AM$3:$AP$292,2,)))","v":""},{"$f":"IF(B28=\"\",\"\",(VLOOKUP(B28,Daten!$AM$3:$AP$292,3,)))","v":""},{"$f":"IF(B28=\"\",\"\",(VLOOKUP(B28,Daten!$AM$3:$AP$292,4,)))","v":""},null,{"$f":"IFERROR(INDEX(Daten!$AS$2:$AS$292,LARGE((Daten!$AR$2:$AR$292=10)*(ROW(Daten!$AR$2:$AR$292)-1),COUNTIF(Daten!$AR$2:$AR$292,10)+1-ROW(AS25))),\"\")","v":""},{"$f":"IF(G28=\"\",\"\",(VLOOKUP(G28,Daten!$AS$3:$AV$292,2,)))","v":""},{"$f":"IF(G28=\"\",\"\",(VLOOKUP(G28,Daten!$AS$3:$AV$292,3,)))","v":""},{"$f":"IF(G28=\"\",\"\",(VLOOKUP(G28,Daten!$AS$3:$AV$292,4,)))","v":""}]

{"sheet":"Stammdaten","index":7,"n_rows":16,"n_cols":3,"rows_kept":16,"cut":false,"hidden":false,"merged":[[0,0,1,2],[3,1,3,2],[15,0,38,8],[8,2,9,5]]}
["Preisliste  Unterkreis III"]
[]
[]
[]
["Präsidentenpokal",10]
["UK-Standarte",10]
["Damenpokal",10]
["Präsident",3]
["Schützenkönig",3,"      Datenbasis"]
["Schützenkönigin",3]
["Adjutant",3]
["Adjutantin",3]
["Einzelstarter Auflage",3]
["Einzelstarter Freihand",3]
[]
["Kurze Erklärung:\n\n- Alle Schützen die Präsidentenpokal und Damenpokal schießen, \n  starten automatisch auch als Einzelstarter  (Auflage) wenn dort eine Schützenklasse gewählt wurde!\n  !!! Bitte nicht mehr bei den Einzelstartern eingeben !!!\n\n- Bei der UK-Standarte, Präsident, König/Königin und Adjutanten ist eine Eingabe der Schützenklasse\n  nicht zwingend notwendig.\n\n- Präsidenten, König/Königin und deren Adjutanten die auch als Einzelstarter schießen wollen,\n  müssen bei den Einzelstartern eingeben werden.\n  \n- Alle Freihandeinzelstarter bitte bei den Freihandeinzelstartern eingeben.\n\n- Die \"Roten-Zahlen\" in der Hauptmaske zeigen die Anzahl der eingegebenen Schützen des jeweiligen\n  Vereines an. Die Zahlen werden Blau, sobald ein Verein vollständig gemeldet ist.\n  D.h. es müssen vollzählige Mannschaften beim Präsidenten-/, Damenpokal, UK-Standarte, \n  König/Königin und deren Adjutanten gemeldet sein."]

{"sheet":"SV-Soderstorf","index":8,"n_rows":105,"n_cols":44,"rows_kept":105,"cut":false,"hidden":false,"merged":[[3,24,3,26],[14,34,14,36],[23,24,23,26],[30,22,30,24],[34,22,34,24],[38,22,38,24],[42,22,42,24],[47,22,47,24],[17,31,20,33],[16,31,16,33],[14,0,15,33],[10,32,10,38],[10,2,10,4],[11,2,11,4],[10,5,10,16],[16,0,16,1],[16,2,16,4],[12,0,12,4],[34,0,34,21],[32,0,32,1],[32,2,32,4],[32,17,32,21],[11,0,11,1],[8,0,8,1],[5,0,5,1],[5,2,5,4],[6,5,6,16],[7,5,7,16],[6,0,6,1],[9,2,9,4],[9,0,9,1],[8,5,8,16],[7,0,7,1],[6,20,6,23],[7,20,7,23],[6,17,6,19],[10,0,10,1],[6,2,6,4],[7,2,7,4],[8,2,8,4],[82,24,82,26],[58,24,58,26],[12,11,12,16],[16,5,16,16],[16,17,16,21],[11,5,11,16],[10,17,10,19],[11,17,11,19],[12,5,12,9],[7,17,7,19],[32,5,32,16],[10,20,10,23],[11,20,11,23],[8,17,8,19],[9,17,9,19],[12,17,12,19],[16,22,16,26],[12,20,12,23],[11,25,11,38],[27,0,27,1],[27,2,27,4],[20,0,20,1],[20,2,20,4],[22,0,23,23],[30,0,30,21],[27,5,27,16],[25,5,25,16],[25,0,25,1],[25,2,25,4],[27,17,27,19],[26,2,26,4],[26,5,26,16],[26,17,26,19],[26,20,26,23],[21,27,21,30],[18,2,18,4],[17,0,17,1],[17,2,17,4],[18,0,18,1],[19,0,19,1],[19,2,19,4],[18,5,18,16],[18,17,18,21],[19,5,19,16],[17,5,17,16],[20,5,20,16],[16,27,16,30],[17,27,17,30],[18,27,18,30],[19,27,19,30],[20,22,20,26],[20,27,20,30],[20,17,20,21],[17,17,17,21],[19,17,19,21],[17,22,17,26],[18,22,18,26],[19,22,19,26],[36,0,36,1],[36,2,36,4],[36,5,36,16],[21,21,21,26],[24,5,24,16],[24,17,24,19],[24,20,24,23],[25,17,25,19],[25,20,25,23],[26,0,26,1],[31,0,31,1],[31,2,31,4],[31,5,31,16],[31,17,31,21],[27,20,27,23],[28,11,28,16],[28,17,28,19],[35,0,35,1],[35,2,35,4],[35,5,35,16],[24,0,24,1],[24,2,24,4],[28,0,28,4],[28,5,28,9],[40,17,40,21],[40,0,40,1],[38,0,38,21],[43,0,43,1],[43,2,43,4],[43,5,43,16],[42,0,42,21],[40,2,40,4],[40,5,40,16],[39,0,39,1],[39,2,39,4],[39,5,39,16],[61,0,61,1],[61,2,61,4],[61,5,61,16],[61,17,61,19],[47,0,47,21],[45,0,45,1],[45,2,45,4],[45,5,45,16],[44,0,44,1],[44,2,44,4],[44,5,44,16],[49,0,49,1],[49,2,49,4],[49,5,49,16],[49,17,49,21],[48,0,48,1],[48,2,48,4],[48,5,48,16],[64,0,64,1],[64,2,64,4],[64,5,64,16],[64,17,64,19],[63,0,63,1],[63,2,63,4],[63,5,63,16],[63,17,63,19],[66,0,66,1],[66,2,66,4],[66,5,66,16],[66,17,66,19],[65,0,65,1],[65,2,65,4],[65,5,65,16],[65,17,65,19],[68,0,68,1],[68,2,68,4],[68,5,68,16],[68,17,68,19],[67,0,67,1],[67,2,67,4],[67,5,67,16],[67,17,67,19],[70,0,70,1],[70,2,70,4],[70,5,70,16],[70,17,70,19],[69,0,69,1],[69,2,69,4],[69,5,69,16],[69,17,69,19],[72,0,72,1],[72,2,72,4],[72,5,72,16],[72,17,72,19],[71,0,71,1],[71,2,71,4],[71,5,71,16],[71,17,71,19],[74,0,74,1],[74,2,74,4],[74,5,74,16],[74,17,74,19],[73,0,73,1],[73,2,73,4],[73,5,73,16],[73,17,73,19],[76,0,76,1],[76,2,76,4],[76,5,76,16],[76,17,76,19],[75,0,75,1],[75,2,75,4],[75,5,75,16],[75,17,75,19],[78,0,78,1],[78,2,78,4],[78,5,78,16],[78,17,78,19],[77,0,77,1],[77,2,77,4],[77,5,77,16],[77,17,77,19],[80,0,80,1],[80,2,80,4],[80,5,80,16],[80,17,80,19],[79,0,79,1],[79,2,79,4],[79,5,79,16],[79,17,79,19],[85,0,85,1],[85,2,85,4],[85,5,85,16],[85,17,85,19],[84,0,84,1],[84,2,84,4],[84,5,84,16],[84,17,84,19],[87,0,87,1],[87,2,87,4],[87,5,87,16],[87,17,87,19],[86,0,86,1],[86,2,86,4],[86,5,86,16],[86,17,86,19],[89,0,89,1],[89,2,89,4],[89,5,89,16],[89,17,89,19],[88,0,88,1],[88,2,88,4],[88,5,88,16],[88,17,88,19],[91,0,91,1],[91,2,91,4],[91,5,91,16],[91,17,91,19],[90,0,90,1],[90,2,90,4],[90,5,90,16],[90,17,90,19],[93,0,93,1],[93,2,93,4],[93,5,93,16],[93,17,93,19],[92,0,92,1],[92,2,92,4],[92,5,92,16],[92,17,92,19],[94,0,94,1],[94,2,94,4],[94,5,94,16],[94,17,94,19],[97,0,97,1],[97,2,97,4],[97,5,97,16],[97,17,97,19],[96,0,96,1],[96,2,96,4],[96,5,96,16],[96,17,96,19],[101,5,101,16],[101,17,101,19],[100,0,100,1],[100,2,100,4],[100,5,100,16],[100,17,100,19],[95,0,95,1],[95,2,95,4],[95,5,95,16],[95,17,95,19],[102,0,102,1],[102,2,102,4],[102,5,102,16],[102,17,102,19],[60,20,60,23],[61,20,61,23],[62,20,62,23],[63,20,63,23],[64,20,64,23],[65,20,65,23],[66,20,66,23],[67,20,67,23],[86,20,86,23],[87,20,87,23],[99,0,99,1],[99,2,99,4],[99,5,99,16],[99,17,99,19],[98,0,98,1],[98,2,98,4],[98,5,98,16],[98,17,98,19],[101,0,101,1],[101,2,101,4],[104,5,104,16],[104,17,104,19],[103,0,103,1],[103,2,103,4],[68,20,68,23],[69,20,69,23],[70,20,70,23],[71,20,71,23],[76,20,76,23],[77,20,77,23],[78,20,78,23],[79,20,79,23],[72,20,72,23],[73,20,73,23],[74,20,74,23],[75,20,75,23],[88,20,88,23],[89,20,89,23],[90,20,90,23],[80,20,80,23],[84,20,84,23],[85,20,85,23],[103,5,103,16],[103,17,103,19],[0,0,2,33],[5,20,5,23],[5,17,5,19],[5,5,5,16],[9,5,9,16],[53,0,55,33],[104,20,104,23],[82,0,83,23],[58,0,59,23],[99,20,99,23],[100,20,100,23],[101,20,101,23],[102,20,102,23],[95,20,95,23],[103,20,103,23],[98,20,98,23],[91,20,91,23],[92,20,92,23],[93,20,93,23],[94,20,94,23],[96,20,96,23],[97,20,97,23],[104,0,104,1],[104,2,104,4],[63,29,63,34],[3,0,4,23],[43,17,43,21],[44,17,44,21],[45,17,45,21],[48,17,48,21],[35,17,35,21],[36,17,36,21],[39,17,39,21],[8,20,8,23],[9,20,9,23],[8,28,8,33],[60,0,60,1],[60,2,60,4],[60,5,60,16],[60,17,60,19],[50,0,50,1],[50,2,50,4],[50,5,50,16],[50,17,50,21],[62,0,62,1],[62,2,62,4],[62,5,62,16],[62,17,62,19]]}
["Schützenverein Soderstorf",null,null,null,null,null,null,null,null,null,null,null,null,null,null,null,null,null,null,null,null,null,null,null,null,null,null,null,null,null,null,null,null,null,null,null,null,null,null,null,null,null,10,10]
[null,null,null,null,null,null,null,null,null,null,null,null,null,null,null,null,null,null,null,null,null,null,null,null,null,null,null,null,null,null,null,null,null,null,null,null,null,null,null,null,null,null,11,11]
[null,null,null,null,null,null,null,null,null,null,null,null,null,null,null,null,null,null,null,null,null,null,null,null,null,null,null,null,null,null,null,null,null,null,null,null,null,null,null,null,null,null,12,12]
["Mannschaftswertung Präsidentenpokal\n(10 Schuss KK-Auflage)",null,null,null,null,null,null,null,null,null,null,null,null,null,null,null,null,null,null,null,null,null,null,null,{"$f":"IF(COUNTA(F7:Q12)=0,\"\",Stammdaten!B5+COUNTA(C7:E12)*Stammdaten!B13)","v":""},null,null,null,null,null,null,null,null,null,null,null,null,null,null,null,null,null,13,13]
[null,null,null,null,null,null,null,null,null,null,null,null,null,null,null,null,null,null,null,null,null,null,null,null,null,null,null,null,null,null,null,null,null,null,null,null,null,null,null,null,null,null,14,30]
["Nr.",null,"Klasse",null,null,"Vor- und Nachname",null,null,null,null,null,null,null,null,null,null,null,"Ringe",null,null,"10' nen",null,null,null,null,"Ergebnisse vom",null,null,null,null,null,null,null,null,null,null,null,null,null,null,null,null,15,31]
[1,null,null,null,null,null,null,null,null,null,null,null,null,null,null,null,null,null,null,null,null,null,null,null,null,"Unterkreis III schiessen",null,null,null,null,null,null,null,null,null,null,null,null,null,null,null,null,16,40]
[2,null,null,null,null,null,null,null,null,null,null,null,null,null,null,null,null,null,null,null,null,null,null,null,null,{"$f":"CONCATENATE(\"in\",\" \",Hauptmenü!A2)","v":"in ???"},null,null,null,null,null,null,null,null,null,null,null,null,null,null,null,null,17,41]
[3,null,null,null,null,null,null,null,null,null,null,null,null,null,null,null,null,null,null,null,null,null,null,null,null,"Datum:",null,null,{"$f":"IF(Hauptmenü!A4=\"\",\"???\",Hauptmenü!A4)","v":"???"},null,null,null,null,null,null,null,null,null,null,null,null,null,30,42]
[4,null,null,null,null,null,null,null,null,null,null,null,null,null,null,null,null,null,null,null,null,null,null,null,null,null,null,null,null,null,null,null,null,null,null,null,null,null,null,null,null,null,31,43]
[5,null,null,null,null,null,null,null,null,null,null,null,null,null,null,null,null,null,null,null,null,null,null,null,null,"∑ für Startgeld:",null,null,null,null,null,null,{"$f":"SUM(Y4,AI15,Y24,W31,W35,W39,W43,W48,Y59,Y83)","v":0},null,null,null,null,null,null,null,null,null,40,70]
[null,null,null,null,null,null,null,null,null,null,null,null,null,null,null,null,null,null,null,null,null,null,null,null,null,"Startgeld entfällt ab 2018 !",null,null,null,null,null,null,null,null,null,null,null,null,null,null,null,null,41,71]
["M-Teiler: ",null,null,null,null,null,null,null,null,null,null,"Ergebnis: ",null,null,null,null,null,{"$f":"IF(SUM(R7:T11)=0,\"\",SUM(R7:T11))","v":""},null,null,null,null,null,null,null,null,null,null,null,null,null,null,null,null,null,null,null,null,null,null,null,null,42,72]
[null,null,null,null,null,null,null,null,null,null,null,null,null,null,null,null,null,null,null,null,null,null,null,null,null,null,null,null,null,null,null,null,null,null,null,null,null,null,null,null,null,null,43,73]
["UK-Standarte\n(6 Schuss KK-Auflage und 6 Schuss KK-Freihand)",null,null,null,null,null,null,null,null,null,null,null,null,null,null,null,null,null,null,null,null,null,null,null,null,null,null,null,null,null,null,null,null,null,{"$f":"IF(COUNTA(F18:Q21)=0,\"\",Stammdaten!B6)","v":""},null,null,null,null,null,null,null,null,74]
[null,null,null,null,null,null,null,null,null,null,null,null,null,null,null,null,null,null,null,null,null,null,null,null,null,null,null,null,null,null,null,null,null,null,null,null,null,null,null,null,null,null,null,75]
["Nr.",null,"Klasse",null,null,"Vor- und Nachname",null,null,null,null,null,null,null,null,null,null,null,"Auflage\n(6 Schuss)",null,null,null,null,"Freihand\n(6 Schuss)",null,null,null,null,"Ringe",null,null,null,"∑ FH",null,null,null,null,null,null,null,null,null,null,null,76]
[1,null,null,null,null,null,null,null,null,null,null,null,null,null,null,null,null,null,null,null,null,null,null,null,null,null,null,{"$f":"IF(R18=\"\",\"\",SUM(R18:AA18))","v":""},null,null,null,{"$f":"IF(SUM(W18:AA21)=\"\",\"\",SUM(W18:AA21))","v":0},null,null,null,null,null,null,null,null,null,null,null,77]
[2,null,null,null,null,null,null,null,null,null,null,null,null,null,null,null,null,null,null,null,null,null,null,null,null,null,null,{"$f":"IF(R19=\"\",\"\",SUM(R19:AA19))","v":""},null,null,null,null,null,null,null,null,null,null,null,null,null,null,null,78]
[3,null,null,null,null,null,null,null,null,null,null,null,null,null,null,null,null,null,null,null,null,null,null,null,null,null,null,{"$f":"IF(R20=\"\",\"\",SUM(R20:AA20))","v":""},null,null,null,null,null,null,null,null,null,null,null,null,null,null,null,79]
[4,null,null,null,null,null,null,null,null,null,null,null,null,null,null,null,null,null,null,null,null,null,null,null,null,null,null,{"$f":"IF(R21=\"\",\"\",SUM(R21:AA21))","v":""}]
[null,null,null,null,null,null,null,null,null,null,null,null,null,null,null,null,null,null,null,null,null,"Ergebnis: ",null,null,null,null,null,{"$f":"IF(SUM(R18:AA21)=0,\"\",SUM(AB18:AE21))","v":""}]
["Damenpokal\n(10 Schuss KK-Auflage)"]
[null,null,null,null,null,null,null,null,null,null,null,null,null,null,null,null,null,null,null,null,null,null,null,null,{"$f":"IF(COUNTA(F26:Q28)=0,\"\",Stammdaten!B7+COUNTA(C26:E28)*Stammdaten!B13)","v":""}]
["Nr.",null,"Klasse",null,null,"Vor- und Nachname",null,null,null,null,null,null,null,null,null,null,null,"Ringe",null,null,"10' nen"]
[1]
[2]
[3]
["M-Teiler: ",null,null,null,null,null,null,null,null,null,null,"Ergebnis: ",null,null,null,null,null,{"$f":"IF(SUM(R26:T28)=0,\"\",SUM(R26:T28))","v":""}]
[]
["Präsident",null,null,null,null,null,null,null,null,null,null,null,null,null,null,null,null,null,null,null,null,null,{"$f":"IF(F33=\"\",\"\",Stammdaten!B8)","v":""}]
["Nr.",null,"Klasse",null,null,"Vor- und Nachname",null,null,null,null,null,null,null,null,null,null,null,"Teiler"]
[1]
[]
["Schützenkönig",null,null,null,null,null,null,null,null,null,null,null,null,null,null,null,null,null,null,null,null,null,{"$f":"IF(F37=\"\",\"\",Stammdaten!B9)","v":""}]
["Nr.",null,"Klasse",null,null,"Vor- und Nachname",null,null,null,null,null,null,null,null,null,null,null,"Teiler"]
[1]
[]
["Schützenkönigin",null,null,null,null,null,null,null,null,null,null,null,null,null,null,null,null,null,null,null,null,null,{"$f":"IF(F41=\"\",\"\",Stammdaten!B10)","v":""}]
["Nr.",null,"Klasse",null,null,"Vor- und Nachname",null,null,null,null,null,null,null,null,null,null,null,"Teiler"]
[1]
[]
["Adjutanten vom König",null,null,null,null,null,null,null,null,null,null,null,null,null,null,null,null,null,null,null,null,null,{"$f":"IF(COUNTA(F45:Q46)=0,\"\",COUNTA(F45:Q46)*Stammdaten!B11)","v":""}]
["Nr.",null,"Klasse",null,null,"Vor- und Nachname",null,null,null,null,null,null,null,null,null,null,null,"Teiler"]
[1]
[2]
[]
["Adjutantinnen der Königin",null,null,null,null,null,null,null,null,null,null,null,null,null,null,null,null,null,null,null,null,null,{"$f":"IF(COUNTA(F50:Q51)=0,\"\",COUNTA(F50:Q51)*Stammdaten!B12)","v":""}]
["Nr.",null,"Klasse",null,null,"Vor- und Nachname",null,null,null,null,null,null,null,null,null,null,null,"Teiler"]
[1]
[2]
[]
[]
[{"$f":"A1","v":"Schützenverein Soderstorf"}]
[]
[]
[]
[]
["Einzelstarter KK-Auflage\n(10 Schuss KK-Auflage)",null,null,null,null,null,null,null,null,null,null,null,null,null,null,null,null,null,null,null,null,null,null,null,{"$f":"IF(COUNTA(F62:Q81)=0,\"\",COUNTA(F62:Q81)*Stammdaten!B13)","v":""}]
[]
["Nr.",null,"Klasse",null,null,"Vor- und Nachname",null,null,null,null,null,null,null,null,null,null,null,"Ringe",null,null,"10' nen",null,null,null,null,null,{"$f":"Z6","v":"Ergebnisse vom"}]
[1,null,null,null,null,null,null,null,null,null,null,null,null,null,null,null,null,null,null,null,null,null,null,null,null,null,{"$f":"Z7","v":"Unterkreis III schiessen"}]
[2,null,null,null,null,null,null,null,null,null,null,null,null,null,null,null,null,null,null,null,null,null,null,null,null,null,{"$f":"Z8","v":"in ???"}]
[3,null,null,null,null,null,null,null,null,null,null,null,null,null,null,null,null,null,null,null,null,null,null,null,null,null,{"$f":"Z9","v":"Datum:"},null,null,{"$f":"AC9","v":"???"}]
[4]
[5]
[6]
[7]
[8]
[9]
[10]
[11]
[12]
[13]
[14]
[15]
[16]
[17]
[18]
[19]
[20]
[]
["Einzelstarter KK-Freihand\n(10 Schuss KK-Freihand)",null,null,null,null,null,null,null,null,null,null,null,null,null,null,null,null,null,null,null,null,null,null,null,{"$f":"IF(COUNTA(F86:Q105)=0,\"\",COUNTA(F86:Q105)*Stammdaten!B14)","v":""}]
[]
["Nr.",null,"Klasse",null,null,"Vor- und Nachname",null,null,null,null,null,null,null,null,null,null,null,"Ringe",null,null,"10' nen"]
[1]
[2]
[3]
[4]
[5]
[6]
[7]
[8]
[9]
[10]
[11]
[12]
[13]
[14]
[15]
[16]
[17]
[18]
[19]
[20]

{"sheet":"SV-Egestorf","index":9,"n_rows":105,"n_cols":44,"rows_kept":105,"cut":false,"hidden":false,"merged":[[78,17,78,19],[75,0,75,1],[75,2,75,4],[75,5,75,16],[20,22,20,26],[20,27,20,30],[20,5,20,16],[20,17,20,21],[82,24,82,26],[38,22,38,24],[42,22,42,24],[47,22,47,24],[58,24,58,26],[53,0,55,33],[63,29,63,34],[48,17,48,21],[76,20,76,23],[77,20,77,23],[43,17,43,21],[44,17,44,21],[45,17,45,21],[77,0,77,1],[77,2,77,4],[77,5,77,16],[77,17,77,19],[78,0,78,1],[78,2,78,4],[78,5,78,16],[26,20,26,23],[27,20,27,23],[32,17,32,21],[31,17,31,21],[3,24,3,26],[3,0,4,23],[35,17,35,21],[36,17,36,21],[39,17,39,21],[6,20,6,23],[7,20,7,23],[7,17,7,19],[38,0,38,21],[36,0,36,1],[36,2,36,4],[36,5,36,16],[75,17,75,19],[76,0,76,1],[76,2,76,4],[76,5,76,16],[14,34,14,36],[23,24,23,26],[30,22,30,24],[17,31,20,33],[16,31,16,33],[14,0,15,33],[10,32,10,38],[22,0,23,23],[30,0,30,21],[24,5,24,16],[24,17,24,19],[10,0,10,1],[10,2,10,4],[11,2,11,4],[11,0,11,1],[16,0,16,1],[16,2,16,4],[25,17,25,19],[25,20,25,23],[26,17,26,19],[11,25,11,38],[8,28,8,33],[19,27,19,30],[17,27,17,30],[18,27,18,30],[19,17,19,21],[18,5,18,16],[18,17,18,21],[19,5,19,16],[21,27,21,30],[10,20,10,23],[11,20,11,23],[8,17,8,19],[9,17,9,19],[8,20,8,23],[9,20,9,23],[16,22,16,26],[21,21,21,26],[17,22,17,26],[18,22,18,26],[19,22,19,26],[17,17,17,21],[16,27,16,30],[8,5,8,16],[0,0,2,33],[103,20,103,23],[98,20,98,23],[91,20,91,23],[92,20,92,23],[93,20,93,23],[94,20,94,23],[87,20,87,23],[12,20,12,23],[67,20,67,23],[68,20,68,23],[69,20,69,23],[70,20,70,23],[71,20,71,23],[101,5,101,16],[101,17,101,19],[98,0,98,1],[98,2,98,4],[98,5,98,16],[98,17,98,19],[99,0,99,1],[99,2,99,4],[99,5,99,16],[99,17,99,19],[104,20,104,23],[82,0,83,23],[58,0,59,23],[99,20,99,23],[100,20,100,23],[101,20,101,23],[102,20,102,23],[95,20,95,23],[96,20,96,23],[97,20,97,23],[88,20,88,23],[89,20,89,23],[90,20,90,23],[80,20,80,23],[84,20,84,23],[85,20,85,23],[86,20,86,23],[78,20,78,23],[79,20,79,23],[72,20,72,23],[73,20,73,23],[74,20,74,23],[75,20,75,23],[66,20,66,23],[104,0,104,1],[104,2,104,4],[104,5,104,16],[104,17,104,19],[60,20,60,23],[61,20,61,23],[62,20,62,23],[63,20,63,23],[64,20,64,23],[65,20,65,23],[102,0,102,1],[102,2,102,4],[102,5,102,16],[102,17,102,19],[103,0,103,1],[103,2,103,4],[103,5,103,16],[103,17,103,19],[100,0,100,1],[100,2,100,4],[100,5,100,16],[100,17,100,19],[101,0,101,1],[101,2,101,4],[96,0,96,1],[96,2,96,4],[96,5,96,16],[96,17,96,19],[97,0,97,1],[97,2,97,4],[97,5,97,16],[97,17,97,19],[94,0,94,1],[94,2,94,4],[94,5,94,16],[94,17,94,19],[95,0,95,1],[95,2,95,4],[95,5,95,16],[95,17,95,19],[92,0,92,1],[92,2,92,4],[92,5,92,16],[92,17,92,19],[93,0,93,1],[93,2,93,4],[93,5,93,16],[93,17,93,19],[90,0,90,1],[90,2,90,4],[90,5,90,16],[90,17,90,19],[91,0,91,1],[91,2,91,4],[91,5,91,16],[91,17,91,19],[88,0,88,1],[88,2,88,4],[88,5,88,16],[88,17,88,19],[89,0,89,1],[89,2,89,4],[89,5,89,16],[89,17,89,19],[86,0,86,1],[86,2,86,4],[86,5,86,16],[86,17,86,19],[87,0,87,1],[87,2,87,4],[87,5,87,16],[87,17,87,19],[84,0,84,1],[84,2,84,4],[84,5,84,16],[84,17,84,19],[85,0,85,1],[85,2,85,4],[85,5,85,16],[85,17,85,19],[79,0,79,1],[79,2,79,4],[79,5,79,16],[79,17,79,19],[80,0,80,1],[80,2,80,4],[80,5,80,16],[80,17,80,19],[76,17,76,19],[73,0,73,1],[73,2,73,4],[73,5,73,16],[73,17,73,19],[74,0,74,1],[74,2,74,4],[74,5,74,16],[74,17,74,19],[71,0,71,1],[71,2,71,4],[71,5,71,16],[71,17,71,19],[72,0,72,1],[72,2,72,4],[72,5,72,16],[72,17,72,19],[69,0,69,1],[69,2,69,4],[69,5,69,16],[69,17,69,19],[70,0,70,1],[70,2,70,4],[70,5,70,16],[70,17,70,19],[67,0,67,1],[67,2,67,4],[67,5,67,16],[67,17,67,19],[68,0,68,1],[68,2,68,4],[68,5,68,16],[68,17,68,19],[65,0,65,1],[65,2,65,4],[65,5,65,16],[65,17,65,19],[66,0,66,1],[66,2,66,4],[66,5,66,16],[66,17,66,19],[63,0,63,1],[63,2,63,4],[63,5,63,16],[63,17,63,19],[64,0,64,1],[64,2,64,4],[64,5,64,16],[64,17,64,19],[61,0,61,1],[61,2,61,4],[61,5,61,16],[61,17,61,19],[62,0,62,1],[62,2,62,4],[62,5,62,16],[62,17,62,19],[50,0,50,1],[50,2,50,4],[50,5,50,16],[50,17,50,21],[60,0,60,1],[60,2,60,4],[60,5,60,16],[60,17,60,19],[48,0,48,1],[48,2,48,4],[48,5,48,16],[43,0,43,1],[43,2,43,4],[43,5,43,16],[42,0,42,21],[40,17,40,21],[40,0,40,1],[47,0,47,21],[49,0,49,1],[49,2,49,4],[49,5,49,16],[49,17,49,21],[45,0,45,1],[45,2,45,4],[45,5,45,16],[44,0,44,1],[44,2,44,4],[44,5,44,16],[8,2,8,4],[9,2,9,4],[9,0,9,1],[40,2,40,4],[40,5,40,16],[39,0,39,1],[39,2,39,4],[39,5,39,16],[7,0,7,1],[5,20,5,23],[17,5,17,16],[12,17,12,19],[12,11,12,16],[16,5,16,16],[16,17,16,21],[11,5,11,16],[11,17,11,19],[5,17,5,19],[5,5,5,16],[10,17,10,19],[6,17,6,19],[6,0,6,1],[9,5,9,16],[35,0,35,1],[35,2,35,4],[35,5,35,16],[24,0,24,1],[24,2,24,4],[26,0,26,1],[26,2,26,4],[26,5,26,16],[25,5,25,16],[28,11,28,16],[32,0,32,1],[32,2,32,4],[32,5,32,16],[31,0,31,1],[31,2,31,4],[31,5,31,16],[34,0,34,21],[24,20,24,23],[25,0,25,1],[25,2,25,4],[34,22,34,24],[7,2,7,4],[5,0,5,1],[5,2,5,4],[6,5,6,16],[7,5,7,16],[8,0,8,1],[28,17,28,19],[27,0,27,1],[27,2,27,4],[27,5,27,16],[27,17,27,19],[28,0,28,4],[28,5,28,9],[10,5,10,16],[12,0,12,4],[12,5,12,9],[20,2,20,4],[18,2,18,4],[17,0,17,1],[17,2,17,4],[18,0,18,1],[19,0,19,1],[19,2,19,4],[20,0,20,1],[6,2,6,4]]}
["Schützenverein Egestorf",null,null,null,null,null,null,null,null,null,null,null,null,null,null,null,null,null,null,null,null,null,null,null,null,null,null,null,null,null,null,null,null,null,null,null,null,null,null,null,null,null,10,10]
[null,null,null,null,null,null,null,null,null,null,null,null,null,null,null,null,null,null,null,null,null,null,null,null,null,null,null,null,null,null,null,null,null,null,null,null,null,null,null,null,null,null,11,11]
[null,null,null,null,null,null,null,null,null,null,null,null,null,null,null,null,null,null,null,null,null,null,null,null,null,null,null,null,null,null,null,null,null,null,null,null,null,null,null,null,null,null,12,12]
["Mannschaftswertung Präsidentenpokal\n(10 Schuss KK-Auflage)",null,null,null,null,null,null,null,null,null,null,null,null,null,null,null,null,null,null,null,null,null,null,null,{"$f":"IF(COUNTA(F7:Q12)=0,\"\",Stammdaten!B5+COUNTA(C7:E12)*Stammdaten!B13)","v":""},null,null,null,null,null,null,null,null,null,null,null,null,null,null,null,null,null,13,13]
[null,null,null,null,null,null,null,null,null,null,null,null,null,null,null,null,null,null,null,null,null,null,null,null,null,null,null,null,null,null,null,null,null,null,null,null,null,null,null,null,null,null,14,30]
["Nr.",null,"Klasse",null,null,"Vor- und Nachname",null,null,null,null,null,null,null,null,null,null,null,"Ringe",null,null,"10' nen",null,null,null,null,"Ergebnisse vom",null,null,null,null,null,null,null,null,null,null,null,null,null,null,null,null,15,31]
[1,null,null,null,null,null,null,null,null,null,null,null,null,null,null,null,null,null,null,null,null,null,null,null,null,"Unterkreis III schiessen",null,null,null,null,null,null,null,null,null,null,null,null,null,null,null,null,16,40]
[2,null,null,null,null,null,null,null,null,null,null,null,null,null,null,null,null,null,null,null,null,null,null,null,null,{"$f":"CONCATENATE(\"in\",\" \",Hauptmenü!A2)","v":"in ???"},null,null,null,null,null,null,null,null,null,null,null,null,null,null,null,null,17,41]
[3,null,null,null,null,null,null,null,null,null,null,null,null,null,null,null,null,null,null,null,null,null,null,null,null,"Datum:",null,null,{"$f":"IF(Hauptmenü!A4=\"\",\"???\",Hauptmenü!A4)","v":"???"},null,null,null,null,null,null,null,null,null,null,null,null,null,30,42]
[4,null,null,null,null,null,null,null,null,null,null,null,null,null,null,null,null,null,null,null,null,null,null,null,null,null,null,null,null,null,null,null,null,null,null,null,null,null,null,null,null,null,31,43]
[5,null,null,null,null,null,null,null,null,null,null,null,null,null,null,null,null,null,null,null,null,null,null,null,null,"∑ für Startgeld:",null,null,null,null,null,null,{"$f":"SUM(Y4,AI15,Y24,W31,W35,W39,W43,W48,Y59,Y83)","v":0},null,null,null,null,null,null,null,null,null,40,70]
[null,null,null,null,null,null,null,null,null,null,null,null,null,null,null,null,null,null,null,null,null,null,null,null,null,"Startgeld entfällt ab 2018 !",null,null,null,null,null,null,null,null,null,null,null,null,null,null,null,null,41,71]
["M-Teiler: ",null,null,null,null,null,null,null,null,null,null,"Ergebnis: ",null,null,null,null,null,{"$f":"IF(SUM(R7:T11)=0,\"\",SUM(R7:T11))","v":""},null,null,null,null,null,null,null,null,null,null,null,null,null,null,null,null,null,null,null,null,null,null,null,null,42,72]
[null,null,null,null,null,null,null,null,null,null,null,null,null,null,null,null,null,null,null,null,null,null,null,null,null,null,null,null,null,null,null,null,null,null,null,null,null,null,null,null,null,null,43,73]
["UK-Standarte\n(6 Schuss KK-Auflage und 6 Schuss KK-Freihand)",null,null,null,null,null,null,null,null,null,null,null,null,null,null,null,null,null,null,null,null,null,null,null,null,null,null,null,null,null,null,null,null,null,{"$f":"IF(COUNTA(F18:Q21)=0,\"\",Stammdaten!B6)","v":""},null,null,null,null,null,null,null,null,74]
[null,null,null,null,null,null,null,null,null,null,null,null,null,null,null,null,null,null,null,null,null,null,null,null,null,null,null,null,null,null,null,null,null,null,null,null,null,null,null,null,null,null,null,75]
["Nr.",null,"Klasse",null,null,"Vor- und Nachname",null,null,null,null,null,null,null,null,null,null,null,"Auflage\n(6 Schuss)",null,null,null,null,"Freihand\n(6 Schuss)",null,null,null,null,"Ringe",null,null,null,"∑ FH",null,null,null,null,null,null,null,null,null,null,null,76]
[1,null,null,null,null,null,null,null,null,null,null,null,null,null,null,null,null,null,null,null,null,null,null,null,null,null,null,{"$f":"IF(R18=\"\",\"\",SUM(R18:AA18))","v":""},null,null,null,{"$f":"IF(SUM(W18:AA21)=\"\",\"\",SUM(W18:AA21))","v":0},null,null,null,null,null,null,null,null,null,null,null,77]
[2,null,null,null,null,null,null,null,null,null,null,null,null,null,null,null,null,null,null,null,null,null,null,null,null,null,null,{"$f":"IF(R19=\"\",\"\",SUM(R19:AA19))","v":""},null,null,null,null,null,null,null,null,null,null,null,null,null,null,null,78]
[3,null,null,null,null,null,null,null,null,null,null,null,null,null,null,null,null,null,null,null,null,null,null,null,null,null,null,{"$f":"IF(R20=\"\",\"\",SUM(R20:AA20))","v":""},null,null,null,null,null,null,null,null,null,null,null,null,null,null,null,79]
[4,null,null,null,null,null,null,null,null,null,null,null,null,null,null,null,null,null,null,null,null,null,null,null,null,null,null,{"$f":"IF(R21=\"\",\"\",SUM(R21:AA21))","v":""}]
[null,null,null,null,null,null,null,null,null,null,null,null,null,null,null,null,null,null,null,null,null,"Ergebnis: ",null,null,null,null,null,{"$f":"IF(SUM(R18:AA21)=0,\"\",SUM(AB18:AE21))","v":""}]
["Damenpokal\n(10 Schuss KK-Auflage)"]
[null,null,null,null,null,null,null,null,null,null,null,null,null,null,null,null,null,null,null,null,null,null,null,null,{"$f":"IF(COUNTA(F26:Q28)=0,\"\",Stammdaten!B7+COUNTA(C26:E28)*Stammdaten!B13)","v":""}]
["Nr.",null,"Klasse",null,null,"Vor- und Nachname",null,null,null,null,null,null,null,null,null,null,null,"Ringe",null,null,"10' nen"]
[1]
[2]
[3]
["M-Teiler: ",null,null,null,null,null,null,null,null,null,null,"Ergebnis: ",null,null,null,null,null,{"$f":"IF(SUM(R26:T28)=0,\"\",SUM(R26:T28))","v":""}]
[]
["Präsident",null,null,null,null,null,null,null,null,null,null,null,null,null,null,null,null,null,null,null,null,null,{"$f":"IF(F33=\"\",\"\",Stammdaten!B8)","v":""}]
["Nr.",null,"Klasse",null,null,"Vor- und Nachname",null,null,null,null,null,null,null,null,null,null,null,"Teiler"]
[1]
[]
["Schützenkönig",null,null,null,null,null,null,null,null,null,null,null,null,null,null,null,null,null,null,null,null,null,{"$f":"IF(F37=\"\",\"\",Stammdaten!B9)","v":""}]
["Nr.",null,"Klasse",null,null,"Vor- und Nachname",null,null,null,null,null,null,null,null,null,null,null,"Teiler"]
[1]
[]
["Schützenkönigin",null,null,null,null,null,null,null,null,null,null,null,null,null,null,null,null,null,null,null,null,null,{"$f":"IF(F41=\"\",\"\",Stammdaten!B10)","v":""}]
["Nr.",null,"Klasse",null,null,"Vor- und Nachname",null,null,null,null,null,null,null,null,null,null,null,"Teiler"]
[1]
[]
["Adjutanten vom König",null,null,null,null,null,null,null,null,null,null,null,null,null,null,null,null,null,null,null,null,null,{"$f":"IF(COUNTA(F45:Q46)=0,\"\",COUNTA(F45:Q46)*Stammdaten!B11)","v":""}]
["Nr.",null,"Klasse",null,null,"Vor- und Nachname",null,null,null,null,null,null,null,null,null,null,null,"Teiler"]
[1]
[2]
[]
["Adjutantinnen der Königin",null,null,null,null,null,null,null,null,null,null,null,null,null,null,null,null,null,null,null,null,null,{"$f":"IF(COUNTA(F50:Q51)=0,\"\",COUNTA(F50:Q51)*Stammdaten!B12)","v":""}]
["Nr.",null,"Klasse",null,null,"Vor- und Nachname",null,null,null,null,null,null,null,null,null,null,null,"Teiler"]
[1]
[2]
[]
[]
[{"$f":"A1","v":"Schützenverein Egestorf"}]
[]
[]
[]
[]
["Einzelstarter KK-Auflage\n(10 Schuss KK-Auflage)",null,null,null,null,null,null,null,null,null,null,null,null,null,null,null,null,null,null,null,null,null,null,null,{"$f":"IF(COUNTA(F62:Q81)=0,\"\",COUNTA(F62:Q81)*Stammdaten!B13)","v":""}]
[]
["Nr.",null,"Klasse",null,null,"Vor- und Nachname",null,null,null,null,null,null,null,null,null,null,null,"Ringe",null,null,"10' nen",null,null,null,null,null,{"$f":"Z6","v":"Ergebnisse vom"}]
[1,null,null,null,null,null,null,null,null,null,null,null,null,null,null,null,null,null,null,null,null,null,null,null,null,null,{"$f":"Z7","v":"Unterkreis III schiessen"}]
[2,null,null,null,null,null,null,null,null,null,null,null,null,null,null,null,null,null,null,null,null,null,null,null,null,null,{"$f":"Z8","v":"in ???"}]
[3,null,null,null,null,null,null,null,null,null,null,null,null,null,null,null,null,null,null,null,null,null,null,null,null,null,{"$f":"Z9","v":"Datum:"},null,null,{"$f":"AC9","v":"???"}]
[4]
[5]
[6]
[7]
[8]
[9]
[10]
[11]
[12]
[13]
[14]
[15]
[16]
[17]
[18]
[19]
[20]
[]
["Einzelstarter KK-Freihand\n(10 Schuss KK-Freihand)",null,null,null,null,null,null,null,null,null,null,null,null,null,null,null,null,null,null,null,null,null,null,null,{"$f":"IF(COUNTA(F86:Q105)=0,\"\",COUNTA(F86:Q105)*Stammdaten!B14)","v":""}]
[]
["Nr.",null,"Klasse",null,null,"Vor- und Nachname",null,null,null,null,null,null,null,null,null,null,null,"Ringe",null,null,"10' nen"]
[1]
[2]
[3]
[4]
[5]
[6]
[7]
[8]
[9]
[10]
[11]
[12]
[13]
[14]
[15]
[16]
[17]
[18]
[19]
[20]

{"sheet":"SV-Evendorf","index":10,"n_rows":105,"n_cols":44,"rows_kept":105,"cut":false,"hidden":false,"merged":[[78,17,78,19],[75,0,75,1],[75,2,75,4],[75,5,75,16],[20,22,20,26],[20,27,20,30],[20,5,20,16],[20,17,20,21],[82,24,82,26],[38,22,38,24],[42,22,42,24],[47,22,47,24],[58,24,58,26],[53,0,55,33],[63,29,63,34],[48,17,48,21],[76,20,76,23],[77,20,77,23],[43,17,43,21],[44,17,44,21],[45,17,45,21],[77,0,77,1],[77,2,77,4],[77,5,77,16],[77,17,77,19],[78,0,78,1],[78,2,78,4],[78,5,78,16],[26,20,26,23],[27,20,27,23],[32,17,32,21],[31,17,31,21],[3,24,3,26],[3,0,4,23],[35,17,35,21],[36,17,36,21],[39,17,39,21],[6,20,6,23],[7,20,7,23],[7,17,7,19],[38,0,38,21],[36,0,36,1],[36,2,36,4],[36,5,36,16],[75,17,75,19],[76,0,76,1],[76,2,76,4],[76,5,76,16],[14,34,14,36],[23,24,23,26],[30,22,30,24],[17,31,20,33],[16,31,16,33],[14,0,15,33],[10,32,10,38],[22,0,23,23],[30,0,30,21],[24,5,24,16],[24,17,24,19],[10,0,10,1],[10,2,10,4],[11,2,11,4],[11,0,11,1],[16,0,16,1],[16,2,16,4],[25,17,25,19],[25,20,25,23],[26,17,26,19],[11,25,11,38],[8,28,8,33],[19,27,19,30],[17,27,17,30],[18,27,18,30],[19,17,19,21],[18,5,18,16],[18,17,18,21],[19,5,19,16],[21,27,21,30],[10,20,10,23],[11,20,11,23],[8,17,8,19],[9,17,9,19],[8,20,8,23],[9,20,9,23],[16,22,16,26],[21,21,21,26],[17,22,17,26],[18,22,18,26],[19,22,19,26],[17,17,17,21],[16,27,16,30],[8,5,8,16],[0,0,2,33],[103,20,103,23],[98,20,98,23],[91,20,91,23],[92,20,92,23],[93,20,93,23],[94,20,94,23],[87,20,87,23],[12,20,12,23],[67,20,67,23],[68,20,68,23],[69,20,69,23],[70,20,70,23],[71,20,71,23],[101,5,101,16],[101,17,101,19],[98,0,98,1],[98,2,98,4],[98,5,98,16],[98,17,98,19],[99,0,99,1],[99,2,99,4],[99,5,99,16],[99,17,99,19],[104,20,104,23],[82,0,83,23],[58,0,59,23],[99,20,99,23],[100,20,100,23],[101,20,101,23],[102,20,102,23],[95,20,95,23],[96,20,96,23],[97,20,97,23],[88,20,88,23],[89,20,89,23],[90,20,90,23],[80,20,80,23],[84,20,84,23],[85,20,85,23],[86,20,86,23],[78,20,78,23],[79,20,79,23],[72,20,72,23],[73,20,73,23],[74,20,74,23],[75,20,75,23],[66,20,66,23],[104,0,104,1],[104,2,104,4],[104,5,104,16],[104,17,104,19],[60,20,60,23],[61,20,61,23],[62,20,62,23],[63,20,63,23],[64,20,64,23],[65,20,65,23],[102,0,102,1],[102,2,102,4],[102,5,102,16],[102,17,102,19],[103,0,103,1],[103,2,103,4],[103,5,103,16],[103,17,103,19],[100,0,100,1],[100,2,100,4],[100,5,100,16],[100,17,100,19],[101,0,101,1],[101,2,101,4],[96,0,96,1],[96,2,96,4],[96,5,96,16],[96,17,96,19],[97,0,97,1],[97,2,97,4],[97,5,97,16],[97,17,97,19],[94,0,94,1],[94,2,94,4],[94,5,94,16],[94,17,94,19],[95,0,95,1],[95,2,95,4],[95,5,95,16],[95,17,95,19],[92,0,92,1],[92,2,92,4],[92,5,92,16],[92,17,92,19],[93,0,93,1],[93,2,93,4],[93,5,93,16],[93,17,93,19],[90,0,90,1],[90,2,90,4],[90,5,90,16],[90,17,90,19],[91,0,91,1],[91,2,91,4],[91,5,91,16],[91,17,91,19],[88,0,88,1],[88,2,88,4],[88,5,88,16],[88,17,88,19],[89,0,89,1],[89,2,89,4],[89,5,89,16],[89,17,89,19],[86,0,86,1],[86,2,86,4],[86,5,86,16],[86,17,86,19],[87,0,87,1],[87,2,87,4],[87,5,87,16],[87,17,87,19],[84,0,84,1],[84,2,84,4],[84,5,84,16],[84,17,84,19],[85,0,85,1],[85,2,85,4],[85,5,85,16],[85,17,85,19],[79,0,79,1],[79,2,79,4],[79,5,79,16],[79,17,79,19],[80,0,80,1],[80,2,80,4],[80,5,80,16],[80,17,80,19],[76,17,76,19],[73,0,73,1],[73,2,73,4],[73,5,73,16],[73,17,73,19],[74,0,74,1],[74,2,74,4],[74,5,74,16],[74,17,74,19],[71,0,71,1],[71,2,71,4],[71,5,71,16],[71,17,71,19],[72,0,72,1],[72,2,72,4],[72,5,72,16],[72,17,72,19],[69,0,69,1],[69,2,69,4],[69,5,69,16],[69,17,69,19],[70,0,70,1],[70,2,70,4],[70,5,70,16],[70,17,70,19],[67,0,67,1],[67,2,67,4],[67,5,67,16],[67,17,67,19],[68,0,68,1],[68,2,68,4],[68,5,68,16],[68,17,68,19],[65,0,65,1],[65,2,65,4],[65,5,65,16],[65,17,65,19],[66,0,66,1],[66,2,66,4],[66,5,66,16],[66,17,66,19],[63,0,63,1],[63,2,63,4],[63,5,63,16],[63,17,63,19],[64,0,64,1],[64,2,64,4],[64,5,64,16],[64,17,64,19],[61,0,61,1],[61,2,61,4],[61,5,61,16],[61,17,61,19],[62,0,62,1],[62,2,62,4],[62,5,62,16],[62,17,62,19],[50,0,50,1],[50,2,50,4],[50,5,50,16],[50,17,50,21],[60,0,60,1],[60,2,60,4],[60,5,60,16],[60,17,60,19],[48,0,48,1],[48,2,48,4],[48,5,48,16],[43,0,43,1],[43,2,43,4],[43,5,43,16],[42,0,42,21],[40,17,40,21],[40,0,40,1],[47,0,47,21],[49,0,49,1],[49,2,49,4],[49,5,49,16],[49,17,49,21],[45,0,45,1],[45,2,45,4],[45,5,45,16],[44,0,44,1],[44,2,44,4],[44,5,44,16],[8,2,8,4],[9,2,9,4],[9,0,9,1],[40,2,40,4],[40,5,40,16],[39,0,39,1],[39,2,39,4],[39,5,39,16],[7,0,7,1],[5,20,5,23],[17,5,17,16],[12,17,12,19],[12,11,12,16],[16,5,16,16],[16,17,16,21],[11,5,11,16],[11,17,11,19],[5,17,5,19],[5,5,5,16],[10,17,10,19],[6,17,6,19],[6,0,6,1],[9,5,9,16],[35,0,35,1],[35,2,35,4],[35,5,35,16],[24,0,24,1],[24,2,24,4],[26,0,26,1],[26,2,26,4],[26,5,26,16],[25,5,25,16],[28,11,28,16],[32,0,32,1],[32,2,32,4],[32,5,32,16],[31,0,31,1],[31,2,31,4],[31,5,31,16],[34,0,34,21],[24,20,24,23],[25,0,25,1],[25,2,25,4],[34,22,34,24],[7,2,7,4],[5,0,5,1],[5,2,5,4],[6,5,6,16],[7,5,7,16],[8,0,8,1],[28,17,28,19],[27,0,27,1],[27,2,27,4],[27,5,27,16],[27,17,27,19],[28,0,28,4],[28,5,28,9],[10,5,10,16],[12,0,12,4],[12,5,12,9],[20,2,20,4],[18,2,18,4],[17,0,17,1],[17,2,17,4],[18,0,18,1],[19,0,19,1],[19,2,19,4],[20,0,20,1],[6,2,6,4]]}
["Schützenverein Evendorf",null,null,null,null,null,null,null,null,null,null,null,null,null,null,null,null,null,null,null,null,null,null,null,null,null,null,null,null,null,null,null,null,null,null,null,null,null,null,null,null,null,10,10]
[null,null,null,null,null,null,null,null,null,null,null,null,null,null,null,null,null,null,null,null,null,null,null,null,null,null,null,null,null,null,null,null,null,null,null,null,null,null,null,null,null,null,11,11]
[null,null,null,null,null,null,null,null,null,null,null,null,null,null,null,null,null,null,null,null,null,null,null,null,null,null,null,null,null,null,null,null,null,null,null,null,null,null,null,null,null,null,12,12]
["Mannschaftswertung Präsidentenpokal\n(10 Schuss KK-Auflage)",null,null,null,null,null,null,null,null,null,null,null,null,null,null,null,null,null,null,null,null,null,null,null,{"$f":"IF(COUNTA(F7:Q12)=0,\"\",Stammdaten!B5+COUNTA(C7:E12)*Stammdaten!B13)","v":""},null,null,null,null,null,null,null,null,null,null,null,null,null,null,null,null,null,13,13]
[null,null,null,null,null,null,null,null,null,null,null,null,null,null,null,null,null,null,null,null,null,null,null,null,null,null,null,null,null,null,null,null,null,null,null,null,null,null,null,null,null,null,14,30]
["Nr.",null,"Klasse",null,null,"Vor- und Nachname",null,null,null,null,null,null,null,null,null,null,null,"Ringe",null,null,"10' nen",null,null,null,null,"Ergebnisse vom",null,null,null,null,null,null,null,null,null,null,null,null,null,null,null,null,15,31]
[1,null,null,null,null,null,null,null,null,null,null,null,null,null,null,null,null,null,null,null,null,null,null,null,null,"Unterkreis III schiessen",null,null,null,null,null,null,null,null,null,null,null,null,null,null,null,null,16,40]
[2,null,null,null,null,null,null,null,null,null,null,null,null,null,null,null,null,null,null,null,null,null,null,null,null,{"$f":"CONCATENATE(\"in\",\" \",Hauptmenü!A2)","v":"in ???"},null,null,null,null,null,null,null,null,null,null,null,null,null,null,null,null,17,41]
[3,null,null,null,null,null,null,null,null,null,null,null,null,null,null,null,null,null,null,null,null,null,null,null,null,"Datum:",null,null,{"$f":"IF(Hauptmenü!A4=\"\",\"???\",Hauptmenü!A4)","v":"???"},null,null,null,null,null,null,null,null,null,null,null,null,null,30,42]
[4,null,null,null,null,null,null,null,null,null,null,null,null,null,null,null,null,null,null,null,null,null,null,null,null,null,null,null,null,null,null,null,null,null,null,null,null,null,null,null,null,null,31,43]
[5,null,null,null,null,null,null,null,null,null,null,null,null,null,null,null,null,null,null,null,null,null,null,null,null,"∑ für Startgeld:",null,null,null,null,null,null,{"$f":"SUM(Y4,AI15,Y24,W31,W35,W39,W43,W48,Y59,Y83)","v":0},null,null,null,null,null,null,null,null,null,40,70]
[null,null,null,null,null,null,null,null,null,null,null,null,null,null,null,null,null,null,null,null,null,null,null,null,null,"Startgeld entfällt ab 2018 !",null,null,null,null,null,null,null,null,null,null,null,null,null,null,null,null,41,71]
["M-Teiler: ",null,null,null,null,null,null,null,null,null,null,"Ergebnis: ",null,null,null,null,null,{"$f":"IF(SUM(R7:T11)=0,\"\",SUM(R7:T11))","v":""},null,null,null,null,null,null,null,null,null,null,null,null,null,null,null,null,null,null,null,null,null,null,null,null,42,72]
[null,null,null,null,null,null,null,null,null,null,null,null,null,null,null,null,null,null,null,null,null,null,null,null,null,null,null,null,null,null,null,null,null,null,null,null,null,null,null,null,null,null,43,73]
["UK-Standarte\n(6 Schuss KK-Auflage und 6 Schuss KK-Freihand)",null,null,null,null,null,null,null,null,null,null,null,null,null,null,null,null,null,null,null,null,null,null,null,null,null,null,null,null,null,null,null,null,null,{"$f":"IF(COUNTA(F18:Q21)=0,\"\",Stammdaten!B6)","v":""},null,null,null,null,null,null,null,null,74]
[null,null,null,null,null,null,null,null,null,null,null,null,null,null,null,null,null,null,null,null,null,null,null,null,null,null,null,null,null,null,null,null,null,null,null,null,null,null,null,null,null,null,null,75]
["Nr.",null,"Klasse",null,null,"Vor- und Nachname",null,null,null,null,null,null,null,null,null,null,null,"Auflage\n(6 Schuss)",null,null,null,null,"Freihand\n(6 Schuss)",null,null,null,null,"Ringe",null,null,null,"∑ FH",null,null,null,null,null,null,null,null,null,null,null,76]
[1,null,null,null,null,null,null,null,null,null,null,null,null,null,null,null,null,null,null,null,null,null,null,null,null,null,null,{"$f":"IF(R18=\"\",\"\",SUM(R18:AA18))","v":""},null,null,null,{"$f":"IF(SUM(W18:AA21)=\"\",\"\",SUM(W18:AA21))","v":0},null,null,null,null,null,null,null,null,null,null,null,77]
[2,null,null,null,null,null,null,null,null,null,null,null,null,null,null,null,null,null,null,null,null,null,null,null,null,null,null,{"$f":"IF(R19=\"\",\"\",SUM(R19:AA19))","v":""},null,null,null,null,null,null,null,null,null,null,null,null,null,null,null,78]
[3,null,null,null,null,null,null,null,null,null,null,null,null,null,null,null,null,null,null,null,null,null,null,null,null,null,null,{"$f":"IF(R20=\"\",\"\",SUM(R20:AA20))","v":""},null,null,null,null,null,null,null,null,null,null,null,null,null,null,null,79]
[4,null,null,null,null,null,null,null,null,null,null,null,null,null,null,null,null,null,null,null,null,null,null,null,null,null,null,{"$f":"IF(R21=\"\",\"\",SUM(R21:AA21))","v":""}]
[null,null,null,null,null,null,null,null,null,null,null,null,null,null,null,null,null,null,null,null,null,"Ergebnis: ",null,null,null,null,null,{"$f":"IF(SUM(R18:AA21)=0,\"\",SUM(AB18:AE21))","v":""}]
["Damenpokal\n(10 Schuss KK-Auflage)"]
[null,null,null,null,null,null,null,null,null,null,null,null,null,null,null,null,null,null,null,null,null,null,null,null,{"$f":"IF(COUNTA(F26:Q28)=0,\"\",Stammdaten!B7+COUNTA(C26:E28)*Stammdaten!B13)","v":""}]
["Nr.",null,"Klasse",null,null,"Vor- und Nachname",null,null,null,null,null,null,null,null,null,null,null,"Ringe",null,null,"10' nen"]
[1]
[2]
[3]
["M-Teiler: ",null,null,null,null,null,null,null,null,null,null,"Ergebnis: ",null,null,null,null,null,{"$f":"IF(SUM(R26:T28)=0,\"\",SUM(R26:T28))","v":""}]
[]
["Präsident",null,null,null,null,null,null,null,null,null,null,null,null,null,null,null,null,null,null,null,null,null,{"$f":"IF(F33=\"\",\"\",Stammdaten!B8)","v":""}]
["Nr.",null,"Klasse",null,null,"Vor- und Nachname",null,null,null,null,null,null,null,null,null,null,null,"Teiler"]
[1]
[]
["Schützenkönig",null,null,null,null,null,null,null,null,null,null,null,null,null,null,null,null,null,null,null,null,null,{"$f":"IF(F37=\"\",\"\",Stammdaten!B9)","v":""}]
["Nr.",null,"Klasse",null,null,"Vor- und Nachname",null,null,null,null,null,null,null,null,null,null,null,"Teiler"]
[1]
[]
["Schützenkönigin",null,null,null,null,null,null,null,null,null,null,null,null,null,null,null,null,null,null,null,null,null,{"$f":"IF(F41=\"\",\"\",Stammdaten!B10)","v":""}]
["Nr.",null,"Klasse",null,null,"Vor- und Nachname",null,null,null,null,null,null,null,null,null,null,null,"Teiler"]
[1]
[]
["Adjutanten vom König",null,null,null,null,null,null,null,null,null,null,null,null,null,null,null,null,null,null,null,null,null,{"$f":"IF(COUNTA(F45:Q46)=0,\"\",COUNTA(F45:Q46)*Stammdaten!B11)","v":""}]
["Nr.",null,"Klasse",null,null,"Vor- und Nachname",null,null,null,null,null,null,null,null,null,null,null,"Teiler"]
[1]
[2]
[]
["Adjutantinnen der Königin",null,null,null,null,null,null,null,null,null,null,null,null,null,null,null,null,null,null,null,null,null,{"$f":"IF(COUNTA(F50:Q51)=0,\"\",COUNTA(F50:Q51)*Stammdaten!B12)","v":""}]
["Nr.",null,"Klasse",null,null,"Vor- und Nachname",null,null,null,null,null,null,null,null,null,null,null,"Teiler"]
[1]
[2]
[]
[]
[{"$f":"A1","v":"Schützenverein Evendorf"}]
[]
[]
[]
[]
["Einzelstarter KK-Auflage\n(10 Schuss KK-Auflage)",null,null,null,null,null,null,null,null,null,null,null,null,null,null,null,null,null,null,null,null,null,null,null,{"$f":"IF(COUNTA(F62:Q81)=0,\"\",COUNTA(F62:Q81)*Stammdaten!B13)","v":""}]
[]
["Nr.",null,"Klasse",null,null,"Vor- und Nachname",null,null,null,null,null,null,null,null,null,null,null,"Ringe",null,null,"10' nen",null,null,null,null,null,{"$f":"Z6","v":"Ergebnisse vom"}]
[1,null,null,null,null,null,null,null,null,null,null,null,null,null,null,null,null,null,null,null,null,null,null,null,null,null,{"$f":"Z7","v":"Unterkreis III schiessen"}]
[2,null,null,null,null,null,null,null,null,null,null,null,null,null,null,null,null,null,null,null,null,null,null,null,null,null,{"$f":"Z8","v":"in ???"}]
[3,null,null,null,null,null,null,null,null,null,null,null,null,null,null,null,null,null,null,null,null,null,null,null,null,null,{"$f":"Z9","v":"Datum:"},null,null,{"$f":"AC9","v":"???"}]
[4]
[5]
[6]
[7]
[8]
[9]
[10]
[11]
[12]
[13]
[14]
[15]
[16]
[17]
[18]
[19]
[20]
[]
["Einzelstarter KK-Freihand\n(10 Schuss KK-Freihand)",null,null,null,null,null,null,null,null,null,null,null,null,null,null,null,null,null,null,null,null,null,null,null,{"$f":"IF(COUNTA(F86:Q105)=0,\"\",COUNTA(F86:Q105)*Stammdaten!B14)","v":""}]
[]
["Nr.",null,"Klasse",null,null,"Vor- und Nachname",null,null,null,null,null,null,null,null,null,null,null,"Ringe",null,null,"10' nen"]
[1]
[2]
[3]
[4]
[5]
[6]
[7]
[8]
[9]
[10]
[11]
[12]
[13]
[14]
[15]
[16]
[17]
[18]
[19]
[20]

{"sheet":"SV-Eyendorf","index":11,"n_rows":105,"n_cols":44,"rows_kept":105,"cut":false,"hidden":false,"merged":[[63,20,63,23],[64,20,64,23],[10,32,10,38],[22,0,23,23],[30,0,30,21],[14,34,14,36],[23,24,23,26],[30,22,30,24],[17,31,20,33],[28,17,28,19],[34,0,34,21],[16,31,16,33],[14,0,15,33],[32,2,32,4],[32,5,32,16],[32,17,32,21],[32,0,32,1],[25,5,25,16],[25,0,25,1],[26,5,26,16],[26,17,26,19],[20,2,20,4],[18,2,18,4],[10,2,10,4],[82,24,82,26],[38,22,38,24],[42,22,42,24],[47,22,47,24],[58,24,58,26],[60,20,60,23],[61,20,61,23],[40,17,40,21],[65,20,65,23],[66,20,66,23],[47,0,47,21],[45,0,45,1],[45,2,45,4],[45,5,45,16],[44,0,44,1],[44,2,44,4],[44,5,44,16],[49,0,49,1],[49,2,49,4],[49,5,49,16],[49,17,49,21],[48,0,48,1],[48,2,48,4],[48,5,48,16],[3,24,3,26],[34,22,34,24],[27,5,27,16],[27,17,27,19],[31,5,31,16],[31,17,31,21],[27,20,27,23],[28,11,28,16],[31,0,31,1],[9,2,9,4],[9,0,9,1],[11,0,11,1],[16,0,16,1],[17,2,17,4],[18,0,18,1],[19,0,19,1],[19,2,19,4],[6,2,6,4],[31,2,31,4],[26,2,26,4],[25,2,25,4],[16,2,16,4],[12,0,12,4],[20,0,20,1],[11,2,11,4],[10,5,10,16],[7,2,7,4],[8,2,8,4],[10,0,10,1],[5,20,5,23],[11,5,11,16],[10,17,10,19],[11,17,11,19],[6,20,6,23],[9,20,9,23],[5,0,5,1],[5,2,5,4],[6,5,6,16],[7,5,7,16],[6,0,6,1],[8,0,8,1],[6,17,6,19],[5,5,5,16],[9,5,9,16],[7,0,7,1],[5,17,5,19],[8,5,8,16],[7,17,7,19],[17,5,17,16],[12,17,12,19],[12,11,12,16],[16,5,16,16],[16,17,16,21],[12,5,12,9],[20,5,20,16],[18,5,18,16],[18,17,18,21],[19,5,19,16],[10,20,10,23],[11,20,11,23],[8,17,8,19],[9,17,9,19],[7,20,7,23],[8,20,8,23],[20,17,20,21],[17,17,17,21],[19,17,19,21],[17,22,17,26],[18,22,18,26],[19,22,19,26],[11,25,11,38],[8,28,8,33],[21,27,21,30],[39,2,39,4],[39,5,39,16],[16,22,16,26],[16,27,16,30],[17,27,17,30],[18,27,18,30],[19,27,19,30],[20,22,20,26],[20,27,20,30],[35,2,35,4],[35,5,35,16],[24,2,24,4],[28,0,28,4],[28,5,28,9],[27,0,27,1],[27,2,27,4],[17,0,17,1],[26,20,26,23],[36,0,36,1],[36,2,36,4],[36,5,36,16],[21,21,21,26],[24,5,24,16],[24,17,24,19],[24,20,24,23],[25,17,25,19],[25,20,25,23],[26,0,26,1],[35,0,35,1],[24,0,24,1],[40,0,40,1],[38,0,38,21],[43,0,43,1],[43,2,43,4],[43,5,43,16],[42,0,42,21],[40,2,40,4],[40,5,40,16],[39,0,39,1],[60,0,60,1],[60,2,60,4],[60,5,60,16],[60,17,60,19],[50,0,50,1],[50,2,50,4],[50,5,50,16],[50,17,50,21],[62,0,62,1],[62,2,62,4],[62,5,62,16],[62,17,62,19],[61,0,61,1],[61,2,61,4],[61,5,61,16],[61,17,61,19],[58,0,59,23],[62,20,62,23],[64,0,64,1],[64,2,64,4],[64,5,64,16],[64,17,64,19],[63,0,63,1],[63,2,63,4],[63,5,63,16],[63,17,63,19],[66,0,66,1],[66,2,66,4],[66,5,66,16],[66,17,66,19],[65,0,65,1],[65,2,65,4],[65,5,65,16],[65,17,65,19],[68,0,68,1],[68,2,68,4],[68,5,68,16],[68,17,68,19],[67,0,67,1],[67,2,67,4],[67,5,67,16],[67,17,67,19],[70,0,70,1],[70,2,70,4],[70,5,70,16],[70,17,70,19],[69,0,69,1],[69,2,69,4],[69,5,69,16],[69,17,69,19],[72,0,72,1],[72,2,72,4],[72,5,72,16],[72,17,72,19],[71,0,71,1],[71,2,71,4],[71,5,71,16],[71,17,71,19],[74,0,74,1],[74,2,74,4],[74,5,74,16],[74,17,74,19],[73,0,73,1],[73,2,73,4],[73,5,73,16],[73,17,73,19],[76,0,76,1],[76,2,76,4],[76,5,76,16],[76,17,76,19],[75,0,75,1],[75,2,75,4],[75,5,75,16],[75,17,75,19],[78,0,78,1],[78,2,78,4],[78,5,78,16],[78,17,78,19],[77,0,77,1],[77,2,77,4],[77,5,77,16],[77,17,77,19],[80,0,80,1],[80,2,80,4],[80,5,80,16],[80,17,80,19],[79,0,79,1],[79,2,79,4],[79,5,79,16],[79,17,79,19],[85,0,85,1],[85,2,85,4],[85,5,85,16],[85,17,85,19],[84,0,84,1],[84,2,84,4],[84,5,84,16],[84,17,84,19],[87,0,87,1],[87,2,87,4],[87,5,87,16],[87,17,87,19],[86,0,86,1],[86,2,86,4],[86,5,86,16],[86,17,86,19],[89,0,89,1],[89,2,89,4],[89,5,89,16],[89,17,89,19],[88,0,88,1],[88,2,88,4],[88,5,88,16],[88,17,88,19],[91,0,91,1],[91,2,91,4],[91,5,91,16],[91,17,91,19],[90,0,90,1],[90,2,90,4],[90,5,90,16],[90,17,90,19],[93,0,93,1],[93,2,93,4],[93,5,93,16],[93,17,93,19],[92,0,92,1],[92,2,92,4],[92,5,92,16],[92,17,92,19],[95,0,95,1],[95,2,95,4],[95,5,95,16],[95,17,95,19],[94,0,94,1],[94,2,94,4],[94,5,94,16],[94,17,94,19],[97,0,97,1],[97,2,97,4],[97,5,97,16],[97,17,97,19],[96,0,96,1],[96,2,96,4],[96,5,96,16],[96,17,96,19],[99,0,99,1],[99,2,99,4],[99,5,99,16],[99,17,99,19],[98,0,98,1],[98,2,98,4],[98,5,98,16],[98,17,98,19],[101,0,101,1],[101,2,101,4],[101,5,101,16],[101,17,101,19],[100,0,100,1],[100,2,100,4],[100,5,100,16],[100,17,100,19],[102,17,102,19],[67,20,67,23],[68,20,68,23],[69,20,69,23],[70,20,70,23],[71,20,71,23],[72,20,72,23],[73,20,73,23],[74,20,74,23],[95,20,95,23],[96,20,96,23],[97,20,97,23],[104,0,104,1],[104,2,104,4],[104,5,104,16],[104,17,104,19],[103,0,103,1],[103,2,103,4],[75,20,75,23],[76,20,76,23],[77,20,77,23],[78,20,78,23],[79,20,79,23],[88,20,88,23],[89,20,89,23],[90,20,90,23],[80,20,80,23],[84,20,84,23],[85,20,85,23],[86,20,86,23],[104,20,104,23],[82,0,83,23],[99,20,99,23],[100,20,100,23],[101,20,101,23],[102,20,102,23],[0,0,2,33],[103,20,103,23],[98,20,98,23],[91,20,91,23],[92,20,92,23],[93,20,93,23],[94,20,94,23],[87,20,87,23],[12,20,12,23],[53,0,55,33],[63,29,63,34],[3,0,4,23],[43,17,43,21],[44,17,44,21],[45,17,45,21],[48,17,48,21],[35,17,35,21],[36,17,36,21],[39,17,39,21],[103,5,103,16],[103,17,103,19],[102,0,102,1],[102,2,102,4],[102,5,102,16]]}
["Schützenverein Eyendorf",null,null,null,null,null,null,null,null,null,null,null,null,null,null,null,null,null,null,null,null,null,null,null,null,null,null,null,null,null,null,null,null,null,null,null,null,null,null,null,null,null,10,10]
[null,null,null,null,null,null,null,null,null,null,null,null,null,null,null,null,null,null,null,null,null,null,null,null,null,null,null,null,null,null,null,null,null,null,null,null,null,null,null,null,null,null,11,11]
[null,null,null,null,null,null,null,null,null,null,null,null,null,null,null,null,null,null,null,null,null,null,null,null,null,null,null,null,null,null,null,null,null,null,null,null,null,null,null,null,null,null,12,12]
["Mannschaftswertung Präsidentenpokal\n(10 Schuss KK-Auflage)",null,null,null,null,null,null,null,null,null,null,null,null,null,null,null,null,null,null,null,null,null,null,null,{"$f":"IF(COUNTA(F7:Q12)=0,\"\",Stammdaten!B5+COUNTA(C7:E12)*Stammdaten!B13)","v":""},null,null,null,null,null,null,null,null,null,null,null,null,null,null,null,null,null,13,13]
[null,null,null,null,null,null,null,null,null,null,null,null,null,null,null,null,null,null,null,null,null,null,null,null,null,null,null,null,null,null,null,null,null,null,null,null,null,null,null,null,null,null,14,30]
["Nr.",null,"Klasse",null,null,"Vor- und Nachname",null,null,null,null,null,null,null,null,null,null,null,"Ringe",null,null,"10' nen",null,null,null,null,"Ergebnisse vom",null,null,null,null,null,null,null,null,null,null,null,null,null,null,null,null,15,31]
[1,null,null,null,null,null,null,null,null,null,null,null,null,null,null,null,null,null,null,null,null,null,null,null,null,"Unterkreis III schiessen",null,null,null,null,null,null,null,null,null,null,null,null,null,null,null,null,16,40]
[2,null,null,null,null,null,null,null,null,null,null,null,null,null,null,null,null,null,null,null,null,null,null,null,null,{"$f":"CONCATENATE(\"in\",\" \",Hauptmenü!A2)","v":"in ???"},null,null,null,null,null,null,null,null,null,null,null,null,null,null,null,null,17,41]
[3,null,null,null,null,null,null,null,null,null,null,null,null,null,null,null,null,null,null,null,null,null,null,null,null,"Datum:",null,null,{"$f":"IF(Hauptmenü!A4=\"\",\"???\",Hauptmenü!A4)","v":"???"},null,null,null,null,null,null,null,null,null,null,null,null,null,30,42]
[4,null,null,null,null,null,null,null,null,null,null,null,null,null,null,null,null,null,null,null,null,null,null,null,null,null,null,null,null,null,null,null,null,null,null,null,null,null,null,null,null,null,31,43]
[5,null,null,null,null,null,null,null,null,null,null,null,null,null,null,null,null,null,null,null,null,null,null,null,null,"∑ für Startgeld:",null,null,null,null,null,null,{"$f":"SUM(Y4,AI15,Y24,W31,W35,W39,W43,W48,Y59,Y83)","v":0},null,null,null,null,null,null,null,null,null,40,70]
[null,null,null,null,null,null,null,null,null,null,null,null,null,null,null,null,null,null,null,null,null,null,null,null,null,"Startgeld entfällt ab 2018 !",null,null,null,null,null,null,null,null,null,null,null,null,null,null,null,null,41,71]
["M-Teiler: ",null,null,null,null,null,null,null,null,null,null,"Ergebnis: ",null,null,null,null,null,{"$f":"IF(SUM(R7:T11)=0,\"\",SUM(R7:T11))","v":""},null,null,null,null,null,null,null,null,null,null,null,null,null,null,null,null,null,null,null,null,null,null,null,null,42,72]
[null,null,null,null,null,null,null,null,null,null,null,null,null,null,null,null,null,null,null,null,null,null,null,null,null,null,null,null,null,null,null,null,null,null,null,null,null,null,null,null,null,null,43,73]
["UK-Standarte\n(6 Schuss KK-Auflage und 6 Schuss KK-Freihand)",null,null,null,null,null,null,null,null,null,null,null,null,null,null,null,null,null,null,null,null,null,null,null,null,null,null,null,null,null,null,null,null,null,{"$f":"IF(COUNTA(F18:Q21)=0,\"\",Stammdaten!B6)","v":""},null,null,null,null,null,null,null,null,74]
[null,null,null,null,null,null,null,null,null,null,null,null,null,null,null,null,null,null,null,null,null,null,null,null,null,null,null,null,null,null,null,null,null,null,null,null,null,null,null,null,null,null,null,75]
["Nr.",null,"Klasse",null,null,"Vor- und Nachname",null,null,null,null,null,null,null,null,null,null,null,"Auflage\n(6 Schuss)",null,null,null,null,"Freihand\n(6 Schuss)",null,null,null,null,"Ringe",null,null,null,"∑ FH",null,null,null,null,null,null,null,null,null,null,null,76]
[1,null,null,null,null,null,null,null,null,null,null,null,null,null,null,null,null,null,null,null,null,null,null,null,null,null,null,{"$f":"IF(R18=\"\",\"\",SUM(R18:AA18))","v":""},null,null,null,{"$f":"IF(SUM(W18:AA21)=\"\",\"\",SUM(W18:AA21))","v":0},null,null,null,null,null,null,null,null,null,null,null,77]
[2,null,null,null,null,null,null,null,null,null,null,null,null,null,null,null,null,null,null,null,null,null,null,null,null,null,null,{"$f":"IF(R19=\"\",\"\",SUM(R19:AA19))","v":""},null,null,null,null,null,null,null,null,null,null,null,null,null,null,null,78]
[3,null,null,null,null,null,null,null,null,null,null,null,null,null,null,null,null,null,null,null,null,null,null,null,null,null,null,{"$f":"IF(R20=\"\",\"\",SUM(R20:AA20))","v":""},null,null,null,null,null,null,null,null,null,null,null,null,null,null,null,79]
[4,null,null,null,null,null,null,null,null,null,null,null,null,null,null,null,null,null,null,null,null,null,null,null,null,null,null,{"$f":"IF(R21=\"\",\"\",SUM(R21:AA21))","v":""}]
[null,null,null,null,null,null,null,null,null,null,null,null,null,null,null,null,null,null,null,null,null,"Ergebnis: ",null,null,null,null,null,{"$f":"IF(SUM(R18:AA21)=0,\"\",SUM(AB18:AE21))","v":""}]
["Damenpokal\n(10 Schuss KK-Auflage)"]
[null,null,null,null,null,null,null,null,null,null,null,null,null,null,null,null,null,null,null,null,null,null,null,null,{"$f":"IF(COUNTA(F26:Q28)=0,\"\",Stammdaten!B7+COUNTA(C26:E28)*Stammdaten!B13)","v":""}]
["Nr.",null,"Klasse",null,null,"Vor- und Nachname",null,null,null,null,null,null,null,null,null,null,null,"Ringe",null,null,"10' nen"]
[1]
[2]
[3]
["M-Teiler: ",null,null,null,null,null,null,null,null,null,null,"Ergebnis: ",null,null,null,null,null,{"$f":"IF(SUM(R26:T28)=0,\"\",SUM(R26:T28))","v":""}]
[]
["Präsident",null,null,null,null,null,null,null,null,null,null,null,null,null,null,null,null,null,null,null,null,null,{"$f":"IF(F33=\"\",\"\",Stammdaten!B8)","v":""}]
["Nr.",null,"Klasse",null,null,"Vor- und Nachname",null,null,null,null,null,null,null,null,null,null,null,"Teiler"]
[1]
[]
["Schützenkönig",null,null,null,null,null,null,null,null,null,null,null,null,null,null,null,null,null,null,null,null,null,{"$f":"IF(F37=\"\",\"\",Stammdaten!B9)","v":""}]
["Nr.",null,"Klasse",null,null,"Vor- und Nachname",null,null,null,null,null,null,null,null,null,null,null,"Teiler"]
[1]
[]
["Schützenkönigin",null,null,null,null,null,null,null,null,null,null,null,null,null,null,null,null,null,null,null,null,null,{"$f":"IF(F41=\"\",\"\",Stammdaten!B10)","v":""}]
["Nr.",null,"Klasse",null,null,"Vor- und Nachname",null,null,null,null,null,null,null,null,null,null,null,"Teiler"]
[1]
[]
["Adjutanten vom König",null,null,null,null,null,null,null,null,null,null,null,null,null,null,null,null,null,null,null,null,null,{"$f":"IF(COUNTA(F45:Q46)=0,\"\",COUNTA(F45:Q46)*Stammdaten!B11)","v":""}]
["Nr.",null,"Klasse",null,null,"Vor- und Nachname",null,null,null,null,null,null,null,null,null,null,null,"Teiler"]
[1]
[2]
[]
["Adjutantinnen der Königin",null,null,null,null,null,null,null,null,null,null,null,null,null,null,null,null,null,null,null,null,null,{"$f":"IF(COUNTA(F50:Q51)=0,\"\",COUNTA(F50:Q51)*Stammdaten!B12)","v":""}]
["Nr.",null,"Klasse",null,null,"Vor- und Nachname",null,null,null,null,null,null,null,null,null,null,null,"Teiler"]
[1]
[2]
[]
[]
[{"$f":"A1","v":"Schützenverein Eyendorf"}]
[]
[]
[]
[]
["Einzelstarter KK-Auflage\n(10 Schuss KK-Auflage)",null,null,null,null,null,null,null,null,null,null,null,null,null,null,null,null,null,null,null,null,null,null,null,{"$f":"IF(COUNTA(F62:Q81)=0,\"\",COUNTA(F62:Q81)*Stammdaten!B13)","v":""}]
[]
["Nr.",null,"Klasse",null,null,"Vor- und Nachname",null,null,null,null,null,null,null,null,null,null,null,"Ringe",null,null,"10' nen",null,null,null,null,null,{"$f":"Z6","v":"Ergebnisse vom"}]
[1,null,null,null,null,null,null,null,null,null,null,null,null,null,null,null,null,null,null,null,null,null,null,null,null,null,{"$f":"Z7","v":"Unterkreis III schiessen"}]
[2,null,null,null,null,null,null,null,null,null,null,null,null,null,null,null,null,null,null,null,null,null,null,null,null,null,{"$f":"Z8","v":"in ???"}]
[3,null,null,null,null,null,null,null,null,null,null,null,null,null,null,null,null,null,null,null,null,null,null,null,null,null,{"$f":"Z9","v":"Datum:"},null,null,{"$f":"AC9","v":"???"}]
[4]
[5]
[6]
[7]
[8]
[9]
[10]
[11]
[12]
[13]
[14]
[15]
[16]
[17]
[18]
[19]
[20]
[]
["Einzelstarter KK-Freihand\n(10 Schuss KK-Freihand)",null,null,null,null,null,null,null,null,null,null,null,null,null,null,null,null,null,null,null,null,null,null,null,{"$f":"IF(COUNTA(F86:Q105)=0,\"\",COUNTA(F86:Q105)*Stammdaten!B14)","v":""}]
[]
["Nr.",null,"Klasse",null,null,"Vor- und Nachname",null,null,null,null,null,null,null,null,null,null,null,"Ringe",null,null,"10' nen"]
[1]
[2]
[3]
[4]
[5]
[6]
[7]
[8]
[9]
[10]
[11]
[12]
[13]
[14]
[15]
[16]
[17]
[18]
[19]
[20]

{"sheet":"SV-Garlstorf","index":12,"n_rows":105,"n_cols":44,"rows_kept":105,"cut":false,"hidden":false,"merged":[[63,20,63,23],[64,20,64,23],[10,32,10,38],[22,0,23,23],[30,0,30,21],[14,34,14,36],[23,24,23,26],[30,22,30,24],[17,31,20,33],[28,17,28,19],[34,0,34,21],[16,31,16,33],[14,0,15,33],[32,2,32,4],[32,5,32,16],[32,17,32,21],[32,0,32,1],[25,5,25,16],[25,0,25,1],[26,5,26,16],[26,17,26,19],[20,2,20,4],[18,2,18,4],[10,2,10,4],[82,24,82,26],[38,22,38,24],[42,22,42,24],[47,22,47,24],[58,24,58,26],[60,20,60,23],[61,20,61,23],[40,17,40,21],[65,20,65,23],[66,20,66,23],[47,0,47,21],[45,0,45,1],[45,2,45,4],[45,5,45,16],[44,0,44,1],[44,2,44,4],[44,5,44,16],[49,0,49,1],[49,2,49,4],[49,5,49,16],[49,17,49,21],[48,0,48,1],[48,2,48,4],[48,5,48,16],[3,24,3,26],[34,22,34,24],[27,5,27,16],[27,17,27,19],[31,5,31,16],[31,17,31,21],[27,20,27,23],[28,11,28,16],[31,0,31,1],[9,2,9,4],[9,0,9,1],[11,0,11,1],[16,0,16,1],[17,2,17,4],[18,0,18,1],[19,0,19,1],[19,2,19,4],[6,2,6,4],[31,2,31,4],[26,2,26,4],[25,2,25,4],[16,2,16,4],[12,0,12,4],[20,0,20,1],[11,2,11,4],[10,5,10,16],[7,2,7,4],[8,2,8,4],[10,0,10,1],[5,20,5,23],[11,5,11,16],[10,17,10,19],[11,17,11,19],[6,20,6,23],[9,20,9,23],[5,0,5,1],[5,2,5,4],[6,5,6,16],[7,5,7,16],[6,0,6,1],[8,0,8,1],[6,17,6,19],[5,5,5,16],[9,5,9,16],[7,0,7,1],[5,17,5,19],[8,5,8,16],[7,17,7,19],[17,5,17,16],[12,17,12,19],[12,11,12,16],[16,5,16,16],[16,17,16,21],[12,5,12,9],[20,5,20,16],[18,5,18,16],[18,17,18,21],[19,5,19,16],[10,20,10,23],[11,20,11,23],[8,17,8,19],[9,17,9,19],[7,20,7,23],[8,20,8,23],[20,17,20,21],[17,17,17,21],[19,17,19,21],[17,22,17,26],[18,22,18,26],[19,22,19,26],[11,25,11,38],[8,28,8,33],[21,27,21,30],[39,2,39,4],[39,5,39,16],[16,22,16,26],[16,27,16,30],[17,27,17,30],[18,27,18,30],[19,27,19,30],[20,22,20,26],[20,27,20,30],[35,2,35,4],[35,5,35,16],[24,2,24,4],[28,0,28,4],[28,5,28,9],[27,0,27,1],[27,2,27,4],[17,0,17,1],[26,20,26,23],[36,0,36,1],[36,2,36,4],[36,5,36,16],[21,21,21,26],[24,5,24,16],[24,17,24,19],[24,20,24,23],[25,17,25,19],[25,20,25,23],[26,0,26,1],[35,0,35,1],[24,0,24,1],[40,0,40,1],[38,0,38,21],[43,0,43,1],[43,2,43,4],[43,5,43,16],[42,0,42,21],[40,2,40,4],[40,5,40,16],[39,0,39,1],[60,0,60,1],[60,2,60,4],[60,5,60,16],[60,17,60,19],[50,0,50,1],[50,2,50,4],[50,5,50,16],[50,17,50,21],[62,0,62,1],[62,2,62,4],[62,5,62,16],[62,17,62,19],[61,0,61,1],[61,2,61,4],[61,5,61,16],[61,17,61,19],[58,0,59,23],[62,20,62,23],[64,0,64,1],[64,2,64,4],[64,5,64,16],[64,17,64,19],[63,0,63,1],[63,2,63,4],[63,5,63,16],[63,17,63,19],[66,0,66,1],[66,2,66,4],[66,5,66,16],[66,17,66,19],[65,0,65,1],[65,2,65,4],[65,5,65,16],[65,17,65,19],[68,0,68,1],[68,2,68,4],[68,5,68,16],[68,17,68,19],[67,0,67,1],[67,2,67,4],[67,5,67,16],[67,17,67,19],[70,0,70,1],[70,2,70,4],[70,5,70,16],[70,17,70,19],[69,0,69,1],[69,2,69,4],[69,5,69,16],[69,17,69,19],[72,0,72,1],[72,2,72,4],[72,5,72,16],[72,17,72,19],[71,0,71,1],[71,2,71,4],[71,5,71,16],[71,17,71,19],[74,0,74,1],[74,2,74,4],[74,5,74,16],[74,17,74,19],[73,0,73,1],[73,2,73,4],[73,5,73,16],[73,17,73,19],[76,0,76,1],[76,2,76,4],[76,5,76,16],[76,17,76,19],[75,0,75,1],[75,2,75,4],[75,5,75,16],[75,17,75,19],[78,0,78,1],[78,2,78,4],[78,5,78,16],[78,17,78,19],[77,0,77,1],[77,2,77,4],[77,5,77,16],[77,17,77,19],[80,0,80,1],[80,2,80,4],[80,5,80,16],[80,17,80,19],[79,0,79,1],[79,2,79,4],[79,5,79,16],[79,17,79,19],[85,0,85,1],[85,2,85,4],[85,5,85,16],[85,17,85,19],[84,0,84,1],[84,2,84,4],[84,5,84,16],[84,17,84,19],[87,0,87,1],[87,2,87,4],[87,5,87,16],[87,17,87,19],[86,0,86,1],[86,2,86,4],[86,5,86,16],[86,17,86,19],[89,0,89,1],[89,2,89,4],[89,5,89,16],[89,17,89,19],[88,0,88,1],[88,2,88,4],[88,5,88,16],[88,17,88,19],[91,0,91,1],[91,2,91,4],[91,5,91,16],[91,17,91,19],[90,0,90,1],[90,2,90,4],[90,5,90,16],[90,17,90,19],[93,0,93,1],[93,2,93,4],[93,5,93,16],[93,17,93,19],[92,0,92,1],[92,2,92,4],[92,5,92,16],[92,17,92,19],[95,0,95,1],[95,2,95,4],[95,5,95,16],[95,17,95,19],[94,0,94,1],[94,2,94,4],[94,5,94,16],[94,17,94,19],[97,0,97,1],[97,2,97,4],[97,5,97,16],[97,17,97,19],[96,0,96,1],[96,2,96,4],[96,5,96,16],[96,17,96,19],[99,0,99,1],[99,2,99,4],[99,5,99,16],[99,17,99,19],[98,0,98,1],[98,2,98,4],[98,5,98,16],[98,17,98,19],[101,0,101,1],[101,2,101,4],[101,5,101,16],[101,17,101,19],[100,0,100,1],[100,2,100,4],[100,5,100,16],[100,17,100,19],[102,17,102,19],[67,20,67,23],[68,20,68,23],[69,20,69,23],[70,20,70,23],[71,20,71,23],[72,20,72,23],[73,20,73,23],[74,20,74,23],[95,20,95,23],[96,20,96,23],[97,20,97,23],[104,0,104,1],[104,2,104,4],[104,5,104,16],[104,17,104,19],[103,0,103,1],[103,2,103,4],[75,20,75,23],[76,20,76,23],[77,20,77,23],[78,20,78,23],[79,20,79,23],[88,20,88,23],[89,20,89,23],[90,20,90,23],[80,20,80,23],[84,20,84,23],[85,20,85,23],[86,20,86,23],[104,20,104,23],[82,0,83,23],[99,20,99,23],[100,20,100,23],[101,20,101,23],[102,20,102,23],[0,0,2,33],[103,20,103,23],[98,20,98,23],[91,20,91,23],[92,20,92,23],[93,20,93,23],[94,20,94,23],[87,20,87,23],[12,20,12,23],[53,0,55,33],[63,29,63,34],[3,0,4,23],[43,17,43,21],[44,17,44,21],[45,17,45,21],[48,17,48,21],[35,17,35,21],[36,17,36,21],[39,17,39,21],[103,5,103,16],[103,17,103,19],[102,0,102,1],[102,2,102,4],[102,5,102,16]]}
["Schützenverein Garlstorf",null,null,null,null,null,null,null,null,null,null,null,null,null,null,null,null,null,null,null,null,null,null,null,null,null,null,null,null,null,null,null,null,null,null,null,null,null,null,null,null,null,10,10]
[null,null,null,null,null,null,null,null,null,null,null,null,null,null,null,null,null,null,null,null,null,null,null,null,null,null,null,null,null,null,null,null,null,null,null,null,null,null,null,null,null,null,11,11]
[null,null,null,null,null,null,null,null,null,null,null,null,null,null,null,null,null,null,null,null,null,null,null,null,null,null,null,null,null,null,null,null,null,null,null,null,null,null,null,null,null,null,12,12]
["Mannschaftswertung Präsidentenpokal\n(10 Schuss KK-Auflage)",null,null,null,null,null,null,null,null,null,null,null,null,null,null,null,null,null,null,null,null,null,null,null,{"$f":"IF(COUNTA(F7:Q12)=0,\"\",Stammdaten!B5+COUNTA(C7:E12)*Stammdaten!B13)","v":""},null,null,null,null,null,null,null,null,null,null,null,null,null,null,null,null,null,13,13]
[null,null,null,null,null,null,null,null,null,null,null,null,null,null,null,null,null,null,null,null,null,null,null,null,null,null,null,null,null,null,null,null,null,null,null,null,null,null,null,null,null,null,14,30]
["Nr.",null,"Klasse",null,null,"Vor- und Nachname",null,null,null,null,null,null,null,null,null,null,null,"Ringe",null,null,"10' nen",null,null,null,null,"Ergebnisse vom",null,null,null,null,null,null,null,null,null,null,null,null,null,null,null,null,15,31]
[1,null,null,null,null,null,null,null,null,null,null,null,null,null,null,null,null,null,null,null,null,null,null,null,null,"Unterkreis III schiessen",null,null,null,null,null,null,null,null,null,null,null,null,null,null,null,null,16,40]
[2,null,null,null,null,null,null,null,null,null,null,null,null,null,null,null,null,null,null,null,null,null,null,null,null,{"$f":"CONCATENATE(\"in\",\" \",Hauptmenü!A2)","v":"in ???"},null,null,null,null,null,null,null,null,null,null,null,null,null,null,null,null,17,41]
[3,null,null,null,null,null,null,null,null,null,null,null,null,null,null,null,null,null,null,null,null,null,null,null,null,"Datum:",null,null,{"$f":"IF(Hauptmenü!A4=\"\",\"???\",Hauptmenü!A4)","v":"???"},null,null,null,null,null,null,null,null,null,null,null,null,null,30,42]
[4,null,null,null,null,null,null,null,null,null,null,null,null,null,null,null,null,null,null,null,null,null,null,null,null,null,null,null,null,null,null,null,null,null,null,null,null,null,null,null,null,null,31,43]
[5,null,null,null,null,null,null,null,null,null,null,null,null,null,null,null,null,null,null,null,null,null,null,null,null,"∑ für Startgeld:",null,null,null,null,null,null,{"$f":"SUM(Y4,AI15,Y24,W31,W35,W39,W43,W48,Y59,Y83)","v":0},null,null,null,null,null,null,null,null,null,40,70]
[null,null,null,null,null,null,null,null,null,null,null,null,null,null,null,null,null,null,null,null,null,null,null,null,null,"Startgeld entfällt ab 2018 !",null,null,null,null,null,null,null,null,null,null,null,null,null,null,null,null,41,71]
["M-Teiler: ",null,null,null,null,null,null,null,null,null,null,"Ergebnis: ",null,null,null,null,null,{"$f":"IF(SUM(R7:T11)=0,\"\",SUM(R7:T11))","v":""},null,null,null,null,null,null,null,null,null,null,null,null,null,null,null,null,null,null,null,null,null,null,null,null,42,72]
[null,null,null,null,null,null,null,null,null,null,null,null,null,null,null,null,null,null,null,null,null,null,null,null,null,null,null,null,null,null,null,null,null,null,null,null,null,null,null,null,null,null,43,73]
["UK-Standarte\n(6 Schuss KK-Auflage und 6 Schuss KK-Freihand)",null,null,null,null,null,null,null,null,null,null,null,null,null,null,null,null,null,null,null,null,null,null,null,null,null,null,null,null,null,null,null,null,null,{"$f":"IF(COUNTA(F18:Q21)=0,\"\",Stammdaten!B6)","v":""},null,null,null,null,null,null,null,null,74]
[null,null,null,null,null,null,null,null,null,null,null,null,null,null,null,null,null,null,null,null,null,null,null,null,null,null,null,null,null,null,null,null,null,null,null,null,null,null,null,null,null,null,null,75]
["Nr.",null,"Klasse",null,null,"Vor- und Nachname",null,null,null,null,null,null,null,null,null,null,null,"Auflage\n(6 Schuss)",null,null,null,null,"Freihand\n(6 Schuss)",null,null,null,null,"Ringe",null,null,null,"∑ FH",null,null,null,null,null,null,null,null,null,null,null,76]
[1,null,null,null,null,null,null,null,null,null,null,null,null,null,null,null,null,null,null,null,null,null,null,null,null,null,null,{"$f":"IF(R18=\"\",\"\",SUM(R18:AA18))","v":""},null,null,null,{"$f":"IF(SUM(W18:AA21)=\"\",\"\",SUM(W18:AA21))","v":0},null,null,null,null,null,null,null,null,null,null,null,77]
[2,null,null,null,null,null,null,null,null,null,null,null,null,null,null,null,null,null,null,null,null,null,null,null,null,null,null,{"$f":"IF(R19=\"\",\"\",SUM(R19:AA19))","v":""},null,null,null,null,null,null,null,null,null,null,null,null,null,null,null,78]
[3,null,null,null,null,null,null,null,null,null,null,null,null,null,null,null,null,null,null,null,null,null,null,null,null,null,null,{"$f":"IF(R20=\"\",\"\",SUM(R20:AA20))","v":""},null,null,null,null,null,null,null,null,null,null,null,null,null,null,null,79]
[4,null,null,null,null,null,null,null,null,null,null,null,null,null,null,null,null,null,null,null,null,null,null,null,null,null,null,{"$f":"IF(R21=\"\",\"\",SUM(R21:AA21))","v":""}]
[null,null,null,null,null,null,null,null,null,null,null,null,null,null,null,null,null,null,null,null,null,"Ergebnis: ",null,null,null,null,null,{"$f":"IF(SUM(R18:AA21)=0,\"\",SUM(AB18:AE21))","v":""}]
["Damenpokal\n(10 Schuss KK-Auflage)"]
[null,null,null,null,null,null,null,null,null,null,null,null,null,null,null,null,null,null,null,null,null,null,null,null,{"$f":"IF(COUNTA(F26:Q28)=0,\"\",Stammdaten!B7+COUNTA(C26:E28)*Stammdaten!B13)","v":""}]
["Nr.",null,"Klasse",null,null,"Vor- und Nachname",null,null,null,null,null,null,null,null,null,null,null,"Ringe",null,null,"10' nen"]
[1]
[2]
[3]
["M-Teiler: ",null,null,null,null,null,null,null,null,null,null,"Ergebnis: ",null,null,null,null,null,{"$f":"IF(SUM(R26:T28)=0,\"\",SUM(R26:T28))","v":""}]
[]
["Präsident",null,null,null,null,null,null,null,null,null,null,null,null,null,null,null,null,null,null,null,null,null,{"$f":"IF(F33=\"\",\"\",Stammdaten!B8)","v":""}]
["Nr.",null,"Klasse",null,null,"Vor- und Nachname",null,null,null,null,null,null,null,null,null,null,null,"Teiler"]
[1]
[]
["Schützenkönig",null,null,null,null,null,null,null,null,null,null,null,null,null,null,null,null,null,null,null,null,null,{"$f":"IF(F37=\"\",\"\",Stammdaten!B9)","v":""}]
["Nr.",null,"Klasse",null,null,"Vor- und Nachname",null,null,null,null,null,null,null,null,null,null,null,"Teiler"]
[1]
[]
["Schützenkönigin",null,null,null,null,null,null,null,null,null,null,null,null,null,null,null,null,null,null,null,null,null,{"$f":"IF(F41=\"\",\"\",Stammdaten!B10)","v":""}]
["Nr.",null,"Klasse",null,null,"Vor- und Nachname",null,null,null,null,null,null,null,null,null,null,null,"Teiler"]
[1]
[]
["Adjutanten vom König",null,null,null,null,null,null,null,null,null,null,null,null,null,null,null,null,null,null,null,null,null,{"$f":"IF(COUNTA(F45:Q46)=0,\"\",COUNTA(F45:Q46)*Stammdaten!B11)","v":""}]
["Nr.",null,"Klasse",null,null,"Vor- und Nachname",null,null,null,null,null,null,null,null,null,null,null,"Teiler"]
[1]
[2]
[]
["Adjutantinnen der Königin",null,null,null,null,null,null,null,null,null,null,null,null,null,null,null,null,null,null,null,null,null,{"$f":"IF(COUNTA(F50:Q51)=0,\"\",COUNTA(F50:Q51)*Stammdaten!B12)","v":""}]
["Nr.",null,"Klasse",null,null,"Vor- und Nachname",null,null,null,null,null,null,null,null,null,null,null,"Teiler"]
[1]
[2]
[]
[]
[{"$f":"A1","v":"Schützenverein Garlstorf"}]
[]
[]
[]
[]
["Einzelstarter KK-Auflage\n(10 Schuss KK-Auflage)",null,null,null,null,null,null,null,null,null,null,null,null,null,null,null,null,null,null,null,null,null,null,null,{"$f":"IF(COUNTA(F62:Q81)=0,\"\",COUNTA(F62:Q81)*Stammdaten!B13)","v":""}]
[]
["Nr.",null,"Klasse",null,null,"Vor- und Nachname",null,null,null,null,null,null,null,null,null,null,null,"Ringe",null,null,"10' nen",null,null,null,null,null,{"$f":"Z6","v":"Ergebnisse vom"}]
[1,null,null,null,null,null,null,null,null,null,null,null,null,null,null,null,null,null,null,null,null,null,null,null,null,null,{"$f":"Z7","v":"Unterkreis III schiessen"}]
[2,null,null,null,null,null,null,null,null,null,null,null,null,null,null,null,null,null,null,null,null,null,null,null,null,null,{"$f":"Z8","v":"in ???"}]
[3,null,null,null,null,null,null,null,null,null,null,null,null,null,null,null,null,null,null,null,null,null,null,null,null,null,{"$f":"Z9","v":"Datum:"},null,null,{"$f":"AC9","v":"???"}]
[4]
[5]
[6]
[7]
[8]
[9]
[10]
[11]
[12]
[13]
[14]
[15]
[16]
[17]
[18]
[19]
[20]
[]
["Einzelstarter KK-Freihand\n(10 Schuss KK-Freihand)",null,null,null,null,null,null,null,null,null,null,null,null,null,null,null,null,null,null,null,null,null,null,null,{"$f":"IF(COUNTA(F86:Q105)=0,\"\",COUNTA(F86:Q105)*Stammdaten!B14)","v":""}]
[]
["Nr.",null,"Klasse",null,null,"Vor- und Nachname",null,null,null,null,null,null,null,null,null,null,null,"Ringe",null,null,"10' nen"]
[1]
[2]
[3]
[4]
[5]
[6]
[7]
[8]
[9]
[10]
[11]
[12]
[13]
[14]
[15]
[16]
[17]
[18]
[19]
[20]

{"sheet":"SV-Garstedt","index":13,"n_rows":105,"n_cols":44,"rows_kept":105,"cut":false,"hidden":false,"merged":[[78,17,78,19],[75,0,75,1],[75,2,75,4],[75,5,75,16],[20,22,20,26],[20,27,20,30],[20,5,20,16],[20,17,20,21],[82,24,82,26],[38,22,38,24],[42,22,42,24],[47,22,47,24],[58,24,58,26],[53,0,55,33],[63,29,63,34],[48,17,48,21],[76,20,76,23],[77,20,77,23],[43,17,43,21],[44,17,44,21],[45,17,45,21],[77,0,77,1],[77,2,77,4],[77,5,77,16],[77,17,77,19],[78,0,78,1],[78,2,78,4],[78,5,78,16],[26,20,26,23],[27,20,27,23],[32,17,32,21],[31,17,31,21],[3,24,3,26],[3,0,4,23],[35,17,35,21],[36,17,36,21],[39,17,39,21],[6,20,6,23],[7,20,7,23],[7,17,7,19],[38,0,38,21],[36,0,36,1],[36,2,36,4],[36,5,36,16],[75,17,75,19],[76,0,76,1],[76,2,76,4],[76,5,76,16],[14,34,14,36],[23,24,23,26],[30,22,30,24],[17,31,20,33],[16,31,16,33],[14,0,15,33],[10,32,10,38],[22,0,23,23],[30,0,30,21],[24,5,24,16],[24,17,24,19],[10,0,10,1],[10,2,10,4],[11,2,11,4],[11,0,11,1],[16,0,16,1],[16,2,16,4],[25,17,25,19],[25,20,25,23],[26,17,26,19],[11,25,11,38],[8,28,8,33],[19,27,19,30],[17,27,17,30],[18,27,18,30],[19,17,19,21],[18,5,18,16],[18,17,18,21],[19,5,19,16],[21,27,21,30],[10,20,10,23],[11,20,11,23],[8,17,8,19],[9,17,9,19],[8,20,8,23],[9,20,9,23],[16,22,16,26],[21,21,21,26],[17,22,17,26],[18,22,18,26],[19,22,19,26],[17,17,17,21],[16,27,16,30],[8,5,8,16],[0,0,2,33],[103,20,103,23],[98,20,98,23],[91,20,91,23],[92,20,92,23],[93,20,93,23],[94,20,94,23],[87,20,87,23],[12,20,12,23],[67,20,67,23],[68,20,68,23],[69,20,69,23],[70,20,70,23],[71,20,71,23],[101,5,101,16],[101,17,101,19],[98,0,98,1],[98,2,98,4],[98,5,98,16],[98,17,98,19],[99,0,99,1],[99,2,99,4],[99,5,99,16],[99,17,99,19],[104,20,104,23],[82,0,83,23],[58,0,59,23],[99,20,99,23],[100,20,100,23],[101,20,101,23],[102,20,102,23],[95,20,95,23],[96,20,96,23],[97,20,97,23],[88,20,88,23],[89,20,89,23],[90,20,90,23],[80,20,80,23],[84,20,84,23],[85,20,85,23],[86,20,86,23],[78,20,78,23],[79,20,79,23],[72,20,72,23],[73,20,73,23],[74,20,74,23],[75,20,75,23],[66,20,66,23],[104,0,104,1],[104,2,104,4],[104,5,104,16],[104,17,104,19],[60,20,60,23],[61,20,61,23],[62,20,62,23],[63,20,63,23],[64,20,64,23],[65,20,65,23],[102,0,102,1],[102,2,102,4],[102,5,102,16],[102,17,102,19],[103,0,103,1],[103,2,103,4],[103,5,103,16],[103,17,103,19],[100,0,100,1],[100,2,100,4],[100,5,100,16],[100,17,100,19],[101,0,101,1],[101,2,101,4],[96,0,96,1],[96,2,96,4],[96,5,96,16],[96,17,96,19],[97,0,97,1],[97,2,97,4],[97,5,97,16],[97,17,97,19],[94,0,94,1],[94,2,94,4],[94,5,94,16],[94,17,94,19],[95,0,95,1],[95,2,95,4],[95,5,95,16],[95,17,95,19],[92,0,92,1],[92,2,92,4],[92,5,92,16],[92,17,92,19],[93,0,93,1],[93,2,93,4],[93,5,93,16],[93,17,93,19],[90,0,90,1],[90,2,90,4],[90,5,90,16],[90,17,90,19],[91,0,91,1],[91,2,91,4],[91,5,91,16],[91,17,91,19],[88,0,88,1],[88,2,88,4],[88,5,88,16],[88,17,88,19],[89,0,89,1],[89,2,89,4],[89,5,89,16],[89,17,89,19],[86,0,86,1],[86,2,86,4],[86,5,86,16],[86,17,86,19],[87,0,87,1],[87,2,87,4],[87,5,87,16],[87,17,87,19],[84,0,84,1],[84,2,84,4],[84,5,84,16],[84,17,84,19],[85,0,85,1],[85,2,85,4],[85,5,85,16],[85,17,85,19],[79,0,79,1],[79,2,79,4],[79,5,79,16],[79,17,79,19],[80,0,80,1],[80,2,80,4],[80,5,80,16],[80,17,80,19],[76,17,76,19],[73,0,73,1],[73,2,73,4],[73,5,73,16],[73,17,73,19],[74,0,74,1],[74,2,74,4],[74,5,74,16],[74,17,74,19],[71,0,71,1],[71,2,71,4],[71,5,71,16],[71,17,71,19],[72,0,72,1],[72,2,72,4],[72,5,72,16],[72,17,72,19],[69,0,69,1],[69,2,69,4],[69,5,69,16],[69,17,69,19],[70,0,70,1],[70,2,70,4],[70,5,70,16],[70,17,70,19],[67,0,67,1],[67,2,67,4],[67,5,67,16],[67,17,67,19],[68,0,68,1],[68,2,68,4],[68,5,68,16],[68,17,68,19],[65,0,65,1],[65,2,65,4],[65,5,65,16],[65,17,65,19],[66,0,66,1],[66,2,66,4],[66,5,66,16],[66,17,66,19],[63,0,63,1],[63,2,63,4],[63,5,63,16],[63,17,63,19],[64,0,64,1],[64,2,64,4],[64,5,64,16],[64,17,64,19],[61,0,61,1],[61,2,61,4],[61,5,61,16],[61,17,61,19],[62,0,62,1],[62,2,62,4],[62,5,62,16],[62,17,62,19],[50,0,50,1],[50,2,50,4],[50,5,50,16],[50,17,50,21],[60,0,60,1],[60,2,60,4],[60,5,60,16],[60,17,60,19],[48,0,48,1],[48,2,48,4],[48,5,48,16],[43,0,43,1],[43,2,43,4],[43,5,43,16],[42,0,42,21],[40,17,40,21],[40,0,40,1],[47,0,47,21],[49,0,49,1],[49,2,49,4],[49,5,49,16],[49,17,49,21],[45,0,45,1],[45,2,45,4],[45,5,45,16],[44,0,44,1],[44,2,44,4],[44,5,44,16],[8,2,8,4],[9,2,9,4],[9,0,9,1],[40,2,40,4],[40,5,40,16],[39,0,39,1],[39,2,39,4],[39,5,39,16],[7,0,7,1],[5,20,5,23],[17,5,17,16],[12,17,12,19],[12,11,12,16],[16,5,16,16],[16,17,16,21],[11,5,11,16],[11,17,11,19],[5,17,5,19],[5,5,5,16],[10,17,10,19],[6,17,6,19],[6,0,6,1],[9,5,9,16],[35,0,35,1],[35,2,35,4],[35,5,35,16],[24,0,24,1],[24,2,24,4],[26,0,26,1],[26,2,26,4],[26,5,26,16],[25,5,25,16],[28,11,28,16],[32,0,32,1],[32,2,32,4],[32,5,32,16],[31,0,31,1],[31,2,31,4],[31,5,31,16],[34,0,34,21],[24,20,24,23],[25,0,25,1],[25,2,25,4],[34,22,34,24],[7,2,7,4],[5,0,5,1],[5,2,5,4],[6,5,6,16],[7,5,7,16],[8,0,8,1],[28,17,28,19],[27,0,27,1],[27,2,27,4],[27,5,27,16],[27,17,27,19],[28,0,28,4],[28,5,28,9],[10,5,10,16],[12,0,12,4],[12,5,12,9],[20,2,20,4],[18,2,18,4],[17,0,17,1],[17,2,17,4],[18,0,18,1],[19,0,19,1],[19,2,19,4],[20,0,20,1],[6,2,6,4]]}
["Schützenverein Garstedt",null,null,null,null,null,null,null,null,null,null,null,null,null,null,null,null,null,null,null,null,null,null,null,null,null,null,null,null,null,null,null,null,null,null,null,null,null,null,null,null,null,10,10]
[null,null,null,null,null,null,null,null,null,null,null,null,null,null,null,null,null,null,null,null,null,null,null,null,null,null,null,null,null,null,null,null,null,null,null,null,null,null,null,null,null,null,11,11]
[null,null,null,null,null,null,null,null,null,null,null,null,null,null,null,null,null,null,null,null,null,null,null,null,null,null,null,null,null,null,null,null,null,null,null,null,null,null,null,null,null,null,12,12]
["Mannschaftswertung Präsidentenpokal\n(10 Schuss KK-Auflage)",null,null,null,null,null,null,null,null,null,null,null,null,null,null,null,null,null,null,null,null,null,null,null,{"$f":"IF(COUNTA(F7:Q12)=0,\"\",Stammdaten!B5+COUNTA(C7:E12)*Stammdaten!B13)","v":""},null,null,null,null,null,null,null,null,null,null,null,null,null,null,null,null,null,13,13]
[null,null,null,null,null,null,null,null,null,null,null,null,null,null,null,null,null,null,null,null,null,null,null,null,null,null,null,null,null,null,null,null,null,null,null,null,null,null,null,null,null,null,14,30]
["Nr.",null,"Klasse",null,null,"Vor- und Nachname",null,null,null,null,null,null,null,null,null,null,null,"Ringe",null,null,"10' nen",null,null,null,null,"Ergebnisse vom",null,null,null,null,null,null,null,null,null,null,null,null,null,null,null,null,15,31]
[1,null,null,null,null,null,null,null,null,null,null,null,null,null,null,null,null,null,null,null,null,null,null,null,null,"Unterkreis III schiessen",null,null,null,null,null,null,null,null,null,null,null,null,null,null,null,null,16,40]
[2,null,null,null,null,null,null,null,null,null,null,null,null,null,null,null,null,null,null,null,null,null,null,null,null,{"$f":"CONCATENATE(\"in\",\" \",Hauptmenü!A2)","v":"in ???"},null,null,null,null,null,null,null,null,null,null,null,null,null,null,null,null,17,41]
[3,null,null,null,null,null,null,null,null,null,null,null,null,null,null,null,null,null,null,null,null,null,null,null,null,"Datum:",null,null,{"$f":"IF(Hauptmenü!A4=\"\",\"???\",Hauptmenü!A4)","v":"???"},null,null,null,null,null,null,null,null,null,null,null,null,null,30,42]
[4,null,null,null,null,null,null,null,null,null,null,null,null,null,null,null,null,null,null,null,null,null,null,null,null,null,null,null,null,null,null,null,null,null,null,null,null,null,null,null,null,null,31,43]
[5,null,null,null,null,null,null,null,null,null,null,null,null,null,null,null,null,null,null,null,null,null,null,null,null,"∑ für Startgeld:",null,null,null,null,null,null,{"$f":"SUM(Y4,AI15,Y24,W31,W35,W39,W43,W48,Y59,Y83)","v":0},null,null,null,null,null,null,null,null,null,40,70]
[null,null,null,null,null,null,null,null,null,null,null,null,null,null,null,null,null,null,null,null,null,null,null,null,null,"Startgeld entfällt ab 2018 !",null,null,null,null,null,null,null,null,null,null,null,null,null,null,null,null,41,71]
["M-Teiler: ",null,null,null,null,null,null,null,null,null,null,"Ergebnis: ",null,null,null,null,null,{"$f":"IF(SUM(R7:T11)=0,\"\",SUM(R7:T11))","v":""},null,null,null,null,null,null,null,null,null,null,null,null,null,null,null,null,null,null,null,null,null,null,null,null,42,72]
[null,null,null,null,null,null,null,null,null,null,null,null,null,null,null,null,null,null,null,null,null,null,null,null,null,null,null,null,null,null,null,null,null,null,null,null,null,null,null,null,null,null,43,73]
["UK-Standarte\n(6 Schuss KK-Auflage und 6 Schuss KK-Freihand)",null,null,null,null,null,null,null,null,null,null,null,null,null,null,null,null,null,null,null,null,null,null,null,null,null,null,null,null,null,null,null,null,null,{"$f":"IF(COUNTA(F18:Q21)=0,\"\",Stammdaten!B6)","v":""},null,null,null,null,null,null,null,null,74]
[null,null,null,null,null,null,null,null,null,null,null,null,null,null,null,null,null,null,null,null,null,null,null,null,null,null,null,null,null,null,null,null,null,null,null,null,null,null,null,null,null,null,null,75]
["Nr.",null,"Klasse",null,null,"Vor- und Nachname",null,null,null,null,null,null,null,null,null,null,null,"Auflage\n(6 Schuss)",null,null,null,null,"Freihand\n(6 Schuss)",null,null,null,null,"Ringe",null,null,null,"∑ FH",null,null,null,null,null,null,null,null,null,null,null,76]
[1,null,null,null,null,null,null,null,null,null,null,null,null,null,null,null,null,null,null,null,null,null,null,null,null,null,null,{"$f":"IF(R18=\"\",\"\",SUM(R18:AA18))","v":""},null,null,null,{"$f":"IF(SUM(W18:AA21)=\"\",\"\",SUM(W18:AA21))","v":0},null,null,null,null,null,null,null,null,null,null,null,77]
[2,null,null,null,null,null,null,null,null,null,null,null,null,null,null,null,null,null,null,null,null,null,null,null,null,null,null,{"$f":"IF(R19=\"\",\"\",SUM(R19:AA19))","v":""},null,null,null,null,null,null,null,null,null,null,null,null,null,null,null,78]
[3,null,null,null,null,null,null,null,null,null,null,null,null,null,null,null,null,null,null,null,null,null,null,null,null,null,null,{"$f":"IF(R20=\"\",\"\",SUM(R20:AA20))","v":""},null,null,null,null,null,null,null,null,null,null,null,null,null,null,null,79]
[4,null,null,null,null,null,null,null,null,null,null,null,null,null,null,null,null,null,null,null,null,null,null,null,null,null,null,{"$f":"IF(R21=\"\",\"\",SUM(R21:AA21))","v":""}]
[null,null,null,null,null,null,null,null,null,null,null,null,null,null,null,null,null,null,null,null,null,"Ergebnis: ",null,null,null,null,null,{"$f":"IF(SUM(R18:AA21)=0,\"\",SUM(AB18:AE21))","v":""}]
["Damenpokal\n(10 Schuss KK-Auflage)"]
[null,null,null,null,null,null,null,null,null,null,null,null,null,null,null,null,null,null,null,null,null,null,null,null,{"$f":"IF(COUNTA(F26:Q28)=0,\"\",Stammdaten!B7+COUNTA(C26:E28)*Stammdaten!B13)","v":""}]
["Nr.",null,"Klasse",null,null,"Vor- und Nachname",null,null,null,null,null,null,null,null,null,null,null,"Ringe",null,null,"10' nen"]
[1]
[2]
[3]
["M-Teiler: ",null,null,null,null,null,null,null,null,null,null,"Ergebnis: ",null,null,null,null,null,{"$f":"IF(SUM(R26:T28)=0,\"\",SUM(R26:T28))","v":""}]
[]
["Präsident",null,null,null,null,null,null,null,null,null,null,null,null,null,null,null,null,null,null,null,null,null,{"$f":"IF(F33=\"\",\"\",Stammdaten!B8)","v":""}]
["Nr.",null,"Klasse",null,null,"Vor- und Nachname",null,null,null,null,null,null,null,null,null,null,null,"Teiler"]
[1]
[]
["Schützenkönig",null,null,null,null,null,null,null,null,null,null,null,null,null,null,null,null,null,null,null,null,null,{"$f":"IF(F37=\"\",\"\",Stammdaten!B9)","v":""}]
["Nr.",null,"Klasse",null,null,"Vor- und Nachname",null,null,null,null,null,null,null,null,null,null,null,"Teiler"]
[1]
[]
["Schützenkönigin",null,null,null,null,null,null,null,null,null,null,null,null,null,null,null,null,null,null,null,null,null,{"$f":"IF(F41=\"\",\"\",Stammdaten!B10)","v":""}]
["Nr.",null,"Klasse",null,null,"Vor- und Nachname",null,null,null,null,null,null,null,null,null,null,null,"Teiler"]
[1]
[]
["Adjutanten vom König",null,null,null,null,null,null,null,null,null,null,null,null,null,null,null,null,null,null,null,null,null,{"$f":"IF(COUNTA(F45:Q46)=0,\"\",COUNTA(F45:Q46)*Stammdaten!B11)","v":""}]
["Nr.",null,"Klasse",null,null,"Vor- und Nachname",null,null,null,null,null,null,null,null,null,null,null,"Teiler"]
[1]
[2]
[]
["Adjutantinnen der Königin",null,null,null,null,null,null,null,null,null,null,null,null,null,null,null,null,null,null,null,null,null,{"$f":"IF(COUNTA(F50:Q51)=0,\"\",COUNTA(F50:Q51)*Stammdaten!B12)","v":""}]
["Nr.",null,"Klasse",null,null,"Vor- und Nachname",null,null,null,null,null,null,null,null,null,null,null,"Teiler"]
[1]
[2]
[]
[]
[{"$f":"A1","v":"Schützenverein Garstedt"}]
[]
[]
[]
[]
["Einzelstarter KK-Auflage\n(10 Schuss KK-Auflage)",null,null,null,null,null,null,null,null,null,null,null,null,null,null,null,null,null,null,null,null,null,null,null,{"$f":"IF(COUNTA(F62:Q81)=0,\"\",COUNTA(F62:Q81)*Stammdaten!B13)","v":""}]
[]
["Nr.",null,"Klasse",null,null,"Vor- und Nachname",null,null,null,null,null,null,null,null,null,null,null,"Ringe",null,null,"10' nen",null,null,null,null,null,{"$f":"Z6","v":"Ergebnisse vom"}]
[1,null,null,null,null,null,null,null,null,null,null,null,null,null,null,null,null,null,null,null,null,null,null,null,null,null,{"$f":"Z7","v":"Unterkreis III schiessen"}]
[2,null,null,null,null,null,null,null,null,null,null,null,null,null,null,null,null,null,null,null,null,null,null,null,null,null,{"$f":"Z8","v":"in ???"}]
[3,null,null,null,null,null,null,null,null,null,null,null,null,null,null,null,null,null,null,null,null,null,null,null,null,null,{"$f":"Z9","v":"Datum:"},null,null,{"$f":"AC9","v":"???"}]
[4]
[5]
[6]
[7]
[8]
[9]
[10]
[11]
[12]
[13]
[14]
[15]
[16]
[17]
[18]
[19]
[20]
[]
["Einzelstarter KK-Freihand\n(10 Schuss KK-Freihand)",null,null,null,null,null,null,null,null,null,null,null,null,null,null,null,null,null,null,null,null,null,null,null,{"$f":"IF(COUNTA(F86:Q105)=0,\"\",COUNTA(F86:Q105)*Stammdaten!B14)","v":""}]
[]
["Nr.",null,"Klasse",null,null,"Vor- und Nachname",null,null,null,null,null,null,null,null,null,null,null,"Ringe",null,null,"10' nen"]
[1]
[2]
[3]
[4]
[5]
[6]
[7]
[8]
[9]
[10]
[11]
[12]
[13]
[14]
[15]
[16]
[17]
[18]
[19]
[20]

{"sheet":"SV-Raven-Rolfsen","index":14,"n_rows":105,"n_cols":44,"rows_kept":105,"cut":false,"hidden":false,"merged":[[63,20,63,23],[64,20,64,23],[10,32,10,38],[22,0,23,23],[30,0,30,21],[14,34,14,36],[23,24,23,26],[30,22,30,24],[17,31,20,33],[28,17,28,19],[34,0,34,21],[16,31,16,33],[14,0,15,33],[32,2,32,4],[32,5,32,16],[32,17,32,21],[32,0,32,1],[25,5,25,16],[25,0,25,1],[26,5,26,16],[26,17,26,19],[20,2,20,4],[18,2,18,4],[10,2,10,4],[82,24,82,26],[38,22,38,24],[42,22,42,24],[47,22,47,24],[58,24,58,26],[60,20,60,23],[61,20,61,23],[40,17,40,21],[65,20,65,23],[66,20,66,23],[47,0,47,21],[45,0,45,1],[45,2,45,4],[45,5,45,16],[44,0,44,1],[44,2,44,4],[44,5,44,16],[49,0,49,1],[49,2,49,4],[49,5,49,16],[49,17,49,21],[48,0,48,1],[48,2,48,4],[48,5,48,16],[3,24,3,26],[34,22,34,24],[27,5,27,16],[27,17,27,19],[31,5,31,16],[31,17,31,21],[27,20,27,23],[28,11,28,16],[31,0,31,1],[9,2,9,4],[9,0,9,1],[11,0,11,1],[16,0,16,1],[17,2,17,4],[18,0,18,1],[19,0,19,1],[19,2,19,4],[6,2,6,4],[31,2,31,4],[26,2,26,4],[25,2,25,4],[16,2,16,4],[12,0,12,4],[20,0,20,1],[11,2,11,4],[10,5,10,16],[7,2,7,4],[8,2,8,4],[10,0,10,1],[5,20,5,23],[11,5,11,16],[10,17,10,19],[11,17,11,19],[6,20,6,23],[9,20,9,23],[5,0,5,1],[5,2,5,4],[6,5,6,16],[7,5,7,16],[6,0,6,1],[8,0,8,1],[6,17,6,19],[5,5,5,16],[9,5,9,16],[7,0,7,1],[5,17,5,19],[8,5,8,16],[7,17,7,19],[17,5,17,16],[12,17,12,19],[12,11,12,16],[16,5,16,16],[16,17,16,21],[12,5,12,9],[20,5,20,16],[18,5,18,16],[18,17,18,21],[19,5,19,16],[10,20,10,23],[11,20,11,23],[8,17,8,19],[9,17,9,19],[7,20,7,23],[8,20,8,23],[20,17,20,21],[17,17,17,21],[19,17,19,21],[17,22,17,26],[18,22,18,26],[19,22,19,26],[11,25,11,38],[8,28,8,33],[21,27,21,30],[39,2,39,4],[39,5,39,16],[16,22,16,26],[16,27,16,30],[17,27,17,30],[18,27,18,30],[19,27,19,30],[20,22,20,26],[20,27,20,30],[35,2,35,4],[35,5,35,16],[24,2,24,4],[28,0,28,4],[28,5,28,9],[27,0,27,1],[27,2,27,4],[17,0,17,1],[26,20,26,23],[36,0,36,1],[36,2,36,4],[36,5,36,16],[21,21,21,26],[24,5,24,16],[24,17,24,19],[24,20,24,23],[25,17,25,19],[25,20,25,23],[26,0,26,1],[35,0,35,1],[24,0,24,1],[40,0,40,1],[38,0,38,21],[43,0,43,1],[43,2,43,4],[43,5,43,16],[42,0,42,21],[40,2,40,4],[40,5,40,16],[39,0,39,1],[60,0,60,1],[60,2,60,4],[60,5,60,16],[60,17,60,19],[50,0,50,1],[50,2,50,4],[50,5,50,16],[50,17,50,21],[62,0,62,1],[62,2,62,4],[62,5,62,16],[62,17,62,19],[61,0,61,1],[61,2,61,4],[61,5,61,16],[61,17,61,19],[58,0,59,23],[62,20,62,23],[64,0,64,1],[64,2,64,4],[64,5,64,16],[64,17,64,19],[63,0,63,1],[63,2,63,4],[63,5,63,16],[63,17,63,19],[66,0,66,1],[66,2,66,4],[66,5,66,16],[66,17,66,19],[65,0,65,1],[65,2,65,4],[65,5,65,16],[65,17,65,19],[68,0,68,1],[68,2,68,4],[68,5,68,16],[68,17,68,19],[67,0,67,1],[67,2,67,4],[67,5,67,16],[67,17,67,19],[70,0,70,1],[70,2,70,4],[70,5,70,16],[70,17,70,19],[69,0,69,1],[69,2,69,4],[69,5,69,16],[69,17,69,19],[72,0,72,1],[72,2,72,4],[72,5,72,16],[72,17,72,19],[71,0,71,1],[71,2,71,4],[71,5,71,16],[71,17,71,19],[74,0,74,1],[74,2,74,4],[74,5,74,16],[74,17,74,19],[73,0,73,1],[73,2,73,4],[73,5,73,16],[73,17,73,19],[76,0,76,1],[76,2,76,4],[76,5,76,16],[76,17,76,19],[75,0,75,1],[75,2,75,4],[75,5,75,16],[75,17,75,19],[78,0,78,1],[78,2,78,4],[78,5,78,16],[78,17,78,19],[77,0,77,1],[77,2,77,4],[77,5,77,16],[77,17,77,19],[80,0,80,1],[80,2,80,4],[80,5,80,16],[80,17,80,19],[79,0,79,1],[79,2,79,4],[79,5,79,16],[79,17,79,19],[85,0,85,1],[85,2,85,4],[85,5,85,16],[85,17,85,19],[84,0,84,1],[84,2,84,4],[84,5,84,16],[84,17,84,19],[87,0,87,1],[87,2,87,4],[87,5,87,16],[87,17,87,19],[86,0,86,1],[86,2,86,4],[86,5,86,16],[86,17,86,19],[89,0,89,1],[89,2,89,4],[89,5,89,16],[89,17,89,19],[88,0,88,1],[88,2,88,4],[88,5,88,16],[88,17,88,19],[91,0,91,1],[91,2,91,4],[91,5,91,16],[91,17,91,19],[90,0,90,1],[90,2,90,4],[90,5,90,16],[90,17,90,19],[93,0,93,1],[93,2,93,4],[93,5,93,16],[93,17,93,19],[92,0,92,1],[92,2,92,4],[92,5,92,16],[92,17,92,19],[95,0,95,1],[95,2,95,4],[95,5,95,16],[95,17,95,19],[94,0,94,1],[94,2,94,4],[94,5,94,16],[94,17,94,19],[97,0,97,1],[97,2,97,4],[97,5,97,16],[97,17,97,19],[96,0,96,1],[96,2,96,4],[96,5,96,16],[96,17,96,19],[99,0,99,1],[99,2,99,4],[99,5,99,16],[99,17,99,19],[98,0,98,1],[98,2,98,4],[98,5,98,16],[98,17,98,19],[101,0,101,1],[101,2,101,4],[101,5,101,16],[101,17,101,19],[100,0,100,1],[100,2,100,4],[100,5,100,16],[100,17,100,19],[102,17,102,19],[67,20,67,23],[68,20,68,23],[69,20,69,23],[70,20,70,23],[71,20,71,23],[72,20,72,23],[73,20,73,23],[74,20,74,23],[95,20,95,23],[96,20,96,23],[97,20,97,23],[104,0,104,1],[104,2,104,4],[104,5,104,16],[104,17,104,19],[103,0,103,1],[103,2,103,4],[75,20,75,23],[76,20,76,23],[77,20,77,23],[78,20,78,23],[79,20,79,23],[88,20,88,23],[89,20,89,23],[90,20,90,23],[80,20,80,23],[84,20,84,23],[85,20,85,23],[86,20,86,23],[104,20,104,23],[82,0,83,23],[99,20,99,23],[100,20,100,23],[101,20,101,23],[102,20,102,23],[0,0,2,33],[103,20,103,23],[98,20,98,23],[91,20,91,23],[92,20,92,23],[93,20,93,23],[94,20,94,23],[87,20,87,23],[12,20,12,23],[53,0,55,33],[63,29,63,34],[3,0,4,23],[43,17,43,21],[44,17,44,21],[45,17,45,21],[48,17,48,21],[35,17,35,21],[36,17,36,21],[39,17,39,21],[103,5,103,16],[103,17,103,19],[102,0,102,1],[102,2,102,4],[102,5,102,16]]}
["Schützenverein Raven / Rolfsen",null,null,null,null,null,null,null,null,null,null,null,null,null,null,null,null,null,null,null,null,null,null,null,null,null,null,null,null,null,null,null,null,null,null,null,null,null,null,null,null,null,10,10]
[null,null,null,null,null,null,null,null,null,null,null,null,null,null,null,null,null,null,null,null,null,null,null,null,null,null,null,null,null,null,null,null,null,null,null,null,null,null,null,null,null,null,11,11]
[null,null,null,null,null,null,null,null,null,null,null,null,null,null,null,null,null,null,null,null,null,null,null,null,null,null,null,null,null,null,null,null,null,null,null,null,null,null,null,null,null,null,12,12]
["Mannschaftswertung Präsidentenpokal\n(10 Schuss KK-Auflage)",null,null,null,null,null,null,null,null,null,null,null,null,null,null,null,null,null,null,null,null,null,null,null,{"$f":"IF(COUNTA(F7:Q12)=0,\"\",Stammdaten!B5+COUNTA(C7:E12)*Stammdaten!B13)","v":""},null,null,null,null,null,null,null,null,null,null,null,null,null,null,null,null,null,13,13]
[null,null,null,null,null,null,null,null,null,null,null,null,null,null,null,null,null,null,null,null,null,null,null,null,null,null,null,null,null,null,null,null,null,null,null,null,null,null,null,null,null,null,14,30]
["Nr.",null,"Klasse",null,null,"Vor- und Nachname",null,null,null,null,null,null,null,null,null,null,null,"Ringe",null,null,"10' nen",null,null,null,null,"Ergebnisse vom",null,null,null,null,null,null,null,null,null,null,null,null,null,null,null,null,15,31]
[1,null,null,null,null,null,null,null,null,null,null,null,null,null,null,null,null,null,null,null,null,null,null,null,null,"Unterkreis III schiessen",null,null,null,null,null,null,null,null,null,null,null,null,null,null,null,null,16,40]
[2,null,null,null,null,null,null,null,null,null,null,null,null,null,null,null,null,null,null,null,null,null,null,null,null,{"$f":"CONCATENATE(\"in\",\" \",Hauptmenü!A2)","v":"in ???"},null,null,null,null,null,null,null,null,null,null,null,null,null,null,null,null,17,41]
[3,null,null,null,null,null,null,null,null,null,null,null,null,null,null,null,null,null,null,null,null,null,null,null,null,"Datum:",null,null,{"$f":"IF(Hauptmenü!A4=\"\",\"???\",Hauptmenü!A4)","v":"???"},null,null,null,null,null,null,null,null,null,null,null,null,null,30,42]
[4,null,null,null,null,null,null,null,null,null,null,null,null,null,null,null,null,null,null,null,null,null,null,null,null,null,null,null,null,null,null,null,null,null,null,null,null,null,null,null,null,null,31,43]
[5,null,null,null,null,null,null,null,null,null,null,null,null,null,null,null,null,null,null,null,null,null,null,null,null,"∑ für Startgeld:",null,null,null,null,null,null,{"$f":"SUM(Y4,AI15,Y24,W31,W35,W39,W43,W48,Y59,Y83)","v":0},null,null,null,null,null,null,null,null,null,40,70]
[null,null,null,null,null,null,null,null,null,null,null,null,null,null,null,null,null,null,null,null,null,null,null,null,null,"Startgeld entfällt ab 2018 !",null,null,null,null,null,null,null,null,null,null,null,null,null,null,null,null,41,71]
["M-Teiler: ",null,null,null,null,null,null,null,null,null,null,"Ergebnis: ",null,null,null,null,null,{"$f":"IF(SUM(R7:T11)=0,\"\",SUM(R7:T11))","v":""},null,null,null,null,null,null,null,null,null,null,null,null,null,null,null,null,null,null,null,null,null,null,null,null,42,72]
[null,null,null,null,null,null,null,null,null,null,null,null,null,null,null,null,null,null,null,null,null,null,null,null,null,null,null,null,null,null,null,null,null,null,null,null,null,null,null,null,null,null,43,73]
["UK-Standarte\n(6 Schuss KK-Auflage und 6 Schuss KK-Freihand)",null,null,null,null,null,null,null,null,null,null,null,null,null,null,null,null,null,null,null,null,null,null,null,null,null,null,null,null,null,null,null,null,null,{"$f":"IF(COUNTA(F18:Q21)=0,\"\",Stammdaten!B6)","v":""},null,null,null,null,null,null,null,null,74]
[null,null,null,null,null,null,null,null,null,null,null,null,null,null,null,null,null,null,null,null,null,null,null,null,null,null,null,null,null,null,null,null,null,null,null,null,null,null,null,null,null,null,null,75]
["Nr.",null,"Klasse",null,null,"Vor- und Nachname",null,null,null,null,null,null,null,null,null,null,null,"Auflage\n(6 Schuss)",null,null,null,null,"Freihand\n(6 Schuss)",null,null,null,null,"Ringe",null,null,null,"∑ FH",null,null,null,null,null,null,null,null,null,null,null,76]
[1,null,null,null,null,null,null,null,null,null,null,null,null,null,null,null,null,null,null,null,null,null,null,null,null,null,null,{"$f":"IF(R18=\"\",\"\",SUM(R18:AA18))","v":""},null,null,null,{"$f":"IF(SUM(W18:AA21)=\"\",\"\",SUM(W18:AA21))","v":0},null,null,null,null,null,null,null,null,null,null,null,77]
[2,null,null,null,null,null,null,null,null,null,null,null,null,null,null,null,null,null,null,null,null,null,null,null,null,null,null,{"$f":"IF(R19=\"\",\"\",SUM(R19:AA19))","v":""},null,null,null,null,null,null,null,null,null,null,null,null,null,null,null,78]
[3,null,null,null,null,null,null,null,null,null,null,null,null,null,null,null,null,null,null,null,null,null,null,null,null,null,null,{"$f":"IF(R20=\"\",\"\",SUM(R20:AA20))","v":""},null,null,null,null,null,null,null,null,null,null,null,null,null,null,null,79]
[4,null,null,null,null,null,null,null,null,null,null,null,null,null,null,null,null,null,null,null,null,null,null,null,null,null,null,{"$f":"IF(R21=\"\",\"\",SUM(R21:AA21))","v":""}]
[null,null,null,null,null,null,null,null,null,null,null,null,null,null,null,null,null,null,null,null,null,"Ergebnis: ",null,null,null,null,null,{"$f":"IF(SUM(R18:AA21)=0,\"\",SUM(AB18:AE21))","v":""}]
["Damenpokal\n(10 Schuss KK-Auflage)"]
[null,null,null,null,null,null,null,null,null,null,null,null,null,null,null,null,null,null,null,null,null,null,null,null,{"$f":"IF(COUNTA(F26:Q28)=0,\"\",Stammdaten!B7+COUNTA(C26:E28)*Stammdaten!B13)","v":""}]
["Nr.",null,"Klasse",null,null,"Vor- und Nachname",null,null,null,null,null,null,null,null,null,null,null,"Ringe",null,null,"10' nen"]
[1]
[2]
[3]
["M-Teiler: ",null,null,null,null,null,null,null,null,null,null,"Ergebnis: ",null,null,null,null,null,{"$f":"IF(SUM(R26:T28)=0,\"\",SUM(R26:T28))","v":""}]
[]
["Präsident",null,null,null,null,null,null,null,null,null,null,null,null,null,null,null,null,null,null,null,null,null,{"$f":"IF(F33=\"\",\"\",Stammdaten!B8)","v":""}]
["Nr.",null,"Klasse",null,null,"Vor- und Nachname",null,null,null,null,null,null,null,null,null,null,null,"Teiler"]
[1]
[]
["Schützenkönig",null,null,null,null,null,null,null,null,null,null,null,null,null,null,null,null,null,null,null,null,null,{"$f":"IF(F37=\"\",\"\",Stammdaten!B9)","v":""}]
["Nr.",null,"Klasse",null,null,"Vor- und Nachname",null,null,null,null,null,null,null,null,null,null,null,"Teiler"]
[1]
[]
["Schützenkönigin",null,null,null,null,null,null,null,null,null,null,null,null,null,null,null,null,null,null,null,null,null,{"$f":"IF(F41=\"\",\"\",Stammdaten!B10)","v":""}]
["Nr.",null,"Klasse",null,null,"Vor- und Nachname",null,null,null,null,null,null,null,null,null,null,null,"Teiler"]
[1]
[]
["Adjutanten vom König",null,null,null,null,null,null,null,null,null,null,null,null,null,null,null,null,null,null,null,null,null,{"$f":"IF(COUNTA(F45:Q46)=0,\"\",COUNTA(F45:Q46)*Stammdaten!B11)","v":""}]
["Nr.",null,"Klasse",null,null,"Vor- und Nachname",null,null,null,null,null,null,null,null,null,null,null,"Teiler"]
[1]
[2]
[]
["Adjutantinnen der Königin",null,null,null,null,null,null,null,null,null,null,null,null,null,null,null,null,null,null,null,null,null,{"$f":"IF(COUNTA(F50:Q51)=0,\"\",COUNTA(F50:Q51)*Stammdaten!B12)","v":""}]
["Nr.",null,"Klasse",null,null,"Vor- und Nachname",null,null,null,null,null,null,null,null,null,null,null,"Teiler"]
[1]
[2]
[]
[]
[{"$f":"A1","v":"Schützenverein Raven / Rolfsen"}]
[]
[]
[]
[]
["Einzelstarter KK-Auflage\n(10 Schuss KK-Auflage)",null,null,null,null,null,null,null,null,null,null,null,null,null,null,null,null,null,null,null,null,null,null,null,{"$f":"IF(COUNTA(F62:Q81)=0,\"\",COUNTA(F62:Q81)*Stammdaten!B13)","v":""}]
[]
["Nr.",null,"Klasse",null,null,"Vor- und Nachname",null,null,null,null,null,null,null,null,null,null,null,"Ringe",null,null,"10' nen",null,null,null,null,null,{"$f":"Z6","v":"Ergebnisse vom"}]
[1,null,null,null,null,null,null,null,null,null,null,null,null,null,null,null,null,null,null,null,null,null,null,null,null,null,{"$f":"Z7","v":"Unterkreis III schiessen"}]
[2,null,null,null,null,null,null,null,null,null,null,null,null,null,null,null,null,null,null,null,null,null,null,null,null,null,{"$f":"Z8","v":"in ???"}]
[3,null,null,null,null,null,null,null,null,null,null,null,null,null,null,null,null,null,null,null,null,null,null,null,null,null,{"$f":"Z9","v":"Datum:"},null,null,{"$f":"AC9","v":"???"}]
[4]
[5]
[6]
[7]
[8]
[9]
[10]
[11]
[12]
[13]
[14]
[15]
[16]
[17]
[18]
[19]
[20]
[]
["Einzelstarter KK-Freihand\n(10 Schuss KK-Freihand)",null,null,null,null,null,null,null,null,null,null,null,null,null,null,null,null,null,null,null,null,null,null,null,{"$f":"IF(COUNTA(F86:Q105)=0,\"\",COUNTA(F86:Q105)*Stammdaten!B14)","v":""}]
[]
["Nr.",null,"Klasse",null,null,"Vor- und Nachname",null,null,null,null,null,null,null,null,null,null,null,"Ringe",null,null,"10' nen"]
[1]
[2]
[3]
[4]
[5]
[6]
[7]
[8]
[9]
[10]
[11]
[12]
[13]
[14]
[15]
[16]
[17]
[18]
[19]
[20]

{"sheet":"SV-Salzhausen","index":15,"n_rows":105,"n_cols":44,"rows_kept":105,"cut":false,"hidden":false,"merged":[[63,20,63,23],[64,20,64,23],[10,32,10,38],[22,0,23,23],[30,0,30,21],[14,34,14,36],[23,24,23,26],[30,22,30,24],[17,31,20,33],[28,17,28,19],[34,0,34,21],[16,31,16,33],[14,0,15,33],[32,2,32,4],[32,5,32,16],[32,17,32,21],[32,0,32,1],[25,5,25,16],[25,0,25,1],[26,5,26,16],[26,17,26,19],[20,2,20,4],[18,2,18,4],[10,2,10,4],[82,24,82,26],[38,22,38,24],[42,22,42,24],[47,22,47,24],[58,24,58,26],[60,20,60,23],[61,20,61,23],[40,17,40,21],[65,20,65,23],[66,20,66,23],[47,0,47,21],[45,0,45,1],[45,2,45,4],[45,5,45,16],[44,0,44,1],[44,2,44,4],[44,5,44,16],[49,0,49,1],[49,2,49,4],[49,5,49,16],[49,17,49,21],[48,0,48,1],[48,2,48,4],[48,5,48,16],[3,24,3,26],[34,22,34,24],[27,5,27,16],[27,17,27,19],[31,5,31,16],[31,17,31,21],[27,20,27,23],[28,11,28,16],[31,0,31,1],[9,2,9,4],[9,0,9,1],[11,0,11,1],[16,0,16,1],[17,2,17,4],[18,0,18,1],[19,0,19,1],[19,2,19,4],[6,2,6,4],[31,2,31,4],[26,2,26,4],[25,2,25,4],[16,2,16,4],[12,0,12,4],[20,0,20,1],[11,2,11,4],[10,5,10,16],[7,2,7,4],[8,2,8,4],[10,0,10,1],[5,20,5,23],[11,5,11,16],[10,17,10,19],[11,17,11,19],[6,20,6,23],[9,20,9,23],[5,0,5,1],[5,2,5,4],[6,5,6,16],[7,5,7,16],[6,0,6,1],[8,0,8,1],[6,17,6,19],[5,5,5,16],[9,5,9,16],[7,0,7,1],[5,17,5,19],[8,5,8,16],[7,17,7,19],[17,5,17,16],[12,17,12,19],[12,11,12,16],[16,5,16,16],[16,17,16,21],[12,5,12,9],[20,5,20,16],[18,5,18,16],[18,17,18,21],[19,5,19,16],[10,20,10,23],[11,20,11,23],[8,17,8,19],[9,17,9,19],[7,20,7,23],[8,20,8,23],[20,17,20,21],[17,17,17,21],[19,17,19,21],[17,22,17,26],[18,22,18,26],[19,22,19,26],[11,25,11,38],[8,28,8,33],[21,27,21,30],[39,2,39,4],[39,5,39,16],[16,22,16,26],[16,27,16,30],[17,27,17,30],[18,27,18,30],[19,27,19,30],[20,22,20,26],[20,27,20,30],[35,2,35,4],[35,5,35,16],[24,2,24,4],[28,0,28,4],[28,5,28,9],[27,0,27,1],[27,2,27,4],[17,0,17,1],[26,20,26,23],[36,0,36,1],[36,2,36,4],[36,5,36,16],[21,21,21,26],[24,5,24,16],[24,17,24,19],[24,20,24,23],[25,17,25,19],[25,20,25,23],[26,0,26,1],[35,0,35,1],[24,0,24,1],[40,0,40,1],[38,0,38,21],[43,0,43,1],[43,2,43,4],[43,5,43,16],[42,0,42,21],[40,2,40,4],[40,5,40,16],[39,0,39,1],[60,0,60,1],[60,2,60,4],[60,5,60,16],[60,17,60,19],[50,0,50,1],[50,2,50,4],[50,5,50,16],[50,17,50,21],[62,0,62,1],[62,2,62,4],[62,5,62,16],[62,17,62,19],[61,0,61,1],[61,2,61,4],[61,5,61,16],[61,17,61,19],[58,0,59,23],[62,20,62,23],[64,0,64,1],[64,2,64,4],[64,5,64,16],[64,17,64,19],[63,0,63,1],[63,2,63,4],[63,5,63,16],[63,17,63,19],[66,0,66,1],[66,2,66,4],[66,5,66,16],[66,17,66,19],[65,0,65,1],[65,2,65,4],[65,5,65,16],[65,17,65,19],[68,0,68,1],[68,2,68,4],[68,5,68,16],[68,17,68,19],[67,0,67,1],[67,2,67,4],[67,5,67,16],[67,17,67,19],[70,0,70,1],[70,2,70,4],[70,5,70,16],[70,17,70,19],[69,0,69,1],[69,2,69,4],[69,5,69,16],[69,17,69,19],[72,0,72,1],[72,2,72,4],[72,5,72,16],[72,17,72,19],[71,0,71,1],[71,2,71,4],[71,5,71,16],[71,17,71,19],[74,0,74,1],[74,2,74,4],[74,5,74,16],[74,17,74,19],[73,0,73,1],[73,2,73,4],[73,5,73,16],[73,17,73,19],[76,0,76,1],[76,2,76,4],[76,5,76,16],[76,17,76,19],[75,0,75,1],[75,2,75,4],[75,5,75,16],[75,17,75,19],[78,0,78,1],[78,2,78,4],[78,5,78,16],[78,17,78,19],[77,0,77,1],[77,2,77,4],[77,5,77,16],[77,17,77,19],[80,0,80,1],[80,2,80,4],[80,5,80,16],[80,17,80,19],[79,0,79,1],[79,2,79,4],[79,5,79,16],[79,17,79,19],[85,0,85,1],[85,2,85,4],[85,5,85,16],[85,17,85,19],[84,0,84,1],[84,2,84,4],[84,5,84,16],[84,17,84,19],[87,0,87,1],[87,2,87,4],[87,5,87,16],[87,17,87,19],[86,0,86,1],[86,2,86,4],[86,5,86,16],[86,17,86,19],[89,0,89,1],[89,2,89,4],[89,5,89,16],[89,17,89,19],[88,0,88,1],[88,2,88,4],[88,5,88,16],[88,17,88,19],[91,0,91,1],[91,2,91,4],[91,5,91,16],[91,17,91,19],[90,0,90,1],[90,2,90,4],[90,5,90,16],[90,17,90,19],[93,0,93,1],[93,2,93,4],[93,5,93,16],[93,17,93,19],[92,0,92,1],[92,2,92,4],[92,5,92,16],[92,17,92,19],[95,0,95,1],[95,2,95,4],[95,5,95,16],[95,17,95,19],[94,0,94,1],[94,2,94,4],[94,5,94,16],[94,17,94,19],[97,0,97,1],[97,2,97,4],[97,5,97,16],[97,17,97,19],[96,0,96,1],[96,2,96,4],[96,5,96,16],[96,17,96,19],[99,0,99,1],[99,2,99,4],[99,5,99,16],[99,17,99,19],[98,0,98,1],[98,2,98,4],[98,5,98,16],[98,17,98,19],[101,0,101,1],[101,2,101,4],[101,5,101,16],[101,17,101,19],[100,0,100,1],[100,2,100,4],[100,5,100,16],[100,17,100,19],[102,17,102,19],[67,20,67,23],[68,20,68,23],[69,20,69,23],[70,20,70,23],[71,20,71,23],[72,20,72,23],[73,20,73,23],[74,20,74,23],[95,20,95,23],[96,20,96,23],[97,20,97,23],[104,0,104,1],[104,2,104,4],[104,5,104,16],[104,17,104,19],[103,0,103,1],[103,2,103,4],[75,20,75,23],[76,20,76,23],[77,20,77,23],[78,20,78,23],[79,20,79,23],[88,20,88,23],[89,20,89,23],[90,20,90,23],[80,20,80,23],[84,20,84,23],[85,20,85,23],[86,20,86,23],[104,20,104,23],[82,0,83,23],[99,20,99,23],[100,20,100,23],[101,20,101,23],[102,20,102,23],[0,0,2,33],[103,20,103,23],[98,20,98,23],[91,20,91,23],[92,20,92,23],[93,20,93,23],[94,20,94,23],[87,20,87,23],[12,20,12,23],[53,0,55,33],[63,29,63,34],[3,0,4,23],[43,17,43,21],[44,17,44,21],[45,17,45,21],[48,17,48,21],[35,17,35,21],[36,17,36,21],[39,17,39,21],[103,5,103,16],[103,17,103,19],[102,0,102,1],[102,2,102,4],[102,5,102,16]]}
["Schützenverein Salzhausen",null,null,null,null,null,null,null,null,null,null,null,null,null,null,null,null,null,null,null,null,null,null,null,null,null,null,null,null,null,null,null,null,null,null,null,null,null,null,null,null,null,10,10]
[null,null,null,null,null,null,null,null,null,null,null,null,null,null,null,null,null,null,null,null,null,null,null,null,null,null,null,null,null,null,null,null,null,null,null,null,null,null,null,null,null,null,11,11]
[null,null,null,null,null,null,null,null,null,null,null,null,null,null,null,null,null,null,null,null,null,null,null,null,null,null,null,null,null,null,null,null,null,null,null,null,null,null,null,null,null,null,12,12]
["Mannschaftswertung Präsidentenpokal\n(10 Schuss KK-Auflage)",null,null,null,null,null,null,null,null,null,null,null,null,null,null,null,null,null,null,null,null,null,null,null,{"$f":"IF(COUNTA(F7:Q12)=0,\"\",Stammdaten!B5+COUNTA(C7:E12)*Stammdaten!B13)","v":""},null,null,null,null,null,null,null,null,null,null,null,null,null,null,null,null,null,13,13]
[null,null,null,null,null,null,null,null,null,null,null,null,null,null,null,null,null,null,null,null,null,null,null,null,null,null,null,null,null,null,null,null,null,null,null,null,null,null,null,null,null,null,14,30]
["Nr.",null,"Klasse",null,null,"Vor- und Nachname",null,null,null,null,null,null,null,null,null,null,null,"Ringe",null,null,"10' nen",null,null,null,null,"Ergebnisse vom",null,null,null,null,null,null,null,null,null,null,null,null,null,null,null,null,15,31]
[1,null,null,null,null,null,null,null,null,null,null,null,null,null,null,null,null,null,null,null,null,null,null,null,null,"Unterkreis III schiessen",null,null,null,null,null,null,null,null,null,null,null,null,null,null,null,null,16,40]
[2,null,null,null,null,null,null,null,null,null,null,null,null,null,null,null,null,null,null,null,null,null,null,null,null,{"$f":"CONCATENATE(\"in\",\" \",Hauptmenü!A2)","v":"in ???"},null,null,null,null,null,null,null,null,null,null,null,null,null,null,null,null,17,41]
[3,null,null,null,null,null,null,null,null,null,null,null,null,null,null,null,null,null,null,null,null,null,null,null,null,"Datum:",null,null,{"$f":"IF(Hauptmenü!A4=\"\",\"???\",Hauptmenü!A4)","v":"???"},null,null,null,null,null,null,null,null,null,null,null,null,null,30,42]
[4,null,null,null,null,null,null,null,null,null,null,null,null,null,null,null,null,null,null,null,null,null,null,null,null,null,null,null,null,null,null,null,null,null,null,null,null,null,null,null,null,null,31,43]
[5,null,null,null,null,null,null,null,null,null,null,null,null,null,null,null,null,null,null,null,null,null,null,null,null,"∑ für Startgeld:",null,null,null,null,null,null,{"$f":"SUM(Y4,AI15,Y24,W31,W35,W39,W43,W48,Y59,Y83)","v":0},null,null,null,null,null,null,null,null,null,40,70]
[null,null,null,null,null,null,null,null,null,null,null,null,null,null,null,null,null,null,null,null,null,null,null,null,null,"Startgeld entfällt ab 2018 !",null,null,null,null,null,null,null,null,null,null,null,null,null,null,null,null,41,71]
["M-Teiler: ",null,null,null,null,null,null,null,null,null,null,"Ergebnis: ",null,null,null,null,null,{"$f":"IF(SUM(R7:T11)=0,\"\",SUM(R7:T11))","v":""},null,null,null,null,null,null,null,null,null,null,null,null,null,null,null,null,null,null,null,null,null,null,null,null,42,72]
[null,null,null,null,null,null,null,null,null,null,null,null,null,null,null,null,null,null,null,null,null,null,null,null,null,null,null,null,null,null,null,null,null,null,null,null,null,null,null,null,null,null,43,73]
["UK-Standarte\n(6 Schuss KK-Auflage und 6 Schuss KK-Freihand)",null,null,null,null,null,null,null,null,null,null,null,null,null,null,null,null,null,null,null,null,null,null,null,null,null,null,null,null,null,null,null,null,null,{"$f":"IF(COUNTA(F18:Q21)=0,\"\",Stammdaten!B6)","v":""},null,null,null,null,null,null,null,null,74]
[null,null,null,null,null,null,null,null,null,null,null,null,null,null,null,null,null,null,null,null,null,null,null,null,null,null,null,null,null,null,null,null,null,null,null,null,null,null,null,null,null,null,null,75]
["Nr.",null,"Klasse",null,null,"Vor- und Nachname",null,null,null,null,null,null,null,null,null,null,null,"Auflage\n(6 Schuss)",null,null,null,null,"Freihand\n(6 Schuss)",null,null,null,null,"Ringe",null,null,null,"∑ FH",null,null,null,null,null,null,null,null,null,null,null,76]
[1,null,null,null,null,null,null,null,null,null,null,null,null,null,null,null,null,null,null,null,null,null,null,null,null,null,null,{"$f":"IF(R18=\"\",\"\",SUM(R18:AA18))","v":""},null,null,null,{"$f":"IF(SUM(W18:AA21)=\"\",\"\",SUM(W18:AA21))","v":0},null,null,null,null,null,null,null,null,null,null,null,77]
[2,null,null,null,null,null,null,null,null,null,null,null,null,null,null,null,null,null,null,null,null,null,null,null,null,null,null,{"$f":"IF(R19=\"\",\"\",SUM(R19:AA19))","v":""},null,null,null,null,null,null,null,null,null,null,null,null,null,null,null,78]
[3,null,null,null,null,null,null,null,null,null,null,null,null,null,null,null,null,null,null,null,null,null,null,null,null,null,null,{"$f":"IF(R20=\"\",\"\",SUM(R20:AA20))","v":""},null,null,null,null,null,null,null,null,null,null,null,null,null,null,null,79]
[4,null,null,null,null,null,null,null,null,null,null,null,null,null,null,null,null,null,null,null,null,null,null,null,null,null,null,{"$f":"IF(R21=\"\",\"\",SUM(R21:AA21))","v":""}]
[null,null,null,null,null,null,null,null,null,null,null,null,null,null,null,null,null,null,null,null,null,"Ergebnis: ",null,null,null,null,null,{"$f":"IF(SUM(R18:AA21)=0,\"\",SUM(AB18:AE21))","v":""}]
["Damenpokal\n(10 Schuss KK-Auflage)"]
[null,null,null,null,null,null,null,null,null,null,null,null,null,null,null,null,null,null,null,null,null,null,null,null,{"$f":"IF(COUNTA(F26:Q28)=0,\"\",Stammdaten!B7+COUNTA(C26:E28)*Stammdaten!B13)","v":""}]
["Nr.",null,"Klasse",null,null,"Vor- und Nachname",null,null,null,null,null,null,null,null,null,null,null,"Ringe",null,null,"10' nen"]
[1]
[2]
[3]
["M-Teiler: ",null,null,null,null,null,null,null,null,null,null,"Ergebnis: ",null,null,null,null,null,{"$f":"IF(SUM(R26:T28)=0,\"\",SUM(R26:T28))","v":""}]
[]
["Präsident",null,null,null,null,null,null,null,null,null,null,null,null,null,null,null,null,null,null,null,null,null,{"$f":"IF(F33=\"\",\"\",Stammdaten!B8)","v":""}]
["Nr.",null,"Klasse",null,null,"Vor- und Nachname",null,null,null,null,null,null,null,null,null,null,null,"Teiler"]
[1]
[]
["Schützenkönig",null,null,null,null,null,null,null,null,null,null,null,null,null,null,null,null,null,null,null,null,null,{"$f":"IF(F37=\"\",\"\",Stammdaten!B9)","v":""}]
["Nr.",null,"Klasse",null,null,"Vor- und Nachname",null,null,null,null,null,null,null,null,null,null,null,"Teiler"]
[1]
[]
["Schützenkönigin",null,null,null,null,null,null,null,null,null,null,null,null,null,null,null,null,null,null,null,null,null,{"$f":"IF(F41=\"\",\"\",Stammdaten!B10)","v":""}]
["Nr.",null,"Klasse",null,null,"Vor- und Nachname",null,null,null,null,null,null,null,null,null,null,null,"Teiler"]
[1]
[]
["Adjutanten vom König",null,null,null,null,null,null,null,null,null,null,null,null,null,null,null,null,null,null,null,null,null,{"$f":"IF(COUNTA(F45:Q46)=0,\"\",COUNTA(F45:Q46)*Stammdaten!B11)","v":""}]
["Nr.",null,"Klasse",null,null,"Vor- und Nachname",null,null,null,null,null,null,null,null,null,null,null,"Teiler"]
[1]
[2]
[]
["Adjutantinnen der Königin",null,null,null,null,null,null,null,null,null,null,null,null,null,null,null,null,null,null,null,null,null,{"$f":"IF(COUNTA(F50:Q51)=0,\"\",COUNTA(F50:Q51)*Stammdaten!B12)","v":""}]
["Nr.",null,"Klasse",null,null,"Vor- und Nachname",null,null,null,null,null,null,null,null,null,null,null,"Teiler"]
[1]
[2]
[]
[]
[{"$f":"A1","v":"Schützenverein Salzhausen"}]
[]
[]
[]
[]
["Einzelstarter KK-Auflage\n(10 Schuss KK-Auflage)",null,null,null,null,null,null,null,null,null,null,null,null,null,null,null,null,null,null,null,null,null,null,null,{"$f":"IF(COUNTA(F62:Q81)=0,\"\",COUNTA(F62:Q81)*Stammdaten!B13)","v":""}]
[]
["Nr.",null,"Klasse",null,null,"Vor- und Nachname",null,null,null,null,null,null,null,null,null,null,null,"Ringe",null,null,"10' nen",null,null,null,null,null,{"$f":"Z6","v":"Ergebnisse vom"}]
[1,null,null,null,null,null,null,null,null,null,null,null,null,null,null,null,null,null,null,null,null,null,null,null,null,null,{"$f":"Z7","v":"Unterkreis III schiessen"}]
[2,null,null,null,null,null,null,null,null,null,null,null,null,null,null,null,null,null,null,null,null,null,null,null,null,null,{"$f":"Z8","v":"in ???"}]
[3,null,null,null,null,null,null,null,null,null,null,null,null,null,null,null,null,null,null,null,null,null,null,null,null,null,{"$f":"Z9","v":"Datum:"},null,null,{"$f":"AC9","v":"???"}]
[4]
[5]
[6]
[7]
[8]
[9]
[10]
[11]
[12]
[13]
[14]
[15]
[16]
[17]
[18]
[19]
[20]
[]
["Einzelstarter KK-Freihand\n(10 Schuss KK-Freihand)",null,null,null,null,null,null,null,null,null,null,null,null,null,null,null,null,null,null,null,null,null,null,null,{"$f":"IF(COUNTA(F86:Q105)=0,\"\",COUNTA(F86:Q105)*Stammdaten!B14)","v":""}]
[]
["Nr.",null,"Klasse",null,null,"Vor- und Nachname",null,null,null,null,null,null,null,null,null,null,null,"Ringe",null,null,"10' nen"]
[1]
[2]
[3]
[4]
[5]
[6]
[7]
[8]
[9]
[10]
[11]
[12]
[13]
[14]
[15]
[16]
[17]
[18]
[19]
[20]

{"sheet":"SV-Toppenstedt","index":16,"n_rows":105,"n_cols":44,"rows_kept":105,"cut":false,"hidden":false,"merged":[[78,17,78,19],[75,0,75,1],[75,2,75,4],[75,5,75,16],[20,22,20,26],[20,27,20,30],[20,5,20,16],[20,17,20,21],[82,24,82,26],[38,22,38,24],[42,22,42,24],[47,22,47,24],[58,24,58,26],[53,0,55,33],[63,29,63,34],[48,17,48,21],[76,20,76,23],[77,20,77,23],[43,17,43,21],[44,17,44,21],[45,17,45,21],[77,0,77,1],[77,2,77,4],[77,5,77,16],[77,17,77,19],[78,0,78,1],[78,2,78,4],[78,5,78,16],[26,20,26,23],[27,20,27,23],[32,17,32,21],[31,17,31,21],[3,24,3,26],[3,0,4,23],[35,17,35,21],[36,17,36,21],[39,17,39,21],[6,20,6,23],[7,20,7,23],[7,17,7,19],[38,0,38,21],[36,0,36,1],[36,2,36,4],[36,5,36,16],[75,17,75,19],[76,0,76,1],[76,2,76,4],[76,5,76,16],[14,34,14,36],[23,24,23,26],[30,22,30,24],[17,31,20,33],[16,31,16,33],[14,0,15,33],[10,32,10,38],[22,0,23,23],[30,0,30,21],[24,5,24,16],[24,17,24,19],[10,0,10,1],[10,2,10,4],[11,2,11,4],[11,0,11,1],[16,0,16,1],[16,2,16,4],[25,17,25,19],[25,20,25,23],[26,17,26,19],[11,25,11,38],[8,28,8,33],[19,27,19,30],[17,27,17,30],[18,27,18,30],[19,17,19,21],[18,5,18,16],[18,17,18,21],[19,5,19,16],[21,27,21,30],[10,20,10,23],[11,20,11,23],[8,17,8,19],[9,17,9,19],[8,20,8,23],[9,20,9,23],[16,22,16,26],[21,21,21,26],[17,22,17,26],[18,22,18,26],[19,22,19,26],[17,17,17,21],[16,27,16,30],[8,5,8,16],[0,0,2,33],[103,20,103,23],[98,20,98,23],[91,20,91,23],[92,20,92,23],[93,20,93,23],[94,20,94,23],[87,20,87,23],[12,20,12,23],[67,20,67,23],[68,20,68,23],[69,20,69,23],[70,20,70,23],[71,20,71,23],[101,5,101,16],[101,17,101,19],[98,0,98,1],[98,2,98,4],[98,5,98,16],[98,17,98,19],[99,0,99,1],[99,2,99,4],[99,5,99,16],[99,17,99,19],[104,20,104,23],[82,0,83,23],[58,0,59,23],[99,20,99,23],[100,20,100,23],[101,20,101,23],[102,20,102,23],[95,20,95,23],[96,20,96,23],[97,20,97,23],[88,20,88,23],[89,20,89,23],[90,20,90,23],[80,20,80,23],[84,20,84,23],[85,20,85,23],[86,20,86,23],[78,20,78,23],[79,20,79,23],[72,20,72,23],[73,20,73,23],[74,20,74,23],[75,20,75,23],[66,20,66,23],[104,0,104,1],[104,2,104,4],[104,5,104,16],[104,17,104,19],[60,20,60,23],[61,20,61,23],[62,20,62,23],[63,20,63,23],[64,20,64,23],[65,20,65,23],[102,0,102,1],[102,2,102,4],[102,5,102,16],[102,17,102,19],[103,0,103,1],[103,2,103,4],[103,5,103,16],[103,17,103,19],[100,0,100,1],[100,2,100,4],[100,5,100,16],[100,17,100,19],[101,0,101,1],[101,2,101,4],[96,0,96,1],[96,2,96,4],[96,5,96,16],[96,17,96,19],[97,0,97,1],[97,2,97,4],[97,5,97,16],[97,17,97,19],[94,0,94,1],[94,2,94,4],[94,5,94,16],[94,17,94,19],[95,0,95,1],[95,2,95,4],[95,5,95,16],[95,17,95,19],[92,0,92,1],[92,2,92,4],[92,5,92,16],[92,17,92,19],[93,0,93,1],[93,2,93,4],[93,5,93,16],[93,17,93,19],[90,0,90,1],[90,2,90,4],[90,5,90,16],[90,17,90,19],[91,0,91,1],[91,2,91,4],[91,5,91,16],[91,17,91,19],[88,0,88,1],[88,2,88,4],[88,5,88,16],[88,17,88,19],[89,0,89,1],[89,2,89,4],[89,5,89,16],[89,17,89,19],[86,0,86,1],[86,2,86,4],[86,5,86,16],[86,17,86,19],[87,0,87,1],[87,2,87,4],[87,5,87,16],[87,17,87,19],[84,0,84,1],[84,2,84,4],[84,5,84,16],[84,17,84,19],[85,0,85,1],[85,2,85,4],[85,5,85,16],[85,17,85,19],[79,0,79,1],[79,2,79,4],[79,5,79,16],[79,17,79,19],[80,0,80,1],[80,2,80,4],[80,5,80,16],[80,17,80,19],[76,17,76,19],[73,0,73,1],[73,2,73,4],[73,5,73,16],[73,17,73,19],[74,0,74,1],[74,2,74,4],[74,5,74,16],[74,17,74,19],[71,0,71,1],[71,2,71,4],[71,5,71,16],[71,17,71,19],[72,0,72,1],[72,2,72,4],[72,5,72,16],[72,17,72,19],[69,0,69,1],[69,2,69,4],[69,5,69,16],[69,17,69,19],[70,0,70,1],[70,2,70,4],[70,5,70,16],[70,17,70,19],[67,0,67,1],[67,2,67,4],[67,5,67,16],[67,17,67,19],[68,0,68,1],[68,2,68,4],[68,5,68,16],[68,17,68,19],[65,0,65,1],[65,2,65,4],[65,5,65,16],[65,17,65,19],[66,0,66,1],[66,2,66,4],[66,5,66,16],[66,17,66,19],[63,0,63,1],[63,2,63,4],[63,5,63,16],[63,17,63,19],[64,0,64,1],[64,2,64,4],[64,5,64,16],[64,17,64,19],[61,0,61,1],[61,2,61,4],[61,5,61,16],[61,17,61,19],[62,0,62,1],[62,2,62,4],[62,5,62,16],[62,17,62,19],[50,0,50,1],[50,2,50,4],[50,5,50,16],[50,17,50,21],[60,0,60,1],[60,2,60,4],[60,5,60,16],[60,17,60,19],[48,0,48,1],[48,2,48,4],[48,5,48,16],[43,0,43,1],[43,2,43,4],[43,5,43,16],[42,0,42,21],[40,17,40,21],[40,0,40,1],[47,0,47,21],[49,0,49,1],[49,2,49,4],[49,5,49,16],[49,17,49,21],[45,0,45,1],[45,2,45,4],[45,5,45,16],[44,0,44,1],[44,2,44,4],[44,5,44,16],[8,2,8,4],[9,2,9,4],[9,0,9,1],[40,2,40,4],[40,5,40,16],[39,0,39,1],[39,2,39,4],[39,5,39,16],[7,0,7,1],[5,20,5,23],[17,5,17,16],[12,17,12,19],[12,11,12,16],[16,5,16,16],[16,17,16,21],[11,5,11,16],[11,17,11,19],[5,17,5,19],[5,5,5,16],[10,17,10,19],[6,17,6,19],[6,0,6,1],[9,5,9,16],[35,0,35,1],[35,2,35,4],[35,5,35,16],[24,0,24,1],[24,2,24,4],[26,0,26,1],[26,2,26,4],[26,5,26,16],[25,5,25,16],[28,11,28,16],[32,0,32,1],[32,2,32,4],[32,5,32,16],[31,0,31,1],[31,2,31,4],[31,5,31,16],[34,0,34,21],[24,20,24,23],[25,0,25,1],[25,2,25,4],[34,22,34,24],[7,2,7,4],[5,0,5,1],[5,2,5,4],[6,5,6,16],[7,5,7,16],[8,0,8,1],[28,17,28,19],[27,0,27,1],[27,2,27,4],[27,5,27,16],[27,17,27,19],[28,0,28,4],[28,5,28,9],[10,5,10,16],[12,0,12,4],[12,5,12,9],[20,2,20,4],[18,2,18,4],[17,0,17,1],[17,2,17,4],[18,0,18,1],[19,0,19,1],[19,2,19,4],[20,0,20,1],[6,2,6,4]]}
["Schützenverein Toppenstedt",null,null,null,null,null,null,null,null,null,null,null,null,null,null,null,null,null,null,null,null,null,null,null,null,null,null,null,null,null,null,null,null,null,null,null,null,null,null,null,null,null,10,10]
[null,null,null,null,null,null,null,null,null,null,null,null,null,null,null,null,null,null,null,null,null,null,null,null,null,null,null,null,null,null,null,null,null,null,null,null,null,null,null,null,null,null,11,11]
[null,null,null,null,null,null,null,null,null,null,null,null,null,null,null,null,null,null,null,null,null,null,null,null,null,null,null,null,null,null,null,null,null,null,null,null,null,null,null,null,null,null,12,12]
["Mannschaftswertung Präsidentenpokal\n(10 Schuss KK-Auflage)",null,null,null,null,null,null,null,null,null,null,null,null,null,null,null,null,null,null,null,null,null,null,null,{"$f":"IF(COUNTA(F7:Q12)=0,\"\",Stammdaten!B5+COUNTA(C7:E12)*Stammdaten!B13)","v":""},null,null,null,null,null,null,null,null,null,null,null,null,null,null,null,null,null,13,13]
[null,null,null,null,null,null,null,null,null,null,null,null,null,null,null,null,null,null,null,null,null,null,null,null,null,null,null,null,null,null,null,null,null,null,null,null,null,null,null,null,null,null,14,30]
["Nr.",null,"Klasse",null,null,"Vor- und Nachname",null,null,null,null,null,null,null,null,null,null,null,"Ringe",null,null,"10' nen",null,null,null,null,"Ergebnisse vom",null,null,null,null,null,null,null,null,null,null,null,null,null,null,null,null,15,31]
[1,null,null,null,null,null,null,null,null,null,null,null,null,null,null,null,null,null,null,null,null,null,null,null,null,"Unterkreis III schiessen",null,null,null,null,null,null,null,null,null,null,null,null,null,null,null,null,16,40]
[2,null,null,null,null,null,null,null,null,null,null,null,null,null,null,null,null,null,null,null,null,null,null,null,null,{"$f":"CONCATENATE(\"in\",\" \",Hauptmenü!A2)","v":"in ???"},null,null,null,null,null,null,null,null,null,null,null,null,null,null,null,null,17,41]
[3,null,null,null,null,null,null,null,null,null,null,null,null,null,null,null,null,null,null,null,null,null,null,null,null,"Datum:",null,null,{"$f":"IF(Hauptmenü!A4=\"\",\"???\",Hauptmenü!A4)","v":"???"},null,null,null,null,null,null,null,null,null,null,null,null,null,30,42]
[4,null,null,null,null,null,null,null,null,null,null,null,null,null,null,null,null,null,null,null,null,null,null,null,null,null,null,null,null,null,null,null,null,null,null,null,null,null,null,null,null,null,31,43]
[5,null,null,null,null,null,null,null,null,null,null,null,null,null,null,null,null,null,null,null,null,null,null,null,null,"∑ für Startgeld:",null,null,null,null,null,null,{"$f":"SUM(Y4,AI15,Y24,W31,W35,W39,W43,W48,Y59,Y83)","v":0},null,null,null,null,null,null,null,null,null,40,70]
[null,null,null,null,null,null,null,null,null,null,null,null,null,null,null,null,null,null,null,null,null,null,null,null,null,"Startgeld entfällt ab 2018 !",null,null,null,null,null,null,null,null,null,null,null,null,null,null,null,null,41,71]
["M-Teiler: ",null,null,null,null,null,null,null,null,null,null,"Ergebnis: ",null,null,null,null,null,{"$f":"IF(SUM(R7:T11)=0,\"\",SUM(R7:T11))","v":""},null,null,null,null,null,null,null,null,null,null,null,null,null,null,null,null,null,null,null,null,null,null,null,null,42,72]
[null,null,null,null,null,null,null,null,null,null,null,null,null,null,null,null,null,null,null,null,null,null,null,null,null,null,null,null,null,null,null,null,null,null,null,null,null,null,null,null,null,null,43,73]
["UK-Standarte\n(6 Schuss KK-Auflage und 6 Schuss KK-Freihand)",null,null,null,null,null,null,null,null,null,null,null,null,null,null,null,null,null,null,null,null,null,null,null,null,null,null,null,null,null,null,null,null,null,{"$f":"IF(COUNTA(F18:Q21)=0,\"\",Stammdaten!B6)","v":""},null,null,null,null,null,null,null,null,74]
[null,null,null,null,null,null,null,null,null,null,null,null,null,null,null,null,null,null,null,null,null,null,null,null,null,null,null,null,null,null,null,null,null,null,null,null,null,null,null,null,null,null,null,75]
["Nr.",null,"Klasse",null,null,"Vor- und Nachname",null,null,null,null,null,null,null,null,null,null,null,"Auflage\n(6 Schuss)",null,null,null,null,"Freihand\n(6 Schuss)",null,null,null,null,"Ringe",null,null,null,"∑ FH",null,null,null,null,null,null,null,null,null,null,null,76]
[1,null,null,null,null,null,null,null,null,null,null,null,null,null,null,null,null,null,null,null,null,null,null,null,null,null,null,{"$f":"IF(R18=\"\",\"\",SUM(R18:AA18))","v":""},null,null,null,{"$f":"IF(SUM(W18:AA21)=\"\",\"\",SUM(W18:AA21))","v":0},null,null,null,null,null,null,null,null,null,null,null,77]
[2,null,null,null,null,null,null,null,null,null,null,null,null,null,null,null,null,null,null,null,null,null,null,null,null,null,null,{"$f":"IF(R19=\"\",\"\",SUM(R19:AA19))","v":""},null,null,null,null,null,null,null,null,null,null,null,null,null,null,null,78]
[3,null,null,null,null,null,null,null,null,null,null,null,null,null,null,null,null,null,null,null,null,null,null,null,null,null,null,{"$f":"IF(R20=\"\",\"\",SUM(R20:AA20))","v":""},null,null,null,null,null,null,null,null,null,null,null,null,null,null,null,79]
[4,null,null,null,null,null,null,null,null,null,null,null,null,null,null,null,null,null,null,null,null,null,null,null,null,null,null,{"$f":"IF(R21=\"\",\"\",SUM(R21:AA21))","v":""}]
[null,null,null,null,null,null,null,null,null,null,null,null,null,null,null,null,null,null,null,null,null,"Ergebnis: ",null,null,null,null,null,{"$f":"IF(SUM(R18:AA21)=0,\"\",SUM(AB18:AE21))","v":""}]
["Damenpokal\n(10 Schuss KK-Auflage)"]
[null,null,null,null,null,null,null,null,null,null,null,null,null,null,null,null,null,null,null,null,null,null,null,null,{"$f":"IF(COUNTA(F26:Q28)=0,\"\",Stammdaten!B7+COUNTA(C26:E28)*Stammdaten!B13)","v":""}]
["Nr.",null,"Klasse",null,null,"Vor- und Nachname",null,null,null,null,null,null,null,null,null,null,null,"Ringe",null,null,"10' nen"]
[1]
[2]
[3]
["M-Teiler: ",null,null,null,null,null,null,null,null,null,null,"Ergebnis: ",null,null,null,null,null,{"$f":"IF(SUM(R26:T28)=0,\"\",SUM(R26:T28))","v":""}]
[]
["Präsident",null,null,null,null,null,null,null,null,null,null,null,null,null,null,null,null,null,null,null,null,null,{"$f":"IF(F33=\"\",\"\",Stammdaten!B8)","v":""}]
["Nr.",null,"Klasse",null,null,"Vor- und Nachname",null,null,null,null,null,null,null,null,null,null,null,"Teiler"]
[1]
[]
["Schützenkönig",null,null,null,null,null,null,null,null,null,null,null,null,null,null,null,null,null,null,null,null,null,{"$f":"IF(F37=\"\",\"\",Stammdaten!B9)","v":""}]
["Nr.",null,"Klasse",null,null,"Vor- und Nachname",null,null,null,null,null,null,null,null,null,null,null,"Teiler"]
[1]
[]
["Schützenkönigin",null,null,null,null,null,null,null,null,null,null,null,null,null,null,null,null,null,null,null,null,null,{"$f":"IF(F41=\"\",\"\",Stammdaten!B10)","v":""}]
["Nr.",null,"Klasse",null,null,"Vor- und Nachname",null,null,null,null,null,null,null,null,null,null,null,"Teiler"]
[1]
[]
["Adjutanten vom König",null,null,null,null,null,null,null,null,null,null,null,null,null,null,null,null,null,null,null,null,null,{"$f":"IF(COUNTA(F45:Q46)=0,\"\",COUNTA(F45:Q46)*Stammdaten!B11)","v":""}]
["Nr.",null,"Klasse",null,null,"Vor- und Nachname",null,null,null,null,null,null,null,null,null,null,null,"Teiler"]
[1]
[2]
[]
["Adjutantinnen der Königin",null,null,null,null,null,null,null,null,null,null,null,null,null,null,null,null,null,null,null,null,null,{"$f":"IF(COUNTA(F50:Q51)=0,\"\",COUNTA(F50:Q51)*Stammdaten!B12)","v":""}]
["Nr.",null,"Klasse",null,null,"Vor- und Nachname",null,null,null,null,null,null,null,null,null,null,null,"Teiler"]
[1]
[2]
[]
[]
[{"$f":"A1","v":"Schützenverein Toppenstedt"}]
[]
[]
[]
[]
["Einzelstarter KK-Auflage\n(10 Schuss KK-Auflage)",null,null,null,null,null,null,null,null,null,null,null,null,null,null,null,null,null,null,null,null,null,null,null,{"$f":"IF(COUNTA(F62:Q81)=0,\"\",COUNTA(F62:Q81)*Stammdaten!B13)","v":""}]
[]
["Nr.",null,"Klasse",null,null,"Vor- und Nachname",null,null,null,null,null,null,null,null,null,null,null,"Ringe",null,null,"10' nen",null,null,null,null,null,{"$f":"Z6","v":"Ergebnisse vom"}]
[1,null,null,null,null,null,null,null,null,null,null,null,null,null,null,null,null,null,null,null,null,null,null,null,null,null,{"$f":"Z7","v":"Unterkreis III schiessen"}]
[2,null,null,null,null,null,null,null,null,null,null,null,null,null,null,null,null,null,null,null,null,null,null,null,null,null,{"$f":"Z8","v":"in ???"}]
[3,null,null,null,null,null,null,null,null,null,null,null,null,null,null,null,null,null,null,null,null,null,null,null,null,null,{"$f":"Z9","v":"Datum:"},null,null,{"$f":"AC9","v":"???"}]
[4]
[5]
[6]
[7]
[8]
[9]
[10]
[11]
[12]
[13]
[14]
[15]
[16]
[17]
[18]
[19]
[20]
[]
["Einzelstarter KK-Freihand\n(10 Schuss KK-Freihand)",null,null,null,null,null,null,null,null,null,null,null,null,null,null,null,null,null,null,null,null,null,null,null,{"$f":"IF(COUNTA(F86:Q105)=0,\"\",COUNTA(F86:Q105)*Stammdaten!B14)","v":""}]
[]
["Nr.",null,"Klasse",null,null,"Vor- und Nachname",null,null,null,null,null,null,null,null,null,null,null,"Ringe",null,null,"10' nen"]
[1]
[2]
[3]
[4]
[5]
[6]
[7]
[8]
[9]
[10]
[11]
[12]
[13]
[14]
[15]
[16]
[17]
[18]
[19]
[20]

{"sheet":"SV-Wetzen","index":17,"n_rows":105,"n_cols":44,"rows_kept":105,"cut":false,"hidden":false,"merged":[[63,20,63,23],[64,20,64,23],[10,32,10,38],[22,0,23,23],[30,0,30,21],[14,34,14,36],[23,24,23,26],[30,22,30,24],[17,31,20,33],[28,17,28,19],[34,0,34,21],[16,31,16,33],[14,0,15,33],[32,2,32,4],[32,5,32,16],[32,17,32,21],[32,0,32,1],[25,5,25,16],[25,0,25,1],[26,5,26,16],[26,17,26,19],[20,2,20,4],[18,2,18,4],[10,2,10,4],[82,24,82,26],[38,22,38,24],[42,22,42,24],[47,22,47,24],[58,24,58,26],[60,20,60,23],[61,20,61,23],[40,17,40,21],[65,20,65,23],[66,20,66,23],[47,0,47,21],[45,0,45,1],[45,2,45,4],[45,5,45,16],[44,0,44,1],[44,2,44,4],[44,5,44,16],[49,0,49,1],[49,2,49,4],[49,5,49,16],[49,17,49,21],[48,0,48,1],[48,2,48,4],[48,5,48,16],[3,24,3,26],[34,22,34,24],[27,5,27,16],[27,17,27,19],[31,5,31,16],[31,17,31,21],[27,20,27,23],[28,11,28,16],[31,0,31,1],[9,2,9,4],[9,0,9,1],[11,0,11,1],[16,0,16,1],[17,2,17,4],[18,0,18,1],[19,0,19,1],[19,2,19,4],[6,2,6,4],[31,2,31,4],[26,2,26,4],[25,2,25,4],[16,2,16,4],[12,0,12,4],[20,0,20,1],[11,2,11,4],[10,5,10,16],[7,2,7,4],[8,2,8,4],[10,0,10,1],[5,20,5,23],[11,5,11,16],[10,17,10,19],[11,17,11,19],[6,20,6,23],[9,20,9,23],[5,0,5,1],[5,2,5,4],[6,5,6,16],[7,5,7,16],[6,0,6,1],[8,0,8,1],[6,17,6,19],[5,5,5,16],[9,5,9,16],[7,0,7,1],[5,17,5,19],[8,5,8,16],[7,17,7,19],[17,5,17,16],[12,17,12,19],[12,11,12,16],[16,5,16,16],[16,17,16,21],[12,5,12,9],[20,5,20,16],[18,5,18,16],[18,17,18,21],[19,5,19,16],[10,20,10,23],[11,20,11,23],[8,17,8,19],[9,17,9,19],[7,20,7,23],[8,20,8,23],[20,17,20,21],[17,17,17,21],[19,17,19,21],[17,22,17,26],[18,22,18,26],[19,22,19,26],[11,25,11,38],[8,28,8,33],[21,27,21,30],[39,2,39,4],[39,5,39,16],[16,22,16,26],[16,27,16,30],[17,27,17,30],[18,27,18,30],[19,27,19,30],[20,22,20,26],[20,27,20,30],[35,2,35,4],[35,5,35,16],[24,2,24,4],[28,0,28,4],[28,5,28,9],[27,0,27,1],[27,2,27,4],[17,0,17,1],[26,20,26,23],[36,0,36,1],[36,2,36,4],[36,5,36,16],[21,21,21,26],[24,5,24,16],[24,17,24,19],[24,20,24,23],[25,17,25,19],[25,20,25,23],[26,0,26,1],[35,0,35,1],[24,0,24,1],[40,0,40,1],[38,0,38,21],[43,0,43,1],[43,2,43,4],[43,5,43,16],[42,0,42,21],[40,2,40,4],[40,5,40,16],[39,0,39,1],[60,0,60,1],[60,2,60,4],[60,5,60,16],[60,17,60,19],[50,0,50,1],[50,2,50,4],[50,5,50,16],[50,17,50,21],[62,0,62,1],[62,2,62,4],[62,5,62,16],[62,17,62,19],[61,0,61,1],[61,2,61,4],[61,5,61,16],[61,17,61,19],[58,0,59,23],[62,20,62,23],[64,0,64,1],[64,2,64,4],[64,5,64,16],[64,17,64,19],[63,0,63,1],[63,2,63,4],[63,5,63,16],[63,17,63,19],[66,0,66,1],[66,2,66,4],[66,5,66,16],[66,17,66,19],[65,0,65,1],[65,2,65,4],[65,5,65,16],[65,17,65,19],[68,0,68,1],[68,2,68,4],[68,5,68,16],[68,17,68,19],[67,0,67,1],[67,2,67,4],[67,5,67,16],[67,17,67,19],[70,0,70,1],[70,2,70,4],[70,5,70,16],[70,17,70,19],[69,0,69,1],[69,2,69,4],[69,5,69,16],[69,17,69,19],[72,0,72,1],[72,2,72,4],[72,5,72,16],[72,17,72,19],[71,0,71,1],[71,2,71,4],[71,5,71,16],[71,17,71,19],[74,0,74,1],[74,2,74,4],[74,5,74,16],[74,17,74,19],[73,0,73,1],[73,2,73,4],[73,5,73,16],[73,17,73,19],[76,0,76,1],[76,2,76,4],[76,5,76,16],[76,17,76,19],[75,0,75,1],[75,2,75,4],[75,5,75,16],[75,17,75,19],[78,0,78,1],[78,2,78,4],[78,5,78,16],[78,17,78,19],[77,0,77,1],[77,2,77,4],[77,5,77,16],[77,17,77,19],[80,0,80,1],[80,2,80,4],[80,5,80,16],[80,17,80,19],[79,0,79,1],[79,2,79,4],[79,5,79,16],[79,17,79,19],[85,0,85,1],[85,2,85,4],[85,5,85,16],[85,17,85,19],[84,0,84,1],[84,2,84,4],[84,5,84,16],[84,17,84,19],[87,0,87,1],[87,2,87,4],[87,5,87,16],[87,17,87,19],[86,0,86,1],[86,2,86,4],[86,5,86,16],[86,17,86,19],[89,0,89,1],[89,2,89,4],[89,5,89,16],[89,17,89,19],[88,0,88,1],[88,2,88,4],[88,5,88,16],[88,17,88,19],[91,0,91,1],[91,2,91,4],[91,5,91,16],[91,17,91,19],[90,0,90,1],[90,2,90,4],[90,5,90,16],[90,17,90,19],[93,0,93,1],[93,2,93,4],[93,5,93,16],[93,17,93,19],[92,0,92,1],[92,2,92,4],[92,5,92,16],[92,17,92,19],[95,0,95,1],[95,2,95,4],[95,5,95,16],[95,17,95,19],[94,0,94,1],[94,2,94,4],[94,5,94,16],[94,17,94,19],[97,0,97,1],[97,2,97,4],[97,5,97,16],[97,17,97,19],[96,0,96,1],[96,2,96,4],[96,5,96,16],[96,17,96,19],[99,0,99,1],[99,2,99,4],[99,5,99,16],[99,17,99,19],[98,0,98,1],[98,2,98,4],[98,5,98,16],[98,17,98,19],[101,0,101,1],[101,2,101,4],[101,5,101,16],[101,17,101,19],[100,0,100,1],[100,2,100,4],[100,5,100,16],[100,17,100,19],[102,17,102,19],[67,20,67,23],[68,20,68,23],[69,20,69,23],[70,20,70,23],[71,20,71,23],[72,20,72,23],[73,20,73,23],[74,20,74,23],[95,20,95,23],[96,20,96,23],[97,20,97,23],[104,0,104,1],[104,2,104,4],[104,5,104,16],[104,17,104,19],[103,0,103,1],[103,2,103,4],[75,20,75,23],[76,20,76,23],[77,20,77,23],[78,20,78,23],[79,20,79,23],[88,20,88,23],[89,20,89,23],[90,20,90,23],[80,20,80,23],[84,20,84,23],[85,20,85,23],[86,20,86,23],[104,20,104,23],[82,0,83,23],[99,20,99,23],[100,20,100,23],[101,20,101,23],[102,20,102,23],[0,0,2,33],[103,20,103,23],[98,20,98,23],[91,20,91,23],[92,20,92,23],[93,20,93,23],[94,20,94,23],[87,20,87,23],[12,20,12,23],[53,0,55,33],[63,29,63,34],[3,0,4,23],[43,17,43,21],[44,17,44,21],[45,17,45,21],[48,17,48,21],[35,17,35,21],[36,17,36,21],[39,17,39,21],[103,5,103,16],[103,17,103,19],[102,0,102,1],[102,2,102,4],[102,5,102,16]]}
["Schützenverein Wetzen",null,null,null,null,null,null,null,null,null,null,null,null,null,null,null,null,null,null,null,null,null,null,null,null,null,null,null,null,null,null,null,null,null,null,null,null,null,null,null,null,null,10,10]
[null,null,null,null,null,null,null,null,null,null,null,null,null,null,null,null,null,null,null,null,null,null,null,null,null,null,null,null,null,null,null,null,null,null,null,null,null,null,null,null,null,null,11,11]
[null,null,null,null,null,null,null,null,null,null,null,null,null,null,null,null,null,null,null,null,null,null,null,null,null,null,null,null,null,null,null,null,null,null,null,null,null,null,null,null,null,null,12,12]
["Mannschaftswertung Präsidentenpokal\n(10 Schuss KK-Auflage)",null,null,null,null,null,null,null,null,null,null,null,null,null,null,null,null,null,null,null,null,null,null,null,{"$f":"IF(COUNTA(F7:Q12)=0,\"\",Stammdaten!B5+COUNTA(C7:E12)*Stammdaten!B13)","v":""},null,null,null,null,null,null,null,null,null,null,null,null,null,null,null,null,null,13,13]
[null,null,null,null,null,null,null,null,null,null,null,null,null,null,null,null,null,null,null,null,null,null,null,null,null,null,null,null,null,null,null,null,null,null,null,null,null,null,null,null,null,null,14,30]
["Nr.",null,"Klasse",null,null,"Vor- und Nachname",null,null,null,null,null,null,null,null,null,null,null,"Ringe",null,null,"10' nen",null,null,null,null,"Ergebnisse vom",null,null,null,null,null,null,null,null,null,null,null,null,null,null,null,null,15,31]
[1,null,null,null,null,null,null,null,null,null,null,null,null,null,null,null,null,null,null,null,null,null,null,null,null,"Unterkreis III schiessen",null,null,null,null,null,null,null,null,null,null,null,null,null,null,null,null,16,40]
[2,null,null,null,null,null,null,null,null,null,null,null,null,null,null,null,null,null,null,null,null,null,null,null,null,{"$f":"CONCATENATE(\"in\",\" \",Hauptmenü!A2)","v":"in ???"},null,null,null,null,null,null,null,null,null,null,null,null,null,null,null,null,17,41]
[3,null,null,null,null,null,null,null,null,null,null,null,null,null,null,null,null,null,null,null,null,null,null,null,null,"Datum:",null,null,{"$f":"IF(Hauptmenü!A4=\"\",\"???\",Hauptmenü!A4)","v":"???"},null,null,null,null,null,null,null,null,null,null,null,null,null,30,42]
[4,null,null,null,null,null,null,null,null,null,null,null,null,null,null,null,null,null,null,null,null,null,null,null,null,null,null,null,null,null,null,null,null,null,null,null,null,null,null,null,null,null,31,43]
[5,null,null,null,null,null,null,null,null,null,null,null,null,null,null,null,null,null,null,null,null,null,null,null,null,"∑ für Startgeld:",null,null,null,null,null,null,{"$f":"SUM(Y4,AI15,Y24,W31,W35,W39,W43,W48,Y59,Y83)","v":0},null,null,null,null,null,null,null,null,null,40,70]
[null,null,null,null,null,null,null,null,null,null,null,null,null,null,null,null,null,null,null,null,null,null,null,null,null,"Startgeld entfällt ab 2018 !",null,null,null,null,null,null,null,null,null,null,null,null,null,null,null,null,41,71]
["M-Teiler: ",null,null,null,null,null,null,null,null,null,null,"Ergebnis: ",null,null,null,null,null,{"$f":"IF(SUM(R7:T11)=0,\"\",SUM(R7:T11))","v":""},null,null,null,null,null,null,null,null,null,null,null,null,null,null,null,null,null,null,null,null,null,null,null,null,42,72]
[null,null,null,null,null,null,null,null,null,null,null,null,null,null,null,null,null,null,null,null,null,null,null,null,null,null,null,null,null,null,null,null,null,null,null,null,null,null,null,null,null,null,43,73]
["UK-Standarte\n(6 Schuss KK-Auflage und 6 Schuss KK-Freihand)",null,null,null,null,null,null,null,null,null,null,null,null,null,null,null,null,null,null,null,null,null,null,null,null,null,null,null,null,null,null,null,null,null,{"$f":"IF(COUNTA(F18:Q21)=0,\"\",Stammdaten!B6)","v":""},null,null,null,null,null,null,null,null,74]
[null,null,null,null,null,null,null,null,null,null,null,null,null,null,null,null,null,null,null,null,null,null,null,null,null,null,null,null,null,null,null,null,null,null,null,null,null,null,null,null,null,null,null,75]
["Nr.",null,"Klasse",null,null,"Vor- und Nachname",null,null,null,null,null,null,null,null,null,null,null,"Auflage\n(6 Schuss)",null,null,null,null,"Freihand\n(6 Schuss)",null,null,null,null,"Ringe",null,null,null,"∑ FH",null,null,null,null,null,null,null,null,null,null,null,76]
[1,null,null,null,null,null,null,null,null,null,null,null,null,null,null,null,null,null,null,null,null,null,null,null,null,null,null,{"$f":"IF(R18=\"\",\"\",SUM(R18:AA18))","v":""},null,null,null,{"$f":"IF(SUM(W18:AA21)=\"\",\"\",SUM(W18:AA21))","v":0},null,null,null,null,null,null,null,null,null,null,null,77]
[2,null,null,null,null,null,null,null,null,null,null,null,null,null,null,null,null,null,null,null,null,null,null,null,null,null,null,{"$f":"IF(R19=\"\",\"\",SUM(R19:AA19))","v":""},null,null,null,null,null,null,null,null,null,null,null,null,null,null,null,78]
[3,null,null,null,null,null,null,null,null,null,null,null,null,null,null,null,null,null,null,null,null,null,null,null,null,null,null,{"$f":"IF(R20=\"\",\"\",SUM(R20:AA20))","v":""},null,null,null,null,null,null,null,null,null,null,null,null,null,null,null,79]
[4,null,null,null,null,null,null,null,null,null,null,null,null,null,null,null,null,null,null,null,null,null,null,null,null,null,null,{"$f":"IF(R21=\"\",\"\",SUM(R21:AA21))","v":""}]
[null,null,null,null,null,null,null,null,null,null,null,null,null,null,null,null,null,null,null,null,null,"Ergebnis: ",null,null,null,null,null,{"$f":"IF(SUM(R18:AA21)=0,\"\",SUM(AB18:AE21))","v":""}]
["Damenpokal\n(10 Schuss KK-Auflage)"]
[null,null,null,null,null,null,null,null,null,null,null,null,null,null,null,null,null,null,null,null,null,null,null,null,{"$f":"IF(COUNTA(F26:Q28)=0,\"\",Stammdaten!B7+COUNTA(C26:E28)*Stammdaten!B13)","v":""}]
["Nr.",null,"Klasse",null,null,"Vor- und Nachname",null,null,null,null,null,null,null,null,null,null,null,"Ringe",null,null,"10' nen"]
[1]
[2]
[3]
["M-Teiler: ",null,null,null,null,null,null,null,null,null,null,"Ergebnis: ",null,null,null,null,null,{"$f":"IF(SUM(R26:T28)=0,\"\",SUM(R26:T28))","v":""}]
[]
["Präsident",null,null,null,null,null,null,null,null,null,null,null,null,null,null,null,null,null,null,null,null,null,{"$f":"IF(F33=\"\",\"\",Stammdaten!B8)","v":""}]
["Nr.",null,"Klasse",null,null,"Vor- und Nachname",null,null,null,null,null,null,null,null,null,null,null,"Teiler"]
[1]
[]
["Schützenkönig",null,null,null,null,null,null,null,null,null,null,null,null,null,null,null,null,null,null,null,null,null,{"$f":"IF(F37=\"\",\"\",Stammdaten!B9)","v":""}]
["Nr.",null,"Klasse",null,null,"Vor- und Nachname",null,null,null,null,null,null,null,null,null,null,null,"Teiler"]
[1]
[]
["Schützenkönigin",null,null,null,null,null,null,null,null,null,null,null,null,null,null,null,null,null,null,null,null,null,{"$f":"IF(F41=\"\",\"\",Stammdaten!B10)","v":""}]
["Nr.",null,"Klasse",null,null,"Vor- und Nachname",null,null,null,null,null,null,null,null,null,null,null,"Teiler"]
[1]
[]
["Adjutanten vom König",null,null,null,null,null,null,null,null,null,null,null,null,null,null,null,null,null,null,null,null,null,{"$f":"IF(COUNTA(F45:Q46)=0,\"\",COUNTA(F45:Q46)*Stammdaten!B11)","v":""}]
["Nr.",null,"Klasse",null,null,"Vor- und Nachname",null,null,null,null,null,null,null,null,null,null,null,"Teiler"]
[1]
[2]
[]
["Adjutantinnen der Königin",null,null,null,null,null,null,null,null,null,null,null,null,null,null,null,null,null,null,null,null,null,{"$f":"IF(COUNTA(F50:Q51)=0,\"\",COUNTA(F50:Q51)*Stammdaten!B12)","v":""}]
["Nr.",null,"Klasse",null,null,"Vor- und Nachname",null,null,null,null,null,null,null,null,null,null,null,"Teiler"]
[1]
[2]
[]
[]
[{"$f":"A1","v":"Schützenverein Wetzen"}]
[]
[]
[]
[]
["Einzelstarter KK-Auflage\n(10 Schuss KK-Auflage)",null,null,null,null,null,null,null,null,null,null,null,null,null,null,null,null,null,null,null,null,null,null,null,{"$f":"IF(COUNTA(F62:Q81)=0,\"\",COUNTA(F62:Q81)*Stammdaten!B13)","v":""}]
[]
["Nr.",null,"Klasse",null,null,"Vor- und Nachname",null,null,null,null,null,null,null,null,null,null,null,"Ringe",null,null,"10' nen",null,null,null,null,null,{"$f":"Z6","v":"Ergebnisse vom"}]
[1,null,null,null,null,null,null,null,null,null,null,null,null,null,null,null,null,null,null,null,null,null,null,null,null,null,{"$f":"Z7","v":"Unterkreis III schiessen"}]
[2,null,null,null,null,null,null,null,null,null,null,null,null,null,null,null,null,null,null,null,null,null,null,null,null,null,{"$f":"Z8","v":"in ???"}]
[3,null,null,null,null,null,null,null,null,null,null,null,null,null,null,null,null,null,null,null,null,null,null,null,null,null,{"$f":"Z9","v":"Datum:"},null,null,{"$f":"AC9","v":"???"}]
[4]
[5]
[6]
[7]
[8]
[9]
[10]
[11]
[12]
[13]
[14]
[15]
[16]
[17]
[18]
[19]
[20]
[]
["Einzelstarter KK-Freihand\n(10 Schuss KK-Freihand)",null,null,null,null,null,null,null,null,null,null,null,null,null,null,null,null,null,null,null,null,null,null,null,{"$f":"IF(COUNTA(F86:Q105)=0,\"\",COUNTA(F86:Q105)*Stammdaten!B14)","v":""}]
[]
["Nr.",null,"Klasse",null,null,"Vor- und Nachname",null,null,null,null,null,null,null,null,null,null,null,"Ringe",null,null,"10' nen"]
[1]
[2]
[3]
[4]
[5]
[6]
[7]
[8]
[9]
[10]
[11]
[12]
[13]
[14]
[15]
[16]
[17]
[18]
[19]
[20]

{"sheet":"Anmeldeblatt","index":18,"n_rows":104,"n_cols":44,"rows_kept":104,"cut":false,"hidden":false,"merged":[[0,0,2,33],[3,0,4,23],[3,24,3,26],[5,0,5,1],[5,2,5,4],[5,5,5,16],[5,17,5,19],[5,20,5,23],[8,0,8,1],[8,2,8,4],[8,5,8,16],[8,17,8,19],[8,20,8,23],[8,28,8,33],[6,0,6,1],[6,2,6,4],[6,5,6,16],[6,17,6,19],[6,20,6,23],[7,0,7,1],[7,2,7,4],[7,5,7,16],[7,17,7,19],[7,20,7,23],[9,0,9,1],[9,2,9,4],[9,5,9,16],[9,17,9,19],[9,20,9,23],[10,0,10,1],[10,2,10,4],[10,5,10,16],[10,17,10,19],[10,20,10,23],[13,34,13,36],[15,0,15,1],[15,2,15,4],[15,5,15,16],[15,17,15,21],[15,22,15,26],[15,27,15,30],[15,31,15,33],[11,0,11,4],[11,5,11,9],[11,11,11,16],[11,17,11,19],[11,20,11,23],[13,0,14,16],[16,31,19,33],[17,0,17,1],[17,2,17,4],[17,5,17,16],[17,17,17,21],[17,22,17,26],[17,27,17,30],[18,0,18,1],[18,2,18,4],[18,5,18,16],[16,0,16,1],[16,2,16,4],[16,5,16,16],[16,17,16,21],[16,22,16,26],[16,27,16,30],[18,17,18,21],[18,22,18,26],[18,27,18,30],[19,0,19,1],[19,2,19,4],[19,5,19,16],[19,17,19,21],[19,22,19,26],[19,27,19,30],[20,21,20,26],[20,27,20,30],[21,0,22,16],[22,24,22,26],[23,0,23,1],[23,2,23,4],[23,5,23,16],[23,17,23,19],[23,20,23,23],[24,0,24,1],[24,2,24,4],[24,5,24,16],[24,17,24,19],[24,20,24,23],[25,0,25,1],[25,2,25,4],[25,5,25,16],[25,17,25,19],[25,20,25,23],[33,22,33,24],[29,0,29,16],[29,22,29,24],[30,0,30,1],[30,2,30,4],[30,5,30,16],[30,17,30,21],[26,0,26,1],[26,2,26,4],[26,5,26,16],[26,17,26,19],[26,20,26,23],[27,0,27,4],[27,5,27,9],[27,11,27,16],[27,17,27,19],[34,0,34,1],[34,2,34,4],[34,5,34,16],[34,17,34,21],[35,0,35,1],[35,2,35,4],[35,5,35,16],[35,17,35,21],[31,0,31,1],[31,2,31,4],[31,5,31,16],[31,17,31,21],[33,0,33,16],[39,0,39,1],[39,2,39,4],[39,5,39,16],[39,17,39,21],[41,0,41,16],[41,22,41,24],[37,0,37,16],[37,22,37,24],[38,0,38,1],[38,2,38,4],[38,5,38,16],[38,17,38,21],[44,0,44,1],[44,2,44,4],[44,5,44,16],[44,17,44,21],[46,0,46,16],[46,22,46,24],[42,0,42,1],[42,2,42,4],[42,5,42,16],[42,17,42,21],[43,0,43,1],[43,2,43,4],[43,5,43,16],[43,17,43,21],[49,0,49,1],[49,2,49,4],[49,5,49,16],[49,17,49,21],[51,0,55,33],[57,0,58,16],[57,24,57,26],[47,0,47,1],[47,2,47,4],[47,5,47,16],[47,17,47,21],[48,0,48,1],[48,2,48,4],[48,5,48,16],[48,17,48,21],[59,0,59,1],[59,2,59,4],[59,5,59,16],[59,17,59,19],[59,20,59,23],[60,0,60,1],[60,2,60,4],[60,5,60,16],[60,17,60,19],[60,20,60,23],[62,29,62,34],[63,0,63,1],[63,2,63,4],[63,5,63,16],[63,17,63,19],[63,20,63,23],[61,0,61,1],[61,2,61,4],[61,5,61,16],[61,17,61,19],[61,20,61,23],[62,0,62,1],[62,2,62,4],[62,5,62,16],[62,17,62,19],[62,20,62,23],[64,0,64,1],[64,2,64,4],[64,5,64,16],[64,17,64,19],[64,20,64,23],[65,0,65,1],[65,2,65,4],[65,5,65,16],[65,17,65,19],[65,20,65,23],[66,0,66,1],[66,2,66,4],[66,5,66,16],[66,17,66,19],[66,20,66,23],[67,0,67,1],[67,2,67,4],[67,5,67,16],[67,17,67,19],[67,20,67,23],[68,0,68,1],[68,2,68,4],[68,5,68,16],[68,17,68,19],[68,20,68,23],[69,0,69,1],[69,2,69,4],[69,5,69,16],[69,17,69,19],[69,20,69,23],[70,0,70,1],[70,2,70,4],[70,5,70,16],[70,17,70,19],[70,20,70,23],[71,0,71,1],[71,2,71,4],[71,5,71,16],[71,17,71,19],[71,20,71,23],[72,0,72,1],[72,2,72,4],[72,5,72,16],[72,17,72,19],[72,20,72,23],[73,0,73,1],[73,2,73,4],[73,5,73,16],[73,17,73,19],[73,20,73,23],[74,0,74,1],[74,2,74,4],[74,5,74,16],[74,17,74,19],[74,20,74,23],[75,0,75,1],[75,2,75,4],[75,5,75,16],[75,17,75,19],[75,20,75,23],[76,0,76,1],[76,2,76,4],[76,5,76,16],[76,17,76,19],[76,20,76,23],[77,0,77,1],[77,2,77,4],[77,5,77,16],[77,17,77,19],[77,20,77,23],[81,0,82,16],[81,24,81,26],[83,0,83,1],[83,2,83,4],[83,5,83,16],[83,17,83,19],[83,20,83,23],[78,0,78,1],[78,2,78,4],[78,5,78,16],[78,17,78,19],[78,20,78,23],[79,0,79,1],[79,2,79,4],[79,5,79,16],[79,17,79,19],[79,20,79,23],[84,0,84,1],[84,2,84,4],[84,5,84,16],[84,17,84,19],[84,20,84,23],[85,0,85,1],[85,2,85,4],[85,5,85,16],[85,17,85,19],[85,20,85,23],[86,0,86,1],[86,2,86,4],[86,5,86,16],[86,17,86,19],[86,20,86,23],[87,0,87,1],[87,2,87,4],[87,5,87,16],[87,17,87,19],[87,20,87,23],[88,0,88,1],[88,2,88,4],[88,5,88,16],[88,17,88,19],[88,20,88,23],[89,0,89,1],[89,2,89,4],[89,5,89,16],[89,17,89,19],[89,20,89,23],[90,0,90,1],[90,2,90,4],[90,5,90,16],[90,17,90,19],[90,20,90,23],[91,0,91,1],[91,2,91,4],[91,5,91,16],[91,17,91,19],[91,20,91,23],[92,0,92,1],[92,2,92,4],[92,5,92,16],[92,17,92,19],[92,20,92,23],[93,0,93,1],[93,2,93,4],[93,5,93,16],[93,17,93,19],[93,20,93,23],[94,0,94,1],[94,2,94,4],[94,5,94,16],[94,17,94,19],[94,20,94,23],[95,0,95,1],[95,2,95,4],[95,5,95,16],[95,17,95,19],[95,20,95,23],[96,0,96,1],[96,2,96,4],[96,5,96,16],[96,17,96,19],[96,20,96,23],[97,0,97,1],[97,2,97,4],[97,5,97,16],[97,17,97,19],[97,20,97,23],[98,0,98,1],[98,2,98,4],[98,5,98,16],[98,17,98,19],[98,20,98,23],[99,0,99,1],[99,2,99,4],[99,5,99,16],[99,17,99,19],[99,20,99,23],[100,0,100,1],[100,2,100,4],[100,5,100,16],[100,17,100,19],[100,20,100,23],[101,0,101,1],[101,2,101,4],[101,5,101,16],[101,17,101,19],[101,20,101,23],[102,0,102,1],[102,2,102,4],[102,5,102,16],[102,17,102,19],[102,20,102,23],[103,0,103,1],[103,2,103,4],[103,5,103,16],[103,17,103,19],[103,20,103,23]]}
["Schützenverein _______________",null,null,null,null,null,null,null,null,null,null,null,null,null,null,null,null,null,null,null,null,null,null,null,null,null,null,null,null,null,null,null,null,null,null,null,null,null,null,null,null,null,10,10]
[null,null,null,null,null,null,null,null,null,null,null,null,null,null,null,null,null,null,null,null,null,null,null,null,null,null,null,null,null,null,null,null,null,null,null,null,null,null,null,null,null,null,11,11]
[null,null,null,null,null,null,null,null,null,null,null,null,null,null,null,null,null,null,null,null,null,null,null,null,null,null,null,null,null,null,null,null,null,null,null,null,null,null,null,null,null,null,12,12]
["Mannschaftswertung Präsidentenpokal\n(10 Schuss KK-Auflage)",null,null,null,null,null,null,null,null,null,null,null,null,null,null,null,null,null,null,null,null,null,null,null,null,null,null,null,null,null,null,null,null,null,null,null,null,null,null,null,null,null,13,13]
[null,null,null,null,null,null,null,null,null,null,null,null,null,null,null,null,null,null,null,null,null,null,null,null,null,null,null,null,null,null,null,null,null,null,null,null,null,null,null,null,null,null,14,30]
["Nr.",null,"Klasse",null,null,"Vor- und Nachname",null,null,null,null,null,null,null,null,null,null,null,null,null,null,null,null,null,null,null,null,null,null,null,null,null,null,null,null,null,null,null,null,null,null,null,null,15,31]
[1,null,null,null,null,null,null,null,null,null,null,null,null,null,null,null,null,null,null,null,null,null,null,null,null,null,null,null,null,null,null,null,null,null,null,null,null,null,null,null,null,{"$f":"F7","v":0},16,40]
[2,null,null,null,null,null,null,null,null,null,null,null,null,null,null,null,null,null,null,null,null,null,null,null,null,null,null,null,null,null,null,null,null,null,null,null,null,null,null,null,null,{"$f":"F8","v":0},17,41]
[3,null,null,null,null,null,null,null,null,null,null,null,null,null,null,null,null,null,null,null,null,null,null,null,null,null,null,null,null,null,null,null,null,null,null,null,null,null,null,null,null,0,30,42]
[4,null,null,null,null,null,null,null,null,null,null,null,null,null,null,null,null,null,null,null,null,null,null,null,null,null,null,null,null,null,null,null,null,null,null,null,null,null,null,null,null,0,31,43]
[5,null,null,null,null,null,null,null,null,null,null,null,null,null,null,null,null,null,null,null,null,null,null,null,null,null,null,null,null,null,null,null,null,null,null,null,null,null,null,null,null,0,40,70]
[null,null,null,null,null,null,null,null,null,null,null,null,null,null,null,null,null,null,null,null,null,null,null,null,null,null,null,null,null,null,null,null,null,null,null,null,null,null,null,null,null,{"$f":"F25","v":0},42,72]
[null,null,null,null,null,null,null,null,null,null,null,null,null,null,null,null,null,null,null,null,null,null,null,null,null,null,null,null,null,null,null,null,null,null,null,null,null,null,null,null,null,{"$f":"F26","v":0},43,73]
["UK-Standarte\n(6 Schuss KK-Auflage und 6 Schuss KK-Freihand)",null,null,null,null,null,null,null,null,null,null,null,null,null,null,null,null,null,null,null,null,null,null,null,null,null,null,null,null,null,null,null,null,null,null,null,null,null,null,null,null,0,null,74]
[null,null,null,null,null,null,null,null,null,null,null,null,null,null,null,null,null,null,null,null,null,null,null,null,null,null,null,null,null,null,null,null,null,null,null,null,null,null,null,null,null,{"$f":"F61","v":0},null,75]
["Nr.",null,"Klasse",null,null,"Vor- und Nachname",null,null,null,null,null,null,null,null,null,null,null,null,null,null,null,null,null,null,null,null,null,null,null,null,null,null,null,null,null,null,null,null,null,null,null,{"$f":"F62","v":0},null,76]
[1,null,null,null,null,null,null,null,null,null,null,null,null,null,null,null,null,null,null,null,null,null,null,null,null,null,null,null,null,null,null,null,null,null,null,null,null,null,null,null,null,0,null,77]
[2,null,null,null,null,null,null,null,null,null,null,null,null,null,null,null,null,null,null,null,null,null,null,null,null,null,null,null,null,null,null,null,null,null,null,null,null,null,null,null,null,0,null,78]
[3,null,null,null,null,null,null,null,null,null,null,null,null,null,null,null,null,null,null,null,null,null,null,null,null,null,null,null,null,null,null,null,null,null,null,null,null,null,null,null,null,0,null,79]
[4,null,null,null,null,null,null,null,null,null,null,null,null,null,null,null,null,null,null,null,null,null,null,null,null,null,null,null,null,null,null,null,null,null,null,null,null,null,null,null,null,0]
[null,null,null,null,null,null,null,null,null,null,null,null,null,null,null,null,null,null,null,null,null,null,null,null,null,null,null,null,null,null,null,null,null,null,null,null,null,null,null,null,null,0]
["Damenpokal\n(10 Schuss KK-Auflage)",null,null,null,null,null,null,null,null,null,null,null,null,null,null,null,null,null,null,null,null,null,null,null,null,null,null,null,null,null,null,null,null,null,null,null,null,null,null,null,null,0]
[null,null,null,null,null,null,null,null,null,null,null,null,null,null,null,null,null,null,null,null,null,null,null,null,null,null,null,null,null,null,null,null,null,null,null,null,null,null,null,null,null,0]
["Nr.",null,"Klasse",null,null,"Vor- und Nachname",null,null,null,null,null,null,null,null,null,null,null,null,null,null,null,null,null,null,null,null,null,null,null,null,null,null,null,null,null,null,null,null,null,null,null,0]
[1,null,null,null,null,null,null,null,null,null,null,null,null,null,null,null,null,null,null,null,null,null,null,null,null,null,null,null,null,null,null,null,null,null,null,null,null,null,null,null,null,0]
[2,null,null,null,null,null,null,null,null,null,null,null,null,null,null,null,null,null,null,null,null,null,null,null,null,null,null,null,null,null,null,null,null,null,null,null,null,null,null,null,null,0]
[3,null,null,null,null,null,null,null,null,null,null,null,null,null,null,null,null,null,null,null,null,null,null,null,null,null,null,null,null,null,null,null,null,null,null,null,null,null,null,null,null,0]
[null,null,null,null,null,null,null,null,null,null,null,null,null,null,null,null,null,null,null,null,null,null,null,null,null,null,null,null,null,null,null,null,null,null,null,null,null,null,null,null,null,0]
[null,null,null,null,null,null,null,null,null,null,null,null,null,null,null,null,null,null,null,null,null,null,null,null,null,null,null,null,null,null,null,null,null,null,null,null,null,null,null,null,null,0]
["Präsident",null,null,null,null,null,null,null,null,null,null,null,null,null,null,null,null,null,null,null,null,null,null,null,null,null,null,null,null,null,null,null,null,null,null,null,null,null,null,null,null,0]
["Nr.",null,"Klasse",null,null,"Vor- und Nachname",null,null,null,null,null,null,null,null,null,null,null,null,null,null,null,null,null,null,null,null,null,null,null,null,null,null,null,null,null,null,null,null,null,null,null,0]
[1,null,null,null,null,null,null,null,null,null,null,null,null,null,null,null,null,null,null,null,null,null,null,null,null,null,null,null,null,null,null,null,null,null,null,null,null,null,null,null,null,0]
[null,null,null,null,null,null,null,null,null,null,null,null,null,null,null,null,null,null,null,null,null,null,null,null,null,null,null,null,null,null,null,null,null,null,null,null,null,null,null,null,null,0]
["Schützenkönig",null,null,null,null,null,null,null,null,null,null,null,null,null,null,null,null,null,null,null,null,null,null,null,null,null,null,null,null,null,null,null,null,null,null,null,null,null,null,null,null,0]
["Nr.",null,"Klasse",null,null,"Vor- und Nachname"]
[1]
[]
["Schützenkönigin"]
["Nr.",null,"Klasse",null,null,"Vor- und Nachname"]
[1]
[]
["Adjutanten vom König"]
["Nr.",null,"Klasse",null,null,"Vor- und Nachname"]
[1]
[2]
[]
["Adjutantinnen der Königin"]
["Nr.",null,"Klasse",null,null,"Vor- und Nachname"]
[1]
[2]
[]
["Alle Schützen die Präsidentenpokal und Damenpokal schießen, \n  starten automatisch auch als Einzelstarter KK-Auflage!\n  !!! Bitte nicht mehr bei den Einzelstartern eingeben !!!"]
[]
[]
[]
[]
[]
["Einzelstarter KK-Auflage\n(10 Schuss KK-Auflage)"]
[]
["Nr.",null,"Klasse",null,null,"Vor- und Nachname"]
[1]
[2]
[3]
[4]
[5]
[6]
[7]
[8]
[9]
[10]
[11]
[12]
[13]
[14]
[15]
[16]
[17]
[18]
[19]
[20]
[]
["Einzelstarter KK-Freihand\n(10 Schuss KK-Freihand)"]
[]
["Nr.",null,"Klasse",null,null,"Vor- und Nachname"]
[1]
[2]
[3]
[4]
[5]
[6]
[7]
[8]
[9]
[10]
[11]
[12]
[13]
[14]
[15]
[16]
[17]
[18]
[19]
[20]