{"text_format":"1","workbook":"xlsx","n_sheets":16,"sheets":["HM","PK-Luhe-Komm","PK-Damen","PK-Jugend-Schüler","PS","Seite-1","Seite-2","Preisteiler gesamt","Ergebnisse Aushang","D","Sammler","Quittung","Preisaufteilung","Etikettenvorlage","EMAIL","Mannschaft Übersicht"],"not_rendered":{"charts":0,"images":42,"macros":1,"external_links":0,"defined_names":8,"comments":1,"pivot_tables":0},"unopened":[],"bounds":{"document_bytes":16777216,"sheet_cells":100000,"rows_first":2000,"rows_last":500,"rows_between":2000,"halvings":0,"cell_chars":16384,"cell_head_chars":4096},"cells_cut":0,"cells_raw":0,"read":"whole","date_system":"1900"}

{"sheet":"HM","index":0,"n_rows":265,"n_cols":14,"rows_kept":265,"cut":false,"hidden":false,"merged":[[256,1,264,1],[1,9,1,10],[1,3,1,5],[2,0,2,1]]}
[null,"Anzahl Vereine"]
[null,{"$f":"SUM(IF(FREQUENCY(IF(LEN(B5:B254)>0,MATCH(B5:B254,B5:B254,0),\"\"), IF(LEN(B5:B254)>0,MATCH(B5:B254,B5:B254,0),\"\"))>0,1))","v":0},"60% vom Preisgeld",{"$f":"COUNTA(D5:D204)*$D$257+COUNTA(E5:E204)*$D$258+COUNTA(F5:F204)*$D$259","v":0},null,null,{"$f":"G3*$D$260","v":0},{"$f":"H3*$D$262","v":0},{"$f":"I3*$D$261","v":0},{"$f":"J3*$D$263+K3*$D$264","v":0},null,{"$f":"L3*$D$265","v":0},2018]
[{"$f":"TODAY()","v":"2018-08-13"},null,{"$f":"J2*60/100","v":0},{"$f":"COUNTA(D5:D204)+COUNTA(F5:F204)","v":0},{"$f":"COUNTA(E5:E204)+COUNTA(F5:F204)","v":0},null,{"$f":"COUNTA(G5:G204)","v":0},{"$f":"COUNTA(H5:H204)","v":0},{"$f":"COUNTA(I5:I204)","v":0},{"$f":"COUNTA(J5:J204)","v":0},{"$f":"SUM(K5:K204)","v":0},{"$f":"SUM(L5:L204)","v":0},{"$f":"SUM(M5:M204)","v":0}]
["Lfd.\nNr.:","Verein:","Vor- und Nachname:","Luhe\nPokal","Komm.\nPokal","Beide \nPokale","Damen\nPokal","Jugend\nPokal","Schüler\nPokal","Preis","Preis\n(nachgelöst)","Munition\nRWS","Summe","Datum der\nErfassung\n(automatisch)"]
[1,null,null,null,null,null,null,null,null,null,null,null,{"$f":"IF(B5=\"\",\"\",D5*$D$257+E5*$D$258+F5*$D$259+G5*$D$260+H5*$D$262+I5*$D$261+J5*$D$263+K5*$D$264+L5*$D$265)","v":""}]
[2,null,null,null,null,null,null,null,null,null,null,null,{"$f":"IF(B6=\"\",\"\",D6*$D$257+E6*$D$258+F6*$D$259+G6*$D$260+H6*$D$262+I6*$D$261+J6*$D$263+K6*$D$264+L6*$D$265)","v":""}]
[3,null,null,null,null,null,null,null,null,null,null,null,""]
[4,null,null,null,null,null,null,null,null,null,null,null,""]
[5,null,null,null,null,null,null,null,null,null,null,null,""]
[6,null,null,null,null,null,null,null,null,null,null,null,""]
[7,null,null,null,null,null,null,null,null,null,null,null,""]
[8,null,null,null,null,null,null,null,null,null,null,null,""]
[9,null,null,null,null,null,null,null,null,null,null,null,""]
[10,null,null,null,null,null,null,null,null,null,null,null,""]
[11,null,null,null,null,null,null,null,null,null,null,null,""]
[12,null,null,null,null,null,null,null,null,null,null,null,""]
[13,null,null,null,null,null,null,null,null,null,null,null,""]
[14,null,null,null,null,null,null,null,null,null,null,null,""]
[15,null,null,null,null,null,null,null,null,null,null,null,""]
[16,null,null,null,null,null,null,null,null,null,null,null,""]
[17,null,null,null,null,null,null,null,null,null,null,null,""]
[18,null,null,null,null,null,null,null,null,null,null,null,""]
[19,null,null,null,null,null,null,null,null,null,null,null,""]
[20,null,null,null,null,null,null,null,null,null,null,null,""]
[21,null,null,null,null,null,null,null,null,null,null,null,""]
[22,null,null,null,null,null,null,null,null,null,null,null,""]
[23,null,null,null,null,null,null,null,null,null,null,null,""]
[24,null,null,null,null,null,null,null,null,null,null,null,""]
[25,null,null,null,null,null,null,null,null,null,null,null,""]
[26,null,null,null,null,null,null,null,null,null,null,null,""]
[27,null,null,null,null,null,null,null,null,null,null,null,""]
[28,null,null,null,null,null,null,null,null,null,null,null,""]
[29,null,null,null,null,null,null,null,null,null,null,null,""]
[30,null,null,null,null,null,null,null,null,null,null,null,""]
[31,null,null,null,null,null,null,null,null,null,null,null,""]
[32,null,null,null,null,null,null,null,null,null,null,null,""]
[33,null,null,null,null,null,null,null,null,null,null,null,""]
[34,null,null,null,null,null,null,null,null,null,null,null,""]
[35,null,null,null,null,null,null,null,null,null,null,null,""]
[36,null,null,null,null,null,null,null,null,null,null,null,""]
[37,null,null,null,null,null,null,null,null,null,null,null,""]
[38,null,null,null,null,null,null,null,null,null,null,null,""]
[39,null,null,null,null,null,null,null,null,null,null,null,""]
[40,null,null,null,null,null,null,null,null,null,null,null,""]
[41,null,null,null,null,null,null,null,null,null,null,null,""]
[42,null,null,null,null,null,null,null,null,null,null,null,""]
[43,null,null,null,null,null,null,null,null,null,null,null,""]
[44,null,null,null,null,null,null,null,null,null,null,null,""]
[45,null,null,null,null,null,null,null,null,null,null,null,""]
[46,null,null,null,null,null,null,null,null,null,null,null,""]
[47,null,null,null,null,null,null,null,null,null,null,null,""]
[48,null,null,null,null,null,null,null,null,null,null,null,""]
[49,null,null,null,null,null,null,null,null,null,null,null,""]
[50,null,null,null,null,null,null,null,null,null,null,null,""]
[51,null,null,null,null,null,null,null,null,null,null,null,""]
[52,null,null,null,null,null,null,null,null,null,null,null,""]
[53,null,null,null,null,null,null,null,null,null,null,null,""]
[54,null,null,null,null,null,null,null,null,null,null,null,""]
[55,null,null,null,null,null,null,null,null,null,null,null,""]
[56,null,null,null,null,null,null,null,null,null,null,null,""]
[57,null,null,null,null,null,null,null,null,null,null,null,""]
[58,null,null,null,null,null,null,null,null,null,null,null,""]
[59,null,null,null,null,null,null,null,null,null,null,null,""]
[60,null,null,null,null,null,null,null,null,null,null,null,""]
[61,null,null,null,null,null,null,null,null,null,null,null,""]
[62,null,null,null,null,null,null,null,null,null,null,null,""]
[63,null,null,null,null,null,null,null,null,null,null,null,""]
[64,null,null,null,null,null,null,null,null,null,null,null,""]
[65,null,null,null,null,null,null,null,null,null,null,null,""]
[66,null,null,null,null,null,null,null,null,null,null,null,{"$f":"IF(B70=\"\",\"\",D70*$D$257+E70*$D$258+F70*$D$259+G70*$D$260+H70*$D$262+I70*$D$261+J70*$D$263+K70*$D$264+L70*$D$265)","v":""}]
[67,null,null,null,null,null,null,null,null,null,null,null,""]
[68,null,null,null,null,null,null,null,null,null,null,null,""]
[69,null,null,null,null,null,null,null,null,null,null,null,""]
[70,null,null,null,null,null,null,null,null,null,null,null,""]
[71,null,null,null,null,null,null,null,null,null,null,null,""]
[72,null,null,null,null,null,null,null,null,null,null,null,""]
[73,null,null,null,null,null,null,null,null,null,null,null,""]
[74,null,null,null,null,null,null,null,null,null,null,null,""]
[75,null,null,null,null,null,null,null,null,null,null,null,""]
[76,null,null,null,null,null,null,null,null,null,null,null,""]
[77,null,null,null,null,null,null,null,null,null,null,null,""]
[78,null,null,null,null,null,null,null,null,null,null,null,""]
[79,null,null,null,null,null,null,null,null,null,null,null,""]
[80,null,null,null,null,null,null,null,null,null,null,null,""]
[81,null,null,null,null,null,null,null,null,null,null,null,""]
[82,null,null,null,null,null,null,null,null,null,null,null,""]
[83,null,null,null,null,null,null,null,null,null,null,null,""]
[84,null,null,null,null,null,null,null,null,null,null,null,""]
[85,null,null,null,null,null,null,null,null,null,null,null,""]
[86,null,null,null,null,null,null,null,null,null,null,null,""]
[87,null,null,null,null,null,null,null,null,null,null,null,""]
[88,null,null,null,null,null,null,null,null,null,null,null,""]
[89,null,null,null,null,null,null,null,null,null,null,null,""]
[90,null,null,null,null,null,null,null,null,null,null,null,""]
[91,null,null,null,null,null,null,null,null,null,null,null,""]
[92,null,null,null,null,null,null,null,null,null,null,null,""]
[93,null,null,null,null,null,null,null,null,null,null,null,""]
[94,null,null,null,null,null,null,null,null,null,null,null,""]
[95,null,null,null,null,null,null,null,null,null,null,null,""]
[96,null,null,null,null,null,null,null,null,null,null,null,""]
[97,null,null,null,null,null,null,null,null,null,null,null,""]
[98,null,null,null,null,null,null,null,null,null,null,null,""]
[99,null,null,null,null,null,null,null,null,null,null,null,""]
[100,null,null,null,null,null,null,null,null,null,null,null,""]
[101,null,null,null,null,null,null,null,null,null,null,null,""]
[102,null,null,null,null,null,null,null,null,null,null,null,""]
[103,null,null,null,null,null,null,null,null,null,null,null,""]
[104,null,null,null,null,null,null,null,null,null,null,null,""]
[105,null,null,null,null,null,null,null,null,null,null,null,""]
[106,null,null,null,null,null,null,null,null,null,null,null,""]
[107,null,null,null,null,null,null,null,null,null,null,null,""]
[108,null,null,null,null,null,null,null,null,null,null,null,""]
[109,null,null,null,null,null,null,null,null,null,null,null,""]
[110,null,null,null,null,null,null,null,null,null,null,null,""]
[111,null,null,null,null,null,null,null,null,null,null,null,""]
[112,null,null,null,null,null,null,null,null,null,null,null,""]
[113,null,null,null,null,null,null,null,null,null,null,null,""]
[114,null,null,null,null,null,null,null,null,null,null,null,""]
[115,null,null,null,null,null,null,null,null,null,null,null,""]
[116,null,null,null,null,null,null,null,null,null,null,null,""]
[117,null,null,null,null,null,null,null,null,null,null,null,""]
[118,null,null,null,null,null,null,null,null,null,null,null,""]
[119,null,null,null,null,null,null,null,null,null,null,null,""]
[120,null,null,null,null,null,null,null,null,null,null,null,""]
[121,null,null,null,null,null,null,null,null,null,null,null,""]
[122,null,null,null,null,null,null,null,null,null,null,null,""]
[123,null,null,null,null,null,null,null,null,null,null,null,""]
[124,null,null,null,null,null,null,null,null,null,null,null,""]
[125,null,null,null,null,null,null,null,null,null,null,null,""]
[126,null,null,null,null,null,null,null,null,null,null,null,""]
[127,null,null,null,null,null,null,null,null,null,null,null,""]
[128,null,null,null,null,null,null,null,null,null,null,null,""]
[129,null,null,null,null,null,null,null,null,null,null,null,""]
[130,null,null,null,null,null,null,null,null,null,null,null,{"$f":"IF(B134=\"\",\"\",D134*$D$257+E134*$D$258+F134*$D$259+G134*$D$260+H134*$D$262+I134*$D$261+J134*$D$263+K134*$D$264+L134*$D$265)","v":""}]
[131,null,null,null,null,null,null,null,null,null,null,null,""]
[132,null,null,null,null,null,null,null,null,null,null,null,""]
[133,null,null,null,null,null,null,null,null,null,null,null,""]
[134,null,null,null,null,null,null,null,null,null,null,null,""]
[135,null,null,null,null,null,null,null,null,null,null,null,""]
[136,null,null,null,null,null,null,null,null,null,null,null,""]
[137,null,null,null,null,null,null,null,null,null,null,null,""]
[138,null,null,null,null,null,null,null,null,null,null,null,""]
[139,null,null,null,null,null,null,null,null,null,null,null,""]
[140,null,null,null,null,null,null,null,null,null,null,null,""]
[141,null,null,null,null,null,null,null,null,null,null,null,""]
[142,null,null,null,null,null,null,null,null,null,null,null,""]
[143,null,null,null,null,null,null,null,null,null,null,null,""]
[144,null,null,null,null,null,null,null,null,null,null,null,""]
[145,null,null,null,null,null,null,null,null,null,null,null,""]
[146,null,null,null,null,null,null,null,null,null,null,null,""]
[147,null,null,null,null,null,null,null,null,null,null,null,""]
[148,null,null,null,null,null,null,null,null,null,null,null,""]
[149,null,null,null,null,null,null,null,null,null,null,null,""]
[150,null,null,null,null,null,null,null,null,null,null,null,""]
[151,null,null,null,null,null,null,null,null,null,null,null,""]
[152,null,null,null,null,null,null,null,null,null,null,null,""]
[153,null,null,null,null,null,null,null,null,null,null,null,""]
[154,null,null,null,null,null,null,null,null,null,null,null,""]
[155,null,null,null,null,null,null,null,null,null,null,null,""]
[156,null,null,null,null,null,null,null,null,null,null,null,""]
[157,null,null,null,null,null,null,null,null,null,null,null,""]
[158,null,null,null,null,null,null,null,null,null,null,null,""]
[159,null,null,null,null,null,null,null,null,null,null,null,""]
[160,null,null,null,null,null,null,null,null,null,null,null,""]
[161,null,null,null,null,null,null,null,null,null,null,null,""]
[162,null,null,null,null,null,null,null,null,null,null,null,""]
[163,null,null,null,null,null,null,null,null,null,null,null,""]
[164,null,null,null,null,null,null,null,null,null,null,null,""]
[165,null,null,null,null,null,null,null,null,null,null,null,""]
[166,null,null,null,null,null,null,null,null,null,null,null,""]
[167,null,null,null,null,null,null,null,null,null,null,null,""]
[168,null,null,null,null,null,null,null,null,null,null,null,""]
[169,null,null,null,null,null,null,null,null,null,null,null,""]
[170,null,null,null,null,null,null,null,null,null,null,null,""]
[171,null,null,null,null,null,null,null,null,null,null,null,""]
[172,null,null,null,null,null,null,null,null,null,null,null,""]
[173,null,null,null,null,null,null,null,null,null,null,null,""]
[174,null,null,null,null,null,null,null,null,null,null,null,""]
[175,null,null,null,null,null,null,null,null,null,null,null,""]
[176,null,null,null,null,null,null,null,null,null,null,null,""]
[177,null,null,null,null,null,null,null,null,null,null,null,""]
[178,null,null,null,null,null,null,null,null,null,null,null,""]
[179,null,null,null,null,null,null,null,null,null,null,null,""]
[180,null,null,null,null,null,null,null,null,null,null,null,""]
[181,null,null,null,null,null,null,null,null,null,null,null,""]
[182,null,null,null,null,null,null,null,null,null,null,null,""]
[183,null,null,null,null,null,null,null,null,null,null,null,""]
[184,null,null,null,null,null,null,null,null,null,null,null,""]
[185,null,null,null,null,null,null,null,null,null,null,null,""]
[186,null,null,null,null,null,null,null,null,null,null,null,""]
[187,null,null,null,null,null,null,null,null,null,null,null,""]
[188,null,null,null,null,null,null,null,null,null,null,null,""]
[189,null,null,null,null,null,null,null,null,null,null,null,""]
[190,null,null,null,null,null,null,null,null,null,null,null,""]
[191,null,null,null,null,null,null,null,null,null,null,null,""]
[192,null,null,null,null,null,null,null,null,null,null,null,""]
[193,null,null,null,null,null,null,null,null,null,null,null,""]
[194,null,null,null,null,null,null,null,null,null,null,null,{"$f":"IF(B198=\"\",\"\",D198*$D$257+E198*$D$258+F198*$D$259+G198*$D$260+H198*$D$262+I198*$D$261+J198*$D$263+K198*$D$264+L198*$D$265)","v":""}]
[195,null,null,null,null,null,null,null,null,null,null,null,""]
[196,null,null,null,null,null,null,null,null,null,null,null,""]
[197,null,null,null,null,null,null,null,null,null,null,null,""]
[198,null,null,null,null,null,null,null,null,null,null,null,""]
[199,null,null,null,null,null,null,null,null,null,null,null,""]
[200,null,null,null,null,null,null,null,null,null,null,null,""]
[201,null,null,null,null,null,null,null,null,null,null,null,{"$f":"IF(B205=\"\",\"\",D205*$D$257+E205*$D$258+F205*$D$259+G205*$D$260+H205*$D$262+I205*$D$261+J205*$D$263+K205*$D$264+L205*$D$265)","v":""}]
[202,null,null,null,null,null,null,null,null,null,null,null,""]
[203,null,null,null,null,null,null,null,null,null,null,null,""]
[204,null,null,null,null,null,null,null,null,null,null,null,""]
[205,null,null,null,null,null,null,null,null,null,null,null,""]
[206,null,null,null,null,null,null,null,null,null,null,null,""]
[207,null,null,null,null,null,null,null,null,null,null,null,""]
[208,null,null,null,null,null,null,null,null,null,null,null,""]
[209,null,null,null,null,null,null,null,null,null,null,null,""]
[210,null,null,null,null,null,null,null,null,null,null,null,""]
[211,null,null,null,null,null,null,null,null,null,null,null,""]
[212,null,null,null,null,null,null,null,null,null,null,null,""]
[213,null,null,null,null,null,null,null,null,null,null,null,""]
[214,null,null,null,null,null,null,null,null,null,null,null,""]
[215,null,null,null,null,null,null,null,null,null,null,null,""]
[216,null,null,null,null,null,null,null,null,null,null,null,""]
[217,null,null,null,null,null,null,null,null,null,null,null,""]
[218,null,null,null,null,null,null,null,null,null,null,null,""]
[219,null,null,null,null,null,null,null,null,null,null,null,""]
[220,null,null,null,null,null,null,null,null,null,null,null,""]
[221,null,null,null,null,null,null,null,null,null,null,null,""]
[222,null,null,null,null,null,null,null,null,null,null,null,""]
[223,null,null,null,null,null,null,null,null,null,null,null,""]
[224,null,null,null,null,null,null,null,null,null,null,null,""]
[225,null,null,null,null,null,null,null,null,null,null,null,""]
[226,null,null,null,null,null,null,null,null,null,null,null,""]
[227,null,null,null,null,null,null,null,null,null,null,null,""]
[228,null,null,null,null,null,null,null,null,null,null,null,""]
[229,null,null,null,null,null,null,null,null,null,null,null,""]
[230,null,null,null,null,null,null,null,null,null,null,null,""]
[231,null,null,null,null,null,null,null,null,null,null,null,""]
[232,null,null,null,null,null,null,null,null,null,null,null,""]
[233,null,null,null,null,null,null,null,null,null,null,null,""]
[234,null,null,null,null,null,null,null,null,null,null,null,""]
[235,null,null,null,null,null,null,null,null,null,null,null,""]
[236,null,null,null,null,null,null,null,null,null,null,null,""]
[237,null,null,null,null,null,null,null,null,null,null,null,""]
[238,null,null,null,null,null,null,null,null,null,null,null,""]
[239,null,null,null,null,null,null,null,null,null,null,null,""]
[240,null,null,null,null,null,null,null,null,null,null,null,""]
[241,null,null,null,null,null,null,null,null,null,null,null,""]
[242,null,null,null,null,null,null,null,null,null,null,null,""]
[243,null,null,null,null,null,null,null,null,null,null,null,""]
[244,null,null,null,null,null,null,null,null,null,null,null,""]
[245,null,null,null,null,null,null,null,null,null,null,null,""]
[246,null,null,null,null,null,null,null,null,null,null,null,""]
[247,null,null,null,null,null,null,null,null,null,null,null,""]
[248,null,null,null,null,null,null,null,null,null,null,null,""]
[249,null,null,null,null,null,null,null,null,null,null,null,""]
[250,null,null,null,null,null,null,null,null,null,null,null,""]
[]
[]
[null,"Preise","Luhepokal",13]
[null,null,"Komm. Pokal",13]
[null,null,"Beide Pokale",23]
[null,null,"Damenpokal",13]
[null,null,"Schülerpokal",8]
[null,null,"Jugendpokal",10]
[null,null,"Preis",8]
[null,null,"Preis (nachgelöst)",1]
[null,null,"Munition RWS",5]

{"sheet":"PK-Luhe-Komm","index":1,"n_rows":280,"n_cols":12,"rows_kept":280,"cut":false,"hidden":false,"merged":[[0,1,0,4],[0,7,0,10]]}
[null,"Luhepokal",null,null,null,null,null,"Kommandeurspokal"]
[null,"Verein:","Name:","Ringe:","Teiler:","Nr:",null,"Verein:","Name:","Ringe:","Teiler:","Nr:"]
[null,{"$f":"IF(F3=\"\",\"\",VLOOKUP(F3,HM!$A$5:$C$254,2))","v":""},{"$f":"IF(F3=\"\",\"\",VLOOKUP(F3,HM!$A$5:$C$254,3))","v":""},null,null,null,null,{"$f":"IF(L3=\"\",\"\",VLOOKUP(L3,HM!$A$5:$C$254,2))","v":""},{"$f":"IF(L3=\"\",\"\",VLOOKUP(L3,HM!$A$5:$C$254,3))","v":""}]
[null,null,{"$f":"IF(F4=\"\",\"\",VLOOKUP(F4,HM!$A$5:$C$254,3))","v":""},null,null,null,null,null,{"$f":"IF(L4=\"\",\"\",VLOOKUP(L4,HM!$A$5:$C$254,3))","v":""}]
[null,"1.",{"$f":"IF(F5=\"\",\"\",VLOOKUP(F5,HM!$A$5:$C$254,3))","v":""},null,null,null,null,"1.",{"$f":"IF(L5=\"\",\"\",VLOOKUP(L5,HM!$A$5:$C$254,3))","v":""}]
[null,null,{"$f":"IF(F6=\"\",\"\",VLOOKUP(F6,HM!$A$5:$C$254,3))","v":""},null,null,null,null,null,{"$f":"IF(L6=\"\",\"\",VLOOKUP(L6,HM!$A$5:$C$254,3))","v":""}]
[null,null,"gesamt:",{"$f":"SUM(D3:D6)","v":0},{"$f":"MIN(E3:E6)","v":0},null,null,null,"gesamt:",{"$f":"SUM(J3:J6)","v":0},{"$f":"MIN(K3:K6)","v":0}]
[]
[null,"Verein:","Name:","Ringe:","Teiler:","Nr:",null,"Verein:","Name:","Ringe:","Teiler:","Nr:"]
[null,{"$f":"IF(F10=\"\",\"\",VLOOKUP(F10,HM!$A$5:$C$254,2))","v":""},{"$f":"IF(F10=\"\",\"\",VLOOKUP(F10,HM!$A$5:$C$254,3))","v":""},null,null,null,null,{"$f":"IF(L10=\"\",\"\",VLOOKUP(L10,HM!$A$5:$C$254,2))","v":""},{"$f":"IF(L10=\"\",\"\",VLOOKUP(L10,HM!$A$5:$C$254,3))","v":""}]
[null,null,{"$f":"IF(F11=\"\",\"\",VLOOKUP(F11,HM!$A$5:$C$254,3))","v":""},null,null,null,null,null,{"$f":"IF(L11=\"\",\"\",VLOOKUP(L11,HM!$A$5:$C$254,3))","v":""}]
[null,"2.",{"$f":"IF(F12=\"\",\"\",VLOOKUP(F12,HM!$A$5:$C$254,3))","v":""},null,null,null,null,"2.",{"$f":"IF(L12=\"\",\"\",VLOOKUP(L12,HM!$A$5:$C$254,3))","v":""}]
[null,null,{"$f":"IF(F13=\"\",\"\",VLOOKUP(F13,HM!$A$5:$C$254,3))","v":""},null,null,null,null,null,{"$f":"IF(L13=\"\",\"\",VLOOKUP(L13,HM!$A$5:$C$254,3))","v":""}]
[null,null,"gesamt:",{"$f":"SUM(D10:D13)","v":0},{"$f":"MIN(E10:E13)","v":0},null,null,null,"gesamt:",{"$f":"SUM(J10:J13)","v":0},{"$f":"MIN(K10:K13)","v":0}]
[]
[null,"Verein:","Name:","Ringe:","Teiler:","Nr:",null,"Verein:","Name:","Ringe:","Teiler:","Nr:"]
[null,{"$f":"IF(F17=\"\",\"\",VLOOKUP(F17,HM!$A$5:$C$254,2))","v":""},{"$f":"IF(F17=\"\",\"\",VLOOKUP(F17,HM!$A$5:$C$254,3))","v":""},null,null,null,null,{"$f":"IF(L17=\"\",\"\",VLOOKUP(L17,HM!$A$5:$C$254,2))","v":""},{"$f":"IF(L17=\"\",\"\",VLOOKUP(L17,HM!$A$5:$C$254,3))","v":""}]
[null,null,{"$f":"IF(F18=\"\",\"\",VLOOKUP(F18,HM!$A$5:$C$254,3))","v":""},null,null,null,null,null,{"$f":"IF(L18=\"\",\"\",VLOOKUP(L18,HM!$A$5:$C$254,3))","v":""}]
[null,"3.",{"$f":"IF(F19=\"\",\"\",VLOOKUP(F19,HM!$A$5:$C$254,3))","v":""},null,null,null,null,"3.",{"$f":"IF(L19=\"\",\"\",VLOOKUP(L19,HM!$A$5:$C$254,3))","v":""}]
[null,null,{"$f":"IF(F20=\"\",\"\",VLOOKUP(F20,HM!$A$5:$C$254,3))","v":""},null,null,null,null,null,{"$f":"IF(L20=\"\",\"\",VLOOKUP(L20,HM!$A$5:$C$254,3))","v":""}]
[null,null,"gesamt:",{"$f":"SUM(D17:D20)","v":0},{"$f":"MIN(E17:E20)","v":0},null,null,null,"gesamt:",{"$f":"SUM(J17:J20)","v":0},{"$f":"MIN(K17:K20)","v":0}]
[]
[null,"Verein:","Name:","Ringe:","Teiler:","Nr:",null,"Verein:","Name:","Ringe:","Teiler:","Nr:"]
[null,{"$f":"IF(F24=\"\",\"\",VLOOKUP(F24,HM!$A$5:$C$254,2))","v":""},{"$f":"IF(F24=\"\",\"\",VLOOKUP(F24,HM!$A$5:$C$254,3))","v":""},null,null,null,null,{"$f":"IF(L24=\"\",\"\",VLOOKUP(L24,HM!$A$5:$C$254,2))","v":""},{"$f":"IF(L24=\"\",\"\",VLOOKUP(L24,HM!$A$5:$C$254,3))","v":""}]
[null,null,{"$f":"IF(F25=\"\",\"\",VLOOKUP(F25,HM!$A$5:$C$254,3))","v":""},null,null,null,null,null,{"$f":"IF(L25=\"\",\"\",VLOOKUP(L25,HM!$A$5:$C$254,3))","v":""}]
[null,"4.",{"$f":"IF(F26=\"\",\"\",VLOOKUP(F26,HM!$A$5:$C$254,3))","v":""},null,null,null,null,"4.",{"$f":"IF(L26=\"\",\"\",VLOOKUP(L26,HM!$A$5:$C$254,3))","v":""}]
[null,null,{"$f":"IF(F27=\"\",\"\",VLOOKUP(F27,HM!$A$5:$C$254,3))","v":""},null,null,null,null,null,{"$f":"IF(L27=\"\",\"\",VLOOKUP(L27,HM!$A$5:$C$254,3))","v":""}]
[null,null,"gesamt:",{"$f":"SUM(D24:D27)","v":0},{"$f":"MIN(E24:E27)","v":0},null,null,null,"gesamt:",{"$f":"SUM(J24:J27)","v":0},{"$f":"MIN(K24:K27)","v":0}]
[]
[null,"Verein:","Name:","Ringe:","Teiler:","Nr:",null,"Verein:","Name:","Ringe:","Teiler:","Nr:"]
[null,{"$f":"IF(F31=\"\",\"\",VLOOKUP(F31,HM!$A$5:$C$254,2))","v":""},{"$f":"IF(F31=\"\",\"\",VLOOKUP(F31,HM!$A$5:$C$254,3))","v":""},null,null,null,null,{"$f":"IF(L31=\"\",\"\",VLOOKUP(L31,HM!$A$5:$C$254,2))","v":""},{"$f":"IF(L31=\"\",\"\",VLOOKUP(L31,HM!$A$5:$C$254,3))","v":""}]
[null,null,{"$f":"IF(F32=\"\",\"\",VLOOKUP(F32,HM!$A$5:$C$254,3))","v":""},null,null,null,null,null,{"$f":"IF(L32=\"\",\"\",VLOOKUP(L32,HM!$A$5:$C$254,3))","v":""}]
[null,"5.",{"$f":"IF(F33=\"\",\"\",VLOOKUP(F33,HM!$A$5:$C$254,3))","v":""},null,null,null,null,"5.",{"$f":"IF(L33=\"\",\"\",VLOOKUP(L33,HM!$A$5:$C$254,3))","v":""}]
[null,null,{"$f":"IF(F34=\"\",\"\",VLOOKUP(F34,HM!$A$5:$C$254,3))","v":""},null,null,null,null,null,{"$f":"IF(L34=\"\",\"\",VLOOKUP(L34,HM!$A$5:$C$254,3))","v":""}]
[null,null,"gesamt:",{"$f":"SUM(D31:D34)","v":0},{"$f":"MIN(E31:E34)","v":0},null,null,null,"gesamt:",{"$f":"SUM(J31:J34)","v":0},{"$f":"MIN(K31:K34)","v":0}]
[]
[null,"Verein:","Name:","Ringe:","Teiler:","Nr:",null,"Verein:","Name:","Ringe:","Teiler:","Nr:"]
[null,{"$f":"IF(F38=\"\",\"\",VLOOKUP(F38,HM!$A$5:$C$254,2))","v":""},{"$f":"IF(F38=\"\",\"\",VLOOKUP(F38,HM!$A$5:$C$254,3))","v":""},null,null,null,null,{"$f":"IF(L38=\"\",\"\",VLOOKUP(L38,HM!$A$5:$C$254,2))","v":""},{"$f":"IF(L38=\"\",\"\",VLOOKUP(L38,HM!$A$5:$C$254,3))","v":""}]
[null,null,{"$f":"IF(F39=\"\",\"\",VLOOKUP(F39,HM!$A$5:$C$254,3))","v":""},null,null,null,null,null,{"$f":"IF(L39=\"\",\"\",VLOOKUP(L39,HM!$A$5:$C$254,3))","v":""}]
[null,"6.",{"$f":"IF(F40=\"\",\"\",VLOOKUP(F40,HM!$A$5:$C$254,3))","v":""},null,null,null,null,"6.",{"$f":"IF(L40=\"\",\"\",VLOOKUP(L40,HM!$A$5:$C$254,3))","v":""}]
[null,null,{"$f":"IF(F41=\"\",\"\",VLOOKUP(F41,HM!$A$5:$C$254,3))","v":""},null,null,null,null,null,{"$f":"IF(L41=\"\",\"\",VLOOKUP(L41,HM!$A$5:$C$254,3))","v":""}]
[null,null,"gesamt:",{"$f":"SUM(D38:D41)","v":0},{"$f":"MIN(E38:E41)","v":0},null,null,null,"gesamt:",{"$f":"SUM(J38:J41)","v":0},{"$f":"MIN(K38:K41)","v":0}]
[]
[null,"Verein:","Name:","Ringe:","Teiler:","Nr:",null,"Verein:","Name:","Ringe:","Teiler:","Nr:"]
[null,{"$f":"IF(F45=\"\",\"\",VLOOKUP(F45,HM!$A$5:$C$254,2))","v":""},{"$f":"IF(F45=\"\",\"\",VLOOKUP(F45,HM!$A$5:$C$254,3))","v":""},null,null,null,null,{"$f":"IF(L45=\"\",\"\",VLOOKUP(L45,HM!$A$5:$C$254,2))","v":""},{"$f":"IF(L45=\"\",\"\",VLOOKUP(L45,HM!$A$5:$C$254,3))","v":""}]
[null,null,{"$f":"IF(F46=\"\",\"\",VLOOKUP(F46,HM!$A$5:$C$254,3))","v":""},null,null,null,null,null,{"$f":"IF(L46=\"\",\"\",VLOOKUP(L46,HM!$A$5:$C$254,3))","v":""}]
[null,"7.",{"$f":"IF(F47=\"\",\"\",VLOOKUP(F47,HM!$A$5:$C$254,3))","v":""},null,null,null,null,"7.",{"$f":"IF(L47=\"\",\"\",VLOOKUP(L47,HM!$A$5:$C$254,3))","v":""}]
[null,null,{"$f":"IF(F48=\"\",\"\",VLOOKUP(F48,HM!$A$5:$C$254,3))","v":""},null,null,null,null,null,{"$f":"IF(L48=\"\",\"\",VLOOKUP(L48,HM!$A$5:$C$254,3))","v":""}]
[null,null,"gesamt:",{"$f":"SUM(D45:D48)","v":0},{"$f":"MIN(E45:E48)","v":0},null,null,null,"gesamt:",{"$f":"SUM(J45:J48)","v":0},{"$f":"MIN(K45:K48)","v":0}]
[]
[null,"Verein:","Name:","Ringe:","Teiler:","Nr:",null,"Verein:","Name:","Ringe:","Teiler:","Nr:"]
[null,{"$f":"IF(F52=\"\",\"\",VLOOKUP(F52,HM!$A$5:$C$254,2))","v":""},{"$f":"IF(F52=\"\",\"\",VLOOKUP(F52,HM!$A$5:$C$254,3))","v":""},null,null,null,null,{"$f":"IF(L52=\"\",\"\",VLOOKUP(L52,HM!$A$5:$C$254,2))","v":""},{"$f":"IF(L52=\"\",\"\",VLOOKUP(L52,HM!$A$5:$C$254,3))","v":""}]
[null,null,{"$f":"IF(F53=\"\",\"\",VLOOKUP(F53,HM!$A$5:$C$254,3))","v":""},null,null,null,null,null,{"$f":"IF(L53=\"\",\"\",VLOOKUP(L53,HM!$A$5:$C$254,3))","v":""}]
[null,"8.",{"$f":"IF(F54=\"\",\"\",VLOOKUP(F54,HM!$A$5:$C$254,3))","v":""},null,null,null,null,"8.",{"$f":"IF(L54=\"\",\"\",VLOOKUP(L54,HM!$A$5:$C$254,3))","v":""}]
[null,null,{"$f":"IF(F55=\"\",\"\",VLOOKUP(F55,HM!$A$5:$C$254,3))","v":""},null,null,null,null,null,{"$f":"IF(L55=\"\",\"\",VLOOKUP(L55,HM!$A$5:$C$254,3))","v":""}]
[null,null,"gesamt:",{"$f":"SUM(D52:D55)","v":0},{"$f":"MIN(E52:E55)","v":0},null,null,null,"gesamt:",{"$f":"SUM(J52:J55)","v":0},{"$f":"MIN(K52:K55)","v":0}]
[]
[null,"Verein:","Name:","Ringe:","Teiler:","Nr:",null,"Verein:","Name:","Ringe:","Teiler:","Nr:"]
[null,{"$f":"IF(F59=\"\",\"\",VLOOKUP(F59,HM!$A$5:$C$254,2))","v":""},{"$f":"IF(F59=\"\",\"\",VLOOKUP(F59,HM!$A$5:$C$254,3))","v":""},null,null,null,null,{"$f":"IF(L59=\"\",\"\",VLOOKUP(L59,HM!$A$5:$C$254,2))","v":""},{"$f":"IF(L59=\"\",\"\",VLOOKUP(L59,HM!$A$5:$C$254,3))","v":""}]
[null,null,{"$f":"IF(F60=\"\",\"\",VLOOKUP(F60,HM!$A$5:$C$254,3))","v":""},null,null,null,null,null,{"$f":"IF(L60=\"\",\"\",VLOOKUP(L60,HM!$A$5:$C$254,3))","v":""}]
[null,"9.",{"$f":"IF(F61=\"\",\"\",VLOOKUP(F61,HM!$A$5:$C$254,3))","v":""},null,null,null,null,"9.",{"$f":"IF(L61=\"\",\"\",VLOOKUP(L61,HM!$A$5:$C$254,3))","v":""}]
[null,null,{"$f":"IF(F62=\"\",\"\",VLOOKUP(F62,HM!$A$5:$C$254,3))","v":""},null,null,null,null,null,{"$f":"IF(L62=\"\",\"\",VLOOKUP(L62,HM!$A$5:$C$254,3))","v":""}]
[null,null,"gesamt:",{"$f":"SUM(D59:D62)","v":0},{"$f":"MIN(E59:E62)","v":0},null,null,null,"gesamt:",{"$f":"SUM(J59:J62)","v":0},{"$f":"MIN(K59:K62)","v":0}]
[]
[null,"Verein:","Name:","Ringe:","Teiler:","Nr:",null,"Verein:","Name:","Ringe:","Teiler:","Nr:"]
[null,{"$f":"IF(F66=\"\",\"\",VLOOKUP(F66,HM!$A$5:$C$254,2))","v":""},{"$f":"IF(F66=\"\",\"\",VLOOKUP(F66,HM!$A$5:$C$254,3))","v":""},null,null,null,null,{"$f":"IF(L66=\"\",\"\",VLOOKUP(L66,HM!$A$5:$C$254,2))","v":""},{"$f":"IF(L66=\"\",\"\",VLOOKUP(L66,HM!$A$5:$C$254,3))","v":""}]
[null,null,{"$f":"IF(F67=\"\",\"\",VLOOKUP(F67,HM!$A$5:$C$254,3))","v":""},null,null,null,null,null,{"$f":"IF(L67=\"\",\"\",VLOOKUP(L67,HM!$A$5:$C$254,3))","v":""}]
[null,"10.",{"$f":"IF(F68=\"\",\"\",VLOOKUP(F68,HM!$A$5:$C$254,3))","v":""},null,null,null,null,"10.",{"$f":"IF(L68=\"\",\"\",VLOOKUP(L68,HM!$A$5:$C$254,3))","v":""}]
[null,null,{"$f":"IF(F69=\"\",\"\",VLOOKUP(F69,HM!$A$5:$C$254,3))","v":""},null,null,null,null,null,{"$f":"IF(L69=\"\",\"\",VLOOKUP(L69,HM!$A$5:$C$254,3))","v":""}]
[null,null,"gesamt:",{"$f":"SUM(D66:D69)","v":0},{"$f":"MIN(E66:E69)","v":0},null,null,null,"gesamt:",{"$f":"SUM(J66:J69)","v":0},{"$f":"MIN(K66:K69)","v":0}]
[]
[null,"Verein:","Name:","Ringe:","Teiler:","Nr:",null,"Verein:","Name:","Ringe:","Teiler:","Nr:"]
[null,{"$f":"IF(F73=\"\",\"\",VLOOKUP(F73,HM!$A$5:$C$254,2))","v":""},{"$f":"IF(F73=\"\",\"\",VLOOKUP(F73,HM!$A$5:$C$254,3))","v":""},null,null,null,null,{"$f":"IF(L73=\"\",\"\",VLOOKUP(L73,HM!$A$5:$C$254,2))","v":""},{"$f":"IF(L73=\"\",\"\",VLOOKUP(L73,HM!$A$5:$C$254,3))","v":""}]
[null,null,{"$f":"IF(F74=\"\",\"\",VLOOKUP(F74,HM!$A$5:$C$254,3))","v":""},null,null,null,null,null,{"$f":"IF(L74=\"\",\"\",VLOOKUP(L74,HM!$A$5:$C$254,3))","v":""}]
[null,"11.",{"$f":"IF(F75=\"\",\"\",VLOOKUP(F75,HM!$A$5:$C$254,3))","v":""},null,null,null,null,"11.",{"$f":"IF(L75=\"\",\"\",VLOOKUP(L75,HM!$A$5:$C$254,3))","v":""}]
[null,null,{"$f":"IF(F76=\"\",\"\",VLOOKUP(F76,HM!$A$5:$C$254,3))","v":""},null,null,null,null,null,{"$f":"IF(L76=\"\",\"\",VLOOKUP(L76,HM!$A$5:$C$254,3))","v":""}]
[null,null,"gesamt:",{"$f":"SUM(D73:D76)","v":0},{"$f":"MIN(E73:E76)","v":0},null,null,null,"gesamt:",{"$f":"SUM(J73:J76)","v":0},{"$f":"MIN(K73:K76)","v":0}]
[]
[null,"Verein:","Name:","Ringe:","Teiler:","Nr:",null,"Verein:","Name:","Ringe:","Teiler:","Nr:"]
[null,{"$f":"IF(F80=\"\",\"\",VLOOKUP(F80,HM!$A$5:$C$254,2))","v":""},{"$f":"IF(F80=\"\",\"\",VLOOKUP(F80,HM!$A$5:$C$254,3))","v":""},null,null,null,null,{"$f":"IF(L80=\"\",\"\",VLOOKUP(L80,HM!$A$5:$C$254,2))","v":""},{"$f":"IF(L80=\"\",\"\",VLOOKUP(L80,HM!$A$5:$C$254,3))","v":""}]
[null,null,{"$f":"IF(F81=\"\",\"\",VLOOKUP(F81,HM!$A$5:$C$254,3))","v":""},null,null,null,null,null,{"$f":"IF(L81=\"\",\"\",VLOOKUP(L81,HM!$A$5:$C$254,3))","v":""}]
[null,"12.",{"$f":"IF(F82=\"\",\"\",VLOOKUP(F82,HM!$A$5:$C$254,3))","v":""},null,null,null,null,"12.",{"$f":"IF(L82=\"\",\"\",VLOOKUP(L82,HM!$A$5:$C$254,3))","v":""}]
[null,null,{"$f":"IF(F83=\"\",\"\",VLOOKUP(F83,HM!$A$5:$C$254,3))","v":""},null,null,null,null,null,{"$f":"IF(L83=\"\",\"\",VLOOKUP(L83,HM!$A$5:$C$254,3))","v":""}]
[null,null,"gesamt:",{"$f":"SUM(D80:D83)","v":0},{"$f":"MIN(E80:E83)","v":0},null,null,null,"gesamt:",{"$f":"SUM(J80:J83)","v":0},{"$f":"MIN(K80:K83)","v":0}]
[]
[null,"Verein:","Name:","Ringe:","Teiler:","Nr:",null,"Verein:","Name:","Ringe:","Teiler:","Nr:"]
[null,{"$f":"IF(F87=\"\",\"\",VLOOKUP(F87,HM!$A$5:$C$254,2))","v":""},{"$f":"IF(F87=\"\",\"\",VLOOKUP(F87,HM!$A$5:$C$254,3))","v":""},null,null,null,null,{"$f":"IF(L87=\"\",\"\",VLOOKUP(L87,HM!$A$5:$C$254,2))","v":""},{"$f":"IF(L87=\"\",\"\",VLOOKUP(L87,HM!$A$5:$C$254,3))","v":""}]
[null,null,{"$f":"IF(F88=\"\",\"\",VLOOKUP(F88,HM!$A$5:$C$254,3))","v":""},null,null,null,null,null,{"$f":"IF(L88=\"\",\"\",VLOOKUP(L88,HM!$A$5:$C$254,3))","v":""}]
[null,"13.",{"$f":"IF(F89=\"\",\"\",VLOOKUP(F89,HM!$A$5:$C$254,3))","v":""},null,null,null,null,"13.",{"$f":"IF(L89=\"\",\"\",VLOOKUP(L89,HM!$A$5:$C$254,3))","v":""}]
[null,null,{"$f":"IF(F90=\"\",\"\",VLOOKUP(F90,HM!$A$5:$C$254,3))","v":""},null,null,null,null,null,{"$f":"IF(L90=\"\",\"\",VLOOKUP(L90,HM!$A$5:$C$254,3))","v":""}]
[null,null,"gesamt:",{"$f":"SUM(D87:D90)","v":0},{"$f":"MIN(E87:E90)","v":0},null,null,null,"gesamt:",{"$f":"SUM(J87:J90)","v":0},{"$f":"MIN(K87:K90)","v":0}]
[]
[null,"Verein:","Name:","Ringe:","Teiler:","Nr:",null,"Verein:","Name:","Ringe:","Teiler:","Nr:"]
[null,{"$f":"IF(F94=\"\",\"\",VLOOKUP(F94,HM!$A$5:$C$254,2))","v":""},{"$f":"IF(F94=\"\",\"\",VLOOKUP(F94,HM!$A$5:$C$254,3))","v":""},null,null,null,null,{"$f":"IF(L94=\"\",\"\",VLOOKUP(L94,HM!$A$5:$C$254,2))","v":""},{"$f":"IF(L94=\"\",\"\",VLOOKUP(L94,HM!$A$5:$C$254,3))","v":""}]
[null,null,{"$f":"IF(F95=\"\",\"\",VLOOKUP(F95,HM!$A$5:$C$254,3))","v":""},null,null,null,null,null,{"$f":"IF(L95=\"\",\"\",VLOOKUP(L95,HM!$A$5:$C$254,3))","v":""}]
[null,"14.",{"$f":"IF(F96=\"\",\"\",VLOOKUP(F96,HM!$A$5:$C$254,3))","v":""},null,null,null,null,"14.",{"$f":"IF(L96=\"\",\"\",VLOOKUP(L96,HM!$A$5:$C$254,3))","v":""}]
[null,null,{"$f":"IF(F97=\"\",\"\",VLOOKUP(F97,HM!$A$5:$C$254,3))","v":""},null,null,null,null,null,{"$f":"IF(L97=\"\",\"\",VLOOKUP(L97,HM!$A$5:$C$254,3))","v":""}]
[null,null,"gesamt:",{"$f":"SUM(D94:D97)","v":0},{"$f":"MIN(E94:E97)","v":0},null,null,null,"gesamt:",{"$f":"SUM(J94:J97)","v":0},{"$f":"MIN(K94:K97)","v":0}]
[]
[null,"Verein:","Name:","Ringe:","Teiler:","Nr:",null,"Verein:","Name:","Ringe:","Teiler:","Nr:"]
[null,{"$f":"IF(F101=\"\",\"\",VLOOKUP(F101,HM!$A$5:$C$254,2))","v":""},{"$f":"IF(F101=\"\",\"\",VLOOKUP(F101,HM!$A$5:$C$254,3))","v":""},null,null,null,null,{"$f":"IF(L101=\"\",\"\",VLOOKUP(L101,HM!$A$5:$C$254,2))","v":""},{"$f":"IF(L101=\"\",\"\",VLOOKUP(L101,HM!$A$5:$C$254,3))","v":""}]
[null,null,{"$f":"IF(F102=\"\",\"\",VLOOKUP(F102,HM!$A$5:$C$254,3))","v":""},null,null,null,null,null,{"$f":"IF(L102=\"\",\"\",VLOOKUP(L102,HM!$A$5:$C$254,3))","v":""}]
[null,"15.",{"$f":"IF(F103=\"\",\"\",VLOOKUP(F103,HM!$A$5:$C$254,3))","v":""},null,null,null,null,"15.",{"$f":"IF(L103=\"\",\"\",VLOOKUP(L103,HM!$A$5:$C$254,3))","v":""}]
[null,null,{"$f":"IF(F104=\"\",\"\",VLOOKUP(F104,HM!$A$5:$C$254,3))","v":""},null,null,null,null,null,{"$f":"IF(L104=\"\",\"\",VLOOKUP(L104,HM!$A$5:$C$254,3))","v":""}]
[null,null,"gesamt:",{"$f":"SUM(D101:D104)","v":0},{"$f":"MIN(E101:E104)","v":0},null,null,null,"gesamt:",{"$f":"SUM(J101:J104)","v":0},{"$f":"MIN(K101:K104)","v":0}]
[]
[null,"Verein:","Name:","Ringe:","Teiler:","Nr:",null,"Verein:","Name:","Ringe:","Teiler:","Nr:"]
[null,{"$f":"IF(F108=\"\",\"\",VLOOKUP(F108,HM!$A$5:$C$254,2))","v":""},{"$f":"IF(F108=\"\",\"\",VLOOKUP(F108,HM!$A$5:$C$254,3))","v":""},null,null,null,null,{"$f":"IF(L108=\"\",\"\",VLOOKUP(L108,HM!$A$5:$C$254,2))","v":""},{"$f":"IF(L108=\"\",\"\",VLOOKUP(L108,HM!$A$5:$C$254,3))","v":""}]
[null,null,{"$f":"IF(F109=\"\",\"\",VLOOKUP(F109,HM!$A$5:$C$254,3))","v":""},null,null,null,null,null,{"$f":"IF(L109=\"\",\"\",VLOOKUP(L109,HM!$A$5:$C$254,3))","v":""}]
[null,"16.",{"$f":"IF(F110=\"\",\"\",VLOOKUP(F110,HM!$A$5:$C$254,3))","v":""},null,null,null,null,"16.",{"$f":"IF(L110=\"\",\"\",VLOOKUP(L110,HM!$A$5:$C$254,3))","v":""}]
[null,null,{"$f":"IF(F111=\"\",\"\",VLOOKUP(F111,HM!$A$5:$C$254,3))","v":""},null,null,null,null,null,{"$f":"IF(L111=\"\",\"\",VLOOKUP(L111,HM!$A$5:$C$254,3))","v":""}]
[null,null,"gesamt:",{"$f":"SUM(D108:D111)","v":0},{"$f":"MIN(E108:E111)","v":0},null,null,null,"gesamt:",{"$f":"SUM(J108:J111)","v":0},{"$f":"MIN(K108:K111)","v":0}]
[]
[null,"Verein:","Name:","Ringe:","Teiler:","Nr:",null,"Verein:","Name:","Ringe:","Teiler:","Nr:"]
[null,{"$f":"IF(F115=\"\",\"\",VLOOKUP(F115,HM!$A$5:$C$254,2))","v":""},{"$f":"IF(F115=\"\",\"\",VLOOKUP(F115,HM!$A$5:$C$254,3))","v":""},null,null,null,null,{"$f":"IF(L115=\"\",\"\",VLOOKUP(L115,HM!$A$5:$C$254,2))","v":""},{"$f":"IF(L115=\"\",\"\",VLOOKUP(L115,HM!$A$5:$C$254,3))","v":""}]
[null,null,{"$f":"IF(F116=\"\",\"\",VLOOKUP(F116,HM!$A$5:$C$254,3))","v":""},null,null,null,null,null,{"$f":"IF(L116=\"\",\"\",VLOOKUP(L116,HM!$A$5:$C$254,3))","v":""}]
[null,"17.",{"$f":"IF(F117=\"\",\"\",VLOOKUP(F117,HM!$A$5:$C$254,3))","v":""},null,null,null,null,"17.",{"$f":"IF(L117=\"\",\"\",VLOOKUP(L117,HM!$A$5:$C$254,3))","v":""}]
[null,null,{"$f":"IF(F118=\"\",\"\",VLOOKUP(F118,HM!$A$5:$C$254,3))","v":""},null,null,null,null,null,{"$f":"IF(L118=\"\",\"\",VLOOKUP(L118,HM!$A$5:$C$254,3))","v":""}]
[null,null,"gesamt:",{"$f":"SUM(D115:D118)","v":0},{"$f":"MIN(E115:E118)","v":0},null,null,null,"gesamt:",{"$f":"SUM(J115:J118)","v":0},{"$f":"MIN(K115:K118)","v":0}]
[]
[null,"Verein:","Name:","Ringe:","Teiler:","Nr:",null,"Verein:","Name:","Ringe:","Teiler:","Nr:"]
[null,{"$f":"IF(F122=\"\",\"\",VLOOKUP(F122,HM!$A$5:$C$254,2))","v":""},{"$f":"IF(F122=\"\",\"\",VLOOKUP(F122,HM!$A$5:$C$254,3))","v":""},null,null,null,null,{"$f":"IF(L122=\"\",\"\",VLOOKUP(L122,HM!$A$5:$C$254,2))","v":""},{"$f":"IF(L122=\"\",\"\",VLOOKUP(L122,HM!$A$5:$C$254,3))","v":""}]
[null,null,{"$f":"IF(F123=\"\",\"\",VLOOKUP(F123,HM!$A$5:$C$254,3))","v":""},null,null,null,null,null,{"$f":"IF(L123=\"\",\"\",VLOOKUP(L123,HM!$A$5:$C$254,3))","v":""}]
[null,"18.",{"$f":"IF(F124=\"\",\"\",VLOOKUP(F124,HM!$A$5:$C$254,3))","v":""},null,null,null,null,"18.",{"$f":"IF(L124=\"\",\"\",VLOOKUP(L124,HM!$A$5:$C$254,3))","v":""}]
[null,null,{"$f":"IF(F125=\"\",\"\",VLOOKUP(F125,HM!$A$5:$C$254,3))","v":""},null,null,null,null,null,{"$f":"IF(L125=\"\",\"\",VLOOKUP(L125,HM!$A$5:$C$254,3))","v":""}]
[null,null,"gesamt:",{"$f":"SUM(D122:D125)","v":0},{"$f":"MIN(E122:E125)","v":0},null,null,null,"gesamt:",{"$f":"SUM(J122:J125)","v":0},{"$f":"MIN(K122:K125)","v":0}]
[]
[null,"Verein:","Name:","Ringe:","Teiler:","Nr:",null,"Verein:","Name:","Ringe:","Teiler:","Nr:"]
[null,{"$f":"IF(F129=\"\",\"\",VLOOKUP(F129,HM!$A$5:$C$254,2))","v":""},{"$f":"IF(F129=\"\",\"\",VLOOKUP(F129,HM!$A$5:$C$254,3))","v":""},null,null,null,null,{"$f":"IF(L129=\"\",\"\",VLOOKUP(L129,HM!$A$5:$C$254,2))","v":""},{"$f":"IF(L129=\"\",\"\",VLOOKUP(L129,HM!$A$5:$C$254,3))","v":""}]
[null,null,{"$f":"IF(F130=\"\",\"\",VLOOKUP(F130,HM!$A$5:$C$254,3))","v":""},null,null,null,null,null,{"$f":"IF(L130=\"\",\"\",VLOOKUP(L130,HM!$A$5:$C$254,3))","v":""}]
[null,"19.",{"$f":"IF(F131=\"\",\"\",VLOOKUP(F131,HM!$A$5:$C$254,3))","v":""},null,null,null,null,"19.",{"$f":"IF(L131=\"\",\"\",VLOOKUP(L131,HM!$A$5:$C$254,3))","v":""}]
[null,null,{"$f":"IF(F132=\"\",\"\",VLOOKUP(F132,HM!$A$5:$C$254,3))","v":""},null,null,null,null,null,{"$f":"IF(L132=\"\",\"\",VLOOKUP(L132,HM!$A$5:$C$254,3))","v":""}]
[null,null,"gesamt:",{"$f":"SUM(D129:D132)","v":0},{"$f":"MIN(E129:E132)","v":0},null,null,null,"gesamt:",{"$f":"SUM(J129:J132)","v":0},{"$f":"MIN(K129:K132)","v":0}]
[]
[null,"Verein:","Name:","Ringe:","Teiler:","Nr:",null,"Verein:","Name:","Ringe:","Teiler:","Nr:"]
[null,{"$f":"IF(F136=\"\",\"\",VLOOKUP(F136,HM!$A$5:$C$254,2))","v":""},{"$f":"IF(F136=\"\",\"\",VLOOKUP(F136,HM!$A$5:$C$254,3))","v":""},null,null,null,null,{"$f":"IF(L136=\"\",\"\",VLOOKUP(L136,HM!$A$5:$C$254,2))","v":""},{"$f":"IF(L136=\"\",\"\",VLOOKUP(L136,HM!$A$5:$C$254,3))","v":""}]
[null,null,{"$f":"IF(F137=\"\",\"\",VLOOKUP(F137,HM!$A$5:$C$254,3))","v":""},null,null,null,null,null,{"$f":"IF(L137=\"\",\"\",VLOOKUP(L137,HM!$A$5:$C$254,3))","v":""}]
[null,"20.",{"$f":"IF(F138=\"\",\"\",VLOOKUP(F138,HM!$A$5:$C$254,3))","v":""},null,null,null,null,"20.",{"$f":"IF(L138=\"\",\"\",VLOOKUP(L138,HM!$A$5:$C$254,3))","v":""}]
[null,null,{"$f":"IF(F139=\"\",\"\",VLOOKUP(F139,HM!$A$5:$C$254,3))","v":""},null,null,null,null,null,{"$f":"IF(L139=\"\",\"\",VLOOKUP(L139,HM!$A$5:$C$254,3))","v":""}]
[null,null,"gesamt:",{"$f":"SUM(D136:D139)","v":0},{"$f":"MIN(E136:E139)","v":0},null,null,null,"gesamt:",{"$f":"SUM(J136:J139)","v":0},{"$f":"MIN(K136:K139)","v":0}]
[]
[null,"Verein:","Name:","Ringe:","Teiler:","Nr:",null,"Verein:","Name:","Ringe:","Teiler:","Nr:"]
[null,{"$f":"IF(F143=\"\",\"\",VLOOKUP(F143,HM!$A$5:$C$254,2))","v":""},{"$f":"IF(F143=\"\",\"\",VLOOKUP(F143,HM!$A$5:$C$254,3))","v":""},null,null,null,null,{"$f":"IF(L143=\"\",\"\",VLOOKUP(L143,HM!$A$5:$C$254,2))","v":""},{"$f":"IF(L143=\"\",\"\",VLOOKUP(L143,HM!$A$5:$C$254,3))","v":""}]
[null,null,{"$f":"IF(F144=\"\",\"\",VLOOKUP(F144,HM!$A$5:$C$254,3))","v":""},null,null,null,null,null,{"$f":"IF(L144=\"\",\"\",VLOOKUP(L144,HM!$A$5:$C$254,3))","v":""}]
[null,"21.",{"$f":"IF(F145=\"\",\"\",VLOOKUP(F145,HM!$A$5:$C$254,3))","v":""},null,null,null,null,"21.",{"$f":"IF(L145=\"\",\"\",VLOOKUP(L145,HM!$A$5:$C$254,3))","v":""}]
[null,null,{"$f":"IF(F146=\"\",\"\",VLOOKUP(F146,HM!$A$5:$C$254,3))","v":""},null,null,null,null,null,{"$f":"IF(L146=\"\",\"\",VLOOKUP(L146,HM!$A$5:$C$254,3))","v":""}]
[null,null,"gesamt:",{"$f":"SUM(D143:D146)","v":0},{"$f":"MIN(E143:E146)","v":0},null,null,null,"gesamt:",{"$f":"SUM(J143:J146)","v":0},{"$f":"MIN(K143:K146)","v":0}]
[]
[null,"Verein:","Name:","Ringe:","Teiler:","Nr:",null,"Verein:","Name:","Ringe:","Teiler:","Nr:"]
[null,{"$f":"IF(F150=\"\",\"\",VLOOKUP(F150,HM!$A$5:$C$254,2))","v":""},{"$f":"IF(F150=\"\",\"\",VLOOKUP(F150,HM!$A$5:$C$254,3))","v":""},null,null,null,null,{"$f":"IF(L150=\"\",\"\",VLOOKUP(L150,HM!$A$5:$C$254,2))","v":""},{"$f":"IF(L150=\"\",\"\",VLOOKUP(L150,HM!$A$5:$C$254,3))","v":""}]
[null,null,{"$f":"IF(F151=\"\",\"\",VLOOKUP(F151,HM!$A$5:$C$254,3))","v":""},null,null,null,null,null,{"$f":"IF(L151=\"\",\"\",VLOOKUP(L151,HM!$A$5:$C$254,3))","v":""}]
[null,"22.",{"$f":"IF(F152=\"\",\"\",VLOOKUP(F152,HM!$A$5:$C$254,3))","v":""},null,null,null,null,"22.",{"$f":"IF(L152=\"\",\"\",VLOOKUP(L152,HM!$A$5:$C$254,3))","v":""}]
[null,null,{"$f":"IF(F153=\"\",\"\",VLOOKUP(F153,HM!$A$5:$C$254,3))","v":""},null,null,null,null,null,{"$f":"IF(L153=\"\",\"\",VLOOKUP(L153,HM!$A$5:$C$254,3))","v":""}]
[null,null,"gesamt:",{"$f":"SUM(D150:D153)","v":0},{"$f":"MIN(E150:E153)","v":0},null,null,null,"gesamt:",{"$f":"SUM(J150:J153)","v":0},{"$f":"MIN(K150:K153)","v":0}]
[]
[null,"Verein:","Name:","Ringe:","Teiler:","Nr:",null,"Verein:","Name:","Ringe:","Teiler:","Nr:"]
[null,{"$f":"IF(F157=\"\",\"\",VLOOKUP(F157,HM!$A$5:$C$254,2))","v":""},{"$f":"IF(F157=\"\",\"\",VLOOKUP(F157,HM!$A$5:$C$254,3))","v":""},null,null,null,null,{"$f":"IF(L157=\"\",\"\",VLOOKUP(L157,HM!$A$5:$C$254,2))","v":""},{"$f":"IF(L157=\"\",\"\",VLOOKUP(L157,HM!$A$5:$C$254,3))","v":""}]
[null,null,{"$f":"IF(F158=\"\",\"\",VLOOKUP(F158,HM!$A$5:$C$254,3))","v":""},null,null,null,null,null,{"$f":"IF(L158=\"\",\"\",VLOOKUP(L158,HM!$A$5:$C$254,3))","v":""}]
[null,"23.",{"$f":"IF(F159=\"\",\"\",VLOOKUP(F159,HM!$A$5:$C$254,3))","v":""},null,null,null,null,"23.",{"$f":"IF(L159=\"\",\"\",VLOOKUP(L159,HM!$A$5:$C$254,3))","v":""}]
[null,null,{"$f":"IF(F160=\"\",\"\",VLOOKUP(F160,HM!$A$5:$C$254,3))","v":""},null,null,null,null,null,{"$f":"IF(L160=\"\",\"\",VLOOKUP(L160,HM!$A$5:$C$254,3))","v":""}]
[null,null,"gesamt:",{"$f":"SUM(D157:D160)","v":0},{"$f":"MIN(E157:E160)","v":0},null,null,null,"gesamt:",{"$f":"SUM(J157:J160)","v":0},{"$f":"MIN(K157:K160)","v":0}]
[]
[null,"Verein:","Name:","Ringe:","Teiler:","Nr:",null,"Verein:","Name:","Ringe:","Teiler:","Nr:"]
[null,{"$f":"IF(F164=\"\",\"\",VLOOKUP(F164,HM!$A$5:$C$254,2))","v":""},{"$f":"IF(F164=\"\",\"\",VLOOKUP(F164,HM!$A$5:$C$254,3))","v":""},null,null,null,null,{"$f":"IF(L164=\"\",\"\",VLOOKUP(L164,HM!$A$5:$C$254,2))","v":""},{"$f":"IF(L164=\"\",\"\",VLOOKUP(L164,HM!$A$5:$C$254,3))","v":""}]
[null,null,{"$f":"IF(F165=\"\",\"\",VLOOKUP(F165,HM!$A$5:$C$254,3))","v":""},null,null,null,null,null,{"$f":"IF(L165=\"\",\"\",VLOOKUP(L165,HM!$A$5:$C$254,3))","v":""}]
[null,"24.",{"$f":"IF(F166=\"\",\"\",VLOOKUP(F166,HM!$A$5:$C$254,3))","v":""},null,null,null,null,"24.",{"$f":"IF(L166=\"\",\"\",VLOOKUP(L166,HM!$A$5:$C$254,3))","v":""}]
[null,null,{"$f":"IF(F167=\"\",\"\",VLOOKUP(F167,HM!$A$5:$C$254,3))","v":""},null,null,null,null,null,{"$f":"IF(L167=\"\",\"\",VLOOKUP(L167,HM!$A$5:$C$254,3))","v":""}]
[null,null,"gesamt:",{"$f":"SUM(D164:D167)","v":0},{"$f":"MIN(E164:E167)","v":0},null,null,null,"gesamt:",{"$f":"SUM(J164:J167)","v":0},{"$f":"MIN(K164:K167)","v":0}]
[]
[null,"Verein:","Name:","Ringe:","Teiler:","Nr:",null,"Verein:","Name:","Ringe:","Teiler:","Nr:"]
[null,{"$f":"IF(F171=\"\",\"\",VLOOKUP(F171,HM!$A$5:$C$254,2))","v":""},{"$f":"IF(F171=\"\",\"\",VLOOKUP(F171,HM!$A$5:$C$254,3))","v":""},null,null,null,null,{"$f":"IF(L171=\"\",\"\",VLOOKUP(L171,HM!$A$5:$C$254,2))","v":""},{"$f":"IF(L171=\"\",\"\",VLOOKUP(L171,HM!$A$5:$C$254,3))","v":""}]
[null,null,{"$f":"IF(F172=\"\",\"\",VLOOKUP(F172,HM!$A$5:$C$254,3))","v":""},null,null,null,null,null,{"$f":"IF(L172=\"\",\"\",VLOOKUP(L172,HM!$A$5:$C$254,3))","v":""}]
[null,"25.",{"$f":"IF(F173=\"\",\"\",VLOOKUP(F173,HM!$A$5:$C$254,3))","v":""},null,null,null,null,"25.",{"$f":"IF(L173=\"\",\"\",VLOOKUP(L173,HM!$A$5:$C$254,3))","v":""}]
[null,null,{"$f":"IF(F174=\"\",\"\",VLOOKUP(F174,HM!$A$5:$C$254,3))","v":""},null,null,null,null,null,{"$f":"IF(L174=\"\",\"\",VLOOKUP(L174,HM!$A$5:$C$254,3))","v":""}]
[null,null,"gesamt:",{"$f":"SUM(D171:D174)","v":0},{"$f":"MIN(E171:E174)","v":0},null,null,null,"gesamt:",{"$f":"SUM(J171:J174)","v":0},{"$f":"MIN(K171:K174)","v":0}]
[]
[null,"Verein:","Name:","Ringe:","Teiler:","Nr:",null,"Verein:","Name:","Ringe:","Teiler:","Nr:"]
[null,{"$f":"IF(F178=\"\",\"\",VLOOKUP(F178,HM!$A$5:$C$254,2))","v":""},{"$f":"IF(F178=\"\",\"\",VLOOKUP(F178,HM!$A$5:$C$254,3))","v":""},null,null,null,null,{"$f":"IF(L178=\"\",\"\",VLOOKUP(L178,HM!$A$5:$C$254,2))","v":""},{"$f":"IF(L178=\"\",\"\",VLOOKUP(L178,HM!$A$5:$C$254,3))","v":""}]
[null,null,{"$f":"IF(F179=\"\",\"\",VLOOKUP(F179,HM!$A$5:$C$254,3))","v":""},null,null,null,null,null,{"$f":"IF(L179=\"\",\"\",VLOOKUP(L179,HM!$A$5:$C$254,3))","v":""}]
[null,"26.",{"$f":"IF(F180=\"\",\"\",VLOOKUP(F180,HM!$A$5:$C$254,3))","v":""},null,null,null,null,"26.",{"$f":"IF(L180=\"\",\"\",VLOOKUP(L180,HM!$A$5:$C$254,3))","v":""}]
[null,null,{"$f":"IF(F181=\"\",\"\",VLOOKUP(F181,HM!$A$5:$C$254,3))","v":""},null,null,null,null,null,{"$f":"IF(L181=\"\",\"\",VLOOKUP(L181,HM!$A$5:$C$254,3))","v":""}]
[null,null,"gesamt:",{"$f":"SUM(D178:D181)","v":0},{"$f":"MIN(E178:E181)","v":0},null,null,null,"gesamt:",{"$f":"SUM(J178:J181)","v":0},{"$f":"MIN(K178:K181)","v":0}]
[]
[null,"Verein:","Name:","Ringe:","Teiler:","Nr:",null,"Verein:","Name:","Ringe:","Teiler:","Nr:"]
[null,{"$f":"IF(F185=\"\",\"\",VLOOKUP(F185,HM!$A$5:$C$254,2))","v":""},{"$f":"IF(F185=\"\",\"\",VLOOKUP(F185,HM!$A$5:$C$254,3))","v":""},null,null,null,null,{"$f":"IF(L185=\"\",\"\",VLOOKUP(L185,HM!$A$5:$C$254,2))","v":""},{"$f":"IF(L185=\"\",\"\",VLOOKUP(L185,HM!$A$5:$C$254,3))","v":""}]
[null,null,{"$f":"IF(F186=\"\",\"\",VLOOKUP(F186,HM!$A$5:$C$254,3))","v":""},null,null,null,null,null,{"$f":"IF(L186=\"\",\"\",VLOOKUP(L186,HM!$A$5:$C$254,3))","v":""}]
[null,"27.",{"$f":"IF(F187=\"\",\"\",VLOOKUP(F187,HM!$A$5:$C$254,3))","v":""},null,null,null,null,"27.",{"$f":"IF(L187=\"\",\"\",VLOOKUP(L187,HM!$A$5:$C$254,3))","v":""}]
[null,null,{"$f":"IF(F188=\"\",\"\",VLOOKUP(F188,HM!$A$5:$C$254,3))","v":""},null,null,null,null,null,{"$f":"IF(L188=\"\",\"\",VLOOKUP(L188,HM!$A$5:$C$254,3))","v":""}]
[null,null,"gesamt:",{"$f":"SUM(D185:D188)","v":0},{"$f":"MIN(E185:E188)","v":0},null,null,null,"gesamt:",{"$f":"SUM(J185:J188)","v":0},{"$f":"MIN(K185:K188)","v":0}]
[]
[null,"Verein:","Name:","Ringe:","Teiler:","Nr:",null,"Verein:","Name:","Ringe:","Teiler:","Nr:"]
[null,{"$f":"IF(F192=\"\",\"\",VLOOKUP(F192,HM!$A$5:$C$254,2))","v":""},{"$f":"IF(F192=\"\",\"\",VLOOKUP(F192,HM!$A$5:$C$254,3))","v":""},null,null,null,null,{"$f":"IF(L192=\"\",\"\",VLOOKUP(L192,HM!$A$5:$C$254,2))","v":""},{"$f":"IF(L192=\"\",\"\",VLOOKUP(L192,HM!$A$5:$C$254,3))","v":""}]
[null,null,{"$f":"IF(F193=\"\",\"\",VLOOKUP(F193,HM!$A$5:$C$254,3))","v":""},null,null,null,null,null,{"$f":"IF(L193=\"\",\"\",VLOOKUP(L193,HM!$A$5:$C$254,3))","v":""}]
[null,"28.",{"$f":"IF(F194=\"\",\"\",VLOOKUP(F194,HM!$A$5:$C$254,3))","v":""},null,null,null,null,"28.",{"$f":"IF(L194=\"\",\"\",VLOOKUP(L194,HM!$A$5:$C$254,3))","v":""}]
[null,null,{"$f":"IF(F195=\"\",\"\",VLOOKUP(F195,HM!$A$5:$C$254,3))","v":""},null,null,null,null,null,{"$f":"IF(L195=\"\",\"\",VLOOKUP(L195,HM!$A$5:$C$254,3))","v":""}]
[null,null,"gesamt:",{"$f":"SUM(D192:D195)","v":0},{"$f":"MIN(E192:E195)","v":0},null,null,null,"gesamt:",{"$f":"SUM(J192:J195)","v":0},{"$f":"MIN(K192:K195)","v":0}]
[]
[null,"Verein:","Name:","Ringe:","Teiler:","Nr:",null,"Verein:","Name:","Ringe:","Teiler:","Nr:"]
[null,{"$f":"IF(F199=\"\",\"\",VLOOKUP(F199,HM!$A$5:$C$254,2))","v":""},{"$f":"IF(F199=\"\",\"\",VLOOKUP(F199,HM!$A$5:$C$254,3))","v":""},null,null,null,null,{"$f":"IF(L199=\"\",\"\",VLOOKUP(L199,HM!$A$5:$C$254,2))","v":""},{"$f":"IF(L199=\"\",\"\",VLOOKUP(L199,HM!$A$5:$C$254,3))","v":""}]
[null,null,{"$f":"IF(F200=\"\",\"\",VLOOKUP(F200,HM!$A$5:$C$254,3))","v":""},null,null,null,null,null,{"$f":"IF(L200=\"\",\"\",VLOOKUP(L200,HM!$A$5:$C$254,3))","v":""}]
[null,"29.",{"$f":"IF(F201=\"\",\"\",VLOOKUP(F201,HM!$A$5:$C$254,3))","v":""},null,null,null,null,"29.",{"$f":"IF(L201=\"\",\"\",VLOOKUP(L201,HM!$A$5:$C$254,3))","v":""}]
[null,null,{"$f":"IF(F202=\"\",\"\",VLOOKUP(F202,HM!$A$5:$C$254,3))","v":""},null,null,null,null,null,{"$f":"IF(L202=\"\",\"\",VLOOKUP(L202,HM!$A$5:$C$254,3))","v":""}]
[null,null,"gesamt:",{"$f":"SUM(D199:D202)","v":0},{"$f":"MIN(E199:E202)","v":0},null,null,null,"gesamt:",{"$f":"SUM(J199:J202)","v":0},{"$f":"MIN(K199:K202)","v":0}]
[]
[null,"Verein:","Name:","Ringe:","Teiler:","Nr:",null,"Verein:","Name:","Ringe:","Teiler:","Nr:"]
[null,{"$f":"IF(F206=\"\",\"\",VLOOKUP(F206,HM!$A$5:$C$254,2))","v":""},{"$f":"IF(F206=\"\",\"\",VLOOKUP(F206,HM!$A$5:$C$254,3))","v":""},null,null,null,null,{"$f":"IF(L206=\"\",\"\",VLOOKUP(L206,HM!$A$5:$C$254,2))","v":""},{"$f":"IF(L206=\"\",\"\",VLOOKUP(L206,HM!$A$5:$C$254,3))","v":""}]
[null,null,{"$f":"IF(F207=\"\",\"\",VLOOKUP(F207,HM!$A$5:$C$254,3))","v":""},null,null,null,null,null,{"$f":"IF(L207=\"\",\"\",VLOOKUP(L207,HM!$A$5:$C$254,3))","v":""}]
[null,"30.",{"$f":"IF(F208=\"\",\"\",VLOOKUP(F208,HM!$A$5:$C$254,3))","v":""},null,null,null,null,"30.",{"$f":"IF(L208=\"\",\"\",VLOOKUP(L208,HM!$A$5:$C$254,3))","v":""}]
[null,null,{"$f":"IF(F209=\"\",\"\",VLOOKUP(F209,HM!$A$5:$C$254,3))","v":""},null,null,null,null,null,{"$f":"IF(L209=\"\",\"\",VLOOKUP(L209,HM!$A$5:$C$254,3))","v":""}]
[null,null,"gesamt:",{"$f":"SUM(D206:D209)","v":0},{"$f":"MIN(E206:E209)","v":0},null,null,null,"gesamt:",{"$f":"SUM(J206:J209)","v":0},{"$f":"MIN(K206:K209)","v":0}]
[]
[null,"Verein:","Name:","Ringe:","Teiler:","Nr:",null,"Verein:","Name:","Ringe:","Teiler:","Nr:"]
[null,{"$f":"IF(F213=\"\",\"\",VLOOKUP(F213,HM!$A$5:$C$254,2))","v":""},{"$f":"IF(F213=\"\",\"\",VLOOKUP(F213,HM!$A$5:$C$254,3))","v":""},null,null,null,null,{"$f":"IF(L213=\"\",\"\",VLOOKUP(L213,HM!$A$5:$C$254,2))","v":""},{"$f":"IF(L213=\"\",\"\",VLOOKUP(L213,HM!$A$5:$C$254,3))","v":""}]
[null,null,{"$f":"IF(F214=\"\",\"\",VLOOKUP(F214,HM!$A$5:$C$254,3))","v":""},null,null,null,null,null,{"$f":"IF(L214=\"\",\"\",VLOOKUP(L214,HM!$A$5:$C$254,3))","v":""}]
[null,"31.",{"$f":"IF(F215=\"\",\"\",VLOOKUP(F215,HM!$A$5:$C$254,3))","v":""},null,null,null,null,"31.",{"$f":"IF(L215=\"\",\"\",VLOOKUP(L215,HM!$A$5:$C$254,3))","v":""}]
[null,null,{"$f":"IF(F216=\"\",\"\",VLOOKUP(F216,HM!$A$5:$C$254,3))","v":""},null,null,null,null,null,{"$f":"IF(L216=\"\",\"\",VLOOKUP(L216,HM!$A$5:$C$254,3))","v":""}]
[null,null,"gesamt:",{"$f":"SUM(D213:D216)","v":0},{"$f":"MIN(E213:E216)","v":0},null,null,null,"gesamt:",{"$f":"SUM(J213:J216)","v":0},{"$f":"MIN(K213:K216)","v":0}]
[]
[null,"Verein:","Name:","Ringe:","Teiler:","Nr:",null,"Verein:","Name:","Ringe:","Teiler:","Nr:"]
[null,{"$f":"IF(F220=\"\",\"\",VLOOKUP(F220,HM!$A$5:$C$254,2))","v":""},{"$f":"IF(F220=\"\",\"\",VLOOKUP(F220,HM!$A$5:$C$254,3))","v":""},null,null,null,null,{"$f":"IF(L220=\"\",\"\",VLOOKUP(L220,HM!$A$5:$C$254,2))","v":""},{"$f":"IF(L220=\"\",\"\",VLOOKUP(L220,HM!$A$5:$C$254,3))","v":""}]
[null,null,{"$f":"IF(F221=\"\",\"\",VLOOKUP(F221,HM!$A$5:$C$254,3))","v":""},null,null,null,null,null,{"$f":"IF(L221=\"\",\"\",VLOOKUP(L221,HM!$A$5:$C$254,3))","v":""}]
[null,"32.",{"$f":"IF(F222=\"\",\"\",VLOOKUP(F222,HM!$A$5:$C$254,3))","v":""},null,null,null,null,"32.",{"$f":"IF(L222=\"\",\"\",VLOOKUP(L222,HM!$A$5:$C$254,3))","v":""}]
[null,null,{"$f":"IF(F223=\"\",\"\",VLOOKUP(F223,HM!$A$5:$C$254,3))","v":""},null,null,null,null,null,{"$f":"IF(L223=\"\",\"\",VLOOKUP(L223,HM!$A$5:$C$254,3))","v":""}]
[null,null,"gesamt:",{"$f":"SUM(D220:D223)","v":0},{"$f":"MIN(E220:E223)","v":0},null,null,null,"gesamt:",{"$f":"SUM(J220:J223)","v":0},{"$f":"MIN(K220:K223)","v":0}]
[]
[null,"Verein:","Name:","Ringe:","Teiler:","Nr:",null,"Verein:","Name:","Ringe:","Teiler:","Nr:"]
[null,{"$f":"IF(F227=\"\",\"\",VLOOKUP(F227,HM!$A$5:$C$254,2))","v":""},{"$f":"IF(F227=\"\",\"\",VLOOKUP(F227,HM!$A$5:$C$254,3))","v":""},null,null,null,null,{"$f":"IF(L227=\"\",\"\",VLOOKUP(L227,HM!$A$5:$C$254,2))","v":""},{"$f":"IF(L227=\"\",\"\",VLOOKUP(L227,HM!$A$5:$C$254,3))","v":""}]
[null,null,{"$f":"IF(F228=\"\",\"\",VLOOKUP(F228,HM!$A$5:$C$254,3))","v":""},null,null,null,null,null,{"$f":"IF(L228=\"\",\"\",VLOOKUP(L228,HM!$A$5:$C$254,3))","v":""}]
[null,"33.",{"$f":"IF(F229=\"\",\"\",VLOOKUP(F229,HM!$A$5:$C$254,3))","v":""},null,null,null,null,"33.",{"$f":"IF(L229=\"\",\"\",VLOOKUP(L229,HM!$A$5:$C$254,3))","v":""}]
[null,null,{"$f":"IF(F230=\"\",\"\",VLOOKUP(F230,HM!$A$5:$C$254,3))","v":""},null,null,null,null,null,{"$f":"IF(L230=\"\",\"\",VLOOKUP(L230,HM!$A$5:$C$254,3))","v":""}]
[null,null,"gesamt:",{"$f":"SUM(D227:D230)","v":0},{"$f":"MIN(E227:E230)","v":0},null,null,null,"gesamt:",{"$f":"SUM(J227:J230)","v":0},{"$f":"MIN(K227:K230)","v":0}]
[]
[null,"Verein:","Name:","Ringe:","Teiler:","Nr:",null,"Verein:","Name:","Ringe:","Teiler:","Nr:"]
[null,{"$f":"IF(F234=\"\",\"\",VLOOKUP(F234,HM!$A$5:$C$254,2))","v":""},{"$f":"IF(F234=\"\",\"\",VLOOKUP(F234,HM!$A$5:$C$254,3))","v":""},null,null,null,null,{"$f":"IF(L234=\"\",\"\",VLOOKUP(L234,HM!$A$5:$C$254,2))","v":""},{"$f":"IF(L234=\"\",\"\",VLOOKUP(L234,HM!$A$5:$C$254,3))","v":""}]
[null,null,{"$f":"IF(F235=\"\",\"\",VLOOKUP(F235,HM!$A$5:$C$254,3))","v":""},null,null,null,null,null,{"$f":"IF(L235=\"\",\"\",VLOOKUP(L235,HM!$A$5:$C$254,3))","v":""}]
[null,"34.",{"$f":"IF(F236=\"\",\"\",VLOOKUP(F236,HM!$A$5:$C$254,3))","v":""},null,null,null,null,"34.",{"$f":"IF(L236=\"\",\"\",VLOOKUP(L236,HM!$A$5:$C$254,3))","v":""}]
[null,null,{"$f":"IF(F237=\"\",\"\",VLOOKUP(F237,HM!$A$5:$C$254,3))","v":""},null,null,null,null,null,{"$f":"IF(L237=\"\",\"\",VLOOKUP(L237,HM!$A$5:$C$254,3))","v":""}]
[null,null,"gesamt:",{"$f":"SUM(D234:D237)","v":0},{"$f":"MIN(E234:E237)","v":0},null,null,null,"gesamt:",{"$f":"SUM(J234:J237)","v":0},{"$f":"MIN(K234:K237)","v":0}]
[]
[null,"Verein:","Name:","Ringe:","Teiler:","Nr:",null,"Verein:","Name:","Ringe:","Teiler:","Nr:"]
[null,{"$f":"IF(F241=\"\",\"\",VLOOKUP(F241,HM!$A$5:$C$254,2))","v":""},{"$f":"IF(F241=\"\",\"\",VLOOKUP(F241,HM!$A$5:$C$254,3))","v":""},null,null,null,null,{"$f":"IF(L241=\"\",\"\",VLOOKUP(L241,HM!$A$5:$C$254,2))","v":""},{"$f":"IF(L241=\"\",\"\",VLOOKUP(L241,HM!$A$5:$C$254,3))","v":""}]
[null,null,{"$f":"IF(F242=\"\",\"\",VLOOKUP(F242,HM!$A$5:$C$254,3))","v":""},null,null,null,null,null,{"$f":"IF(L242=\"\",\"\",VLOOKUP(L242,HM!$A$5:$C$254,3))","v":""}]
[null,"35.",{"$f":"IF(F243=\"\",\"\",VLOOKUP(F243,HM!$A$5:$C$254,3))","v":""},null,null,null,null,"35.",{"$f":"IF(L243=\"\",\"\",VLOOKUP(L243,HM!$A$5:$C$254,3))","v":""}]
[null,null,{"$f":"IF(F244=\"\",\"\",VLOOKUP(F244,HM!$A$5:$C$254,3))","v":""},null,null,null,null,null,{"$f":"IF(L244=\"\",\"\",VLOOKUP(L244,HM!$A$5:$C$254,3))","v":""}]
[null,null,"gesamt:",{"$f":"SUM(D241:D244)","v":0},{"$f":"MIN(E241:E244)","v":0},null,null,null,"gesamt:",{"$f":"SUM(J241:J244)","v":0},{"$f":"MIN(K241:K244)","v":0}]
[]
[null,"Verein:","Name:","Ringe:","Teiler:","Nr:",null,"Verein:","Name:","Ringe:","Teiler:","Nr:"]
[null,{"$f":"IF(F248=\"\",\"\",VLOOKUP(F248,HM!$A$5:$C$254,2))","v":""},{"$f":"IF(F248=\"\",\"\",VLOOKUP(F248,HM!$A$5:$C$254,3))","v":""},null,null,null,null,{"$f":"IF(L248=\"\",\"\",VLOOKUP(L248,HM!$A$5:$C$254,2))","v":""},{"$f":"IF(L248=\"\",\"\",VLOOKUP(L248,HM!$A$5:$C$254,3))","v":""}]
[null,null,{"$f":"IF(F249=\"\",\"\",VLOOKUP(F249,HM!$A$5:$C$254,3))","v":""},null,null,null,null,null,{"$f":"IF(L249=\"\",\"\",VLOOKUP(L249,HM!$A$5:$C$254,3))","v":""}]
[null,"36.",{"$f":"IF(F250=\"\",\"\",VLOOKUP(F250,HM!$A$5:$C$254,3))","v":""},null,null,null,null,"36.",{"$f":"IF(L250=\"\",\"\",VLOOKUP(L250,HM!$A$5:$C$254,3))","v":""}]
[null,null,{"$f":"IF(F251=\"\",\"\",VLOOKUP(F251,HM!$A$5:$C$254,3))","v":""},null,null,null,null,null,{"$f":"IF(L251=\"\",\"\",VLOOKUP(L251,HM!$A$5:$C$254,3))","v":""}]
[null,null,"gesamt:",{"$f":"SUM(D248:D251)","v":0},{"$f":"MIN(E248:E251)","v":0},null,null,null,"gesamt:",{"$f":"SUM(J248:J251)","v":0},{"$f":"MIN(K248:K251)","v":0}]
[]
[null,"Verein:","Name:","Ringe:","Teiler:","Nr:",null,"Verein:","Name:","Ringe:","Teiler:","Nr:"]
[null,{"$f":"IF(F255=\"\",\"\",VLOOKUP(F255,HM!$A$5:$C$254,2))","v":""},{"$f":"IF(F255=\"\",\"\",VLOOKUP(F255,HM!$A$5:$C$254,3))","v":""},null,null,null,null,{"$f":"IF(L255=\"\",\"\",VLOOKUP(L255,HM!$A$5:$C$254,2))","v":""},{"$f":"IF(L255=\"\",\"\",VLOOKUP(L255,HM!$A$5:$C$254,3))","v":""}]
[null,null,{"$f":"IF(F256=\"\",\"\",VLOOKUP(F256,HM!$A$5:$C$254,3))","v":""},null,null,null,null,null,{"$f":"IF(L256=\"\",\"\",VLOOKUP(L256,HM!$A$5:$C$254,3))","v":""}]
[null,"37.",{"$f":"IF(F257=\"\",\"\",VLOOKUP(F257,HM!$A$5:$C$254,3))","v":""},null,null,null,null,"37.",{"$f":"IF(L257=\"\",\"\",VLOOKUP(L257,HM!$A$5:$C$254,3))","v":""}]
[null,null,{"$f":"IF(F258=\"\",\"\",VLOOKUP(F258,HM!$A$5:$C$254,3))","v":""},null,null,null,null,null,{"$f":"IF(L258=\"\",\"\",VLOOKUP(L258,HM!$A$5:$C$254,3))","v":""}]
[null,null,"gesamt:",{"$f":"SUM(D255:D258)","v":0},{"$f":"MIN(E255:E258)","v":0},null,null,null,"gesamt:",{"$f":"SUM(J255:J258)","v":0},{"$f":"MIN(K255:K258)","v":0}]
[]
[null,"Verein:","Name:","Ringe:","Teiler:","Nr:",null,"Verein:","Name:","Ringe:","Teiler:","Nr:"]
[null,{"$f":"IF(F262=\"\",\"\",VLOOKUP(F262,HM!$A$5:$C$254,2))","v":""},{"$f":"IF(F262=\"\",\"\",VLOOKUP(F262,HM!$A$5:$C$254,3))","v":""},null,null,null,null,{"$f":"IF(L262=\"\",\"\",VLOOKUP(L262,HM!$A$5:$C$254,2))","v":""},{"$f":"IF(L262=\"\",\"\",VLOOKUP(L262,HM!$A$5:$C$254,3))","v":""}]
[null,null,{"$f":"IF(F263=\"\",\"\",VLOOKUP(F263,HM!$A$5:$C$254,3))","v":""},null,null,null,null,null,{"$f":"IF(L263=\"\",\"\",VLOOKUP(L263,HM!$A$5:$C$254,3))","v":""}]
[null,"38.",{"$f":"IF(F264=\"\",\"\",VLOOKUP(F264,HM!$A$5:$C$254,3))","v":""},null,null,null,null,"38.",{"$f":"IF(L264=\"\",\"\",VLOOKUP(L264,HM!$A$5:$C$254,3))","v":""}]
[null,null,{"$f":"IF(F265=\"\",\"\",VLOOKUP(F265,HM!$A$5:$C$254,3))","v":""},null,null,null,null,null,{"$f":"IF(L265=\"\",\"\",VLOOKUP(L265,HM!$A$5:$C$254,3))","v":""}]
[null,null,"gesamt:",{"$f":"SUM(D262:D265)","v":0},{"$f":"MIN(E262:E265)","v":0},null,null,null,"gesamt:",{"$f":"SUM(J262:J265)","v":0},{"$f":"MIN(K262:K265)","v":0}]
[]
[null,"Verein:","Name:","Ringe:","Teiler:","Nr:",null,"Verein:","Name:","Ringe:","Teiler:","Nr:"]
[null,{"$f":"IF(F269=\"\",\"\",VLOOKUP(F269,HM!$A$5:$C$254,2))","v":""},{"$f":"IF(F269=\"\",\"\",VLOOKUP(F269,HM!$A$5:$C$254,3))","v":""},null,null,null,null,{"$f":"IF(L269=\"\",\"\",VLOOKUP(L269,HM!$A$5:$C$254,2))","v":""},{"$f":"IF(L269=\"\",\"\",VLOOKUP(L269,HM!$A$5:$C$254,3))","v":""}]
[null,null,{"$f":"IF(F270=\"\",\"\",VLOOKUP(F270,HM!$A$5:$C$254,3))","v":""},null,null,null,null,null,{"$f":"IF(L270=\"\",\"\",VLOOKUP(L270,HM!$A$5:$C$254,3))","v":""}]
[null,"39.",{"$f":"IF(F271=\"\",\"\",VLOOKUP(F271,HM!$A$5:$C$254,3))","v":""},null,null,null,null,"39.",{"$f":"IF(L271=\"\",\"\",VLOOKUP(L271,HM!$A$5:$C$254,3))","v":""}]
[null,null,{"$f":"IF(F272=\"\",\"\",VLOOKUP(F272,HM!$A$5:$C$254,3))","v":""},null,null,null,null,null,{"$f":"IF(L272=\"\",\"\",VLOOKUP(L272,HM!$A$5:$C$254,3))","v":""}]
[null,null,"gesamt:",{"$f":"SUM(D269:D272)","v":0},{"$f":"MIN(E269:E272)","v":0},null,null,null,"gesamt:",{"$f":"SUM(J269:J272)","v":0},{"$f":"MIN(K269:K272)","v":0}]
[]
[null,"Verein:","Name:","Ringe:","Teiler:","Nr:",null,"Verein:","Name:","Ringe:","Teiler:","Nr:"]
[null,{"$f":"IF(F276=\"\",\"\",VLOOKUP(F276,HM!$A$5:$C$254,2))","v":""},{"$f":"IF(F276=\"\",\"\",VLOOKUP(F276,HM!$A$5:$C$254,3))","v":""},null,null,null,null,{"$f":"IF(L276=\"\",\"\",VLOOKUP(L276,HM!$A$5:$C$254,2))","v":""},{"$f":"IF(L276=\"\",\"\",VLOOKUP(L276,HM!$A$5:$C$254,3))","v":""}]
[null,null,{"$f":"IF(F277=\"\",\"\",VLOOKUP(F277,HM!$A$5:$C$254,3))","v":""},null,null,null,null,null,{"$f":"IF(L277=\"\",\"\",VLOOKUP(L277,HM!$A$5:$C$254,3))","v":""}]
[null,"40.",{"$f":"IF(F278=\"\",\"\",VLOOKUP(F278,HM!$A$5:$C$254,3))","v":""},null,null,null,null,"40.",{"$f":"IF(L278=\"\",\"\",VLOOKUP(L278,HM!$A$5:$C$254,3))","v":""}]
[null,null,{"$f":"IF(F279=\"\",\"\",VLOOKUP(F279,HM!$A$5:$C$254,3))","v":""},null,null,null,null,null,{"$f":"IF(L279=\"\",\"\",VLOOKUP(L279,HM!$A$5:$C$254,3))","v":""}]
[null,null,"gesamt:",{"$f":"SUM(D276:D279)","v":0},{"$f":"MIN(E276:E279)","v":0},null,null,null,"gesamt:",{"$f":"SUM(J276:J279)","v":0},{"$f":"MIN(K276:K279)","v":0}]

{"sheet":"PK-Damen","index":2,"n_rows":180,"n_cols":6,"rows_kept":180,"cut":false,"hidden":false,"merged":[[0,1,0,4]]}
[null,"Damenpokal"]
[null,"Verein:","Name:","Ringe:","Teiler:","Nr."]
[null,{"$f":"IF(F3=\"\",\"\",VLOOKUP(F3,HM!$A$5:$C$254,2))","v":""},{"$f":"IF(F3=\"\",\"\",VLOOKUP(F3,HM!$A$5:$C$254,3))","v":""}]
[null,null,{"$f":"IF(F4=\"\",\"\",VLOOKUP(F4,HM!$A$5:$C$254,3))","v":""}]
[null,"1.",{"$f":"IF(F5=\"\",\"\",VLOOKUP(F5,HM!$A$5:$C$254,3))","v":""}]
[null,null,"gesamt:",{"$f":"SUM(D3:D5)","v":0},{"$f":"MIN(E3:E5)","v":0}]
[]
[null,"Verein:","Name:","Ringe:","Teiler:","Nr."]
[null,{"$f":"IF(F9=\"\",\"\",VLOOKUP(F9,HM!$A$5:$C$254,2))","v":""},{"$f":"IF(F9=\"\",\"\",VLOOKUP(F9,HM!$A$5:$C$254,3))","v":""}]
[null,null,{"$f":"IF(F10=\"\",\"\",VLOOKUP(F10,HM!$A$5:$C$254,3))","v":""}]
[null,"2.",{"$f":"IF(F11=\"\",\"\",VLOOKUP(F11,HM!$A$5:$C$254,3))","v":""}]
[null,null,"gesamt:",{"$f":"SUM(D9:D11)","v":0},{"$f":"MIN(E9:E11)","v":0}]
[]
[null,"Verein:","Name:","Ringe:","Teiler:","Nr."]
[null,{"$f":"IF(F15=\"\",\"\",VLOOKUP(F15,HM!$A$5:$C$254,2))","v":""},{"$f":"IF(F15=\"\",\"\",VLOOKUP(F15,HM!$A$5:$C$254,3))","v":""}]
[null,null,{"$f":"IF(F16=\"\",\"\",VLOOKUP(F16,HM!$A$5:$C$254,3))","v":""}]
[null,"3.",{"$f":"IF(F17=\"\",\"\",VLOOKUP(F17,HM!$A$5:$C$254,3))","v":""}]
[null,null,"gesamt:",{"$f":"SUM(D15:D17)","v":0},{"$f":"MIN(E15:E17)","v":0}]
[]
[null,"Verein:","Name:","Ringe:","Teiler:","Nr."]
[null,{"$f":"IF(F21=\"\",\"\",VLOOKUP(F21,HM!$A$5:$C$254,2))","v":""},{"$f":"IF(F21=\"\",\"\",VLOOKUP(F21,HM!$A$5:$C$254,3))","v":""}]
[null,null,{"$f":"IF(F22=\"\",\"\",VLOOKUP(F22,HM!$A$5:$C$254,3))","v":""}]
[null,"4.",{"$f":"IF(F23=\"\",\"\",VLOOKUP(F23,HM!$A$5:$C$254,3))","v":""}]
[null,null,"gesamt:",{"$f":"SUM(D21:D23)","v":0},{"$f":"MIN(E21:E23)","v":0}]
[]
[null,"Verein:","Name:","Ringe:","Teiler:","Nr."]
[null,{"$f":"IF(F27=\"\",\"\",VLOOKUP(F27,HM!$A$5:$C$254,2))","v":""},{"$f":"IF(F27=\"\",\"\",VLOOKUP(F27,HM!$A$5:$C$254,3))","v":""}]
[null,null,{"$f":"IF(F28=\"\",\"\",VLOOKUP(F28,HM!$A$5:$C$254,3))","v":""}]
[null,"5.",{"$f":"IF(F29=\"\",\"\",VLOOKUP(F29,HM!$A$5:$C$254,3))","v":""}]
[null,null,"gesamt:",{"$f":"SUM(D27:D29)","v":0},{"$f":"MIN(E27:E29)","v":0}]
[]
[null,"Verein:","Name:","Ringe:","Teiler:","Nr."]
[null,{"$f":"IF(F33=\"\",\"\",VLOOKUP(F33,HM!$A$5:$C$254,2))","v":""},{"$f":"IF(F33=\"\",\"\",VLOOKUP(F33,HM!$A$5:$C$254,3))","v":""}]
[null,null,{"$f":"IF(F34=\"\",\"\",VLOOKUP(F34,HM!$A$5:$C$254,3))","v":""}]
[null,"6.",{"$f":"IF(F35=\"\",\"\",VLOOKUP(F35,HM!$A$5:$C$254,3))","v":""}]
[null,null,"gesamt:",{"$f":"SUM(D33:D35)","v":0},{"$f":"MIN(E33:E35)","v":0}]
[]
[null,"Verein:","Name:","Ringe:","Teiler:","Nr."]
[null,{"$f":"IF(F39=\"\",\"\",VLOOKUP(F39,HM!$A$5:$C$254,2))","v":""},{"$f":"IF(F39=\"\",\"\",VLOOKUP(F39,HM!$A$5:$C$254,3))","v":""}]
[null,null,{"$f":"IF(F40=\"\",\"\",VLOOKUP(F40,HM!$A$5:$C$254,3))","v":""}]
[null,"7.",{"$f":"IF(F41=\"\",\"\",VLOOKUP(F41,HM!$A$5:$C$254,3))","v":""}]
[null,null,"gesamt:",{"$f":"SUM(D39:D41)","v":0},{"$f":"MIN(E39:E41)","v":0}]
[]
[null,"Verein:","Name:","Ringe:","Teiler:","Nr."]
[null,{"$f":"IF(F45=\"\",\"\",VLOOKUP(F45,HM!$A$5:$C$254,2))","v":""},{"$f":"IF(F45=\"\",\"\",VLOOKUP(F45,HM!$A$5:$C$254,3))","v":""}]
[null,null,{"$f":"IF(F46=\"\",\"\",VLOOKUP(F46,HM!$A$5:$C$254,3))","v":""}]
[null,"8.",{"$f":"IF(F47=\"\",\"\",VLOOKUP(F47,HM!$A$5:$C$254,3))","v":""}]
[null,null,"gesamt:",{"$f":"SUM(D45:D47)","v":0},{"$f":"MIN(E45:E47)","v":0}]
[]
[null,"Verein:","Name:","Ringe:","Teiler:","Nr."]
[null,{"$f":"IF(F51=\"\",\"\",VLOOKUP(F51,HM!$A$5:$C$254,2))","v":""},{"$f":"IF(F51=\"\",\"\",VLOOKUP(F51,HM!$A$5:$C$254,3))","v":""}]
[null,null,{"$f":"IF(F52=\"\",\"\",VLOOKUP(F52,HM!$A$5:$C$254,3))","v":""}]
[null,"9.",{"$f":"IF(F53=\"\",\"\",VLOOKUP(F53,HM!$A$5:$C$254,3))","v":""}]
[null,null,"gesamt:",{"$f":"SUM(D51:D53)","v":0},{"$f":"MIN(E51:E53)","v":0}]
[]
[null,"Verein:","Name:","Ringe:","Teiler:","Nr."]
[null,{"$f":"IF(F57=\"\",\"\",VLOOKUP(F57,HM!$A$5:$C$254,2))","v":""},{"$f":"IF(F57=\"\",\"\",VLOOKUP(F57,HM!$A$5:$C$254,3))","v":""}]
[null,null,{"$f":"IF(F58=\"\",\"\",VLOOKUP(F58,HM!$A$5:$C$254,3))","v":""}]
[null,"10.",{"$f":"IF(F59=\"\",\"\",VLOOKUP(F59,HM!$A$5:$C$254,3))","v":""}]
[null,null,"gesamt:",{"$f":"SUM(D57:D59)","v":0},{"$f":"MIN(E57:E59)","v":0}]
[]
[null,"Verein:","Name:","Ringe:","Teiler:","Nr."]
[null,{"$f":"IF(F63=\"\",\"\",VLOOKUP(F63,HM!$A$5:$C$254,2))","v":""},{"$f":"IF(F63=\"\",\"\",VLOOKUP(F63,HM!$A$5:$C$254,3))","v":""}]
[null,null,{"$f":"IF(F64=\"\",\"\",VLOOKUP(F64,HM!$A$5:$C$254,3))","v":""}]
[null,"11.",{"$f":"IF(F65=\"\",\"\",VLOOKUP(F65,HM!$A$5:$C$254,3))","v":""}]
[null,null,"gesamt:",{"$f":"SUM(D63:D65)","v":0},{"$f":"MIN(E63:E65)","v":0}]
[]
[null,"Verein:","Name:","Ringe:","Teiler:","Nr."]
[null,{"$f":"IF(F69=\"\",\"\",VLOOKUP(F69,HM!$A$5:$C$254,2))","v":""},{"$f":"IF(F69=\"\",\"\",VLOOKUP(F69,HM!$A$5:$C$254,3))","v":""}]
[null,null,{"$f":"IF(F70=\"\",\"\",VLOOKUP(F70,HM!$A$5:$C$254,3))","v":""}]
[null,"12.",{"$f":"IF(F71=\"\",\"\",VLOOKUP(F71,HM!$A$5:$C$254,3))","v":""}]
[null,null,"gesamt:",{"$f":"SUM(D69:D71)","v":0},{"$f":"MIN(E69:E71)","v":0}]
[]
[null,"Verein:","Name:","Ringe:","Teiler:","Nr."]
[null,{"$f":"IF(F75=\"\",\"\",VLOOKUP(F75,HM!$A$5:$C$254,2))","v":""},{"$f":"IF(F75=\"\",\"\",VLOOKUP(F75,HM!$A$5:$C$254,3))","v":""}]
[null,null,{"$f":"IF(F76=\"\",\"\",VLOOKUP(F76,HM!$A$5:$C$254,3))","v":""}]
[null,"13.",{"$f":"IF(F77=\"\",\"\",VLOOKUP(F77,HM!$A$5:$C$254,3))","v":""}]
[null,null,"gesamt:",{"$f":"SUM(D75:D77)","v":0},{"$f":"MIN(E75:E77)","v":0}]
[]
[null,"Verein:","Name:","Ringe:","Teiler:","Nr."]
[null,{"$f":"IF(F81=\"\",\"\",VLOOKUP(F81,HM!$A$5:$C$254,2))","v":""},{"$f":"IF(F81=\"\",\"\",VLOOKUP(F81,HM!$A$5:$C$254,3))","v":""}]
[null,null,{"$f":"IF(F82=\"\",\"\",VLOOKUP(F82,HM!$A$5:$C$254,3))","v":""}]
[null,"14.",{"$f":"IF(F83=\"\",\"\",VLOOKUP(F83,HM!$A$5:$C$254,3))","v":""}]
[null,null,"gesamt:",{"$f":"SUM(D81:D83)","v":0},{"$f":"MIN(E81:E83)","v":0}]
[]
[null,"Verein:","Name:","Ringe:","Teiler:","Nr."]
[null,{"$f":"IF(F87=\"\",\"\",VLOOKUP(F87,HM!$A$5:$C$254,2))","v":""},{"$f":"IF(F87=\"\",\"\",VLOOKUP(F87,HM!$A$5:$C$254,3))","v":""}]
[null,null,{"$f":"IF(F88=\"\",\"\",VLOOKUP(F88,HM!$A$5:$C$254,3))","v":""}]
[null,"15.",{"$f":"IF(F89=\"\",\"\",VLOOKUP(F89,HM!$A$5:$C$254,3))","v":""}]
[null,null,"gesamt:",{"$f":"SUM(D87:D89)","v":0},{"$f":"MIN(E87:E89)","v":0}]
[]
[null,"Verein:","Name:","Ringe:","Teiler:","Nr."]
[null,{"$f":"IF(F93=\"\",\"\",VLOOKUP(F93,HM!$A$5:$C$254,2))","v":""},{"$f":"IF(F93=\"\",\"\",VLOOKUP(F93,HM!$A$5:$C$254,3))","v":""}]
[null,null,{"$f":"IF(F94=\"\",\"\",VLOOKUP(F94,HM!$A$5:$C$254,3))","v":""}]
[null,"16.",{"$f":"IF(F95=\"\",\"\",VLOOKUP(F95,HM!$A$5:$C$254,3))","v":""}]
[null,null,"gesamt:",{"$f":"SUM(D93:D95)","v":0},{"$f":"MIN(E93:E95)","v":0}]
[]
[null,"Verein:","Name:","Ringe:","Teiler:","Nr."]
[null,{"$f":"IF(F99=\"\",\"\",VLOOKUP(F99,HM!$A$5:$C$254,2))","v":""},{"$f":"IF(F99=\"\",\"\",VLOOKUP(F99,HM!$A$5:$C$254,3))","v":""}]
[null,null,{"$f":"IF(F100=\"\",\"\",VLOOKUP(F100,HM!$A$5:$C$254,3))","v":""}]
[null,"17.",{"$f":"IF(F101=\"\",\"\",VLOOKUP(F101,HM!$A$5:$C$254,3))","v":""}]
[null,null,"gesamt:",{"$f":"SUM(D99:D101)","v":0},{"$f":"MIN(E99:E101)","v":0}]
[]
[null,"Verein:","Name:","Ringe:","Teiler:","Nr."]
[null,{"$f":"IF(F105=\"\",\"\",VLOOKUP(F105,HM!$A$5:$C$254,2))","v":""},{"$f":"IF(F105=\"\",\"\",VLOOKUP(F105,HM!$A$5:$C$254,3))","v":""}]
[null,null,{"$f":"IF(F106=\"\",\"\",VLOOKUP(F106,HM!$A$5:$C$254,3))","v":""}]
[null,"18.",{"$f":"IF(F107=\"\",\"\",VLOOKUP(F107,HM!$A$5:$C$254,3))","v":""}]
[null,null,"gesamt:",{"$f":"SUM(D105:D107)","v":0},{"$f":"MIN(E105:E107)","v":0}]
[]
[null,"Verein:","Name:","Ringe:","Teiler:","Nr."]
[null,{"$f":"IF(F111=\"\",\"\",VLOOKUP(F111,HM!$A$5:$C$254,2))","v":""},{"$f":"IF(F111=\"\",\"\",VLOOKUP(F111,HM!$A$5:$C$254,3))","v":""}]
[null,null,{"$f":"IF(F112=\"\",\"\",VLOOKUP(F112,HM!$A$5:$C$254,3))","v":""}]
[null,"19.",{"$f":"IF(F113=\"\",\"\",VLOOKUP(F113,HM!$A$5:$C$254,3))","v":""}]
[null,null,"gesamt:",{"$f":"SUM(D111:D113)","v":0},{"$f":"MIN(E111:E113)","v":0}]
[]
[null,"Verein:","Name:","Ringe:","Teiler:","Nr."]
[null,{"$f":"IF(F117=\"\",\"\",VLOOKUP(F117,HM!$A$5:$C$254,2))","v":""},{"$f":"IF(F117=\"\",\"\",VLOOKUP(F117,HM!$A$5:$C$254,3))","v":""}]
[null,null,{"$f":"IF(F118=\"\",\"\",VLOOKUP(F118,HM!$A$5:$C$254,3))","v":""}]
[null,"20.",{"$f":"IF(F119=\"\",\"\",VLOOKUP(F119,HM!$A$5:$C$254,3))","v":""}]
[null,null,"gesamt:",{"$f":"SUM(D117:D119)","v":0},{"$f":"MIN(E117:E119)","v":0}]
[]
[null,"Verein:","Name:","Ringe:","Teiler:","Nr."]
[null,{"$f":"IF(F123=\"\",\"\",VLOOKUP(F123,HM!$A$5:$C$254,2))","v":""},{"$f":"IF(F123=\"\",\"\",VLOOKUP(F123,HM!$A$5:$C$254,3))","v":""}]
[null,null,{"$f":"IF(F124=\"\",\"\",VLOOKUP(F124,HM!$A$5:$C$254,3))","v":""}]
[null,"21.",{"$f":"IF(F125=\"\",\"\",VLOOKUP(F125,HM!$A$5:$C$254,3))","v":""}]
[null,null,"gesamt:",{"$f":"SUM(D123:D125)","v":0},{"$f":"MIN(E123:E125)","v":0}]
[]
[null,"Verein:","Name:","Ringe:","Teiler:","Nr."]
[null,{"$f":"IF(F129=\"\",\"\",VLOOKUP(F129,HM!$A$5:$C$254,2))","v":""},{"$f":"IF(F129=\"\",\"\",VLOOKUP(F129,HM!$A$5:$C$254,3))","v":""}]
[null,null,{"$f":"IF(F130=\"\",\"\",VLOOKUP(F130,HM!$A$5:$C$254,3))","v":""}]
[null,"22.",{"$f":"IF(F131=\"\",\"\",VLOOKUP(F131,HM!$A$5:$C$254,3))","v":""}]
[null,null,"gesamt:",{"$f":"SUM(D129:D131)","v":0},{"$f":"MIN(E129:E131)","v":0}]
[]
[null,"Verein:","Name:","Ringe:","Teiler:","Nr."]
[null,{"$f":"IF(F135=\"\",\"\",VLOOKUP(F135,HM!$A$5:$C$254,2))","v":""},{"$f":"IF(F135=\"\",\"\",VLOOKUP(F135,HM!$A$5:$C$254,3))","v":""}]
[null,null,{"$f":"IF(F136=\"\",\"\",VLOOKUP(F136,HM!$A$5:$C$254,3))","v":""}]
[null,"23.",{"$f":"IF(F137=\"\",\"\",VLOOKUP(F137,HM!$A$5:$C$254,3))","v":""}]
[null,null,"gesamt:",{"$f":"SUM(D135:D137)","v":0},{"$f":"MIN(E135:E137)","v":0}]
[]
[null,"Verein:","Name:","Ringe:","Teiler:","Nr."]
[null,{"$f":"IF(F141=\"\",\"\",VLOOKUP(F141,HM!$A$5:$C$254,2))","v":""},{"$f":"IF(F141=\"\",\"\",VLOOKUP(F141,HM!$A$5:$C$254,3))","v":""}]
[null,null,{"$f":"IF(F142=\"\",\"\",VLOOKUP(F142,HM!$A$5:$C$254,3))","v":""}]
[null,"24.",{"$f":"IF(F143=\"\",\"\",VLOOKUP(F143,HM!$A$5:$C$254,3))","v":""}]
[null,null,"gesamt:",{"$f":"SUM(D141:D143)","v":0},{"$f":"MIN(E141:E143)","v":0}]
[]
[null,"Verein:","Name:","Ringe:","Teiler:","Nr."]
[null,{"$f":"IF(F147=\"\",\"\",VLOOKUP(F147,HM!$A$5:$C$254,2))","v":""},{"$f":"IF(F147=\"\",\"\",VLOOKUP(F147,HM!$A$5:$C$254,3))","v":""}]
[null,null,{"$f":"IF(F148=\"\",\"\",VLOOKUP(F148,HM!$A$5:$C$254,3))","v":""}]
[null,"25.",{"$f":"IF(F149=\"\",\"\",VLOOKUP(F149,HM!$A$5:$C$254,3))","v":""}]
[null,null,"gesamt:",{"$f":"SUM(D147:D149)","v":0},{"$f":"MIN(E147:E149)","v":0}]
[]
[null,"Verein:","Name:","Ringe:","Teiler:","Nr."]
[null,{"$f":"IF(F153=\"\",\"\",VLOOKUP(F153,HM!$A$5:$C$254,2))","v":""},{"$f":"IF(F153=\"\",\"\",VLOOKUP(F153,HM!$A$5:$C$254,3))","v":""}]
[null,null,{"$f":"IF(F154=\"\",\"\",VLOOKUP(F154,HM!$A$5:$C$254,3))","v":""}]
[null,"26.",{"$f":"IF(F155=\"\",\"\",VLOOKUP(F155,HM!$A$5:$C$254,3))","v":""}]
[null,null,"gesamt:",{"$f":"SUM(D153:D155)","v":0},{"$f":"MIN(E153:E155)","v":0}]
[]
[null,"Verein:","Name:","Ringe:","Teiler:","Nr."]
[null,{"$f":"IF(F159=\"\",\"\",VLOOKUP(F159,HM!$A$5:$C$254,2))","v":""},{"$f":"IF(F159=\"\",\"\",VLOOKUP(F159,HM!$A$5:$C$254,3))","v":""}]
[null,null,{"$f":"IF(F160=\"\",\"\",VLOOKUP(F160,HM!$A$5:$C$254,3))","v":""}]
[null,"27.",{"$f":"IF(F161=\"\",\"\",VLOOKUP(F161,HM!$A$5:$C$254,3))","v":""}]
[null,null,"gesamt:",{"$f":"SUM(D159:D161)","v":0},{"$f":"MIN(E159:E161)","v":0}]
[]
[null,"Verein:","Name:","Ringe:","Teiler:","Nr."]
[null,{"$f":"IF(F165=\"\",\"\",VLOOKUP(F165,HM!$A$5:$C$254,2))","v":""},{"$f":"IF(F165=\"\",\"\",VLOOKUP(F165,HM!$A$5:$C$254,3))","v":""}]
[null,null,{"$f":"IF(F166=\"\",\"\",VLOOKUP(F166,HM!$A$5:$C$254,3))","v":""}]
[null,"28.",{"$f":"IF(F167=\"\",\"\",VLOOKUP(F167,HM!$A$5:$C$254,3))","v":""}]
[null,null,"gesamt:",{"$f":"SUM(D165:D167)","v":0},{"$f":"MIN(E165:E167)","v":0}]
[]
[null,"Verein:","Name:","Ringe:","Teiler:","Nr."]
[null,{"$f":"IF(F171=\"\",\"\",VLOOKUP(F171,HM!$A$5:$C$254,2))","v":""},{"$f":"IF(F171=\"\",\"\",VLOOKUP(F171,HM!$A$5:$C$254,3))","v":""}]
[null,null,{"$f":"IF(F172=\"\",\"\",VLOOKUP(F172,HM!$A$5:$C$254,3))","v":""}]
[null,"29.",{"$f":"IF(F173=\"\",\"\",VLOOKUP(F173,HM!$A$5:$C$254,3))","v":""}]
[null,null,"gesamt:",{"$f":"SUM(D171:D173)","v":0},{"$f":"MIN(E171:E173)","v":0}]
[]
[null,"Verein:","Name:","Ringe:","Teiler:","Nr."]
[null,{"$f":"IF(F177=\"\",\"\",VLOOKUP(F177,HM!$A$5:$C$254,2))","v":""},{"$f":"IF(F177=\"\",\"\",VLOOKUP(F177,HM!$A$5:$C$254,3))","v":""}]
[null,null,{"$f":"IF(F178=\"\",\"\",VLOOKUP(F178,HM!$A$5:$C$254,3))","v":""}]
[null,"30.",{"$f":"IF(F179=\"\",\"\",VLOOKUP(F179,HM!$A$5:$C$254,3))","v":""}]
[null,null,"gesamt:",{"$f":"SUM(D177:D179)","v":0},{"$f":"MIN(E177:E179)","v":0}]

{"sheet":"PK-Jugend-Schüler","index":3,"n_rows":90,"n_cols":10,"rows_kept":90,"cut":false,"hidden":false,"merged":[[0,1,0,3],[0,6,0,8]]}
[null,"Jugendpokal",null,null,null,null,"Schülerpokal"]
[null,"Verein:","Name:","Ringe:","Nr.",null,"Verein:","Name:","Ringe:","Nr."]
[null,{"$f":"IF(E3=\"\",\"\",VLOOKUP(E3,HM!$A$5:$C$254,2))","v":""},{"$f":"IF(E3=\"\",\"\",VLOOKUP(E3,HM!$A$5:$C$254,3))","v":""},null,null,null,{"$f":"IF(J3=\"\",\"\",VLOOKUP(J3,HM!$A$5:$C$254,2))","v":""},{"$f":"IF(J3=\"\",\"\",VLOOKUP(J3,HM!$A$5:$C$254,3))","v":""}]
[null,null,{"$f":"IF(E4=\"\",\"\",VLOOKUP(E4,HM!$A$5:$C$254,3))","v":""},null,null,null,null,{"$f":"IF(J4=\"\",\"\",VLOOKUP(J4,HM!$A$5:$C$254,3))","v":""}]
[null,"1.",{"$f":"IF(E5=\"\",\"\",VLOOKUP(E5,HM!$A$5:$C$254,3))","v":""},null,null,null,"1.",{"$f":"IF(J5=\"\",\"\",VLOOKUP(J5,HM!$A$5:$C$254,3))","v":""}]
[null,null,"gesamt:",{"$f":"SUM(D3:D5)","v":0},null,null,null,"gesamt:",{"$f":"SUM(I3:I5)","v":0}]
[]
[null,"Verein:","Name:","Ringe:","Nr.",null,"Verein:","Name:","Ringe:","Nr."]
[null,{"$f":"IF(E9=\"\",\"\",VLOOKUP(E9,HM!$A$5:$C$254,2))","v":""},{"$f":"IF(E9=\"\",\"\",VLOOKUP(E9,HM!$A$5:$C$254,3))","v":""},null,null,null,{"$f":"IF(J9=\"\",\"\",VLOOKUP(J9,HM!$A$5:$C$254,2))","v":""},{"$f":"IF(J9=\"\",\"\",VLOOKUP(J9,HM!$A$5:$C$254,3))","v":""}]
[null,null,{"$f":"IF(E10=\"\",\"\",VLOOKUP(E10,HM!$A$5:$C$254,3))","v":""},null,null,null,null,{"$f":"IF(J10=\"\",\"\",VLOOKUP(J10,HM!$A$5:$C$254,3))","v":""}]
[null,"2.",{"$f":"IF(E11=\"\",\"\",VLOOKUP(E11,HM!$A$5:$C$254,3))","v":""},null,null,null,"2.",{"$f":"IF(J11=\"\",\"\",VLOOKUP(J11,HM!$A$5:$C$254,3))","v":""}]
[null,null,"gesamt:",{"$f":"SUM(D9:D11)","v":0},null,null,null,"gesamt:",{"$f":"SUM(I9:I11)","v":0}]
[]
[null,"Verein:","Name:","Ringe:","Nr.",null,"Verein:","Name:","Ringe:","Nr."]
[null,{"$f":"IF(E15=\"\",\"\",VLOOKUP(E15,HM!$A$5:$C$254,2))","v":""},{"$f":"IF(E15=\"\",\"\",VLOOKUP(E15,HM!$A$5:$C$254,3))","v":""},null,null,null,{"$f":"IF(J15=\"\",\"\",VLOOKUP(J15,HM!$A$5:$C$254,2))","v":""},{"$f":"IF(J15=\"\",\"\",VLOOKUP(J15,HM!$A$5:$C$254,3))","v":""}]
[null,null,{"$f":"IF(E16=\"\",\"\",VLOOKUP(E16,HM!$A$5:$C$254,3))","v":""},null,null,null,null,{"$f":"IF(J16=\"\",\"\",VLOOKUP(J16,HM!$A$5:$C$254,3))","v":""}]
[null,"3.",{"$f":"IF(E17=\"\",\"\",VLOOKUP(E17,HM!$A$5:$C$254,3))","v":""},null,null,null,"3.",{"$f":"IF(J17=\"\",\"\",VLOOKUP(J17,HM!$A$5:$C$254,3))","v":""}]
[null,null,"gesamt:",{"$f":"SUM(D15:D17)","v":0},null,null,null,"gesamt:",{"$f":"SUM(I15:I17)","v":0}]
[]
[null,"Verein:","Name:","Ringe:","Nr.",null,"Verein:","Name:","Ringe:","Nr."]
[null,{"$f":"IF(E21=\"\",\"\",VLOOKUP(E21,HM!$A$5:$C$254,2))","v":""},{"$f":"IF(E21=\"\",\"\",VLOOKUP(E21,HM!$A$5:$C$254,3))","v":""},null,null,null,{"$f":"IF(J21=\"\",\"\",VLOOKUP(J21,HM!$A$5:$C$254,2))","v":""},{"$f":"IF(J21=\"\",\"\",VLOOKUP(J21,HM!$A$5:$C$254,3))","v":""}]
[null,null,{"$f":"IF(E22=\"\",\"\",VLOOKUP(E22,HM!$A$5:$C$254,3))","v":""},null,null,null,null,{"$f":"IF(J22=\"\",\"\",VLOOKUP(J22,HM!$A$5:$C$254,3))","v":""}]
[null,"4.",{"$f":"IF(E23=\"\",\"\",VLOOKUP(E23,HM!$A$5:$C$254,3))","v":""},null,null,null,"4.",{"$f":"IF(J23=\"\",\"\",VLOOKUP(J23,HM!$A$5:$C$254,3))","v":""}]
[null,null,"gesamt:",{"$f":"SUM(D21:D23)","v":0},null,null,null,"gesamt:",{"$f":"SUM(I21:I23)","v":0}]
[]
[null,"Verein:","Name:","Ringe:","Nr.",null,"Verein:","Name:","Ringe:","Nr."]
[null,{"$f":"IF(E27=\"\",\"\",VLOOKUP(E27,HM!$A$5:$C$254,2))","v":""},{"$f":"IF(E27=\"\",\"\",VLOOKUP(E27,HM!$A$5:$C$254,3))","v":""},null,null,null,{"$f":"IF(J27=\"\",\"\",VLOOKUP(J27,HM!$A$5:$C$254,2))","v":""},{"$f":"IF(J27=\"\",\"\",VLOOKUP(J27,HM!$A$5:$C$254,3))","v":""}]
[null,null,{"$f":"IF(E28=\"\",\"\",VLOOKUP(E28,HM!$A$5:$C$254,3))","v":""},null,null,null,null,{"$f":"IF(J28=\"\",\"\",VLOOKUP(J28,HM!$A$5:$C$254,3))","v":""}]
[null,"5.",{"$f":"IF(E29=\"\",\"\",VLOOKUP(E29,HM!$A$5:$C$254,3))","v":""},null,null,null,"5.",{"$f":"IF(J29=\"\",\"\",VLOOKUP(J29,HM!$A$5:$C$254,3))","v":""}]
[null,null,"gesamt:",{"$f":"SUM(D27:D29)","v":0},null,null,null,"gesamt:",{"$f":"SUM(I27:I29)","v":0}]
[]
[null,"Verein:","Name:","Ringe:","Nr.",null,"Verein:","Name:","Ringe:","Nr."]
[null,{"$f":"IF(E33=\"\",\"\",VLOOKUP(E33,HM!$A$5:$C$254,2))","v":""},{"$f":"IF(E33=\"\",\"\",VLOOKUP(E33,HM!$A$5:$C$254,3))","v":""},null,null,null,{"$f":"IF(J33=\"\",\"\",VLOOKUP(J33,HM!$A$5:$C$254,2))","v":""},{"$f":"IF(J33=\"\",\"\",VLOOKUP(J33,HM!$A$5:$C$254,3))","v":""}]
[null,null,{"$f":"IF(E34=\"\",\"\",VLOOKUP(E34,HM!$A$5:$C$254,3))","v":""},null,null,null,null,{"$f":"IF(J34=\"\",\"\",VLOOKUP(J34,HM!$A$5:$C$254,3))","v":""}]
[null,"6.",{"$f":"IF(E35=\"\",\"\",VLOOKUP(E35,HM!$A$5:$C$254,3))","v":""},null,null,null,"6.",{"$f":"IF(J35=\"\",\"\",VLOOKUP(J35,HM!$A$5:$C$254,3))","v":""}]
[null,null,"gesamt:",{"$f":"SUM(D33:D35)","v":0},null,null,null,"gesamt:",{"$f":"SUM(I33:I35)","v":0}]
[]
[null,"Verein:","Name:","Ringe:","Nr.",null,"Verein:","Name:","Ringe:","Nr."]
[null,{"$f":"IF(E39=\"\",\"\",VLOOKUP(E39,HM!$A$5:$C$254,2))","v":""},{"$f":"IF(E39=\"\",\"\",VLOOKUP(E39,HM!$A$5:$C$254,3))","v":""},null,null,null,{"$f":"IF(J39=\"\",\"\",VLOOKUP(J39,HM!$A$5:$C$254,2))","v":""},{"$f":"IF(J39=\"\",\"\",VLOOKUP(J39,HM!$A$5:$C$254,3))","v":""}]
[null,null,{"$f":"IF(E40=\"\",\"\",VLOOKUP(E40,HM!$A$5:$C$254,3))","v":""},null,null,null,null,{"$f":"IF(J40=\"\",\"\",VLOOKUP(J40,HM!$A$5:$C$254,3))","v":""}]
[null,"7.",{"$f":"IF(E41=\"\",\"\",VLOOKUP(E41,HM!$A$5:$C$254,3))","v":""},null,null,null,"7.",{"$f":"IF(J41=\"\",\"\",VLOOKUP(J41,HM!$A$5:$C$254,3))","v":""}]
[null,null,"gesamt:",{"$f":"SUM(D39:D41)","v":0},null,null,null,"gesamt:",{"$f":"SUM(I39:I41)","v":0}]
[]
[null,"Verein:","Name:","Ringe:","Nr.",null,"Verein:","Name:","Ringe:","Nr."]
[null,{"$f":"IF(E45=\"\",\"\",VLOOKUP(E45,HM!$A$5:$C$254,2))","v":""},{"$f":"IF(E45=\"\",\"\",VLOOKUP(E45,HM!$A$5:$C$254,3))","v":""},null,null,null,{"$f":"IF(J45=\"\",\"\",VLOOKUP(J45,HM!$A$5:$C$254,2))","v":""},{"$f":"IF(J45=\"\",\"\",VLOOKUP(J45,HM!$A$5:$C$254,3))","v":""}]
[null,null,{"$f":"IF(E46=\"\",\"\",VLOOKUP(E46,HM!$A$5:$C$254,3))","v":""},null,null,null,null,{"$f":"IF(J46=\"\",\"\",VLOOKUP(J46,HM!$A$5:$C$254,3))","v":""}]
[null,"8.",{"$f":"IF(E47=\"\",\"\",VLOOKUP(E47,HM!$A$5:$C$254,3))","v":""},null,null,null,"8.",{"$f":"IF(J47=\"\",\"\",VLOOKUP(J47,HM!$A$5:$C$254,3))","v":""}]
[null,null,"gesamt:",{"$f":"SUM(D45:D47)","v":0},null,null,null,"gesamt:",{"$f":"SUM(I45:I47)","v":0}]
[]
[null,"Verein:","Name:","Ringe:","Nr.",null,"Verein:","Name:","Ringe:","Nr."]
[null,{"$f":"IF(E51=\"\",\"\",VLOOKUP(E51,HM!$A$5:$C$254,2))","v":""},{"$f":"IF(E51=\"\",\"\",VLOOKUP(E51,HM!$A$5:$C$254,3))","v":""},null,null,null,{"$f":"IF(J51=\"\",\"\",VLOOKUP(J51,HM!$A$5:$C$254,2))","v":""},{"$f":"IF(J51=\"\",\"\",VLOOKUP(J51,HM!$A$5:$C$254,3))","v":""}]
[null,null,{"$f":"IF(E52=\"\",\"\",VLOOKUP(E52,HM!$A$5:$C$254,3))","v":""},null,null,null,null,{"$f":"IF(J52=\"\",\"\",VLOOKUP(J52,HM!$A$5:$C$254,3))","v":""}]
[null,"9.",{"$f":"IF(E53=\"\",\"\",VLOOKUP(E53,HM!$A$5:$C$254,3))","v":""},null,null,null,"9.",{"$f":"IF(J53=\"\",\"\",VLOOKUP(J53,HM!$A$5:$C$254,3))","v":""}]
[null,null,"gesamt:",{"$f":"SUM(D51:D53)","v":0},null,null,null,"gesamt:",{"$f":"SUM(I51:I53)","v":0}]
[]
[null,"Verein:","Name:","Ringe:","Nr.",null,"Verein:","Name:","Ringe:","Nr."]
[null,{"$f":"IF(E57=\"\",\"\",VLOOKUP(E57,HM!$A$5:$C$254,2))","v":""},{"$f":"IF(E57=\"\",\"\",VLOOKUP(E57,HM!$A$5:$C$254,3))","v":""},null,null,null,{"$f":"IF(J57=\"\",\"\",VLOOKUP(J57,HM!$A$5:$C$254,2))","v":""},{"$f":"IF(J57=\"\",\"\",VLOOKUP(J57,HM!$A$5:$C$254,3))","v":""}]
[null,null,{"$f":"IF(E58=\"\",\"\",VLOOKUP(E58,HM!$A$5:$C$254,3))","v":""},null,null,null,null,{"$f":"IF(J58=\"\",\"\",VLOOKUP(J58,HM!$A$5:$C$254,3))","v":""}]
[null,"10.",{"$f":"IF(E59=\"\",\"\",VLOOKUP(E59,HM!$A$5:$C$254,3))","v":""},null,null,null,"10.",{"$f":"IF(J59=\"\",\"\",VLOOKUP(J59,HM!$A$5:$C$254,3))","v":""}]
[null,null,"gesamt:",{"$f":"SUM(D57:D59)","v":0},null,null,null,"gesamt:",{"$f":"SUM(I57:I59)","v":0}]
[]
[null,"Verein:","Name:","Ringe:","Nr.",null,"Verein:","Name:","Ringe:","Nr."]
[null,{"$f":"IF(E63=\"\",\"\",VLOOKUP(E63,HM!$A$5:$C$254,2))","v":""},{"$f":"IF(E63=\"\",\"\",VLOOKUP(E63,HM!$A$5:$C$254,3))","v":""},null,null,null,{"$f":"IF(J63=\"\",\"\",VLOOKUP(J63,HM!$A$5:$C$254,2))","v":""},{"$f":"IF(J63=\"\",\"\",VLOOKUP(J63,HM!$A$5:$C$254,3))","v":""}]
[null,null,{"$f":"IF(E64=\"\",\"\",VLOOKUP(E64,HM!$A$5:$C$254,3))","v":""},null,null,null,null,{"$f":"IF(J64=\"\",\"\",VLOOKUP(J64,HM!$A$5:$C$254,3))","v":""}]
[null,"11.",{"$f":"IF(E65=\"\",\"\",VLOOKUP(E65,HM!$A$5:$C$254,3))","v":""},null,null,null,"11.",{"$f":"IF(J65=\"\",\"\",VLOOKUP(J65,HM!$A$5:$C$254,3))","v":""}]
[null,null,"gesamt:",{"$f":"SUM(D63:D65)","v":0},null,null,null,"gesamt:",{"$f":"SUM(I63:I65)","v":0}]
[]
[null,"Verein:","Name:","Ringe:","Nr.",null,"Verein:","Name:","Ringe:","Nr."]
[null,{"$f":"IF(E69=\"\",\"\",VLOOKUP(E69,HM!$A$5:$C$254,2))","v":""},{"$f":"IF(E69=\"\",\"\",VLOOKUP(E69,HM!$A$5:$C$254,3))","v":""},null,null,null,{"$f":"IF(J69=\"\",\"\",VLOOKUP(J69,HM!$A$5:$C$254,2))","v":""},{"$f":"IF(J69=\"\",\"\",VLOOKUP(J69,HM!$A$5:$C$254,3))","v":""}]
[null,null,{"$f":"IF(E70=\"\",\"\",VLOOKUP(E70,HM!$A$5:$C$254,3))","v":""},null,null,null,null,{"$f":"IF(J70=\"\",\"\",VLOOKUP(J70,HM!$A$5:$C$254,3))","v":""}]
[null,"12.",{"$f":"IF(E71=\"\",\"\",VLOOKUP(E71,HM!$A$5:$C$254,3))","v":""},null,null,null,"12.",{"$f":"IF(J71=\"\",\"\",VLOOKUP(J71,HM!$A$5:$C$254,3))","v":""}]
[null,null,"gesamt:",{"$f":"SUM(D69:D71)","v":0},null,null,null,"gesamt:",{"$f":"SUM(I69:I71)","v":0}]
[]
[null,"Verein:","Name:","Ringe:","Nr.",null,"Verein:","Name:","Ringe:","Nr."]
[null,{"$f":"IF(E75=\"\",\"\",VLOOKUP(E75,HM!$A$5:$C$254,2))","v":""},{"$f":"IF(E75=\"\",\"\",VLOOKUP(E75,HM!$A$5:$C$254,3))","v":""},null,null,null,{"$f":"IF(J75=\"\",\"\",VLOOKUP(J75,HM!$A$5:$C$254,2))","v":""},{"$f":"IF(J75=\"\",\"\",VLOOKUP(J75,HM!$A$5:$C$254,3))","v":""}]
[null,null,{"$f":"IF(E76=\"\",\"\",VLOOKUP(E76,HM!$A$5:$C$254,3))","v":""},null,null,null,null,{"$f":"IF(J76=\"\",\"\",VLOOKUP(J76,HM!$A$5:$C$254,3))","v":""}]
[null,"13.",{"$f":"IF(E77=\"\",\"\",VLOOKUP(E77,HM!$A$5:$C$254,3))","v":""},null,null,null,"13.",{"$f":"IF(J77=\"\",\"\",VLOOKUP(J77,HM!$A$5:$C$254,3))","v":""}]
[null,null,"gesamt:",{"$f":"SUM(D75:D77)","v":0},null,null,null,"gesamt:",{"$f":"SUM(I75:I77)","v":0}]
[]
[null,"Verein:","Name:","Ringe:","Nr.",null,"Verein:","Name:","Ringe:","Nr."]
[null,{"$f":"IF(E81=\"\",\"\",VLOOKUP(E81,HM!$A$5:$C$254,2))","v":""},{"$f":"IF(E81=\"\",\"\",VLOOKUP(E81,HM!$A$5:$C$254,3))","v":""},null,null,null,{"$f":"IF(J81=\"\",\"\",VLOOKUP(J81,HM!$A$5:$C$254,2))","v":""},{"$f":"IF(J81=\"\",\"\",VLOOKUP(J81,HM!$A$5:$C$254,3))","v":""}]
[null,null,{"$f":"IF(E82=\"\",\"\",VLOOKUP(E82,HM!$A$5:$C$254,3))","v":""},null,null,null,null,{"$f":"IF(J82=\"\",\"\",VLOOKUP(J82,HM!$A$5:$C$254,3))","v":""}]
[null,"14.",{"$f":"IF(E83=\"\",\"\",VLOOKUP(E83,HM!$A$5:$C$254,3))","v":""},null,null,null,"14.",{"$f":"IF(J83=\"\",\"\",VLOOKUP(J83,HM!$A$5:$C$254,3))","v":""}]
[null,null,"gesamt:",{"$f":"SUM(D81:D83)","v":0},null,null,null,"gesamt:",{"$f":"SUM(I81:I83)","v":0}]
[]
[null,"Verein:","Name:","Ringe:","Nr.",null,"Verein:","Name:","Ringe:","Nr."]
[null,{"$f":"IF(E87=\"\",\"\",VLOOKUP(E87,HM!$A$5:$C$254,2))","v":""},{"$f":"IF(E87=\"\",\"\",VLOOKUP(E87,HM!$A$5:$C$254,3))","v":""},null,null,null,{"$f":"IF(J87=\"\",\"\",VLOOKUP(J87,HM!$A$5:$C$254,2))","v":""},{"$f":"IF(J87=\"\",\"\",VLOOKUP(J87,HM!$A$5:$C$254,3))","v":""}]
[null,null,{"$f":"IF(E88=\"\",\"\",VLOOKUP(E88,HM!$A$5:$C$254,3))","v":""},null,null,null,null,{"$f":"IF(J88=\"\",\"\",VLOOKUP(J88,HM!$A$5:$C$254,3))","v":""}]
[null,"15.",{"$f":"IF(E89=\"\",\"\",VLOOKUP(E89,HM!$A$5:$C$254,3))","v":""},null,null,null,"15.",{"$f":"IF(J89=\"\",\"\",VLOOKUP(J89,HM!$A$5:$C$254,3))","v":""}]
[null,null,"gesamt:",{"$f":"SUM(D87:D89)","v":0},null,null,null,"gesamt:",{"$f":"SUM(I87:I89)","v":0}]

{"sheet":"PS","index":4,"n_rows":254,"n_cols":6,"rows_kept":254,"cut":false,"hidden":false,"merged":[[2,1,2,4]]}
[]
[]
[null,"Preisschießen"]
[null,"Lfd. Nr.:","Verein:","Vor- und Nachname:","Teiler:"]
[1,null,{"$f":"IF(B5=\"\",\"\",VLOOKUP(B5,HM!$A$5:$C$254,2))","v":""},{"$f":"IF(B5=\"\",\"\",VLOOKUP(B5,HM!$A$5:$D$254,3))","v":""},null,1]
[2,null,{"$f":"IF(B6=\"\",\"\",VLOOKUP(B6,HM!$A$5:$C$254,2))","v":""},{"$f":"IF(B6=\"\",\"\",VLOOKUP(B6,HM!$A$5:$D$254,3))","v":""},null,2]
[3,null,{"$f":"IF(B7=\"\",\"\",VLOOKUP(B7,HM!$A$5:$C$254,2))","v":""},{"$f":"IF(B7=\"\",\"\",VLOOKUP(B7,HM!$A$5:$D$254,3))","v":""},null,3]
[4,null,{"$f":"IF(B8=\"\",\"\",VLOOKUP(B8,HM!$A$5:$C$254,2))","v":""},{"$f":"IF(B8=\"\",\"\",VLOOKUP(B8,HM!$A$5:$D$254,3))","v":""},null,4]
[5,null,{"$f":"IF(B9=\"\",\"\",VLOOKUP(B9,HM!$A$5:$C$254,2))","v":""},{"$f":"IF(B9=\"\",\"\",VLOOKUP(B9,HM!$A$5:$D$254,3))","v":""},null,5]
[6,null,{"$f":"IF(B10=\"\",\"\",VLOOKUP(B10,HM!$A$5:$C$254,2))","v":""},{"$f":"IF(B10=\"\",\"\",VLOOKUP(B10,HM!$A$5:$D$254,3))","v":""},null,6]
[7,null,{"$f":"IF(B11=\"\",\"\",VLOOKUP(B11,HM!$A$5:$C$254,2))","v":""},{"$f":"IF(B11=\"\",\"\",VLOOKUP(B11,HM!$A$5:$D$254,3))","v":""},null,7]
[8,null,{"$f":"IF(B12=\"\",\"\",VLOOKUP(B12,HM!$A$5:$C$254,2))","v":""},{"$f":"IF(B12=\"\",\"\",VLOOKUP(B12,HM!$A$5:$D$254,3))","v":""},null,8]
[9,null,{"$f":"IF(B13=\"\",\"\",VLOOKUP(B13,HM!$A$5:$C$254,2))","v":""},{"$f":"IF(B13=\"\",\"\",VLOOKUP(B13,HM!$A$5:$D$254,3))","v":""},null,9]
[10,null,{"$f":"IF(B14=\"\",\"\",VLOOKUP(B14,HM!$A$5:$C$254,2))","v":""},{"$f":"IF(B14=\"\",\"\",VLOOKUP(B14,HM!$A$5:$D$254,3))","v":""},null,10]
[11,null,{"$f":"IF(B15=\"\",\"\",VLOOKUP(B15,HM!$A$5:$C$254,2))","v":""},{"$f":"IF(B15=\"\",\"\",VLOOKUP(B15,HM!$A$5:$D$254,3))","v":""},null,11]
[12,null,{"$f":"IF(B16=\"\",\"\",VLOOKUP(B16,HM!$A$5:$C$254,2))","v":""},{"$f":"IF(B16=\"\",\"\",VLOOKUP(B16,HM!$A$5:$D$254,3))","v":""},null,12]
[13,null,{"$f":"IF(B17=\"\",\"\",VLOOKUP(B17,HM!$A$5:$C$254,2))","v":""},{"$f":"IF(B17=\"\",\"\",VLOOKUP(B17,HM!$A$5:$D$254,3))","v":""},null,13]
[14,null,{"$f":"IF(B18=\"\",\"\",VLOOKUP(B18,HM!$A$5:$C$254,2))","v":""},{"$f":"IF(B18=\"\",\"\",VLOOKUP(B18,HM!$A$5:$D$254,3))","v":""},null,14]
[15,null,{"$f":"IF(B19=\"\",\"\",VLOOKUP(B19,HM!$A$5:$C$254,2))","v":""},{"$f":"IF(B19=\"\",\"\",VLOOKUP(B19,HM!$A$5:$D$254,3))","v":""},null,15]
[16,null,{"$f":"IF(B20=\"\",\"\",VLOOKUP(B20,HM!$A$5:$C$254,2))","v":""},{"$f":"IF(B20=\"\",\"\",VLOOKUP(B20,HM!$A$5:$D$254,3))","v":""},null,16]
[17,null,{"$f":"IF(B21=\"\",\"\",VLOOKUP(B21,HM!$A$5:$C$254,2))","v":""},{"$f":"IF(B21=\"\",\"\",VLOOKUP(B21,HM!$A$5:$D$254,3))","v":""},null,17]
[18,null,{"$f":"IF(B22=\"\",\"\",VLOOKUP(B22,HM!$A$5:$C$254,2))","v":""},{"$f":"IF(B22=\"\",\"\",VLOOKUP(B22,HM!$A$5:$D$254,3))","v":""},null,18]
[19,null,{"$f":"IF(B23=\"\",\"\",VLOOKUP(B23,HM!$A$5:$C$254,2))","v":""},{"$f":"IF(B23=\"\",\"\",VLOOKUP(B23,HM!$A$5:$D$254,3))","v":""},null,19]
[20,null,{"$f":"IF(B24=\"\",\"\",VLOOKUP(B24,HM!$A$5:$C$254,2))","v":""},{"$f":"IF(B24=\"\",\"\",VLOOKUP(B24,HM!$A$5:$D$254,3))","v":""},null,20]
[21,null,{"$f":"IF(B25=\"\",\"\",VLOOKUP(B25,HM!$A$5:$C$254,2))","v":""},{"$f":"IF(B25=\"\",\"\",VLOOKUP(B25,HM!$A$5:$D$254,3))","v":""},null,21]
[22,null,{"$f":"IF(B26=\"\",\"\",VLOOKUP(B26,HM!$A$5:$C$254,2))","v":""},{"$f":"IF(B26=\"\",\"\",VLOOKUP(B26,HM!$A$5:$D$254,3))","v":""},null,22]
[23,null,{"$f":"IF(B27=\"\",\"\",VLOOKUP(B27,HM!$A$5:$C$254,2))","v":""},{"$f":"IF(B27=\"\",\"\",VLOOKUP(B27,HM!$A$5:$D$254,3))","v":""},null,23]
[24,null,{"$f":"IF(B28=\"\",\"\",VLOOKUP(B28,HM!$A$5:$C$254,2))","v":""},{"$f":"IF(B28=\"\",\"\",VLOOKUP(B28,HM!$A$5:$D$254,3))","v":""},null,24]
[25,null,{"$f":"IF(B29=\"\",\"\",VLOOKUP(B29,HM!$A$5:$C$254,2))","v":""},{"$f":"IF(B29=\"\",\"\",VLOOKUP(B29,HM!$A$5:$D$254,3))","v":""},null,25]
[26,null,{"$f":"IF(B30=\"\",\"\",VLOOKUP(B30,HM!$A$5:$C$254,2))","v":""},{"$f":"IF(B30=\"\",\"\",VLOOKUP(B30,HM!$A$5:$D$254,3))","v":""},null,26]
[27,null,{"$f":"IF(B31=\"\",\"\",VLOOKUP(B31,HM!$A$5:$C$254,2))","v":""},{"$f":"IF(B31=\"\",\"\",VLOOKUP(B31,HM!$A$5:$D$254,3))","v":""},null,27]
[28,null,{"$f":"IF(B32=\"\",\"\",VLOOKUP(B32,HM!$A$5:$C$254,2))","v":""},{"$f":"IF(B32=\"\",\"\",VLOOKUP(B32,HM!$A$5:$D$254,3))","v":""},null,28]
[29,null,{"$f":"IF(B33=\"\",\"\",VLOOKUP(B33,HM!$A$5:$C$254,2))","v":""},{"$f":"IF(B33=\"\",\"\",VLOOKUP(B33,HM!$A$5:$D$254,3))","v":""},null,29]
[30,null,{"$f":"IF(B34=\"\",\"\",VLOOKUP(B34,HM!$A$5:$C$254,2))","v":""},{"$f":"IF(B34=\"\",\"\",VLOOKUP(B34,HM!$A$5:$D$254,3))","v":""},null,30]
[31,null,{"$f":"IF(B35=\"\",\"\",VLOOKUP(B35,HM!$A$5:$C$254,2))","v":""},{"$f":"IF(B35=\"\",\"\",VLOOKUP(B35,HM!$A$5:$D$254,3))","v":""},null,31]
[32,null,{"$f":"IF(B36=\"\",\"\",VLOOKUP(B36,HM!$A$5:$C$254,2))","v":""},{"$f":"IF(B36=\"\",\"\",VLOOKUP(B36,HM!$A$5:$D$254,3))","v":""},null,32]
[33,null,{"$f":"IF(B37=\"\",\"\",VLOOKUP(B37,HM!$A$5:$C$254,2))","v":""},{"$f":"IF(B37=\"\",\"\",VLOOKUP(B37,HM!$A$5:$D$254,3))","v":""},null,33]
[34,null,{"$f":"IF(B38=\"\",\"\",VLOOKUP(B38,HM!$A$5:$C$254,2))","v":""},{"$f":"IF(B38=\"\",\"\",VLOOKUP(B38,HM!$A$5:$D$254,3))","v":""},null,34]
[35,null,{"$f":"IF(B39=\"\",\"\",VLOOKUP(B39,HM!$A$5:$C$254,2))","v":""},{"$f":"IF(B39=\"\",\"\",VLOOKUP(B39,HM!$A$5:$D$254,3))","v":""},null,35]
[36,null,{"$f":"IF(B40=\"\",\"\",VLOOKUP(B40,HM!$A$5:$C$254,2))","v":""},{"$f":"IF(B40=\"\",\"\",VLOOKUP(B40,HM!$A$5:$D$254,3))","v":""},null,36]
[37,null,{"$f":"IF(B41=\"\",\"\",VLOOKUP(B41,HM!$A$5:$C$254,2))","v":""},{"$f":"IF(B41=\"\",\"\",VLOOKUP(B41,HM!$A$5:$D$254,3))","v":""},null,37]
[38,null,{"$f":"IF(B42=\"\",\"\",VLOOKUP(B42,HM!$A$5:$C$254,2))","v":""},{"$f":"IF(B42=\"\",\"\",VLOOKUP(B42,HM!$A$5:$D$254,3))","v":""},null,38]
[39,null,{"$f":"IF(B43=\"\",\"\",VLOOKUP(B43,HM!$A$5:$C$254,2))","v":""},{"$f":"IF(B43=\"\",\"\",VLOOKUP(B43,HM!$A$5:$D$254,3))","v":""},null,39]
[40,null,{"$f":"IF(B44=\"\",\"\",VLOOKUP(B44,HM!$A$5:$C$254,2))","v":""},{"$f":"IF(B44=\"\",\"\",VLOOKUP(B44,HM!$A$5:$D$254,3))","v":""},null,40]
[41,null,{"$f":"IF(B45=\"\",\"\",VLOOKUP(B45,HM!$A$5:$C$254,2))","v":""},{"$f":"IF(B45=\"\",\"\",VLOOKUP(B45,HM!$A$5:$D$254,3))","v":""},null,41]
[42,null,{"$f":"IF(B46=\"\",\"\",VLOOKUP(B46,HM!$A$5:$C$254,2))","v":""},{"$f":"IF(B46=\"\",\"\",VLOOKUP(B46,HM!$A$5:$D$254,3))","v":""},null,42]
[43,null,{"$f":"IF(B47=\"\",\"\",VLOOKUP(B47,HM!$A$5:$C$254,2))","v":""},{"$f":"IF(B47=\"\",\"\",VLOOKUP(B47,HM!$A$5:$D$254,3))","v":""},null,43]
[44,null,{"$f":"IF(B48=\"\",\"\",VLOOKUP(B48,HM!$A$5:$C$254,2))","v":""},{"$f":"IF(B48=\"\",\"\",VLOOKUP(B48,HM!$A$5:$D$254,3))","v":""},null,44]
[45,null,{"$f":"IF(B49=\"\",\"\",VLOOKUP(B49,HM!$A$5:$C$254,2))","v":""},{"$f":"IF(B49=\"\",\"\",VLOOKUP(B49,HM!$A$5:$D$254,3))","v":""},null,45]
[46,null,{"$f":"IF(B50=\"\",\"\",VLOOKUP(B50,HM!$A$5:$C$254,2))","v":""},{"$f":"IF(B50=\"\",\"\",VLOOKUP(B50,HM!$A$5:$D$254,3))","v":""},null,46]
[47,null,{"$f":"IF(B51=\"\",\"\",VLOOKUP(B51,HM!$A$5:$C$254,2))","v":""},{"$f":"IF(B51=\"\",\"\",VLOOKUP(B51,HM!$A$5:$D$254,3))","v":""},null,47]
[48,null,{"$f":"IF(B52=\"\",\"\",VLOOKUP(B52,HM!$A$5:$C$254,2))","v":""},{"$f":"IF(B52=\"\",\"\",VLOOKUP(B52,HM!$A$5:$D$254,3))","v":""},null,48]
[49,null,{"$f":"IF(B53=\"\",\"\",VLOOKUP(B53,HM!$A$5:$C$254,2))","v":""},{"$f":"IF(B53=\"\",\"\",VLOOKUP(B53,HM!$A$5:$D$254,3))","v":""},null,49]
[50,null,{"$f":"IF(B54=\"\",\"\",VLOOKUP(B54,HM!$A$5:$C$254,2))","v":""},{"$f":"IF(B54=\"\",\"\",VLOOKUP(B54,HM!$A$5:$D$254,3))","v":""},null,50]
[51,null,{"$f":"IF(B55=\"\",\"\",VLOOKUP(B55,HM!$A$5:$C$254,2))","v":""},{"$f":"IF(B55=\"\",\"\",VLOOKUP(B55,HM!$A$5:$D$254,3))","v":""},null,51]
[52,null,{"$f":"IF(B56=\"\",\"\",VLOOKUP(B56,HM!$A$5:$C$254,2))","v":""},{"$f":"IF(B56=\"\",\"\",VLOOKUP(B56,HM!$A$5:$D$254,3))","v":""},null,52]
[53,null,{"$f":"IF(B57=\"\",\"\",VLOOKUP(B57,HM!$A$5:$C$254,2))","v":""},{"$f":"IF(B57=\"\",\"\",VLOOKUP(B57,HM!$A$5:$D$254,3))","v":""},null,53]
[54,null,{"$f":"IF(B58=\"\",\"\",VLOOKUP(B58,HM!$A$5:$C$254,2))","v":""},{"$f":"IF(B58=\"\",\"\",VLOOKUP(B58,HM!$A$5:$D$254,3))","v":""},null,54]
[55,null,{"$f":"IF(B59=\"\",\"\",VLOOKUP(B59,HM!$A$5:$C$254,2))","v":""},{"$f":"IF(B59=\"\",\"\",VLOOKUP(B59,HM!$A$5:$D$254,3))","v":""},null,55]
[56,null,{"$f":"IF(B60=\"\",\"\",VLOOKUP(B60,HM!$A$5:$C$254,2))","v":""},{"$f":"IF(B60=\"\",\"\",VLOOKUP(B60,HM!$A$5:$D$254,3))","v":""},null,56]
[57,null,{"$f":"IF(B61=\"\",\"\",VLOOKUP(B61,HM!$A$5:$C$254,2))","v":""},{"$f":"IF(B61=\"\",\"\",VLOOKUP(B61,HM!$A$5:$D$254,3))","v":""},null,57]
[58,null,{"$f":"IF(B62=\"\",\"\",VLOOKUP(B62,HM!$A$5:$C$254,2))","v":""},{"$f":"IF(B62=\"\",\"\",VLOOKUP(B62,HM!$A$5:$D$254,3))","v":""},null,58]
[59,null,{"$f":"IF(B63=\"\",\"\",VLOOKUP(B63,HM!$A$5:$C$254,2))","v":""},{"$f":"IF(B63=\"\",\"\",VLOOKUP(B63,HM!$A$5:$D$254,3))","v":""},null,59]
[60,null,{"$f":"IF(B64=\"\",\"\",VLOOKUP(B64,HM!$A$5:$C$254,2))","v":""},{"$f":"IF(B64=\"\",\"\",VLOOKUP(B64,HM!$A$5:$D$254,3))","v":""},null,60]
[61,null,{"$f":"IF(B65=\"\",\"\",VLOOKUP(B65,HM!$A$5:$C$254,2))","v":""},{"$f":"IF(B65=\"\",\"\",VLOOKUP(B65,HM!$A$5:$D$254,3))","v":""},null,61]
[62,null,{"$f":"IF(B66=\"\",\"\",VLOOKUP(B66,HM!$A$5:$C$254,2))","v":""},{"$f":"IF(B66=\"\",\"\",VLOOKUP(B66,HM!$A$5:$D$254,3))","v":""},null,62]
[63,null,{"$f":"IF(B67=\"\",\"\",VLOOKUP(B67,HM!$A$5:$C$254,2))","v":""},{"$f":"IF(B67=\"\",\"\",VLOOKUP(B67,HM!$A$5:$D$254,3))","v":""},null,63]
[64,null,{"$f":"IF(B68=\"\",\"\",VLOOKUP(B68,HM!$A$5:$C$254,2))","v":""},{"$f":"IF(B68=\"\",\"\",VLOOKUP(B68,HM!$A$5:$D$254,3))","v":""},null,64]
[65,null,{"$f":"IF(B69=\"\",\"\",VLOOKUP(B69,HM!$A$5:$C$254,2))","v":""},{"$f":"IF(B69=\"\",\"\",VLOOKUP(B69,HM!$A$5:$D$254,3))","v":""},null,65]
[66,null,{"$f":"IF(B70=\"\",\"\",VLOOKUP(B70,HM!$A$5:$C$254,2))","v":""},{"$f":"IF(B70=\"\",\"\",VLOOKUP(B70,HM!$A$5:$D$254,3))","v":""},null,66]
[67,null,{"$f":"IF(B71=\"\",\"\",VLOOKUP(B71,HM!$A$5:$C$254,2))","v":""},{"$f":"IF(B71=\"\",\"\",VLOOKUP(B71,HM!$A$5:$D$254,3))","v":""},null,67]
[68,null,{"$f":"IF(B72=\"\",\"\",VLOOKUP(B72,HM!$A$5:$C$254,2))","v":""},{"$f":"IF(B72=\"\",\"\",VLOOKUP(B72,HM!$A$5:$D$254,3))","v":""},null,68]
[69,null,{"$f":"IF(B73=\"\",\"\",VLOOKUP(B73,HM!$A$5:$C$254,2))","v":""},{"$f":"IF(B73=\"\",\"\",VLOOKUP(B73,HM!$A$5:$D$254,3))","v":""},null,69]
[70,null,{"$f":"IF(B74=\"\",\"\",VLOOKUP(B74,HM!$A$5:$C$254,2))","v":""},{"$f":"IF(B74=\"\",\"\",VLOOKUP(B74,HM!$A$5:$D$254,3))","v":""},null,70]
[71,null,{"$f":"IF(B75=\"\",\"\",VLOOKUP(B75,HM!$A$5:$C$254,2))","v":""},{"$f":"IF(B75=\"\",\"\",VLOOKUP(B75,HM!$A$5:$D$254,3))","v":""},null,71]
[72,null,{"$f":"IF(B76=\"\",\"\",VLOOKUP(B76,HM!$A$5:$C$254,2))","v":""},{"$f":"IF(B76=\"\",\"\",VLOOKUP(B76,HM!$A$5:$D$254,3))","v":""},null,72]
[73,null,{"$f":"IF(B77=\"\",\"\",VLOOKUP(B77,HM!$A$5:$C$254,2))","v":""},{"$f":"IF(B77=\"\",\"\",VLOOKUP(B77,HM!$A$5:$D$254,3))","v":""},null,73]
[74,null,{"$f":"IF(B78=\"\",\"\",VLOOKUP(B78,HM!$A$5:$C$254,2))","v":""},{"$f":"IF(B78=\"\",\"\",VLOOKUP(B78,HM!$A$5:$D$254,3))","v":""},null,74]
[75,null,{"$f":"IF(B79=\"\",\"\",VLOOKUP(B79,HM!$A$5:$C$254,2))","v":""},{"$f":"IF(B79=\"\",\"\",VLOOKUP(B79,HM!$A$5:$D$254,3))","v":""},null,75]
[76,null,{"$f":"IF(B80=\"\",\"\",VLOOKUP(B80,HM!$A$5:$C$254,2))","v":""},{"$f":"IF(B80=\"\",\"\",VLOOKUP(B80,HM!$A$5:$D$254,3))","v":""},null,76]
[77,null,{"$f":"IF(B81=\"\",\"\",VLOOKUP(B81,HM!$A$5:$C$254,2))","v":""},{"$f":"IF(B81=\"\",\"\",VLOOKUP(B81,HM!$A$5:$D$254,3))","v":""},null,77]
[78,null,{"$f":"IF(B82=\"\",\"\",VLOOKUP(B82,HM!$A$5:$C$254,2))","v":""},{"$f":"IF(B82=\"\",\"\",VLOOKUP(B82,HM!$A$5:$D$254,3))","v":""},null,78]
[79,null,{"$f":"IF(B83=\"\",\"\",VLOOKUP(B83,HM!$A$5:$C$254,2))","v":""},{"$f":"IF(B83=\"\",\"\",VLOOKUP(B83,HM!$A$5:$D$254,3))","v":""},null,79]
[80,null,{"$f":"IF(B84=\"\",\"\",VLOOKUP(B84,HM!$A$5:$C$254,2))","v":""},{"$f":"IF(B84=\"\",\"\",VLOOKUP(B84,HM!$A$5:$D$254,3))","v":""},null,80]
[81,null,{"$f":"IF(B85=\"\",\"\",VLOOKUP(B85,HM!$A$5:$C$254,2))","v":""},{"$f":"IF(B85=\"\",\"\",VLOOKUP(B85,HM!$A$5:$D$254,3))","v":""},null,81]
[82,null,{"$f":"IF(B86=\"\",\"\",VLOOKUP(B86,HM!$A$5:$C$254,2))","v":""},{"$f":"IF(B86=\"\",\"\",VLOOKUP(B86,HM!$A$5:$D$254,3))","v":""},null,82]
[83,null,{"$f":"IF(B87=\"\",\"\",VLOOKUP(B87,HM!$A$5:$C$254,2))","v":""},{"$f":"IF(B87=\"\",\"\",VLOOKUP(B87,HM!$A$5:$D$254,3))","v":""},null,83]
[84,null,{"$f":"IF(B88=\"\",\"\",VLOOKUP(B88,HM!$A$5:$C$254,2))","v":""},{"$f":"IF(B88=\"\",\"\",VLOOKUP(B88,HM!$A$5:$D$254,3))","v":""},null,84]
[85,null,{"$f":"IF(B89=\"\",\"\",VLOOKUP(B89,HM!$A$5:$C$254,2))","v":""},{"$f":"IF(B89=\"\",\"\",VLOOKUP(B89,HM!$A$5:$D$254,3))","v":""},null,85]
[86,null,{"$f":"IF(B90=\"\",\"\",VLOOKUP(B90,HM!$A$5:$C$254,2))","v":""},{"$f":"IF(B90=\"\",\"\",VLOOKUP(B90,HM!$A$5:$D$254,3))","v":""},null,86]
[87,null,{"$f":"IF(B91=\"\",\"\",VLOOKUP(B91,HM!$A$5:$C$254,2))","v":""},{"$f":"IF(B91=\"\",\"\",VLOOKUP(B91,HM!$A$5:$D$254,3))","v":""},null,87]
[88,null,{"$f":"IF(B92=\"\",\"\",VLOOKUP(B92,HM!$A$5:$C$254,2))","v":""},{"$f":"IF(B92=\"\",\"\",VLOOKUP(B92,HM!$A$5:$D$254,3))","v":""},null,88]
[89,null,{"$f":"IF(B93=\"\",\"\",VLOOKUP(B93,HM!$A$5:$C$254,2))","v":""},{"$f":"IF(B93=\"\",\"\",VLOOKUP(B93,HM!$A$5:$D$254,3))","v":""},null,89]
[90,null,{"$f":"IF(B94=\"\",\"\",VLOOKUP(B94,HM!$A$5:$C$254,2))","v":""},{"$f":"IF(B94=\"\",\"\",VLOOKUP(B94,HM!$A$5:$D$254,3))","v":""},null,90]
[91,null,{"$f":"IF(B95=\"\",\"\",VLOOKUP(B95,HM!$A$5:$C$254,2))","v":""},{"$f":"IF(B95=\"\",\"\",VLOOKUP(B95,HM!$A$5:$D$254,3))","v":""},null,91]
[92,null,{"$f":"IF(B96=\"\",\"\",VLOOKUP(B96,HM!$A$5:$C$254,2))","v":""},{"$f":"IF(B96=\"\",\"\",VLOOKUP(B96,HM!$A$5:$D$254,3))","v":""},null,92]
[93,null,{"$f":"IF(B97=\"\",\"\",VLOOKUP(B97,HM!$A$5:$C$254,2))","v":""},{"$f":"IF(B97=\"\",\"\",VLOOKUP(B97,HM!$A$5:$D$254,3))","v":""},null,93]
[94,null,{"$f":"IF(B98=\"\",\"\",VLOOKUP(B98,HM!$A$5:$C$254,2))","v":""},{"$f":"IF(B98=\"\",\"\",VLOOKUP(B98,HM!$A$5:$D$254,3))","v":""},null,94]
[95,null,{"$f":"IF(B99=\"\",\"\",VLOOKUP(B99,HM!$A$5:$C$254,2))","v":""},{"$f":"IF(B99=\"\",\"\",VLOOKUP(B99,HM!$A$5:$D$254,3))","v":""},null,95]
[96,null,{"$f":"IF(B100=\"\",\"\",VLOOKUP(B100,HM!$A$5:$C$254,2))","v":""},{"$f":"IF(B100=\"\",\"\",VLOOKUP(B100,HM!$A$5:$D$254,3))","v":""},null,96]
[97,null,{"$f":"IF(B101=\"\",\"\",VLOOKUP(B101,HM!$A$5:$C$254,2))","v":""},{"$f":"IF(B101=\"\",\"\",VLOOKUP(B101,HM!$A$5:$D$254,3))","v":""},null,97]
[98,null,{"$f":"IF(B102=\"\",\"\",VLOOKUP(B102,HM!$A$5:$C$254,2))","v":""},{"$f":"IF(B102=\"\",\"\",VLOOKUP(B102,HM!$A$5:$D$254,3))","v":""},null,98]
[99,null,{"$f":"IF(B103=\"\",\"\",VLOOKUP(B103,HM!$A$5:$C$254,2))","v":""},{"$f":"IF(B103=\"\",\"\",VLOOKUP(B103,HM!$A$5:$D$254,3))","v":""},null,99]
[100,null,{"$f":"IF(B104=\"\",\"\",VLOOKUP(B104,HM!$A$5:$C$254,2))","v":""},{"$f":"IF(B104=\"\",\"\",VLOOKUP(B104,HM!$A$5:$D$254,3))","v":""},null,100]
[101,null,{"$f":"IF(B105=\"\",\"\",VLOOKUP(B105,HM!$A$5:$C$254,2))","v":""},{"$f":"IF(B105=\"\",\"\",VLOOKUP(B105,HM!$A$5:$D$254,3))","v":""},null,101]
[102,null,{"$f":"IF(B106=\"\",\"\",VLOOKUP(B106,HM!$A$5:$C$254,2))","v":""},{"$f":"IF(B106=\"\",\"\",VLOOKUP(B106,HM!$A$5:$D$254,3))","v":""},null,102]
[103,null,{"$f":"IF(B107=\"\",\"\",VLOOKUP(B107,HM!$A$5:$C$254,2))","v":""},{"$f":"IF(B107=\"\",\"\",VLOOKUP(B107,HM!$A$5:$D$254,3))","v":""},null,103]
[104,null,{"$f":"IF(B108=\"\",\"\",VLOOKUP(B108,HM!$A$5:$C$254,2))","v":""},{"$f":"IF(B108=\"\",\"\",VLOOKUP(B108,HM!$A$5:$D$254,3))","v":""},null,104]
[105,null,{"$f":"IF(B109=\"\",\"\",VLOOKUP(B109,HM!$A$5:$C$254,2))","v":""},{"$f":"IF(B109=\"\",\"\",VLOOKUP(B109,HM!$A$5:$D$254,3))","v":""},null,105]
[106,null,{"$f":"IF(B110=\"\",\"\",VLOOKUP(B110,HM!$A$5:$C$254,2))","v":""},{"$f":"IF(B110=\"\",\"\",VLOOKUP(B110,HM!$A$5:$D$254,3))","v":""},null,106]
[107,null,{"$f":"IF(B111=\"\",\"\",VLOOKUP(B111,HM!$A$5:$C$254,2))","v":""},{"$f":"IF(B111=\"\",\"\",VLOOKUP(B111,HM!$A$5:$D$254,3))","v":""},null,107]
[108,null,{"$f":"IF(B112=\"\",\"\",VLOOKUP(B112,HM!$A$5:$C$254,2))","v":""},{"$f":"IF(B112=\"\",\"\",VLOOKUP(B112,HM!$A$5:$D$254,3))","v":""},null,108]
[109,null,{"$f":"IF(B113=\"\",\"\",VLOOKUP(B113,HM!$A$5:$C$254,2))","v":""},{"$f":"IF(B113=\"\",\"\",VLOOKUP(B113,HM!$A$5:$D$254,3))","v":""},null,109]
[110,null,{"$f":"IF(B114=\"\",\"\",VLOOKUP(B114,HM!$A$5:$C$254,2))","v":""},{"$f":"IF(B114=\"\",\"\",VLOOKUP(B114,HM!$A$5:$D$254,3))","v":""},null,110]
[111,null,{"$f":"IF(B115=\"\",\"\",VLOOKUP(B115,HM!$A$5:$C$254,2))","v":""},{"$f":"IF(B115=\"\",\"\",VLOOKUP(B115,HM!$A$5:$D$254,3))","v":""},null,111]
[112,null,{"$f":"IF(B116=\"\",\"\",VLOOKUP(B116,HM!$A$5:$C$254,2))","v":""},{"$f":"IF(B116=\"\",\"\",VLOOKUP(B116,HM!$A$5:$D$254,3))","v":""},null,112]
[113,null,{"$f":"IF(B117=\"\",\"\",VLOOKUP(B117,HM!$A$5:$C$254,2))","v":""},{"$f":"IF(B117=\"\",\"\",VLOOKUP(B117,HM!$A$5:$D$254,3))","v":""},null,113]
[114,null,{"$f":"IF(B118=\"\",\"\",VLOOKUP(B118,HM!$A$5:$C$254,2))","v":""},{"$f":"IF(B118=\"\",\"\",VLOOKUP(B118,HM!$A$5:$D$254,3))","v":""},null,114]
[115,null,{"$f":"IF(B119=\"\",\"\",VLOOKUP(B119,HM!$A$5:$C$254,2))","v":""},{"$f":"IF(B119=\"\",\"\",VLOOKUP(B119,HM!$A$5:$D$254,3))","v":""},null,115]
[116,null,{"$f":"IF(B120=\"\",\"\",VLOOKUP(B120,HM!$A$5:$C$254,2))","v":""},{"$f":"IF(B120=\"\",\"\",VLOOKUP(B120,HM!$A$5:$D$254,3))","v":""},null,116]
[117,null,{"$f":"IF(B121=\"\",\"\",VLOOKUP(B121,HM!$A$5:$C$254,2))","v":""},{"$f":"IF(B121=\"\",\"\",VLOOKUP(B121,HM!$A$5:$D$254,3))","v":""},null,117]
[118,null,{"$f":"IF(B122=\"\",\"\",VLOOKUP(B122,HM!$A$5:$C$254,2))","v":""},{"$f":"IF(B122=\"\",\"\",VLOOKUP(B122,HM!$A$5:$D$254,3))","v":""},null,118]
[119,null,{"$f":"IF(B123=\"\",\"\",VLOOKUP(B123,HM!$A$5:$C$254,2))","v":""},{"$f":"IF(B123=\"\",\"\",VLOOKUP(B123,HM!$A$5:$D$254,3))","v":""},null,119]
[120,null,{"$f":"IF(B124=\"\",\"\",VLOOKUP(B124,HM!$A$5:$C$254,2))","v":""},{"$f":"IF(B124=\"\",\"\",VLOOKUP(B124,HM!$A$5:$D$254,3))","v":""},null,120]
[121,null,{"$f":"IF(B125=\"\",\"\",VLOOKUP(B125,HM!$A$5:$C$254,2))","v":""},{"$f":"IF(B125=\"\",\"\",VLOOKUP(B125,HM!$A$5:$D$254,3))","v":""},null,121]
[122,null,{"$f":"IF(B126=\"\",\"\",VLOOKUP(B126,HM!$A$5:$C$254,2))","v":""},{"$f":"IF(B126=\"\",\"\",VLOOKUP(B126,HM!$A$5:$D$254,3))","v":""},null,122]
[123,null,{"$f":"IF(B127=\"\",\"\",VLOOKUP(B127,HM!$A$5:$C$254,2))","v":""},{"$f":"IF(B127=\"\",\"\",VLOOKUP(B127,HM!$A$5:$D$254,3))","v":""},null,123]
[124,null,{"$f":"IF(B128=\"\",\"\",VLOOKUP(B128,HM!$A$5:$C$254,2))","v":""},{"$f":"IF(B128=\"\",\"\",VLOOKUP(B128,HM!$A$5:$D$254,3))","v":""},null,124]
[125,null,{"$f":"IF(B129=\"\",\"\",VLOOKUP(B129,HM!$A$5:$C$254,2))","v":""},{"$f":"IF(B129=\"\",\"\",VLOOKUP(B129,HM!$A$5:$D$254,3))","v":""},null,125]
[126,null,{"$f":"IF(B130=\"\",\"\",VLOOKUP(B130,HM!$A$5:$C$254,2))","v":""},{"$f":"IF(B130=\"\",\"\",VLOOKUP(B130,HM!$A$5:$D$254,3))","v":""},null,126]
[127,null,{"$f":"IF(B131=\"\",\"\",VLOOKUP(B131,HM!$A$5:$C$254,2))","v":""},{"$f":"IF(B131=\"\",\"\",VLOOKUP(B131,HM!$A$5:$D$254,3))","v":""},null,127]
[128,null,{"$f":"IF(B132=\"\",\"\",VLOOKUP(B132,HM!$A$5:$C$254,2))","v":""},{"$f":"IF(B132=\"\",\"\",VLOOKUP(B132,HM!$A$5:$D$254,3))","v":""},null,128]
[129,null,{"$f":"IF(B133=\"\",\"\",VLOOKUP(B133,HM!$A$5:$C$254,2))","v":""},{"$f":"IF(B133=\"\",\"\",VLOOKUP(B133,HM!$A$5:$D$254,3))","v":""},null,129]
[130,null,{"$f":"IF(B134=\"\",\"\",VLOOKUP(B134,HM!$A$5:$C$254,2))","v":""},{"$f":"IF(B134=\"\",\"\",VLOOKUP(B134,HM!$A$5:$D$254,3))","v":""},null,130]
[131,null,{"$f":"IF(B135=\"\",\"\",VLOOKUP(B135,HM!$A$5:$C$254,2))","v":""},{"$f":"IF(B135=\"\",\"\",VLOOKUP(B135,HM!$A$5:$D$254,3))","v":""},null,131]
[132,null,{"$f":"IF(B136=\"\",\"\",VLOOKUP(B136,HM!$A$5:$C$254,2))","v":""},{"$f":"IF(B136=\"\",\"\",VLOOKUP(B136,HM!$A$5:$D$254,3))","v":""},null,132]
[133,null,{"$f":"IF(B137=\"\",\"\",VLOOKUP(B137,HM!$A$5:$C$254,2))","v":""},{"$f":"IF(B137=\"\",\"\",VLOOKUP(B137,HM!$A$5:$D$254,3))","v":""},null,133]
[134,null,{"$f":"IF(B138=\"\",\"\",VLOOKUP(B138,HM!$A$5:$C$254,2))","v":""},{"$f":"IF(B138=\"\",\"\",VLOOKUP(B138,HM!$A$5:$D$254,3))","v":""},null,134]
[135,null,{"$f":"IF(B139=\"\",\"\",VLOOKUP(B139,HM!$A$5:$C$254,2))","v":""},{"$f":"IF(B139=\"\",\"\",VLOOKUP(B139,HM!$A$5:$D$254,3))","v":""},null,135]
[136,null,{"$f":"IF(B140=\"\",\"\",VLOOKUP(B140,HM!$A$5:$C$254,2))","v":""},{"$f":"IF(B140=\"\",\"\",VLOOKUP(B140,HM!$A$5:$D$254,3))","v":""},null,136]
[137,null,{"$f":"IF(B141=\"\",\"\",VLOOKUP(B141,HM!$A$5:$C$254,2))","v":""},{"$f":"IF(B141=\"\",\"\",VLOOKUP(B141,HM!$A$5:$D$254,3))","v":""},null,137]
[138,null,{"$f":"IF(B142=\"\",\"\",VLOOKUP(B142,HM!$A$5:$C$254,2))","v":""},{"$f":"IF(B142=\"\",\"\",VLOOKUP(B142,HM!$A$5:$D$254,3))","v":""},null,138]
[139,null,{"$f":"IF(B143=\"\",\"\",VLOOKUP(B143,HM!$A$5:$C$254,2))","v":""},{"$f":"IF(B143=\"\",\"\",VLOOKUP(B143,HM!$A$5:$D$254,3))","v":""},null,139]
[140,null,{"$f":"IF(B144=\"\",\"\",VLOOKUP(B144,HM!$A$5:$C$254,2))","v":""},{"$f":"IF(B144=\"\",\"\",VLOOKUP(B144,HM!$A$5:$D$254,3))","v":""},null,140]
[141,null,{"$f":"IF(B145=\"\",\"\",VLOOKUP(B145,HM!$A$5:$C$254,2))","v":""},{"$f":"IF(B145=\"\",\"\",VLOOKUP(B145,HM!$A$5:$D$254,3))","v":""},null,141]
[142,null,{"$f":"IF(B146=\"\",\"\",VLOOKUP(B146,HM!$A$5:$C$254,2))","v":""},{"$f":"IF(B146=\"\",\"\",VLOOKUP(B146,HM!$A$5:$D$254,3))","v":""},null,142]
[143,null,{"$f":"IF(B147=\"\",\"\",VLOOKUP(B147,HM!$A$5:$C$254,2))","v":""},{"$f":"IF(B147=\"\",\"\",VLOOKUP(B147,HM!$A$5:$D$254,3))","v":""},null,143]
[144,null,{"$f":"IF(B148=\"\",\"\",VLOOKUP(B148,HM!$A$5:$C$254,2))","v":""},{"$f":"IF(B148=\"\",\"\",VLOOKUP(B148,HM!$A$5:$D$254,3))","v":""},null,144]
[145,null,{"$f":"IF(B149=\"\",\"\",VLOOKUP(B149,HM!$A$5:$C$254,2))","v":""},{"$f":"IF(B149=\"\",\"\",VLOOKUP(B149,HM!$A$5:$D$254,3))","v":""},null,145]
[146,null,{"$f":"IF(B150=\"\",\"\",VLOOKUP(B150,HM!$A$5:$C$254,2))","v":""},{"$f":"IF(B150=\"\",\"\",VLOOKUP(B150,HM!$A$5:$D$254,3))","v":""},null,146]
[147,null,{"$f":"IF(B151=\"\",\"\",VLOOKUP(B151,HM!$A$5:$C$254,2))","v":""},{"$f":"IF(B151=\"\",\"\",VLOOKUP(B151,HM!$A$5:$D$254,3))","v":""},null,147]
[148,null,{"$f":"IF(B152=\"\",\"\",VLOOKUP(B152,HM!$A$5:$C$254,2))","v":""},{"$f":"IF(B152=\"\",\"\",VLOOKUP(B152,HM!$A$5:$D$254,3))","v":""},null,148]
[149,null,{"$f":"IF(B153=\"\",\"\",VLOOKUP(B153,HM!$A$5:$C$254,2))","v":""},{"$f":"IF(B153=\"\",\"\",VLOOKUP(B153,HM!$A$5:$D$254,3))","v":""},null,149]
[150,null,{"$f":"IF(B154=\"\",\"\",VLOOKUP(B154,HM!$A$5:$C$254,2))","v":""},{"$f":"IF(B154=\"\",\"\",VLOOKUP(B154,HM!$A$5:$D$254,3))","v":""},null,150]
[151,null,{"$f":"IF(B155=\"\",\"\",VLOOKUP(B155,HM!$A$5:$C$254,2))","v":""},{"$f":"IF(B155=\"\",\"\",VLOOKUP(B155,HM!$A$5:$D$254,3))","v":""},null,151]
[152,null,{"$f":"IF(B156=\"\",\"\",VLOOKUP(B156,HM!$A$5:$C$254,2))","v":""},{"$f":"IF(B156=\"\",\"\",VLOOKUP(B156,HM!$A$5:$D$254,3))","v":""},null,152]
[153,null,{"$f":"IF(B157=\"\",\"\",VLOOKUP(B157,HM!$A$5:$C$254,2))","v":""},{"$f":"IF(B157=\"\",\"\",VLOOKUP(B157,HM!$A$5:$D$254,3))","v":""},null,153]
[154,null,{"$f":"IF(B158=\"\",\"\",VLOOKUP(B158,HM!$A$5:$C$254,2))","v":""},{"$f":"IF(B158=\"\",\"\",VLOOKUP(B158,HM!$A$5:$D$254,3))","v":""},null,154]
[155,null,{"$f":"IF(B159=\"\",\"\",VLOOKUP(B159,HM!$A$5:$C$254,2))","v":""},{"$f":"IF(B159=\"\",\"\",VLOOKUP(B159,HM!$A$5:$D$254,3))","v":""},null,155]
[156,null,{"$f":"IF(B160=\"\",\"\",VLOOKUP(B160,HM!$A$5:$C$254,2))","v":""},{"$f":"IF(B160=\"\",\"\",VLOOKUP(B160,HM!$A$5:$D$254,3))","v":""},null,156]
[157,null,{"$f":"IF(B161=\"\",\"\",VLOOKUP(B161,HM!$A$5:$C$254,2))","v":""},{"$f":"IF(B161=\"\",\"\",VLOOKUP(B161,HM!$A$5:$D$254,3))","v":""},null,157]
[158,null,{"$f":"IF(B162=\"\",\"\",VLOOKUP(B162,HM!$A$5:$C$254,2))","v":""},{"$f":"IF(B162=\"\",\"\",VLOOKUP(B162,HM!$A$5:$D$254,3))","v":""},null,158]
[159,null,{"$f":"IF(B163=\"\",\"\",VLOOKUP(B163,HM!$A$5:$C$254,2))","v":""},{"$f":"IF(B163=\"\",\"\",VLOOKUP(B163,HM!$A$5:$D$254,3))","v":""},null,159]
[160,null,{"$f":"IF(B164=\"\",\"\",VLOOKUP(B164,HM!$A$5:$C$254,2))","v":""},{"$f":"IF(B164=\"\",\"\",VLOOKUP(B164,HM!$A$5:$D$254,3))","v":""},null,160]
[161,null,{"$f":"IF(B165=\"\",\"\",VLOOKUP(B165,HM!$A$5:$C$254,2))","v":""},{"$f":"IF(B165=\"\",\"\",VLOOKUP(B165,HM!$A$5:$D$254,3))","v":""},null,161]
[162,null,{"$f":"IF(B166=\"\",\"\",VLOOKUP(B166,HM!$A$5:$C$254,2))","v":""},{"$f":"IF(B166=\"\",\"\",VLOOKUP(B166,HM!$A$5:$D$254,3))","v":""},null,162]
[163,null,{"$f":"IF(B167=\"\",\"\",VLOOKUP(B167,HM!$A$5:$C$254,2))","v":""},{"$f":"IF(B167=\"\",\"\",VLOOKUP(B167,HM!$A$5:$D$254,3))","v":""},null,163]
[164,null,{"$f":"IF(B168=\"\",\"\",VLOOKUP(B168,HM!$A$5:$C$254,2))","v":""},{"$f":"IF(B168=\"\",\"\",VLOOKUP(B168,HM!$A$5:$D$254,3))","v":""},null,164]
[165,null,{"$f":"IF(B169=\"\",\"\",VLOOKUP(B169,HM!$A$5:$C$254,2))","v":""},{"$f":"IF(B169=\"\",\"\",VLOOKUP(B169,HM!$A$5:$D$254,3))","v":""},null,165]
[166,null,{"$f":"IF(B170=\"\",\"\",VLOOKUP(B170,HM!$A$5:$C$254,2))","v":""},{"$f":"IF(B170=\"\",\"\",VLOOKUP(B170,HM!$A$5:$D$254,3))","v":""},null,166]
[167,null,{"$f":"IF(B171=\"\",\"\",VLOOKUP(B171,HM!$A$5:$C$254,2))","v":""},{"$f":"IF(B171=\"\",\"\",VLOOKUP(B171,HM!$A$5:$D$254,3))","v":""},null,167]
[168,null,{"$f":"IF(B172=\"\",\"\",VLOOKUP(B172,HM!$A$5:$C$254,2))","v":""},{"$f":"IF(B172=\"\",\"\",VLOOKUP(B172,HM!$A$5:$D$254,3))","v":""},null,168]
[169,null,{"$f":"IF(B173=\"\",\"\",VLOOKUP(B173,HM!$A$5:$C$254,2))","v":""},{"$f":"IF(B173=\"\",\"\",VLOOKUP(B173,HM!$A$5:$D$254,3))","v":""},null,169]
[170,null,{"$f":"IF(B174=\"\",\"\",VLOOKUP(B174,HM!$A$5:$C$254,2))","v":""},{"$f":"IF(B174=\"\",\"\",VLOOKUP(B174,HM!$A$5:$D$254,3))","v":""},null,170]
[171,null,{"$f":"IF(B175=\"\",\"\",VLOOKUP(B175,HM!$A$5:$C$254,2))","v":""},{"$f":"IF(B175=\"\",\"\",VLOOKUP(B175,HM!$A$5:$D$254,3))","v":""},null,171]
[172,null,{"$f":"IF(B176=\"\",\"\",VLOOKUP(B176,HM!$A$5:$C$254,2))","v":""},{"$f":"IF(B176=\"\",\"\",VLOOKUP(B176,HM!$A$5:$D$254,3))","v":""},null,172]
[173,null,{"$f":"IF(B177=\"\",\"\",VLOOKUP(B177,HM!$A$5:$C$254,2))","v":""},{"$f":"IF(B177=\"\",\"\",VLOOKUP(B177,HM!$A$5:$D$254,3))","v":""},null,173]
[174,null,{"$f":"IF(B178=\"\",\"\",VLOOKUP(B178,HM!$A$5:$C$254,2))","v":""},{"$f":"IF(B178=\"\",\"\",VLOOKUP(B178,HM!$A$5:$D$254,3))","v":""},null,174]
[175,null,{"$f":"IF(B179=\"\",\"\",VLOOKUP(B179,HM!$A$5:$C$254,2))","v":""},{"$f":"IF(B179=\"\",\"\",VLOOKUP(B179,HM!$A$5:$D$254,3))","v":""},null,175]
[176,null,{"$f":"IF(B180=\"\",\"\",VLOOKUP(B180,HM!$A$5:$C$254,2))","v":""},{"$f":"IF(B180=\"\",\"\",VLOOKUP(B180,HM!$A$5:$D$254,3))","v":""},null,176]
[177,null,{"$f":"IF(B181=\"\",\"\",VLOOKUP(B181,HM!$A$5:$C$254,2))","v":""},{"$f":"IF(B181=\"\",\"\",VLOOKUP(B181,HM!$A$5:$D$254,3))","v":""},null,177]
[178,null,{"$f":"IF(B182=\"\",\"\",VLOOKUP(B182,HM!$A$5:$C$254,2))","v":""},{"$f":"IF(B182=\"\",\"\",VLOOKUP(B182,HM!$A$5:$D$254,3))","v":""},null,178]
[179,null,{"$f":"IF(B183=\"\",\"\",VLOOKUP(B183,HM!$A$5:$C$254,2))","v":""},{"$f":"IF(B183=\"\",\"\",VLOOKUP(B183,HM!$A$5:$D$254,3))","v":""},null,179]
[180,null,{"$f":"IF(B184=\"\",\"\",VLOOKUP(B184,HM!$A$5:$C$254,2))","v":""},{"$f":"IF(B184=\"\",\"\",VLOOKUP(B184,HM!$A$5:$D$254,3))","v":""},null,180]
[181,null,{"$f":"IF(B185=\"\",\"\",VLOOKUP(B185,HM!$A$5:$C$254,2))","v":""},{"$f":"IF(B185=\"\",\"\",VLOOKUP(B185,HM!$A$5:$D$254,3))","v":""},null,181]
[182,null,{"$f":"IF(B186=\"\",\"\",VLOOKUP(B186,HM!$A$5:$C$254,2))","v":""},{"$f":"IF(B186=\"\",\"\",VLOOKUP(B186,HM!$A$5:$D$254,3))","v":""},null,182]
[183,null,{"$f":"IF(B187=\"\",\"\",VLOOKUP(B187,HM!$A$5:$C$254,2))","v":""},{"$f":"IF(B187=\"\",\"\",VLOOKUP(B187,HM!$A$5:$D$254,3))","v":""},null,183]
[184,null,{"$f":"IF(B188=\"\",\"\",VLOOKUP(B188,HM!$A$5:$C$254,2))","v":""},{"$f":"IF(B188=\"\",\"\",VLOOKUP(B188,HM!$A$5:$D$254,3))","v":""},null,184]
[185,null,{"$f":"IF(B189=\"\",\"\",VLOOKUP(B189,HM!$A$5:$C$254,2))","v":""},{"$f":"IF(B189=\"\",\"\",VLOOKUP(B189,HM!$A$5:$D$254,3))","v":""},null,185]
[186,null,{"$f":"IF(B190=\"\",\"\",VLOOKUP(B190,HM!$A$5:$C$254,2))","v":""},{"$f":"IF(B190=\"\",\"\",VLOOKUP(B190,HM!$A$5:$D$254,3))","v":""},null,186]
[187,null,{"$f":"IF(B191=\"\",\"\",VLOOKUP(B191,HM!$A$5:$C$254,2))","v":""},{"$f":"IF(B191=\"\",\"\",VLOOKUP(B191,HM!$A$5:$D$254,3))","v":""},null,187]
[188,null,{"$f":"IF(B192=\"\",\"\",VLOOKUP(B192,HM!$A$5:$C$254,2))","v":""},{"$f":"IF(B192=\"\",\"\",VLOOKUP(B192,HM!$A$5:$D$254,3))","v":""},null,188]
[189,null,{"$f":"IF(B193=\"\",\"\",VLOOKUP(B193,HM!$A$5:$C$254,2))","v":""},{"$f":"IF(B193=\"\",\"\",VLOOKUP(B193,HM!$A$5:$D$254,3))","v":""},null,189]
[190,null,{"$f":"IF(B194=\"\",\"\",VLOOKUP(B194,HM!$A$5:$C$254,2))","v":""},{"$f":"IF(B194=\"\",\"\",VLOOKUP(B194,HM!$A$5:$D$254,3))","v":""},null,190]
[191,null,{"$f":"IF(B195=\"\",\"\",VLOOKUP(B195,HM!$A$5:$C$254,2))","v":""},{"$f":"IF(B195=\"\",\"\",VLOOKUP(B195,HM!$A$5:$D$254,3))","v":""},null,191]
[192,null,{"$f":"IF(B196=\"\",\"\",VLOOKUP(B196,HM!$A$5:$C$254,2))","v":""},{"$f":"IF(B196=\"\",\"\",VLOOKUP(B196,HM!$A$5:$D$254,3))","v":""},null,192]
[193,null,{"$f":"IF(B197=\"\",\"\",VLOOKUP(B197,HM!$A$5:$C$254,2))","v":""},{"$f":"IF(B197=\"\",\"\",VLOOKUP(B197,HM!$A$5:$D$254,3))","v":""},null,193]
[194,null,{"$f":"IF(B198=\"\",\"\",VLOOKUP(B198,HM!$A$5:$C$254,2))","v":""},{"$f":"IF(B198=\"\",\"\",VLOOKUP(B198,HM!$A$5:$D$254,3))","v":""},null,194]
[195,null,{"$f":"IF(B199=\"\",\"\",VLOOKUP(B199,HM!$A$5:$C$254,2))","v":""},{"$f":"IF(B199=\"\",\"\",VLOOKUP(B199,HM!$A$5:$D$254,3))","v":""},null,195]
[196,null,{"$f":"IF(B200=\"\",\"\",VLOOKUP(B200,HM!$A$5:$C$254,2))","v":""},{"$f":"IF(B200=\"\",\"\",VLOOKUP(B200,HM!$A$5:$D$254,3))","v":""},null,196]
[197,null,{"$f":"IF(B201=\"\",\"\",VLOOKUP(B201,HM!$A$5:$C$254,2))","v":""},{"$f":"IF(B201=\"\",\"\",VLOOKUP(B201,HM!$A$5:$D$254,3))","v":""},null,197]
[198,null,{"$f":"IF(B202=\"\",\"\",VLOOKUP(B202,HM!$A$5:$C$254,2))","v":""},{"$f":"IF(B202=\"\",\"\",VLOOKUP(B202,HM!$A$5:$D$254,3))","v":""},null,198]
[199,null,{"$f":"IF(B203=\"\",\"\",VLOOKUP(B203,HM!$A$5:$C$254,2))","v":""},{"$f":"IF(B203=\"\",\"\",VLOOKUP(B203,HM!$A$5:$D$254,3))","v":""},null,199]
[200,null,{"$f":"IF(B204=\"\",\"\",VLOOKUP(B204,HM!$A$5:$C$254,2))","v":""},{"$f":"IF(B204=\"\",\"\",VLOOKUP(B204,HM!$A$5:$D$254,3))","v":""},null,200]
[201,null,{"$f":"IF(B205=\"\",\"\",VLOOKUP(B205,HM!$A$5:$C$254,2))","v":""},{"$f":"IF(B205=\"\",\"\",VLOOKUP(B205,HM!$A$5:$D$254,3))","v":""},null,201]
[202,null,{"$f":"IF(B206=\"\",\"\",VLOOKUP(B206,HM!$A$5:$C$254,2))","v":""},{"$f":"IF(B206=\"\",\"\",VLOOKUP(B206,HM!$A$5:$D$254,3))","v":""},null,202]
[203,null,{"$f":"IF(B207=\"\",\"\",VLOOKUP(B207,HM!$A$5:$C$254,2))","v":""},{"$f":"IF(B207=\"\",\"\",VLOOKUP(B207,HM!$A$5:$D$254,3))","v":""},null,203]
[204,null,{"$f":"IF(B208=\"\",\"\",VLOOKUP(B208,HM!$A$5:$C$254,2))","v":""},{"$f":"IF(B208=\"\",\"\",VLOOKUP(B208,HM!$A$5:$D$254,3))","v":""},null,204]
[205,null,{"$f":"IF(B209=\"\",\"\",VLOOKUP(B209,HM!$A$5:$C$254,2))","v":""},{"$f":"IF(B209=\"\",\"\",VLOOKUP(B209,HM!$A$5:$D$254,3))","v":""},null,205]
[206,null,{"$f":"IF(B210=\"\",\"\",VLOOKUP(B210,HM!$A$5:$C$254,2))","v":""},{"$f":"IF(B210=\"\",\"\",VLOOKUP(B210,HM!$A$5:$D$254,3))","v":""},null,206]
[207,null,{"$f":"IF(B211=\"\",\"\",VLOOKUP(B211,HM!$A$5:$C$254,2))","v":""},{"$f":"IF(B211=\"\",\"\",VLOOKUP(B211,HM!$A$5:$D$254,3))","v":""},null,207]
[208,null,{"$f":"IF(B212=\"\",\"\",VLOOKUP(B212,HM!$A$5:$C$254,2))","v":""},{"$f":"IF(B212=\"\",\"\",VLOOKUP(B212,HM!$A$5:$D$254,3))","v":""},null,208]
[209,null,{"$f":"IF(B213=\"\",\"\",VLOOKUP(B213,HM!$A$5:$C$254,2))","v":""},{"$f":"IF(B213=\"\",\"\",VLOOKUP(B213,HM!$A$5:$D$254,3))","v":""},null,209]
[210,null,{"$f":"IF(B214=\"\",\"\",VLOOKUP(B214,HM!$A$5:$C$254,2))","v":""},{"$f":"IF(B214=\"\",\"\",VLOOKUP(B214,HM!$A$5:$D$254,3))","v":""},null,210]
[211,null,{"$f":"IF(B215=\"\",\"\",VLOOKUP(B215,HM!$A$5:$C$254,2))","v":""},{"$f":"IF(B215=\"\",\"\",VLOOKUP(B215,HM!$A$5:$D$254,3))","v":""},null,211]
[212,null,{"$f":"IF(B216=\"\",\"\",VLOOKUP(B216,HM!$A$5:$C$254,2))","v":""},{"$f":"IF(B216=\"\",\"\",VLOOKUP(B216,HM!$A$5:$D$254,3))","v":""},null,212]
[213,null,{"$f":"IF(B217=\"\",\"\",VLOOKUP(B217,HM!$A$5:$C$254,2))","v":""},{"$f":"IF(B217=\"\",\"\",VLOOKUP(B217,HM!$A$5:$D$254,3))","v":""},null,213]
[214,null,{"$f":"IF(B218=\"\",\"\",VLOOKUP(B218,HM!$A$5:$C$254,2))","v":""},{"$f":"IF(B218=\"\",\"\",VLOOKUP(B218,HM!$A$5:$D$254,3))","v":""},null,214]
[215,null,{"$f":"IF(B219=\"\",\"\",VLOOKUP(B219,HM!$A$5:$C$254,2))","v":""},{"$f":"IF(B219=\"\",\"\",VLOOKUP(B219,HM!$A$5:$D$254,3))","v":""},null,215]
[216,null,{"$f":"IF(B220=\"\",\"\",VLOOKUP(B220,HM!$A$5:$C$254,2))","v":""},{"$f":"IF(B220=\"\",\"\",VLOOKUP(B220,HM!$A$5:$D$254,3))","v":""},null,216]
[217,null,{"$f":"IF(B221=\"\",\"\",VLOOKUP(B221,HM!$A$5:$C$254,2))","v":""},{"$f":"IF(B221=\"\",\"\",VLOOKUP(B221,HM!$A$5:$D$254,3))","v":""},null,217]
[218,null,{"$f":"IF(B222=\"\",\"\",VLOOKUP(B222,HM!$A$5:$C$254,2))","v":""},{"$f":"IF(B222=\"\",\"\",VLOOKUP(B222,HM!$A$5:$D$254,3))","v":""},null,218]
[219,null,{"$f":"IF(B223=\"\",\"\",VLOOKUP(B223,HM!$A$5:$C$254,2))","v":""},{"$f":"IF(B223=\"\",\"\",VLOOKUP(B223,HM!$A$5:$D$254,3))","v":""},null,219]
[220,null,{"$f":"IF(B224=\"\",\"\",VLOOKUP(B224,HM!$A$5:$C$254,2))","v":""},{"$f":"IF(B224=\"\",\"\",VLOOKUP(B224,HM!$A$5:$D$254,3))","v":""},null,220]
[221,null,{"$f":"IF(B225=\"\",\"\",VLOOKUP(B225,HM!$A$5:$C$254,2))","v":""},{"$f":"IF(B225=\"\",\"\",VLOOKUP(B225,HM!$A$5:$D$254,3))","v":""},null,221]
[222,null,{"$f":"IF(B226=\"\",\"\",VLOOKUP(B226,HM!$A$5:$C$254,2))","v":""},{"$f":"IF(B226=\"\",\"\",VLOOKUP(B226,HM!$A$5:$D$254,3))","v":""},null,222]
[223,null,{"$f":"IF(B227=\"\",\"\",VLOOKUP(B227,HM!$A$5:$C$254,2))","v":""},{"$f":"IF(B227=\"\",\"\",VLOOKUP(B227,HM!$A$5:$D$254,3))","v":""},null,223]
[224,null,{"$f":"IF(B228=\"\",\"\",VLOOKUP(B228,HM!$A$5:$C$254,2))","v":""},{"$f":"IF(B228=\"\",\"\",VLOOKUP(B228,HM!$A$5:$D$254,3))","v":""},null,224]
[225,null,{"$f":"IF(B229=\"\",\"\",VLOOKUP(B229,HM!$A$5:$C$254,2))","v":""},{"$f":"IF(B229=\"\",\"\",VLOOKUP(B229,HM!$A$5:$D$254,3))","v":""},null,225]
[226,null,{"$f":"IF(B230=\"\",\"\",VLOOKUP(B230,HM!$A$5:$C$254,2))","v":""},{"$f":"IF(B230=\"\",\"\",VLOOKUP(B230,HM!$A$5:$D$254,3))","v":""},null,226]
[227,null,{"$f":"IF(B231=\"\",\"\",VLOOKUP(B231,HM!$A$5:$C$254,2))","v":""},{"$f":"IF(B231=\"\",\"\",VLOOKUP(B231,HM!$A$5:$D$254,3))","v":""},null,227]
[228,null,{"$f":"IF(B232=\"\",\"\",VLOOKUP(B232,HM!$A$5:$C$254,2))","v":""},{"$f":"IF(B232=\"\",\"\",VLOOKUP(B232,HM!$A$5:$D$254,3))","v":""},null,228]
[229,null,{"$f":"IF(B233=\"\",\"\",VLOOKUP(B233,HM!$A$5:$C$254,2))","v":""},{"$f":"IF(B233=\"\",\"\",VLOOKUP(B233,HM!$A$5:$D$254,3))","v":""},null,229]
[230,null,{"$f":"IF(B234=\"\",\"\",VLOOKUP(B234,HM!$A$5:$C$254,2))","v":""},{"$f":"IF(B234=\"\",\"\",VLOOKUP(B234,HM!$A$5:$D$254,3))","v":""},null,230]
[231,null,{"$f":"IF(B235=\"\",\"\",VLOOKUP(B235,HM!$A$5:$C$254,2))","v":""},{"$f":"IF(B235=\"\",\"\",VLOOKUP(B235,HM!$A$5:$D$254,3))","v":""},null,231]
[232,null,{"$f":"IF(B236=\"\",\"\",VLOOKUP(B236,HM!$A$5:$C$254,2))","v":""},{"$f":"IF(B236=\"\",\"\",VLOOKUP(B236,HM!$A$5:$D$254,3))","v":""},null,232]
[233,null,{"$f":"IF(B237=\"\",\"\",VLOOKUP(B237,HM!$A$5:$C$254,2))","v":""},{"$f":"IF(B237=\"\",\"\",VLOOKUP(B237,HM!$A$5:$D$254,3))","v":""},null,233]
[234,null,{"$f":"IF(B238=\"\",\"\",VLOOKUP(B238,HM!$A$5:$C$254,2))","v":""},{"$f":"IF(B238=\"\",\"\",VLOOKUP(B238,HM!$A$5:$D$254,3))","v":""},null,234]
[235,null,{"$f":"IF(B239=\"\",\"\",VLOOKUP(B239,HM!$A$5:$C$254,2))","v":""},{"$f":"IF(B239=\"\",\"\",VLOOKUP(B239,HM!$A$5:$D$254,3))","v":""},null,235]
[236,null,{"$f":"IF(B240=\"\",\"\",VLOOKUP(B240,HM!$A$5:$C$254,2))","v":""},{"$f":"IF(B240=\"\",\"\",VLOOKUP(B240,HM!$A$5:$D$254,3))","v":""},null,236]
[237,null,{"$f":"IF(B241=\"\",\"\",VLOOKUP(B241,HM!$A$5:$C$254,2))","v":""},{"$f":"IF(B241=\"\",\"\",VLOOKUP(B241,HM!$A$5:$D$254,3))","v":""},null,237]
[238,null,{"$f":"IF(B242=\"\",\"\",VLOOKUP(B242,HM!$A$5:$C$254,2))","v":""},{"$f":"IF(B242=\"\",\"\",VLOOKUP(B242,HM!$A$5:$D$254,3))","v":""},null,238]
[239,null,{"$f":"IF(B243=\"\",\"\",VLOOKUP(B243,HM!$A$5:$C$254,2))","v":""},{"$f":"IF(B243=\"\",\"\",VLOOKUP(B243,HM!$A$5:$D$254,3))","v":""},null,239]
[240,null,{"$f":"IF(B244=\"\",\"\",VLOOKUP(B244,HM!$A$5:$C$254,2))","v":""},{"$f":"IF(B244=\"\",\"\",VLOOKUP(B244,HM!$A$5:$D$254,3))","v":""},null,240]
[241,null,{"$f":"IF(B245=\"\",\"\",VLOOKUP(B245,HM!$A$5:$C$254,2))","v":""},{"$f":"IF(B245=\"\",\"\",VLOOKUP(B245,HM!$A$5:$D$254,3))","v":""},null,241]
[242,null,{"$f":"IF(B246=\"\",\"\",VLOOKUP(B246,HM!$A$5:$C$254,2))","v":""},{"$f":"IF(B246=\"\",\"\",VLOOKUP(B246,HM!$A$5:$D$254,3))","v":""},null,242]
[243,null,{"$f":"IF(B247=\"\",\"\",VLOOKUP(B247,HM!$A$5:$C$254,2))","v":""},{"$f":"IF(B247=\"\",\"\",VLOOKUP(B247,HM!$A$5:$D$254,3))","v":""},null,243]
[244,null,{"$f":"IF(B248=\"\",\"\",VLOOKUP(B248,HM!$A$5:$C$254,2))","v":""},{"$f":"IF(B248=\"\",\"\",VLOOKUP(B248,HM!$A$5:$D$254,3))","v":""},null,244]
[245,null,{"$f":"IF(B249=\"\",\"\",VLOOKUP(B249,HM!$A$5:$C$254,2))","v":""},{"$f":"IF(B249=\"\",\"\",VLOOKUP(B249,HM!$A$5:$D$254,3))","v":""},null,245]
[246,null,{"$f":"IF(B250=\"\",\"\",VLOOKUP(B250,HM!$A$5:$C$254,2))","v":""},{"$f":"IF(B250=\"\",\"\",VLOOKUP(B250,HM!$A$5:$D$254,3))","v":""},null,246]
[247,null,{"$f":"IF(B251=\"\",\"\",VLOOKUP(B251,HM!$A$5:$C$254,2))","v":""},{"$f":"IF(B251=\"\",\"\",VLOOKUP(B251,HM!$A$5:$D$254,3))","v":""},null,247]
[248,null,{"$f":"IF(B252=\"\",\"\",VLOOKUP(B252,HM!$A$5:$C$254,2))","v":""},{"$f":"IF(B252=\"\",\"\",VLOOKUP(B252,HM!$A$5:$D$254,3))","v":""},null,248]
[249,null,{"$f":"IF(B253=\"\",\"\",VLOOKUP(B253,HM!$A$5:$C$254,2))","v":""},{"$f":"IF(B253=\"\",\"\",VLOOKUP(B253,HM!$A$5:$D$254,3))","v":""},null,249]
[250,null,{"$f":"IF(B254=\"\",\"\",VLOOKUP(B254,HM!$A$5:$C$254,2))","v":""},{"$f":"IF(B254=\"\",\"\",VLOOKUP(B254,HM!$A$5:$D$254,3))","v":""},null,250]

{"sheet":"Seite-1","index":5,"n_rows":43,"n_cols":16,"rows_kept":43,"cut":false,"hidden":false,"merged":[[2,12,2,15],[4,12,4,15],[5,12,5,15],[0,0,0,15],[2,0,2,3],[5,0,5,3],[4,0,4,3],[2,6,2,9],[4,6,4,9],[5,6,5,9]]}
["Schützenverein Soderstorf e.V.\nvon 1922"]
[]
["Luhepokal",null,null,null,null,null,"Kommandeurspokal",null,null,null,null,null,"Damenpokal"]
[]
["Bester Schütze/in:",null,null,null,null,null,"Bester Schütze/in:",null,null,null,null,null,"Beste Schützin:"]
[{"$f":"IF(D!I3=0,\"\",CONCATENATE(D!J3,\", \",D!I3,\", \",D!K3,\" \",\"Ringe\",\", \",\"Teiler\",\" \",D!L3))","v":", , 0 Ringe, Teiler "},null,null,null,null,null,{"$f":"IF(D!N3=0,\"\",CONCATENATE(D!O3,\", \",D!N3,\", \",D!P3,\" \",\"Ringe\",\", \",\"Teiler\",\" \",D!Q3))","v":", , 0 Ringe, Teiler "},null,null,null,null,null,{"$f":"IF(D!AA3=0,\"\",CONCATENATE(D!AB3,\", \",D!AA3,\", \",D!AC3,\" \",\"Ringe\",\", \",\"Teiler\",\" \",D!AD3))","v":", , 0 Ringe, Teiler "}]
[]
["Platz:","Verein:","Ringe:","Teiler:",null,null,"Platz:","Verein:","Ringe:","Teiler:",null,null,"Platz:","Verein:","Ringe:","Teiler:"]
[{"$f":"IF(D!A3=\"\",\"\",1)","v":""},{"$f":"IF(D!A3=0,\"\",D!A3)","v":""},{"$f":"IF(D!B3=0,\"\",D!B3)","v":""},{"$f":"IF(D!C3=0,\"\",D!C3)","v":""},null,1,{"$f":"IF(D!E3=\"\",\"\",1)","v":""},{"$f":"IF(D!E3=0,\"\",D!E3)","v":""},{"$f":"IF(D!F3=0,\"\",D!F3)","v":""},{"$f":"IF(D!G3=0,\"\",D!G3)","v":""},null,1,{"$f":"IF(D!W3=\"\",\"\",1)","v":""},{"$f":"IF(D!W3=0,\"\",D!W3)","v":""},{"$f":"IF(D!X3=0,\"\",D!X3)","v":""},{"$f":"IF(D!Y3=0,\"\",D!Y3)","v":""}]
[{"$f":"IF(D!A4=\"\",\"\",A9+1)","v":""},{"$f":"IF(D!A4=0,\"\",D!A4)","v":""},{"$f":"IF(D!B4=0,\"\",D!B4)","v":""},{"$f":"IF(D!C4=0,\"\",D!C4)","v":""},null,2,{"$f":"IF(D!E4=\"\",\"\",G9+1)","v":""},{"$f":"IF(D!E4=0,\"\",D!E4)","v":""},{"$f":"IF(D!F4=0,\"\",D!F4)","v":""},{"$f":"IF(D!G4=0,\"\",D!G4)","v":""},null,2,{"$f":"IF(D!W4=\"\",\"\",M9+1)","v":""},{"$f":"IF(D!W4=0,\"\",D!W4)","v":""},{"$f":"IF(D!X4=0,\"\",D!X4)","v":""},{"$f":"IF(D!Y4=0,\"\",D!Y4)","v":""}]
[{"$f":"IF(D!A5=\"\",\"\",A10+1)","v":""},{"$f":"IF(D!A5=0,\"\",D!A5)","v":""},{"$f":"IF(D!B5=0,\"\",D!B5)","v":""},{"$f":"IF(D!C5=0,\"\",D!C5)","v":""},null,3,{"$f":"IF(D!E5=\"\",\"\",G10+1)","v":""},{"$f":"IF(D!E5=0,\"\",D!E5)","v":""},{"$f":"IF(D!F5=0,\"\",D!F5)","v":""},{"$f":"IF(D!G5=0,\"\",D!G5)","v":""},null,3,{"$f":"IF(D!W5=\"\",\"\",M10+1)","v":""},{"$f":"IF(D!W5=0,\"\",D!W5)","v":""},{"$f":"IF(D!X5=0,\"\",D!X5)","v":""},{"$f":"IF(D!Y5=0,\"\",D!Y5)","v":""}]
[{"$f":"IF(D!A6=\"\",\"\",A11+1)","v":""},{"$f":"IF(D!A6=0,\"\",D!A6)","v":""},{"$f":"IF(D!B6=0,\"\",D!B6)","v":""},{"$f":"IF(D!C6=0,\"\",D!C6)","v":""},null,4,{"$f":"IF(D!E6=\"\",\"\",G11+1)","v":""},{"$f":"IF(D!E6=0,\"\",D!E6)","v":""},{"$f":"IF(D!F6=0,\"\",D!F6)","v":""},{"$f":"IF(D!G6=0,\"\",D!G6)","v":""},null,4,{"$f":"IF(D!W6=\"\",\"\",M11+1)","v":""},{"$f":"IF(D!W6=0,\"\",D!W6)","v":""},{"$f":"IF(D!X6=0,\"\",D!X6)","v":""},{"$f":"IF(D!Y6=0,\"\",D!Y6)","v":""}]
[{"$f":"IF(D!A7=\"\",\"\",A12+1)","v":""},{"$f":"IF(D!A7=0,\"\",D!A7)","v":""},{"$f":"IF(D!B7=0,\"\",D!B7)","v":""},{"$f":"IF(D!C7=0,\"\",D!C7)","v":""},null,5,{"$f":"IF(D!E7=\"\",\"\",G12+1)","v":""},{"$f":"IF(D!E7=0,\"\",D!E7)","v":""},{"$f":"IF(D!F7=0,\"\",D!F7)","v":""},{"$f":"IF(D!G7=0,\"\",D!G7)","v":""},null,5,{"$f":"IF(D!W7=\"\",\"\",M12+1)","v":""},{"$f":"IF(D!W7=0,\"\",D!W7)","v":""},{"$f":"IF(D!X7=0,\"\",D!X7)","v":""},{"$f":"IF(D!Y7=0,\"\",D!Y7)","v":""}]
[{"$f":"IF(D!A8=\"\",\"\",A13+1)","v":""},{"$f":"IF(D!A8=0,\"\",D!A8)","v":""},{"$f":"IF(D!B8=0,\"\",D!B8)","v":""},{"$f":"IF(D!C8=0,\"\",D!C8)","v":""},null,6,{"$f":"IF(D!E8=\"\",\"\",G13+1)","v":""},{"$f":"IF(D!E8=0,\"\",D!E8)","v":""},{"$f":"IF(D!F8=0,\"\",D!F8)","v":""},{"$f":"IF(D!G8=0,\"\",D!G8)","v":""},null,6,{"$f":"IF(D!W8=\"\",\"\",M13+1)","v":""},{"$f":"IF(D!W8=0,\"\",D!W8)","v":""},{"$f":"IF(D!X8=0,\"\",D!X8)","v":""},{"$f":"IF(D!Y8=0,\"\",D!Y8)","v":""}]
[{"$f":"IF(D!A9=\"\",\"\",A14+1)","v":""},{"$f":"IF(D!A9=0,\"\",D!A9)","v":""},{"$f":"IF(D!B9=0,\"\",D!B9)","v":""},{"$f":"IF(D!C9=0,\"\",D!C9)","v":""},null,7,{"$f":"IF(D!E9=\"\",\"\",G14+1)","v":""},{"$f":"IF(D!E9=0,\"\",D!E9)","v":""},{"$f":"IF(D!F9=0,\"\",D!F9)","v":""},{"$f":"IF(D!G9=0,\"\",D!G9)","v":""},null,7,{"$f":"IF(D!W9=\"\",\"\",M14+1)","v":""},{"$f":"IF(D!W9=0,\"\",D!W9)","v":""},{"$f":"IF(D!X9=0,\"\",D!X9)","v":""},{"$f":"IF(D!Y9=0,\"\",D!Y9)","v":""}]
[{"$f":"IF(D!A10=\"\",\"\",A15+1)","v":""},{"$f":"IF(D!A10=0,\"\",D!A10)","v":""},{"$f":"IF(D!B10=0,\"\",D!B10)","v":""},{"$f":"IF(D!C10=0,\"\",D!C10)","v":""},null,8,{"$f":"IF(D!E10=\"\",\"\",G15+1)","v":""},{"$f":"IF(D!E10=0,\"\",D!E10)","v":""},{"$f":"IF(D!F10=0,\"\",D!F10)","v":""},{"$f":"IF(D!G10=0,\"\",D!G10)","v":""},null,8,{"$f":"IF(D!W10=\"\",\"\",M15+1)","v":""},{"$f":"IF(D!W10=0,\"\",D!W10)","v":""},{"$f":"IF(D!X10=0,\"\",D!X10)","v":""},{"$f":"IF(D!Y10=0,\"\",D!Y10)","v":""}]
[{"$f":"IF(D!A11=\"\",\"\",A16+1)","v":""},{"$f":"IF(D!A11=0,\"\",D!A11)","v":""},{"$f":"IF(D!B11=0,\"\",D!B11)","v":""},{"$f":"IF(D!C11=0,\"\",D!C11)","v":""},null,9,{"$f":"IF(D!E11=\"\",\"\",G16+1)","v":""},{"$f":"IF(D!E11=0,\"\",D!E11)","v":""},{"$f":"IF(D!F11=0,\"\",D!F11)","v":""},{"$f":"IF(D!G11=0,\"\",D!G11)","v":""},null,9,{"$f":"IF(D!W11=\"\",\"\",M16+1)","v":""},{"$f":"IF(D!W11=0,\"\",D!W11)","v":""},{"$f":"IF(D!X11=0,\"\",D!X11)","v":""},{"$f":"IF(D!Y11=0,\"\",D!Y11)","v":""}]
[{"$f":"IF(D!A12=\"\",\"\",A17+1)","v":""},{"$f":"IF(D!A12=0,\"\",D!A12)","v":""},{"$f":"IF(D!B12=0,\"\",D!B12)","v":""},{"$f":"IF(D!C12=0,\"\",D!C12)","v":""},null,10,{"$f":"IF(D!E12=\"\",\"\",G17+1)","v":""},{"$f":"IF(D!E12=0,\"\",D!E12)","v":""},{"$f":"IF(D!F12=0,\"\",D!F12)","v":""},{"$f":"IF(D!G12=0,\"\",D!G12)","v":""},null,10,{"$f":"IF(D!W12=\"\",\"\",M17+1)","v":""},{"$f":"IF(D!W12=0,\"\",D!W12)","v":""},{"$f":"IF(D!X12=0,\"\",D!X12)","v":""},{"$f":"IF(D!Y12=0,\"\",D!Y12)","v":""}]
[{"$f":"IF(D!A13=\"\",\"\",A18+1)","v":""},{"$f":"IF(D!A13=0,\"\",D!A13)","v":""},{"$f":"IF(D!B13=0,\"\",D!B13)","v":""},{"$f":"IF(D!C13=0,\"\",D!C13)","v":""},null,11,{"$f":"IF(D!E13=\"\",\"\",G18+1)","v":""},{"$f":"IF(D!E13=0,\"\",D!E13)","v":""},{"$f":"IF(D!F13=0,\"\",D!F13)","v":""},{"$f":"IF(D!G13=0,\"\",D!G13)","v":""},null,11,{"$f":"IF(D!W13=\"\",\"\",M18+1)","v":""},{"$f":"IF(D!W13=0,\"\",D!W13)","v":""},{"$f":"IF(D!X13=0,\"\",D!X13)","v":""},{"$f":"IF(D!Y13=0,\"\",D!Y13)","v":""}]
[{"$f":"IF(D!A14=\"\",\"\",A19+1)","v":""},{"$f":"IF(D!A14=0,\"\",D!A14)","v":""},{"$f":"IF(D!B14=0,\"\",D!B14)","v":""},{"$f":"IF(D!C14=0,\"\",D!C14)","v":""},null,12,{"$f":"IF(D!E14=\"\",\"\",G19+1)","v":""},{"$f":"IF(D!E14=0,\"\",D!E14)","v":""},{"$f":"IF(D!F14=0,\"\",D!F14)","v":""},{"$f":"IF(D!G14=0,\"\",D!G14)","v":""},null,12,{"$f":"IF(D!W14=\"\",\"\",M19+1)","v":""},{"$f":"IF(D!W14=0,\"\",D!W14)","v":""},{"$f":"IF(D!X14=0,\"\",D!X14)","v":""},{"$f":"IF(D!Y14=0,\"\",D!Y14)","v":""}]
[{"$f":"IF(D!A15=\"\",\"\",A20+1)","v":""},{"$f":"IF(D!A15=0,\"\",D!A15)","v":""},{"$f":"IF(D!B15=0,\"\",D!B15)","v":""},{"$f":"IF(D!C15=0,\"\",D!C15)","v":""},null,13,{"$f":"IF(D!E15=\"\",\"\",G20+1)","v":""},{"$f":"IF(D!E15=0,\"\",D!E15)","v":""},{"$f":"IF(D!F15=0,\"\",D!F15)","v":""},{"$f":"IF(D!G15=0,\"\",D!G15)","v":""},null,13,{"$f":"IF(D!W15=\"\",\"\",M20+1)","v":""},{"$f":"IF(D!W15=0,\"\",D!W15)","v":""},{"$f":"IF(D!X15=0,\"\",D!X15)","v":""},{"$f":"IF(D!Y15=0,\"\",D!Y15)","v":""}]
[{"$f":"IF(D!A16=\"\",\"\",A21+1)","v":""},{"$f":"IF(D!A16=0,\"\",D!A16)","v":""},{"$f":"IF(D!B16=0,\"\",D!B16)","v":""},{"$f":"IF(D!C16=0,\"\",D!C16)","v":""},null,14,{"$f":"IF(D!E16=\"\",\"\",G21+1)","v":""},{"$f":"IF(D!E16=0,\"\",D!E16)","v":""},{"$f":"IF(D!F16=0,\"\",D!F16)","v":""},{"$f":"IF(D!G16=0,\"\",D!G16)","v":""},null,14,{"$f":"IF(D!W16=\"\",\"\",M21+1)","v":""},{"$f":"IF(D!W16=0,\"\",D!W16)","v":""},{"$f":"IF(D!X16=0,\"\",D!X16)","v":""},{"$f":"IF(D!Y16=0,\"\",D!Y16)","v":""}]
[{"$f":"IF(D!A17=\"\",\"\",A22+1)","v":""},{"$f":"IF(D!A17=0,\"\",D!A17)","v":""},{"$f":"IF(D!B17=0,\"\",D!B17)","v":""},{"$f":"IF(D!C17=0,\"\",D!C17)","v":""},null,15,{"$f":"IF(D!E17=\"\",\"\",G22+1)","v":""},{"$f":"IF(D!E17=0,\"\",D!E17)","v":""},{"$f":"IF(D!F17=0,\"\",D!F17)","v":""},{"$f":"IF(D!G17=0,\"\",D!G17)","v":""},null,15,{"$f":"IF(D!W17=\"\",\"\",M22+1)","v":""},{"$f":"IF(D!W17=0,\"\",D!W17)","v":""},{"$f":"IF(D!X17=0,\"\",D!X17)","v":""},{"$f":"IF(D!Y17=0,\"\",D!Y17)","v":""}]
[{"$f":"IF(D!A18=\"\",\"\",A23+1)","v":""},{"$f":"IF(D!A18=0,\"\",D!A18)","v":""},{"$f":"IF(D!B18=0,\"\",D!B18)","v":""},{"$f":"IF(D!C18=0,\"\",D!C18)","v":""},null,16,{"$f":"IF(D!E18=\"\",\"\",G23+1)","v":""},{"$f":"IF(D!E18=0,\"\",D!E18)","v":""},{"$f":"IF(D!F18=0,\"\",D!F18)","v":""},{"$f":"IF(D!G18=0,\"\",D!G18)","v":""},null,16,{"$f":"IF(D!W18=\"\",\"\",M23+1)","v":""},{"$f":"IF(D!W18=0,\"\",D!W18)","v":""},{"$f":"IF(D!X18=0,\"\",D!X18)","v":""},{"$f":"IF(D!Y18=0,\"\",D!Y18)","v":""}]
[{"$f":"IF(D!A19=\"\",\"\",A24+1)","v":""},{"$f":"IF(D!A19=0,\"\",D!A19)","v":""},{"$f":"IF(D!B19=0,\"\",D!B19)","v":""},{"$f":"IF(D!C19=0,\"\",D!C19)","v":""},null,17,{"$f":"IF(D!E19=\"\",\"\",G24+1)","v":""},{"$f":"IF(D!E19=0,\"\",D!E19)","v":""},{"$f":"IF(D!F19=0,\"\",D!F19)","v":""},{"$f":"IF(D!G19=0,\"\",D!G19)","v":""},null,17,{"$f":"IF(D!W19=\"\",\"\",M24+1)","v":""},{"$f":"IF(D!W19=0,\"\",D!W19)","v":""},{"$f":"IF(D!X19=0,\"\",D!X19)","v":""},{"$f":"IF(D!Y19=0,\"\",D!Y19)","v":""}]
[{"$f":"IF(D!A20=\"\",\"\",A25+1)","v":""},{"$f":"IF(D!A20=0,\"\",D!A20)","v":""},{"$f":"IF(D!B20=0,\"\",D!B20)","v":""},{"$f":"IF(D!C20=0,\"\",D!C20)","v":""},null,18,{"$f":"IF(D!E20=\"\",\"\",G25+1)","v":""},{"$f":"IF(D!E20=0,\"\",D!E20)","v":""},{"$f":"IF(D!F20=0,\"\",D!F20)","v":""},{"$f":"IF(D!G20=0,\"\",D!G20)","v":""},null,18,{"$f":"IF(D!W20=\"\",\"\",M25+1)","v":""},{"$f":"IF(D!W20=0,\"\",D!W20)","v":""},{"$f":"IF(D!X20=0,\"\",D!X20)","v":""},{"$f":"IF(D!Y20=0,\"\",D!Y20)","v":""}]
[{"$f":"IF(D!A21=\"\",\"\",A26+1)","v":""},{"$f":"IF(D!A21=0,\"\",D!A21)","v":""},{"$f":"IF(D!B21=0,\"\",D!B21)","v":""},{"$f":"IF(D!C21=0,\"\",D!C21)","v":""},null,19,{"$f":"IF(D!E21=\"\",\"\",G26+1)","v":""},{"$f":"IF(D!E21=0,\"\",D!E21)","v":""},{"$f":"IF(D!F21=0,\"\",D!F21)","v":""},{"$f":"IF(D!G21=0,\"\",D!G21)","v":""},null,19,{"$f":"IF(D!W21=\"\",\"\",M26+1)","v":""},{"$f":"IF(D!W21=0,\"\",D!W21)","v":""},{"$f":"IF(D!X21=0,\"\",D!X21)","v":""},{"$f":"IF(D!Y21=0,\"\",D!Y21)","v":""}]
[{"$f":"IF(D!A22=\"\",\"\",A27+1)","v":""},{"$f":"IF(D!A22=0,\"\",D!A22)","v":""},{"$f":"IF(D!B22=0,\"\",D!B22)","v":""},{"$f":"IF(D!C22=0,\"\",D!C22)","v":""},null,20,{"$f":"IF(D!E22=\"\",\"\",G27+1)","v":""},{"$f":"IF(D!E22=0,\"\",D!E22)","v":""},{"$f":"IF(D!F22=0,\"\",D!F22)","v":""},{"$f":"IF(D!G22=0,\"\",D!G22)","v":""},null,20,{"$f":"IF(D!W22=\"\",\"\",M27+1)","v":""},{"$f":"IF(D!W22=0,\"\",D!W22)","v":""},{"$f":"IF(D!X22=0,\"\",D!X22)","v":""},{"$f":"IF(D!Y22=0,\"\",D!Y22)","v":""}]
[{"$f":"IF(D!A23=\"\",\"\",A28+1)","v":""},{"$f":"IF(D!A23=0,\"\",D!A23)","v":""},{"$f":"IF(D!B23=0,\"\",D!B23)","v":""},{"$f":"IF(D!C23=0,\"\",D!C23)","v":""},null,21,{"$f":"IF(D!E23=\"\",\"\",G28+1)","v":""},{"$f":"IF(D!E23=0,\"\",D!E23)","v":""},{"$f":"IF(D!F23=0,\"\",D!F23)","v":""},{"$f":"IF(D!G23=0,\"\",D!G23)","v":""},null,21,{"$f":"IF(D!W23=\"\",\"\",M28+1)","v":""},{"$f":"IF(D!W23=0,\"\",D!W23)","v":""},{"$f":"IF(D!X23=0,\"\",D!X23)","v":""},{"$f":"IF(D!Y23=0,\"\",D!Y23)","v":""}]
[{"$f":"IF(D!A24=\"\",\"\",A29+1)","v":""},{"$f":"IF(D!A24=0,\"\",D!A24)","v":""},{"$f":"IF(D!B24=0,\"\",D!B24)","v":""},{"$f":"IF(D!C24=0,\"\",D!C24)","v":""},null,22,{"$f":"IF(D!E24=\"\",\"\",G29+1)","v":""},{"$f":"IF(D!E24=0,\"\",D!E24)","v":""},{"$f":"IF(D!F24=0,\"\",D!F24)","v":""},{"$f":"IF(D!G24=0,\"\",D!G24)","v":""},null,22,{"$f":"IF(D!W24=\"\",\"\",M29+1)","v":""},{"$f":"IF(D!W24=0,\"\",D!W24)","v":""},{"$f":"IF(D!X24=0,\"\",D!X24)","v":""},{"$f":"IF(D!Y24=0,\"\",D!Y24)","v":""}]
[{"$f":"IF(D!A25=\"\",\"\",A30+1)","v":""},{"$f":"IF(D!A25=0,\"\",D!A25)","v":""},{"$f":"IF(D!B25=0,\"\",D!B25)","v":""},{"$f":"IF(D!C25=0,\"\",D!C25)","v":""},null,23,{"$f":"IF(D!E25=\"\",\"\",G30+1)","v":""},{"$f":"IF(D!E25=0,\"\",D!E25)","v":""},{"$f":"IF(D!F25=0,\"\",D!F25)","v":""},{"$f":"IF(D!G25=0,\"\",D!G25)","v":""},null,23,{"$f":"IF(D!W25=\"\",\"\",M30+1)","v":""},{"$f":"IF(D!W25=0,\"\",D!W25)","v":""},{"$f":"IF(D!X25=0,\"\",D!X25)","v":""},{"$f":"IF(D!Y25=0,\"\",D!Y25)","v":""}]
[{"$f":"IF(D!A26=\"\",\"\",A31+1)","v":""},{"$f":"IF(D!A26=0,\"\",D!A26)","v":""},{"$f":"IF(D!B26=0,\"\",D!B26)","v":""},{"$f":"IF(D!C26=0,\"\",D!C26)","v":""},null,24,{"$f":"IF(D!E26=\"\",\"\",G31+1)","v":""},{"$f":"IF(D!E26=0,\"\",D!E26)","v":""},{"$f":"IF(D!F26=0,\"\",D!F26)","v":""},{"$f":"IF(D!G26=0,\"\",D!G26)","v":""},null,24,{"$f":"IF(D!W26=\"\",\"\",M31+1)","v":""},{"$f":"IF(D!W26=0,\"\",D!W26)","v":""},{"$f":"IF(D!X26=0,\"\",D!X26)","v":""},{"$f":"IF(D!Y26=0,\"\",D!Y26)","v":""}]
[{"$f":"IF(D!A27=\"\",\"\",A32+1)","v":""},{"$f":"IF(D!A27=0,\"\",D!A27)","v":""},{"$f":"IF(D!B27=0,\"\",D!B27)","v":""},{"$f":"IF(D!C27=0,\"\",D!C27)","v":""},null,25,{"$f":"IF(D!E27=\"\",\"\",G32+1)","v":""},{"$f":"IF(D!E27=0,\"\",D!E27)","v":""},{"$f":"IF(D!F27=0,\"\",D!F27)","v":""},{"$f":"IF(D!G27=0,\"\",D!G27)","v":""},null,25,{"$f":"IF(D!W27=\"\",\"\",M32+1)","v":""},{"$f":"IF(D!W27=0,\"\",D!W27)","v":""},{"$f":"IF(D!X27=0,\"\",D!X27)","v":""},{"$f":"IF(D!Y27=0,\"\",D!Y27)","v":""}]
[{"$f":"IF(D!A28=\"\",\"\",A33+1)","v":""},{"$f":"IF(D!A28=0,\"\",D!A28)","v":""},{"$f":"IF(D!B28=0,\"\",D!B28)","v":""},{"$f":"IF(D!C28=0,\"\",D!C28)","v":""},null,26,{"$f":"IF(D!E28=\"\",\"\",G33+1)","v":""},{"$f":"IF(D!E28=0,\"\",D!E28)","v":""},{"$f":"IF(D!F28=0,\"\",D!F28)","v":""},{"$f":"IF(D!G28=0,\"\",D!G28)","v":""},null,26,{"$f":"IF(D!W28=\"\",\"\",M33+1)","v":""},{"$f":"IF(D!W28=0,\"\",D!W28)","v":""},{"$f":"IF(D!X28=0,\"\",D!X28)","v":""},{"$f":"IF(D!Y28=0,\"\",D!Y28)","v":""}]
[{"$f":"IF(D!A29=\"\",\"\",A34+1)","v":""},{"$f":"IF(D!A29=0,\"\",D!A29)","v":""},{"$f":"IF(D!B29=0,\"\",D!B29)","v":""},{"$f":"IF(D!C29=0,\"\",D!C29)","v":""},null,27,{"$f":"IF(D!E29=\"\",\"\",G34+1)","v":""},{"$f":"IF(D!E29=0,\"\",D!E29)","v":""},{"$f":"IF(D!F29=0,\"\",D!F29)","v":""},{"$f":"IF(D!G29=0,\"\",D!G29)","v":""},null,27,{"$f":"IF(D!W29=\"\",\"\",M34+1)","v":""},{"$f":"IF(D!W29=0,\"\",D!W29)","v":""},{"$f":"IF(D!X29=0,\"\",D!X29)","v":""},{"$f":"IF(D!Y29=0,\"\",D!Y29)","v":""}]
[{"$f":"IF(D!A30=\"\",\"\",A35+1)","v":""},{"$f":"IF(D!A30=0,\"\",D!A30)","v":""},{"$f":"IF(D!B30=0,\"\",D!B30)","v":""},{"$f":"IF(D!C30=0,\"\",D!C30)","v":""},null,28,{"$f":"IF(D!E30=\"\",\"\",G35+1)","v":""},{"$f":"IF(D!E30=0,\"\",D!E30)","v":""},{"$f":"IF(D!F30=0,\"\",D!F30)","v":""},{"$f":"IF(D!G30=0,\"\",D!G30)","v":""},null,28,{"$f":"IF(D!W30=\"\",\"\",M35+1)","v":""},{"$f":"IF(D!W30=0,\"\",D!W30)","v":""},{"$f":"IF(D!X30=0,\"\",D!X30)","v":""},{"$f":"IF(D!Y30=0,\"\",D!Y30)","v":""}]
[{"$f":"IF(D!A31=\"\",\"\",A36+1)","v":""},{"$f":"IF(D!A31=0,\"\",D!A31)","v":""},{"$f":"IF(D!B31=0,\"\",D!B31)","v":""},{"$f":"IF(D!C31=0,\"\",D!C31)","v":""},null,29,{"$f":"IF(D!E31=\"\",\"\",G36+1)","v":""},{"$f":"IF(D!E31=0,\"\",D!E31)","v":""},{"$f":"IF(D!F31=0,\"\",D!F31)","v":""},{"$f":"IF(D!G31=0,\"\",D!G31)","v":""},null,29,{"$f":"IF(D!W31=\"\",\"\",M36+1)","v":""},{"$f":"IF(D!W31=0,\"\",D!W31)","v":""},{"$f":"IF(D!X31=0,\"\",D!X31)","v":""},{"$f":"IF(D!Y31=0,\"\",D!Y31)","v":""}]
[{"$f":"IF(D!A32=\"\",\"\",A37+1)","v":""},{"$f":"IF(D!A32=0,\"\",D!A32)","v":""},{"$f":"IF(D!B32=0,\"\",D!B32)","v":""},{"$f":"IF(D!C32=0,\"\",D!C32)","v":""},null,30,{"$f":"IF(D!E32=\"\",\"\",G37+1)","v":""},{"$f":"IF(D!E32=0,\"\",D!E32)","v":""},{"$f":"IF(D!F32=0,\"\",D!F32)","v":""},{"$f":"IF(D!G32=0,\"\",D!G32)","v":""},null,30,{"$f":"IF(D!W32=\"\",\"\",M37+1)","v":""},{"$f":"IF(D!W32=0,\"\",D!W32)","v":""},{"$f":"IF(D!X32=0,\"\",D!X32)","v":""},{"$f":"IF(D!Y32=0,\"\",D!Y32)","v":""}]
[{"$f":"IF(D!A33=\"\",\"\",A38+1)","v":""},{"$f":"IF(D!A33=0,\"\",D!A33)","v":""},{"$f":"IF(D!B33=0,\"\",D!B33)","v":""},{"$f":"IF(D!C33=0,\"\",D!C33)","v":""},null,null,{"$f":"IF(D!E33=\"\",\"\",G38+1)","v":""},{"$f":"IF(D!E33=0,\"\",D!E33)","v":""},{"$f":"IF(D!F33=0,\"\",D!F33)","v":""},{"$f":"IF(D!G33=0,\"\",D!G33)","v":""},null,31,{"$f":"IF(D!W33=\"\",\"\",M38+1)","v":""},{"$f":"IF(D!W33=0,\"\",D!W33)","v":""},{"$f":"IF(D!X33=0,\"\",D!X33)","v":""},{"$f":"IF(D!Y33=0,\"\",D!Y33)","v":""}]
[{"$f":"IF(D!A34=\"\",\"\",A39+1)","v":""},{"$f":"IF(D!A34=0,\"\",D!A34)","v":""},{"$f":"IF(D!B34=0,\"\",D!B34)","v":""},{"$f":"IF(D!C34=0,\"\",D!C34)","v":""},null,null,{"$f":"IF(D!E34=\"\",\"\",G39+1)","v":""},{"$f":"IF(D!E34=0,\"\",D!E34)","v":""},{"$f":"IF(D!F34=0,\"\",D!F34)","v":""},{"$f":"IF(D!G34=0,\"\",D!G34)","v":""},null,32,{"$f":"IF(D!W34=\"\",\"\",M39+1)","v":""},{"$f":"IF(D!W34=0,\"\",D!W34)","v":""},{"$f":"IF(D!X34=0,\"\",D!X34)","v":""},{"$f":"IF(D!Y34=0,\"\",D!Y34)","v":""}]
[{"$f":"IF(D!A35=\"\",\"\",A40+1)","v":""},{"$f":"IF(D!A35=0,\"\",D!A35)","v":""},{"$f":"IF(D!B35=0,\"\",D!B35)","v":""},{"$f":"IF(D!C35=0,\"\",D!C35)","v":""},null,null,{"$f":"IF(D!E35=\"\",\"\",G40+1)","v":""},{"$f":"IF(D!E35=0,\"\",D!E35)","v":""},{"$f":"IF(D!F35=0,\"\",D!F35)","v":""},{"$f":"IF(D!G35=0,\"\",D!G35)","v":""},null,33,{"$f":"IF(D!W35=\"\",\"\",M40+1)","v":""},{"$f":"IF(D!W35=0,\"\",D!W35)","v":""},{"$f":"IF(D!X35=0,\"\",D!X35)","v":""},{"$f":"IF(D!Y35=0,\"\",D!Y35)","v":""}]
[{"$f":"IF(D!A36=\"\",\"\",A41+1)","v":""},{"$f":"IF(D!A36=0,\"\",D!A36)","v":""},{"$f":"IF(D!B36=0,\"\",D!B36)","v":""},{"$f":"IF(D!C36=0,\"\",D!C36)","v":""},null,null,{"$f":"IF(D!E36=\"\",\"\",G41+1)","v":""},{"$f":"IF(D!E36=0,\"\",D!E36)","v":""},{"$f":"IF(D!F36=0,\"\",D!F36)","v":""},{"$f":"IF(D!G36=0,\"\",D!G36)","v":""},null,34,{"$f":"IF(D!W36=\"\",\"\",M41+1)","v":""},{"$f":"IF(D!W36=0,\"\",D!W36)","v":""},{"$f":"IF(D!X36=0,\"\",D!X36)","v":""},{"$f":"IF(D!Y36=0,\"\",D!Y36)","v":""}]
[{"$f":"IF(D!A37=\"\",\"\",A42+1)","v":""},{"$f":"IF(D!A37=0,\"\",D!A37)","v":""},{"$f":"IF(D!B37=0,\"\",D!B37)","v":""},{"$f":"IF(D!C37=0,\"\",D!C37)","v":""},null,null,{"$f":"IF(D!E37=\"\",\"\",G42+1)","v":""},{"$f":"IF(D!E37=0,\"\",D!E37)","v":""},{"$f":"IF(D!F37=0,\"\",D!F37)","v":""},{"$f":"IF(D!G37=0,\"\",D!G37)","v":""},null,35,{"$f":"IF(D!W37=\"\",\"\",M42+1)","v":""},{"$f":"IF(D!W37=0,\"\",D!W37)","v":""},{"$f":"IF(D!X37=0,\"\",D!X37)","v":""},{"$f":"IF(D!Y37=0,\"\",D!Y37)","v":""}]

{"sheet":"Seite-2","index":6,"n_rows":26,"n_cols":14,"rows_kept":26,"cut":false,"hidden":false,"merged":[[25,0,31,13],[2,10,2,13],[4,10,4,13],[5,10,5,13],[0,0,0,13],[2,0,2,2],[5,0,5,2],[4,0,4,2],[2,5,2,7],[4,5,4,7],[5,5,5,7]]}
["Schützenverein Soderstorf e.V.\nvon 1922"]
[]
["Jugendpokal",null,null,null,null,"Schülerpokal",null,null,null,null,"Preisschießen"]
[]
["Bester Schütze/in:",null,null,null,null,"Bester Schütze/in:",null,null,null,null,"\"Top Fünfzehn\""]
[{"$f":"IF(D!AL3=0,\"\",CONCATENATE(D!AM3,\", \",D!AL3,\", \",D!AN3,\" \",\"Ringe\"))","v":", , 0 Ringe"},null,null,null,null,{"$f":"IF(D!AP3=0,\"\",CONCATENATE(D!AQ3,\", \",D!AP3,\", \",D!AR3,\" \",\"Ringe\"))","v":", , 0 Ringe"}]
[]
["Platz:","Verein:","Ringe:",null,null,"Platz:","Verein:","Ringe:",null,null,"Platz:","Verein:","Name:","Teiler:"]
[{"$f":"IF(D!AF3=\"\",\"\",1)","v":""},{"$f":"IF(D!AF3=0,\"\",D!AF3)","v":""},{"$f":"IF(D!AG3=0,\"\",D!AG3)","v":""},null,1,{"$f":"IF(D!AI3=\"\",\"\",1)","v":""},{"$f":"IF(D!AI3=0,\"\",D!AI3)","v":""},{"$f":"IF(D!AJ3=0,\"\",D!AJ3)","v":""},null,1,{"$f":"IF(D!S3=\"\",\"\",1)","v":""},{"$f":"IF(D!S3=\"\",\"\",D!S3)","v":""},{"$f":"IF(D!T3=\"\",\"\",D!T3)","v":""},{"$f":"IF(D!U3=\"\",\"\",D!U3)","v":""}]
[{"$f":"IF(D!AF4=\"\",\"\",A9+1)","v":""},{"$f":"IF(D!AF4=0,\"\",D!AF4)","v":""},{"$f":"IF(D!AG4=0,\"\",D!AG4)","v":""},null,2,{"$f":"IF(D!AI4=\"\",\"\",F9+1)","v":""},{"$f":"IF(D!AI4=0,\"\",D!AI4)","v":""},{"$f":"IF(D!AJ4=0,\"\",D!AJ4)","v":""},null,2,{"$f":"IF(D!S4=\"\",\"\",K9+1)","v":""},{"$f":"IF(D!S4=\"\",\"\",D!S4)","v":""},{"$f":"IF(D!T4=\"\",\"\",D!T4)","v":""},{"$f":"IF(D!U4=\"\",\"\",D!U4)","v":""}]
[{"$f":"IF(D!AF5=\"\",\"\",A10+1)","v":""},{"$f":"IF(D!AF5=0,\"\",D!AF5)","v":""},{"$f":"IF(D!AG5=0,\"\",D!AG5)","v":""},null,3,{"$f":"IF(D!AI5=\"\",\"\",F10+1)","v":""},{"$f":"IF(D!AI5=0,\"\",D!AI5)","v":""},{"$f":"IF(D!AJ5=0,\"\",D!AJ5)","v":""},null,3,{"$f":"IF(D!S5=\"\",\"\",K10+1)","v":""},{"$f":"IF(D!S5=\"\",\"\",D!S5)","v":""},{"$f":"IF(D!T5=\"\",\"\",D!T5)","v":""},{"$f":"IF(D!U5=\"\",\"\",D!U5)","v":""}]
[{"$f":"IF(D!AF6=\"\",\"\",A11+1)","v":""},{"$f":"IF(D!AF6=0,\"\",D!AF6)","v":""},{"$f":"IF(D!AG6=0,\"\",D!AG6)","v":""},null,4,{"$f":"IF(D!AI6=\"\",\"\",F11+1)","v":""},{"$f":"IF(D!AI6=0,\"\",D!AI6)","v":""},{"$f":"IF(D!AJ6=0,\"\",D!AJ6)","v":""},null,4,{"$f":"IF(D!S6=\"\",\"\",K11+1)","v":""},{"$f":"IF(D!S6=\"\",\"\",D!S6)","v":""},{"$f":"IF(D!T6=\"\",\"\",D!T6)","v":""},{"$f":"IF(D!U6=\"\",\"\",D!U6)","v":""}]
[{"$f":"IF(D!AF7=\"\",\"\",A12+1)","v":""},{"$f":"IF(D!AF7=0,\"\",D!AF7)","v":""},{"$f":"IF(D!AG7=0,\"\",D!AG7)","v":""},null,5,{"$f":"IF(D!AI7=\"\",\"\",F12+1)","v":""},{"$f":"IF(D!AI7=0,\"\",D!AI7)","v":""},{"$f":"IF(D!AJ7=0,\"\",D!AJ7)","v":""},null,5,{"$f":"IF(D!S7=\"\",\"\",K12+1)","v":""},{"$f":"IF(D!S7=\"\",\"\",D!S7)","v":""},{"$f":"IF(D!T7=\"\",\"\",D!T7)","v":""},{"$f":"IF(D!U7=\"\",\"\",D!U7)","v":""}]
[{"$f":"IF(D!AF8=\"\",\"\",A13+1)","v":""},{"$f":"IF(D!AF8=0,\"\",D!AF8)","v":""},{"$f":"IF(D!AG8=0,\"\",D!AG8)","v":""},null,6,{"$f":"IF(D!AI8=\"\",\"\",F13+1)","v":""},{"$f":"IF(D!AI8=0,\"\",D!AI8)","v":""},{"$f":"IF(D!AJ8=0,\"\",D!AJ8)","v":""},null,6,{"$f":"IF(D!S8=\"\",\"\",K13+1)","v":""},{"$f":"IF(D!S8=\"\",\"\",D!S8)","v":""},{"$f":"IF(D!T8=\"\",\"\",D!T8)","v":""},{"$f":"IF(D!U8=\"\",\"\",D!U8)","v":""}]
[{"$f":"IF(D!AF9=\"\",\"\",A14+1)","v":""},{"$f":"IF(D!AF9=0,\"\",D!AF9)","v":""},{"$f":"IF(D!AG9=0,\"\",D!AG9)","v":""},null,7,{"$f":"IF(D!AI9=\"\",\"\",F14+1)","v":""},{"$f":"IF(D!AI9=0,\"\",D!AI9)","v":""},{"$f":"IF(D!AJ9=0,\"\",D!AJ9)","v":""},null,7,{"$f":"IF(D!S9=\"\",\"\",K14+1)","v":""},{"$f":"IF(D!S9=\"\",\"\",D!S9)","v":""},{"$f":"IF(D!T9=\"\",\"\",D!T9)","v":""},{"$f":"IF(D!U9=\"\",\"\",D!U9)","v":""}]
[{"$f":"IF(D!AF10=\"\",\"\",A15+1)","v":""},{"$f":"IF(D!AF10=0,\"\",D!AF10)","v":""},{"$f":"IF(D!AG10=0,\"\",D!AG10)","v":""},null,8,{"$f":"IF(D!AI10=\"\",\"\",F15+1)","v":""},{"$f":"IF(D!AI10=0,\"\",D!AI10)","v":""},{"$f":"IF(D!AJ10=0,\"\",D!AJ10)","v":""},null,8,{"$f":"IF(D!S10=\"\",\"\",K15+1)","v":""},{"$f":"IF(D!S10=\"\",\"\",D!S10)","v":""},{"$f":"IF(D!T10=\"\",\"\",D!T10)","v":""},{"$f":"IF(D!U10=\"\",\"\",D!U10)","v":""}]
[{"$f":"IF(D!AF11=\"\",\"\",A16+1)","v":""},{"$f":"IF(D!AF11=0,\"\",D!AF11)","v":""},{"$f":"IF(D!AG11=0,\"\",D!AG11)","v":""},null,9,{"$f":"IF(D!AI11=\"\",\"\",F16+1)","v":""},{"$f":"IF(D!AI11=0,\"\",D!AI11)","v":""},{"$f":"IF(D!AJ11=0,\"\",D!AJ11)","v":""},null,9,{"$f":"IF(D!S11=\"\",\"\",K16+1)","v":""},{"$f":"IF(D!S11=\"\",\"\",D!S11)","v":""},{"$f":"IF(D!T11=\"\",\"\",D!T11)","v":""},{"$f":"IF(D!U11=\"\",\"\",D!U11)","v":""}]
[{"$f":"IF(D!AF12=\"\",\"\",A17+1)","v":""},{"$f":"IF(D!AF12=0,\"\",D!AF12)","v":""},{"$f":"IF(D!AG12=0,\"\",D!AG12)","v":""},null,10,{"$f":"IF(D!AI12=\"\",\"\",F17+1)","v":""},{"$f":"IF(D!AI12=0,\"\",D!AI12)","v":""},{"$f":"IF(D!AJ12=0,\"\",D!AJ12)","v":""},null,10,{"$f":"IF(D!S12=\"\",\"\",K17+1)","v":""},{"$f":"IF(D!S12=\"\",\"\",D!S12)","v":""},{"$f":"IF(D!T12=\"\",\"\",D!T12)","v":""},{"$f":"IF(D!U12=\"\",\"\",D!U12)","v":""}]
[{"$f":"IF(D!AF13=\"\",\"\",A18+1)","v":""},{"$f":"IF(D!AF13=0,\"\",D!AF13)","v":""},{"$f":"IF(D!AG13=0,\"\",D!AG13)","v":""},null,11,{"$f":"IF(D!AI13=\"\",\"\",F18+1)","v":""},{"$f":"IF(D!AI13=0,\"\",D!AI13)","v":""},{"$f":"IF(D!AJ13=0,\"\",D!AJ13)","v":""},null,11,{"$f":"IF(D!S13=\"\",\"\",K18+1)","v":""},{"$f":"IF(D!S13=\"\",\"\",D!S13)","v":""},{"$f":"IF(D!T13=\"\",\"\",D!T13)","v":""},{"$f":"IF(D!U13=\"\",\"\",D!U13)","v":""}]
[{"$f":"IF(D!AF14=\"\",\"\",A19+1)","v":""},{"$f":"IF(D!AF14=0,\"\",D!AF14)","v":""},{"$f":"IF(D!AG14=0,\"\",D!AG14)","v":""},null,12,{"$f":"IF(D!AI14=\"\",\"\",F19+1)","v":""},{"$f":"IF(D!AI14=0,\"\",D!AI14)","v":""},{"$f":"IF(D!AJ14=0,\"\",D!AJ14)","v":""},null,12,{"$f":"IF(D!S14=\"\",\"\",K19+1)","v":""},{"$f":"IF(D!S14=\"\",\"\",D!S14)","v":""},{"$f":"IF(D!T14=\"\",\"\",D!T14)","v":""},{"$f":"IF(D!U14=\"\",\"\",D!U14)","v":""}]
[{"$f":"IF(D!AF15=\"\",\"\",A20+1)","v":""},{"$f":"IF(D!AF15=0,\"\",D!AF15)","v":""},{"$f":"IF(D!AG15=0,\"\",D!AG15)","v":""},null,13,{"$f":"IF(D!AI15=\"\",\"\",F20+1)","v":""},{"$f":"IF(D!AI15=0,\"\",D!AI15)","v":""},{"$f":"IF(D!AJ15=0,\"\",D!AJ15)","v":""},null,13,{"$f":"IF(D!S15=\"\",\"\",K20+1)","v":""},{"$f":"IF(D!S15=\"\",\"\",D!S15)","v":""},{"$f":"IF(D!T15=\"\",\"\",D!T15)","v":""},{"$f":"IF(D!U15=\"\",\"\",D!U15)","v":""}]
[{"$f":"IF(D!AF16=\"\",\"\",A21+1)","v":""},{"$f":"IF(D!AF16=0,\"\",D!AF16)","v":""},{"$f":"IF(D!AG16=0,\"\",D!AG16)","v":""},null,14,{"$f":"IF(D!AI16=\"\",\"\",F21+1)","v":""},{"$f":"IF(D!AI16=0,\"\",D!AI16)","v":""},{"$f":"IF(D!AJ16=0,\"\",D!AJ16)","v":""},null,14,{"$f":"IF(D!S16=\"\",\"\",K21+1)","v":""},{"$f":"IF(D!S16=\"\",\"\",D!S16)","v":""},{"$f":"IF(D!T16=\"\",\"\",D!T16)","v":""},{"$f":"IF(D!U16=\"\",\"\",D!U16)","v":""}]
[{"$f":"IF(D!AF17=\"\",\"\",A22+1)","v":""},{"$f":"IF(D!AF17=0,\"\",D!AF17)","v":""},{"$f":"IF(D!AG17=0,\"\",D!AG17)","v":""},null,15,{"$f":"IF(D!AI17=\"\",\"\",F22+1)","v":""},{"$f":"IF(D!AI17=0,\"\",D!AI17)","v":""},{"$f":"IF(D!AJ17=0,\"\",D!AJ17)","v":""},null,15,{"$f":"IF(D!S17=\"\",\"\",K22+1)","v":""},{"$f":"IF(D!S17=\"\",\"\",D!S17)","v":""},{"$f":"IF(D!T17=\"\",\"\",D!T17)","v":""},{"$f":"IF(D!U17=\"\",\"\",D!U17)","v":""}]
[]
[]
["Die Pokal und Preisverteilung findet am 24.07.2015 um 19:30 Uhr in der Schützenhalle in Soderstorf statt.\nNicht abgeholte Preise und Pokale gehen in den Besitz des SV-Soderstorf über !\n\nVielen Dank für Eure rege Teilnahme am Preis und Pokalschießen !!\nBei Rückfragen: Rolf Marquardt, Westerfeld 19, 21388 Soderstorf, Tel. 04132-7791"]

{"sheet":"Preisteiler gesamt","index":7,"n_rows":202,"n_cols":4,"rows_kept":202,"cut":false,"hidden":false,"merged":[[0,0,0,3]]}
["Preisteilerübersichtsliste gesamt"]
["Platz:","Verein:","Vor- und Nachname:","Teiler:"]
[{"$f":"IF(B3=\"\",\"\",1)","v":""},{"$f":"IF(D!S3=\"\",\"\",D!S3)","v":""},{"$f":"IF(D!T3=\"\",\"\",D!T3)","v":""},{"$f":"IF(D!U3=\"\",\"\",D!U3)","v":""}]
[{"$f":"IF(B4=\"\",\"\",A3+1)","v":""},{"$f":"IF(D!S4=\"\",\"\",D!S4)","v":""},{"$f":"IF(D!T4=\"\",\"\",D!T4)","v":""},{"$f":"IF(D!U4=\"\",\"\",D!U4)","v":""}]
[{"$f":"IF(B5=\"\",\"\",A4+1)","v":""},{"$f":"IF(D!S5=\"\",\"\",D!S5)","v":""},{"$f":"IF(D!T5=\"\",\"\",D!T5)","v":""},{"$f":"IF(D!U5=\"\",\"\",D!U5)","v":""}]
["",{"$f":"IF(D!S6=\"\",\"\",D!S6)","v":""},{"$f":"IF(D!T6=\"\",\"\",D!T6)","v":""},{"$f":"IF(D!U6=\"\",\"\",D!U6)","v":""}]
["",{"$f":"IF(D!S7=\"\",\"\",D!S7)","v":""},{"$f":"IF(D!T7=\"\",\"\",D!T7)","v":""},{"$f":"IF(D!U7=\"\",\"\",D!U7)","v":""}]
["",{"$f":"IF(D!S8=\"\",\"\",D!S8)","v":""},{"$f":"IF(D!T8=\"\",\"\",D!T8)","v":""},{"$f":"IF(D!U8=\"\",\"\",D!U8)","v":""}]
["",{"$f":"IF(D!S9=\"\",\"\",D!S9)","v":""},{"$f":"IF(D!T9=\"\",\"\",D!T9)","v":""},{"$f":"IF(D!U9=\"\",\"\",D!U9)","v":""}]
["",{"$f":"IF(D!S10=\"\",\"\",D!S10)","v":""},{"$f":"IF(D!T10=\"\",\"\",D!T10)","v":""},{"$f":"IF(D!U10=\"\",\"\",D!U10)","v":""}]
["",{"$f":"IF(D!S11=\"\",\"\",D!S11)","v":""},{"$f":"IF(D!T11=\"\",\"\",D!T11)","v":""},{"$f":"IF(D!U11=\"\",\"\",D!U11)","v":""}]
["",{"$f":"IF(D!S12=\"\",\"\",D!S12)","v":""},{"$f":"IF(D!T12=\"\",\"\",D!T12)","v":""},{"$f":"IF(D!U12=\"\",\"\",D!U12)","v":""}]
["",{"$f":"IF(D!S13=\"\",\"\",D!S13)","v":""},{"$f":"IF(D!T13=\"\",\"\",D!T13)","v":""},{"$f":"IF(D!U13=\"\",\"\",D!U13)","v":""}]
["",{"$f":"IF(D!S14=\"\",\"\",D!S14)","v":""},{"$f":"IF(D!T14=\"\",\"\",D!T14)","v":""},{"$f":"IF(D!U14=\"\",\"\",D!U14)","v":""}]
["",{"$f":"IF(D!S15=\"\",\"\",D!S15)","v":""},{"$f":"IF(D!T15=\"\",\"\",D!T15)","v":""},{"$f":"IF(D!U15=\"\",\"\",D!U15)","v":""}]
["",{"$f":"IF(D!S16=\"\",\"\",D!S16)","v":""},{"$f":"IF(D!T16=\"\",\"\",D!T16)","v":""},{"$f":"IF(D!U16=\"\",\"\",D!U16)","v":""}]
["",{"$f":"IF(D!S17=\"\",\"\",D!S17)","v":""},{"$f":"IF(D!T17=\"\",\"\",D!T17)","v":""},{"$f":"IF(D!U17=\"\",\"\",D!U17)","v":""}]
["",{"$f":"IF(D!S18=\"\",\"\",D!S18)","v":""},{"$f":"IF(D!T18=\"\",\"\",D!T18)","v":""},{"$f":"IF(D!U18=\"\",\"\",D!U18)","v":""}]
["",{"$f":"IF(D!S19=\"\",\"\",D!S19)","v":""},{"$f":"IF(D!T19=\"\",\"\",D!T19)","v":""},{"$f":"IF(D!U19=\"\",\"\",D!U19)","v":""}]
["",{"$f":"IF(D!S20=\"\",\"\",D!S20)","v":""},{"$f":"IF(D!T20=\"\",\"\",D!T20)","v":""},{"$f":"IF(D!U20=\"\",\"\",D!U20)","v":""}]
["",{"$f":"IF(D!S21=\"\",\"\",D!S21)","v":""},{"$f":"IF(D!T21=\"\",\"\",D!T21)","v":""},{"$f":"IF(D!U21=\"\",\"\",D!U21)","v":""}]
["",{"$f":"IF(D!S22=\"\",\"\",D!S22)","v":""},{"$f":"IF(D!T22=\"\",\"\",D!T22)","v":""},{"$f":"IF(D!U22=\"\",\"\",D!U22)","v":""}]
["",{"$f":"IF(D!S23=\"\",\"\",D!S23)","v":""},{"$f":"IF(D!T23=\"\",\"\",D!T23)","v":""},{"$f":"IF(D!U23=\"\",\"\",D!U23)","v":""}]
["",{"$f":"IF(D!S24=\"\",\"\",D!S24)","v":""},{"$f":"IF(D!T24=\"\",\"\",D!T24)","v":""},{"$f":"IF(D!U24=\"\",\"\",D!U24)","v":""}]
["",{"$f":"IF(D!S25=\"\",\"\",D!S25)","v":""},{"$f":"IF(D!T25=\"\",\"\",D!T25)","v":""},{"$f":"IF(D!U25=\"\",\"\",D!U25)","v":""}]
["",{"$f":"IF(D!S26=\"\",\"\",D!S26)","v":""},{"$f":"IF(D!T26=\"\",\"\",D!T26)","v":""},{"$f":"IF(D!U26=\"\",\"\",D!U26)","v":""}]
["",{"$f":"IF(D!S27=\"\",\"\",D!S27)","v":""},{"$f":"IF(D!T27=\"\",\"\",D!T27)","v":""},{"$f":"IF(D!U27=\"\",\"\",D!U27)","v":""}]
["",{"$f":"IF(D!S28=\"\",\"\",D!S28)","v":""},{"$f":"IF(D!T28=\"\",\"\",D!T28)","v":""},{"$f":"IF(D!U28=\"\",\"\",D!U28)","v":""}]
["",{"$f":"IF(D!S29=\"\",\"\",D!S29)","v":""},{"$f":"IF(D!T29=\"\",\"\",D!T29)","v":""},{"$f":"IF(D!U29=\"\",\"\",D!U29)","v":""}]
["",{"$f":"IF(D!S30=\"\",\"\",D!S30)","v":""},{"$f":"IF(D!T30=\"\",\"\",D!T30)","v":""},{"$f":"IF(D!U30=\"\",\"\",D!U30)","v":""}]
["",{"$f":"IF(D!S31=\"\",\"\",D!S31)","v":""},{"$f":"IF(D!T31=\"\",\"\",D!T31)","v":""},{"$f":"IF(D!U31=\"\",\"\",D!U31)","v":""}]
["",{"$f":"IF(D!S32=\"\",\"\",D!S32)","v":""},{"$f":"IF(D!T32=\"\",\"\",D!T32)","v":""},{"$f":"IF(D!U32=\"\",\"\",D!U32)","v":""}]
["",{"$f":"IF(D!S33=\"\",\"\",D!S33)","v":""},{"$f":"IF(D!T33=\"\",\"\",D!T33)","v":""},{"$f":"IF(D!U33=\"\",\"\",D!U33)","v":""}]
["",{"$f":"IF(D!S34=\"\",\"\",D!S34)","v":""},{"$f":"IF(D!T34=\"\",\"\",D!T34)","v":""},{"$f":"IF(D!U34=\"\",\"\",D!U34)","v":""}]
["",{"$f":"IF(D!S35=\"\",\"\",D!S35)","v":""},{"$f":"IF(D!T35=\"\",\"\",D!T35)","v":""},{"$f":"IF(D!U35=\"\",\"\",D!U35)","v":""}]
["",{"$f":"IF(D!S36=\"\",\"\",D!S36)","v":""},{"$f":"IF(D!T36=\"\",\"\",D!T36)","v":""},{"$f":"IF(D!U36=\"\",\"\",D!U36)","v":""}]
["",{"$f":"IF(D!S37=\"\",\"\",D!S37)","v":""},{"$f":"IF(D!T37=\"\",\"\",D!T37)","v":""},{"$f":"IF(D!U37=\"\",\"\",D!U37)","v":""}]
["",{"$f":"IF(D!S38=\"\",\"\",D!S38)","v":""},{"$f":"IF(D!T38=\"\",\"\",D!T38)","v":""},{"$f":"IF(D!U38=\"\",\"\",D!U38)","v":""}]
["",{"$f":"IF(D!S39=\"\",\"\",D!S39)","v":""},{"$f":"IF(D!T39=\"\",\"\",D!T39)","v":""},{"$f":"IF(D!U39=\"\",\"\",D!U39)","v":""}]
["",{"$f":"IF(D!S40=\"\",\"\",D!S40)","v":""},{"$f":"IF(D!T40=\"\",\"\",D!T40)","v":""},{"$f":"IF(D!U40=\"\",\"\",D!U40)","v":""}]
["",{"$f":"IF(D!S41=\"\",\"\",D!S41)","v":""},{"$f":"IF(D!T41=\"\",\"\",D!T41)","v":""},{"$f":"IF(D!U41=\"\",\"\",D!U41)","v":""}]
["",{"$f":"IF(D!S42=\"\",\"\",D!S42)","v":""},{"$f":"IF(D!T42=\"\",\"\",D!T42)","v":""},{"$f":"IF(D!U42=\"\",\"\",D!U42)","v":""}]
["",{"$f":"IF(D!S43=\"\",\"\",D!S43)","v":""},{"$f":"IF(D!T43=\"\",\"\",D!T43)","v":""},{"$f":"IF(D!U43=\"\",\"\",D!U43)","v":""}]
["",{"$f":"IF(D!S44=\"\",\"\",D!S44)","v":""},{"$f":"IF(D!T44=\"\",\"\",D!T44)","v":""},{"$f":"IF(D!U44=\"\",\"\",D!U44)","v":""}]
["",{"$f":"IF(D!S45=\"\",\"\",D!S45)","v":""},{"$f":"IF(D!T45=\"\",\"\",D!T45)","v":""},{"$f":"IF(D!U45=\"\",\"\",D!U45)","v":""}]
["",{"$f":"IF(D!S46=\"\",\"\",D!S46)","v":""},{"$f":"IF(D!T46=\"\",\"\",D!T46)","v":""},{"$f":"IF(D!U46=\"\",\"\",D!U46)","v":""}]
["",{"$f":"IF(D!S47=\"\",\"\",D!S47)","v":""},{"$f":"IF(D!T47=\"\",\"\",D!T47)","v":""},{"$f":"IF(D!U47=\"\",\"\",D!U47)","v":""}]
["",{"$f":"IF(D!S48=\"\",\"\",D!S48)","v":""},{"$f":"IF(D!T48=\"\",\"\",D!T48)","v":""},{"$f":"IF(D!U48=\"\",\"\",D!U48)","v":""}]
["",{"$f":"IF(D!S49=\"\",\"\",D!S49)","v":""},{"$f":"IF(D!T49=\"\",\"\",D!T49)","v":""},{"$f":"IF(D!U49=\"\",\"\",D!U49)","v":""}]
["",{"$f":"IF(D!S50=\"\",\"\",D!S50)","v":""},{"$f":"IF(D!T50=\"\",\"\",D!T50)","v":""},{"$f":"IF(D!U50=\"\",\"\",D!U50)","v":""}]
["",{"$f":"IF(D!S51=\"\",\"\",D!S51)","v":""},{"$f":"IF(D!T51=\"\",\"\",D!T51)","v":""},{"$f":"IF(D!U51=\"\",\"\",D!U51)","v":""}]
["",{"$f":"IF(D!S52=\"\",\"\",D!S52)","v":""},{"$f":"IF(D!T52=\"\",\"\",D!T52)","v":""},{"$f":"IF(D!U52=\"\",\"\",D!U52)","v":""}]
["",{"$f":"IF(D!S53=\"\",\"\",D!S53)","v":""},{"$f":"IF(D!T53=\"\",\"\",D!T53)","v":""},{"$f":"IF(D!U53=\"\",\"\",D!U53)","v":""}]
["",{"$f":"IF(D!S54=\"\",\"\",D!S54)","v":""},{"$f":"IF(D!T54=\"\",\"\",D!T54)","v":""},{"$f":"IF(D!U54=\"\",\"\",D!U54)","v":""}]
["",{"$f":"IF(D!S55=\"\",\"\",D!S55)","v":""},{"$f":"IF(D!T55=\"\",\"\",D!T55)","v":""},{"$f":"IF(D!U55=\"\",\"\",D!U55)","v":""}]
["",{"$f":"IF(D!S56=\"\",\"\",D!S56)","v":""},{"$f":"IF(D!T56=\"\",\"\",D!T56)","v":""},{"$f":"IF(D!U56=\"\",\"\",D!U56)","v":""}]
["",{"$f":"IF(D!S57=\"\",\"\",D!S57)","v":""},{"$f":"IF(D!T57=\"\",\"\",D!T57)","v":""},{"$f":"IF(D!U57=\"\",\"\",D!U57)","v":""}]
["",{"$f":"IF(D!S58=\"\",\"\",D!S58)","v":""},{"$f":"IF(D!T58=\"\",\"\",D!T58)","v":""},{"$f":"IF(D!U58=\"\",\"\",D!U58)","v":""}]
["",{"$f":"IF(D!S59=\"\",\"\",D!S59)","v":""},{"$f":"IF(D!T59=\"\",\"\",D!T59)","v":""},{"$f":"IF(D!U59=\"\",\"\",D!U59)","v":""}]
["",{"$f":"IF(D!S60=\"\",\"\",D!S60)","v":""},{"$f":"IF(D!T60=\"\",\"\",D!T60)","v":""},{"$f":"IF(D!U60=\"\",\"\",D!U60)","v":""}]
["",{"$f":"IF(D!S61=\"\",\"\",D!S61)","v":""},{"$f":"IF(D!T61=\"\",\"\",D!T61)","v":""},{"$f":"IF(D!U61=\"\",\"\",D!U61)","v":""}]
["",{"$f":"IF(D!S62=\"\",\"\",D!S62)","v":""},{"$f":"IF(D!T62=\"\",\"\",D!T62)","v":""},{"$f":"IF(D!U62=\"\",\"\",D!U62)","v":""}]
["",{"$f":"IF(D!S63=\"\",\"\",D!S63)","v":""},{"$f":"IF(D!T63=\"\",\"\",D!T63)","v":""},{"$f":"IF(D!U63=\"\",\"\",D!U63)","v":""}]
["",{"$f":"IF(D!S64=\"\",\"\",D!S64)","v":""},{"$f":"IF(D!T64=\"\",\"\",D!T64)","v":""},{"$f":"IF(D!U64=\"\",\"\",D!U64)","v":""}]
["",{"$f":"IF(D!S65=\"\",\"\",D!S65)","v":""},{"$f":"IF(D!T65=\"\",\"\",D!T65)","v":""},{"$f":"IF(D!U65=\"\",\"\",D!U65)","v":""}]
["",{"$f":"IF(D!S66=\"\",\"\",D!S66)","v":""},{"$f":"IF(D!T66=\"\",\"\",D!T66)","v":""},{"$f":"IF(D!U66=\"\",\"\",D!U66)","v":""}]
["",{"$f":"IF(D!S67=\"\",\"\",D!S67)","v":""},{"$f":"IF(D!T67=\"\",\"\",D!T67)","v":""},{"$f":"IF(D!U67=\"\",\"\",D!U67)","v":""}]
["",{"$f":"IF(D!S68=\"\",\"\",D!S68)","v":""},{"$f":"IF(D!T68=\"\",\"\",D!T68)","v":""},{"$f":"IF(D!U68=\"\",\"\",D!U68)","v":""}]
[{"$f":"IF(B69=\"\",\"\",A68+1)","v":""},{"$f":"IF(D!S69=\"\",\"\",D!S69)","v":""},{"$f":"IF(D!T69=\"\",\"\",D!T69)","v":""},{"$f":"IF(D!U69=\"\",\"\",D!U69)","v":""}]
["",{"$f":"IF(D!S70=\"\",\"\",D!S70)","v":""},{"$f":"IF(D!T70=\"\",\"\",D!T70)","v":""},{"$f":"IF(D!U70=\"\",\"\",D!U70)","v":""}]
["",{"$f":"IF(D!S71=\"\",\"\",D!S71)","v":""},{"$f":"IF(D!T71=\"\",\"\",D!T71)","v":""},{"$f":"IF(D!U71=\"\",\"\",D!U71)","v":""}]
["",{"$f":"IF(D!S72=\"\",\"\",D!S72)","v":""},{"$f":"IF(D!T72=\"\",\"\",D!T72)","v":""},{"$f":"IF(D!U72=\"\",\"\",D!U72)","v":""}]
["",{"$f":"IF(D!S73=\"\",\"\",D!S73)","v":""},{"$f":"IF(D!T73=\"\",\"\",D!T73)","v":""},{"$f":"IF(D!U73=\"\",\"\",D!U73)","v":""}]
["",{"$f":"IF(D!S74=\"\",\"\",D!S74)","v":""},{"$f":"IF(D!T74=\"\",\"\",D!T74)","v":""},{"$f":"IF(D!U74=\"\",\"\",D!U74)","v":""}]
["",{"$f":"IF(D!S75=\"\",\"\",D!S75)","v":""},{"$f":"IF(D!T75=\"\",\"\",D!T75)","v":""},{"$f":"IF(D!U75=\"\",\"\",D!U75)","v":""}]
["",{"$f":"IF(D!S76=\"\",\"\",D!S76)","v":""},{"$f":"IF(D!T76=\"\",\"\",D!T76)","v":""},{"$f":"IF(D!U76=\"\",\"\",D!U76)","v":""}]
["",{"$f":"IF(D!S77=\"\",\"\",D!S77)","v":""},{"$f":"IF(D!T77=\"\",\"\",D!T77)","v":""},{"$f":"IF(D!U77=\"\",\"\",D!U77)","v":""}]
["",{"$f":"IF(D!S78=\"\",\"\",D!S78)","v":""},{"$f":"IF(D!T78=\"\",\"\",D!T78)","v":""},{"$f":"IF(D!U78=\"\",\"\",D!U78)","v":""}]
["",{"$f":"IF(D!S79=\"\",\"\",D!S79)","v":""},{"$f":"IF(D!T79=\"\",\"\",D!T79)","v":""},{"$f":"IF(D!U79=\"\",\"\",D!U79)","v":""}]
["",{"$f":"IF(D!S80=\"\",\"\",D!S80)","v":""},{"$f":"IF(D!T80=\"\",\"\",D!T80)","v":""},{"$f":"IF(D!U80=\"\",\"\",D!U80)","v":""}]
["",{"$f":"IF(D!S81=\"\",\"\",D!S81)","v":""},{"$f":"IF(D!T81=\"\",\"\",D!T81)","v":""},{"$f":"IF(D!U81=\"\",\"\",D!U81)","v":""}]
["",{"$f":"IF(D!S82=\"\",\"\",D!S82)","v":""},{"$f":"IF(D!T82=\"\",\"\",D!T82)","v":""},{"$f":"IF(D!U82=\"\",\"\",D!U82)","v":""}]
["",{"$f":"IF(D!S83=\"\",\"\",D!S83)","v":""},{"$f":"IF(D!T83=\"\",\"\",D!T83)","v":""},{"$f":"IF(D!U83=\"\",\"\",D!U83)","v":""}]
["",{"$f":"IF(D!S84=\"\",\"\",D!S84)","v":""},{"$f":"IF(D!T84=\"\",\"\",D!T84)","v":""},{"$f":"IF(D!U84=\"\",\"\",D!U84)","v":""}]
["",{"$f":"IF(D!S85=\"\",\"\",D!S85)","v":""},{"$f":"IF(D!T85=\"\",\"\",D!T85)","v":""},{"$f":"IF(D!U85=\"\",\"\",D!U85)","v":""}]
["",{"$f":"IF(D!S86=\"\",\"\",D!S86)","v":""},{"$f":"IF(D!T86=\"\",\"\",D!T86)","v":""},{"$f":"IF(D!U86=\"\",\"\",D!U86)","v":""}]
["",{"$f":"IF(D!S87=\"\",\"\",D!S87)","v":""},{"$f":"IF(D!T87=\"\",\"\",D!T87)","v":""},{"$f":"IF(D!U87=\"\",\"\",D!U87)","v":""}]
["",{"$f":"IF(D!S88=\"\",\"\",D!S88)","v":""},{"$f":"IF(D!T88=\"\",\"\",D!T88)","v":""},{"$f":"IF(D!U88=\"\",\"\",D!U88)","v":""}]
["",{"$f":"IF(D!S89=\"\",\"\",D!S89)","v":""},{"$f":"IF(D!T89=\"\",\"\",D!T89)","v":""},{"$f":"IF(D!U89=\"\",\"\",D!U89)","v":""}]
["",{"$f":"IF(D!S90=\"\",\"\",D!S90)","v":""},{"$f":"IF(D!T90=\"\",\"\",D!T90)","v":""},{"$f":"IF(D!U90=\"\",\"\",D!U90)","v":""}]
["",{"$f":"IF(D!S91=\"\",\"\",D!S91)","v":""},{"$f":"IF(D!T91=\"\",\"\",D!T91)","v":""},{"$f":"IF(D!U91=\"\",\"\",D!U91)","v":""}]
["",{"$f":"IF(D!S92=\"\",\"\",D!S92)","v":""},{"$f":"IF(D!T92=\"\",\"\",D!T92)","v":""},{"$f":"IF(D!U92=\"\",\"\",D!U92)","v":""}]
["",{"$f":"IF(D!S93=\"\",\"\",D!S93)","v":""},{"$f":"IF(D!T93=\"\",\"\",D!T93)","v":""},{"$f":"IF(D!U93=\"\",\"\",D!U93)","v":""}]
["",{"$f":"IF(D!S94=\"\",\"\",D!S94)","v":""},{"$f":"IF(D!T94=\"\",\"\",D!T94)","v":""},{"$f":"IF(D!U94=\"\",\"\",D!U94)","v":""}]
["",{"$f":"IF(D!S95=\"\",\"\",D!S95)","v":""},{"$f":"IF(D!T95=\"\",\"\",D!T95)","v":""},{"$f":"IF(D!U95=\"\",\"\",D!U95)","v":""}]
["",{"$f":"IF(D!S96=\"\",\"\",D!S96)","v":""},{"$f":"IF(D!T96=\"\",\"\",D!T96)","v":""},{"$f":"IF(D!U96=\"\",\"\",D!U96)","v":""}]
["",{"$f":"IF(D!S97=\"\",\"\",D!S97)","v":""},{"$f":"IF(D!T97=\"\",\"\",D!T97)","v":""},{"$f":"IF(D!U97=\"\",\"\",D!U97)","v":""}]
["",{"$f":"IF(D!S98=\"\",\"\",D!S98)","v":""},{"$f":"IF(D!T98=\"\",\"\",D!T98)","v":""},{"$f":"IF(D!U98=\"\",\"\",D!U98)","v":""}]
["",{"$f":"IF(D!S99=\"\",\"\",D!S99)","v":""},{"$f":"IF(D!T99=\"\",\"\",D!T99)","v":""},{"$f":"IF(D!U99=\"\",\"\",D!U99)","v":""}]
["",{"$f":"IF(D!S100=\"\",\"\",D!S100)","v":""},{"$f":"IF(D!T100=\"\",\"\",D!T100)","v":""},{"$f":"IF(D!U100=\"\",\"\",D!U100)","v":""}]
["",{"$f":"IF(D!S101=\"\",\"\",D!S101)","v":""},{"$f":"IF(D!T101=\"\",\"\",D!T101)","v":""},{"$f":"IF(D!U101=\"\",\"\",D!U101)","v":""}]
["",{"$f":"IF(D!S102=\"\",\"\",D!S102)","v":""},{"$f":"IF(D!T102=\"\",\"\",D!T102)","v":""},{"$f":"IF(D!U102=\"\",\"\",D!U102)","v":""}]
["",{"$f":"IF(D!S103=\"\",\"\",D!S103)","v":""},{"$f":"IF(D!T103=\"\",\"\",D!T103)","v":""},{"$f":"IF(D!U103=\"\",\"\",D!U103)","v":""}]
["",{"$f":"IF(D!S104=\"\",\"\",D!S104)","v":""},{"$f":"IF(D!T104=\"\",\"\",D!T104)","v":""},{"$f":"IF(D!U104=\"\",\"\",D!U104)","v":""}]
["",{"$f":"IF(D!S105=\"\",\"\",D!S105)","v":""},{"$f":"IF(D!T105=\"\",\"\",D!T105)","v":""},{"$f":"IF(D!U105=\"\",\"\",D!U105)","v":""}]
["",{"$f":"IF(D!S106=\"\",\"\",D!S106)","v":""},{"$f":"IF(D!T106=\"\",\"\",D!T106)","v":""},{"$f":"IF(D!U106=\"\",\"\",D!U106)","v":""}]
["",{"$f":"IF(D!S107=\"\",\"\",D!S107)","v":""},{"$f":"IF(D!T107=\"\",\"\",D!T107)","v":""},{"$f":"IF(D!U107=\"\",\"\",D!U107)","v":""}]
["",{"$f":"IF(D!S108=\"\",\"\",D!S108)","v":""},{"$f":"IF(D!T108=\"\",\"\",D!T108)","v":""},{"$f":"IF(D!U108=\"\",\"\",D!U108)","v":""}]
["",{"$f":"IF(D!S109=\"\",\"\",D!S109)","v":""},{"$f":"IF(D!T109=\"\",\"\",D!T109)","v":""},{"$f":"IF(D!U109=\"\",\"\",D!U109)","v":""}]
["",{"$f":"IF(D!S110=\"\",\"\",D!S110)","v":""},{"$f":"IF(D!T110=\"\",\"\",D!T110)","v":""},{"$f":"IF(D!U110=\"\",\"\",D!U110)","v":""}]
["",{"$f":"IF(D!S111=\"\",\"\",D!S111)","v":""},{"$f":"IF(D!T111=\"\",\"\",D!T111)","v":""},{"$f":"IF(D!U111=\"\",\"\",D!U111)","v":""}]
["",{"$f":"IF(D!S112=\"\",\"\",D!S112)","v":""},{"$f":"IF(D!T112=\"\",\"\",D!T112)","v":""},{"$f":"IF(D!U112=\"\",\"\",D!U112)","v":""}]
["",{"$f":"IF(D!S113=\"\",\"\",D!S113)","v":""},{"$f":"IF(D!T113=\"\",\"\",D!T113)","v":""},{"$f":"IF(D!U113=\"\",\"\",D!U113)","v":""}]
["",{"$f":"IF(D!S114=\"\",\"\",D!S114)","v":""},{"$f":"IF(D!T114=\"\",\"\",D!T114)","v":""},{"$f":"IF(D!U114=\"\",\"\",D!U114)","v":""}]
["",{"$f":"IF(D!S115=\"\",\"\",D!S115)","v":""},{"$f":"IF(D!T115=\"\",\"\",D!T115)","v":""},{"$f":"IF(D!U115=\"\",\"\",D!U115)","v":""}]
["",{"$f":"IF(D!S116=\"\",\"\",D!S116)","v":""},{"$f":"IF(D!T116=\"\",\"\",D!T116)","v":""},{"$f":"IF(D!U116=\"\",\"\",D!U116)","v":""}]
["",{"$f":"IF(D!S117=\"\",\"\",D!S117)","v":""},{"$f":"IF(D!T117=\"\",\"\",D!T117)","v":""},{"$f":"IF(D!U117=\"\",\"\",D!U117)","v":""}]
["",{"$f":"IF(D!S118=\"\",\"\",D!S118)","v":""},{"$f":"IF(D!T118=\"\",\"\",D!T118)","v":""},{"$f":"IF(D!U118=\"\",\"\",D!U118)","v":""}]
["",{"$f":"IF(D!S119=\"\",\"\",D!S119)","v":""},{"$f":"IF(D!T119=\"\",\"\",D!T119)","v":""},{"$f":"IF(D!U119=\"\",\"\",D!U119)","v":""}]
["",{"$f":"IF(D!S120=\"\",\"\",D!S120)","v":""},{"$f":"IF(D!T120=\"\",\"\",D!T120)","v":""},{"$f":"IF(D!U120=\"\",\"\",D!U120)","v":""}]
["",{"$f":"IF(D!S121=\"\",\"\",D!S121)","v":""},{"$f":"IF(D!T121=\"\",\"\",D!T121)","v":""},{"$f":"IF(D!U121=\"\",\"\",D!U121)","v":""}]
["",{"$f":"IF(D!S122=\"\",\"\",D!S122)","v":""},{"$f":"IF(D!T122=\"\",\"\",D!T122)","v":""},{"$f":"IF(D!U122=\"\",\"\",D!U122)","v":""}]
["",{"$f":"IF(D!S123=\"\",\"\",D!S123)","v":""},{"$f":"IF(D!T123=\"\",\"\",D!T123)","v":""},{"$f":"IF(D!U123=\"\",\"\",D!U123)","v":""}]
["",{"$f":"IF(D!S124=\"\",\"\",D!S124)","v":""},{"$f":"IF(D!T124=\"\",\"\",D!T124)","v":""},{"$f":"IF(D!U124=\"\",\"\",D!U124)","v":""}]
["",{"$f":"IF(D!S125=\"\",\"\",D!S125)","v":""},{"$f":"IF(D!T125=\"\",\"\",D!T125)","v":""},{"$f":"IF(D!U125=\"\",\"\",D!U125)","v":""}]
["",{"$f":"IF(D!S126=\"\",\"\",D!S126)","v":""},{"$f":"IF(D!T126=\"\",\"\",D!T126)","v":""},{"$f":"IF(D!U126=\"\",\"\",D!U126)","v":""}]
["",{"$f":"IF(D!S127=\"\",\"\",D!S127)","v":""},{"$f":"IF(D!T127=\"\",\"\",D!T127)","v":""},{"$f":"IF(D!U127=\"\",\"\",D!U127)","v":""}]
["",{"$f":"IF(D!S128=\"\",\"\",D!S128)","v":""},{"$f":"IF(D!T128=\"\",\"\",D!T128)","v":""},{"$f":"IF(D!U128=\"\",\"\",D!U128)","v":""}]
["",{"$f":"IF(D!S129=\"\",\"\",D!S129)","v":""},{"$f":"IF(D!T129=\"\",\"\",D!T129)","v":""},{"$f":"IF(D!U129=\"\",\"\",D!U129)","v":""}]
["",{"$f":"IF(D!S130=\"\",\"\",D!S130)","v":""},{"$f":"IF(D!T130=\"\",\"\",D!T130)","v":""},{"$f":"IF(D!U130=\"\",\"\",D!U130)","v":""}]
["",{"$f":"IF(D!S131=\"\",\"\",D!S131)","v":""},{"$f":"IF(D!T131=\"\",\"\",D!T131)","v":""},{"$f":"IF(D!U131=\"\",\"\",D!U131)","v":""}]
["",{"$f":"IF(D!S132=\"\",\"\",D!S132)","v":""},{"$f":"IF(D!T132=\"\",\"\",D!T132)","v":""},{"$f":"IF(D!U132=\"\",\"\",D!U132)","v":""}]
[{"$f":"IF(B133=\"\",\"\",A132+1)","v":""},{"$f":"IF(D!S133=\"\",\"\",D!S133)","v":""},{"$f":"IF(D!T133=\"\",\"\",D!T133)","v":""},{"$f":"IF(D!U133=\"\",\"\",D!U133)","v":""}]
["",{"$f":"IF(D!S134=\"\",\"\",D!S134)","v":""},{"$f":"IF(D!T134=\"\",\"\",D!T134)","v":""},{"$f":"IF(D!U134=\"\",\"\",D!U134)","v":""}]
["",{"$f":"IF(D!S135=\"\",\"\",D!S135)","v":""},{"$f":"IF(D!T135=\"\",\"\",D!T135)","v":""},{"$f":"IF(D!U135=\"\",\"\",D!U135)","v":""}]
["",{"$f":"IF(D!S136=\"\",\"\",D!S136)","v":""},{"$f":"IF(D!T136=\"\",\"\",D!T136)","v":""},{"$f":"IF(D!U136=\"\",\"\",D!U136)","v":""}]
["",{"$f":"IF(D!S137=\"\",\"\",D!S137)","v":""},{"$f":"IF(D!T137=\"\",\"\",D!T137)","v":""},{"$f":"IF(D!U137=\"\",\"\",D!U137)","v":""}]
["",{"$f":"IF(D!S138=\"\",\"\",D!S138)","v":""},{"$f":"IF(D!T138=\"\",\"\",D!T138)","v":""},{"$f":"IF(D!U138=\"\",\"\",D!U138)","v":""}]
["",{"$f":"IF(D!S139=\"\",\"\",D!S139)","v":""},{"$f":"IF(D!T139=\"\",\"\",D!T139)","v":""},{"$f":"IF(D!U139=\"\",\"\",D!U139)","v":""}]
["",{"$f":"IF(D!S140=\"\",\"\",D!S140)","v":""},{"$f":"IF(D!T140=\"\",\"\",D!T140)","v":""},{"$f":"IF(D!U140=\"\",\"\",D!U140)","v":""}]
["",{"$f":"IF(D!S141=\"\",\"\",D!S141)","v":""},{"$f":"IF(D!T141=\"\",\"\",D!T141)","v":""},{"$f":"IF(D!U141=\"\",\"\",D!U141)","v":""}]
["",{"$f":"IF(D!S142=\"\",\"\",D!S142)","v":""},{"$f":"IF(D!T142=\"\",\"\",D!T142)","v":""},{"$f":"IF(D!U142=\"\",\"\",D!U142)","v":""}]
["",{"$f":"IF(D!S143=\"\",\"\",D!S143)","v":""},{"$f":"IF(D!T143=\"\",\"\",D!T143)","v":""},{"$f":"IF(D!U143=\"\",\"\",D!U143)","v":""}]
["",{"$f":"IF(D!S144=\"\",\"\",D!S144)","v":""},{"$f":"IF(D!T144=\"\",\"\",D!T144)","v":""},{"$f":"IF(D!U144=\"\",\"\",D!U144)","v":""}]
["",{"$f":"IF(D!S145=\"\",\"\",D!S145)","v":""},{"$f":"IF(D!T145=\"\",\"\",D!T145)","v":""},{"$f":"IF(D!U145=\"\",\"\",D!U145)","v":""}]
["",{"$f":"IF(D!S146=\"\",\"\",D!S146)","v":""},{"$f":"IF(D!T146=\"\",\"\",D!T146)","v":""},{"$f":"IF(D!U146=\"\",\"\",D!U146)","v":""}]
["",{"$f":"IF(D!S147=\"\",\"\",D!S147)","v":""},{"$f":"IF(D!T147=\"\",\"\",D!T147)","v":""},{"$f":"IF(D!U147=\"\",\"\",D!U147)","v":""}]
["",{"$f":"IF(D!S148=\"\",\"\",D!S148)","v":""},{"$f":"IF(D!T148=\"\",\"\",D!T148)","v":""},{"$f":"IF(D!U148=\"\",\"\",D!U148)","v":""}]
["",{"$f":"IF(D!S149=\"\",\"\",D!S149)","v":""},{"$f":"IF(D!T149=\"\",\"\",D!T149)","v":""},{"$f":"IF(D!U149=\"\",\"\",D!U149)","v":""}]
["",{"$f":"IF(D!S150=\"\",\"\",D!S150)","v":""},{"$f":"IF(D!T150=\"\",\"\",D!T150)","v":""},{"$f":"IF(D!U150=\"\",\"\",D!U150)","v":""}]
["",{"$f":"IF(D!S151=\"\",\"\",D!S151)","v":""},{"$f":"IF(D!T151=\"\",\"\",D!T151)","v":""},{"$f":"IF(D!U151=\"\",\"\",D!U151)","v":""}]
["",{"$f":"IF(D!S152=\"\",\"\",D!S152)","v":""},{"$f":"IF(D!T152=\"\",\"\",D!T152)","v":""},{"$f":"IF(D!U152=\"\",\"\",D!U152)","v":""}]
["",{"$f":"IF(D!S153=\"\",\"\",D!S153)","v":""},{"$f":"IF(D!T153=\"\",\"\",D!T153)","v":""},{"$f":"IF(D!U153=\"\",\"\",D!U153)","v":""}]
["",{"$f":"IF(D!S154=\"\",\"\",D!S154)","v":""},{"$f":"IF(D!T154=\"\",\"\",D!T154)","v":""},{"$f":"IF(D!U154=\"\",\"\",D!U154)","v":""}]
["",{"$f":"IF(D!S155=\"\",\"\",D!S155)","v":""},{"$f":"IF(D!T155=\"\",\"\",D!T155)","v":""},{"$f":"IF(D!U155=\"\",\"\",D!U155)","v":""}]
["",{"$f":"IF(D!S156=\"\",\"\",D!S156)","v":""},{"$f":"IF(D!T156=\"\",\"\",D!T156)","v":""},{"$f":"IF(D!U156=\"\",\"\",D!U156)","v":""}]
["",{"$f":"IF(D!S157=\"\",\"\",D!S157)","v":""},{"$f":"IF(D!T157=\"\",\"\",D!T157)","v":""},{"$f":"IF(D!U157=\"\",\"\",D!U157)","v":""}]
["",{"$f":"IF(D!S158=\"\",\"\",D!S158)","v":""},{"$f":"IF(D!T158=\"\",\"\",D!T158)","v":""},{"$f":"IF(D!U158=\"\",\"\",D!U158)","v":""}]
["",{"$f":"IF(D!S159=\"\",\"\",D!S159)","v":""},{"$f":"IF(D!T159=\"\",\"\",D!T159)","v":""},{"$f":"IF(D!U159=\"\",\"\",D!U159)","v":""}]
["",{"$f":"IF(D!S160=\"\",\"\",D!S160)","v":""},{"$f":"IF(D!T160=\"\",\"\",D!T160)","v":""},{"$f":"IF(D!U160=\"\",\"\",D!U160)","v":""}]
["",{"$f":"IF(D!S161=\"\",\"\",D!S161)","v":""},{"$f":"IF(D!T161=\"\",\"\",D!T161)","v":""},{"$f":"IF(D!U161=\"\",\"\",D!U161)","v":""}]
["",{"$f":"IF(D!S162=\"\",\"\",D!S162)","v":""},{"$f":"IF(D!T162=\"\",\"\",D!T162)","v":""},{"$f":"IF(D!U162=\"\",\"\",D!U162)","v":""}]
["",{"$f":"IF(D!S163=\"\",\"\",D!S163)","v":""},{"$f":"IF(D!T163=\"\",\"\",D!T163)","v":""},{"$f":"IF(D!U163=\"\",\"\",D!U163)","v":""}]
["",{"$f":"IF(D!S164=\"\",\"\",D!S164)","v":""},{"$f":"IF(D!T164=\"\",\"\",D!T164)","v":""},{"$f":"IF(D!U164=\"\",\"\",D!U164)","v":""}]
["",{"$f":"IF(D!S165=\"\",\"\",D!S165)","v":""},{"$f":"IF(D!T165=\"\",\"\",D!T165)","v":""},{"$f":"IF(D!U165=\"\",\"\",D!U165)","v":""}]
["",{"$f":"IF(D!S166=\"\",\"\",D!S166)","v":""},{"$f":"IF(D!T166=\"\",\"\",D!T166)","v":""},{"$f":"IF(D!U166=\"\",\"\",D!U166)","v":""}]
["",{"$f":"IF(D!S167=\"\",\"\",D!S167)","v":""},{"$f":"IF(D!T167=\"\",\"\",D!T167)","v":""},{"$f":"IF(D!U167=\"\",\"\",D!U167)","v":""}]
["",{"$f":"IF(D!S168=\"\",\"\",D!S168)","v":""},{"$f":"IF(D!T168=\"\",\"\",D!T168)","v":""},{"$f":"IF(D!U168=\"\",\"\",D!U168)","v":""}]
["",{"$f":"IF(D!S169=\"\",\"\",D!S169)","v":""},{"$f":"IF(D!T169=\"\",\"\",D!T169)","v":""},{"$f":"IF(D!U169=\"\",\"\",D!U169)","v":""}]
["",{"$f":"IF(D!S170=\"\",\"\",D!S170)","v":""},{"$f":"IF(D!T170=\"\",\"\",D!T170)","v":""},{"$f":"IF(D!U170=\"\",\"\",D!U170)","v":""}]
["",{"$f":"IF(D!S171=\"\",\"\",D!S171)","v":""},{"$f":"IF(D!T171=\"\",\"\",D!T171)","v":""},{"$f":"IF(D!U171=\"\",\"\",D!U171)","v":""}]
["",{"$f":"IF(D!S172=\"\",\"\",D!S172)","v":""},{"$f":"IF(D!T172=\"\",\"\",D!T172)","v":""},{"$f":"IF(D!U172=\"\",\"\",D!U172)","v":""}]
["",{"$f":"IF(D!S173=\"\",\"\",D!S173)","v":""},{"$f":"IF(D!T173=\"\",\"\",D!T173)","v":""},{"$f":"IF(D!U173=\"\",\"\",D!U173)","v":""}]
["",{"$f":"IF(D!S174=\"\",\"\",D!S174)","v":""},{"$f":"IF(D!T174=\"\",\"\",D!T174)","v":""},{"$f":"IF(D!U174=\"\",\"\",D!U174)","v":""}]
["",{"$f":"IF(D!S175=\"\",\"\",D!S175)","v":""},{"$f":"IF(D!T175=\"\",\"\",D!T175)","v":""},{"$f":"IF(D!U175=\"\",\"\",D!U175)","v":""}]
["",{"$f":"IF(D!S176=\"\",\"\",D!S176)","v":""},{"$f":"IF(D!T176=\"\",\"\",D!T176)","v":""},{"$f":"IF(D!U176=\"\",\"\",D!U176)","v":""}]
["",{"$f":"IF(D!S177=\"\",\"\",D!S177)","v":""},{"$f":"IF(D!T177=\"\",\"\",D!T177)","v":""},{"$f":"IF(D!U177=\"\",\"\",D!U177)","v":""}]
["",{"$f":"IF(D!S178=\"\",\"\",D!S178)","v":""},{"$f":"IF(D!T178=\"\",\"\",D!T178)","v":""},{"$f":"IF(D!U178=\"\",\"\",D!U178)","v":""}]
["",{"$f":"IF(D!S179=\"\",\"\",D!S179)","v":""},{"$f":"IF(D!T179=\"\",\"\",D!T179)","v":""},{"$f":"IF(D!U179=\"\",\"\",D!U179)","v":""}]
["",{"$f":"IF(D!S180=\"\",\"\",D!S180)","v":""},{"$f":"IF(D!T180=\"\",\"\",D!T180)","v":""},{"$f":"IF(D!U180=\"\",\"\",D!U180)","v":""}]
["",{"$f":"IF(D!S181=\"\",\"\",D!S181)","v":""},{"$f":"IF(D!T181=\"\",\"\",D!T181)","v":""},{"$f":"IF(D!U181=\"\",\"\",D!U181)","v":""}]
["",{"$f":"IF(D!S182=\"\",\"\",D!S182)","v":""},{"$f":"IF(D!T182=\"\",\"\",D!T182)","v":""},{"$f":"IF(D!U182=\"\",\"\",D!U182)","v":""}]
["",{"$f":"IF(D!S183=\"\",\"\",D!S183)","v":""},{"$f":"IF(D!T183=\"\",\"\",D!T183)","v":""},{"$f":"IF(D!U183=\"\",\"\",D!U183)","v":""}]
["",{"$f":"IF(D!S184=\"\",\"\",D!S184)","v":""},{"$f":"IF(D!T184=\"\",\"\",D!T184)","v":""},{"$f":"IF(D!U184=\"\",\"\",D!U184)","v":""}]
["",{"$f":"IF(D!S185=\"\",\"\",D!S185)","v":""},{"$f":"IF(D!T185=\"\",\"\",D!T185)","v":""},{"$f":"IF(D!U185=\"\",\"\",D!U185)","v":""}]
["",{"$f":"IF(D!S186=\"\",\"\",D!S186)","v":""},{"$f":"IF(D!T186=\"\",\"\",D!T186)","v":""},{"$f":"IF(D!U186=\"\",\"\",D!U186)","v":""}]
["",{"$f":"IF(D!S187=\"\",\"\",D!S187)","v":""},{"$f":"IF(D!T187=\"\",\"\",D!T187)","v":""},{"$f":"IF(D!U187=\"\",\"\",D!U187)","v":""}]
["",{"$f":"IF(D!S188=\"\",\"\",D!S188)","v":""},{"$f":"IF(D!T188=\"\",\"\",D!T188)","v":""},{"$f":"IF(D!U188=\"\",\"\",D!U188)","v":""}]
["",{"$f":"IF(D!S189=\"\",\"\",D!S189)","v":""},{"$f":"IF(D!T189=\"\",\"\",D!T189)","v":""},{"$f":"IF(D!U189=\"\",\"\",D!U189)","v":""}]
["",{"$f":"IF(D!S190=\"\",\"\",D!S190)","v":""},{"$f":"IF(D!T190=\"\",\"\",D!T190)","v":""},{"$f":"IF(D!U190=\"\",\"\",D!U190)","v":""}]
["",{"$f":"IF(D!S191=\"\",\"\",D!S191)","v":""},{"$f":"IF(D!T191=\"\",\"\",D!T191)","v":""},{"$f":"IF(D!U191=\"\",\"\",D!U191)","v":""}]
["",{"$f":"IF(D!S192=\"\",\"\",D!S192)","v":""},{"$f":"IF(D!T192=\"\",\"\",D!T192)","v":""},{"$f":"IF(D!U192=\"\",\"\",D!U192)","v":""}]
["",{"$f":"IF(D!S193=\"\",\"\",D!S193)","v":""},{"$f":"IF(D!T193=\"\",\"\",D!T193)","v":""},{"$f":"IF(D!U193=\"\",\"\",D!U193)","v":""}]
["",{"$f":"IF(D!S194=\"\",\"\",D!S194)","v":""},{"$f":"IF(D!T194=\"\",\"\",D!T194)","v":""},{"$f":"IF(D!U194=\"\",\"\",D!U194)","v":""}]
["",{"$f":"IF(D!S195=\"\",\"\",D!S195)","v":""},{"$f":"IF(D!T195=\"\",\"\",D!T195)","v":""},{"$f":"IF(D!U195=\"\",\"\",D!U195)","v":""}]
["",{"$f":"IF(D!S196=\"\",\"\",D!S196)","v":""},{"$f":"IF(D!T196=\"\",\"\",D!T196)","v":""},{"$f":"IF(D!U196=\"\",\"\",D!U196)","v":""}]
[{"$f":"IF(B197=\"\",\"\",A196+1)","v":""},{"$f":"IF(D!S197=\"\",\"\",D!S197)","v":""},{"$f":"IF(D!T197=\"\",\"\",D!T197)","v":""},{"$f":"IF(D!U197=\"\",\"\",D!U197)","v":""}]
["",{"$f":"IF(D!S198=\"\",\"\",D!S198)","v":""},{"$f":"IF(D!T198=\"\",\"\",D!T198)","v":""},{"$f":"IF(D!U198=\"\",\"\",D!U198)","v":""}]
["",{"$f":"IF(D!S199=\"\",\"\",D!S199)","v":""},{"$f":"IF(D!T199=\"\",\"\",D!T199)","v":""},{"$f":"IF(D!U199=\"\",\"\",D!U199)","v":""}]
["",{"$f":"IF(D!S200=\"\",\"\",D!S200)","v":""},{"$f":"IF(D!T200=\"\",\"\",D!T200)","v":""},{"$f":"IF(D!U200=\"\",\"\",D!U200)","v":""}]
["",{"$f":"IF(D!S201=\"\",\"\",D!S201)","v":""},{"$f":"IF(D!T201=\"\",\"\",D!T201)","v":""},{"$f":"IF(D!U201=\"\",\"\",D!U201)","v":""}]
["",{"$f":"IF(D!S202=\"\",\"\",D!S202)","v":""},{"$f":"IF(D!T202=\"\",\"\",D!T202)","v":""},{"$f":"IF(D!U202=\"\",\"\",D!U202)","v":""}]

{"sheet":"Ergebnisse Aushang","index":8,"n_rows":75,"n_cols":8,"rows_kept":75,"cut":false,"hidden":false,"merged":[[2,0,2,3],[2,4,2,7],[74,0,74,7],[46,0,46,3],[47,0,47,3],[45,0,45,7],[0,0,0,7],[61,4,61,7],[62,4,62,7],[60,4,60,7],[3,0,3,3],[3,4,3,7],[48,0,48,3],[46,4,46,7],[47,4,47,7],[48,4,48,7],[1,0,1,3],[1,4,1,7]]}
[{"$f":"CONCATENATE(\"Ergebnisse Pokalschießen\",\" \",HM!M2)","v":"Ergebnisse Pokalschießen 2018"}]
["Luhepokal",null,null,null,"Kommandeurspokal"]
["Bester Schütze/in:",null,null,null,"Bester Schütze/in:"]
[{"$f":"IF(D!I3=0,\"\",CONCATENATE(D!J3,\", \",D!I3,\", \",D!K3,\" \",\"Ringe\",\", \",\"Teiler\",\" \",D!L3))","v":", , 0 Ringe, Teiler "},null,null,null,{"$f":"IF(D!N3=0,\"\",CONCATENATE(D!O3,\", \",D!N3,\", \",D!P3,\" \",\"Ringe\",\", \",\"Teiler\",\" \",D!Q3))","v":", , 0 Ringe, Teiler "}]
["Platz:","Verein:","Ringe:","Teiler:","Platz:","Verein:","Ringe:","Teiler:"]
[{"$f":"IF(D!A3=\"\",\"\",1)","v":""},{"$f":"IF(D!A3=0,\"\",D!A3)","v":""},{"$f":"IF(D!B3=0,\"\",D!B3)","v":""},{"$f":"IF(D!C3=0,\"\",D!C3)","v":""},{"$f":"IF(D!E3=\"\",\"\",1)","v":""},{"$f":"IF(D!E3=0,\"\",D!E3)","v":""},{"$f":"IF(D!F3=0,\"\",D!F3)","v":""},{"$f":"IF(D!G3=0,\"\",D!G3)","v":""}]
[{"$f":"IF(D!A4=\"\",\"\",A6+1)","v":""},{"$f":"IF(D!A4=0,\"\",D!A4)","v":""},{"$f":"IF(D!B4=0,\"\",D!B4)","v":""},{"$f":"IF(D!C4=0,\"\",D!C4)","v":""},{"$f":"IF(D!E4=\"\",\"\",E6+1)","v":""},{"$f":"IF(D!E4=0,\"\",D!E4)","v":""},{"$f":"IF(D!F4=0,\"\",D!F4)","v":""},{"$f":"IF(D!G4=0,\"\",D!G4)","v":""}]
[{"$f":"IF(D!A5=\"\",\"\",A7+1)","v":""},{"$f":"IF(D!A5=0,\"\",D!A5)","v":""},{"$f":"IF(D!B5=0,\"\",D!B5)","v":""},{"$f":"IF(D!C5=0,\"\",D!C5)","v":""},{"$f":"IF(D!E5=\"\",\"\",E7+1)","v":""},{"$f":"IF(D!E5=0,\"\",D!E5)","v":""},{"$f":"IF(D!F5=0,\"\",D!F5)","v":""},{"$f":"IF(D!G5=0,\"\",D!G5)","v":""}]
[{"$f":"IF(D!A6=\"\",\"\",A8+1)","v":""},{"$f":"IF(D!A6=0,\"\",D!A6)","v":""},{"$f":"IF(D!B6=0,\"\",D!B6)","v":""},{"$f":"IF(D!C6=0,\"\",D!C6)","v":""},{"$f":"IF(D!E6=\"\",\"\",E8+1)","v":""},{"$f":"IF(D!E6=0,\"\",D!E6)","v":""},{"$f":"IF(D!F6=0,\"\",D!F6)","v":""},{"$f":"IF(D!G6=0,\"\",D!G6)","v":""}]
[{"$f":"IF(D!A7=\"\",\"\",A9+1)","v":""},{"$f":"IF(D!A7=0,\"\",D!A7)","v":""},{"$f":"IF(D!B7=0,\"\",D!B7)","v":""},{"$f":"IF(D!C7=0,\"\",D!C7)","v":""},{"$f":"IF(D!E7=\"\",\"\",E9+1)","v":""},{"$f":"IF(D!E7=0,\"\",D!E7)","v":""},{"$f":"IF(D!F7=0,\"\",D!F7)","v":""},{"$f":"IF(D!G7=0,\"\",D!G7)","v":""}]
[{"$f":"IF(D!A8=\"\",\"\",A10+1)","v":""},{"$f":"IF(D!A8=0,\"\",D!A8)","v":""},{"$f":"IF(D!B8=0,\"\",D!B8)","v":""},{"$f":"IF(D!C8=0,\"\",D!C8)","v":""},{"$f":"IF(D!E8=\"\",\"\",E10+1)","v":""},{"$f":"IF(D!E8=0,\"\",D!E8)","v":""},{"$f":"IF(D!F8=0,\"\",D!F8)","v":""},{"$f":"IF(D!G8=0,\"\",D!G8)","v":""}]
[{"$f":"IF(D!A9=\"\",\"\",A11+1)","v":""},{"$f":"IF(D!A9=0,\"\",D!A9)","v":""},{"$f":"IF(D!B9=0,\"\",D!B9)","v":""},{"$f":"IF(D!C9=0,\"\",D!C9)","v":""},{"$f":"IF(D!E9=\"\",\"\",E11+1)","v":""},{"$f":"IF(D!E9=0,\"\",D!E9)","v":""},{"$f":"IF(D!F9=0,\"\",D!F9)","v":""},{"$f":"IF(D!G9=0,\"\",D!G9)","v":""}]
[{"$f":"IF(D!A10=\"\",\"\",A12+1)","v":""},{"$f":"IF(D!A10=0,\"\",D!A10)","v":""},{"$f":"IF(D!B10=0,\"\",D!B10)","v":""},{"$f":"IF(D!C10=0,\"\",D!C10)","v":""},{"$f":"IF(D!E10=\"\",\"\",E12+1)","v":""},{"$f":"IF(D!E10=0,\"\",D!E10)","v":""},{"$f":"IF(D!F10=0,\"\",D!F10)","v":""},{"$f":"IF(D!G10=0,\"\",D!G10)","v":""}]
[{"$f":"IF(D!A11=\"\",\"\",A13+1)","v":""},{"$f":"IF(D!A11=0,\"\",D!A11)","v":""},{"$f":"IF(D!B11=0,\"\",D!B11)","v":""},{"$f":"IF(D!C11=0,\"\",D!C11)","v":""},{"$f":"IF(D!E11=\"\",\"\",E13+1)","v":""},{"$f":"IF(D!E11=0,\"\",D!E11)","v":""},{"$f":"IF(D!F11=0,\"\",D!F11)","v":""},{"$f":"IF(D!G11=0,\"\",D!G11)","v":""}]
[{"$f":"IF(D!A12=\"\",\"\",A14+1)","v":""},{"$f":"IF(D!A12=0,\"\",D!A12)","v":""},{"$f":"IF(D!B12=0,\"\",D!B12)","v":""},{"$f":"IF(D!C12=0,\"\",D!C12)","v":""},{"$f":"IF(D!E12=\"\",\"\",E14+1)","v":""},{"$f":"IF(D!E12=0,\"\",D!E12)","v":""},{"$f":"IF(D!F12=0,\"\",D!F12)","v":""},{"$f":"IF(D!G12=0,\"\",D!G12)","v":""}]
[{"$f":"IF(D!A13=\"\",\"\",A15+1)","v":""},{"$f":"IF(D!A13=0,\"\",D!A13)","v":""},{"$f":"IF(D!B13=0,\"\",D!B13)","v":""},{"$f":"IF(D!C13=0,\"\",D!C13)","v":""},{"$f":"IF(D!E13=\"\",\"\",E15+1)","v":""},{"$f":"IF(D!E13=0,\"\",D!E13)","v":""},{"$f":"IF(D!F13=0,\"\",D!F13)","v":""},{"$f":"IF(D!G13=0,\"\",D!G13)","v":""}]
[{"$f":"IF(D!A14=\"\",\"\",A16+1)","v":""},{"$f":"IF(D!A14=0,\"\",D!A14)","v":""},{"$f":"IF(D!B14=0,\"\",D!B14)","v":""},{"$f":"IF(D!C14=0,\"\",D!C14)","v":""},{"$f":"IF(D!E14=\"\",\"\",E16+1)","v":""},{"$f":"IF(D!E14=0,\"\",D!E14)","v":""},{"$f":"IF(D!F14=0,\"\",D!F14)","v":""},{"$f":"IF(D!G14=0,\"\",D!G14)","v":""}]
[{"$f":"IF(D!A15=\"\",\"\",A17+1)","v":""},{"$f":"IF(D!A15=0,\"\",D!A15)","v":""},{"$f":"IF(D!B15=0,\"\",D!B15)","v":""},{"$f":"IF(D!C15=0,\"\",D!C15)","v":""},{"$f":"IF(D!E15=\"\",\"\",E17+1)","v":""},{"$f":"IF(D!E15=0,\"\",D!E15)","v":""},{"$f":"IF(D!F15=0,\"\",D!F15)","v":""},{"$f":"IF(D!G15=0,\"\",D!G15)","v":""}]
[{"$f":"IF(D!A16=\"\",\"\",A18+1)","v":""},{"$f":"IF(D!A16=0,\"\",D!A16)","v":""},{"$f":"IF(D!B16=0,\"\",D!B16)","v":""},{"$f":"IF(D!C16=0,\"\",D!C16)","v":""},{"$f":"IF(D!E16=\"\",\"\",E18+1)","v":""},{"$f":"IF(D!E16=0,\"\",D!E16)","v":""},{"$f":"IF(D!F16=0,\"\",D!F16)","v":""},{"$f":"IF(D!G16=0,\"\",D!G16)","v":""}]
[{"$f":"IF(D!A17=\"\",\"\",A19+1)","v":""},{"$f":"IF(D!A17=0,\"\",D!A17)","v":""},{"$f":"IF(D!B17=0,\"\",D!B17)","v":""},{"$f":"IF(D!C17=0,\"\",D!C17)","v":""},{"$f":"IF(D!E17=\"\",\"\",E19+1)","v":""},{"$f":"IF(D!E17=0,\"\",D!E17)","v":""},{"$f":"IF(D!F17=0,\"\",D!F17)","v":""},{"$f":"IF(D!G17=0,\"\",D!G17)","v":""}]
[{"$f":"IF(D!A18=\"\",\"\",A20+1)","v":""},{"$f":"IF(D!A18=0,\"\",D!A18)","v":""},{"$f":"IF(D!B18=0,\"\",D!B18)","v":""},{"$f":"IF(D!C18=0,\"\",D!C18)","v":""},{"$f":"IF(D!E18=\"\",\"\",E20+1)","v":""},{"$f":"IF(D!E18=0,\"\",D!E18)","v":""},{"$f":"IF(D!F18=0,\"\",D!F18)","v":""},{"$f":"IF(D!G18=0,\"\",D!G18)","v":""}]
[{"$f":"IF(D!A19=\"\",\"\",A21+1)","v":""},{"$f":"IF(D!A19=0,\"\",D!A19)","v":""},{"$f":"IF(D!B19=0,\"\",D!B19)","v":""},{"$f":"IF(D!C19=0,\"\",D!C19)","v":""},{"$f":"IF(D!E19=\"\",\"\",E21+1)","v":""},{"$f":"IF(D!E19=0,\"\",D!E19)","v":""},{"$f":"IF(D!F19=0,\"\",D!F19)","v":""},{"$f":"IF(D!G19=0,\"\",D!G19)","v":""}]
[{"$f":"IF(D!A20=\"\",\"\",A22+1)","v":""},{"$f":"IF(D!A20=0,\"\",D!A20)","v":""},{"$f":"IF(D!B20=0,\"\",D!B20)","v":""},{"$f":"IF(D!C20=0,\"\",D!C20)","v":""},{"$f":"IF(D!E20=\"\",\"\",E22+1)","v":""},{"$f":"IF(D!E20=0,\"\",D!E20)","v":""},{"$f":"IF(D!F20=0,\"\",D!F20)","v":""},{"$f":"IF(D!G20=0,\"\",D!G20)","v":""}]
[{"$f":"IF(D!A21=\"\",\"\",A23+1)","v":""},{"$f":"IF(D!A21=0,\"\",D!A21)","v":""},{"$f":"IF(D!B21=0,\"\",D!B21)","v":""},{"$f":"IF(D!C21=0,\"\",D!C21)","v":""},{"$f":"IF(D!E21=\"\",\"\",E23+1)","v":""},{"$f":"IF(D!E21=0,\"\",D!E21)","v":""},{"$f":"IF(D!F21=0,\"\",D!F21)","v":""},{"$f":"IF(D!G21=0,\"\",D!G21)","v":""}]
[{"$f":"IF(D!A22=\"\",\"\",A24+1)","v":""},{"$f":"IF(D!A22=0,\"\",D!A22)","v":""},{"$f":"IF(D!B22=0,\"\",D!B22)","v":""},{"$f":"IF(D!C22=0,\"\",D!C22)","v":""},{"$f":"IF(D!E22=\"\",\"\",E24+1)","v":""},{"$f":"IF(D!E22=0,\"\",D!E22)","v":""},{"$f":"IF(D!F22=0,\"\",D!F22)","v":""},{"$f":"IF(D!G22=0,\"\",D!G22)","v":""}]
[{"$f":"IF(D!A23=\"\",\"\",A25+1)","v":""},{"$f":"IF(D!A23=0,\"\",D!A23)","v":""},{"$f":"IF(D!B23=0,\"\",D!B23)","v":""},{"$f":"IF(D!C23=0,\"\",D!C23)","v":""},{"$f":"IF(D!E23=\"\",\"\",E25+1)","v":""},{"$f":"IF(D!E23=0,\"\",D!E23)","v":""},{"$f":"IF(D!F23=0,\"\",D!F23)","v":""},{"$f":"IF(D!G23=0,\"\",D!G23)","v":""}]
[{"$f":"IF(D!A24=\"\",\"\",A26+1)","v":""},{"$f":"IF(D!A24=0,\"\",D!A24)","v":""},{"$f":"IF(D!B24=0,\"\",D!B24)","v":""},{"$f":"IF(D!C24=0,\"\",D!C24)","v":""},{"$f":"IF(D!E24=\"\",\"\",E26+1)","v":""},{"$f":"IF(D!E24=0,\"\",D!E24)","v":""},{"$f":"IF(D!F24=0,\"\",D!F24)","v":""},{"$f":"IF(D!G24=0,\"\",D!G24)","v":""}]
[{"$f":"IF(D!A25=\"\",\"\",A27+1)","v":""},{"$f":"IF(D!A25=0,\"\",D!A25)","v":""},{"$f":"IF(D!B25=0,\"\",D!B25)","v":""},{"$f":"IF(D!C25=0,\"\",D!C25)","v":""},{"$f":"IF(D!E25=\"\",\"\",E27+1)","v":""},{"$f":"IF(D!E25=0,\"\",D!E25)","v":""},{"$f":"IF(D!F25=0,\"\",D!F25)","v":""},{"$f":"IF(D!G25=0,\"\",D!G25)","v":""}]
[{"$f":"IF(D!A26=\"\",\"\",A28+1)","v":""},{"$f":"IF(D!A26=0,\"\",D!A26)","v":""},{"$f":"IF(D!B26=0,\"\",D!B26)","v":""},{"$f":"IF(D!C26=0,\"\",D!C26)","v":""},{"$f":"IF(D!E26=\"\",\"\",E28+1)","v":""},{"$f":"IF(D!E26=0,\"\",D!E26)","v":""},{"$f":"IF(D!F26=0,\"\",D!F26)","v":""},{"$f":"IF(D!G26=0,\"\",D!G26)","v":""}]
[{"$f":"IF(D!A27=\"\",\"\",A29+1)","v":""},{"$f":"IF(D!A27=0,\"\",D!A27)","v":""},{"$f":"IF(D!B27=0,\"\",D!B27)","v":""},{"$f":"IF(D!C27=0,\"\",D!C27)","v":""},{"$f":"IF(D!E27=\"\",\"\",E29+1)","v":""},{"$f":"IF(D!E27=0,\"\",D!E27)","v":""},{"$f":"IF(D!F27=0,\"\",D!F27)","v":""},{"$f":"IF(D!G27=0,\"\",D!G27)","v":""}]
[{"$f":"IF(D!A28=\"\",\"\",A30+1)","v":""},{"$f":"IF(D!A28=0,\"\",D!A28)","v":""},{"$f":"IF(D!B28=0,\"\",D!B28)","v":""},{"$f":"IF(D!C28=0,\"\",D!C28)","v":""},{"$f":"IF(D!E28=\"\",\"\",E30+1)","v":""},{"$f":"IF(D!E28=0,\"\",D!E28)","v":""},{"$f":"IF(D!F28=0,\"\",D!F28)","v":""},{"$f":"IF(D!G28=0,\"\",D!G28)","v":""}]
[{"$f":"IF(D!A29=\"\",\"\",A31+1)","v":""},{"$f":"IF(D!A29=0,\"\",D!A29)","v":""},{"$f":"IF(D!B29=0,\"\",D!B29)","v":""},{"$f":"IF(D!C29=0,\"\",D!C29)","v":""},{"$f":"IF(D!E29=\"\",\"\",E31+1)","v":""},{"$f":"IF(D!E29=0,\"\",D!E29)","v":""},{"$f":"IF(D!F29=0,\"\",D!F29)","v":""},{"$f":"IF(D!G29=0,\"\",D!G29)","v":""}]
[{"$f":"IF(D!A30=\"\",\"\",A32+1)","v":""},{"$f":"IF(D!A30=0,\"\",D!A30)","v":""},{"$f":"IF(D!B30=0,\"\",D!B30)","v":""},{"$f":"IF(D!C30=0,\"\",D!C30)","v":""},{"$f":"IF(D!E30=\"\",\"\",E32+1)","v":""},{"$f":"IF(D!E30=0,\"\",D!E30)","v":""},{"$f":"IF(D!F30=0,\"\",D!F30)","v":""},{"$f":"IF(D!G30=0,\"\",D!G30)","v":""}]
[{"$f":"IF(D!A31=\"\",\"\",A33+1)","v":""},{"$f":"IF(D!A31=0,\"\",D!A31)","v":""},{"$f":"IF(D!B31=0,\"\",D!B31)","v":""},{"$f":"IF(D!C31=0,\"\",D!C31)","v":""},{"$f":"IF(D!E31=\"\",\"\",E33+1)","v":""},{"$f":"IF(D!E31=0,\"\",D!E31)","v":""},{"$f":"IF(D!F31=0,\"\",D!F31)","v":""},{"$f":"IF(D!G31=0,\"\",D!G31)","v":""}]
[{"$f":"IF(D!A32=\"\",\"\",A34+1)","v":""},{"$f":"IF(D!A32=0,\"\",D!A32)","v":""},{"$f":"IF(D!B32=0,\"\",D!B32)","v":""},{"$f":"IF(D!C32=0,\"\",D!C32)","v":""},{"$f":"IF(D!E32=\"\",\"\",E34+1)","v":""},{"$f":"IF(D!E32=0,\"\",D!E32)","v":""},{"$f":"IF(D!F32=0,\"\",D!F32)","v":""},{"$f":"IF(D!G32=0,\"\",D!G32)","v":""}]
[{"$f":"IF(D!A33=\"\",\"\",A35+1)","v":""},{"$f":"IF(D!A33=0,\"\",D!A33)","v":""},{"$f":"IF(D!B33=0,\"\",D!B33)","v":""},{"$f":"IF(D!C33=0,\"\",D!C33)","v":""},{"$f":"IF(D!E33=\"\",\"\",E35+1)","v":""},{"$f":"IF(D!E33=0,\"\",D!E33)","v":""},{"$f":"IF(D!F33=0,\"\",D!F33)","v":""},{"$f":"IF(D!G33=0,\"\",D!G33)","v":""}]
[{"$f":"IF(D!A34=\"\",\"\",A36+1)","v":""},{"$f":"IF(D!A34=0,\"\",D!A34)","v":""},{"$f":"IF(D!B34=0,\"\",D!B34)","v":""},{"$f":"IF(D!C34=0,\"\",D!C34)","v":""},{"$f":"IF(D!E34=\"\",\"\",E36+1)","v":""},{"$f":"IF(D!E34=0,\"\",D!E34)","v":""},{"$f":"IF(D!F34=0,\"\",D!F34)","v":""},{"$f":"IF(D!G34=0,\"\",D!G34)","v":""}]
[{"$f":"IF(D!A35=\"\",\"\",A37+1)","v":""},{"$f":"IF(D!A35=0,\"\",D!A35)","v":""},{"$f":"IF(D!B35=0,\"\",D!B35)","v":""},{"$f":"IF(D!C35=0,\"\",D!C35)","v":""},{"$f":"IF(D!E35=\"\",\"\",E37+1)","v":""},{"$f":"IF(D!E35=0,\"\",D!E35)","v":""},{"$f":"IF(D!F35=0,\"\",D!F35)","v":""},{"$f":"IF(D!G35=0,\"\",D!G35)","v":""}]
[{"$f":"IF(D!A36=\"\",\"\",A38+1)","v":""},{"$f":"IF(D!A36=0,\"\",D!A36)","v":""},{"$f":"IF(D!B36=0,\"\",D!B36)","v":""},{"$f":"IF(D!C36=0,\"\",D!C36)","v":""},{"$f":"IF(D!E36=\"\",\"\",E38+1)","v":""},{"$f":"IF(D!E36=0,\"\",D!E36)","v":""},{"$f":"IF(D!F36=0,\"\",D!F36)","v":""},{"$f":"IF(D!G36=0,\"\",D!G36)","v":""}]
[{"$f":"IF(D!A37=\"\",\"\",A39+1)","v":""},{"$f":"IF(D!A37=0,\"\",D!A37)","v":""},{"$f":"IF(D!B37=0,\"\",D!B37)","v":""},{"$f":"IF(D!C37=0,\"\",D!C37)","v":""},{"$f":"IF(D!E37=\"\",\"\",E39+1)","v":""},{"$f":"IF(D!E37=0,\"\",D!E37)","v":""},{"$f":"IF(D!F37=0,\"\",D!F37)","v":""},{"$f":"IF(D!G37=0,\"\",D!G37)","v":""}]
[{"$f":"IF(D!A38=\"\",\"\",A40+1)","v":""},{"$f":"IF(D!A38=0,\"\",D!A38)","v":""},{"$f":"IF(D!B38=0,\"\",D!B38)","v":""},{"$f":"IF(D!C38=0,\"\",D!C38)","v":""},{"$f":"IF(D!E38=\"\",\"\",E40+1)","v":""},{"$f":"IF(D!E38=0,\"\",D!E38)","v":""},{"$f":"IF(D!F38=0,\"\",D!F38)","v":""},{"$f":"IF(D!G38=0,\"\",D!G38)","v":""}]
[{"$f":"IF(D!A39=\"\",\"\",A41+1)","v":""},{"$f":"IF(D!A39=0,\"\",D!A39)","v":""},{"$f":"IF(D!B39=0,\"\",D!B39)","v":""},{"$f":"IF(D!C39=0,\"\",D!C39)","v":""},{"$f":"IF(D!E39=\"\",\"\",E41+1)","v":""},{"$f":"IF(D!E39=0,\"\",D!E39)","v":""},{"$f":"IF(D!F39=0,\"\",D!F39)","v":""},{"$f":"IF(D!G39=0,\"\",D!G39)","v":""}]
[{"$f":"IF(D!A40=\"\",\"\",A42+1)","v":""},{"$f":"IF(D!A40=0,\"\",D!A40)","v":""},{"$f":"IF(D!B40=0,\"\",D!B40)","v":""},{"$f":"IF(D!C40=0,\"\",D!C40)","v":""},{"$f":"IF(D!E40=\"\",\"\",E42+1)","v":""},{"$f":"IF(D!E40=0,\"\",D!E40)","v":""},{"$f":"IF(D!F40=0,\"\",D!F40)","v":""},{"$f":"IF(D!G40=0,\"\",D!G40)","v":""}]
[{"$f":"IF(D!A41=\"\",\"\",A43+1)","v":""},{"$f":"IF(D!A41=0,\"\",D!A41)","v":""},{"$f":"IF(D!B41=0,\"\",D!B41)","v":""},{"$f":"IF(D!C41=0,\"\",D!C41)","v":""},{"$f":"IF(D!E41=\"\",\"\",E43+1)","v":""},{"$f":"IF(D!E41=0,\"\",D!E41)","v":""},{"$f":"IF(D!F41=0,\"\",D!F41)","v":""},{"$f":"IF(D!G41=0,\"\",D!G41)","v":""}]
[{"$f":"IF(D!A42=\"\",\"\",A44+1)","v":""},{"$f":"IF(D!A42=0,\"\",D!A42)","v":""},{"$f":"IF(D!B42=0,\"\",D!B42)","v":""},{"$f":"IF(D!C42=0,\"\",D!C42)","v":""},{"$f":"IF(D!E42=\"\",\"\",E44+1)","v":""},{"$f":"IF(D!E42=0,\"\",D!E42)","v":""},{"$f":"IF(D!F42=0,\"\",D!F42)","v":""},{"$f":"IF(D!G42=0,\"\",D!G42)","v":""}]
["Die Pokal und Preisverteilung findet am 24.07.2015 um 19:30 Uhr in der Schützenhalle in Soderstorf statt.\nNicht abgeholte Preise und Pokale gehen in den Besitz des SV-Soderstorf über !\nBei Rückfragen: \nRolf Marquardt, Westerfeld 19, 21388 Soderstorf, Tel. 04132-7791"]
["Damenpokal",null,null,null,"Jugendpokal"]
["Beste Schützin:",null,null,null,"Bester Schütze/in:"]
[{"$f":"IF(D!AA3=0,\"\",CONCATENATE(D!AB3,\", \",D!AA3,\", \",D!AC3,\" \",\"Ringe\",\", \",\"Teiler\",\" \",D!AD3))","v":", , 0 Ringe, Teiler "},null,null,null,{"$f":"IF(D!AL3=0,\"\",CONCATENATE(D!AM3,\", \",D!AL3,\", \",D!AN3,\" \",\"Ringe\"))","v":", , 0 Ringe"}]
["Platz:","Verein:","Ringe:","Teiler:","Platz:","Verein:","Ringe:"]
[{"$f":"IF(D!W3=\"\",\"\",1)","v":""},{"$f":"IF(D!W3=0,\"\",D!W3)","v":""},{"$f":"IF(D!X3=0,\"\",D!X3)","v":""},{"$f":"IF(D!Y3=0,\"\",D!Y3)","v":""},{"$f":"IF(D!AF3=\"\",\"\",1)","v":""},{"$f":"IF(D!AF3=0,\"\",D!AF3)","v":""},{"$f":"IF(D!AG3=0,\"\",D!AG3)","v":""}]
[{"$f":"IF(D!W4=\"\",\"\",A51+1)","v":""},{"$f":"IF(D!W4=0,\"\",D!W4)","v":""},{"$f":"IF(D!X4=0,\"\",D!X4)","v":""},{"$f":"IF(D!Y4=0,\"\",D!Y4)","v":""},{"$f":"IF(D!AF4=\"\",\"\",E51+1)","v":""},{"$f":"IF(D!AF4=0,\"\",D!AF4)","v":""},{"$f":"IF(D!AG4=0,\"\",D!AG4)","v":""}]
[{"$f":"IF(D!W5=\"\",\"\",A52+1)","v":""},{"$f":"IF(D!W5=0,\"\",D!W5)","v":""},{"$f":"IF(D!X5=0,\"\",D!X5)","v":""},{"$f":"IF(D!Y5=0,\"\",D!Y5)","v":""},{"$f":"IF(D!AF5=\"\",\"\",E52+1)","v":""},{"$f":"IF(D!AF5=0,\"\",D!AF5)","v":""},{"$f":"IF(D!AG5=0,\"\",D!AG5)","v":""}]
[{"$f":"IF(D!W6=\"\",\"\",A53+1)","v":""},{"$f":"IF(D!W6=0,\"\",D!W6)","v":""},{"$f":"IF(D!X6=0,\"\",D!X6)","v":""},{"$f":"IF(D!Y6=0,\"\",D!Y6)","v":""},{"$f":"IF(D!AF6=\"\",\"\",E53+1)","v":""},{"$f":"IF(D!AF6=0,\"\",D!AF6)","v":""},{"$f":"IF(D!AG6=0,\"\",D!AG6)","v":""}]
[{"$f":"IF(D!W7=\"\",\"\",A54+1)","v":""},{"$f":"IF(D!W7=0,\"\",D!W7)","v":""},{"$f":"IF(D!X7=0,\"\",D!X7)","v":""},{"$f":"IF(D!Y7=0,\"\",D!Y7)","v":""},{"$f":"IF(D!AF7=\"\",\"\",E54+1)","v":""},{"$f":"IF(D!AF7=0,\"\",D!AF7)","v":""},{"$f":"IF(D!AG7=0,\"\",D!AG7)","v":""}]
[{"$f":"IF(D!W8=\"\",\"\",A55+1)","v":""},{"$f":"IF(D!W8=0,\"\",D!W8)","v":""},{"$f":"IF(D!X8=0,\"\",D!X8)","v":""},{"$f":"IF(D!Y8=0,\"\",D!Y8)","v":""},{"$f":"IF(D!AF8=\"\",\"\",E55+1)","v":""},{"$f":"IF(D!AF8=0,\"\",D!AF8)","v":""},{"$f":"IF(D!AG8=0,\"\",D!AG8)","v":""}]
[{"$f":"IF(D!W9=\"\",\"\",A56+1)","v":""},{"$f":"IF(D!W9=0,\"\",D!W9)","v":""},{"$f":"IF(D!X9=0,\"\",D!X9)","v":""},{"$f":"IF(D!Y9=0,\"\",D!Y9)","v":""},{"$f":"IF(D!AF9=\"\",\"\",E56+1)","v":""},{"$f":"IF(D!AF9=0,\"\",D!AF9)","v":""},{"$f":"IF(D!AG9=0,\"\",D!AG9)","v":""}]
[{"$f":"IF(D!W10=\"\",\"\",A57+1)","v":""},{"$f":"IF(D!W10=0,\"\",D!W10)","v":""},{"$f":"IF(D!X10=0,\"\",D!X10)","v":""},{"$f":"IF(D!Y10=0,\"\",D!Y10)","v":""},{"$f":"IF(D!AF10=\"\",\"\",E57+1)","v":""},{"$f":"IF(D!AF10=0,\"\",D!AF10)","v":""},{"$f":"IF(D!AG10=0,\"\",D!AG10)","v":""}]
[{"$f":"IF(D!W11=\"\",\"\",A58+1)","v":""},{"$f":"IF(D!W11=0,\"\",D!W11)","v":""},{"$f":"IF(D!X11=0,\"\",D!X11)","v":""},{"$f":"IF(D!Y11=0,\"\",D!Y11)","v":""},{"$f":"IF(D!AF11=\"\",\"\",E58+1)","v":""},{"$f":"IF(D!AF11=0,\"\",D!AF11)","v":""},{"$f":"IF(D!AG11=0,\"\",D!AG11)","v":""}]
[{"$f":"IF(D!W12=\"\",\"\",A59+1)","v":""},{"$f":"IF(D!W12=0,\"\",D!W12)","v":""},{"$f":"IF(D!X12=0,\"\",D!X12)","v":""},{"$f":"IF(D!Y12=0,\"\",D!Y12)","v":""},{"$f":"IF(D!AF12=\"\",\"\",E59+1)","v":""},{"$f":"IF(D!AF12=0,\"\",D!AF12)","v":""},{"$f":"IF(D!AG12=0,\"\",D!AG12)","v":""}]
[{"$f":"IF(D!W13=\"\",\"\",A60+1)","v":""},{"$f":"IF(D!W13=0,\"\",D!W13)","v":""},{"$f":"IF(D!X13=0,\"\",D!X13)","v":""},{"$f":"IF(D!Y13=0,\"\",D!Y13)","v":""},"Schülerpokal"]
[{"$f":"IF(D!W14=\"\",\"\",A61+1)","v":""},{"$f":"IF(D!W14=0,\"\",D!W14)","v":""},{"$f":"IF(D!X14=0,\"\",D!X14)","v":""},{"$f":"IF(D!Y14=0,\"\",D!Y14)","v":""},"Bester Schütze/in:"]
[{"$f":"IF(D!W15=\"\",\"\",A62+1)","v":""},{"$f":"IF(D!W15=0,\"\",D!W15)","v":""},{"$f":"IF(D!X15=0,\"\",D!X15)","v":""},{"$f":"IF(D!Y15=0,\"\",D!Y15)","v":""},{"$f":"IF(D!AP3=0,\"\",CONCATENATE(D!AQ3,\", \",D!AP3,\", \",D!AR3,\" \",\"Ringe\"))","v":", , 0 Ringe"}]
[{"$f":"IF(D!W16=\"\",\"\",A63+1)","v":""},{"$f":"IF(D!W16=0,\"\",D!W16)","v":""},{"$f":"IF(D!X16=0,\"\",D!X16)","v":""},{"$f":"IF(D!Y16=0,\"\",D!Y16)","v":""},"Platz:","Verein:","Ringe:"]
[{"$f":"IF(D!W17=\"\",\"\",A64+1)","v":""},{"$f":"IF(D!W17=0,\"\",D!W17)","v":""},{"$f":"IF(D!X17=0,\"\",D!X17)","v":""},{"$f":"IF(D!Y17=0,\"\",D!Y17)","v":""},{"$f":"IF(D!AI3=\"\",\"\",1)","v":""},{"$f":"IF(D!AI3=0,\"\",D!AI3)","v":""},{"$f":"IF(D!AJ3=0,\"\",D!AJ3)","v":""}]
[{"$f":"IF(D!W18=\"\",\"\",A65+1)","v":""},{"$f":"IF(D!W18=0,\"\",D!W18)","v":""},{"$f":"IF(D!X18=0,\"\",D!X18)","v":""},{"$f":"IF(D!Y18=0,\"\",D!Y18)","v":""},{"$f":"IF(D!AI4=\"\",\"\",E65+1)","v":""},{"$f":"IF(D!AI4=0,\"\",D!AI4)","v":""},{"$f":"IF(D!AJ4=0,\"\",D!AJ4)","v":""}]
[{"$f":"IF(D!W19=\"\",\"\",A66+1)","v":""},{"$f":"IF(D!W19=0,\"\",D!W19)","v":""},{"$f":"IF(D!X19=0,\"\",D!X19)","v":""},{"$f":"IF(D!Y19=0,\"\",D!Y19)","v":""},{"$f":"IF(D!AI5=\"\",\"\",E66+1)","v":""},{"$f":"IF(D!AI5=0,\"\",D!AI5)","v":""},{"$f":"IF(D!AJ5=0,\"\",D!AJ5)","v":""}]
[{"$f":"IF(D!W20=\"\",\"\",A67+1)","v":""},{"$f":"IF(D!W20=0,\"\",D!W20)","v":""},{"$f":"IF(D!X20=0,\"\",D!X20)","v":""},{"$f":"IF(D!Y20=0,\"\",D!Y20)","v":""},{"$f":"IF(D!AI6=\"\",\"\",E67+1)","v":""},{"$f":"IF(D!AI6=0,\"\",D!AI6)","v":""},{"$f":"IF(D!AJ6=0,\"\",D!AJ6)","v":""}]
[{"$f":"IF(D!W21=\"\",\"\",A68+1)","v":""},{"$f":"IF(D!W21=0,\"\",D!W21)","v":""},{"$f":"IF(D!X21=0,\"\",D!X21)","v":""},{"$f":"IF(D!Y21=0,\"\",D!Y21)","v":""},{"$f":"IF(D!AI7=\"\",\"\",E68+1)","v":""},{"$f":"IF(D!AI7=0,\"\",D!AI7)","v":""},{"$f":"IF(D!AJ7=0,\"\",D!AJ7)","v":""}]
[{"$f":"IF(D!W22=\"\",\"\",A69+1)","v":""},{"$f":"IF(D!W22=0,\"\",D!W22)","v":""},{"$f":"IF(D!X22=0,\"\",D!X22)","v":""},{"$f":"IF(D!Y22=0,\"\",D!Y22)","v":""},{"$f":"IF(D!AI8=\"\",\"\",E69+1)","v":""},{"$f":"IF(D!AI8=0,\"\",D!AI8)","v":""},{"$f":"IF(D!AJ8=0,\"\",D!AJ8)","v":""}]
[{"$f":"IF(D!W23=\"\",\"\",A70+1)","v":""},{"$f":"IF(D!W23=0,\"\",D!W23)","v":""},{"$f":"IF(D!X23=0,\"\",D!X23)","v":""},{"$f":"IF(D!Y23=0,\"\",D!Y23)","v":""},{"$f":"IF(D!AI9=\"\",\"\",E70+1)","v":""},{"$f":"IF(D!AI9=0,\"\",D!AI9)","v":""},{"$f":"IF(D!AJ9=0,\"\",D!AJ9)","v":""}]
[{"$f":"IF(D!W24=\"\",\"\",A71+1)","v":""},{"$f":"IF(D!W24=0,\"\",D!W24)","v":""},{"$f":"IF(D!X24=0,\"\",D!X24)","v":""},{"$f":"IF(D!Y24=0,\"\",D!Y24)","v":""},{"$f":"IF(D!AI10=\"\",\"\",E71+1)","v":""},{"$f":"IF(D!AI10=0,\"\",D!AI10)","v":""},{"$f":"IF(D!AJ10=0,\"\",D!AJ10)","v":""}]
[{"$f":"IF(D!W25=\"\",\"\",A72+1)","v":""},{"$f":"IF(D!W25=0,\"\",D!W25)","v":""},{"$f":"IF(D!X25=0,\"\",D!X25)","v":""},{"$f":"IF(D!Y25=0,\"\",D!Y25)","v":""},{"$f":"IF(D!AI11=\"\",\"\",E72+1)","v":""},{"$f":"IF(D!AI11=0,\"\",D!AI11)","v":""},{"$f":"IF(D!AJ11=0,\"\",D!AJ11)","v":""}]
[{"$f":"IF(D!W26=\"\",\"\",A73+1)","v":""},{"$f":"IF(D!W26=0,\"\",D!W26)","v":""},{"$f":"IF(D!X26=0,\"\",D!X26)","v":""},{"$f":"IF(D!Y26=0,\"\",D!Y26)","v":""},{"$f":"IF(D!AI12=\"\",\"\",E73+1)","v":""},{"$f":"IF(D!AI12=0,\"\",D!AI12)","v":""},{"$f":"IF(D!AJ12=0,\"\",D!AJ12)","v":""}]
["Die Pokal und Preisverteilung findet am 24.07.2015 um 19:30 Uhr in der Schützenhalle in Soderstorf statt.\nNicht abgeholte Preise und Pokale gehen in den Besitz des SV-Soderstorf über !\nBei Rückfragen: \nRolf Marquardt, Westerfeld 19, 21388 Soderstorf, Tel. 04132-7791"]

{"sheet":"D","index":9,"n_rows":252,"n_cols":44,"rows_kept":252,"cut":false,"hidden":false,"merged":[[0,0,0,2],[0,4,0,6],[0,8,0,11],[0,13,0,16],[0,34,0,35],[0,41,0,43],[0,18,0,20],[0,22,0,24],[0,26,0,29],[0,31,0,32],[0,37,0,39]]}
["Luhepokal",null,null,null,"Kommandeurspokal",null,null,null,"Luhe - Einzelwertung",null,null,null,null,"Komm - Einzelwertung",null,null,null,null,"Preisschiessen",null,null,null,"Damenpokal",null,null,null,"Damenpokal - Einzelwertung",null,null,null,null,"Jugendpokal",null,null,"Schülerpokal",null,null,"Jugendpokal - Einzelwertung",null,null,null,"Schülerpokal - Einzelwertung"]
["Verein","gesamt","Teiler",null,"Verein","gesamt","Teiler",null,"Verein","Name","Ringe","Teiler",null,"Verein","Name","Ringe","Teiler",null,"Verein:","Vor- und Nachname:","Teiler:",null,"Verein","Ringe","Teiler",null,"Verein","Name","Ringe","Teiler",null,"Verein","Ringe",null,"Verein","Ringe",null,"Verein","Name","Ringe",null,"Verein","Name","Ringe"]
["",0,0,1,"",0,0,1,"","",0,"",1,"","",0,"",1,"","","",1,"",0,0,1,"","",0,"",1,"",0,null,"",0,null,"","",0,null,"","",0]
["",0,0,2,"",0,0,2,"","",0,"",2,"","",0,"",2,"","","",2,"",0,0,2,"","",0,"",2,"",0,null,"",0,null,"","",0,null,"","",0]
["",0,0,3,"",0,0,3,"","",0,"",3,"","",0,"",3,"","","",3,"",0,0,3,"","",0,"",3,"",0,null,"",0,null,"","",0,null,"","",0]
["",0,0,4,"",0,0,4,"","",0,"",4,"","",0,"",4,"","","",4,"",0,0,4,"","",0,"",4,"",0,null,"",0,null,"","",0,null,"","",0]
["",0,0,5,"",0,0,5,"","",0,"",5,"","",0,"",5,"","","",5,"",0,0,5,"","",0,"",5,"",0,null,"",0,null,"","",0,null,"","",0]
["",0,0,6,"",0,0,6,"","",0,"",6,"","",0,"",6,"","","",6,"",0,0,6,"","",0,"",6,"",0,null,"",0,null,"","",0,null,"","",0]
["",0,0,7,"",0,0,7,"","",0,"",7,"","",0,"",7,"","","",7,"",0,0,7,"","",0,"",7,"",0,null,"",0,null,"","",0,null,"","",0]
["",0,0,8,"",0,0,8,"","",0,"",8,"","",0,"",8,"","","",8,"",0,0,8,"","",0,"",8,"",0,null,"",0,null,"","",0,null,"","",0]
["",0,0,9,"",0,0,9,"","",0,"",9,"","",0,"",9,"","","",9,"",0,0,9,"","",0,"",9,"",0,null,"",0,null,"","",0,null,"","",0]
["",0,0,10,"",0,0,10,"","",0,"",10,"","",0,"",10,"","","",10,"",0,0,10,"","",0,"",10,"",0,null,"",0,null,"","",0,null,"","",0]
["",0,0,11,"",0,0,11,"","",0,"",11,"","",0,"",11,"","","",11,"",0,0,11,"","",0,"",11,"",0,null,"",0,null,"","",0,null,"","",0]
["",0,0,12,"",0,0,12,"","",0,"",12,"","",0,"",12,"","","",12,"",0,0,12,"","",0,"",12,"",0,null,"",0,null,"","",0,null,"","",0]
["",0,0,13,"",0,0,13,"","",0,"",13,"","",0,"",13,"","","",13,"",0,0,13,"","",0,"",13,"",0,null,"",0,null,"","",0,null,"","",0]
["",0,0,14,"",0,0,14,"","",0,"",14,"","",0,"",14,"","","",14,"",0,0,14,"","",0,"",14,"",0,null,"",0,null,"","",0,null,"","",0]
["",0,0,15,"",0,0,15,"","",0,"",15,"","",0,"",15,"","","",15,"",0,0,15,"","",0,"",15,"",0,null,"",0,null,"","",0,null,"","",0]
["",0,0,16,"",0,0,16,"","",0,"",16,"","",0,"",16,"","","",16,"",0,0,16,"","",0,"",16,null,null,null,null,null,null,"","",0,null,"","",0]
["",0,0,17,"",0,0,17,"","",0,"",17,"","",0,"",17,"","","",17,"",0,0,17,"","",0,"",17,null,null,null,null,null,null,"","",0,null,"","",0]
["",0,0,18,"",0,0,18,"","",0,"",18,"","",0,"",18,"","","",18,"",0,0,18,"","",0,"",18,null,null,null,null,null,null,"","",0,null,"","",0]
["",0,0,19,"",0,0,19,"","",0,"",19,"","",0,"",19,"","","",19,"",0,0,19,"","",0,"",19,null,null,null,null,null,null,"","",0,null,"","",0]
["",0,0,20,"",0,0,20,"","",0,"",20,"","",0,"",20,"","","",20,"",0,0,20,"","",0,"",20,null,null,null,null,null,null,"","",0,null,"","",0]
["",0,0,21,"",0,0,21,"","",0,"",21,"","",0,"",21,"","","",21,"",0,0,21,"","",0,"",21,null,null,null,null,null,null,"","",0,null,"","",0]
["",0,0,22,"",0,0,22,"","",0,"",22,"","",0,"",22,"","","",22,"",0,0,22,"","",0,"",22,null,null,null,null,null,null,"","",0,null,"","",0]
["",0,0,23,"",0,0,23,"","",0,"",23,"","",0,"",23,"","","",23,"",0,0,23,"","",0,"",23,null,null,null,null,null,null,"","",0,null,"","",0]
["",0,0,24,"",0,0,24,"","",0,"",24,"","",0,"",24,"","","",24,"",0,0,24,"","",0,"",24,null,null,null,null,null,null,"","",0,null,"","",0]
["",0,0,25,"",0,0,25,"","",0,"",25,"","",0,"",25,"","","",25,"",0,0,25,"","",0,"",25,null,null,null,null,null,null,"","",0,null,"","",0]
["",0,0,26,"",0,0,26,"","",0,"",26,"","",0,"",26,"","","",26,"",0,0,26,"","",0,"",26,null,null,null,null,null,null,"","",0,null,"","",0]
["",0,0,27,"",0,0,27,"","",0,"",27,"","",0,"",27,"","","",27,"",0,0,27,"","",0,"",27,null,null,null,null,null,null,"","",0,null,"","",0]
["",0,0,28,"",0,0,28,"","",0,"",28,"","",0,"",28,"","","",28,"",0,0,28,"","",0,"",28,null,null,null,null,null,null,"","",0,null,"","",0]
["",0,0,29,"",0,0,29,"","",0,"",29,"","",0,"",29,"","","",29,"",0,0,29,"","",0,"",29,null,null,null,null,null,null,"","",0,null,"","",0]
["",0,0,30,"",0,0,30,"","",0,"",30,"","",0,"",30,"","","",30,"",0,0,30,"","",0,"",30,null,null,null,null,null,null,"","",0,null,"","",0]
["",0,0,31,"",0,0,31,"","",0,"",31,"","",0,"",31,"","","",31,null,null,null,null,"","",0,"",31,null,null,null,null,null,null,"","",0,null,"","",0]
["",0,0,32,"",0,0,32,"","",0,"",32,"","",0,"",32,"","","",32,null,null,null,null,"","",0,"",32,null,null,null,null,null,null,"","",0,null,"","",0]
["",0,0,33,"",0,0,33,"","",0,"",33,"","",0,"",33,"","","",33,null,null,null,null,"","",0,"",33,null,null,null,null,null,null,"","",0,null,"","",0]
["",0,0,34,"",0,0,34,"","",0,"",34,"","",0,"",34,"","","",34,null,null,null,null,"","",0,"",34,null,null,null,null,null,null,"","",0,null,"","",0]
["",0,0,35,"",0,0,35,"","",0,"",35,"","",0,"",35,"","","",35,null,null,null,null,"","",0,"",35,null,null,null,null,null,null,"","",0,null,"","",0]
["",0,0,36,"",0,0,36,"","",0,"",36,"","",0,"",36,"","","",36,null,null,null,null,"","",0,"",36,null,null,null,null,null,null,"","",0,null,"","",0]
["",0,0,37,"",0,0,37,"","",0,"",37,"","",0,"",37,"","","",37,null,null,null,null,"","",0,"",37,null,null,null,null,null,null,"","",0,null,"","",0]
["",0,0,38,"",0,0,38,"","",0,"",38,"","",0,"",38,"","","",38,null,null,null,null,"","",0,"",38,null,null,null,null,null,null,"","",0,null,"","",0]
["",0,0,39,"",0,0,39,"","",0,"",39,"","",0,"",39,"","","",39,null,null,null,null,"","",0,"",39,null,null,null,null,null,null,"","",0,null,"","",0]
["",0,0,40,"",0,0,40,"","",0,"",40,"","",0,"",40,"","","",40,null,null,null,null,"","",0,"",40,null,null,null,null,null,null,"","",0,null,"","",0]
[null,null,null,null,null,null,null,null,"","",0,"",41,"","",0,"",41,"","","",41,null,null,null,null,"","",0,"",41,null,null,null,null,null,null,"","",0,null,"","",0]
[null,null,null,null,null,null,null,null,"","",0,"",42,"","",0,"",42,"","","",42,null,null,null,null,"","",0,"",42,null,null,null,null,null,null,"","",0,null,"","",0]
[null,null,null,null,null,null,null,null,"","",0,"",43,"","",0,"",43,"","","",43,null,null,null,null,"","",0,"",43,null,null,null,null,null,null,"","",0,null,"","",0]
[null,null,null,null,null,null,null,null,"","",0,"",44,"","",0,"",44,"","","",44,null,null,null,null,"","",0,"",44,null,null,null,null,null,null,"","",0,null,"","",0]
[null,null,null,null,null,null,null,null,"","",0,"",45,"","",0,"",45,"","","",45,null,null,null,null,"","",0,"",45,null,null,null,null,null,null,"","",0,null,"","",0]
[null,null,null,null,null,null,null,null,"","",0,"",46,"","",0,"",46,"","","",46,null,null,null,null,"","",0,"",46]
[null,null,null,null,null,null,null,null,"","",0,"",47,"","",0,"",47,"","","",47,null,null,null,null,"","",0,"",47]
[null,null,null,null,null,null,null,null,"","",0,"",48,"","",0,"",48,"","","",48,null,null,null,null,"","",0,"",48]
[null,null,null,null,null,null,null,null,"","",0,"",49,"","",0,"",49,"","","",49,null,null,null,null,"","",0,"",49]
[null,null,null,null,null,null,null,null,"","",0,"",50,"","",0,"",50,"","","",50,null,null,null,null,"","",0,"",50]
[null,null,null,null,null,null,null,null,"","",0,"",51,"","",0,"",51,"","","",51,null,null,null,null,"","",0,"",51]
[null,null,null,null,null,null,null,null,"","",0,"",52,"","",0,"",52,"","","",52,null,null,null,null,"","",0,"",52]
[null,null,null,null,null,null,null,null,"","",0,"",53,"","",0,"",53,"","","",53,null,null,null,null,"","",0,"",53]
[null,null,null,null,null,null,null,null,"","",0,"",54,"","",0,"",54,"","","",54,null,null,null,null,"","",0,"",54]
[null,null,null,null,null,null,null,null,"","",0,"",55,"","",0,"",55,"","","",55,null,null,null,null,"","",0,"",55]
[null,null,null,null,null,null,null,null,"","",0,"",56,"","",0,"",56,"","","",56,null,null,null,null,"","",0,"",56]
[null,null,null,null,null,null,null,null,"","",0,"",57,"","",0,"",57,"","","",57,null,null,null,null,"","",0,"",57]
[null,null,null,null,null,null,null,null,"","",0,"",58,"","",0,"",58,"","","",58,null,null,null,null,"","",0,"",58]
[null,null,null,null,null,null,null,null,"","",0,"",59,"","",0,"",59,"","","",59,null,null,null,null,"","",0,"",59]
[null,null,null,null,null,null,null,null,"","",0,"",60,"","",0,"",60,"","","",60,null,null,null,null,"","",0,"",60]
[null,null,null,null,null,null,null,null,"","",0,"",61,"","",0,"",61,"","","",61,null,null,null,null,"","",0,"",61]
[null,null,null,null,null,null,null,null,"","",0,"",62,"","",0,"",62,"","","",62,null,null,null,null,"","",0,"",62]
[null,null,null,null,null,null,null,null,"","",0,"",63,"","",0,"",63,"","","",63,null,null,null,null,"","",0,"",63]
[null,null,null,null,null,null,null,null,"","",0,"",64,"","",0,"",64,"","","",64,null,null,null,null,"","",0,"",64]
[null,null,null,null,null,null,null,null,"","",0,"",65,"","",0,"",65,"","","",65,null,null,null,null,"","",0,"",65]
[null,null,null,null,null,null,null,null,"","",0,"",66,"","",0,"",66,"","","",66,null,null,null,null,"","",0,"",66]
[null,null,null,null,null,null,null,null,"","",0,"",67,"","",0,"",67,"","","",67,null,null,null,null,"","",0,"",67]
[null,null,null,null,null,null,null,null,"","",0,"",68,"","",0,"",68,"","","",68,null,null,null,null,"","",0,"",68]
[null,null,null,null,null,null,null,null,"","",0,"",69,"","",0,"",69,"","","",69,null,null,null,null,"","",0,"",69]
[null,null,null,null,null,null,null,null,"","",0,"",70,"","",0,"",70,"","","",70,null,null,null,null,"","",0,"",70]
[null,null,null,null,null,null,null,null,"","",0,"",71,"","",0,"",71,"","","",71,null,null,null,null,"","",0,"",71]
[null,null,null,null,null,null,null,null,"","",0,"",72,"","",0,"",72,"","","",72,null,null,null,null,"","",0,"",72]
[null,null,null,null,null,null,null,null,"","",0,"",73,"","",0,"",73,"","","",73,null,null,null,null,"","",0,"",73]
[null,null,null,null,null,null,null,null,"","",0,"",74,"","",0,"",74,"","","",74,null,null,null,null,"","",0,"",74]
[null,null,null,null,null,null,null,null,"","",0,"",75,"","",0,"",75,"","","",75,null,null,null,null,"","",0,"",75]
[null,null,null,null,null,null,null,null,"","",0,"",76,"","",0,"",76,"","","",76,null,null,null,null,"","",0,"",76]
[null,null,null,null,null,null,null,null,"","",0,"",77,"","",0,"",77,"","","",77,null,null,null,null,"","",0,"",77]
[null,null,null,null,null,null,null,null,"","",0,"",78,"","",0,"",78,"","","",78,null,null,null,null,"","",0,"",78]
[null,null,null,null,null,null,null,null,"","",0,"",79,"","",0,"",79,"","","",79,null,null,null,null,"","",0,"",79]
[null,null,null,null,null,null,null,null,"","",0,"",80,"","",0,"",80,"","","",80,null,null,null,null,"","",0,"",80]
[null,null,null,null,null,null,null,null,"","",0,"",81,"","",0,"",81,"","","",81,null,null,null,null,"","",0,"",81]
[null,null,null,null,null,null,null,null,"","",0,"",82,"","",0,"",82,"","","",82,null,null,null,null,"","",0,"",82]
[null,null,null,null,null,null,null,null,"","",0,"",83,"","",0,"",83,"","","",83,null,null,null,null,"","",0,"",83]
[null,null,null,null,null,null,null,null,"","",0,"",84,"","",0,"",84,"","","",84,null,null,null,null,"","",0,"",84]
[null,null,null,null,null,null,null,null,"","",0,"",85,"","",0,"",85,"","","",85,null,null,null,null,"","",0,"",85]
[null,null,null,null,null,null,null,null,"","",0,"",86,"","",0,"",86,"","","",86,null,null,null,null,"","",0,"",86]
[null,null,null,null,null,null,null,null,"","",0,"",87,"","",0,"",87,"","","",87,null,null,null,null,"","",0,"",87]
[null,null,null,null,null,null,null,null,"","",0,"",88,"","",0,"",88,"","","",88,null,null,null,null,"","",0,"",88]
[null,null,null,null,null,null,null,null,"","",0,"",89,"","",0,"",89,"","","",89,null,null,null,null,"","",0,"",89]
[null,null,null,null,null,null,null,null,"","",0,"",90,"","",0,"",90,"","","",90,null,null,null,null,"","",0,"",90]
[null,null,null,null,null,null,null,null,"","",0,"",91,"","",0,"",91,"","","",91]
[null,null,null,null,null,null,null,null,"","",0,"",92,"","",0,"",92,"","","",92]
[null,null,null,null,null,null,null,null,"","",0,"",93,"","",0,"",93,"","","",93]
[null,null,null,null,null,null,null,null,"","",0,"",94,"","",0,"",94,"","","",94]
[null,null,null,null,null,null,null,null,"","",0,"",95,"","",0,"",95,"","","",95]
[null,null,null,null,null,null,null,null,"","",0,"",96,"","",0,"",96,"","","",96]
[null,null,null,null,null,null,null,null,"","",0,"",97,"","",0,"",97,"","","",97]
[null,null,null,null,null,null,null,null,"","",0,"",98,"","",0,"",98,"","","",98]
[null,null,null,null,null,null,null,null,"","",0,"",99,"","",0,"",99,"","","",99]
[null,null,null,null,null,null,null,null,"","",0,"",100,"","",0,"",100,"","","",100]
[null,null,null,null,null,null,null,null,"","",0,"",101,"","",0,"",101,"","","",101]
[null,null,null,null,null,null,null,null,"","",0,"",102,"","",0,"",102,"","","",102]
[null,null,null,null,null,null,null,null,"","",0,"",103,"","",0,"",103,"","","",103]
[null,null,null,null,null,null,null,null,"","",0,"",104,"","",0,"",104,"","","",104]
[null,null,null,null,null,null,null,null,"","",0,"",105,"","",0,"",105,"","","",105]
[null,null,null,null,null,null,null,null,"","",0,"",106,"","",0,"",106,"","","",106]
[null,null,null,null,null,null,null,null,"","",0,"",107,"","",0,"",107,"","","",107]
[null,null,null,null,null,null,null,null,"","",0,"",108,"","",0,"",108,"","","",108]
[null,null,null,null,null,null,null,null,"","",0,"",109,"","",0,"",109,"","","",109]
[null,null,null,null,null,null,null,null,"","",0,"",110,"","",0,"",110,"","","",110]
[null,null,null,null,null,null,null,null,"","",0,"",111,"","",0,"",111,"","","",111]
[null,null,null,null,null,null,null,null,"","",0,"",112,"","",0,"",112,"","","",112]
[null,null,null,null,null,null,null,null,"","",0,"",113,"","",0,"",113,"","","",113]
[null,null,null,null,null,null,null,null,"","",0,"",114,"","",0,"",114,"","","",114]
[null,null,null,null,null,null,null,null,"","",0,"",115,"","",0,"",115,"","","",115]
[null,null,null,null,null,null,null,null,"","",0,"",116,"","",0,"",116,"","","",116]
[null,null,null,null,null,null,null,null,"","",0,"",117,"","",0,"",117,"","","",117]
[null,null,null,null,null,null,null,null,"","",0,"",118,"","",0,"",118,"","","",118]
[null,null,null,null,null,null,null,null,"","",0,"",119,"","",0,"",119,"","","",119]
[null,null,null,null,null,null,null,null,"","",0,"",120,"","",0,"",120,"","","",120]
[null,null,null,null,null,null,null,null,"","",0,"",121,"","",0,"",121,"","","",121]
[null,null,null,null,null,null,null,null,"","",0,"",122,"","",0,"",122,"","","",122]
[null,null,null,null,null,null,null,null,"","",0,"",123,"","",0,"",123,"","","",123]
[null,null,null,null,null,null,null,null,"","",0,"",124,"","",0,"",124,"","","",124]
[null,null,null,null,null,null,null,null,"","",0,"",125,"","",0,"",125,"","","",125]
[null,null,null,null,null,null,null,null,"","",0,"",126,"","",0,"",126,"","","",126]
[null,null,null,null,null,null,null,null,"","",0,"",127,"","",0,"",127,"","","",127]
[null,null,null,null,null,null,null,null,"","",0,"",128,"","",0,"",128,"","","",128]
[null,null,null,null,null,null,null,null,"","",0,"",129,"","",0,"",129,"","","",129]
[null,null,null,null,null,null,null,null,"","",0,"",130,"","",0,"",130,"","","",130]
[null,null,null,null,null,null,null,null,"","",0,"",131,"","",0,"",131,"","","",131]
[null,null,null,null,null,null,null,null,"","",0,"",132,"","",0,"",132,"","","",132]
[null,null,null,null,null,null,null,null,"","",0,"",133,"","",0,"",133,"","","",133]
[null,null,null,null,null,null,null,null,"","",0,"",134,"","",0,"",134,"","","",134]
[null,null,null,null,null,null,null,null,"","",0,"",135,"","",0,"",135,"","","",135]
[null,null,null,null,null,null,null,null,"","",0,"",136,"","",0,"",136,"","","",136]
[null,null,null,null,null,null,null,null,"","",0,"",137,"","",0,"",137,"","","",137]
[null,null,null,null,null,null,null,null,"","",0,"",138,"","",0,"",138,"","","",138]
[null,null,null,null,null,null,null,null,"","",0,"",139,"","",0,"",139,"","","",139]
[null,null,null,null,null,null,null,null,"","",0,"",140,"","",0,"",140,"","","",140]
[null,null,null,null,null,null,null,null,"","",0,"",141,"","",0,"",141,"","","",141]
[null,null,null,null,null,null,null,null,"","",0,"",142,"","",0,"",142,"","","",142]
[null,null,null,null,null,null,null,null,"","",0,"",143,"","",0,"",143,"","","",143]
[null,null,null,null,null,null,null,null,"","",0,"",144,"","",0,"",144,"","","",144]
[null,null,null,null,null,null,null,null,"","",0,"",145,"","",0,"",145,"","","",145]
[null,null,null,null,null,null,null,null,"","",0,"",146,"","",0,"",146,"","","",146]
[null,null,null,null,null,null,null,null,"","",0,"",147,"","",0,"",147,"","","",147]
[null,null,null,null,null,null,null,null,"","",0,"",148,"","",0,"",148,"","","",148]
[null,null,null,null,null,null,null,null,"","",0,"",149,"","",0,"",149,"","","",149]
[null,null,null,null,null,null,null,null,"","",0,"",150,"","",0,"",150,"","","",150]
[null,null,null,null,null,null,null,null,"","",0,"",151,"","",0,"",151,"","","",151]
[null,null,null,null,null,null,null,null,"","",0,"",152,"","",0,"",152,"","","",152]
[null,null,null,null,null,null,null,null,"","",0,"",153,"","",0,"",153,"","","",153]
[null,null,null,null,null,null,null,null,"","",0,"",154,"","",0,"",154,"","","",154]
[null,null,null,null,null,null,null,null,"","",0,"",155,"","",0,"",155,"","","",155]
[null,null,null,null,null,null,null,null,"","",0,"",156,"","",0,"",156,"","","",156]
[null,null,null,null,null,null,null,null,"","",0,"",157,"","",0,"",157,"","","",157]
[null,null,null,null,null,null,null,null,"","",0,"",158,"","",0,"",158,"","","",158]
[null,null,null,null,null,null,null,null,"","",0,"",159,"","",0,"",159,"","","",159]
[null,null,null,null,null,null,null,null,"","",0,"",160,"","",0,"",160,"","","",160]
[null,null,null,null,null,null,null,null,null,null,null,null,null,null,null,null,null,null,"","","",161]
[null,null,null,null,null,null,null,null,null,null,null,null,null,null,null,null,null,null,"","","",162]
[null,null,null,null,null,null,null,null,null,null,null,null,null,null,null,null,null,null,"","","",163]
[null,null,null,null,null,null,null,null,null,null,null,null,null,null,null,null,null,null,"","","",164]
[null,null,null,null,null,null,null,null,null,null,null,null,null,null,null,null,null,null,"","","",165]
[null,null,null,null,null,null,null,null,null,null,null,null,null,null,null,null,null,null,"","","",166]
[null,null,null,null,null,null,null,null,null,null,null,null,null,null,null,null,null,null,"","","",167]
[null,null,null,null,null,null,null,null,null,null,null,null,null,null,null,null,null,null,"","","",168]
[null,null,null,null,null,null,null,null,null,null,null,null,null,null,null,null,null,null,"","","",169]
[null,null,null,null,null,null,null,null,null,null,null,null,null,null,null,null,null,null,"","","",170]
[null,null,null,null,null,null,null,null,null,null,null,null,null,null,null,null,null,null,"","","",171]
[null,null,null,null,null,null,null,null,null,null,null,null,null,null,null,null,null,null,"","","",172]
[null,null,null,null,null,null,null,null,null,null,null,null,null,null,null,null,null,null,"","","",173]
[null,null,null,null,null,null,null,null,null,null,null,null,null,null,null,null,null,null,"","","",174]
[null,null,null,null,null,null,null,null,null,null,null,null,null,null,null,null,null,null,"","","",175]
[null,null,null,null,null,null,null,null,null,null,null,null,null,null,null,null,null,null,"","","",176]
[null,null,null,null,null,null,null,null,null,null,null,null,null,null,null,null,null,null,"","","",177]
[null,null,null,null,null,null,null,null,null,null,null,null,null,null,null,null,null,null,"","","",178]
[null,null,null,null,null,null,null,null,null,null,null,null,null,null,null,null,null,null,"","","",179]
[null,null,null,null,null,null,null,null,null,null,null,null,null,null,null,null,null,null,"","","",180]
[null,null,null,null,null,null,null,null,null,null,null,null,null,null,null,null,null,null,"","","",181]
[null,null,null,null,null,null,null,null,null,null,null,null,null,null,null,null,null,null,"","","",182]
[null,null,null,null,null,null,null,null,null,null,null,null,null,null,null,null,null,null,"","","",183]
[null,null,null,null,null,null,null,null,null,null,null,null,null,null,null,null,null,null,"","","",184]
[null,null,null,null,null,null,null,null,null,null,null,null,null,null,null,null,null,null,"","","",185]
[null,null,null,null,null,null,null,null,null,null,null,null,null,null,null,null,null,null,"","","",186]
[null,null,null,null,null,null,null,null,null,null,null,null,null,null,null,null,null,null,"","","",187]
[null,null,null,null,null,null,null,null,null,null,null,null,null,null,null,null,null,null,"","","",188]
[null,null,null,null,null,null,null,null,null,null,null,null,null,null,null,null,null,null,"","","",189]
[null,null,null,null,null,null,null,null,null,null,null,null,null,null,null,null,null,null,"","","",190]
[null,null,null,null,null,null,null,null,null,null,null,null,null,null,null,null,null,null,"","","",191]
[null,null,null,null,null,null,null,null,null,null,null,null,null,null,null,null,null,null,"","","",192]
[null,null,null,null,null,null,null,null,null,null,null,null,null,null,null,null,null,null,"","","",193]
[null,null,null,null,null,null,null,null,null,null,null,null,null,null,null,null,null,null,"","","",194]
[null,null,null,null,null,null,null,null,null,null,null,null,null,null,null,null,null,null,"","","",195]
[null,null,null,null,null,null,null,null,null,null,null,null,null,null,null,null,null,null,"","","",196]
[null,null,null,null,null,null,null,null,null,null,null,null,null,null,null,null,null,null,"","","",197]
[null,null,null,null,null,null,null,null,null,null,null,null,null,null,null,null,null,null,"","","",198]
[null,null,null,null,null,null,null,null,null,null,null,null,null,null,null,null,null,null,"","","",199]
[null,null,null,null,null,null,null,null,null,null,null,null,null,null,null,null,null,null,"","","",200]
[null,null,null,null,null,null,null,null,null,null,null,null,null,null,null,null,null,null,"","","",201]
[null,null,null,null,null,null,null,null,null,null,null,null,null,null,null,null,null,null,"","","",202]
[null,null,null,null,null,null,null,null,null,null,null,null,null,null,null,null,null,null,"","","",203]
[null,null,null,null,null,null,null,null,null,null,null,null,null,null,null,null,null,null,"","","",204]
[null,null,null,null,null,null,null,null,null,null,null,null,null,null,null,null,null,null,"","","",205]
[null,null,null,null,null,null,null,null,null,null,null,null,null,null,null,null,null,null,"","","",206]
[null,null,null,null,null,null,null,null,null,null,null,null,null,null,null,null,null,null,"","","",207]
[null,null,null,null,null,null,null,null,null,null,null,null,null,null,null,null,null,null,"","","",208]
[null,null,null,null,null,null,null,null,null,null,null,null,null,null,null,null,null,null,"","","",209]
[null,null,null,null,null,null,null,null,null,null,null,null,null,null,null,null,null,null,"","","",210]
[null,null,null,null,null,null,null,null,null,null,null,null,null,null,null,null,null,null,"","","",211]
[null,null,null,null,null,null,null,null,null,null,null,null,null,null,null,null,null,null,"","","",212]
[null,null,null,null,null,null,null,null,null,null,null,null,null,null,null,null,null,null,"","","",213]
[null,null,null,null,null,null,null,null,null,null,null,null,null,null,null,null,null,null,"","","",214]
[null,null,null,null,null,null,null,null,null,null,null,null,null,null,null,null,null,null,"","","",215]
[null,null,null,null,null,null,null,null,null,null,null,null,null,null,null,null,null,null,"","","",216]
[null,null,null,null,null,null,null,null,null,null,null,null,null,null,null,null,null,null,"","","",217]
[null,null,null,null,null,null,null,null,null,null,null,null,null,null,null,null,null,null,"","","",218]
[null,null,null,null,null,null,null,null,null,null,null,null,null,null,null,null,null,null,"","","",219]
[null,null,null,null,null,null,null,null,null,null,null,null,null,null,null,null,null,null,"","","",220]
[null,null,null,null,null,null,null,null,null,null,null,null,null,null,null,null,null,null,"","","",221]
[null,null,null,null,null,null,null,null,null,null,null,null,null,null,null,null,null,null,"","","",222]
[null,null,null,null,null,null,null,null,null,null,null,null,null,null,null,null,null,null,"","","",223]
[null,null,null,null,null,null,null,null,null,null,null,null,null,null,null,null,null,null,"","","",224]
[null,null,null,null,null,null,null,null,null,null,null,null,null,null,null,null,null,null,"","","",225]
[null,null,null,null,null,null,null,null,null,null,null,null,null,null,null,null,null,null,"","","",226]
[null,null,null,null,null,null,null,null,null,null,null,null,null,null,null,null,null,null,"","","",227]
[null,null,null,null,null,null,null,null,null,null,null,null,null,null,null,null,null,null,"","","",228]
[null,null,null,null,null,null,null,null,null,null,null,null,null,null,null,null,null,null,"","","",229]
[null,null,null,null,null,null,null,null,null,null,null,null,null,null,null,null,null,null,"","","",230]
[null,null,null,null,null,null,null,null,null,null,null,null,null,null,null,null,null,null,"","","",231]
[null,null,null,null,null,null,null,null,null,null,null,null,null,null,null,null,null,null,"","","",232]
[null,null,null,null,null,null,null,null,null,null,null,null,null,null,null,null,null,null,"","","",233]
[null,null,null,null,null,null,null,null,null,null,null,null,null,null,null,null,null,null,"","","",234]
[null,null,null,null,null,null,null,null,null,null,null,null,null,null,null,null,null,null,"","","",235]
[null,null,null,null,null,null,null,null,null,null,null,null,null,null,null,null,null,null,"","","",236]
[null,null,null,null,null,null,null,null,null,null,null,null,null,null,null,null,null,null,"","","",237]
[null,null,null,null,null,null,null,null,null,null,null,null,null,null,null,null,null,null,"","","",238]
[null,null,null,null,null,null,null,null,null,null,null,null,null,null,null,null,null,null,"","","",239]
[null,null,null,null,null,null,null,null,null,null,null,null,null,null,null,null,null,null,"","","",240]
[null,null,null,null,null,null,null,null,null,null,null,null,null,null,null,null,null,null,"","","",241]
[null,null,null,null,null,null,null,null,null,null,null,null,null,null,null,null,null,null,"","","",242]
[null,null,null,null,null,null,null,null,null,null,null,null,null,null,null,null,null,null,"","","",243]
[null,null,null,null,null,null,null,null,null,null,null,null,null,null,null,null,null,null,"","","",244]
[null,null,null,null,null,null,null,null,null,null,null,null,null,null,null,null,null,null,"","","",245]
[null,null,null,null,null,null,null,null,null,null,null,null,null,null,null,null,null,null,"","","",246]
[null,null,null,null,null,null,null,null,null,null,null,null,null,null,null,null,null,null,"","","",247]
[null,null,null,null,null,null,null,null,null,null,null,null,null,null,null,null,null,null,"","","",248]
[null,null,null,null,null,null,null,null,null,null,null,null,null,null,null,null,null,null,"","","",249]
[null,null,null,null,null,null,null,null,null,null,null,null,null,null,null,null,null,null,"","","",250]

{"sheet":"Sammler","index":10,"n_rows":252,"n_cols":44,"rows_kept":252,"cut":false,"hidden":false,"merged":[[0,41,0,43],[0,31,0,32],[0,34,0,35],[0,22,0,24],[0,37,0,39],[0,26,0,29],[0,18,0,20],[0,4,0,6],[0,0,0,2],[0,8,0,11],[0,13,0,16]]}
["Luhepokal",null,null,null,"Kommandeurspokal",null,null,null,"Luhe - Einzelwertung",null,null,null,null,"Komm - Einzelwertung",null,null,null,null,"Preisschiessen",null,null,null,"Damenpokal",null,null,null,"Damenpokal - Einzelwertung",null,null,null,null,"Jugendpokal",null,null,"Schülerpokal",null,null,"Jugendpokal - Einzelwertung",null,null,null,"Schülerpokal - Einzelwertung"]
["Verein","gesamt","Teiler",null,"Verein","gesamt","Teiler",null,"Verein","Name","Ringe","Teiler",null,"Verein","Name","Ringe","Teiler",null,"Verein:","Vor- und Nachname:","Teiler:",null,"Verein","Ringe","Teiler",null,"Verein","Name","Ringe","Teiler",null,"Verein","Ringe",null,"Verein","Ringe",null,"Verein","Name","Ringe",null,"Verein","Name","Ringe"]
[{"$f":"'PK-Luhe-Komm'!B3","v":""},{"$f":"'PK-Luhe-Komm'!D7","v":0},{"$f":"'PK-Luhe-Komm'!E7","v":0},1,{"$f":"'PK-Luhe-Komm'!H3","v":""},{"$f":"'PK-Luhe-Komm'!J7","v":0},{"$f":"'PK-Luhe-Komm'!K7","v":0},1,{"$f":"'PK-Luhe-Komm'!$B$3","v":""},{"$f":"'PK-Luhe-Komm'!C3","v":""},{"$f":"'PK-Luhe-Komm'!D3","v":0},{"$f":"IF('PK-Luhe-Komm'!E3=\"\",\"\",'PK-Luhe-Komm'!E3)","v":""},1,{"$f":"'PK-Luhe-Komm'!$H$3","v":""},{"$f":"'PK-Luhe-Komm'!I3","v":""},{"$f":"'PK-Luhe-Komm'!J3","v":0},{"$f":"IF('PK-Luhe-Komm'!K3=\"\",\"\",'PK-Luhe-Komm'!K3)","v":""},1,{"$f":"PS!C5","v":""},{"$f":"PS!D5","v":""},{"$f":"IF(PS!E5=\"\",\"\",PS!E5)","v":""},1,{"$f":"'PK-Damen'!B3","v":""},{"$f":"'PK-Damen'!D6","v":0},{"$f":"'PK-Damen'!E6","v":0},1,{"$f":"'PK-Damen'!$B$3","v":""},{"$f":"'PK-Damen'!C3","v":""},{"$f":"'PK-Damen'!D3","v":0},{"$f":"IF('PK-Damen'!E3=\"\",\"\",'PK-Damen'!E3)","v":""},1,{"$f":"'PK-Jugend-Schüler'!B3","v":""},{"$f":"'PK-Jugend-Schüler'!D6","v":0},null,{"$f":"'PK-Jugend-Schüler'!G3","v":""},{"$f":"'PK-Jugend-Schüler'!I6","v":0},null,{"$f":"'PK-Jugend-Schüler'!$B$3","v":""},{"$f":"'PK-Jugend-Schüler'!C3","v":""},{"$f":"'PK-Jugend-Schüler'!D3","v":0},null,{"$f":"'PK-Jugend-Schüler'!$G$3","v":""},{"$f":"'PK-Jugend-Schüler'!H3","v":""},{"$f":"'PK-Jugend-Schüler'!I3","v":0}]
[{"$f":"'PK-Luhe-Komm'!B10","v":""},{"$f":"'PK-Luhe-Komm'!D14","v":0},{"$f":"'PK-Luhe-Komm'!E14","v":0},2,{"$f":"'PK-Luhe-Komm'!H10","v":""},{"$f":"'PK-Luhe-Komm'!J14","v":0},{"$f":"'PK-Luhe-Komm'!K14","v":0},2,{"$f":"'PK-Luhe-Komm'!$B$3","v":""},{"$f":"'PK-Luhe-Komm'!C4","v":""},{"$f":"'PK-Luhe-Komm'!D4","v":0},{"$f":"IF('PK-Luhe-Komm'!E4=\"\",\"\",'PK-Luhe-Komm'!E4)","v":""},2,{"$f":"'PK-Luhe-Komm'!$H$3","v":""},{"$f":"'PK-Luhe-Komm'!I4","v":""},{"$f":"'PK-Luhe-Komm'!J4","v":0},{"$f":"IF('PK-Luhe-Komm'!K4=\"\",\"\",'PK-Luhe-Komm'!K4)","v":""},2,{"$f":"PS!C6","v":""},{"$f":"PS!D6","v":""},{"$f":"IF(PS!E6=\"\",\"\",PS!E6)","v":""},2,{"$f":"'PK-Damen'!B9","v":""},{"$f":"'PK-Damen'!D12","v":0},{"$f":"'PK-Damen'!E12","v":0},2,{"$f":"'PK-Damen'!$B$3","v":""},{"$f":"'PK-Damen'!C4","v":""},{"$f":"'PK-Damen'!D4","v":0},{"$f":"IF('PK-Damen'!E4=\"\",\"\",'PK-Damen'!E4)","v":""},2,{"$f":"'PK-Jugend-Schüler'!B9","v":""},{"$f":"'PK-Jugend-Schüler'!D12","v":0},null,{"$f":"'PK-Jugend-Schüler'!G9","v":""},{"$f":"'PK-Jugend-Schüler'!I12","v":0},null,{"$f":"'PK-Jugend-Schüler'!$B$3","v":""},{"$f":"'PK-Jugend-Schüler'!C4","v":""},{"$f":"'PK-Jugend-Schüler'!D4","v":0},null,{"$f":"'PK-Jugend-Schüler'!$G$3","v":""},{"$f":"'PK-Jugend-Schüler'!H4","v":""},{"$f":"'PK-Jugend-Schüler'!I4","v":0}]
[{"$f":"'PK-Luhe-Komm'!B17","v":""},{"$f":"'PK-Luhe-Komm'!D21","v":0},{"$f":"'PK-Luhe-Komm'!E21","v":0},3,{"$f":"'PK-Luhe-Komm'!H17","v":""},{"$f":"'PK-Luhe-Komm'!J21","v":0},{"$f":"'PK-Luhe-Komm'!K21","v":0},3,{"$f":"'PK-Luhe-Komm'!$B$3","v":""},{"$f":"'PK-Luhe-Komm'!C5","v":""},{"$f":"'PK-Luhe-Komm'!D5","v":0},{"$f":"IF('PK-Luhe-Komm'!E5=\"\",\"\",'PK-Luhe-Komm'!E5)","v":""},3,{"$f":"'PK-Luhe-Komm'!$H$3","v":""},{"$f":"'PK-Luhe-Komm'!I5","v":""},{"$f":"'PK-Luhe-Komm'!J5","v":0},{"$f":"IF('PK-Luhe-Komm'!K5=\"\",\"\",'PK-Luhe-Komm'!K5)","v":""},3,{"$f":"PS!C7","v":""},{"$f":"PS!D7","v":""},{"$f":"IF(PS!E7=\"\",\"\",PS!E7)","v":""},3,{"$f":"'PK-Damen'!B15","v":""},{"$f":"'PK-Damen'!D18","v":0},{"$f":"'PK-Damen'!E18","v":0},3,{"$f":"'PK-Damen'!$B$3","v":""},{"$f":"'PK-Damen'!C5","v":""},{"$f":"'PK-Damen'!D5","v":0},{"$f":"IF('PK-Damen'!E5=\"\",\"\",'PK-Damen'!E5)","v":""},3,{"$f":"'PK-Jugend-Schüler'!B15","v":""},{"$f":"'PK-Jugend-Schüler'!D18","v":0},null,{"$f":"'PK-Jugend-Schüler'!G15","v":""},{"$f":"'PK-Jugend-Schüler'!I18","v":0},null,{"$f":"'PK-Jugend-Schüler'!$B$3","v":""},{"$f":"'PK-Jugend-Schüler'!C5","v":""},{"$f":"'PK-Jugend-Schüler'!D5","v":0},null,{"$f":"'PK-Jugend-Schüler'!$G$3","v":""},{"$f":"'PK-Jugend-Schüler'!H5","v":""},{"$f":"'PK-Jugend-Schüler'!I5","v":0}]
[{"$f":"'PK-Luhe-Komm'!B24","v":""},{"$f":"'PK-Luhe-Komm'!D28","v":0},{"$f":"'PK-Luhe-Komm'!E28","v":0},4,{"$f":"'PK-Luhe-Komm'!H24","v":""},{"$f":"'PK-Luhe-Komm'!J28","v":0},{"$f":"'PK-Luhe-Komm'!K28","v":0},4,{"$f":"'PK-Luhe-Komm'!$B$3","v":""},{"$f":"'PK-Luhe-Komm'!C6","v":""},{"$f":"'PK-Luhe-Komm'!D6","v":0},{"$f":"IF('PK-Luhe-Komm'!E6=\"\",\"\",'PK-Luhe-Komm'!E6)","v":""},4,{"$f":"'PK-Luhe-Komm'!$H$3","v":""},{"$f":"'PK-Luhe-Komm'!I6","v":""},{"$f":"'PK-Luhe-Komm'!J6","v":0},{"$f":"IF('PK-Luhe-Komm'!K6=\"\",\"\",'PK-Luhe-Komm'!K6)","v":""},4,{"$f":"PS!C8","v":""},{"$f":"PS!D8","v":""},{"$f":"IF(PS!E8=\"\",\"\",PS!E8)","v":""},4,{"$f":"'PK-Damen'!B21","v":""},{"$f":"'PK-Damen'!D24","v":0},{"$f":"'PK-Damen'!E24","v":0},4,{"$f":"'PK-Damen'!$B$9","v":""},{"$f":"'PK-Damen'!C9","v":""},{"$f":"'PK-Damen'!D9","v":0},{"$f":"IF('PK-Damen'!E9=\"\",\"\",'PK-Damen'!E9)","v":""},4,{"$f":"'PK-Jugend-Schüler'!B21","v":""},{"$f":"'PK-Jugend-Schüler'!D24","v":0},null,{"$f":"'PK-Jugend-Schüler'!G21","v":""},{"$f":"'PK-Jugend-Schüler'!I24","v":0},null,{"$f":"'PK-Jugend-Schüler'!$B$9","v":""},{"$f":"'PK-Jugend-Schüler'!C9","v":""},{"$f":"'PK-Jugend-Schüler'!D9","v":0},null,{"$f":"'PK-Jugend-Schüler'!$G$9","v":""},{"$f":"'PK-Jugend-Schüler'!H9","v":""},{"$f":"'PK-Jugend-Schüler'!I9","v":0}]
[{"$f":"'PK-Luhe-Komm'!B31","v":""},{"$f":"'PK-Luhe-Komm'!D35","v":0},{"$f":"'PK-Luhe-Komm'!E35","v":0},5,{"$f":"'PK-Luhe-Komm'!H31","v":""},{"$f":"'PK-Luhe-Komm'!J35","v":0},{"$f":"'PK-Luhe-Komm'!K35","v":0},5,{"$f":"'PK-Luhe-Komm'!$B$10","v":""},{"$f":"'PK-Luhe-Komm'!C10","v":""},{"$f":"'PK-Luhe-Komm'!D10","v":0},{"$f":"IF('PK-Luhe-Komm'!E10=\"\",\"\",'PK-Luhe-Komm'!E10)","v":""},5,{"$f":"'PK-Luhe-Komm'!$H$10","v":""},{"$f":"'PK-Luhe-Komm'!I10","v":""},{"$f":"'PK-Luhe-Komm'!J10","v":0},{"$f":"IF('PK-Luhe-Komm'!K10=\"\",\"\",'PK-Luhe-Komm'!K10)","v":""},5,{"$f":"PS!C9","v":""},{"$f":"PS!D9","v":""},{"$f":"IF(PS!E9=\"\",\"\",PS!E9)","v":""},5,{"$f":"'PK-Damen'!B27","v":""},{"$f":"'PK-Damen'!D30","v":0},{"$f":"'PK-Damen'!E30","v":0},5,{"$f":"'PK-Damen'!$B$9","v":""},{"$f":"'PK-Damen'!C10","v":""},{"$f":"'PK-Damen'!D10","v":0},{"$f":"IF('PK-Damen'!E10=\"\",\"\",'PK-Damen'!E10)","v":""},5,{"$f":"'PK-Jugend-Schüler'!B27","v":""},{"$f":"'PK-Jugend-Schüler'!D30","v":0},null,{"$f":"'PK-Jugend-Schüler'!G27","v":""},{"$f":"'PK-Jugend-Schüler'!I30","v":0},null,{"$f":"'PK-Jugend-Schüler'!$B$9","v":""},{"$f":"'PK-Jugend-Schüler'!C10","v":""},{"$f":"'PK-Jugend-Schüler'!D10","v":0},null,{"$f":"'PK-Jugend-Schüler'!$G$9","v":""},{"$f":"'PK-Jugend-Schüler'!H10","v":""},{"$f":"'PK-Jugend-Schüler'!I10","v":0}]
[{"$f":"'PK-Luhe-Komm'!B38","v":""},{"$f":"'PK-Luhe-Komm'!D42","v":0},{"$f":"'PK-Luhe-Komm'!E42","v":0},6,{"$f":"'PK-Luhe-Komm'!H38","v":""},{"$f":"'PK-Luhe-Komm'!J42","v":0},{"$f":"'PK-Luhe-Komm'!K42","v":0},6,{"$f":"'PK-Luhe-Komm'!$B$10","v":""},{"$f":"'PK-Luhe-Komm'!C11","v":""},{"$f":"'PK-Luhe-Komm'!D11","v":0},{"$f":"IF('PK-Luhe-Komm'!E11=\"\",\"\",'PK-Luhe-Komm'!E11)","v":""},6,{"$f":"'PK-Luhe-Komm'!$H$10","v":""},{"$f":"'PK-Luhe-Komm'!I11","v":""},{"$f":"'PK-Luhe-Komm'!J11","v":0},{"$f":"IF('PK-Luhe-Komm'!K11=\"\",\"\",'PK-Luhe-Komm'!K11)","v":""},6,{"$f":"PS!C10","v":""},{"$f":"PS!D10","v":""},{"$f":"IF(PS!E10=\"\",\"\",PS!E10)","v":""},6,{"$f":"'PK-Damen'!B33","v":""},{"$f":"'PK-Damen'!D36","v":0},{"$f":"'PK-Damen'!E36","v":0},6,{"$f":"'PK-Damen'!$B$9","v":""},{"$f":"'PK-Damen'!C11","v":""},{"$f":"'PK-Damen'!D11","v":0},{"$f":"IF('PK-Damen'!E11=\"\",\"\",'PK-Damen'!E11)","v":""},6,{"$f":"'PK-Jugend-Schüler'!B33","v":""},{"$f":"'PK-Jugend-Schüler'!D36","v":0},null,{"$f":"'PK-Jugend-Schüler'!G33","v":""},{"$f":"'PK-Jugend-Schüler'!I36","v":0},null,{"$f":"'PK-Jugend-Schüler'!$B$9","v":""},{"$f":"'PK-Jugend-Schüler'!C11","v":""},{"$f":"'PK-Jugend-Schüler'!D11","v":0},null,{"$f":"'PK-Jugend-Schüler'!$G$9","v":""},{"$f":"'PK-Jugend-Schüler'!H11","v":""},{"$f":"'PK-Jugend-Schüler'!I11","v":0}]
[{"$f":"'PK-Luhe-Komm'!B45","v":""},{"$f":"'PK-Luhe-Komm'!D49","v":0},{"$f":"'PK-Luhe-Komm'!E49","v":0},7,{"$f":"'PK-Luhe-Komm'!H45","v":""},{"$f":"'PK-Luhe-Komm'!J49","v":0},{"$f":"'PK-Luhe-Komm'!K49","v":0},7,{"$f":"'PK-Luhe-Komm'!$B$10","v":""},{"$f":"'PK-Luhe-Komm'!C12","v":""},{"$f":"'PK-Luhe-Komm'!D12","v":0},{"$f":"IF('PK-Luhe-Komm'!E12=\"\",\"\",'PK-Luhe-Komm'!E12)","v":""},7,{"$f":"'PK-Luhe-Komm'!$H$10","v":""},{"$f":"'PK-Luhe-Komm'!I12","v":""},{"$f":"'PK-Luhe-Komm'!J12","v":0},{"$f":"IF('PK-Luhe-Komm'!K12=\"\",\"\",'PK-Luhe-Komm'!K12)","v":""},7,{"$f":"PS!C11","v":""},{"$f":"PS!D11","v":""},{"$f":"IF(PS!E11=\"\",\"\",PS!E11)","v":""},7,{"$f":"'PK-Damen'!B39","v":""},{"$f":"'PK-Damen'!D42","v":0},{"$f":"'PK-Damen'!E42","v":0},7,{"$f":"'PK-Damen'!$B$15","v":""},{"$f":"'PK-Damen'!C15","v":""},{"$f":"'PK-Damen'!D15","v":0},{"$f":"IF('PK-Damen'!E15=\"\",\"\",'PK-Damen'!E15)","v":""},7,{"$f":"'PK-Jugend-Schüler'!B39","v":""},{"$f":"'PK-Jugend-Schüler'!D42","v":0},null,{"$f":"'PK-Jugend-Schüler'!G39","v":""},{"$f":"'PK-Jugend-Schüler'!I42","v":0},null,{"$f":"'PK-Jugend-Schüler'!$B$15","v":""},{"$f":"'PK-Jugend-Schüler'!C15","v":""},{"$f":"'PK-Jugend-Schüler'!D15","v":0},null,{"$f":"'PK-Jugend-Schüler'!$G$15","v":""},{"$f":"'PK-Jugend-Schüler'!H15","v":""},{"$f":"'PK-Jugend-Schüler'!I15","v":0}]
[{"$f":"'PK-Luhe-Komm'!B52","v":""},{"$f":"'PK-Luhe-Komm'!D56","v":0},{"$f":"'PK-Luhe-Komm'!E56","v":0},8,{"$f":"'PK-Luhe-Komm'!H52","v":""},{"$f":"'PK-Luhe-Komm'!J56","v":0},{"$f":"'PK-Luhe-Komm'!K56","v":0},8,{"$f":"'PK-Luhe-Komm'!$B$10","v":""},{"$f":"'PK-Luhe-Komm'!C13","v":""},{"$f":"'PK-Luhe-Komm'!D13","v":0},{"$f":"IF('PK-Luhe-Komm'!E13=\"\",\"\",'PK-Luhe-Komm'!E13)","v":""},8,{"$f":"'PK-Luhe-Komm'!$H$10","v":""},{"$f":"'PK-Luhe-Komm'!I13","v":""},{"$f":"'PK-Luhe-Komm'!J13","v":0},{"$f":"IF('PK-Luhe-Komm'!K13=\"\",\"\",'PK-Luhe-Komm'!K13)","v":""},8,{"$f":"PS!C12","v":""},{"$f":"PS!D12","v":""},{"$f":"IF(PS!E12=\"\",\"\",PS!E12)","v":""},8,{"$f":"'PK-Damen'!B45","v":""},{"$f":"'PK-Damen'!D48","v":0},{"$f":"'PK-Damen'!E48","v":0},8,{"$f":"'PK-Damen'!$B$15","v":""},{"$f":"'PK-Damen'!C16","v":""},{"$f":"'PK-Damen'!D16","v":0},{"$f":"IF('PK-Damen'!E16=\"\",\"\",'PK-Damen'!E16)","v":""},8,{"$f":"'PK-Jugend-Schüler'!B45","v":""},{"$f":"'PK-Jugend-Schüler'!D48","v":0},null,{"$f":"'PK-Jugend-Schüler'!G45","v":""},{"$f":"'PK-Jugend-Schüler'!I48","v":0},null,{"$f":"'PK-Jugend-Schüler'!$B$15","v":""},{"$f":"'PK-Jugend-Schüler'!C16","v":""},{"$f":"'PK-Jugend-Schüler'!D16","v":0},null,{"$f":"'PK-Jugend-Schüler'!$G$15","v":""},{"$f":"'PK-Jugend-Schüler'!H16","v":""},{"$f":"'PK-Jugend-Schüler'!I16","v":0}]
[{"$f":"'PK-Luhe-Komm'!B59","v":""},{"$f":"'PK-Luhe-Komm'!D63","v":0},{"$f":"'PK-Luhe-Komm'!E63","v":0},9,{"$f":"'PK-Luhe-Komm'!H59","v":""},{"$f":"'PK-Luhe-Komm'!J63","v":0},{"$f":"'PK-Luhe-Komm'!K63","v":0},9,{"$f":"'PK-Luhe-Komm'!$B$17","v":""},{"$f":"'PK-Luhe-Komm'!C17","v":""},{"$f":"'PK-Luhe-Komm'!D17","v":0},{"$f":"IF('PK-Luhe-Komm'!E17=\"\",\"\",'PK-Luhe-Komm'!E17)","v":""},9,{"$f":"'PK-Luhe-Komm'!$H$17","v":""},{"$f":"'PK-Luhe-Komm'!I17","v":""},{"$f":"'PK-Luhe-Komm'!J17","v":0},{"$f":"IF('PK-Luhe-Komm'!K17=\"\",\"\",'PK-Luhe-Komm'!K17)","v":""},9,{"$f":"PS!C13","v":""},{"$f":"PS!D13","v":""},{"$f":"IF(PS!E13=\"\",\"\",PS!E13)","v":""},9,{"$f":"'PK-Damen'!B51","v":""},{"$f":"'PK-Damen'!D54","v":0},{"$f":"'PK-Damen'!E54","v":0},9,{"$f":"'PK-Damen'!$B$15","v":""},{"$f":"'PK-Damen'!C17","v":""},{"$f":"'PK-Damen'!D17","v":0},{"$f":"IF('PK-Damen'!E17=\"\",\"\",'PK-Damen'!E17)","v":""},9,{"$f":"'PK-Jugend-Schüler'!B51","v":""},{"$f":"'PK-Jugend-Schüler'!D54","v":0},null,{"$f":"'PK-Jugend-Schüler'!G51","v":""},{"$f":"'PK-Jugend-Schüler'!I54","v":0},null,{"$f":"'PK-Jugend-Schüler'!$B$15","v":""},{"$f":"'PK-Jugend-Schüler'!C17","v":""},{"$f":"'PK-Jugend-Schüler'!D17","v":0},null,{"$f":"'PK-Jugend-Schüler'!$G$15","v":""},{"$f":"'PK-Jugend-Schüler'!H17","v":""},{"$f":"'PK-Jugend-Schüler'!I17","v":0}]
[{"$f":"'PK-Luhe-Komm'!B66","v":""},{"$f":"'PK-Luhe-Komm'!D70","v":0},{"$f":"'PK-Luhe-Komm'!E70","v":0},10,{"$f":"'PK-Luhe-Komm'!H66","v":""},{"$f":"'PK-Luhe-Komm'!J70","v":0},{"$f":"'PK-Luhe-Komm'!K70","v":0},10,{"$f":"'PK-Luhe-Komm'!$B$17","v":""},{"$f":"'PK-Luhe-Komm'!C18","v":""},{"$f":"'PK-Luhe-Komm'!D18","v":0},{"$f":"IF('PK-Luhe-Komm'!E18=\"\",\"\",'PK-Luhe-Komm'!E18)","v":""},10,{"$f":"'PK-Luhe-Komm'!$H$17","v":""},{"$f":"'PK-Luhe-Komm'!I18","v":""},{"$f":"'PK-Luhe-Komm'!J18","v":0},{"$f":"IF('PK-Luhe-Komm'!K18=\"\",\"\",'PK-Luhe-Komm'!K18)","v":""},10,{"$f":"PS!C14","v":""},{"$f":"PS!D14","v":""},{"$f":"IF(PS!E14=\"\",\"\",PS!E14)","v":""},10,{"$f":"'PK-Damen'!B57","v":""},{"$f":"'PK-Damen'!D60","v":0},{"$f":"'PK-Damen'!E60","v":0},10,{"$f":"'PK-Damen'!$B$21","v":""},{"$f":"'PK-Damen'!C21","v":""},{"$f":"'PK-Damen'!D21","v":0},{"$f":"IF('PK-Damen'!E21=\"\",\"\",'PK-Damen'!E21)","v":""},10,{"$f":"'PK-Jugend-Schüler'!B57","v":""},{"$f":"'PK-Jugend-Schüler'!D60","v":0},null,{"$f":"'PK-Jugend-Schüler'!G57","v":""},{"$f":"'PK-Jugend-Schüler'!I60","v":0},null,{"$f":"'PK-Jugend-Schüler'!$B$21","v":""},{"$f":"'PK-Jugend-Schüler'!C21","v":""},{"$f":"'PK-Jugend-Schüler'!D21","v":0},null,{"$f":"'PK-Jugend-Schüler'!$G$21","v":""},{"$f":"'PK-Jugend-Schüler'!H21","v":""},{"$f":"'PK-Jugend-Schüler'!I21","v":0}]
[{"$f":"'PK-Luhe-Komm'!B73","v":""},{"$f":"'PK-Luhe-Komm'!D77","v":0},{"$f":"'PK-Luhe-Komm'!E77","v":0},11,{"$f":"'PK-Luhe-Komm'!H73","v":""},{"$f":"'PK-Luhe-Komm'!J77","v":0},{"$f":"'PK-Luhe-Komm'!K77","v":0},11,{"$f":"'PK-Luhe-Komm'!$B$17","v":""},{"$f":"'PK-Luhe-Komm'!C19","v":""},{"$f":"'PK-Luhe-Komm'!D19","v":0},{"$f":"IF('PK-Luhe-Komm'!E19=\"\",\"\",'PK-Luhe-Komm'!E19)","v":""},11,{"$f":"'PK-Luhe-Komm'!$H$17","v":""},{"$f":"'PK-Luhe-Komm'!I19","v":""},{"$f":"'PK-Luhe-Komm'!J19","v":0},{"$f":"IF('PK-Luhe-Komm'!K19=\"\",\"\",'PK-Luhe-Komm'!K19)","v":""},11,{"$f":"PS!C15","v":""},{"$f":"PS!D15","v":""},{"$f":"IF(PS!E15=\"\",\"\",PS!E15)","v":""},11,{"$f":"'PK-Damen'!B63","v":""},{"$f":"'PK-Damen'!D66","v":0},{"$f":"'PK-Damen'!E66","v":0},11,{"$f":"'PK-Damen'!$B$21","v":""},{"$f":"'PK-Damen'!C22","v":""},{"$f":"'PK-Damen'!D22","v":0},{"$f":"IF('PK-Damen'!E22=\"\",\"\",'PK-Damen'!E22)","v":""},11,{"$f":"'PK-Jugend-Schüler'!B63","v":""},{"$f":"'PK-Jugend-Schüler'!D66","v":0},null,{"$f":"'PK-Jugend-Schüler'!G63","v":""},{"$f":"'PK-Jugend-Schüler'!I66","v":0},null,{"$f":"'PK-Jugend-Schüler'!$B$21","v":""},{"$f":"'PK-Jugend-Schüler'!C22","v":""},{"$f":"'PK-Jugend-Schüler'!D22","v":0},null,{"$f":"'PK-Jugend-Schüler'!$G$21","v":""},{"$f":"'PK-Jugend-Schüler'!H22","v":""},{"$f":"'PK-Jugend-Schüler'!I22","v":0}]
[{"$f":"'PK-Luhe-Komm'!B80","v":""},{"$f":"'PK-Luhe-Komm'!D84","v":0},{"$f":"'PK-Luhe-Komm'!E84","v":0},12,{"$f":"'PK-Luhe-Komm'!H80","v":""},{"$f":"'PK-Luhe-Komm'!J84","v":0},{"$f":"'PK-Luhe-Komm'!K84","v":0},12,{"$f":"'PK-Luhe-Komm'!$B$17","v":""},{"$f":"'PK-Luhe-Komm'!C20","v":""},{"$f":"'PK-Luhe-Komm'!D20","v":0},{"$f":"IF('PK-Luhe-Komm'!E20=\"\",\"\",'PK-Luhe-Komm'!E20)","v":""},12,{"$f":"'PK-Luhe-Komm'!$H$17","v":""},{"$f":"'PK-Luhe-Komm'!I20","v":""},{"$f":"'PK-Luhe-Komm'!J20","v":0},{"$f":"IF('PK-Luhe-Komm'!K20=\"\",\"\",'PK-Luhe-Komm'!K20)","v":""},12,{"$f":"PS!C16","v":""},{"$f":"PS!D16","v":""},{"$f":"IF(PS!E16=\"\",\"\",PS!E16)","v":""},12,{"$f":"'PK-Damen'!B69","v":""},{"$f":"'PK-Damen'!D72","v":0},{"$f":"'PK-Damen'!E72","v":0},12,{"$f":"'PK-Damen'!$B$21","v":""},{"$f":"'PK-Damen'!C23","v":""},{"$f":"'PK-Damen'!D23","v":0},{"$f":"IF('PK-Damen'!E23=\"\",\"\",'PK-Damen'!E23)","v":""},12,{"$f":"'PK-Jugend-Schüler'!B69","v":""},{"$f":"'PK-Jugend-Schüler'!D72","v":0},null,{"$f":"'PK-Jugend-Schüler'!G69","v":""},{"$f":"'PK-Jugend-Schüler'!I72","v":0},null,{"$f":"'PK-Jugend-Schüler'!$B$21","v":""},{"$f":"'PK-Jugend-Schüler'!C23","v":""},{"$f":"'PK-Jugend-Schüler'!D23","v":0},null,{"$f":"'PK-Jugend-Schüler'!$G$21","v":""},{"$f":"'PK-Jugend-Schüler'!H23","v":""},{"$f":"'PK-Jugend-Schüler'!I23","v":0}]
[{"$f":"'PK-Luhe-Komm'!B87","v":""},{"$f":"'PK-Luhe-Komm'!D91","v":0},{"$f":"'PK-Luhe-Komm'!E91","v":0},13,{"$f":"'PK-Luhe-Komm'!H87","v":""},{"$f":"'PK-Luhe-Komm'!J91","v":0},{"$f":"'PK-Luhe-Komm'!K91","v":0},13,{"$f":"'PK-Luhe-Komm'!$B$24","v":""},{"$f":"'PK-Luhe-Komm'!C24","v":""},{"$f":"'PK-Luhe-Komm'!D24","v":0},{"$f":"IF('PK-Luhe-Komm'!E24=\"\",\"\",'PK-Luhe-Komm'!E24)","v":""},13,{"$f":"'PK-Luhe-Komm'!$H$24","v":""},{"$f":"'PK-Luhe-Komm'!I24","v":""},{"$f":"'PK-Luhe-Komm'!J24","v":0},{"$f":"IF('PK-Luhe-Komm'!K24=\"\",\"\",'PK-Luhe-Komm'!K24)","v":""},13,{"$f":"PS!C17","v":""},{"$f":"PS!D17","v":""},{"$f":"IF(PS!E17=\"\",\"\",PS!E17)","v":""},13,{"$f":"'PK-Damen'!B75","v":""},{"$f":"'PK-Damen'!D78","v":0},{"$f":"'PK-Damen'!E78","v":0},13,{"$f":"'PK-Damen'!$B$27","v":""},{"$f":"'PK-Damen'!C27","v":""},{"$f":"'PK-Damen'!D27","v":0},{"$f":"IF('PK-Damen'!E27=\"\",\"\",'PK-Damen'!E27)","v":""},13,{"$f":"'PK-Jugend-Schüler'!B75","v":""},{"$f":"'PK-Jugend-Schüler'!D78","v":0},null,{"$f":"'PK-Jugend-Schüler'!G75","v":""},{"$f":"'PK-Jugend-Schüler'!I78","v":0},null,{"$f":"'PK-Jugend-Schüler'!$B$27","v":""},{"$f":"'PK-Jugend-Schüler'!C27","v":""},{"$f":"'PK-Jugend-Schüler'!D27","v":0},null,{"$f":"'PK-Jugend-Schüler'!$G$27","v":""},{"$f":"'PK-Jugend-Schüler'!H27","v":""},{"$f":"'PK-Jugend-Schüler'!I27","v":0}]
[{"$f":"'PK-Luhe-Komm'!B94","v":""},{"$f":"'PK-Luhe-Komm'!D98","v":0},{"$f":"'PK-Luhe-Komm'!E98","v":0},14,{"$f":"'PK-Luhe-Komm'!H94","v":""},{"$f":"'PK-Luhe-Komm'!J98","v":0},{"$f":"'PK-Luhe-Komm'!K98","v":0},14,{"$f":"'PK-Luhe-Komm'!$B$24","v":""},{"$f":"'PK-Luhe-Komm'!C25","v":""},{"$f":"'PK-Luhe-Komm'!D25","v":0},{"$f":"IF('PK-Luhe-Komm'!E25=\"\",\"\",'PK-Luhe-Komm'!E25)","v":""},14,{"$f":"'PK-Luhe-Komm'!$H$24","v":""},{"$f":"'PK-Luhe-Komm'!I25","v":""},{"$f":"'PK-Luhe-Komm'!J25","v":0},{"$f":"IF('PK-Luhe-Komm'!K25=\"\",\"\",'PK-Luhe-Komm'!K25)","v":""},14,{"$f":"PS!C18","v":""},{"$f":"PS!D18","v":""},{"$f":"IF(PS!E18=\"\",\"\",PS!E18)","v":""},14,{"$f":"'PK-Damen'!B81","v":""},{"$f":"'PK-Damen'!D84","v":0},{"$f":"'PK-Damen'!E84","v":0},14,{"$f":"'PK-Damen'!$B$27","v":""},{"$f":"'PK-Damen'!C28","v":""},{"$f":"'PK-Damen'!D28","v":0},{"$f":"IF('PK-Damen'!E28=\"\",\"\",'PK-Damen'!E28)","v":""},14,{"$f":"'PK-Jugend-Schüler'!B81","v":""},{"$f":"'PK-Jugend-Schüler'!D84","v":0},null,{"$f":"'PK-Jugend-Schüler'!G81","v":""},{"$f":"'PK-Jugend-Schüler'!I84","v":0},null,{"$f":"'PK-Jugend-Schüler'!$B$27","v":""},{"$f":"'PK-Jugend-Schüler'!C28","v":""},{"$f":"'PK-Jugend-Schüler'!D28","v":0},null,{"$f":"'PK-Jugend-Schüler'!$G$27","v":""},{"$f":"'PK-Jugend-Schüler'!H28","v":""},{"$f":"'PK-Jugend-Schüler'!I28","v":0}]
[{"$f":"'PK-Luhe-Komm'!B101","v":""},{"$f":"'PK-Luhe-Komm'!D105","v":0},{"$f":"'PK-Luhe-Komm'!E105","v":0},15,{"$f":"'PK-Luhe-Komm'!H101","v":""},{"$f":"'PK-Luhe-Komm'!J105","v":0},{"$f":"'PK-Luhe-Komm'!K105","v":0},15,{"$f":"'PK-Luhe-Komm'!$B$24","v":""},{"$f":"'PK-Luhe-Komm'!C26","v":""},{"$f":"'PK-Luhe-Komm'!D26","v":0},{"$f":"IF('PK-Luhe-Komm'!E26=\"\",\"\",'PK-Luhe-Komm'!E26)","v":""},15,{"$f":"'PK-Luhe-Komm'!$H$24","v":""},{"$f":"'PK-Luhe-Komm'!I26","v":""},{"$f":"'PK-Luhe-Komm'!J26","v":0},{"$f":"IF('PK-Luhe-Komm'!K26=\"\",\"\",'PK-Luhe-Komm'!K26)","v":""},15,{"$f":"PS!C19","v":""},{"$f":"PS!D19","v":""},{"$f":"IF(PS!E19=\"\",\"\",PS!E19)","v":""},15,{"$f":"'PK-Damen'!B87","v":""},{"$f":"'PK-Damen'!D90","v":0},{"$f":"'PK-Damen'!E90","v":0},15,{"$f":"'PK-Damen'!$B$27","v":""},{"$f":"'PK-Damen'!C29","v":""},{"$f":"'PK-Damen'!D29","v":0},{"$f":"IF('PK-Damen'!E29=\"\",\"\",'PK-Damen'!E29)","v":""},15,{"$f":"'PK-Jugend-Schüler'!B87","v":""},{"$f":"'PK-Jugend-Schüler'!D90","v":0},null,{"$f":"'PK-Jugend-Schüler'!G87","v":""},{"$f":"'PK-Jugend-Schüler'!I90","v":0},null,{"$f":"'PK-Jugend-Schüler'!$B$27","v":""},{"$f":"'PK-Jugend-Schüler'!C29","v":""},{"$f":"'PK-Jugend-Schüler'!D29","v":0},null,{"$f":"'PK-Jugend-Schüler'!$G$27","v":""},{"$f":"'PK-Jugend-Schüler'!H29","v":""},{"$f":"'PK-Jugend-Schüler'!I29","v":0}]
[{"$f":"'PK-Luhe-Komm'!B108","v":""},{"$f":"'PK-Luhe-Komm'!D112","v":0},{"$f":"'PK-Luhe-Komm'!E112","v":0},16,{"$f":"'PK-Luhe-Komm'!H108","v":""},{"$f":"'PK-Luhe-Komm'!J112","v":0},{"$f":"'PK-Luhe-Komm'!K112","v":0},16,{"$f":"'PK-Luhe-Komm'!$B$24","v":""},{"$f":"'PK-Luhe-Komm'!C27","v":""},{"$f":"'PK-Luhe-Komm'!D27","v":0},{"$f":"IF('PK-Luhe-Komm'!E27=\"\",\"\",'PK-Luhe-Komm'!E27)","v":""},16,{"$f":"'PK-Luhe-Komm'!$H$24","v":""},{"$f":"'PK-Luhe-Komm'!I27","v":""},{"$f":"'PK-Luhe-Komm'!J27","v":0},{"$f":"IF('PK-Luhe-Komm'!K27=\"\",\"\",'PK-Luhe-Komm'!K27)","v":""},16,{"$f":"PS!C20","v":""},{"$f":"PS!D20","v":""},{"$f":"IF(PS!E20=\"\",\"\",PS!E20)","v":""},16,{"$f":"'PK-Damen'!B93","v":""},{"$f":"'PK-Damen'!D96","v":0},{"$f":"'PK-Damen'!E96","v":0},16,{"$f":"'PK-Damen'!$B$33","v":""},{"$f":"'PK-Damen'!C33","v":""},{"$f":"'PK-Damen'!D33","v":0},{"$f":"IF('PK-Damen'!E33=\"\",\"\",'PK-Damen'!E33)","v":""},16,null,null,null,null,null,null,{"$f":"'PK-Jugend-Schüler'!$B$33","v":""},{"$f":"'PK-Jugend-Schüler'!C33","v":""},{"$f":"'PK-Jugend-Schüler'!D33","v":0},null,{"$f":"'PK-Jugend-Schüler'!$G$33","v":""},{"$f":"'PK-Jugend-Schüler'!H33","v":""},{"$f":"'PK-Jugend-Schüler'!I33","v":0}]
[{"$f":"'PK-Luhe-Komm'!B115","v":""},{"$f":"'PK-Luhe-Komm'!D119","v":0},{"$f":"'PK-Luhe-Komm'!E119","v":0},17,{"$f":"'PK-Luhe-Komm'!H115","v":""},{"$f":"'PK-Luhe-Komm'!J119","v":0},{"$f":"'PK-Luhe-Komm'!K119","v":0},17,{"$f":"'PK-Luhe-Komm'!$B$31","v":""},{"$f":"'PK-Luhe-Komm'!C31","v":""},{"$f":"'PK-Luhe-Komm'!D31","v":0},{"$f":"IF('PK-Luhe-Komm'!E31=\"\",\"\",'PK-Luhe-Komm'!E31)","v":""},17,{"$f":"'PK-Luhe-Komm'!$H$31","v":""},{"$f":"'PK-Luhe-Komm'!I31","v":""},{"$f":"'PK-Luhe-Komm'!J31","v":0},{"$f":"IF('PK-Luhe-Komm'!K31=\"\",\"\",'PK-Luhe-Komm'!K31)","v":""},17,{"$f":"PS!C21","v":""},{"$f":"PS!D21","v":""},{"$f":"IF(PS!E21=\"\",\"\",PS!E21)","v":""},17,{"$f":"'PK-Damen'!B99","v":""},{"$f":"'PK-Damen'!D102","v":0},{"$f":"'PK-Damen'!E102","v":0},17,{"$f":"'PK-Damen'!$B$33","v":""},{"$f":"'PK-Damen'!C34","v":""},{"$f":"'PK-Damen'!D34","v":0},{"$f":"IF('PK-Damen'!E34=\"\",\"\",'PK-Damen'!E34)","v":""},17,null,null,null,null,null,null,{"$f":"'PK-Jugend-Schüler'!$B$33","v":""},{"$f":"'PK-Jugend-Schüler'!C34","v":""},{"$f":"'PK-Jugend-Schüler'!D34","v":0},null,{"$f":"'PK-Jugend-Schüler'!$G$33","v":""},{"$f":"'PK-Jugend-Schüler'!H34","v":""},{"$f":"'PK-Jugend-Schüler'!I34","v":0}]
[{"$f":"'PK-Luhe-Komm'!B122","v":""},{"$f":"'PK-Luhe-Komm'!D126","v":0},{"$f":"'PK-Luhe-Komm'!E126","v":0},18,{"$f":"'PK-Luhe-Komm'!H122","v":""},{"$f":"'PK-Luhe-Komm'!J126","v":0},{"$f":"'PK-Luhe-Komm'!K126","v":0},18,{"$f":"'PK-Luhe-Komm'!$B$31","v":""},{"$f":"'PK-Luhe-Komm'!C32","v":""},{"$f":"'PK-Luhe-Komm'!D32","v":0},{"$f":"IF('PK-Luhe-Komm'!E32=\"\",\"\",'PK-Luhe-Komm'!E32)","v":""},18,{"$f":"'PK-Luhe-Komm'!$H$31","v":""},{"$f":"'PK-Luhe-Komm'!I32","v":""},{"$f":"'PK-Luhe-Komm'!J32","v":0},{"$f":"IF('PK-Luhe-Komm'!K32=\"\",\"\",'PK-Luhe-Komm'!K32)","v":""},18,{"$f":"PS!C22","v":""},{"$f":"PS!D22","v":""},{"$f":"IF(PS!E22=\"\",\"\",PS!E22)","v":""},18,{"$f":"'PK-Damen'!B105","v":""},{"$f":"'PK-Damen'!D108","v":0},{"$f":"'PK-Damen'!E108","v":0},18,{"$f":"'PK-Damen'!$B$33","v":""},{"$f":"'PK-Damen'!C35","v":""},{"$f":"'PK-Damen'!D35","v":0},{"$f":"IF('PK-Damen'!E35=\"\",\"\",'PK-Damen'!E35)","v":""},18,null,null,null,null,null,null,{"$f":"'PK-Jugend-Schüler'!$B$33","v":""},{"$f":"'PK-Jugend-Schüler'!C35","v":""},{"$f":"'PK-Jugend-Schüler'!D35","v":0},null,{"$f":"'PK-Jugend-Schüler'!$G$33","v":""},{"$f":"'PK-Jugend-Schüler'!H35","v":""},{"$f":"'PK-Jugend-Schüler'!I35","v":0}]
[{"$f":"'PK-Luhe-Komm'!B129","v":""},{"$f":"'PK-Luhe-Komm'!D133","v":0},{"$f":"'PK-Luhe-Komm'!E133","v":0},19,{"$f":"'PK-Luhe-Komm'!H129","v":""},{"$f":"'PK-Luhe-Komm'!J133","v":0},{"$f":"'PK-Luhe-Komm'!K133","v":0},19,{"$f":"'PK-Luhe-Komm'!$B$31","v":""},{"$f":"'PK-Luhe-Komm'!C33","v":""},{"$f":"'PK-Luhe-Komm'!D33","v":0},{"$f":"IF('PK-Luhe-Komm'!E33=\"\",\"\",'PK-Luhe-Komm'!E33)","v":""},19,{"$f":"'PK-Luhe-Komm'!$H$31","v":""},{"$f":"'PK-Luhe-Komm'!I33","v":""},{"$f":"'PK-Luhe-Komm'!J33","v":0},{"$f":"IF('PK-Luhe-Komm'!K33=\"\",\"\",'PK-Luhe-Komm'!K33)","v":""},19,{"$f":"PS!C23","v":""},{"$f":"PS!D23","v":""},{"$f":"IF(PS!E23=\"\",\"\",PS!E23)","v":""},19,{"$f":"'PK-Damen'!B111","v":""},{"$f":"'PK-Damen'!D114","v":0},{"$f":"'PK-Damen'!E114","v":0},19,{"$f":"'PK-Damen'!$B$39","v":""},{"$f":"'PK-Damen'!C39","v":""},{"$f":"'PK-Damen'!D39","v":0},{"$f":"IF('PK-Damen'!E39=\"\",\"\",'PK-Damen'!E39)","v":""},19,null,null,null,null,null,null,{"$f":"'PK-Jugend-Schüler'!$B$39","v":""},{"$f":"'PK-Jugend-Schüler'!C39","v":""},{"$f":"'PK-Jugend-Schüler'!D39","v":0},null,{"$f":"'PK-Jugend-Schüler'!$G$39","v":""},{"$f":"'PK-Jugend-Schüler'!H39","v":""},{"$f":"'PK-Jugend-Schüler'!I39","v":0}]
[{"$f":"'PK-Luhe-Komm'!B136","v":""},{"$f":"'PK-Luhe-Komm'!D140","v":0},{"$f":"'PK-Luhe-Komm'!E140","v":0},20,{"$f":"'PK-Luhe-Komm'!H136","v":""},{"$f":"'PK-Luhe-Komm'!J140","v":0},{"$f":"'PK-Luhe-Komm'!K140","v":0},20,{"$f":"'PK-Luhe-Komm'!$B$31","v":""},{"$f":"'PK-Luhe-Komm'!C34","v":""},{"$f":"'PK-Luhe-Komm'!D34","v":0},{"$f":"IF('PK-Luhe-Komm'!E34=\"\",\"\",'PK-Luhe-Komm'!E34)","v":""},20,{"$f":"'PK-Luhe-Komm'!$H$31","v":""},{"$f":"'PK-Luhe-Komm'!I34","v":""},{"$f":"'PK-Luhe-Komm'!J34","v":0},{"$f":"IF('PK-Luhe-Komm'!K34=\"\",\"\",'PK-Luhe-Komm'!K34)","v":""},20,{"$f":"PS!C24","v":""},{"$f":"PS!D24","v":""},{"$f":"IF(PS!E24=\"\",\"\",PS!E24)","v":""},20,{"$f":"'PK-Damen'!B117","v":""},{"$f":"'PK-Damen'!D120","v":0},{"$f":"'PK-Damen'!E120","v":0},20,{"$f":"'PK-Damen'!$B$39","v":""},{"$f":"'PK-Damen'!C40","v":""},{"$f":"'PK-Damen'!D40","v":0},{"$f":"IF('PK-Damen'!E40=\"\",\"\",'PK-Damen'!E40)","v":""},20,null,null,null,null,null,null,{"$f":"'PK-Jugend-Schüler'!$B$39","v":""},{"$f":"'PK-Jugend-Schüler'!C40","v":""},{"$f":"'PK-Jugend-Schüler'!D40","v":0},null,{"$f":"'PK-Jugend-Schüler'!$G$39","v":""},{"$f":"'PK-Jugend-Schüler'!H40","v":""},{"$f":"'PK-Jugend-Schüler'!I40","v":0}]
[{"$f":"'PK-Luhe-Komm'!B143","v":""},{"$f":"'PK-Luhe-Komm'!D147","v":0},{"$f":"'PK-Luhe-Komm'!E147","v":0},21,{"$f":"'PK-Luhe-Komm'!H143","v":""},{"$f":"'PK-Luhe-Komm'!J147","v":0},{"$f":"'PK-Luhe-Komm'!K147","v":0},21,{"$f":"'PK-Luhe-Komm'!$B$38","v":""},{"$f":"'PK-Luhe-Komm'!C38","v":""},{"$f":"'PK-Luhe-Komm'!D38","v":0},{"$f":"IF('PK-Luhe-Komm'!E38=\"\",\"\",'PK-Luhe-Komm'!E38)","v":""},21,{"$f":"'PK-Luhe-Komm'!$H$38","v":""},{"$f":"'PK-Luhe-Komm'!I38","v":""},{"$f":"'PK-Luhe-Komm'!J38","v":0},{"$f":"IF('PK-Luhe-Komm'!K38=\"\",\"\",'PK-Luhe-Komm'!K38)","v":""},21,{"$f":"PS!C25","v":""},{"$f":"PS!D25","v":""},{"$f":"IF(PS!E25=\"\",\"\",PS!E25)","v":""},21,{"$f":"'PK-Damen'!B123","v":""},{"$f":"'PK-Damen'!D126","v":0},{"$f":"'PK-Damen'!E126","v":0},21,{"$f":"'PK-Damen'!$B$39","v":""},{"$f":"'PK-Damen'!C41","v":""},{"$f":"'PK-Damen'!D41","v":0},{"$f":"IF('PK-Damen'!E41=\"\",\"\",'PK-Damen'!E41)","v":""},21,null,null,null,null,null,null,{"$f":"'PK-Jugend-Schüler'!$B$39","v":""},{"$f":"'PK-Jugend-Schüler'!C41","v":""},{"$f":"'PK-Jugend-Schüler'!D41","v":0},null,{"$f":"'PK-Jugend-Schüler'!$G$39","v":""},{"$f":"'PK-Jugend-Schüler'!H41","v":""},{"$f":"'PK-Jugend-Schüler'!I41","v":0}]
[{"$f":"'PK-Luhe-Komm'!B150","v":""},{"$f":"'PK-Luhe-Komm'!D154","v":0},{"$f":"'PK-Luhe-Komm'!E154","v":0},22,{"$f":"'PK-Luhe-Komm'!H150","v":""},{"$f":"'PK-Luhe-Komm'!J154","v":0},{"$f":"'PK-Luhe-Komm'!K154","v":0},22,{"$f":"'PK-Luhe-Komm'!$B$38","v":""},{"$f":"'PK-Luhe-Komm'!C39","v":""},{"$f":"'PK-Luhe-Komm'!D39","v":0},{"$f":"IF('PK-Luhe-Komm'!E39=\"\",\"\",'PK-Luhe-Komm'!E39)","v":""},22,{"$f":"'PK-Luhe-Komm'!$H$38","v":""},{"$f":"'PK-Luhe-Komm'!I39","v":""},{"$f":"'PK-Luhe-Komm'!J39","v":0},{"$f":"IF('PK-Luhe-Komm'!K39=\"\",\"\",'PK-Luhe-Komm'!K39)","v":""},22,{"$f":"PS!C26","v":""},{"$f":"PS!D26","v":""},{"$f":"IF(PS!E26=\"\",\"\",PS!E26)","v":""},22,{"$f":"'PK-Damen'!B129","v":""},{"$f":"'PK-Damen'!D132","v":0},{"$f":"'PK-Damen'!E132","v":0},22,{"$f":"'PK-Damen'!$B$45","v":""},{"$f":"'PK-Damen'!C45","v":""},{"$f":"'PK-Damen'!D45","v":0},{"$f":"IF('PK-Damen'!E45=\"\",\"\",'PK-Damen'!E45)","v":""},22,null,null,null,null,null,null,{"$f":"'PK-Jugend-Schüler'!$B$45","v":""},{"$f":"'PK-Jugend-Schüler'!C45","v":""},{"$f":"'PK-Jugend-Schüler'!D45","v":0},null,{"$f":"'PK-Jugend-Schüler'!$G$45","v":""},{"$f":"'PK-Jugend-Schüler'!H45","v":""},{"$f":"'PK-Jugend-Schüler'!I45","v":0}]
[{"$f":"'PK-Luhe-Komm'!B157","v":""},{"$f":"'PK-Luhe-Komm'!D161","v":0},{"$f":"'PK-Luhe-Komm'!E161","v":0},23,{"$f":"'PK-Luhe-Komm'!H157","v":""},{"$f":"'PK-Luhe-Komm'!J161","v":0},{"$f":"'PK-Luhe-Komm'!K161","v":0},23,{"$f":"'PK-Luhe-Komm'!$B$38","v":""},{"$f":"'PK-Luhe-Komm'!C40","v":""},{"$f":"'PK-Luhe-Komm'!D40","v":0},{"$f":"IF('PK-Luhe-Komm'!E40=\"\",\"\",'PK-Luhe-Komm'!E40)","v":""},23,{"$f":"'PK-Luhe-Komm'!$H$38","v":""},{"$f":"'PK-Luhe-Komm'!I40","v":""},{"$f":"'PK-Luhe-Komm'!J40","v":0},{"$f":"IF('PK-Luhe-Komm'!K40=\"\",\"\",'PK-Luhe-Komm'!K40)","v":""},23,{"$f":"PS!C27","v":""},{"$f":"PS!D27","v":""},{"$f":"IF(PS!E27=\"\",\"\",PS!E27)","v":""},23,{"$f":"'PK-Damen'!B135","v":""},{"$f":"'PK-Damen'!D138","v":0},{"$f":"'PK-Damen'!E138","v":0},23,{"$f":"'PK-Damen'!$B$45","v":""},{"$f":"'PK-Damen'!C46","v":""},{"$f":"'PK-Damen'!D46","v":0},{"$f":"IF('PK-Damen'!E46=\"\",\"\",'PK-Damen'!E46)","v":""},23,null,null,null,null,null,null,{"$f":"'PK-Jugend-Schüler'!$B$45","v":""},{"$f":"'PK-Jugend-Schüler'!C46","v":""},{"$f":"'PK-Jugend-Schüler'!D46","v":0},null,{"$f":"'PK-Jugend-Schüler'!$G$45","v":""},{"$f":"'PK-Jugend-Schüler'!H46","v":""},{"$f":"'PK-Jugend-Schüler'!I46","v":0}]
[{"$f":"'PK-Luhe-Komm'!B164","v":""},{"$f":"'PK-Luhe-Komm'!D168","v":0},{"$f":"'PK-Luhe-Komm'!E168","v":0},24,{"$f":"'PK-Luhe-Komm'!H164","v":""},{"$f":"'PK-Luhe-Komm'!J168","v":0},{"$f":"'PK-Luhe-Komm'!K168","v":0},24,{"$f":"'PK-Luhe-Komm'!$B$38","v":""},{"$f":"'PK-Luhe-Komm'!C41","v":""},{"$f":"'PK-Luhe-Komm'!D41","v":0},{"$f":"IF('PK-Luhe-Komm'!E41=\"\",\"\",'PK-Luhe-Komm'!E41)","v":""},24,{"$f":"'PK-Luhe-Komm'!$H$38","v":""},{"$f":"'PK-Luhe-Komm'!I41","v":""},{"$f":"'PK-Luhe-Komm'!J41","v":0},{"$f":"IF('PK-Luhe-Komm'!K41=\"\",\"\",'PK-Luhe-Komm'!K41)","v":""},24,{"$f":"PS!C28","v":""},{"$f":"PS!D28","v":""},{"$f":"IF(PS!E28=\"\",\"\",PS!E28)","v":""},24,{"$f":"'PK-Damen'!B141","v":""},{"$f":"'PK-Damen'!D144","v":0},{"$f":"'PK-Damen'!E144","v":0},24,{"$f":"'PK-Damen'!$B$45","v":""},{"$f":"'PK-Damen'!C47","v":""},{"$f":"'PK-Damen'!D47","v":0},{"$f":"IF('PK-Damen'!E47=\"\",\"\",'PK-Damen'!E47)","v":""},24,null,null,null,null,null,null,{"$f":"'PK-Jugend-Schüler'!$B$45","v":""},{"$f":"'PK-Jugend-Schüler'!C47","v":""},{"$f":"'PK-Jugend-Schüler'!D47","v":0},null,{"$f":"'PK-Jugend-Schüler'!$G$45","v":""},{"$f":"'PK-Jugend-Schüler'!H47","v":""},{"$f":"'PK-Jugend-Schüler'!I47","v":0}]
[{"$f":"'PK-Luhe-Komm'!B171","v":""},{"$f":"'PK-Luhe-Komm'!D175","v":0},{"$f":"'PK-Luhe-Komm'!E175","v":0},25,{"$f":"'PK-Luhe-Komm'!H171","v":""},{"$f":"'PK-Luhe-Komm'!J175","v":0},{"$f":"'PK-Luhe-Komm'!K175","v":0},25,{"$f":"'PK-Luhe-Komm'!$B$45","v":""},{"$f":"'PK-Luhe-Komm'!C45","v":""},{"$f":"'PK-Luhe-Komm'!D45","v":0},{"$f":"IF('PK-Luhe-Komm'!E45=\"\",\"\",'PK-Luhe-Komm'!E45)","v":""},25,{"$f":"'PK-Luhe-Komm'!$H$45","v":""},{"$f":"'PK-Luhe-Komm'!I45","v":""},{"$f":"'PK-Luhe-Komm'!J45","v":0},{"$f":"IF('PK-Luhe-Komm'!K45=\"\",\"\",'PK-Luhe-Komm'!K45)","v":""},25,{"$f":"PS!C29","v":""},{"$f":"PS!D29","v":""},{"$f":"IF(PS!E29=\"\",\"\",PS!E29)","v":""},25,{"$f":"'PK-Damen'!B147","v":""},{"$f":"'PK-Damen'!D150","v":0},{"$f":"'PK-Damen'!E150","v":0},25,{"$f":"'PK-Damen'!$B$51","v":""},{"$f":"'PK-Damen'!C51","v":""},{"$f":"'PK-Damen'!D51","v":0},{"$f":"IF('PK-Damen'!E51=\"\",\"\",'PK-Damen'!E51)","v":""},25,null,null,null,null,null,null,{"$f":"'PK-Jugend-Schüler'!$B$51","v":""},{"$f":"'PK-Jugend-Schüler'!C51","v":""},{"$f":"'PK-Jugend-Schüler'!D51","v":0},null,{"$f":"'PK-Jugend-Schüler'!$G$51","v":""},{"$f":"'PK-Jugend-Schüler'!H51","v":""},{"$f":"'PK-Jugend-Schüler'!I51","v":0}]
[{"$f":"'PK-Luhe-Komm'!B178","v":""},{"$f":"'PK-Luhe-Komm'!D182","v":0},{"$f":"'PK-Luhe-Komm'!E182","v":0},26,{"$f":"'PK-Luhe-Komm'!H178","v":""},{"$f":"'PK-Luhe-Komm'!J182","v":0},{"$f":"'PK-Luhe-Komm'!K182","v":0},26,{"$f":"'PK-Luhe-Komm'!$B$45","v":""},{"$f":"'PK-Luhe-Komm'!C46","v":""},{"$f":"'PK-Luhe-Komm'!D46","v":0},{"$f":"IF('PK-Luhe-Komm'!E46=\"\",\"\",'PK-Luhe-Komm'!E46)","v":""},26,{"$f":"'PK-Luhe-Komm'!$H$45","v":""},{"$f":"'PK-Luhe-Komm'!I46","v":""},{"$f":"'PK-Luhe-Komm'!J46","v":0},{"$f":"IF('PK-Luhe-Komm'!K46=\"\",\"\",'PK-Luhe-Komm'!K46)","v":""},26,{"$f":"PS!C30","v":""},{"$f":"PS!D30","v":""},{"$f":"IF(PS!E30=\"\",\"\",PS!E30)","v":""},26,{"$f":"'PK-Damen'!B153","v":""},{"$f":"'PK-Damen'!D156","v":0},{"$f":"'PK-Damen'!E156","v":0},26,{"$f":"'PK-Damen'!$B$51","v":""},{"$f":"'PK-Damen'!C52","v":""},{"$f":"'PK-Damen'!D52","v":0},{"$f":"IF('PK-Damen'!E52=\"\",\"\",'PK-Damen'!E52)","v":""},26,null,null,null,null,null,null,{"$f":"'PK-Jugend-Schüler'!$B$51","v":""},{"$f":"'PK-Jugend-Schüler'!C52","v":""},{"$f":"'PK-Jugend-Schüler'!D52","v":0},null,{"$f":"'PK-Jugend-Schüler'!$G$51","v":""},{"$f":"'PK-Jugend-Schüler'!H52","v":""},{"$f":"'PK-Jugend-Schüler'!I52","v":0}]
[{"$f":"'PK-Luhe-Komm'!B185","v":""},{"$f":"'PK-Luhe-Komm'!D189","v":0},{"$f":"'PK-Luhe-Komm'!E189","v":0},27,{"$f":"'PK-Luhe-Komm'!H185","v":""},{"$f":"'PK-Luhe-Komm'!J189","v":0},{"$f":"'PK-Luhe-Komm'!K189","v":0},27,{"$f":"'PK-Luhe-Komm'!$B$45","v":""},{"$f":"'PK-Luhe-Komm'!C47","v":""},{"$f":"'PK-Luhe-Komm'!D47","v":0},{"$f":"IF('PK-Luhe-Komm'!E47=\"\",\"\",'PK-Luhe-Komm'!E47)","v":""},27,{"$f":"'PK-Luhe-Komm'!$H$45","v":""},{"$f":"'PK-Luhe-Komm'!I47","v":""},{"$f":"'PK-Luhe-Komm'!J47","v":0},{"$f":"IF('PK-Luhe-Komm'!K47=\"\",\"\",'PK-Luhe-Komm'!K47)","v":""},27,{"$f":"PS!C31","v":""},{"$f":"PS!D31","v":""},{"$f":"IF(PS!E31=\"\",\"\",PS!E31)","v":""},27,{"$f":"'PK-Damen'!B159","v":""},{"$f":"'PK-Damen'!D162","v":0},{"$f":"'PK-Damen'!E162","v":0},27,{"$f":"'PK-Damen'!$B$51","v":""},{"$f":"'PK-Damen'!C53","v":""},{"$f":"'PK-Damen'!D53","v":0},{"$f":"IF('PK-Damen'!E53=\"\",\"\",'PK-Damen'!E53)","v":""},27,null,null,null,null,null,null,{"$f":"'PK-Jugend-Schüler'!$B$51","v":""},{"$f":"'PK-Jugend-Schüler'!C53","v":""},{"$f":"'PK-Jugend-Schüler'!D53","v":0},null,{"$f":"'PK-Jugend-Schüler'!$G$51","v":""},{"$f":"'PK-Jugend-Schüler'!H53","v":""},{"$f":"'PK-Jugend-Schüler'!I53","v":0}]
[{"$f":"'PK-Luhe-Komm'!B192","v":""},{"$f":"'PK-Luhe-Komm'!D196","v":0},{"$f":"'PK-Luhe-Komm'!E196","v":0},28,{"$f":"'PK-Luhe-Komm'!H192","v":""},{"$f":"'PK-Luhe-Komm'!J196","v":0},{"$f":"'PK-Luhe-Komm'!K196","v":0},28,{"$f":"'PK-Luhe-Komm'!$B$45","v":""},{"$f":"'PK-Luhe-Komm'!C48","v":""},{"$f":"'PK-Luhe-Komm'!D48","v":0},{"$f":"IF('PK-Luhe-Komm'!E48=\"\",\"\",'PK-Luhe-Komm'!E48)","v":""},28,{"$f":"'PK-Luhe-Komm'!$H$45","v":""},{"$f":"'PK-Luhe-Komm'!I48","v":""},{"$f":"'PK-Luhe-Komm'!J48","v":0},{"$f":"IF('PK-Luhe-Komm'!K48=\"\",\"\",'PK-Luhe-Komm'!K48)","v":""},28,{"$f":"PS!C32","v":""},{"$f":"PS!D32","v":""},{"$f":"IF(PS!E32=\"\",\"\",PS!E32)","v":""},28,{"$f":"'PK-Damen'!B165","v":""},{"$f":"'PK-Damen'!D168","v":0},{"$f":"'PK-Damen'!E168","v":0},28,{"$f":"'PK-Damen'!$B$57","v":""},{"$f":"'PK-Damen'!C57","v":""},{"$f":"'PK-Damen'!D57","v":0},{"$f":"IF('PK-Damen'!E57=\"\",\"\",'PK-Damen'!E57)","v":""},28,null,null,null,null,null,null,{"$f":"'PK-Jugend-Schüler'!$B$57","v":""},{"$f":"'PK-Jugend-Schüler'!C57","v":""},{"$f":"'PK-Jugend-Schüler'!D57","v":0},null,{"$f":"'PK-Jugend-Schüler'!$G$57","v":""},{"$f":"'PK-Jugend-Schüler'!H57","v":""},{"$f":"'PK-Jugend-Schüler'!I57","v":0}]
[{"$f":"'PK-Luhe-Komm'!B199","v":""},{"$f":"'PK-Luhe-Komm'!D203","v":0},{"$f":"'PK-Luhe-Komm'!E203","v":0},29,{"$f":"'PK-Luhe-Komm'!H199","v":""},{"$f":"'PK-Luhe-Komm'!J203","v":0},{"$f":"'PK-Luhe-Komm'!K203","v":0},29,{"$f":"'PK-Luhe-Komm'!$B$52","v":""},{"$f":"'PK-Luhe-Komm'!C52","v":""},{"$f":"'PK-Luhe-Komm'!D52","v":0},{"$f":"IF('PK-Luhe-Komm'!E52=\"\",\"\",'PK-Luhe-Komm'!E52)","v":""},29,{"$f":"'PK-Luhe-Komm'!$H$52","v":""},{"$f":"'PK-Luhe-Komm'!I52","v":""},{"$f":"'PK-Luhe-Komm'!J52","v":0},{"$f":"IF('PK-Luhe-Komm'!K52=\"\",\"\",'PK-Luhe-Komm'!K52)","v":""},29,{"$f":"PS!C33","v":""},{"$f":"PS!D33","v":""},{"$f":"IF(PS!E33=\"\",\"\",PS!E33)","v":""},29,{"$f":"'PK-Damen'!B171","v":""},{"$f":"'PK-Damen'!D174","v":0},{"$f":"'PK-Damen'!E174","v":0},29,{"$f":"'PK-Damen'!$B$57","v":""},{"$f":"'PK-Damen'!C58","v":""},{"$f":"'PK-Damen'!D58","v":0},{"$f":"IF('PK-Damen'!E58=\"\",\"\",'PK-Damen'!E58)","v":""},29,null,null,null,null,null,null,{"$f":"'PK-Jugend-Schüler'!$B$57","v":""},{"$f":"'PK-Jugend-Schüler'!C58","v":""},{"$f":"'PK-Jugend-Schüler'!D58","v":0},null,{"$f":"'PK-Jugend-Schüler'!$G$57","v":""},{"$f":"'PK-Jugend-Schüler'!H58","v":""},{"$f":"'PK-Jugend-Schüler'!I58","v":0}]
[{"$f":"'PK-Luhe-Komm'!B206","v":""},{"$f":"'PK-Luhe-Komm'!D210","v":0},{"$f":"'PK-Luhe-Komm'!E210","v":0},30,{"$f":"'PK-Luhe-Komm'!H206","v":""},{"$f":"'PK-Luhe-Komm'!J210","v":0},{"$f":"'PK-Luhe-Komm'!K210","v":0},30,{"$f":"'PK-Luhe-Komm'!$B$52","v":""},{"$f":"'PK-Luhe-Komm'!C53","v":""},{"$f":"'PK-Luhe-Komm'!D53","v":0},{"$f":"IF('PK-Luhe-Komm'!E53=\"\",\"\",'PK-Luhe-Komm'!E53)","v":""},30,{"$f":"'PK-Luhe-Komm'!$H$52","v":""},{"$f":"'PK-Luhe-Komm'!I53","v":""},{"$f":"'PK-Luhe-Komm'!J53","v":0},{"$f":"IF('PK-Luhe-Komm'!K53=\"\",\"\",'PK-Luhe-Komm'!K53)","v":""},30,{"$f":"PS!C34","v":""},{"$f":"PS!D34","v":""},{"$f":"IF(PS!E34=\"\",\"\",PS!E34)","v":""},30,{"$f":"'PK-Damen'!B177","v":""},{"$f":"'PK-Damen'!D180","v":0},{"$f":"'PK-Damen'!E180","v":0},30,{"$f":"'PK-Damen'!$B$57","v":""},{"$f":"'PK-Damen'!C59","v":""},{"$f":"'PK-Damen'!D59","v":0},{"$f":"IF('PK-Damen'!E59=\"\",\"\",'PK-Damen'!E59)","v":""},30,null,null,null,null,null,null,{"$f":"'PK-Jugend-Schüler'!$B$57","v":""},{"$f":"'PK-Jugend-Schüler'!C59","v":""},{"$f":"'PK-Jugend-Schüler'!D59","v":0},null,{"$f":"'PK-Jugend-Schüler'!$G$57","v":""},{"$f":"'PK-Jugend-Schüler'!H59","v":""},{"$f":"'PK-Jugend-Schüler'!I59","v":0}]
[{"$f":"'PK-Luhe-Komm'!B213","v":""},{"$f":"'PK-Luhe-Komm'!D217","v":0},{"$f":"'PK-Luhe-Komm'!E217","v":0},31,{"$f":"'PK-Luhe-Komm'!H213","v":""},{"$f":"'PK-Luhe-Komm'!J217","v":0},{"$f":"'PK-Luhe-Komm'!K217","v":0},31,{"$f":"'PK-Luhe-Komm'!$B$52","v":""},{"$f":"'PK-Luhe-Komm'!C54","v":""},{"$f":"'PK-Luhe-Komm'!D54","v":0},{"$f":"IF('PK-Luhe-Komm'!E54=\"\",\"\",'PK-Luhe-Komm'!E54)","v":""},31,{"$f":"'PK-Luhe-Komm'!$H$52","v":""},{"$f":"'PK-Luhe-Komm'!I54","v":""},{"$f":"'PK-Luhe-Komm'!J54","v":0},{"$f":"IF('PK-Luhe-Komm'!K54=\"\",\"\",'PK-Luhe-Komm'!K54)","v":""},31,{"$f":"PS!C35","v":""},{"$f":"PS!D35","v":""},{"$f":"IF(PS!E35=\"\",\"\",PS!E35)","v":""},31,null,null,null,null,{"$f":"'PK-Damen'!$B$63","v":""},{"$f":"'PK-Damen'!C63","v":""},{"$f":"'PK-Damen'!D63","v":0},{"$f":"IF('PK-Damen'!E63=\"\",\"\",'PK-Damen'!E63)","v":""},31,null,null,null,null,null,null,{"$f":"'PK-Jugend-Schüler'!$B$63","v":""},{"$f":"'PK-Jugend-Schüler'!C63","v":""},{"$f":"'PK-Jugend-Schüler'!D63","v":0},null,{"$f":"'PK-Jugend-Schüler'!$G$63","v":""},{"$f":"'PK-Jugend-Schüler'!H63","v":""},{"$f":"'PK-Jugend-Schüler'!I63","v":0}]
[{"$f":"'PK-Luhe-Komm'!B220","v":""},{"$f":"'PK-Luhe-Komm'!D224","v":0},{"$f":"'PK-Luhe-Komm'!E224","v":0},32,{"$f":"'PK-Luhe-Komm'!H220","v":""},{"$f":"'PK-Luhe-Komm'!J224","v":0},{"$f":"'PK-Luhe-Komm'!K224","v":0},32,{"$f":"'PK-Luhe-Komm'!$B$52","v":""},{"$f":"'PK-Luhe-Komm'!C55","v":""},{"$f":"'PK-Luhe-Komm'!D55","v":0},{"$f":"IF('PK-Luhe-Komm'!E55=\"\",\"\",'PK-Luhe-Komm'!E55)","v":""},32,{"$f":"'PK-Luhe-Komm'!$H$52","v":""},{"$f":"'PK-Luhe-Komm'!I55","v":""},{"$f":"'PK-Luhe-Komm'!J55","v":0},{"$f":"IF('PK-Luhe-Komm'!K55=\"\",\"\",'PK-Luhe-Komm'!K55)","v":""},32,{"$f":"PS!C36","v":""},{"$f":"PS!D36","v":""},{"$f":"IF(PS!E36=\"\",\"\",PS!E36)","v":""},32,null,null,null,null,{"$f":"'PK-Damen'!$B$63","v":""},{"$f":"'PK-Damen'!C64","v":""},{"$f":"'PK-Damen'!D64","v":0},{"$f":"IF('PK-Damen'!E64=\"\",\"\",'PK-Damen'!E64)","v":""},32,null,null,null,null,null,null,{"$f":"'PK-Jugend-Schüler'!$B$63","v":""},{"$f":"'PK-Jugend-Schüler'!C64","v":""},{"$f":"'PK-Jugend-Schüler'!D64","v":0},null,{"$f":"'PK-Jugend-Schüler'!$G$63","v":""},{"$f":"'PK-Jugend-Schüler'!H64","v":""},{"$f":"'PK-Jugend-Schüler'!I64","v":0}]
[{"$f":"'PK-Luhe-Komm'!B227","v":""},{"$f":"'PK-Luhe-Komm'!D231","v":0},{"$f":"'PK-Luhe-Komm'!E231","v":0},33,{"$f":"'PK-Luhe-Komm'!H227","v":""},{"$f":"'PK-Luhe-Komm'!J231","v":0},{"$f":"'PK-Luhe-Komm'!K231","v":0},33,{"$f":"'PK-Luhe-Komm'!$B$59","v":""},{"$f":"'PK-Luhe-Komm'!C59","v":""},{"$f":"'PK-Luhe-Komm'!D59","v":0},{"$f":"IF('PK-Luhe-Komm'!E59=\"\",\"\",'PK-Luhe-Komm'!E59)","v":""},33,{"$f":"'PK-Luhe-Komm'!$H$59","v":""},{"$f":"'PK-Luhe-Komm'!I59","v":""},{"$f":"'PK-Luhe-Komm'!J59","v":0},{"$f":"IF('PK-Luhe-Komm'!K59=\"\",\"\",'PK-Luhe-Komm'!K59)","v":""},33,{"$f":"PS!C37","v":""},{"$f":"PS!D37","v":""},{"$f":"IF(PS!E37=\"\",\"\",PS!E37)","v":""},33,null,null,null,null,{"$f":"'PK-Damen'!$B$63","v":""},{"$f":"'PK-Damen'!C65","v":""},{"$f":"'PK-Damen'!D65","v":0},{"$f":"IF('PK-Damen'!E65=\"\",\"\",'PK-Damen'!E65)","v":""},33,null,null,null,null,null,null,{"$f":"'PK-Jugend-Schüler'!$B$63","v":""},{"$f":"'PK-Jugend-Schüler'!C65","v":""},{"$f":"'PK-Jugend-Schüler'!D65","v":0},null,{"$f":"'PK-Jugend-Schüler'!$G$63","v":""},{"$f":"'PK-Jugend-Schüler'!H65","v":""},{"$f":"'PK-Jugend-Schüler'!I65","v":0}]
[{"$f":"'PK-Luhe-Komm'!B234","v":""},{"$f":"'PK-Luhe-Komm'!D238","v":0},{"$f":"'PK-Luhe-Komm'!E238","v":0},34,{"$f":"'PK-Luhe-Komm'!H234","v":""},{"$f":"'PK-Luhe-Komm'!J238","v":0},{"$f":"'PK-Luhe-Komm'!K238","v":0},34,{"$f":"'PK-Luhe-Komm'!$B$59","v":""},{"$f":"'PK-Luhe-Komm'!C60","v":""},{"$f":"'PK-Luhe-Komm'!D60","v":0},{"$f":"IF('PK-Luhe-Komm'!E60=\"\",\"\",'PK-Luhe-Komm'!E60)","v":""},34,{"$f":"'PK-Luhe-Komm'!$H$59","v":""},{"$f":"'PK-Luhe-Komm'!I60","v":""},{"$f":"'PK-Luhe-Komm'!J60","v":0},{"$f":"IF('PK-Luhe-Komm'!K60=\"\",\"\",'PK-Luhe-Komm'!K60)","v":""},34,{"$f":"PS!C38","v":""},{"$f":"PS!D38","v":""},{"$f":"IF(PS!E38=\"\",\"\",PS!E38)","v":""},34,null,null,null,null,{"$f":"'PK-Damen'!$B$69","v":""},{"$f":"'PK-Damen'!C69","v":""},{"$f":"'PK-Damen'!D69","v":0},{"$f":"IF('PK-Damen'!E69=\"\",\"\",'PK-Damen'!E69)","v":""},34,null,null,null,null,null,null,{"$f":"'PK-Jugend-Schüler'!$B$69","v":""},{"$f":"'PK-Jugend-Schüler'!C69","v":""},{"$f":"'PK-Jugend-Schüler'!D69","v":0},null,{"$f":"'PK-Jugend-Schüler'!$G$69","v":""},{"$f":"'PK-Jugend-Schüler'!H69","v":""},{"$f":"'PK-Jugend-Schüler'!I69","v":0}]
[{"$f":"'PK-Luhe-Komm'!B241","v":""},{"$f":"'PK-Luhe-Komm'!D245","v":0},{"$f":"'PK-Luhe-Komm'!E245","v":0},35,{"$f":"'PK-Luhe-Komm'!H241","v":""},{"$f":"'PK-Luhe-Komm'!J245","v":0},{"$f":"'PK-Luhe-Komm'!K245","v":0},35,{"$f":"'PK-Luhe-Komm'!$B$59","v":""},{"$f":"'PK-Luhe-Komm'!C61","v":""},{"$f":"'PK-Luhe-Komm'!D61","v":0},{"$f":"IF('PK-Luhe-Komm'!E61=\"\",\"\",'PK-Luhe-Komm'!E61)","v":""},35,{"$f":"'PK-Luhe-Komm'!$H$59","v":""},{"$f":"'PK-Luhe-Komm'!I61","v":""},{"$f":"'PK-Luhe-Komm'!J61","v":0},{"$f":"IF('PK-Luhe-Komm'!K61=\"\",\"\",'PK-Luhe-Komm'!K61)","v":""},35,{"$f":"PS!C39","v":""},{"$f":"PS!D39","v":""},{"$f":"IF(PS!E39=\"\",\"\",PS!E39)","v":""},35,null,null,null,null,{"$f":"'PK-Damen'!$B$69","v":""},{"$f":"'PK-Damen'!C70","v":""},{"$f":"'PK-Damen'!D70","v":0},{"$f":"IF('PK-Damen'!E70=\"\",\"\",'PK-Damen'!E70)","v":""},35,null,null,null,null,null,null,{"$f":"'PK-Jugend-Schüler'!$B$69","v":""},{"$f":"'PK-Jugend-Schüler'!C70","v":""},{"$f":"'PK-Jugend-Schüler'!D70","v":0},null,{"$f":"'PK-Jugend-Schüler'!$G$69","v":""},{"$f":"'PK-Jugend-Schüler'!H70","v":""},{"$f":"'PK-Jugend-Schüler'!I70","v":0}]
[{"$f":"'PK-Luhe-Komm'!B248","v":""},{"$f":"'PK-Luhe-Komm'!D252","v":0},{"$f":"'PK-Luhe-Komm'!E252","v":0},36,{"$f":"'PK-Luhe-Komm'!H248","v":""},{"$f":"'PK-Luhe-Komm'!J252","v":0},{"$f":"'PK-Luhe-Komm'!K252","v":0},36,{"$f":"'PK-Luhe-Komm'!$B$59","v":""},{"$f":"'PK-Luhe-Komm'!C62","v":""},{"$f":"'PK-Luhe-Komm'!D62","v":0},{"$f":"IF('PK-Luhe-Komm'!E62=\"\",\"\",'PK-Luhe-Komm'!E62)","v":""},36,{"$f":"'PK-Luhe-Komm'!$H$59","v":""},{"$f":"'PK-Luhe-Komm'!I62","v":""},{"$f":"'PK-Luhe-Komm'!J62","v":0},{"$f":"IF('PK-Luhe-Komm'!K62=\"\",\"\",'PK-Luhe-Komm'!K62)","v":""},36,{"$f":"PS!C40","v":""},{"$f":"PS!D40","v":""},{"$f":"IF(PS!E40=\"\",\"\",PS!E40)","v":""},36,null,null,null,null,{"$f":"'PK-Damen'!$B$69","v":""},{"$f":"'PK-Damen'!C71","v":""},{"$f":"'PK-Damen'!D71","v":0},{"$f":"IF('PK-Damen'!E71=\"\",\"\",'PK-Damen'!E71)","v":""},36,null,null,null,null,null,null,{"$f":"'PK-Jugend-Schüler'!$B$69","v":""},{"$f":"'PK-Jugend-Schüler'!C71","v":""},{"$f":"'PK-Jugend-Schüler'!D71","v":0},null,{"$f":"'PK-Jugend-Schüler'!$G$69","v":""},{"$f":"'PK-Jugend-Schüler'!H71","v":""},{"$f":"'PK-Jugend-Schüler'!I71","v":0}]
[{"$f":"'PK-Luhe-Komm'!B255","v":""},{"$f":"'PK-Luhe-Komm'!D259","v":0},{"$f":"'PK-Luhe-Komm'!E259","v":0},37,{"$f":"'PK-Luhe-Komm'!H255","v":""},{"$f":"'PK-Luhe-Komm'!J259","v":0},{"$f":"'PK-Luhe-Komm'!K259","v":0},37,{"$f":"'PK-Luhe-Komm'!$B$66","v":""},{"$f":"'PK-Luhe-Komm'!C66","v":""},{"$f":"'PK-Luhe-Komm'!D66","v":0},{"$f":"IF('PK-Luhe-Komm'!E66=\"\",\"\",'PK-Luhe-Komm'!E66)","v":""},37,{"$f":"'PK-Luhe-Komm'!$H$66","v":""},{"$f":"'PK-Luhe-Komm'!I66","v":""},{"$f":"'PK-Luhe-Komm'!J66","v":0},{"$f":"IF('PK-Luhe-Komm'!K66=\"\",\"\",'PK-Luhe-Komm'!K66)","v":""},37,{"$f":"PS!C41","v":""},{"$f":"PS!D41","v":""},{"$f":"IF(PS!E41=\"\",\"\",PS!E41)","v":""},37,null,null,null,null,{"$f":"'PK-Damen'!$B$75","v":""},{"$f":"'PK-Damen'!C75","v":""},{"$f":"'PK-Damen'!D75","v":0},{"$f":"IF('PK-Damen'!E75=\"\",\"\",'PK-Damen'!E75)","v":""},37,null,null,null,null,null,null,{"$f":"'PK-Jugend-Schüler'!$B$75","v":""},{"$f":"'PK-Jugend-Schüler'!C75","v":""},{"$f":"'PK-Jugend-Schüler'!D75","v":0},null,{"$f":"'PK-Jugend-Schüler'!$G$75","v":""},{"$f":"'PK-Jugend-Schüler'!H75","v":""},{"$f":"'PK-Jugend-Schüler'!I75","v":0}]
[{"$f":"'PK-Luhe-Komm'!B262","v":""},{"$f":"'PK-Luhe-Komm'!D266","v":0},{"$f":"'PK-Luhe-Komm'!E266","v":0},38,{"$f":"'PK-Luhe-Komm'!H262","v":""},{"$f":"'PK-Luhe-Komm'!J266","v":0},{"$f":"'PK-Luhe-Komm'!K266","v":0},38,{"$f":"'PK-Luhe-Komm'!$B$66","v":""},{"$f":"'PK-Luhe-Komm'!C67","v":""},{"$f":"'PK-Luhe-Komm'!D67","v":0},{"$f":"IF('PK-Luhe-Komm'!E67=\"\",\"\",'PK-Luhe-Komm'!E67)","v":""},38,{"$f":"'PK-Luhe-Komm'!$H$66","v":""},{"$f":"'PK-Luhe-Komm'!I67","v":""},{"$f":"'PK-Luhe-Komm'!J67","v":0},{"$f":"IF('PK-Luhe-Komm'!K67=\"\",\"\",'PK-Luhe-Komm'!K67)","v":""},38,{"$f":"PS!C42","v":""},{"$f":"PS!D42","v":""},{"$f":"IF(PS!E42=\"\",\"\",PS!E42)","v":""},38,null,null,null,null,{"$f":"'PK-Damen'!$B$75","v":""},{"$f":"'PK-Damen'!C76","v":""},{"$f":"'PK-Damen'!D76","v":0},{"$f":"IF('PK-Damen'!E76=\"\",\"\",'PK-Damen'!E76)","v":""},38,null,null,null,null,null,null,{"$f":"'PK-Jugend-Schüler'!$B$75","v":""},{"$f":"'PK-Jugend-Schüler'!C76","v":""},{"$f":"'PK-Jugend-Schüler'!D76","v":0},null,{"$f":"'PK-Jugend-Schüler'!$G$75","v":""},{"$f":"'PK-Jugend-Schüler'!H76","v":""},{"$f":"'PK-Jugend-Schüler'!I76","v":0}]
[{"$f":"'PK-Luhe-Komm'!B269","v":""},{"$f":"'PK-Luhe-Komm'!D273","v":0},{"$f":"'PK-Luhe-Komm'!E273","v":0},39,{"$f":"'PK-Luhe-Komm'!H269","v":""},{"$f":"'PK-Luhe-Komm'!J273","v":0},{"$f":"'PK-Luhe-Komm'!K273","v":0},39,{"$f":"'PK-Luhe-Komm'!$B$66","v":""},{"$f":"'PK-Luhe-Komm'!C68","v":""},{"$f":"'PK-Luhe-Komm'!D68","v":0},{"$f":"IF('PK-Luhe-Komm'!E68=\"\",\"\",'PK-Luhe-Komm'!E68)","v":""},39,{"$f":"'PK-Luhe-Komm'!$H$66","v":""},{"$f":"'PK-Luhe-Komm'!I68","v":""},{"$f":"'PK-Luhe-Komm'!J68","v":0},{"$f":"IF('PK-Luhe-Komm'!K68=\"\",\"\",'PK-Luhe-Komm'!K68)","v":""},39,{"$f":"PS!C43","v":""},{"$f":"PS!D43","v":""},{"$f":"IF(PS!E43=\"\",\"\",PS!E43)","v":""},39,null,null,null,null,{"$f":"'PK-Damen'!$B$75","v":""},{"$f":"'PK-Damen'!C77","v":""},{"$f":"'PK-Damen'!D77","v":0},{"$f":"IF('PK-Damen'!E77=\"\",\"\",'PK-Damen'!E77)","v":""},39,null,null,null,null,null,null,{"$f":"'PK-Jugend-Schüler'!$B$75","v":""},{"$f":"'PK-Jugend-Schüler'!C77","v":""},{"$f":"'PK-Jugend-Schüler'!D77","v":0},null,{"$f":"'PK-Jugend-Schüler'!$G$75","v":""},{"$f":"'PK-Jugend-Schüler'!H77","v":""},{"$f":"'PK-Jugend-Schüler'!I77","v":0}]
[{"$f":"'PK-Luhe-Komm'!B276","v":""},{"$f":"'PK-Luhe-Komm'!D280","v":0},{"$f":"'PK-Luhe-Komm'!E280","v":0},40,{"$f":"'PK-Luhe-Komm'!H276","v":""},{"$f":"'PK-Luhe-Komm'!J280","v":0},{"$f":"'PK-Luhe-Komm'!K280","v":0},40,{"$f":"'PK-Luhe-Komm'!$B$66","v":""},{"$f":"'PK-Luhe-Komm'!C69","v":""},{"$f":"'PK-Luhe-Komm'!D69","v":0},{"$f":"IF('PK-Luhe-Komm'!E69=\"\",\"\",'PK-Luhe-Komm'!E69)","v":""},40,{"$f":"'PK-Luhe-Komm'!$H$66","v":""},{"$f":"'PK-Luhe-Komm'!I69","v":""},{"$f":"'PK-Luhe-Komm'!J69","v":0},{"$f":"IF('PK-Luhe-Komm'!K69=\"\",\"\",'PK-Luhe-Komm'!K69)","v":""},40,{"$f":"PS!C44","v":""},{"$f":"PS!D44","v":""},{"$f":"IF(PS!E44=\"\",\"\",PS!E44)","v":""},40,null,null,null,null,{"$f":"'PK-Damen'!$B$81","v":""},{"$f":"'PK-Damen'!C81","v":""},{"$f":"'PK-Damen'!D81","v":0},{"$f":"IF('PK-Damen'!E81=\"\",\"\",'PK-Damen'!E81)","v":""},40,null,null,null,null,null,null,{"$f":"'PK-Jugend-Schüler'!$B$81","v":""},{"$f":"'PK-Jugend-Schüler'!C81","v":""},{"$f":"'PK-Jugend-Schüler'!D81","v":0},null,{"$f":"'PK-Jugend-Schüler'!$G$81","v":""},{"$f":"'PK-Jugend-Schüler'!H81","v":""},{"$f":"'PK-Jugend-Schüler'!I81","v":0}]
[null,null,null,null,null,null,null,null,{"$f":"'PK-Luhe-Komm'!$B$73","v":""},{"$f":"'PK-Luhe-Komm'!C73","v":""},{"$f":"'PK-Luhe-Komm'!D73","v":0},{"$f":"IF('PK-Luhe-Komm'!E73=\"\",\"\",'PK-Luhe-Komm'!E73)","v":""},41,{"$f":"'PK-Luhe-Komm'!$H$73","v":""},{"$f":"'PK-Luhe-Komm'!I73","v":""},{"$f":"'PK-Luhe-Komm'!J73","v":0},{"$f":"IF('PK-Luhe-Komm'!K73=\"\",\"\",'PK-Luhe-Komm'!K73)","v":""},41,{"$f":"PS!C45","v":""},{"$f":"PS!D45","v":""},{"$f":"IF(PS!E45=\"\",\"\",PS!E45)","v":""},41,null,null,null,null,{"$f":"'PK-Damen'!$B$81","v":""},{"$f":"'PK-Damen'!C82","v":""},{"$f":"'PK-Damen'!D82","v":0},{"$f":"IF('PK-Damen'!E82=\"\",\"\",'PK-Damen'!E82)","v":""},41,null,null,null,null,null,null,{"$f":"'PK-Jugend-Schüler'!$B$81","v":""},{"$f":"'PK-Jugend-Schüler'!C82","v":""},{"$f":"'PK-Jugend-Schüler'!D82","v":0},null,{"$f":"'PK-Jugend-Schüler'!$G$81","v":""},{"$f":"'PK-Jugend-Schüler'!H82","v":""},{"$f":"'PK-Jugend-Schüler'!I82","v":0}]
[null,null,null,null,null,null,null,null,{"$f":"'PK-Luhe-Komm'!$B$73","v":""},{"$f":"'PK-Luhe-Komm'!C74","v":""},{"$f":"'PK-Luhe-Komm'!D74","v":0},{"$f":"IF('PK-Luhe-Komm'!E74=\"\",\"\",'PK-Luhe-Komm'!E74)","v":""},42,{"$f":"'PK-Luhe-Komm'!$H$73","v":""},{"$f":"'PK-Luhe-Komm'!I74","v":""},{"$f":"'PK-Luhe-Komm'!J74","v":0},{"$f":"IF('PK-Luhe-Komm'!K74=\"\",\"\",'PK-Luhe-Komm'!K74)","v":""},42,{"$f":"PS!C46","v":""},{"$f":"PS!D46","v":""},{"$f":"IF(PS!E46=\"\",\"\",PS!E46)","v":""},42,null,null,null,null,{"$f":"'PK-Damen'!$B$81","v":""},{"$f":"'PK-Damen'!C83","v":""},{"$f":"'PK-Damen'!D83","v":0},{"$f":"IF('PK-Damen'!E83=\"\",\"\",'PK-Damen'!E83)","v":""},42,null,null,null,null,null,null,{"$f":"'PK-Jugend-Schüler'!$B$81","v":""},{"$f":"'PK-Jugend-Schüler'!C83","v":""},{"$f":"'PK-Jugend-Schüler'!D83","v":0},null,{"$f":"'PK-Jugend-Schüler'!$G$81","v":""},{"$f":"'PK-Jugend-Schüler'!H83","v":""},{"$f":"'PK-Jugend-Schüler'!I83","v":0}]
[null,null,null,null,null,null,null,null,{"$f":"'PK-Luhe-Komm'!$B$73","v":""},{"$f":"'PK-Luhe-Komm'!C75","v":""},{"$f":"'PK-Luhe-Komm'!D75","v":0},{"$f":"IF('PK-Luhe-Komm'!E75=\"\",\"\",'PK-Luhe-Komm'!E75)","v":""},43,{"$f":"'PK-Luhe-Komm'!$H$73","v":""},{"$f":"'PK-Luhe-Komm'!I75","v":""},{"$f":"'PK-Luhe-Komm'!J75","v":0},{"$f":"IF('PK-Luhe-Komm'!K75=\"\",\"\",'PK-Luhe-Komm'!K75)","v":""},43,{"$f":"PS!C47","v":""},{"$f":"PS!D47","v":""},{"$f":"IF(PS!E47=\"\",\"\",PS!E47)","v":""},43,null,null,null,null,{"$f":"'PK-Damen'!$B$87","v":""},{"$f":"'PK-Damen'!C87","v":""},{"$f":"'PK-Damen'!D87","v":0},{"$f":"IF('PK-Damen'!E87=\"\",\"\",'PK-Damen'!E87)","v":""},43,null,null,null,null,null,null,{"$f":"'PK-Jugend-Schüler'!$B$87","v":""},{"$f":"'PK-Jugend-Schüler'!C87","v":""},{"$f":"'PK-Jugend-Schüler'!D87","v":0},null,{"$f":"'PK-Jugend-Schüler'!$G$87","v":""},{"$f":"'PK-Jugend-Schüler'!H87","v":""},{"$f":"'PK-Jugend-Schüler'!I87","v":0}]
[null,null,null,null,null,null,null,null,{"$f":"'PK-Luhe-Komm'!$B$73","v":""},{"$f":"'PK-Luhe-Komm'!C76","v":""},{"$f":"'PK-Luhe-Komm'!D76","v":0},{"$f":"IF('PK-Luhe-Komm'!E76=\"\",\"\",'PK-Luhe-Komm'!E76)","v":""},44,{"$f":"'PK-Luhe-Komm'!$H$73","v":""},{"$f":"'PK-Luhe-Komm'!I76","v":""},{"$f":"'PK-Luhe-Komm'!J76","v":0},{"$f":"IF('PK-Luhe-Komm'!K76=\"\",\"\",'PK-Luhe-Komm'!K76)","v":""},44,{"$f":"PS!C48","v":""},{"$f":"PS!D48","v":""},{"$f":"IF(PS!E48=\"\",\"\",PS!E48)","v":""},44,null,null,null,null,{"$f":"'PK-Damen'!$B$87","v":""},{"$f":"'PK-Damen'!C88","v":""},{"$f":"'PK-Damen'!D88","v":0},{"$f":"IF('PK-Damen'!E88=\"\",\"\",'PK-Damen'!E88)","v":""},44,null,null,null,null,null,null,{"$f":"'PK-Jugend-Schüler'!$B$87","v":""},{"$f":"'PK-Jugend-Schüler'!C88","v":""},{"$f":"'PK-Jugend-Schüler'!D88","v":0},null,{"$f":"'PK-Jugend-Schüler'!$G$87","v":""},{"$f":"'PK-Jugend-Schüler'!H88","v":""},{"$f":"'PK-Jugend-Schüler'!I88","v":0}]
[null,null,null,null,null,null,null,null,{"$f":"'PK-Luhe-Komm'!$B$80","v":""},{"$f":"'PK-Luhe-Komm'!C80","v":""},{"$f":"'PK-Luhe-Komm'!D80","v":0},{"$f":"IF('PK-Luhe-Komm'!E80=\"\",\"\",'PK-Luhe-Komm'!E80)","v":""},45,{"$f":"'PK-Luhe-Komm'!$H$80","v":""},{"$f":"'PK-Luhe-Komm'!I80","v":""},{"$f":"'PK-Luhe-Komm'!J80","v":0},{"$f":"IF('PK-Luhe-Komm'!K80=\"\",\"\",'PK-Luhe-Komm'!K80)","v":""},45,{"$f":"PS!C49","v":""},{"$f":"PS!D49","v":""},{"$f":"IF(PS!E49=\"\",\"\",PS!E49)","v":""},45,null,null,null,null,{"$f":"'PK-Damen'!$B$87","v":""},{"$f":"'PK-Damen'!C89","v":""},{"$f":"'PK-Damen'!D89","v":0},{"$f":"IF('PK-Damen'!E89=\"\",\"\",'PK-Damen'!E89)","v":""},45,null,null,null,null,null,null,{"$f":"'PK-Jugend-Schüler'!$B$87","v":""},{"$f":"'PK-Jugend-Schüler'!C89","v":""},{"$f":"'PK-Jugend-Schüler'!D89","v":0},null,{"$f":"'PK-Jugend-Schüler'!$G$87","v":""},{"$f":"'PK-Jugend-Schüler'!H89","v":""},{"$f":"'PK-Jugend-Schüler'!I89","v":0}]
[null,null,null,null,null,null,null,null,{"$f":"'PK-Luhe-Komm'!$B$80","v":""},{"$f":"'PK-Luhe-Komm'!C81","v":""},{"$f":"'PK-Luhe-Komm'!D81","v":0},{"$f":"IF('PK-Luhe-Komm'!E81=\"\",\"\",'PK-Luhe-Komm'!E81)","v":""},46,{"$f":"'PK-Luhe-Komm'!$H$80","v":""},{"$f":"'PK-Luhe-Komm'!I81","v":""},{"$f":"'PK-Luhe-Komm'!J81","v":0},{"$f":"IF('PK-Luhe-Komm'!K81=\"\",\"\",'PK-Luhe-Komm'!K81)","v":""},46,{"$f":"PS!C50","v":""},{"$f":"PS!D50","v":""},{"$f":"IF(PS!E50=\"\",\"\",PS!E50)","v":""},46,null,null,null,null,{"$f":"'PK-Damen'!$B$93","v":""},{"$f":"'PK-Damen'!C93","v":""},{"$f":"'PK-Damen'!D93","v":0},{"$f":"IF('PK-Damen'!E93=\"\",\"\",'PK-Damen'!E93)","v":""},46]
[null,null,null,null,null,null,null,null,{"$f":"'PK-Luhe-Komm'!$B$80","v":""},{"$f":"'PK-Luhe-Komm'!C82","v":""},{"$f":"'PK-Luhe-Komm'!D82","v":0},{"$f":"IF('PK-Luhe-Komm'!E82=\"\",\"\",'PK-Luhe-Komm'!E82)","v":""},47,{"$f":"'PK-Luhe-Komm'!$H$80","v":""},{"$f":"'PK-Luhe-Komm'!I82","v":""},{"$f":"'PK-Luhe-Komm'!J82","v":0},{"$f":"IF('PK-Luhe-Komm'!K82=\"\",\"\",'PK-Luhe-Komm'!K82)","v":""},47,{"$f":"PS!C51","v":""},{"$f":"PS!D51","v":""},{"$f":"IF(PS!E51=\"\",\"\",PS!E51)","v":""},47,null,null,null,null,{"$f":"'PK-Damen'!$B$93","v":""},{"$f":"'PK-Damen'!C94","v":""},{"$f":"'PK-Damen'!D94","v":0},{"$f":"IF('PK-Damen'!E94=\"\",\"\",'PK-Damen'!E94)","v":""},47]
[null,null,null,null,null,null,null,null,{"$f":"'PK-Luhe-Komm'!$B$80","v":""},{"$f":"'PK-Luhe-Komm'!C83","v":""},{"$f":"'PK-Luhe-Komm'!D83","v":0},{"$f":"IF('PK-Luhe-Komm'!E83=\"\",\"\",'PK-Luhe-Komm'!E83)","v":""},48,{"$f":"'PK-Luhe-Komm'!$H$80","v":""},{"$f":"'PK-Luhe-Komm'!I83","v":""},{"$f":"'PK-Luhe-Komm'!J83","v":0},{"$f":"IF('PK-Luhe-Komm'!K83=\"\",\"\",'PK-Luhe-Komm'!K83)","v":""},48,{"$f":"PS!C52","v":""},{"$f":"PS!D52","v":""},{"$f":"IF(PS!E52=\"\",\"\",PS!E52)","v":""},48,null,null,null,null,{"$f":"'PK-Damen'!$B$93","v":""},{"$f":"'PK-Damen'!C95","v":""},{"$f":"'PK-Damen'!D95","v":0},{"$f":"IF('PK-Damen'!E95=\"\",\"\",'PK-Damen'!E95)","v":""},48]
[null,null,null,null,null,null,null,null,{"$f":"'PK-Luhe-Komm'!$B$87","v":""},{"$f":"'PK-Luhe-Komm'!C87","v":""},{"$f":"'PK-Luhe-Komm'!D87","v":0},{"$f":"IF('PK-Luhe-Komm'!E87=\"\",\"\",'PK-Luhe-Komm'!E87)","v":""},49,{"$f":"'PK-Luhe-Komm'!$H$87","v":""},{"$f":"'PK-Luhe-Komm'!I87","v":""},{"$f":"'PK-Luhe-Komm'!J87","v":0},{"$f":"IF('PK-Luhe-Komm'!K87=\"\",\"\",'PK-Luhe-Komm'!K87)","v":""},49,{"$f":"PS!C53","v":""},{"$f":"PS!D53","v":""},{"$f":"IF(PS!E53=\"\",\"\",PS!E53)","v":""},49,null,null,null,null,{"$f":"'PK-Damen'!$B$99","v":""},{"$f":"'PK-Damen'!C99","v":""},{"$f":"'PK-Damen'!D99","v":0},{"$f":"IF('PK-Damen'!E99=\"\",\"\",'PK-Damen'!E99)","v":""},49]
[null,null,null,null,null,null,null,null,{"$f":"'PK-Luhe-Komm'!$B$87","v":""},{"$f":"'PK-Luhe-Komm'!C88","v":""},{"$f":"'PK-Luhe-Komm'!D88","v":0},{"$f":"IF('PK-Luhe-Komm'!E88=\"\",\"\",'PK-Luhe-Komm'!E88)","v":""},50,{"$f":"'PK-Luhe-Komm'!$H$87","v":""},{"$f":"'PK-Luhe-Komm'!I88","v":""},{"$f":"'PK-Luhe-Komm'!J88","v":0},{"$f":"IF('PK-Luhe-Komm'!K88=\"\",\"\",'PK-Luhe-Komm'!K88)","v":""},50,{"$f":"PS!C54","v":""},{"$f":"PS!D54","v":""},{"$f":"IF(PS!E54=\"\",\"\",PS!E54)","v":""},50,null,null,null,null,{"$f":"'PK-Damen'!$B$99","v":""},{"$f":"'PK-Damen'!C100","v":""},{"$f":"'PK-Damen'!D100","v":0},{"$f":"IF('PK-Damen'!E100=\"\",\"\",'PK-Damen'!E100)","v":""},50]
[null,null,null,null,null,null,null,null,{"$f":"'PK-Luhe-Komm'!$B$87","v":""},{"$f":"'PK-Luhe-Komm'!C89","v":""},{"$f":"'PK-Luhe-Komm'!D89","v":0},{"$f":"IF('PK-Luhe-Komm'!E89=\"\",\"\",'PK-Luhe-Komm'!E89)","v":""},51,{"$f":"'PK-Luhe-Komm'!$H$87","v":""},{"$f":"'PK-Luhe-Komm'!I89","v":""},{"$f":"'PK-Luhe-Komm'!J89","v":0},{"$f":"IF('PK-Luhe-Komm'!K89=\"\",\"\",'PK-Luhe-Komm'!K89)","v":""},51,{"$f":"PS!C55","v":""},{"$f":"PS!D55","v":""},{"$f":"IF(PS!E55=\"\",\"\",PS!E55)","v":""},51,null,null,null,null,{"$f":"'PK-Damen'!$B$99","v":""},{"$f":"'PK-Damen'!C101","v":""},{"$f":"'PK-Damen'!D101","v":0},{"$f":"IF('PK-Damen'!E101=\"\",\"\",'PK-Damen'!E101)","v":""},51]
[null,null,null,null,null,null,null,null,{"$f":"'PK-Luhe-Komm'!$B$87","v":""},{"$f":"'PK-Luhe-Komm'!C90","v":""},{"$f":"'PK-Luhe-Komm'!D90","v":0},{"$f":"IF('PK-Luhe-Komm'!E90=\"\",\"\",'PK-Luhe-Komm'!E90)","v":""},52,{"$f":"'PK-Luhe-Komm'!$H$87","v":""},{"$f":"'PK-Luhe-Komm'!I90","v":""},{"$f":"'PK-Luhe-Komm'!J90","v":0},{"$f":"IF('PK-Luhe-Komm'!K90=\"\",\"\",'PK-Luhe-Komm'!K90)","v":""},52,{"$f":"PS!C56","v":""},{"$f":"PS!D56","v":""},{"$f":"IF(PS!E56=\"\",\"\",PS!E56)","v":""},52,null,null,null,null,{"$f":"'PK-Damen'!$B$105","v":""},{"$f":"'PK-Damen'!C105","v":""},{"$f":"'PK-Damen'!D105","v":0},{"$f":"IF('PK-Damen'!E105=\"\",\"\",'PK-Damen'!E105)","v":""},52]
[null,null,null,null,null,null,null,null,{"$f":"'PK-Luhe-Komm'!$B$94","v":""},{"$f":"'PK-Luhe-Komm'!C94","v":""},{"$f":"'PK-Luhe-Komm'!D94","v":0},{"$f":"IF('PK-Luhe-Komm'!E94=\"\",\"\",'PK-Luhe-Komm'!E94)","v":""},53,{"$f":"'PK-Luhe-Komm'!$H$94","v":""},{"$f":"'PK-Luhe-Komm'!I94","v":""},{"$f":"'PK-Luhe-Komm'!J94","v":0},{"$f":"IF('PK-Luhe-Komm'!K94=\"\",\"\",'PK-Luhe-Komm'!K94)","v":""},53,{"$f":"PS!C57","v":""},{"$f":"PS!D57","v":""},{"$f":"IF(PS!E57=\"\",\"\",PS!E57)","v":""},53,null,null,null,null,{"$f":"'PK-Damen'!$B$105","v":""},{"$f":"'PK-Damen'!C106","v":""},{"$f":"'PK-Damen'!D106","v":0},{"$f":"IF('PK-Damen'!E106=\"\",\"\",'PK-Damen'!E106)","v":""},53]
[null,null,null,null,null,null,null,null,{"$f":"'PK-Luhe-Komm'!$B$94","v":""},{"$f":"'PK-Luhe-Komm'!C95","v":""},{"$f":"'PK-Luhe-Komm'!D95","v":0},{"$f":"IF('PK-Luhe-Komm'!E95=\"\",\"\",'PK-Luhe-Komm'!E95)","v":""},54,{"$f":"'PK-Luhe-Komm'!$H$94","v":""},{"$f":"'PK-Luhe-Komm'!I95","v":""},{"$f":"'PK-Luhe-Komm'!J95","v":0},{"$f":"IF('PK-Luhe-Komm'!K95=\"\",\"\",'PK-Luhe-Komm'!K95)","v":""},54,{"$f":"PS!C58","v":""},{"$f":"PS!D58","v":""},{"$f":"IF(PS!E58=\"\",\"\",PS!E58)","v":""},54,null,null,null,null,{"$f":"'PK-Damen'!$B$105","v":""},{"$f":"'PK-Damen'!C107","v":""},{"$f":"'PK-Damen'!D107","v":0},{"$f":"IF('PK-Damen'!E107=\"\",\"\",'PK-Damen'!E107)","v":""},54]
[null,null,null,null,null,null,null,null,{"$f":"'PK-Luhe-Komm'!$B$94","v":""},{"$f":"'PK-Luhe-Komm'!C96","v":""},{"$f":"'PK-Luhe-Komm'!D96","v":0},{"$f":"IF('PK-Luhe-Komm'!E96=\"\",\"\",'PK-Luhe-Komm'!E96)","v":""},55,{"$f":"'PK-Luhe-Komm'!$H$94","v":""},{"$f":"'PK-Luhe-Komm'!I96","v":""},{"$f":"'PK-Luhe-Komm'!J96","v":0},{"$f":"IF('PK-Luhe-Komm'!K96=\"\",\"\",'PK-Luhe-Komm'!K96)","v":""},55,{"$f":"PS!C59","v":""},{"$f":"PS!D59","v":""},{"$f":"IF(PS!E59=\"\",\"\",PS!E59)","v":""},55,null,null,null,null,{"$f":"'PK-Damen'!$B$111","v":""},{"$f":"'PK-Damen'!C111","v":""},{"$f":"'PK-Damen'!D111","v":0},{"$f":"IF('PK-Damen'!E111=\"\",\"\",'PK-Damen'!E111)","v":""},55]
[null,null,null,null,null,null,null,null,{"$f":"'PK-Luhe-Komm'!$B$94","v":""},{"$f":"'PK-Luhe-Komm'!C97","v":""},{"$f":"'PK-Luhe-Komm'!D97","v":0},{"$f":"IF('PK-Luhe-Komm'!E97=\"\",\"\",'PK-Luhe-Komm'!E97)","v":""},56,{"$f":"'PK-Luhe-Komm'!$H$94","v":""},{"$f":"'PK-Luhe-Komm'!I97","v":""},{"$f":"'PK-Luhe-Komm'!J97","v":0},{"$f":"IF('PK-Luhe-Komm'!K97=\"\",\"\",'PK-Luhe-Komm'!K97)","v":""},56,{"$f":"PS!C60","v":""},{"$f":"PS!D60","v":""},{"$f":"IF(PS!E60=\"\",\"\",PS!E60)","v":""},56,null,null,null,null,{"$f":"'PK-Damen'!$B$111","v":""},{"$f":"'PK-Damen'!C112","v":""},{"$f":"'PK-Damen'!D112","v":0},{"$f":"IF('PK-Damen'!E112=\"\",\"\",'PK-Damen'!E112)","v":""},56]
[null,null,null,null,null,null,null,null,{"$f":"'PK-Luhe-Komm'!$B$101","v":""},{"$f":"'PK-Luhe-Komm'!C101","v":""},{"$f":"'PK-Luhe-Komm'!D101","v":0},{"$f":"IF('PK-Luhe-Komm'!E101=\"\",\"\",'PK-Luhe-Komm'!E101)","v":""},57,{"$f":"'PK-Luhe-Komm'!$H$101","v":""},{"$f":"'PK-Luhe-Komm'!I101","v":""},{"$f":"'PK-Luhe-Komm'!J101","v":0},{"$f":"IF('PK-Luhe-Komm'!K101=\"\",\"\",'PK-Luhe-Komm'!K101)","v":""},57,{"$f":"PS!C61","v":""},{"$f":"PS!D61","v":""},{"$f":"IF(PS!E61=\"\",\"\",PS!E61)","v":""},57,null,null,null,null,{"$f":"'PK-Damen'!$B$111","v":""},{"$f":"'PK-Damen'!C113","v":""},{"$f":"'PK-Damen'!D113","v":0},{"$f":"IF('PK-Damen'!E113=\"\",\"\",'PK-Damen'!E113)","v":""},57]
[null,null,null,null,null,null,null,null,{"$f":"'PK-Luhe-Komm'!$B$101","v":""},{"$f":"'PK-Luhe-Komm'!C102","v":""},{"$f":"'PK-Luhe-Komm'!D102","v":0},{"$f":"IF('PK-Luhe-Komm'!E102=\"\",\"\",'PK-Luhe-Komm'!E102)","v":""},58,{"$f":"'PK-Luhe-Komm'!$H$101","v":""},{"$f":"'PK-Luhe-Komm'!I102","v":""},{"$f":"'PK-Luhe-Komm'!J102","v":0},{"$f":"IF('PK-Luhe-Komm'!K102=\"\",\"\",'PK-Luhe-Komm'!K102)","v":""},58,{"$f":"PS!C62","v":""},{"$f":"PS!D62","v":""},{"$f":"IF(PS!E62=\"\",\"\",PS!E62)","v":""},58,null,null,null,null,{"$f":"'PK-Damen'!$B$117","v":""},{"$f":"'PK-Damen'!C117","v":""},{"$f":"'PK-Damen'!D117","v":0},{"$f":"IF('PK-Damen'!E117=\"\",\"\",'PK-Damen'!E117)","v":""},58]
[null,null,null,null,null,null,null,null,{"$f":"'PK-Luhe-Komm'!$B$101","v":""},{"$f":"'PK-Luhe-Komm'!C103","v":""},{"$f":"'PK-Luhe-Komm'!D103","v":0},{"$f":"IF('PK-Luhe-Komm'!E103=\"\",\"\",'PK-Luhe-Komm'!E103)","v":""},59,{"$f":"'PK-Luhe-Komm'!$H$101","v":""},{"$f":"'PK-Luhe-Komm'!I103","v":""},{"$f":"'PK-Luhe-Komm'!J103","v":0},{"$f":"IF('PK-Luhe-Komm'!K103=\"\",\"\",'PK-Luhe-Komm'!K103)","v":""},59,{"$f":"PS!C63","v":""},{"$f":"PS!D63","v":""},{"$f":"IF(PS!E63=\"\",\"\",PS!E63)","v":""},59,null,null,null,null,{"$f":"'PK-Damen'!$B$117","v":""},{"$f":"'PK-Damen'!C118","v":""},{"$f":"'PK-Damen'!D118","v":0},{"$f":"IF('PK-Damen'!E118=\"\",\"\",'PK-Damen'!E118)","v":""},59]
[null,null,null,null,null,null,null,null,{"$f":"'PK-Luhe-Komm'!$B$101","v":""},{"$f":"'PK-Luhe-Komm'!C104","v":""},{"$f":"'PK-Luhe-Komm'!D104","v":0},{"$f":"IF('PK-Luhe-Komm'!E104=\"\",\"\",'PK-Luhe-Komm'!E104)","v":""},60,{"$f":"'PK-Luhe-Komm'!$H$101","v":""},{"$f":"'PK-Luhe-Komm'!I104","v":""},{"$f":"'PK-Luhe-Komm'!J104","v":0},{"$f":"IF('PK-Luhe-Komm'!K104=\"\",\"\",'PK-Luhe-Komm'!K104)","v":""},60,{"$f":"PS!C64","v":""},{"$f":"PS!D64","v":""},{"$f":"IF(PS!E64=\"\",\"\",PS!E64)","v":""},60,null,null,null,null,{"$f":"'PK-Damen'!$B$117","v":""},{"$f":"'PK-Damen'!C119","v":""},{"$f":"'PK-Damen'!D119","v":0},{"$f":"IF('PK-Damen'!E119=\"\",\"\",'PK-Damen'!E119)","v":""},60]
[null,null,null,null,null,null,null,null,{"$f":"'PK-Luhe-Komm'!$B$108","v":""},{"$f":"'PK-Luhe-Komm'!C108","v":""},{"$f":"'PK-Luhe-Komm'!D108","v":0},{"$f":"IF('PK-Luhe-Komm'!E108=\"\",\"\",'PK-Luhe-Komm'!E108)","v":""},61,{"$f":"'PK-Luhe-Komm'!$H$108","v":""},{"$f":"'PK-Luhe-Komm'!I108","v":""},{"$f":"'PK-Luhe-Komm'!J108","v":0},{"$f":"IF('PK-Luhe-Komm'!K108=\"\",\"\",'PK-Luhe-Komm'!K108)","v":""},61,{"$f":"PS!C65","v":""},{"$f":"PS!D65","v":""},{"$f":"IF(PS!E65=\"\",\"\",PS!E65)","v":""},61,null,null,null,null,{"$f":"'PK-Damen'!$B$123","v":""},{"$f":"'PK-Damen'!C123","v":""},{"$f":"'PK-Damen'!D123","v":0},{"$f":"IF('PK-Damen'!E123=\"\",\"\",'PK-Damen'!E123)","v":""},61]
[null,null,null,null,null,null,null,null,{"$f":"'PK-Luhe-Komm'!$B$108","v":""},{"$f":"'PK-Luhe-Komm'!C109","v":""},{"$f":"'PK-Luhe-Komm'!D109","v":0},{"$f":"IF('PK-Luhe-Komm'!E109=\"\",\"\",'PK-Luhe-Komm'!E109)","v":""},62,{"$f":"'PK-Luhe-Komm'!$H$108","v":""},{"$f":"'PK-Luhe-Komm'!I109","v":""},{"$f":"'PK-Luhe-Komm'!J109","v":0},{"$f":"IF('PK-Luhe-Komm'!K109=\"\",\"\",'PK-Luhe-Komm'!K109)","v":""},62,{"$f":"PS!C66","v":""},{"$f":"PS!D66","v":""},{"$f":"IF(PS!E66=\"\",\"\",PS!E66)","v":""},62,null,null,null,null,{"$f":"'PK-Damen'!$B$123","v":""},{"$f":"'PK-Damen'!C124","v":""},{"$f":"'PK-Damen'!D124","v":0},{"$f":"IF('PK-Damen'!E124=\"\",\"\",'PK-Damen'!E124)","v":""},62]
[null,null,null,null,null,null,null,null,{"$f":"'PK-Luhe-Komm'!$B$108","v":""},{"$f":"'PK-Luhe-Komm'!C110","v":""},{"$f":"'PK-Luhe-Komm'!D110","v":0},{"$f":"IF('PK-Luhe-Komm'!E110=\"\",\"\",'PK-Luhe-Komm'!E110)","v":""},63,{"$f":"'PK-Luhe-Komm'!$H$108","v":""},{"$f":"'PK-Luhe-Komm'!I110","v":""},{"$f":"'PK-Luhe-Komm'!J110","v":0},{"$f":"IF('PK-Luhe-Komm'!K110=\"\",\"\",'PK-Luhe-Komm'!K110)","v":""},63,{"$f":"PS!C67","v":""},{"$f":"PS!D67","v":""},{"$f":"IF(PS!E67=\"\",\"\",PS!E67)","v":""},63,null,null,null,null,{"$f":"'PK-Damen'!$B$123","v":""},{"$f":"'PK-Damen'!C125","v":""},{"$f":"'PK-Damen'!D125","v":0},{"$f":"IF('PK-Damen'!E125=\"\",\"\",'PK-Damen'!E125)","v":""},63]
[null,null,null,null,null,null,null,null,{"$f":"'PK-Luhe-Komm'!$B$108","v":""},{"$f":"'PK-Luhe-Komm'!C111","v":""},{"$f":"'PK-Luhe-Komm'!D111","v":0},{"$f":"IF('PK-Luhe-Komm'!E111=\"\",\"\",'PK-Luhe-Komm'!E111)","v":""},64,{"$f":"'PK-Luhe-Komm'!$H$108","v":""},{"$f":"'PK-Luhe-Komm'!I111","v":""},{"$f":"'PK-Luhe-Komm'!J111","v":0},{"$f":"IF('PK-Luhe-Komm'!K111=\"\",\"\",'PK-Luhe-Komm'!K111)","v":""},64,{"$f":"PS!C68","v":""},{"$f":"PS!D68","v":""},{"$f":"IF(PS!E68=\"\",\"\",PS!E68)","v":""},64,null,null,null,null,{"$f":"'PK-Damen'!$B$129","v":""},{"$f":"'PK-Damen'!C129","v":""},{"$f":"'PK-Damen'!D129","v":0},{"$f":"IF('PK-Damen'!E129=\"\",\"\",'PK-Damen'!E129)","v":""},64]
[null,null,null,null,null,null,null,null,{"$f":"'PK-Luhe-Komm'!$B$115","v":""},{"$f":"'PK-Luhe-Komm'!C115","v":""},{"$f":"'PK-Luhe-Komm'!D115","v":0},{"$f":"IF('PK-Luhe-Komm'!E115=\"\",\"\",'PK-Luhe-Komm'!E115)","v":""},65,{"$f":"'PK-Luhe-Komm'!$H$115","v":""},{"$f":"'PK-Luhe-Komm'!I115","v":""},{"$f":"'PK-Luhe-Komm'!J115","v":0},{"$f":"IF('PK-Luhe-Komm'!K115=\"\",\"\",'PK-Luhe-Komm'!K115)","v":""},65,{"$f":"PS!C69","v":""},{"$f":"PS!D69","v":""},{"$f":"IF(PS!E69=\"\",\"\",PS!E69)","v":""},65,null,null,null,null,{"$f":"'PK-Damen'!$B$129","v":""},{"$f":"'PK-Damen'!C130","v":""},{"$f":"'PK-Damen'!D130","v":0},{"$f":"IF('PK-Damen'!E130=\"\",\"\",'PK-Damen'!E130)","v":""},65]
[null,null,null,null,null,null,null,null,{"$f":"'PK-Luhe-Komm'!$B$115","v":""},{"$f":"'PK-Luhe-Komm'!C116","v":""},{"$f":"'PK-Luhe-Komm'!D116","v":0},{"$f":"IF('PK-Luhe-Komm'!E116=\"\",\"\",'PK-Luhe-Komm'!E116)","v":""},66,{"$f":"'PK-Luhe-Komm'!$H$115","v":""},{"$f":"'PK-Luhe-Komm'!I116","v":""},{"$f":"'PK-Luhe-Komm'!J116","v":0},{"$f":"IF('PK-Luhe-Komm'!K116=\"\",\"\",'PK-Luhe-Komm'!K116)","v":""},66,{"$f":"PS!C70","v":""},{"$f":"PS!D70","v":""},{"$f":"IF(PS!E70=\"\",\"\",PS!E70)","v":""},66,null,null,null,null,{"$f":"'PK-Damen'!$B$129","v":""},{"$f":"'PK-Damen'!C131","v":""},{"$f":"'PK-Damen'!D131","v":0},{"$f":"IF('PK-Damen'!E131=\"\",\"\",'PK-Damen'!E131)","v":""},66]
[null,null,null,null,null,null,null,null,{"$f":"'PK-Luhe-Komm'!$B$115","v":""},{"$f":"'PK-Luhe-Komm'!C117","v":""},{"$f":"'PK-Luhe-Komm'!D117","v":0},{"$f":"IF('PK-Luhe-Komm'!E117=\"\",\"\",'PK-Luhe-Komm'!E117)","v":""},67,{"$f":"'PK-Luhe-Komm'!$H$115","v":""},{"$f":"'PK-Luhe-Komm'!I117","v":""},{"$f":"'PK-Luhe-Komm'!J117","v":0},{"$f":"IF('PK-Luhe-Komm'!K117=\"\",\"\",'PK-Luhe-Komm'!K117)","v":""},67,{"$f":"PS!C71","v":""},{"$f":"PS!D71","v":""},{"$f":"IF(PS!E71=\"\",\"\",PS!E71)","v":""},67,null,null,null,null,{"$f":"'PK-Damen'!$B$135","v":""},{"$f":"'PK-Damen'!C135","v":""},{"$f":"'PK-Damen'!D135","v":0},{"$f":"IF('PK-Damen'!E135=\"\",\"\",'PK-Damen'!E135)","v":""},67]
[null,null,null,null,null,null,null,null,{"$f":"'PK-Luhe-Komm'!$B$115","v":""},{"$f":"'PK-Luhe-Komm'!C118","v":""},{"$f":"'PK-Luhe-Komm'!D118","v":0},{"$f":"IF('PK-Luhe-Komm'!E118=\"\",\"\",'PK-Luhe-Komm'!E118)","v":""},68,{"$f":"'PK-Luhe-Komm'!$H$115","v":""},{"$f":"'PK-Luhe-Komm'!I118","v":""},{"$f":"'PK-Luhe-Komm'!J118","v":0},{"$f":"IF('PK-Luhe-Komm'!K118=\"\",\"\",'PK-Luhe-Komm'!K118)","v":""},68,{"$f":"PS!C72","v":""},{"$f":"PS!D72","v":""},{"$f":"IF(PS!E72=\"\",\"\",PS!E72)","v":""},68,null,null,null,null,{"$f":"'PK-Damen'!$B$135","v":""},{"$f":"'PK-Damen'!C136","v":""},{"$f":"'PK-Damen'!D136","v":0},{"$f":"IF('PK-Damen'!E136=\"\",\"\",'PK-Damen'!E136)","v":""},68]
[null,null,null,null,null,null,null,null,{"$f":"'PK-Luhe-Komm'!$B$122","v":""},{"$f":"'PK-Luhe-Komm'!C122","v":""},{"$f":"'PK-Luhe-Komm'!D122","v":0},{"$f":"IF('PK-Luhe-Komm'!E122=\"\",\"\",'PK-Luhe-Komm'!E122)","v":""},69,{"$f":"'PK-Luhe-Komm'!$H$122","v":""},{"$f":"'PK-Luhe-Komm'!I122","v":""},{"$f":"'PK-Luhe-Komm'!J122","v":0},{"$f":"IF('PK-Luhe-Komm'!K122=\"\",\"\",'PK-Luhe-Komm'!K122)","v":""},69,{"$f":"PS!C73","v":""},{"$f":"PS!D73","v":""},{"$f":"IF(PS!E73=\"\",\"\",PS!E73)","v":""},69,null,null,null,null,{"$f":"'PK-Damen'!$B$135","v":""},{"$f":"'PK-Damen'!C137","v":""},{"$f":"'PK-Damen'!D137","v":0},{"$f":"IF('PK-Damen'!E137=\"\",\"\",'PK-Damen'!E137)","v":""},69]
[null,null,null,null,null,null,null,null,{"$f":"'PK-Luhe-Komm'!$B$122","v":""},{"$f":"'PK-Luhe-Komm'!C123","v":""},{"$f":"'PK-Luhe-Komm'!D123","v":0},{"$f":"IF('PK-Luhe-Komm'!E123=\"\",\"\",'PK-Luhe-Komm'!E123)","v":""},70,{"$f":"'PK-Luhe-Komm'!$H$122","v":""},{"$f":"'PK-Luhe-Komm'!I123","v":""},{"$f":"'PK-Luhe-Komm'!J123","v":0},{"$f":"IF('PK-Luhe-Komm'!K123=\"\",\"\",'PK-Luhe-Komm'!K123)","v":""},70,{"$f":"PS!C74","v":""},{"$f":"PS!D74","v":""},{"$f":"IF(PS!E74=\"\",\"\",PS!E74)","v":""},70,null,null,null,null,{"$f":"'PK-Damen'!$B$141","v":""},{"$f":"'PK-Damen'!C141","v":""},{"$f":"'PK-Damen'!D141","v":0},{"$f":"IF('PK-Damen'!E141=\"\",\"\",'PK-Damen'!E141)","v":""},70]
[null,null,null,null,null,null,null,null,{"$f":"'PK-Luhe-Komm'!$B$122","v":""},{"$f":"'PK-Luhe-Komm'!C124","v":""},{"$f":"'PK-Luhe-Komm'!D124","v":0},{"$f":"IF('PK-Luhe-Komm'!E124=\"\",\"\",'PK-Luhe-Komm'!E124)","v":""},71,{"$f":"'PK-Luhe-Komm'!$H$122","v":""},{"$f":"'PK-Luhe-Komm'!I124","v":""},{"$f":"'PK-Luhe-Komm'!J124","v":0},{"$f":"IF('PK-Luhe-Komm'!K124=\"\",\"\",'PK-Luhe-Komm'!K124)","v":""},71,{"$f":"PS!C75","v":""},{"$f":"PS!D75","v":""},{"$f":"IF(PS!E75=\"\",\"\",PS!E75)","v":""},71,null,null,null,null,{"$f":"'PK-Damen'!$B$141","v":""},{"$f":"'PK-Damen'!C142","v":""},{"$f":"'PK-Damen'!D142","v":0},{"$f":"IF('PK-Damen'!E142=\"\",\"\",'PK-Damen'!E142)","v":""},71]
[null,null,null,null,null,null,null,null,{"$f":"'PK-Luhe-Komm'!$B$122","v":""},{"$f":"'PK-Luhe-Komm'!C125","v":""},{"$f":"'PK-Luhe-Komm'!D125","v":0},{"$f":"IF('PK-Luhe-Komm'!E125=\"\",\"\",'PK-Luhe-Komm'!E125)","v":""},72,{"$f":"'PK-Luhe-Komm'!$H$122","v":""},{"$f":"'PK-Luhe-Komm'!I125","v":""},{"$f":"'PK-Luhe-Komm'!J125","v":0},{"$f":"IF('PK-Luhe-Komm'!K125=\"\",\"\",'PK-Luhe-Komm'!K125)","v":""},72,{"$f":"PS!C76","v":""},{"$f":"PS!D76","v":""},{"$f":"IF(PS!E76=\"\",\"\",PS!E76)","v":""},72,null,null,null,null,{"$f":"'PK-Damen'!$B$141","v":""},{"$f":"'PK-Damen'!C143","v":""},{"$f":"'PK-Damen'!D143","v":0},{"$f":"IF('PK-Damen'!E143=\"\",\"\",'PK-Damen'!E143)","v":""},72]
[null,null,null,null,null,null,null,null,{"$f":"'PK-Luhe-Komm'!$B$129","v":""},{"$f":"'PK-Luhe-Komm'!C129","v":""},{"$f":"'PK-Luhe-Komm'!D129","v":0},{"$f":"IF('PK-Luhe-Komm'!E129=\"\",\"\",'PK-Luhe-Komm'!E129)","v":""},73,{"$f":"'PK-Luhe-Komm'!$H$129","v":""},{"$f":"'PK-Luhe-Komm'!I129","v":""},{"$f":"'PK-Luhe-Komm'!J129","v":0},{"$f":"IF('PK-Luhe-Komm'!K129=\"\",\"\",'PK-Luhe-Komm'!K129)","v":""},73,{"$f":"PS!C77","v":""},{"$f":"PS!D77","v":""},{"$f":"IF(PS!E77=\"\",\"\",PS!E77)","v":""},73,null,null,null,null,{"$f":"'PK-Damen'!$B$147","v":""},{"$f":"'PK-Damen'!C147","v":""},{"$f":"'PK-Damen'!D147","v":0},{"$f":"IF('PK-Damen'!E147=\"\",\"\",'PK-Damen'!E147)","v":""},73]
[null,null,null,null,null,null,null,null,{"$f":"'PK-Luhe-Komm'!$B$129","v":""},{"$f":"'PK-Luhe-Komm'!C130","v":""},{"$f":"'PK-Luhe-Komm'!D130","v":0},{"$f":"IF('PK-Luhe-Komm'!E130=\"\",\"\",'PK-Luhe-Komm'!E130)","v":""},74,{"$f":"'PK-Luhe-Komm'!$H$129","v":""},{"$f":"'PK-Luhe-Komm'!I130","v":""},{"$f":"'PK-Luhe-Komm'!J130","v":0},{"$f":"IF('PK-Luhe-Komm'!K130=\"\",\"\",'PK-Luhe-Komm'!K130)","v":""},74,{"$f":"PS!C78","v":""},{"$f":"PS!D78","v":""},{"$f":"IF(PS!E78=\"\",\"\",PS!E78)","v":""},74,null,null,null,null,{"$f":"'PK-Damen'!$B$147","v":""},{"$f":"'PK-Damen'!C148","v":""},{"$f":"'PK-Damen'!D148","v":0},{"$f":"IF('PK-Damen'!E148=\"\",\"\",'PK-Damen'!E148)","v":""},74]
[null,null,null,null,null,null,null,null,{"$f":"'PK-Luhe-Komm'!$B$129","v":""},{"$f":"'PK-Luhe-Komm'!C131","v":""},{"$f":"'PK-Luhe-Komm'!D131","v":0},{"$f":"IF('PK-Luhe-Komm'!E131=\"\",\"\",'PK-Luhe-Komm'!E131)","v":""},75,{"$f":"'PK-Luhe-Komm'!$H$129","v":""},{"$f":"'PK-Luhe-Komm'!I131","v":""},{"$f":"'PK-Luhe-Komm'!J131","v":0},{"$f":"IF('PK-Luhe-Komm'!K131=\"\",\"\",'PK-Luhe-Komm'!K131)","v":""},75,{"$f":"PS!C79","v":""},{"$f":"PS!D79","v":""},{"$f":"IF(PS!E79=\"\",\"\",PS!E79)","v":""},75,null,null,null,null,{"$f":"'PK-Damen'!$B$147","v":""},{"$f":"'PK-Damen'!C149","v":""},{"$f":"'PK-Damen'!D149","v":0},{"$f":"IF('PK-Damen'!E149=\"\",\"\",'PK-Damen'!E149)","v":""},75]
[null,null,null,null,null,null,null,null,{"$f":"'PK-Luhe-Komm'!$B$129","v":""},{"$f":"'PK-Luhe-Komm'!C132","v":""},{"$f":"'PK-Luhe-Komm'!D132","v":0},{"$f":"IF('PK-Luhe-Komm'!E132=\"\",\"\",'PK-Luhe-Komm'!E132)","v":""},76,{"$f":"'PK-Luhe-Komm'!$H$129","v":""},{"$f":"'PK-Luhe-Komm'!I132","v":""},{"$f":"'PK-Luhe-Komm'!J132","v":0},{"$f":"IF('PK-Luhe-Komm'!K132=\"\",\"\",'PK-Luhe-Komm'!K132)","v":""},76,{"$f":"PS!C80","v":""},{"$f":"PS!D80","v":""},{"$f":"IF(PS!E80=\"\",\"\",PS!E80)","v":""},76,null,null,null,null,{"$f":"'PK-Damen'!$B$153","v":""},{"$f":"'PK-Damen'!C153","v":""},{"$f":"'PK-Damen'!D153","v":0},{"$f":"IF('PK-Damen'!E153=\"\",\"\",'PK-Damen'!E153)","v":""},76]
[null,null,null,null,null,null,null,null,{"$f":"'PK-Luhe-Komm'!$B$136","v":""},{"$f":"'PK-Luhe-Komm'!C136","v":""},{"$f":"'PK-Luhe-Komm'!D136","v":0},{"$f":"IF('PK-Luhe-Komm'!E136=\"\",\"\",'PK-Luhe-Komm'!E136)","v":""},77,{"$f":"'PK-Luhe-Komm'!$H$136","v":""},{"$f":"'PK-Luhe-Komm'!I136","v":""},{"$f":"'PK-Luhe-Komm'!J136","v":0},{"$f":"IF('PK-Luhe-Komm'!K136=\"\",\"\",'PK-Luhe-Komm'!K136)","v":""},77,{"$f":"PS!C81","v":""},{"$f":"PS!D81","v":""},{"$f":"IF(PS!E81=\"\",\"\",PS!E81)","v":""},77,null,null,null,null,{"$f":"'PK-Damen'!$B$153","v":""},{"$f":"'PK-Damen'!C154","v":""},{"$f":"'PK-Damen'!D154","v":0},{"$f":"IF('PK-Damen'!E154=\"\",\"\",'PK-Damen'!E154)","v":""},77]
[null,null,null,null,null,null,null,null,{"$f":"'PK-Luhe-Komm'!$B$136","v":""},{"$f":"'PK-Luhe-Komm'!C137","v":""},{"$f":"'PK-Luhe-Komm'!D137","v":0},{"$f":"IF('PK-Luhe-Komm'!E137=\"\",\"\",'PK-Luhe-Komm'!E137)","v":""},78,{"$f":"'PK-Luhe-Komm'!$H$136","v":""},{"$f":"'PK-Luhe-Komm'!I137","v":""},{"$f":"'PK-Luhe-Komm'!J137","v":0},{"$f":"IF('PK-Luhe-Komm'!K137=\"\",\"\",'PK-Luhe-Komm'!K137)","v":""},78,{"$f":"PS!C82","v":""},{"$f":"PS!D82","v":""},{"$f":"IF(PS!E82=\"\",\"\",PS!E82)","v":""},78,null,null,null,null,{"$f":"'PK-Damen'!$B$153","v":""},{"$f":"'PK-Damen'!C155","v":""},{"$f":"'PK-Damen'!D155","v":0},{"$f":"IF('PK-Damen'!E155=\"\",\"\",'PK-Damen'!E155)","v":""},78]
[null,null,null,null,null,null,null,null,{"$f":"'PK-Luhe-Komm'!$B$136","v":""},{"$f":"'PK-Luhe-Komm'!C138","v":""},{"$f":"'PK-Luhe-Komm'!D138","v":0},{"$f":"IF('PK-Luhe-Komm'!E138=\"\",\"\",'PK-Luhe-Komm'!E138)","v":""},79,{"$f":"'PK-Luhe-Komm'!$H$136","v":""},{"$f":"'PK-Luhe-Komm'!I138","v":""},{"$f":"'PK-Luhe-Komm'!J138","v":0},{"$f":"IF('PK-Luhe-Komm'!K138=\"\",\"\",'PK-Luhe-Komm'!K138)","v":""},79,{"$f":"PS!C83","v":""},{"$f":"PS!D83","v":""},{"$f":"IF(PS!E83=\"\",\"\",PS!E83)","v":""},79,null,null,null,null,{"$f":"'PK-Damen'!$B$159","v":""},{"$f":"'PK-Damen'!C159","v":""},{"$f":"'PK-Damen'!D159","v":0},{"$f":"IF('PK-Damen'!E159=\"\",\"\",'PK-Damen'!E159)","v":""},79]
[null,null,null,null,null,null,null,null,{"$f":"'PK-Luhe-Komm'!$B$136","v":""},{"$f":"'PK-Luhe-Komm'!C139","v":""},{"$f":"'PK-Luhe-Komm'!D139","v":0},{"$f":"IF('PK-Luhe-Komm'!E139=\"\",\"\",'PK-Luhe-Komm'!E139)","v":""},80,{"$f":"'PK-Luhe-Komm'!$H$136","v":""},{"$f":"'PK-Luhe-Komm'!I139","v":""},{"$f":"'PK-Luhe-Komm'!J139","v":0},{"$f":"IF('PK-Luhe-Komm'!K139=\"\",\"\",'PK-Luhe-Komm'!K139)","v":""},80,{"$f":"PS!C84","v":""},{"$f":"PS!D84","v":""},{"$f":"IF(PS!E84=\"\",\"\",PS!E84)","v":""},80,null,null,null,null,{"$f":"'PK-Damen'!$B$159","v":""},{"$f":"'PK-Damen'!C160","v":""},{"$f":"'PK-Damen'!D160","v":0},{"$f":"IF('PK-Damen'!E160=\"\",\"\",'PK-Damen'!E160)","v":""},80]
[null,null,null,null,null,null,null,null,{"$f":"'PK-Luhe-Komm'!$B$143","v":""},{"$f":"'PK-Luhe-Komm'!C143","v":""},{"$f":"'PK-Luhe-Komm'!D143","v":0},{"$f":"IF('PK-Luhe-Komm'!E143=\"\",\"\",'PK-Luhe-Komm'!E143)","v":""},81,{"$f":"'PK-Luhe-Komm'!$H$143","v":""},{"$f":"'PK-Luhe-Komm'!I143","v":""},{"$f":"'PK-Luhe-Komm'!J143","v":0},{"$f":"IF('PK-Luhe-Komm'!K143=\"\",\"\",'PK-Luhe-Komm'!K143)","v":""},81,{"$f":"PS!C85","v":""},{"$f":"PS!D85","v":""},{"$f":"IF(PS!E85=\"\",\"\",PS!E85)","v":""},81,null,null,null,null,{"$f":"'PK-Damen'!$B$159","v":""},{"$f":"'PK-Damen'!C161","v":""},{"$f":"'PK-Damen'!D161","v":0},{"$f":"IF('PK-Damen'!E161=\"\",\"\",'PK-Damen'!E161)","v":""},81]
[null,null,null,null,null,null,null,null,{"$f":"'PK-Luhe-Komm'!$B$143","v":""},{"$f":"'PK-Luhe-Komm'!C144","v":""},{"$f":"'PK-Luhe-Komm'!D144","v":0},{"$f":"IF('PK-Luhe-Komm'!E144=\"\",\"\",'PK-Luhe-Komm'!E144)","v":""},82,{"$f":"'PK-Luhe-Komm'!$H$143","v":""},{"$f":"'PK-Luhe-Komm'!I144","v":""},{"$f":"'PK-Luhe-Komm'!J144","v":0},{"$f":"IF('PK-Luhe-Komm'!K144=\"\",\"\",'PK-Luhe-Komm'!K144)","v":""},82,{"$f":"PS!C86","v":""},{"$f":"PS!D86","v":""},{"$f":"IF(PS!E86=\"\",\"\",PS!E86)","v":""},82,null,null,null,null,{"$f":"'PK-Damen'!$B$165","v":""},{"$f":"'PK-Damen'!C165","v":""},{"$f":"'PK-Damen'!D165","v":0},{"$f":"IF('PK-Damen'!E165=\"\",\"\",'PK-Damen'!E165)","v":""},82]
[null,null,null,null,null,null,null,null,{"$f":"'PK-Luhe-Komm'!$B$143","v":""},{"$f":"'PK-Luhe-Komm'!C145","v":""},{"$f":"'PK-Luhe-Komm'!D145","v":0},{"$f":"IF('PK-Luhe-Komm'!E145=\"\",\"\",'PK-Luhe-Komm'!E145)","v":""},83,{"$f":"'PK-Luhe-Komm'!$H$143","v":""},{"$f":"'PK-Luhe-Komm'!I145","v":""},{"$f":"'PK-Luhe-Komm'!J145","v":0},{"$f":"IF('PK-Luhe-Komm'!K145=\"\",\"\",'PK-Luhe-Komm'!K145)","v":""},83,{"$f":"PS!C87","v":""},{"$f":"PS!D87","v":""},{"$f":"IF(PS!E87=\"\",\"\",PS!E87)","v":""},83,null,null,null,null,{"$f":"'PK-Damen'!$B$165","v":""},{"$f":"'PK-Damen'!C166","v":""},{"$f":"'PK-Damen'!D166","v":0},{"$f":"IF('PK-Damen'!E166=\"\",\"\",'PK-Damen'!E166)","v":""},83]
[null,null,null,null,null,null,null,null,{"$f":"'PK-Luhe-Komm'!$B$143","v":""},{"$f":"'PK-Luhe-Komm'!C146","v":""},{"$f":"'PK-Luhe-Komm'!D146","v":0},{"$f":"IF('PK-Luhe-Komm'!E146=\"\",\"\",'PK-Luhe-Komm'!E146)","v":""},84,{"$f":"'PK-Luhe-Komm'!$H$143","v":""},{"$f":"'PK-Luhe-Komm'!I146","v":""},{"$f":"'PK-Luhe-Komm'!J146","v":0},{"$f":"IF('PK-Luhe-Komm'!K146=\"\",\"\",'PK-Luhe-Komm'!K146)","v":""},84,{"$f":"PS!C88","v":""},{"$f":"PS!D88","v":""},{"$f":"IF(PS!E88=\"\",\"\",PS!E88)","v":""},84,null,null,null,null,{"$f":"'PK-Damen'!$B$165","v":""},{"$f":"'PK-Damen'!C167","v":""},{"$f":"'PK-Damen'!D167","v":0},{"$f":"IF('PK-Damen'!E167=\"\",\"\",'PK-Damen'!E167)","v":""},84]
[null,null,null,null,null,null,null,null,{"$f":"'PK-Luhe-Komm'!$B$150","v":""},{"$f":"'PK-Luhe-Komm'!C150","v":""},{"$f":"'PK-Luhe-Komm'!D150","v":0},{"$f":"IF('PK-Luhe-Komm'!E150=\"\",\"\",'PK-Luhe-Komm'!E150)","v":""},85,{"$f":"'PK-Luhe-Komm'!$H$150","v":""},{"$f":"'PK-Luhe-Komm'!I150","v":""},{"$f":"'PK-Luhe-Komm'!J150","v":0},{"$f":"IF('PK-Luhe-Komm'!K150=\"\",\"\",'PK-Luhe-Komm'!K150)","v":""},85,{"$f":"PS!C89","v":""},{"$f":"PS!D89","v":""},{"$f":"IF(PS!E89=\"\",\"\",PS!E89)","v":""},85,null,null,null,null,{"$f":"'PK-Damen'!$B$171","v":""},{"$f":"'PK-Damen'!C171","v":""},{"$f":"'PK-Damen'!D171","v":0},{"$f":"IF('PK-Damen'!E171=\"\",\"\",'PK-Damen'!E171)","v":""},85]
[null,null,null,null,null,null,null,null,{"$f":"'PK-Luhe-Komm'!$B$150","v":""},{"$f":"'PK-Luhe-Komm'!C151","v":""},{"$f":"'PK-Luhe-Komm'!D151","v":0},{"$f":"IF('PK-Luhe-Komm'!E151=\"\",\"\",'PK-Luhe-Komm'!E151)","v":""},86,{"$f":"'PK-Luhe-Komm'!$H$150","v":""},{"$f":"'PK-Luhe-Komm'!I151","v":""},{"$f":"'PK-Luhe-Komm'!J151","v":0},{"$f":"IF('PK-Luhe-Komm'!K151=\"\",\"\",'PK-Luhe-Komm'!K151)","v":""},86,{"$f":"PS!C90","v":""},{"$f":"PS!D90","v":""},{"$f":"IF(PS!E90=\"\",\"\",PS!E90)","v":""},86,null,null,null,null,{"$f":"'PK-Damen'!$B$171","v":""},{"$f":"'PK-Damen'!C172","v":""},{"$f":"'PK-Damen'!D172","v":0},{"$f":"IF('PK-Damen'!E172=\"\",\"\",'PK-Damen'!E172)","v":""},86]
[null,null,null,null,null,null,null,null,{"$f":"'PK-Luhe-Komm'!$B$150","v":""},{"$f":"'PK-Luhe-Komm'!C152","v":""},{"$f":"'PK-Luhe-Komm'!D152","v":0},{"$f":"IF('PK-Luhe-Komm'!E152=\"\",\"\",'PK-Luhe-Komm'!E152)","v":""},87,{"$f":"'PK-Luhe-Komm'!$H$150","v":""},{"$f":"'PK-Luhe-Komm'!I152","v":""},{"$f":"'PK-Luhe-Komm'!J152","v":0},{"$f":"IF('PK-Luhe-Komm'!K152=\"\",\"\",'PK-Luhe-Komm'!K152)","v":""},87,{"$f":"PS!C91","v":""},{"$f":"PS!D91","v":""},{"$f":"IF(PS!E91=\"\",\"\",PS!E91)","v":""},87,null,null,null,null,{"$f":"'PK-Damen'!$B$171","v":""},{"$f":"'PK-Damen'!C173","v":""},{"$f":"'PK-Damen'!D173","v":0},{"$f":"IF('PK-Damen'!E173=\"\",\"\",'PK-Damen'!E173)","v":""},87]
[null,null,null,null,null,null,null,null,{"$f":"'PK-Luhe-Komm'!$B$150","v":""},{"$f":"'PK-Luhe-Komm'!C153","v":""},{"$f":"'PK-Luhe-Komm'!D153","v":0},{"$f":"IF('PK-Luhe-Komm'!E153=\"\",\"\",'PK-Luhe-Komm'!E153)","v":""},88,{"$f":"'PK-Luhe-Komm'!$H$150","v":""},{"$f":"'PK-Luhe-Komm'!I153","v":""},{"$f":"'PK-Luhe-Komm'!J153","v":0},{"$f":"IF('PK-Luhe-Komm'!K153=\"\",\"\",'PK-Luhe-Komm'!K153)","v":""},88,{"$f":"PS!C92","v":""},{"$f":"PS!D92","v":""},{"$f":"IF(PS!E92=\"\",\"\",PS!E92)","v":""},88,null,null,null,null,{"$f":"'PK-Damen'!$B$177","v":""},{"$f":"'PK-Damen'!C177","v":""},{"$f":"'PK-Damen'!D177","v":0},{"$f":"IF('PK-Damen'!E177=\"\",\"\",'PK-Damen'!E177)","v":""},88]
[null,null,null,null,null,null,null,null,{"$f":"'PK-Luhe-Komm'!$B$157","v":""},{"$f":"'PK-Luhe-Komm'!C157","v":""},{"$f":"'PK-Luhe-Komm'!D157","v":0},{"$f":"IF('PK-Luhe-Komm'!E157=\"\",\"\",'PK-Luhe-Komm'!E157)","v":""},89,{"$f":"'PK-Luhe-Komm'!$H$157","v":""},{"$f":"'PK-Luhe-Komm'!I157","v":""},{"$f":"'PK-Luhe-Komm'!J157","v":0},{"$f":"IF('PK-Luhe-Komm'!K157=\"\",\"\",'PK-Luhe-Komm'!K157)","v":""},89,{"$f":"PS!C93","v":""},{"$f":"PS!D93","v":""},{"$f":"IF(PS!E93=\"\",\"\",PS!E93)","v":""},89,null,null,null,null,{"$f":"'PK-Damen'!$B$177","v":""},{"$f":"'PK-Damen'!C178","v":""},{"$f":"'PK-Damen'!D178","v":0},{"$f":"IF('PK-Damen'!E178=\"\",\"\",'PK-Damen'!E178)","v":""},89]
[null,null,null,null,null,null,null,null,{"$f":"'PK-Luhe-Komm'!$B$157","v":""},{"$f":"'PK-Luhe-Komm'!C158","v":""},{"$f":"'PK-Luhe-Komm'!D158","v":0},{"$f":"IF('PK-Luhe-Komm'!E158=\"\",\"\",'PK-Luhe-Komm'!E158)","v":""},90,{"$f":"'PK-Luhe-Komm'!$H$157","v":""},{"$f":"'PK-Luhe-Komm'!I158","v":""},{"$f":"'PK-Luhe-Komm'!J158","v":0},{"$f":"IF('PK-Luhe-Komm'!K158=\"\",\"\",'PK-Luhe-Komm'!K158)","v":""},90,{"$f":"PS!C94","v":""},{"$f":"PS!D94","v":""},{"$f":"IF(PS!E94=\"\",\"\",PS!E94)","v":""},90,null,null,null,null,{"$f":"'PK-Damen'!$B$177","v":""},{"$f":"'PK-Damen'!C179","v":""},{"$f":"'PK-Damen'!D179","v":0},{"$f":"IF('PK-Damen'!E179=\"\",\"\",'PK-Damen'!E179)","v":""},90]
[null,null,null,null,null,null,null,null,{"$f":"'PK-Luhe-Komm'!$B$157","v":""},{"$f":"'PK-Luhe-Komm'!C159","v":""},{"$f":"'PK-Luhe-Komm'!D159","v":0},{"$f":"IF('PK-Luhe-Komm'!E159=\"\",\"\",'PK-Luhe-Komm'!E159)","v":""},91,{"$f":"'PK-Luhe-Komm'!$H$157","v":""},{"$f":"'PK-Luhe-Komm'!I159","v":""},{"$f":"'PK-Luhe-Komm'!J159","v":0},{"$f":"IF('PK-Luhe-Komm'!K159=\"\",\"\",'PK-Luhe-Komm'!K159)","v":""},91,{"$f":"PS!C95","v":""},{"$f":"PS!D95","v":""},{"$f":"IF(PS!E95=\"\",\"\",PS!E95)","v":""},91]
[null,null,null,null,null,null,null,null,{"$f":"'PK-Luhe-Komm'!$B$157","v":""},{"$f":"'PK-Luhe-Komm'!C160","v":""},{"$f":"'PK-Luhe-Komm'!D160","v":0},{"$f":"IF('PK-Luhe-Komm'!E160=\"\",\"\",'PK-Luhe-Komm'!E160)","v":""},92,{"$f":"'PK-Luhe-Komm'!$H$157","v":""},{"$f":"'PK-Luhe-Komm'!I160","v":""},{"$f":"'PK-Luhe-Komm'!J160","v":0},{"$f":"IF('PK-Luhe-Komm'!K160=\"\",\"\",'PK-Luhe-Komm'!K160)","v":""},92,{"$f":"PS!C96","v":""},{"$f":"PS!D96","v":""},{"$f":"IF(PS!E96=\"\",\"\",PS!E96)","v":""},92]
[null,null,null,null,null,null,null,null,{"$f":"'PK-Luhe-Komm'!$B$164","v":""},{"$f":"'PK-Luhe-Komm'!C164","v":""},{"$f":"'PK-Luhe-Komm'!D164","v":0},{"$f":"IF('PK-Luhe-Komm'!E164=\"\",\"\",'PK-Luhe-Komm'!E164)","v":""},93,{"$f":"'PK-Luhe-Komm'!$H$164","v":""},{"$f":"'PK-Luhe-Komm'!I164","v":""},{"$f":"'PK-Luhe-Komm'!J164","v":0},{"$f":"IF('PK-Luhe-Komm'!K164=\"\",\"\",'PK-Luhe-Komm'!K164)","v":""},93,{"$f":"PS!C97","v":""},{"$f":"PS!D97","v":""},{"$f":"IF(PS!E97=\"\",\"\",PS!E97)","v":""},93]
[null,null,null,null,null,null,null,null,{"$f":"'PK-Luhe-Komm'!$B$164","v":""},{"$f":"'PK-Luhe-Komm'!C165","v":""},{"$f":"'PK-Luhe-Komm'!D165","v":0},{"$f":"IF('PK-Luhe-Komm'!E165=\"\",\"\",'PK-Luhe-Komm'!E165)","v":""},94,{"$f":"'PK-Luhe-Komm'!$H$164","v":""},{"$f":"'PK-Luhe-Komm'!I165","v":""},{"$f":"'PK-Luhe-Komm'!J165","v":0},{"$f":"IF('PK-Luhe-Komm'!K165=\"\",\"\",'PK-Luhe-Komm'!K165)","v":""},94,{"$f":"PS!C98","v":""},{"$f":"PS!D98","v":""},{"$f":"IF(PS!E98=\"\",\"\",PS!E98)","v":""},94]
[null,null,null,null,null,null,null,null,{"$f":"'PK-Luhe-Komm'!$B$164","v":""},{"$f":"'PK-Luhe-Komm'!C166","v":""},{"$f":"'PK-Luhe-Komm'!D166","v":0},{"$f":"IF('PK-Luhe-Komm'!E166=\"\",\"\",'PK-Luhe-Komm'!E166)","v":""},95,{"$f":"'PK-Luhe-Komm'!$H$164","v":""},{"$f":"'PK-Luhe-Komm'!I166","v":""},{"$f":"'PK-Luhe-Komm'!J166","v":0},{"$f":"IF('PK-Luhe-Komm'!K166=\"\",\"\",'PK-Luhe-Komm'!K166)","v":""},95,{"$f":"PS!C99","v":""},{"$f":"PS!D99","v":""},{"$f":"IF(PS!E99=\"\",\"\",PS!E99)","v":""},95]
[null,null,null,null,null,null,null,null,{"$f":"'PK-Luhe-Komm'!$B$164","v":""},{"$f":"'PK-Luhe-Komm'!C167","v":""},{"$f":"'PK-Luhe-Komm'!D167","v":0},{"$f":"IF('PK-Luhe-Komm'!E167=\"\",\"\",'PK-Luhe-Komm'!E167)","v":""},96,{"$f":"'PK-Luhe-Komm'!$H$164","v":""},{"$f":"'PK-Luhe-Komm'!I167","v":""},{"$f":"'PK-Luhe-Komm'!J167","v":0},{"$f":"IF('PK-Luhe-Komm'!K167=\"\",\"\",'PK-Luhe-Komm'!K167)","v":""},96,{"$f":"PS!C100","v":""},{"$f":"PS!D100","v":""},{"$f":"IF(PS!E100=\"\",\"\",PS!E100)","v":""},96]
[null,null,null,null,null,null,null,null,{"$f":"'PK-Luhe-Komm'!$B$171","v":""},{"$f":"'PK-Luhe-Komm'!C171","v":""},{"$f":"'PK-Luhe-Komm'!D171","v":0},{"$f":"IF('PK-Luhe-Komm'!E171=\"\",\"\",'PK-Luhe-Komm'!E171)","v":""},97,{"$f":"'PK-Luhe-Komm'!$H$171","v":""},{"$f":"'PK-Luhe-Komm'!I171","v":""},{"$f":"'PK-Luhe-Komm'!J171","v":0},{"$f":"IF('PK-Luhe-Komm'!K171=\"\",\"\",'PK-Luhe-Komm'!K171)","v":""},97,{"$f":"PS!C101","v":""},{"$f":"PS!D101","v":""},{"$f":"IF(PS!E101=\"\",\"\",PS!E101)","v":""},97]
[null,null,null,null,null,null,null,null,{"$f":"'PK-Luhe-Komm'!$B$171","v":""},{"$f":"'PK-Luhe-Komm'!C172","v":""},{"$f":"'PK-Luhe-Komm'!D172","v":0},{"$f":"IF('PK-Luhe-Komm'!E172=\"\",\"\",'PK-Luhe-Komm'!E172)","v":""},98,{"$f":"'PK-Luhe-Komm'!$H$171","v":""},{"$f":"'PK-Luhe-Komm'!I172","v":""},{"$f":"'PK-Luhe-Komm'!J172","v":0},{"$f":"IF('PK-Luhe-Komm'!K172=\"\",\"\",'PK-Luhe-Komm'!K172)","v":""},98,{"$f":"PS!C102","v":""},{"$f":"PS!D102","v":""},{"$f":"IF(PS!E102=\"\",\"\",PS!E102)","v":""},98]
[null,null,null,null,null,null,null,null,{"$f":"'PK-Luhe-Komm'!$B$171","v":""},{"$f":"'PK-Luhe-Komm'!C173","v":""},{"$f":"'PK-Luhe-Komm'!D173","v":0},{"$f":"IF('PK-Luhe-Komm'!E173=\"\",\"\",'PK-Luhe-Komm'!E173)","v":""},99,{"$f":"'PK-Luhe-Komm'!$H$171","v":""},{"$f":"'PK-Luhe-Komm'!I173","v":""},{"$f":"'PK-Luhe-Komm'!J173","v":0},{"$f":"IF('PK-Luhe-Komm'!K173=\"\",\"\",'PK-Luhe-Komm'!K173)","v":""},99,{"$f":"PS!C103","v":""},{"$f":"PS!D103","v":""},{"$f":"IF(PS!E103=\"\",\"\",PS!E103)","v":""},99]
[null,null,null,null,null,null,null,null,{"$f":"'PK-Luhe-Komm'!$B$171","v":""},{"$f":"'PK-Luhe-Komm'!C174","v":""},{"$f":"'PK-Luhe-Komm'!D174","v":0},{"$f":"IF('PK-Luhe-Komm'!E174=\"\",\"\",'PK-Luhe-Komm'!E174)","v":""},100,{"$f":"'PK-Luhe-Komm'!$H$171","v":""},{"$f":"'PK-Luhe-Komm'!I174","v":""},{"$f":"'PK-Luhe-Komm'!J174","v":0},{"$f":"IF('PK-Luhe-Komm'!K174=\"\",\"\",'PK-Luhe-Komm'!K174)","v":""},100,{"$f":"PS!C104","v":""},{"$f":"PS!D104","v":""},{"$f":"IF(PS!E104=\"\",\"\",PS!E104)","v":""},100]
[null,null,null,null,null,null,null,null,{"$f":"'PK-Luhe-Komm'!$B$178","v":""},{"$f":"'PK-Luhe-Komm'!C178","v":""},{"$f":"'PK-Luhe-Komm'!D178","v":0},{"$f":"IF('PK-Luhe-Komm'!E178=\"\",\"\",'PK-Luhe-Komm'!E178)","v":""},101,{"$f":"'PK-Luhe-Komm'!$H$178","v":""},{"$f":"'PK-Luhe-Komm'!I178","v":""},{"$f":"'PK-Luhe-Komm'!J178","v":0},{"$f":"IF('PK-Luhe-Komm'!K178=\"\",\"\",'PK-Luhe-Komm'!K178)","v":""},101,{"$f":"PS!C105","v":""},{"$f":"PS!D105","v":""},{"$f":"IF(PS!E105=\"\",\"\",PS!E105)","v":""},101]
[null,null,null,null,null,null,null,null,{"$f":"'PK-Luhe-Komm'!$B$178","v":""},{"$f":"'PK-Luhe-Komm'!C179","v":""},{"$f":"'PK-Luhe-Komm'!D179","v":0},{"$f":"IF('PK-Luhe-Komm'!E179=\"\",\"\",'PK-Luhe-Komm'!E179)","v":""},102,{"$f":"'PK-Luhe-Komm'!$H$178","v":""},{"$f":"'PK-Luhe-Komm'!I179","v":""},{"$f":"'PK-Luhe-Komm'!J179","v":0},{"$f":"IF('PK-Luhe-Komm'!K179=\"\",\"\",'PK-Luhe-Komm'!K179)","v":""},102,{"$f":"PS!C106","v":""},{"$f":"PS!D106","v":""},{"$f":"IF(PS!E106=\"\",\"\",PS!E106)","v":""},102]
[null,null,null,null,null,null,null,null,{"$f":"'PK-Luhe-Komm'!$B$178","v":""},{"$f":"'PK-Luhe-Komm'!C180","v":""},{"$f":"'PK-Luhe-Komm'!D180","v":0},{"$f":"IF('PK-Luhe-Komm'!E180=\"\",\"\",'PK-Luhe-Komm'!E180)","v":""},103,{"$f":"'PK-Luhe-Komm'!$H$178","v":""},{"$f":"'PK-Luhe-Komm'!I180","v":""},{"$f":"'PK-Luhe-Komm'!J180","v":0},{"$f":"IF('PK-Luhe-Komm'!K180=\"\",\"\",'PK-Luhe-Komm'!K180)","v":""},103,{"$f":"PS!C107","v":""},{"$f":"PS!D107","v":""},{"$f":"IF(PS!E107=\"\",\"\",PS!E107)","v":""},103]
[null,null,null,null,null,null,null,null,{"$f":"'PK-Luhe-Komm'!$B$178","v":""},{"$f":"'PK-Luhe-Komm'!C181","v":""},{"$f":"'PK-Luhe-Komm'!D181","v":0},{"$f":"IF('PK-Luhe-Komm'!E181=\"\",\"\",'PK-Luhe-Komm'!E181)","v":""},104,{"$f":"'PK-Luhe-Komm'!$H$178","v":""},{"$f":"'PK-Luhe-Komm'!I181","v":""},{"$f":"'PK-Luhe-Komm'!J181","v":0},{"$f":"IF('PK-Luhe-Komm'!K181=\"\",\"\",'PK-Luhe-Komm'!K181)","v":""},104,{"$f":"PS!C108","v":""},{"$f":"PS!D108","v":""},{"$f":"IF(PS!E108=\"\",\"\",PS!E108)","v":""},104]
[null,null,null,null,null,null,null,null,{"$f":"'PK-Luhe-Komm'!$B$185","v":""},{"$f":"'PK-Luhe-Komm'!C185","v":""},{"$f":"'PK-Luhe-Komm'!D185","v":0},{"$f":"IF('PK-Luhe-Komm'!E185=\"\",\"\",'PK-Luhe-Komm'!E185)","v":""},105,{"$f":"'PK-Luhe-Komm'!$H$185","v":""},{"$f":"'PK-Luhe-Komm'!I185","v":""},{"$f":"'PK-Luhe-Komm'!J185","v":0},{"$f":"IF('PK-Luhe-Komm'!K185=\"\",\"\",'PK-Luhe-Komm'!K185)","v":""},105,{"$f":"PS!C109","v":""},{"$f":"PS!D109","v":""},{"$f":"IF(PS!E109=\"\",\"\",PS!E109)","v":""},105]
[null,null,null,null,null,null,null,null,{"$f":"'PK-Luhe-Komm'!$B$185","v":""},{"$f":"'PK-Luhe-Komm'!C186","v":""},{"$f":"'PK-Luhe-Komm'!D186","v":0},{"$f":"IF('PK-Luhe-Komm'!E186=\"\",\"\",'PK-Luhe-Komm'!E186)","v":""},106,{"$f":"'PK-Luhe-Komm'!$H$185","v":""},{"$f":"'PK-Luhe-Komm'!I186","v":""},{"$f":"'PK-Luhe-Komm'!J186","v":0},{"$f":"IF('PK-Luhe-Komm'!K186=\"\",\"\",'PK-Luhe-Komm'!K186)","v":""},106,{"$f":"PS!C110","v":""},{"$f":"PS!D110","v":""},{"$f":"IF(PS!E110=\"\",\"\",PS!E110)","v":""},106]
[null,null,null,null,null,null,null,null,{"$f":"'PK-Luhe-Komm'!$B$185","v":""},{"$f":"'PK-Luhe-Komm'!C187","v":""},{"$f":"'PK-Luhe-Komm'!D187","v":0},{"$f":"IF('PK-Luhe-Komm'!E187=\"\",\"\",'PK-Luhe-Komm'!E187)","v":""},107,{"$f":"'PK-Luhe-Komm'!$H$185","v":""},{"$f":"'PK-Luhe-Komm'!I187","v":""},{"$f":"'PK-Luhe-Komm'!J187","v":0},{"$f":"IF('PK-Luhe-Komm'!K187=\"\",\"\",'PK-Luhe-Komm'!K187)","v":""},107,{"$f":"PS!C111","v":""},{"$f":"PS!D111","v":""},{"$f":"IF(PS!E111=\"\",\"\",PS!E111)","v":""},107]
[null,null,null,null,null,null,null,null,{"$f":"'PK-Luhe-Komm'!$B$185","v":""},{"$f":"'PK-Luhe-Komm'!C188","v":""},{"$f":"'PK-Luhe-Komm'!D188","v":0},{"$f":"IF('PK-Luhe-Komm'!E188=\"\",\"\",'PK-Luhe-Komm'!E188)","v":""},108,{"$f":"'PK-Luhe-Komm'!$H$185","v":""},{"$f":"'PK-Luhe-Komm'!I188","v":""},{"$f":"'PK-Luhe-Komm'!J188","v":0},{"$f":"IF('PK-Luhe-Komm'!K188=\"\",\"\",'PK-Luhe-Komm'!K188)","v":""},108,{"$f":"PS!C112","v":""},{"$f":"PS!D112","v":""},{"$f":"IF(PS!E112=\"\",\"\",PS!E112)","v":""},108]
[null,null,null,null,null,null,null,null,{"$f":"'PK-Luhe-Komm'!$B$192","v":""},{"$f":"'PK-Luhe-Komm'!C192","v":""},{"$f":"'PK-Luhe-Komm'!D192","v":0},{"$f":"IF('PK-Luhe-Komm'!E192=\"\",\"\",'PK-Luhe-Komm'!E192)","v":""},109,{"$f":"'PK-Luhe-Komm'!$H$192","v":""},{"$f":"'PK-Luhe-Komm'!I192","v":""},{"$f":"'PK-Luhe-Komm'!J192","v":0},{"$f":"IF('PK-Luhe-Komm'!K192=\"\",\"\",'PK-Luhe-Komm'!K192)","v":""},109,{"$f":"PS!C113","v":""},{"$f":"PS!D113","v":""},{"$f":"IF(PS!E113=\"\",\"\",PS!E113)","v":""},109]
[null,null,null,null,null,null,null,null,{"$f":"'PK-Luhe-Komm'!$B$192","v":""},{"$f":"'PK-Luhe-Komm'!C193","v":""},{"$f":"'PK-Luhe-Komm'!D193","v":0},{"$f":"IF('PK-Luhe-Komm'!E193=\"\",\"\",'PK-Luhe-Komm'!E193)","v":""},110,{"$f":"'PK-Luhe-Komm'!$H$192","v":""},{"$f":"'PK-Luhe-Komm'!I193","v":""},{"$f":"'PK-Luhe-Komm'!J193","v":0},{"$f":"IF('PK-Luhe-Komm'!K193=\"\",\"\",'PK-Luhe-Komm'!K193)","v":""},110,{"$f":"PS!C114","v":""},{"$f":"PS!D114","v":""},{"$f":"IF(PS!E114=\"\",\"\",PS!E114)","v":""},110]
[null,null,null,null,null,null,null,null,{"$f":"'PK-Luhe-Komm'!$B$192","v":""},{"$f":"'PK-Luhe-Komm'!C194","v":""},{"$f":"'PK-Luhe-Komm'!D194","v":0},{"$f":"IF('PK-Luhe-Komm'!E194=\"\",\"\",'PK-Luhe-Komm'!E194)","v":""},111,{"$f":"'PK-Luhe-Komm'!$H$192","v":""},{"$f":"'PK-Luhe-Komm'!I194","v":""},{"$f":"'PK-Luhe-Komm'!J194","v":0},{"$f":"IF('PK-Luhe-Komm'!K194=\"\",\"\",'PK-Luhe-Komm'!K194)","v":""},111,{"$f":"PS!C115","v":""},{"$f":"PS!D115","v":""},{"$f":"IF(PS!E115=\"\",\"\",PS!E115)","v":""},111]
[null,null,null,null,null,null,null,null,{"$f":"'PK-Luhe-Komm'!$B$192","v":""},{"$f":"'PK-Luhe-Komm'!C195","v":""},{"$f":"'PK-Luhe-Komm'!D195","v":0},{"$f":"IF('PK-Luhe-Komm'!E195=\"\",\"\",'PK-Luhe-Komm'!E195)","v":""},112,{"$f":"'PK-Luhe-Komm'!$H$192","v":""},{"$f":"'PK-Luhe-Komm'!I195","v":""},{"$f":"'PK-Luhe-Komm'!J195","v":0},{"$f":"IF('PK-Luhe-Komm'!K195=\"\",\"\",'PK-Luhe-Komm'!K195)","v":""},112,{"$f":"PS!C116","v":""},{"$f":"PS!D116","v":""},{"$f":"IF(PS!E116=\"\",\"\",PS!E116)","v":""},112]
[null,null,null,null,null,null,null,null,{"$f":"'PK-Luhe-Komm'!$B$199","v":""},{"$f":"'PK-Luhe-Komm'!C199","v":""},{"$f":"'PK-Luhe-Komm'!D199","v":0},{"$f":"IF('PK-Luhe-Komm'!E199=\"\",\"\",'PK-Luhe-Komm'!E199)","v":""},113,{"$f":"'PK-Luhe-Komm'!$H$199","v":""},{"$f":"'PK-Luhe-Komm'!I199","v":""},{"$f":"'PK-Luhe-Komm'!J199","v":0},{"$f":"IF('PK-Luhe-Komm'!K199=\"\",\"\",'PK-Luhe-Komm'!K199)","v":""},113,{"$f":"PS!C117","v":""},{"$f":"PS!D117","v":""},{"$f":"IF(PS!E117=\"\",\"\",PS!E117)","v":""},113]
[null,null,null,null,null,null,null,null,{"$f":"'PK-Luhe-Komm'!$B$199","v":""},{"$f":"'PK-Luhe-Komm'!C200","v":""},{"$f":"'PK-Luhe-Komm'!D200","v":0},{"$f":"IF('PK-Luhe-Komm'!E200=\"\",\"\",'PK-Luhe-Komm'!E200)","v":""},114,{"$f":"'PK-Luhe-Komm'!$H$199","v":""},{"$f":"'PK-Luhe-Komm'!I200","v":""},{"$f":"'PK-Luhe-Komm'!J200","v":0},{"$f":"IF('PK-Luhe-Komm'!K200=\"\",\"\",'PK-Luhe-Komm'!K200)","v":""},114,{"$f":"PS!C118","v":""},{"$f":"PS!D118","v":""},{"$f":"IF(PS!E118=\"\",\"\",PS!E118)","v":""},114]
[null,null,null,null,null,null,null,null,{"$f":"'PK-Luhe-Komm'!$B$199","v":""},{"$f":"'PK-Luhe-Komm'!C201","v":""},{"$f":"'PK-Luhe-Komm'!D201","v":0},{"$f":"IF('PK-Luhe-Komm'!E201=\"\",\"\",'PK-Luhe-Komm'!E201)","v":""},115,{"$f":"'PK-Luhe-Komm'!$H$199","v":""},{"$f":"'PK-Luhe-Komm'!I201","v":""},{"$f":"'PK-Luhe-Komm'!J201","v":0},{"$f":"IF('PK-Luhe-Komm'!K201=\"\",\"\",'PK-Luhe-Komm'!K201)","v":""},115,{"$f":"PS!C119","v":""},{"$f":"PS!D119","v":""},{"$f":"IF(PS!E119=\"\",\"\",PS!E119)","v":""},115]
[null,null,null,null,null,null,null,null,{"$f":"'PK-Luhe-Komm'!$B$199","v":""},{"$f":"'PK-Luhe-Komm'!C202","v":""},{"$f":"'PK-Luhe-Komm'!D202","v":0},{"$f":"IF('PK-Luhe-Komm'!E202=\"\",\"\",'PK-Luhe-Komm'!E202)","v":""},116,{"$f":"'PK-Luhe-Komm'!$H$199","v":""},{"$f":"'PK-Luhe-Komm'!I202","v":""},{"$f":"'PK-Luhe-Komm'!J202","v":0},{"$f":"IF('PK-Luhe-Komm'!K202=\"\",\"\",'PK-Luhe-Komm'!K202)","v":""},116,{"$f":"PS!C120","v":""},{"$f":"PS!D120","v":""},{"$f":"IF(PS!E120=\"\",\"\",PS!E120)","v":""},116]
[null,null,null,null,null,null,null,null,{"$f":"'PK-Luhe-Komm'!$B$206","v":""},{"$f":"'PK-Luhe-Komm'!C206","v":""},{"$f":"'PK-Luhe-Komm'!D206","v":0},{"$f":"IF('PK-Luhe-Komm'!E206=\"\",\"\",'PK-Luhe-Komm'!E206)","v":""},117,{"$f":"'PK-Luhe-Komm'!$H$206","v":""},{"$f":"'PK-Luhe-Komm'!I206","v":""},{"$f":"'PK-Luhe-Komm'!J206","v":0},{"$f":"IF('PK-Luhe-Komm'!K206=\"\",\"\",'PK-Luhe-Komm'!K206)","v":""},117,{"$f":"PS!C121","v":""},{"$f":"PS!D121","v":""},{"$f":"IF(PS!E121=\"\",\"\",PS!E121)","v":""},117]
[null,null,null,null,null,null,null,null,{"$f":"'PK-Luhe-Komm'!$B$206","v":""},{"$f":"'PK-Luhe-Komm'!C207","v":""},{"$f":"'PK-Luhe-Komm'!D207","v":0},{"$f":"IF('PK-Luhe-Komm'!E207=\"\",\"\",'PK-Luhe-Komm'!E207)","v":""},118,{"$f":"'PK-Luhe-Komm'!$H$206","v":""},{"$f":"'PK-Luhe-Komm'!I207","v":""},{"$f":"'PK-Luhe-Komm'!J207","v":0},{"$f":"IF('PK-Luhe-Komm'!K207=\"\",\"\",'PK-Luhe-Komm'!K207)","v":""},118,{"$f":"PS!C122","v":""},{"$f":"PS!D122","v":""},{"$f":"IF(PS!E122=\"\",\"\",PS!E122)","v":""},118]
[null,null,null,null,null,null,null,null,{"$f":"'PK-Luhe-Komm'!$B$206","v":""},{"$f":"'PK-Luhe-Komm'!C208","v":""},{"$f":"'PK-Luhe-Komm'!D208","v":0},{"$f":"IF('PK-Luhe-Komm'!E208=\"\",\"\",'PK-Luhe-Komm'!E208)","v":""},119,{"$f":"'PK-Luhe-Komm'!$H$206","v":""},{"$f":"'PK-Luhe-Komm'!I208","v":""},{"$f":"'PK-Luhe-Komm'!J208","v":0},{"$f":"IF('PK-Luhe-Komm'!K208=\"\",\"\",'PK-Luhe-Komm'!K208)","v":""},119,{"$f":"PS!C123","v":""},{"$f":"PS!D123","v":""},{"$f":"IF(PS!E123=\"\",\"\",PS!E123)","v":""},119]
[null,null,null,null,null,null,null,null,{"$f":"'PK-Luhe-Komm'!$B$206","v":""},{"$f":"'PK-Luhe-Komm'!C209","v":""},{"$f":"'PK-Luhe-Komm'!D209","v":0},{"$f":"IF('PK-Luhe-Komm'!E209=\"\",\"\",'PK-Luhe-Komm'!E209)","v":""},120,{"$f":"'PK-Luhe-Komm'!$H$206","v":""},{"$f":"'PK-Luhe-Komm'!I209","v":""},{"$f":"'PK-Luhe-Komm'!J209","v":0},{"$f":"IF('PK-Luhe-Komm'!K209=\"\",\"\",'PK-Luhe-Komm'!K209)","v":""},120,{"$f":"PS!C124","v":""},{"$f":"PS!D124","v":""},{"$f":"IF(PS!E124=\"\",\"\",PS!E124)","v":""},120]
[null,null,null,null,null,null,null,null,{"$f":"'PK-Luhe-Komm'!$B$213","v":""},{"$f":"'PK-Luhe-Komm'!C213","v":""},{"$f":"'PK-Luhe-Komm'!D213","v":0},{"$f":"IF('PK-Luhe-Komm'!E213=\"\",\"\",'PK-Luhe-Komm'!E213)","v":""},121,{"$f":"'PK-Luhe-Komm'!$H$213","v":""},{"$f":"'PK-Luhe-Komm'!I213","v":""},{"$f":"'PK-Luhe-Komm'!J213","v":0},{"$f":"IF('PK-Luhe-Komm'!K213=\"\",\"\",'PK-Luhe-Komm'!K213)","v":""},121,{"$f":"PS!C125","v":""},{"$f":"PS!D125","v":""},{"$f":"IF(PS!E125=\"\",\"\",PS!E125)","v":""},121]
[null,null,null,null,null,null,null,null,{"$f":"'PK-Luhe-Komm'!$B$213","v":""},{"$f":"'PK-Luhe-Komm'!C214","v":""},{"$f":"'PK-Luhe-Komm'!D214","v":0},{"$f":"IF('PK-Luhe-Komm'!E214=\"\",\"\",'PK-Luhe-Komm'!E214)","v":""},122,{"$f":"'PK-Luhe-Komm'!$H$213","v":""},{"$f":"'PK-Luhe-Komm'!I214","v":""},{"$f":"'PK-Luhe-Komm'!J214","v":0},{"$f":"IF('PK-Luhe-Komm'!K214=\"\",\"\",'PK-Luhe-Komm'!K214)","v":""},122,{"$f":"PS!C126","v":""},{"$f":"PS!D126","v":""},{"$f":"IF(PS!E126=\"\",\"\",PS!E126)","v":""},122]
[null,null,null,null,null,null,null,null,{"$f":"'PK-Luhe-Komm'!$B$213","v":""},{"$f":"'PK-Luhe-Komm'!C215","v":""},{"$f":"'PK-Luhe-Komm'!D215","v":0},{"$f":"IF('PK-Luhe-Komm'!E215=\"\",\"\",'PK-Luhe-Komm'!E215)","v":""},123,{"$f":"'PK-Luhe-Komm'!$H$213","v":""},{"$f":"'PK-Luhe-Komm'!I215","v":""},{"$f":"'PK-Luhe-Komm'!J215","v":0},{"$f":"IF('PK-Luhe-Komm'!K215=\"\",\"\",'PK-Luhe-Komm'!K215)","v":""},123,{"$f":"PS!C127","v":""},{"$f":"PS!D127","v":""},{"$f":"IF(PS!E127=\"\",\"\",PS!E127)","v":""},123]
[null,null,null,null,null,null,null,null,{"$f":"'PK-Luhe-Komm'!$B$213","v":""},{"$f":"'PK-Luhe-Komm'!C216","v":""},{"$f":"'PK-Luhe-Komm'!D216","v":0},{"$f":"IF('PK-Luhe-Komm'!E216=\"\",\"\",'PK-Luhe-Komm'!E216)","v":""},124,{"$f":"'PK-Luhe-Komm'!$H$213","v":""},{"$f":"'PK-Luhe-Komm'!I216","v":""},{"$f":"'PK-Luhe-Komm'!J216","v":0},{"$f":"IF('PK-Luhe-Komm'!K216=\"\",\"\",'PK-Luhe-Komm'!K216)","v":""},124,{"$f":"PS!C128","v":""},{"$f":"PS!D128","v":""},{"$f":"IF(PS!E128=\"\",\"\",PS!E128)","v":""},124]
[null,null,null,null,null,null,null,null,{"$f":"'PK-Luhe-Komm'!$B$220","v":""},{"$f":"'PK-Luhe-Komm'!C220","v":""},{"$f":"'PK-Luhe-Komm'!D220","v":0},{"$f":"IF('PK-Luhe-Komm'!E220=\"\",\"\",'PK-Luhe-Komm'!E220)","v":""},125,{"$f":"'PK-Luhe-Komm'!$H$220","v":""},{"$f":"'PK-Luhe-Komm'!I220","v":""},{"$f":"'PK-Luhe-Komm'!J220","v":0},{"$f":"IF('PK-Luhe-Komm'!K220=\"\",\"\",'PK-Luhe-Komm'!K220)","v":""},125,{"$f":"PS!C129","v":""},{"$f":"PS!D129","v":""},{"$f":"IF(PS!E129=\"\",\"\",PS!E129)","v":""},125]
[null,null,null,null,null,null,null,null,{"$f":"'PK-Luhe-Komm'!$B$220","v":""},{"$f":"'PK-Luhe-Komm'!C221","v":""},{"$f":"'PK-Luhe-Komm'!D221","v":0},{"$f":"IF('PK-Luhe-Komm'!E221=\"\",\"\",'PK-Luhe-Komm'!E221)","v":""},126,{"$f":"'PK-Luhe-Komm'!$H$220","v":""},{"$f":"'PK-Luhe-Komm'!I221","v":""},{"$f":"'PK-Luhe-Komm'!J221","v":0},{"$f":"IF('PK-Luhe-Komm'!K221=\"\",\"\",'PK-Luhe-Komm'!K221)","v":""},126,{"$f":"PS!C130","v":""},{"$f":"PS!D130","v":""},{"$f":"IF(PS!E130=\"\",\"\",PS!E130)","v":""},126]
[null,null,null,null,null,null,null,null,{"$f":"'PK-Luhe-Komm'!$B$220","v":""},{"$f":"'PK-Luhe-Komm'!C222","v":""},{"$f":"'PK-Luhe-Komm'!D222","v":0},{"$f":"IF('PK-Luhe-Komm'!E222=\"\",\"\",'PK-Luhe-Komm'!E222)","v":""},127,{"$f":"'PK-Luhe-Komm'!$H$220","v":""},{"$f":"'PK-Luhe-Komm'!I222","v":""},{"$f":"'PK-Luhe-Komm'!J222","v":0},{"$f":"IF('PK-Luhe-Komm'!K222=\"\",\"\",'PK-Luhe-Komm'!K222)","v":""},127,{"$f":"PS!C131","v":""},{"$f":"PS!D131","v":""},{"$f":"IF(PS!E131=\"\",\"\",PS!E131)","v":""},127]
[null,null,null,null,null,null,null,null,{"$f":"'PK-Luhe-Komm'!$B$220","v":""},{"$f":"'PK-Luhe-Komm'!C223","v":""},{"$f":"'PK-Luhe-Komm'!D223","v":0},{"$f":"IF('PK-Luhe-Komm'!E223=\"\",\"\",'PK-Luhe-Komm'!E223)","v":""},128,{"$f":"'PK-Luhe-Komm'!$H$220","v":""},{"$f":"'PK-Luhe-Komm'!I223","v":""},{"$f":"'PK-Luhe-Komm'!J223","v":0},{"$f":"IF('PK-Luhe-Komm'!K223=\"\",\"\",'PK-Luhe-Komm'!K223)","v":""},128,{"$f":"PS!C132","v":""},{"$f":"PS!D132","v":""},{"$f":"IF(PS!E132=\"\",\"\",PS!E132)","v":""},128]
[null,null,null,null,null,null,null,null,{"$f":"'PK-Luhe-Komm'!$B$227","v":""},{"$f":"'PK-Luhe-Komm'!C227","v":""},{"$f":"'PK-Luhe-Komm'!D227","v":0},{"$f":"IF('PK-Luhe-Komm'!E227=\"\",\"\",'PK-Luhe-Komm'!E227)","v":""},129,{"$f":"'PK-Luhe-Komm'!$H$227","v":""},{"$f":"'PK-Luhe-Komm'!I227","v":""},{"$f":"'PK-Luhe-Komm'!J227","v":0},{"$f":"IF('PK-Luhe-Komm'!K227=\"\",\"\",'PK-Luhe-Komm'!K227)","v":""},129,{"$f":"PS!C133","v":""},{"$f":"PS!D133","v":""},{"$f":"IF(PS!E133=\"\",\"\",PS!E133)","v":""},129]
[null,null,null,null,null,null,null,null,{"$f":"'PK-Luhe-Komm'!$B$227","v":""},{"$f":"'PK-Luhe-Komm'!C228","v":""},{"$f":"'PK-Luhe-Komm'!D228","v":0},{"$f":"IF('PK-Luhe-Komm'!E228=\"\",\"\",'PK-Luhe-Komm'!E228)","v":""},130,{"$f":"'PK-Luhe-Komm'!$H$227","v":""},{"$f":"'PK-Luhe-Komm'!I228","v":""},{"$f":"'PK-Luhe-Komm'!J228","v":0},{"$f":"IF('PK-Luhe-Komm'!K228=\"\",\"\",'PK-Luhe-Komm'!K228)","v":""},130,{"$f":"PS!C134","v":""},{"$f":"PS!D134","v":""},{"$f":"IF(PS!E134=\"\",\"\",PS!E134)","v":""},130]
[null,null,null,null,null,null,null,null,{"$f":"'PK-Luhe-Komm'!$B$227","v":""},{"$f":"'PK-Luhe-Komm'!C229","v":""},{"$f":"'PK-Luhe-Komm'!D229","v":0},{"$f":"IF('PK-Luhe-Komm'!E229=\"\",\"\",'PK-Luhe-Komm'!E229)","v":""},131,{"$f":"'PK-Luhe-Komm'!$H$227","v":""},{"$f":"'PK-Luhe-Komm'!I229","v":""},{"$f":"'PK-Luhe-Komm'!J229","v":0},{"$f":"IF('PK-Luhe-Komm'!K229=\"\",\"\",'PK-Luhe-Komm'!K229)","v":""},131,{"$f":"PS!C135","v":""},{"$f":"PS!D135","v":""},{"$f":"IF(PS!E135=\"\",\"\",PS!E135)","v":""},131]
[null,null,null,null,null,null,null,null,{"$f":"'PK-Luhe-Komm'!$B$227","v":""},{"$f":"'PK-Luhe-Komm'!C230","v":""},{"$f":"'PK-Luhe-Komm'!D230","v":0},{"$f":"IF('PK-Luhe-Komm'!E230=\"\",\"\",'PK-Luhe-Komm'!E230)","v":""},132,{"$f":"'PK-Luhe-Komm'!$H$227","v":""},{"$f":"'PK-Luhe-Komm'!I230","v":""},{"$f":"'PK-Luhe-Komm'!J230","v":0},{"$f":"IF('PK-Luhe-Komm'!K230=\"\",\"\",'PK-Luhe-Komm'!K230)","v":""},132,{"$f":"PS!C136","v":""},{"$f":"PS!D136","v":""},{"$f":"IF(PS!E136=\"\",\"\",PS!E136)","v":""},132]
[null,null,null,null,null,null,null,null,{"$f":"'PK-Luhe-Komm'!$B$234","v":""},{"$f":"'PK-Luhe-Komm'!C234","v":""},{"$f":"'PK-Luhe-Komm'!D234","v":0},{"$f":"IF('PK-Luhe-Komm'!E234=\"\",\"\",'PK-Luhe-Komm'!E234)","v":""},133,{"$f":"'PK-Luhe-Komm'!$H$234","v":""},{"$f":"'PK-Luhe-Komm'!I234","v":""},{"$f":"'PK-Luhe-Komm'!J234","v":0},{"$f":"IF('PK-Luhe-Komm'!K234=\"\",\"\",'PK-Luhe-Komm'!K234)","v":""},133,{"$f":"PS!C137","v":""},{"$f":"PS!D137","v":""},{"$f":"IF(PS!E137=\"\",\"\",PS!E137)","v":""},133]
[null,null,null,null,null,null,null,null,{"$f":"'PK-Luhe-Komm'!$B$234","v":""},{"$f":"'PK-Luhe-Komm'!C235","v":""},{"$f":"'PK-Luhe-Komm'!D235","v":0},{"$f":"IF('PK-Luhe-Komm'!E235=\"\",\"\",'PK-Luhe-Komm'!E235)","v":""},134,{"$f":"'PK-Luhe-Komm'!$H$234","v":""},{"$f":"'PK-Luhe-Komm'!I235","v":""},{"$f":"'PK-Luhe-Komm'!J235","v":0},{"$f":"IF('PK-Luhe-Komm'!K235=\"\",\"\",'PK-Luhe-Komm'!K235)","v":""},134,{"$f":"PS!C138","v":""},{"$f":"PS!D138","v":""},{"$f":"IF(PS!E138=\"\",\"\",PS!E138)","v":""},134]
[null,null,null,null,null,null,null,null,{"$f":"'PK-Luhe-Komm'!$B$234","v":""},{"$f":"'PK-Luhe-Komm'!C236","v":""},{"$f":"'PK-Luhe-Komm'!D236","v":0},{"$f":"IF('PK-Luhe-Komm'!E236=\"\",\"\",'PK-Luhe-Komm'!E236)","v":""},135,{"$f":"'PK-Luhe-Komm'!$H$234","v":""},{"$f":"'PK-Luhe-Komm'!I236","v":""},{"$f":"'PK-Luhe-Komm'!J236","v":0},{"$f":"IF('PK-Luhe-Komm'!K236=\"\",\"\",'PK-Luhe-Komm'!K236)","v":""},135,{"$f":"PS!C139","v":""},{"$f":"PS!D139","v":""},{"$f":"IF(PS!E139=\"\",\"\",PS!E139)","v":""},135]
[null,null,null,null,null,null,null,null,{"$f":"'PK-Luhe-Komm'!$B$234","v":""},{"$f":"'PK-Luhe-Komm'!C237","v":""},{"$f":"'PK-Luhe-Komm'!D237","v":0},{"$f":"IF('PK-Luhe-Komm'!E237=\"\",\"\",'PK-Luhe-Komm'!E237)","v":""},136,{"$f":"'PK-Luhe-Komm'!$H$234","v":""},{"$f":"'PK-Luhe-Komm'!I237","v":""},{"$f":"'PK-Luhe-Komm'!J237","v":0},{"$f":"IF('PK-Luhe-Komm'!K237=\"\",\"\",'PK-Luhe-Komm'!K237)","v":""},136,{"$f":"PS!C140","v":""},{"$f":"PS!D140","v":""},{"$f":"IF(PS!E140=\"\",\"\",PS!E140)","v":""},136]
[null,null,null,null,null,null,null,null,{"$f":"'PK-Luhe-Komm'!$B$241","v":""},{"$f":"'PK-Luhe-Komm'!C241","v":""},{"$f":"'PK-Luhe-Komm'!D241","v":0},{"$f":"IF('PK-Luhe-Komm'!E241=\"\",\"\",'PK-Luhe-Komm'!E241)","v":""},137,{"$f":"'PK-Luhe-Komm'!$H$241","v":""},{"$f":"'PK-Luhe-Komm'!I241","v":""},{"$f":"'PK-Luhe-Komm'!J241","v":0},{"$f":"IF('PK-Luhe-Komm'!K241=\"\",\"\",'PK-Luhe-Komm'!K241)","v":""},137,{"$f":"PS!C141","v":""},{"$f":"PS!D141","v":""},{"$f":"IF(PS!E141=\"\",\"\",PS!E141)","v":""},137]
[null,null,null,null,null,null,null,null,{"$f":"'PK-Luhe-Komm'!$B$241","v":""},{"$f":"'PK-Luhe-Komm'!C242","v":""},{"$f":"'PK-Luhe-Komm'!D242","v":0},{"$f":"IF('PK-Luhe-Komm'!E242=\"\",\"\",'PK-Luhe-Komm'!E242)","v":""},138,{"$f":"'PK-Luhe-Komm'!$H$241","v":""},{"$f":"'PK-Luhe-Komm'!I242","v":""},{"$f":"'PK-Luhe-Komm'!J242","v":0},{"$f":"IF('PK-Luhe-Komm'!K242=\"\",\"\",'PK-Luhe-Komm'!K242)","v":""},138,{"$f":"PS!C142","v":""},{"$f":"PS!D142","v":""},{"$f":"IF(PS!E142=\"\",\"\",PS!E142)","v":""},138]
[null,null,null,null,null,null,null,null,{"$f":"'PK-Luhe-Komm'!$B$241","v":""},{"$f":"'PK-Luhe-Komm'!C243","v":""},{"$f":"'PK-Luhe-Komm'!D243","v":0},{"$f":"IF('PK-Luhe-Komm'!E243=\"\",\"\",'PK-Luhe-Komm'!E243)","v":""},139,{"$f":"'PK-Luhe-Komm'!$H$241","v":""},{"$f":"'PK-Luhe-Komm'!I243","v":""},{"$f":"'PK-Luhe-Komm'!J243","v":0},{"$f":"IF('PK-Luhe-Komm'!K243=\"\",\"\",'PK-Luhe-Komm'!K243)","v":""},139,{"$f":"PS!C143","v":""},{"$f":"PS!D143","v":""},{"$f":"IF(PS!E143=\"\",\"\",PS!E143)","v":""},139]
[null,null,null,null,null,null,null,null,{"$f":"'PK-Luhe-Komm'!$B$241","v":""},{"$f":"'PK-Luhe-Komm'!C244","v":""},{"$f":"'PK-Luhe-Komm'!D244","v":0},{"$f":"IF('PK-Luhe-Komm'!E244=\"\",\"\",'PK-Luhe-Komm'!E244)","v":""},140,{"$f":"'PK-Luhe-Komm'!$H$241","v":""},{"$f":"'PK-Luhe-Komm'!I244","v":""},{"$f":"'PK-Luhe-Komm'!J244","v":0},{"$f":"IF('PK-Luhe-Komm'!K244=\"\",\"\",'PK-Luhe-Komm'!K244)","v":""},140,{"$f":"PS!C144","v":""},{"$f":"PS!D144","v":""},{"$f":"IF(PS!E144=\"\",\"\",PS!E144)","v":""},140]
[null,null,null,null,null,null,null,null,{"$f":"'PK-Luhe-Komm'!$B$248","v":""},{"$f":"'PK-Luhe-Komm'!C248","v":""},{"$f":"'PK-Luhe-Komm'!D248","v":0},{"$f":"IF('PK-Luhe-Komm'!E248=\"\",\"\",'PK-Luhe-Komm'!E248)","v":""},141,{"$f":"'PK-Luhe-Komm'!$H$248","v":""},{"$f":"'PK-Luhe-Komm'!I248","v":""},{"$f":"'PK-Luhe-Komm'!J248","v":0},{"$f":"IF('PK-Luhe-Komm'!K248=\"\",\"\",'PK-Luhe-Komm'!K248)","v":""},141,{"$f":"PS!C145","v":""},{"$f":"PS!D145","v":""},{"$f":"IF(PS!E145=\"\",\"\",PS!E145)","v":""},141]
[null,null,null,null,null,null,null,null,{"$f":"'PK-Luhe-Komm'!$B$248","v":""},{"$f":"'PK-Luhe-Komm'!C249","v":""},{"$f":"'PK-Luhe-Komm'!D249","v":0},{"$f":"IF('PK-Luhe-Komm'!E249=\"\",\"\",'PK-Luhe-Komm'!E249)","v":""},142,{"$f":"'PK-Luhe-Komm'!$H$248","v":""},{"$f":"'PK-Luhe-Komm'!I249","v":""},{"$f":"'PK-Luhe-Komm'!J249","v":0},{"$f":"IF('PK-Luhe-Komm'!K249=\"\",\"\",'PK-Luhe-Komm'!K249)","v":""},142,{"$f":"PS!C146","v":""},{"$f":"PS!D146","v":""},{"$f":"IF(PS!E146=\"\",\"\",PS!E146)","v":""},142]
[null,null,null,null,null,null,null,null,{"$f":"'PK-Luhe-Komm'!$B$248","v":""},{"$f":"'PK-Luhe-Komm'!C250","v":""},{"$f":"'PK-Luhe-Komm'!D250","v":0},{"$f":"IF('PK-Luhe-Komm'!E250=\"\",\"\",'PK-Luhe-Komm'!E250)","v":""},143,{"$f":"'PK-Luhe-Komm'!$H$248","v":""},{"$f":"'PK-Luhe-Komm'!I250","v":""},{"$f":"'PK-Luhe-Komm'!J250","v":0},{"$f":"IF('PK-Luhe-Komm'!K250=\"\",\"\",'PK-Luhe-Komm'!K250)","v":""},143,{"$f":"PS!C147","v":""},{"$f":"PS!D147","v":""},{"$f":"IF(PS!E147=\"\",\"\",PS!E147)","v":""},143]
[null,null,null,null,null,null,null,null,{"$f":"'PK-Luhe-Komm'!$B$248","v":""},{"$f":"'PK-Luhe-Komm'!C251","v":""},{"$f":"'PK-Luhe-Komm'!D251","v":0},{"$f":"IF('PK-Luhe-Komm'!E251=\"\",\"\",'PK-Luhe-Komm'!E251)","v":""},144,{"$f":"'PK-Luhe-Komm'!$H$248","v":""},{"$f":"'PK-Luhe-Komm'!I251","v":""},{"$f":"'PK-Luhe-Komm'!J251","v":0},{"$f":"IF('PK-Luhe-Komm'!K251=\"\",\"\",'PK-Luhe-Komm'!K251)","v":""},144,{"$f":"PS!C148","v":""},{"$f":"PS!D148","v":""},{"$f":"IF(PS!E148=\"\",\"\",PS!E148)","v":""},144]
[null,null,null,null,null,null,null,null,{"$f":"'PK-Luhe-Komm'!$B$255","v":""},{"$f":"'PK-Luhe-Komm'!C255","v":""},{"$f":"'PK-Luhe-Komm'!D255","v":0},{"$f":"IF('PK-Luhe-Komm'!E255=\"\",\"\",'PK-Luhe-Komm'!E255)","v":""},145,{"$f":"'PK-Luhe-Komm'!$H$255","v":""},{"$f":"'PK-Luhe-Komm'!I255","v":""},{"$f":"'PK-Luhe-Komm'!J255","v":0},{"$f":"IF('PK-Luhe-Komm'!K255=\"\",\"\",'PK-Luhe-Komm'!K255)","v":""},145,{"$f":"PS!C149","v":""},{"$f":"PS!D149","v":""},{"$f":"IF(PS!E149=\"\",\"\",PS!E149)","v":""},145]
[null,null,null,null,null,null,null,null,{"$f":"'PK-Luhe-Komm'!$B$255","v":""},{"$f":"'PK-Luhe-Komm'!C256","v":""},{"$f":"'PK-Luhe-Komm'!D256","v":0},{"$f":"IF('PK-Luhe-Komm'!E256=\"\",\"\",'PK-Luhe-Komm'!E256)","v":""},146,{"$f":"'PK-Luhe-Komm'!$H$255","v":""},{"$f":"'PK-Luhe-Komm'!I256","v":""},{"$f":"'PK-Luhe-Komm'!J256","v":0},{"$f":"IF('PK-Luhe-Komm'!K256=\"\",\"\",'PK-Luhe-Komm'!K256)","v":""},146,{"$f":"PS!C150","v":""},{"$f":"PS!D150","v":""},{"$f":"IF(PS!E150=\"\",\"\",PS!E150)","v":""},146]
[null,null,null,null,null,null,null,null,{"$f":"'PK-Luhe-Komm'!$B$255","v":""},{"$f":"'PK-Luhe-Komm'!C257","v":""},{"$f":"'PK-Luhe-Komm'!D257","v":0},{"$f":"IF('PK-Luhe-Komm'!E257=\"\",\"\",'PK-Luhe-Komm'!E257)","v":""},147,{"$f":"'PK-Luhe-Komm'!$H$255","v":""},{"$f":"'PK-Luhe-Komm'!I257","v":""},{"$f":"'PK-Luhe-Komm'!J257","v":0},{"$f":"IF('PK-Luhe-Komm'!K257=\"\",\"\",'PK-Luhe-Komm'!K257)","v":""},147,{"$f":"PS!C151","v":""},{"$f":"PS!D151","v":""},{"$f":"IF(PS!E151=\"\",\"\",PS!E151)","v":""},147]
[null,null,null,null,null,null,null,null,{"$f":"'PK-Luhe-Komm'!$B$255","v":""},{"$f":"'PK-Luhe-Komm'!C258","v":""},{"$f":"'PK-Luhe-Komm'!D258","v":0},{"$f":"IF('PK-Luhe-Komm'!E258=\"\",\"\",'PK-Luhe-Komm'!E258)","v":""},148,{"$f":"'PK-Luhe-Komm'!$H$255","v":""},{"$f":"'PK-Luhe-Komm'!I258","v":""},{"$f":"'PK-Luhe-Komm'!J258","v":0},{"$f":"IF('PK-Luhe-Komm'!K258=\"\",\"\",'PK-Luhe-Komm'!K258)","v":""},148,{"$f":"PS!C152","v":""},{"$f":"PS!D152","v":""},{"$f":"IF(PS!E152=\"\",\"\",PS!E152)","v":""},148]
[null,null,null,null,null,null,null,null,{"$f":"'PK-Luhe-Komm'!$B$262","v":""},{"$f":"'PK-Luhe-Komm'!C262","v":""},{"$f":"'PK-Luhe-Komm'!D262","v":0},{"$f":"IF('PK-Luhe-Komm'!E262=\"\",\"\",'PK-Luhe-Komm'!E262)","v":""},149,{"$f":"'PK-Luhe-Komm'!$H$262","v":""},{"$f":"'PK-Luhe-Komm'!I262","v":""},{"$f":"'PK-Luhe-Komm'!J262","v":0},{"$f":"IF('PK-Luhe-Komm'!K262=\"\",\"\",'PK-Luhe-Komm'!K262)","v":""},149,{"$f":"PS!C153","v":""},{"$f":"PS!D153","v":""},{"$f":"IF(PS!E153=\"\",\"\",PS!E153)","v":""},149]
[null,null,null,null,null,null,null,null,{"$f":"'PK-Luhe-Komm'!$B$262","v":""},{"$f":"'PK-Luhe-Komm'!C263","v":""},{"$f":"'PK-Luhe-Komm'!D263","v":0},{"$f":"IF('PK-Luhe-Komm'!E263=\"\",\"\",'PK-Luhe-Komm'!E263)","v":""},150,{"$f":"'PK-Luhe-Komm'!$H$262","v":""},{"$f":"'PK-Luhe-Komm'!I263","v":""},{"$f":"'PK-Luhe-Komm'!J263","v":0},{"$f":"IF('PK-Luhe-Komm'!K263=\"\",\"\",'PK-Luhe-Komm'!K263)","v":""},150,{"$f":"PS!C154","v":""},{"$f":"PS!D154","v":""},{"$f":"IF(PS!E154=\"\",\"\",PS!E154)","v":""},150]
[null,null,null,null,null,null,null,null,{"$f":"'PK-Luhe-Komm'!$B$262","v":""},{"$f":"'PK-Luhe-Komm'!C264","v":""},{"$f":"'PK-Luhe-Komm'!D264","v":0},{"$f":"IF('PK-Luhe-Komm'!E264=\"\",\"\",'PK-Luhe-Komm'!E264)","v":""},151,{"$f":"'PK-Luhe-Komm'!$H$262","v":""},{"$f":"'PK-Luhe-Komm'!I264","v":""},{"$f":"'PK-Luhe-Komm'!J264","v":0},{"$f":"IF('PK-Luhe-Komm'!K264=\"\",\"\",'PK-Luhe-Komm'!K264)","v":""},151,{"$f":"PS!C155","v":""},{"$f":"PS!D155","v":""},{"$f":"IF(PS!E155=\"\",\"\",PS!E155)","v":""},151]
[null,null,null,null,null,null,null,null,{"$f":"'PK-Luhe-Komm'!$B$262","v":""},{"$f":"'PK-Luhe-Komm'!C265","v":""},{"$f":"'PK-Luhe-Komm'!D265","v":0},{"$f":"IF('PK-Luhe-Komm'!E265=\"\",\"\",'PK-Luhe-Komm'!E265)","v":""},152,{"$f":"'PK-Luhe-Komm'!$H$262","v":""},{"$f":"'PK-Luhe-Komm'!I265","v":""},{"$f":"'PK-Luhe-Komm'!J265","v":0},{"$f":"IF('PK-Luhe-Komm'!K265=\"\",\"\",'PK-Luhe-Komm'!K265)","v":""},152,{"$f":"PS!C156","v":""},{"$f":"PS!D156","v":""},{"$f":"IF(PS!E156=\"\",\"\",PS!E156)","v":""},152]
[null,null,null,null,null,null,null,null,{"$f":"'PK-Luhe-Komm'!$B$269","v":""},{"$f":"'PK-Luhe-Komm'!C269","v":""},{"$f":"'PK-Luhe-Komm'!D269","v":0},{"$f":"IF('PK-Luhe-Komm'!E269=\"\",\"\",'PK-Luhe-Komm'!E269)","v":""},153,{"$f":"'PK-Luhe-Komm'!$H$269","v":""},{"$f":"'PK-Luhe-Komm'!I269","v":""},{"$f":"'PK-Luhe-Komm'!J269","v":0},{"$f":"IF('PK-Luhe-Komm'!K269=\"\",\"\",'PK-Luhe-Komm'!K269)","v":""},153,{"$f":"PS!C157","v":""},{"$f":"PS!D157","v":""},{"$f":"IF(PS!E157=\"\",\"\",PS!E157)","v":""},153]
[null,null,null,null,null,null,null,null,{"$f":"'PK-Luhe-Komm'!$B$269","v":""},{"$f":"'PK-Luhe-Komm'!C270","v":""},{"$f":"'PK-Luhe-Komm'!D270","v":0},{"$f":"IF('PK-Luhe-Komm'!E270=\"\",\"\",'PK-Luhe-Komm'!E270)","v":""},154,{"$f":"'PK-Luhe-Komm'!$H$269","v":""},{"$f":"'PK-Luhe-Komm'!I270","v":""},{"$f":"'PK-Luhe-Komm'!J270","v":0},{"$f":"IF('PK-Luhe-Komm'!K270=\"\",\"\",'PK-Luhe-Komm'!K270)","v":""},154,{"$f":"PS!C158","v":""},{"$f":"PS!D158","v":""},{"$f":"IF(PS!E158=\"\",\"\",PS!E158)","v":""},154]
[null,null,null,null,null,null,null,null,{"$f":"'PK-Luhe-Komm'!$B$269","v":""},{"$f":"'PK-Luhe-Komm'!C271","v":""},{"$f":"'PK-Luhe-Komm'!D271","v":0},{"$f":"IF('PK-Luhe-Komm'!E271=\"\",\"\",'PK-Luhe-Komm'!E271)","v":""},155,{"$f":"'PK-Luhe-Komm'!$H$269","v":""},{"$f":"'PK-Luhe-Komm'!I271","v":""},{"$f":"'PK-Luhe-Komm'!J271","v":0},{"$f":"IF('PK-Luhe-Komm'!K271=\"\",\"\",'PK-Luhe-Komm'!K271)","v":""},155,{"$f":"PS!C159","v":""},{"$f":"PS!D159","v":""},{"$f":"IF(PS!E159=\"\",\"\",PS!E159)","v":""},155]
[null,null,null,null,null,null,null,null,{"$f":"'PK-Luhe-Komm'!$B$269","v":""},{"$f":"'PK-Luhe-Komm'!C272","v":""},{"$f":"'PK-Luhe-Komm'!D272","v":0},{"$f":"IF('PK-Luhe-Komm'!E272=\"\",\"\",'PK-Luhe-Komm'!E272)","v":""},156,{"$f":"'PK-Luhe-Komm'!$H$269","v":""},{"$f":"'PK-Luhe-Komm'!I272","v":""},{"$f":"'PK-Luhe-Komm'!J272","v":0},{"$f":"IF('PK-Luhe-Komm'!K272=\"\",\"\",'PK-Luhe-Komm'!K272)","v":""},156,{"$f":"PS!C160","v":""},{"$f":"PS!D160","v":""},{"$f":"IF(PS!E160=\"\",\"\",PS!E160)","v":""},156]
[null,null,null,null,null,null,null,null,{"$f":"'PK-Luhe-Komm'!$B$276","v":""},{"$f":"'PK-Luhe-Komm'!C276","v":""},{"$f":"'PK-Luhe-Komm'!D276","v":0},{"$f":"IF('PK-Luhe-Komm'!E276=\"\",\"\",'PK-Luhe-Komm'!E276)","v":""},157,{"$f":"'PK-Luhe-Komm'!$H$276","v":""},{"$f":"'PK-Luhe-Komm'!I276","v":""},{"$f":"'PK-Luhe-Komm'!J276","v":0},{"$f":"IF('PK-Luhe-Komm'!K276=\"\",\"\",'PK-Luhe-Komm'!K276)","v":""},157,{"$f":"PS!C161","v":""},{"$f":"PS!D161","v":""},{"$f":"IF(PS!E161=\"\",\"\",PS!E161)","v":""},157]
[null,null,null,null,null,null,null,null,{"$f":"'PK-Luhe-Komm'!$B$276","v":""},{"$f":"'PK-Luhe-Komm'!C277","v":""},{"$f":"'PK-Luhe-Komm'!D277","v":0},{"$f":"IF('PK-Luhe-Komm'!E277=\"\",\"\",'PK-Luhe-Komm'!E277)","v":""},158,{"$f":"'PK-Luhe-Komm'!$H$276","v":""},{"$f":"'PK-Luhe-Komm'!I277","v":""},{"$f":"'PK-Luhe-Komm'!J277","v":0},{"$f":"IF('PK-Luhe-Komm'!K277=\"\",\"\",'PK-Luhe-Komm'!K277)","v":""},158,{"$f":"PS!C162","v":""},{"$f":"PS!D162","v":""},{"$f":"IF(PS!E162=\"\",\"\",PS!E162)","v":""},158]
[null,null,null,null,null,null,null,null,{"$f":"'PK-Luhe-Komm'!$B$276","v":""},{"$f":"'PK-Luhe-Komm'!C278","v":""},{"$f":"'PK-Luhe-Komm'!D278","v":0},{"$f":"IF('PK-Luhe-Komm'!E278=\"\",\"\",'PK-Luhe-Komm'!E278)","v":""},159,{"$f":"'PK-Luhe-Komm'!$H$276","v":""},{"$f":"'PK-Luhe-Komm'!I278","v":""},{"$f":"'PK-Luhe-Komm'!J278","v":0},{"$f":"IF('PK-Luhe-Komm'!K278=\"\",\"\",'PK-Luhe-Komm'!K278)","v":""},159,{"$f":"PS!C163","v":""},{"$f":"PS!D163","v":""},{"$f":"IF(PS!E163=\"\",\"\",PS!E163)","v":""},159]
[null,null,null,null,null,null,null,null,{"$f":"'PK-Luhe-Komm'!$B$276","v":""},{"$f":"'PK-Luhe-Komm'!C279","v":""},{"$f":"'PK-Luhe-Komm'!D279","v":0},{"$f":"IF('PK-Luhe-Komm'!E279=\"\",\"\",'PK-Luhe-Komm'!E279)","v":""},160,{"$f":"'PK-Luhe-Komm'!$H$276","v":""},{"$f":"'PK-Luhe-Komm'!I279","v":""},{"$f":"'PK-Luhe-Komm'!J279","v":0},{"$f":"IF('PK-Luhe-Komm'!K279=\"\",\"\",'PK-Luhe-Komm'!K279)","v":""},160,{"$f":"PS!C164","v":""},{"$f":"PS!D164","v":""},{"$f":"IF(PS!E164=\"\",\"\",PS!E164)","v":""},160]
[null,null,null,null,null,null,null,null,null,null,null,null,null,null,null,null,null,null,{"$f":"PS!C165","v":""},{"$f":"PS!D165","v":""},{"$f":"IF(PS!E165=\"\",\"\",PS!E165)","v":""},161]
[null,null,null,null,null,null,null,null,null,null,null,null,null,null,null,null,null,null,{"$f":"PS!C166","v":""},{"$f":"PS!D166","v":""},{"$f":"IF(PS!E166=\"\",\"\",PS!E166)","v":""},162]
[null,null,null,null,null,null,null,null,null,null,null,null,null,null,null,null,null,null,{"$f":"PS!C167","v":""},{"$f":"PS!D167","v":""},{"$f":"IF(PS!E167=\"\",\"\",PS!E167)","v":""},163]
[null,null,null,null,null,null,null,null,null,null,null,null,null,null,null,null,null,null,{"$f":"PS!C168","v":""},{"$f":"PS!D168","v":""},{"$f":"IF(PS!E168=\"\",\"\",PS!E168)","v":""},164]
[null,null,null,null,null,null,null,null,null,null,null,null,null,null,null,null,null,null,{"$f":"PS!C169","v":""},{"$f":"PS!D169","v":""},{"$f":"IF(PS!E169=\"\",\"\",PS!E169)","v":""},165]
[null,null,null,null,null,null,null,null,null,null,null,null,null,null,null,null,null,null,{"$f":"PS!C170","v":""},{"$f":"PS!D170","v":""},{"$f":"IF(PS!E170=\"\",\"\",PS!E170)","v":""},166]
[null,null,null,null,null,null,null,null,null,null,null,null,null,null,null,null,null,null,{"$f":"PS!C171","v":""},{"$f":"PS!D171","v":""},{"$f":"IF(PS!E171=\"\",\"\",PS!E171)","v":""},167]
[null,null,null,null,null,null,null,null,null,null,null,null,null,null,null,null,null,null,{"$f":"PS!C172","v":""},{"$f":"PS!D172","v":""},{"$f":"IF(PS!E172=\"\",\"\",PS!E172)","v":""},168]
[null,null,null,null,null,null,null,null,null,null,null,null,null,null,null,null,null,null,{"$f":"PS!C173","v":""},{"$f":"PS!D173","v":""},{"$f":"IF(PS!E173=\"\",\"\",PS!E173)","v":""},169]
[null,null,null,null,null,null,null,null,null,null,null,null,null,null,null,null,null,null,{"$f":"PS!C174","v":""},{"$f":"PS!D174","v":""},{"$f":"IF(PS!E174=\"\",\"\",PS!E174)","v":""},170]
[null,null,null,null,null,null,null,null,null,null,null,null,null,null,null,null,null,null,{"$f":"PS!C175","v":""},{"$f":"PS!D175","v":""},{"$f":"IF(PS!E175=\"\",\"\",PS!E175)","v":""},171]
[null,null,null,null,null,null,null,null,null,null,null,null,null,null,null,null,null,null,{"$f":"PS!C176","v":""},{"$f":"PS!D176","v":""},{"$f":"IF(PS!E176=\"\",\"\",PS!E176)","v":""},172]
[null,null,null,null,null,null,null,null,null,null,null,null,null,null,null,null,null,null,{"$f":"PS!C177","v":""},{"$f":"PS!D177","v":""},{"$f":"IF(PS!E177=\"\",\"\",PS!E177)","v":""},173]
[null,null,null,null,null,null,null,null,null,null,null,null,null,null,null,null,null,null,{"$f":"PS!C178","v":""},{"$f":"PS!D178","v":""},{"$f":"IF(PS!E178=\"\",\"\",PS!E178)","v":""},174]
[null,null,null,null,null,null,null,null,null,null,null,null,null,null,null,null,null,null,{"$f":"PS!C179","v":""},{"$f":"PS!D179","v":""},{"$f":"IF(PS!E179=\"\",\"\",PS!E179)","v":""},175]
[null,null,null,null,null,null,null,null,null,null,null,null,null,null,null,null,null,null,{"$f":"PS!C180","v":""},{"$f":"PS!D180","v":""},{"$f":"IF(PS!E180=\"\",\"\",PS!E180)","v":""},176]
[null,null,null,null,null,null,null,null,null,null,null,null,null,null,null,null,null,null,{"$f":"PS!C181","v":""},{"$f":"PS!D181","v":""},{"$f":"IF(PS!E181=\"\",\"\",PS!E181)","v":""},177]
[null,null,null,null,null,null,null,null,null,null,null,null,null,null,null,null,null,null,{"$f":"PS!C182","v":""},{"$f":"PS!D182","v":""},{"$f":"IF(PS!E182=\"\",\"\",PS!E182)","v":""},178]
[null,null,null,null,null,null,null,null,null,null,null,null,null,null,null,null,null,null,{"$f":"PS!C183","v":""},{"$f":"PS!D183","v":""},{"$f":"IF(PS!E183=\"\",\"\",PS!E183)","v":""},179]
[null,null,null,null,null,null,null,null,null,null,null,null,null,null,null,null,null,null,{"$f":"PS!C184","v":""},{"$f":"PS!D184","v":""},{"$f":"IF(PS!E184=\"\",\"\",PS!E184)","v":""},180]
[null,null,null,null,null,null,null,null,null,null,null,null,null,null,null,null,null,null,{"$f":"PS!C185","v":""},{"$f":"PS!D185","v":""},{"$f":"IF(PS!E185=\"\",\"\",PS!E185)","v":""},181]
[null,null,null,null,null,null,null,null,null,null,null,null,null,null,null,null,null,null,{"$f":"PS!C186","v":""},{"$f":"PS!D186","v":""},{"$f":"IF(PS!E186=\"\",\"\",PS!E186)","v":""},182]
[null,null,null,null,null,null,null,null,null,null,null,null,null,null,null,null,null,null,{"$f":"PS!C187","v":""},{"$f":"PS!D187","v":""},{"$f":"IF(PS!E187=\"\",\"\",PS!E187)","v":""},183]
[null,null,null,null,null,null,null,null,null,null,null,null,null,null,null,null,null,null,{"$f":"PS!C188","v":""},{"$f":"PS!D188","v":""},{"$f":"IF(PS!E188=\"\",\"\",PS!E188)","v":""},184]
[null,null,null,null,null,null,null,null,null,null,null,null,null,null,null,null,null,null,{"$f":"PS!C189","v":""},{"$f":"PS!D189","v":""},{"$f":"IF(PS!E189=\"\",\"\",PS!E189)","v":""},185]
[null,null,null,null,null,null,null,null,null,null,null,null,null,null,null,null,null,null,{"$f":"PS!C190","v":""},{"$f":"PS!D190","v":""},{"$f":"IF(PS!E190=\"\",\"\",PS!E190)","v":""},186]
[null,null,null,null,null,null,null,null,null,null,null,null,null,null,null,null,null,null,{"$f":"PS!C191","v":""},{"$f":"PS!D191","v":""},{"$f":"IF(PS!E191=\"\",\"\",PS!E191)","v":""},187]
[null,null,null,null,null,null,null,null,null,null,null,null,null,null,null,null,null,null,{"$f":"PS!C192","v":""},{"$f":"PS!D192","v":""},{"$f":"IF(PS!E192=\"\",\"\",PS!E192)","v":""},188]
[null,null,null,null,null,null,null,null,null,null,null,null,null,null,null,null,null,null,{"$f":"PS!C193","v":""},{"$f":"PS!D193","v":""},{"$f":"IF(PS!E193=\"\",\"\",PS!E193)","v":""},189]
[null,null,null,null,null,null,null,null,null,null,null,null,null,null,null,null,null,null,{"$f":"PS!C194","v":""},{"$f":"PS!D194","v":""},{"$f":"IF(PS!E194=\"\",\"\",PS!E194)","v":""},190]
[null,null,null,null,null,null,null,null,null,null,null,null,null,null,null,null,null,null,{"$f":"PS!C195","v":""},{"$f":"PS!D195","v":""},{"$f":"IF(PS!E195=\"\",\"\",PS!E195)","v":""},191]
[null,null,null,null,null,null,null,null,null,null,null,null,null,null,null,null,null,null,{"$f":"PS!C196","v":""},{"$f":"PS!D196","v":""},{"$f":"IF(PS!E196=\"\",\"\",PS!E196)","v":""},192]
[null,null,null,null,null,null,null,null,null,null,null,null,null,null,null,null,null,null,{"$f":"PS!C197","v":""},{"$f":"PS!D197","v":""},{"$f":"IF(PS!E197=\"\",\"\",PS!E197)","v":""},193]
[null,null,null,null,null,null,null,null,null,null,null,null,null,null,null,null,null,null,{"$f":"PS!C198","v":""},{"$f":"PS!D198","v":""},{"$f":"IF(PS!E198=\"\",\"\",PS!E198)","v":""},194]
[null,null,null,null,null,null,null,null,null,null,null,null,null,null,null,null,null,null,{"$f":"PS!C199","v":""},{"$f":"PS!D199","v":""},{"$f":"IF(PS!E199=\"\",\"\",PS!E199)","v":""},195]
[null,null,null,null,null,null,null,null,null,null,null,null,null,null,null,null,null,null,{"$f":"PS!C200","v":""},{"$f":"PS!D200","v":""},{"$f":"IF(PS!E200=\"\",\"\",PS!E200)","v":""},196]
[null,null,null,null,null,null,null,null,null,null,null,null,null,null,null,null,null,null,{"$f":"PS!C201","v":""},{"$f":"PS!D201","v":""},{"$f":"IF(PS!E201=\"\",\"\",PS!E201)","v":""},197]
[null,null,null,null,null,null,null,null,null,null,null,null,null,null,null,null,null,null,{"$f":"PS!C202","v":""},{"$f":"PS!D202","v":""},{"$f":"IF(PS!E202=\"\",\"\",PS!E202)","v":""},198]
[null,null,null,null,null,null,null,null,null,null,null,null,null,null,null,null,null,null,{"$f":"PS!C203","v":""},{"$f":"PS!D203","v":""},{"$f":"IF(PS!E203=\"\",\"\",PS!E203)","v":""},199]
[null,null,null,null,null,null,null,null,null,null,null,null,null,null,null,null,null,null,{"$f":"PS!C204","v":""},{"$f":"PS!D204","v":""},{"$f":"IF(PS!E204=\"\",\"\",PS!E204)","v":""},200]
[null,null,null,null,null,null,null,null,null,null,null,null,null,null,null,null,null,null,{"$f":"PS!C205","v":""},{"$f":"PS!D205","v":""},{"$f":"IF(PS!E205=\"\",\"\",PS!E205)","v":""},201]
[null,null,null,null,null,null,null,null,null,null,null,null,null,null,null,null,null,null,{"$f":"PS!C206","v":""},{"$f":"PS!D206","v":""},{"$f":"IF(PS!E206=\"\",\"\",PS!E206)","v":""},202]
[null,null,null,null,null,null,null,null,null,null,null,null,null,null,null,null,null,null,{"$f":"PS!C207","v":""},{"$f":"PS!D207","v":""},{"$f":"IF(PS!E207=\"\",\"\",PS!E207)","v":""},203]
[null,null,null,null,null,null,null,null,null,null,null,null,null,null,null,null,null,null,{"$f":"PS!C208","v":""},{"$f":"PS!D208","v":""},{"$f":"IF(PS!E208=\"\",\"\",PS!E208)","v":""},204]
[null,null,null,null,null,null,null,null,null,null,null,null,null,null,null,null,null,null,{"$f":"PS!C209","v":""},{"$f":"PS!D209","v":""},{"$f":"IF(PS!E209=\"\",\"\",PS!E209)","v":""},205]
[null,null,null,null,null,null,null,null,null,null,null,null,null,null,null,null,null,null,{"$f":"PS!C210","v":""},{"$f":"PS!D210","v":""},{"$f":"IF(PS!E210=\"\",\"\",PS!E210)","v":""},206]
[null,null,null,null,null,null,null,null,null,null,null,null,null,null,null,null,null,null,{"$f":"PS!C211","v":""},{"$f":"PS!D211","v":""},{"$f":"IF(PS!E211=\"\",\"\",PS!E211)","v":""},207]
[null,null,null,null,null,null,null,null,null,null,null,null,null,null,null,null,null,null,{"$f":"PS!C212","v":""},{"$f":"PS!D212","v":""},{"$f":"IF(PS!E212=\"\",\"\",PS!E212)","v":""},208]
[null,null,null,null,null,null,null,null,null,null,null,null,null,null,null,null,null,null,{"$f":"PS!C213","v":""},{"$f":"PS!D213","v":""},{"$f":"IF(PS!E213=\"\",\"\",PS!E213)","v":""},209]
[null,null,null,null,null,null,null,null,null,null,null,null,null,null,null,null,null,null,{"$f":"PS!C214","v":""},{"$f":"PS!D214","v":""},{"$f":"IF(PS!E214=\"\",\"\",PS!E214)","v":""},210]
[null,null,null,null,null,null,null,null,null,null,null,null,null,null,null,null,null,null,{"$f":"PS!C215","v":""},{"$f":"PS!D215","v":""},{"$f":"IF(PS!E215=\"\",\"\",PS!E215)","v":""},211]
[null,null,null,null,null,null,null,null,null,null,null,null,null,null,null,null,null,null,{"$f":"PS!C216","v":""},{"$f":"PS!D216","v":""},{"$f":"IF(PS!E216=\"\",\"\",PS!E216)","v":""},212]
[null,null,null,null,null,null,null,null,null,null,null,null,null,null,null,null,null,null,{"$f":"PS!C217","v":""},{"$f":"PS!D217","v":""},{"$f":"IF(PS!E217=\"\",\"\",PS!E217)","v":""},213]
[null,null,null,null,null,null,null,null,null,null,null,null,null,null,null,null,null,null,{"$f":"PS!C218","v":""},{"$f":"PS!D218","v":""},{"$f":"IF(PS!E218=\"\",\"\",PS!E218)","v":""},214]
[null,null,null,null,null,null,null,null,null,null,null,null,null,null,null,null,null,null,{"$f":"PS!C219","v":""},{"$f":"PS!D219","v":""},{"$f":"IF(PS!E219=\"\",\"\",PS!E219)","v":""},215]
[null,null,null,null,null,null,null,null,null,null,null,null,null,null,null,null,null,null,{"$f":"PS!C220","v":""},{"$f":"PS!D220","v":""},{"$f":"IF(PS!E220=\"\",\"\",PS!E220)","v":""},216]
[null,null,null,null,null,null,null,null,null,null,null,null,null,null,null,null,null,null,{"$f":"PS!C221","v":""},{"$f":"PS!D221","v":""},{"$f":"IF(PS!E221=\"\",\"\",PS!E221)","v":""},217]
[null,null,null,null,null,null,null,null,null,null,null,null,null,null,null,null,null,null,{"$f":"PS!C222","v":""},{"$f":"PS!D222","v":""},{"$f":"IF(PS!E222=\"\",\"\",PS!E222)","v":""},218]
[null,null,null,null,null,null,null,null,null,null,null,null,null,null,null,null,null,null,{"$f":"PS!C223","v":""},{"$f":"PS!D223","v":""},{"$f":"IF(PS!E223=\"\",\"\",PS!E223)","v":""},219]
[null,null,null,null,null,null,null,null,null,null,null,null,null,null,null,null,null,null,{"$f":"PS!C224","v":""},{"$f":"PS!D224","v":""},{"$f":"IF(PS!E224=\"\",\"\",PS!E224)","v":""},220]
[null,null,null,null,null,null,null,null,null,null,null,null,null,null,null,null,null,null,{"$f":"PS!C225","v":""},{"$f":"PS!D225","v":""},{"$f":"IF(PS!E225=\"\",\"\",PS!E225)","v":""},221]
[null,null,null,null,null,null,null,null,null,null,null,null,null,null,null,null,null,null,{"$f":"PS!C226","v":""},{"$f":"PS!D226","v":""},{"$f":"IF(PS!E226=\"\",\"\",PS!E226)","v":""},222]
[null,null,null,null,null,null,null,null,null,null,null,null,null,null,null,null,null,null,{"$f":"PS!C227","v":""},{"$f":"PS!D227","v":""},{"$f":"IF(PS!E227=\"\",\"\",PS!E227)","v":""},223]
[null,null,null,null,null,null,null,null,null,null,null,null,null,null,null,null,null,null,{"$f":"PS!C228","v":""},{"$f":"PS!D228","v":""},{"$f":"IF(PS!E228=\"\",\"\",PS!E228)","v":""},224]
[null,null,null,null,null,null,null,null,null,null,null,null,null,null,null,null,null,null,{"$f":"PS!C229","v":""},{"$f":"PS!D229","v":""},{"$f":"IF(PS!E229=\"\",\"\",PS!E229)","v":""},225]
[null,null,null,null,null,null,null,null,null,null,null,null,null,null,null,null,null,null,{"$f":"PS!C230","v":""},{"$f":"PS!D230","v":""},{"$f":"IF(PS!E230=\"\",\"\",PS!E230)","v":""},226]
[null,null,null,null,null,null,null,null,null,null,null,null,null,null,null,null,null,null,{"$f":"PS!C231","v":""},{"$f":"PS!D231","v":""},{"$f":"IF(PS!E231=\"\",\"\",PS!E231)","v":""},227]
[null,null,null,null,null,null,null,null,null,null,null,null,null,null,null,null,null,null,{"$f":"PS!C232","v":""},{"$f":"PS!D232","v":""},{"$f":"IF(PS!E232=\"\",\"\",PS!E232)","v":""},228]
[null,null,null,null,null,null,null,null,null,null,null,null,null,null,null,null,null,null,{"$f":"PS!C233","v":""},{"$f":"PS!D233","v":""},{"$f":"IF(PS!E233=\"\",\"\",PS!E233)","v":""},229]
[null,null,null,null,null,null,null,null,null,null,null,null,null,null,null,null,null,null,{"$f":"PS!C234","v":""},{"$f":"PS!D234","v":""},{"$f":"IF(PS!E234=\"\",\"\",PS!E234)","v":""},230]
[null,null,null,null,null,null,null,null,null,null,null,null,null,null,null,null,null,null,{"$f":"PS!C235","v":""},{"$f":"PS!D235","v":""},{"$f":"IF(PS!E235=\"\",\"\",PS!E235)","v":""},231]
[null,null,null,null,null,null,null,null,null,null,null,null,null,null,null,null,null,null,{"$f":"PS!C236","v":""},{"$f":"PS!D236","v":""},{"$f":"IF(PS!E236=\"\",\"\",PS!E236)","v":""},232]
[null,null,null,null,null,null,null,null,null,null,null,null,null,null,null,null,null,null,{"$f":"PS!C237","v":""},{"$f":"PS!D237","v":""},{"$f":"IF(PS!E237=\"\",\"\",PS!E237)","v":""},233]
[null,null,null,null,null,null,null,null,null,null,null,null,null,null,null,null,null,null,{"$f":"PS!C238","v":""},{"$f":"PS!D238","v":""},{"$f":"IF(PS!E238=\"\",\"\",PS!E238)","v":""},234]
[null,null,null,null,null,null,null,null,null,null,null,null,null,null,null,null,null,null,{"$f":"PS!C239","v":""},{"$f":"PS!D239","v":""},{"$f":"IF(PS!E239=\"\",\"\",PS!E239)","v":""},235]
[null,null,null,null,null,null,null,null,null,null,null,null,null,null,null,null,null,null,{"$f":"PS!C240","v":""},{"$f":"PS!D240","v":""},{"$f":"IF(PS!E240=\"\",\"\",PS!E240)","v":""},236]
[null,null,null,null,null,null,null,null,null,null,null,null,null,null,null,null,null,null,{"$f":"PS!C241","v":""},{"$f":"PS!D241","v":""},{"$f":"IF(PS!E241=\"\",\"\",PS!E241)","v":""},237]
[null,null,null,null,null,null,null,null,null,null,null,null,null,null,null,null,null,null,{"$f":"PS!C242","v":""},{"$f":"PS!D242","v":""},{"$f":"IF(PS!E242=\"\",\"\",PS!E242)","v":""},238]
[null,null,null,null,null,null,null,null,null,null,null,null,null,null,null,null,null,null,{"$f":"PS!C243","v":""},{"$f":"PS!D243","v":""},{"$f":"IF(PS!E243=\"\",\"\",PS!E243)","v":""},239]
[null,null,null,null,null,null,null,null,null,null,null,null,null,null,null,null,null,null,{"$f":"PS!C244","v":""},{"$f":"PS!D244","v":""},{"$f":"IF(PS!E244=\"\",\"\",PS!E244)","v":""},240]
[null,null,null,null,null,null,null,null,null,null,null,null,null,null,null,null,null,null,{"$f":"PS!C245","v":""},{"$f":"PS!D245","v":""},{"$f":"IF(PS!E245=\"\",\"\",PS!E245)","v":""},241]
[null,null,null,null,null,null,null,null,null,null,null,null,null,null,null,null,null,null,{"$f":"PS!C246","v":""},{"$f":"PS!D246","v":""},{"$f":"IF(PS!E246=\"\",\"\",PS!E246)","v":""},242]
[null,null,null,null,null,null,null,null,null,null,null,null,null,null,null,null,null,null,{"$f":"PS!C247","v":""},{"$f":"PS!D247","v":""},{"$f":"IF(PS!E247=\"\",\"\",PS!E247)","v":""},243]
[null,null,null,null,null,null,null,null,null,null,null,null,null,null,null,null,null,null,{"$f":"PS!C248","v":""},{"$f":"PS!D248","v":""},{"$f":"IF(PS!E248=\"\",\"\",PS!E248)","v":""},244]
[null,null,null,null,null,null,null,null,null,null,null,null,null,null,null,null,null,null,{"$f":"PS!C249","v":""},{"$f":"PS!D249","v":""},{"$f":"IF(PS!E249=\"\",\"\",PS!E249)","v":""},245]
[null,null,null,null,null,null,null,null,null,null,null,null,null,null,null,null,null,null,{"$f":"PS!C250","v":""},{"$f":"PS!D250","v":""},{"$f":"IF(PS!E250=\"\",\"\",PS!E250)","v":""},246]
[null,null,null,null,null,null,null,null,null,null,null,null,null,null,null,null,null,null,{"$f":"PS!C251","v":""},{"$f":"PS!D251","v":""},{"$f":"IF(PS!E251=\"\",\"\",PS!E251)","v":""},247]
[null,null,null,null,null,null,null,null,null,null,null,null,null,null,null,null,null,null,{"$f":"PS!C252","v":""},{"$f":"PS!D252","v":""},{"$f":"IF(PS!E252=\"\",\"\",PS!E252)","v":""},248]
[null,null,null,null,null,null,null,null,null,null,null,null,null,null,null,null,null,null,{"$f":"PS!C253","v":""},{"$f":"PS!D253","v":""},{"$f":"IF(PS!E253=\"\",\"\",PS!E253)","v":""},249]
[null,null,null,null,null,null,null,null,null,null,null,null,null,null,null,null,null,null,{"$f":"PS!C254","v":""},{"$f":"PS!D254","v":""},{"$f":"IF(PS!E254=\"\",\"\",PS!E254)","v":""},250]

{"sheet":"Quittung","index":11,"n_rows":22,"n_cols":16,"rows_kept":22,"cut":false,"hidden":false,"merged":[[3,11,4,12],[1,2,1,4],[2,0,2,4],[0,4,0,7],[7,10,7,12],[6,10,6,12],[8,10,8,12],[11,8,11,9],[8,13,8,14],[20,0,20,2],[8,0,8,7],[11,0,11,7],[14,0,14,7],[9,6,9,7],[20,4,20,6],[17,3,17,6],[14,8,14,9],[17,8,17,9],[9,10,9,12],[9,13,11,15]]}
[null,null,null,null,"Quittung"]
[null,null,"Schützenverein \nSoderstorf e.V.",null,null,null,null,null,null,null,null," X = Ja"]
["Internet: www.schuetzenverein.soderstorf.de ",null,null,null,null,"Netto:",55,"EUR",null,null,"mit MwSt. ?"]
[null,null,null,null,null,null,null,null,null,null,null,"sonst \"x\" entfernen!"]
[null,null,null,null,null,19,{"$f":"IF(L3=\"x\",G3*19/100,\"\")","v":""},"EUR"]
[]
["Nr.:",1,null,null,null,"Gesamt:",{"$f":"IF(G3=\"\",\"\",G3)","v":55},"EUR",null,null,"letzter eingegebener Verein"]
[null,null,null,null,null,null,null,null,null,null,"(wird automatisch gezogen aus Hauptmenü)"]
[{"$f":"IF(G3=\"\",\"\",InWorten(G7))","v":"Fünfundfünfzig"},null,null,null,null,null,null,null,null,null,{"$f":"IF($K$10>1,$K$10,IF(ISERROR(LOOKUP(2,1/(HM!B5:B204<>\"\"),HM!B5:B204)),\"\",LOOKUP(2,1/(HM!B5:B204<>\"\"),HM!B5:B204)))","v":""},null,null,"<== Formel ==>",null," =WENN($K$10>1;$K$10;WENN(ISTFEHLER(VERWEIS(2;1/(HM!B5:B204<>\"\");HM!B5:B204));\"\";VERWEIS(2;1/(HM!B5:B204<>\"\");HM!B5:B204)))"]
["Gesamtbetrag EUR in Worten",null,null,null,null,null,"Cent wie oben",null,null,null,null,null,null,"<== oder hier den Verein direkt eingeben und nach dem drucken wieder löschen!"]
[]
[{"$f":"IF(K9=\"\",\"\",CONCATENATE(\"Schützenverein \",K9))","v":""},null,null,null,null,null,null,null,"<== Formel ==>",null," =WENN(K9=\"\";\"\";VERKETTEN(\"Schützenverein \";K9))"]
["von:"]
[]
[{"$f":"CONCATENATE(\"Preis- und Pokalschießen \",TEXT(TODAY(),\"JJJJ\"),\" in Soderstorf\")","v":"Preis- und Pokalschießen 2018 in Soderstorf"},null,null,null,null,null,null,null,"<== Formel ==>",null," =VERKETTEN(\"Preis- und Pokalschießen \";TEXT(HEUTE();\"JJJJ\");\" in Soderstorf\")"]
["für:"]
[]
[null,null,null,{"$f":"CONCATENATE(\"Soderstorf, den \",TEXT(TODAY(),\"TT.MM.JJJJ\"))","v":"Soderstorf, den 13.08.2018"},null,null,null,null,"<== Formel ==>",null," =VERKETTEN(\"Soderstorf, den \";TEXT(HEUTE();\"TT.MM.JJJJ\"))"]
["dankend erhalten",null,null,"Ort, Datum"]
[]
[null,null,null,null,"                                     Rolf Marquardt"]
["Buchungsvermerke",null,null,null,"Stempel/Unterschrift"]

{"sheet":"Preisaufteilung","index":12,"n_rows":39,"n_cols":12,"rows_kept":39,"cut":false,"hidden":false,"merged":[[16,3,16,5],[0,0,0,11],[2,0,2,1],[2,2,2,3],[2,4,2,5],[2,6,2,7],[2,8,2,9],[2,10,2,11],[28,2,28,3],[36,2,36,3],[37,2,37,3],[38,2,38,3],[30,2,30,3],[31,2,31,3],[32,2,32,3],[33,2,33,3],[35,2,35,3],[34,2,34,3]]}
["Pokalschießen Preisgeldaufteilung"]
[]
["Preisgeld",null,"Luhepokal",null,"Kommandeurspokal",null,"Damenpokal",null,"Jugendpokal",null,"Schülerpokal"]
[]
[]
["Platz  1",200,"Platz  1",30,"Platz  1",30,"Platz  1",30,"Platz  1",15,"Platz  1",15]
["Platz  2",100,"Platz  2",25,"Platz  2",25,"Platz  2",25,"Platz  2",10,"Platz  2",10]
["Platz  3",75,"Platz  3",20,"Platz  3",20,"Platz  3",20]
["Platz  4",50,"Platz  4",15,"Platz  4",15,"Platz  4",15]
["Platz  5",40,"Platz  5",10,"Platz  5",10,"Platz  5",10]
["Platz  6",40,"Bestmann",10,"Bestmann",10,"Bestmann",10,"Bestmann",10,"Bestmann",10]
["Platz  7",35,null,{"$f":"SUM(D6:D11)","v":110},null,{"$f":"SUM(F6:F11)","v":110},null,{"$f":"SUM(H6:H11)","v":110},null,{"$f":"SUM(J6:J11)","v":35},null,{"$f":"SUM(L6:L11)","v":35}]
["Platz  8",30]
["Platz  9",25]
["Platz 10",25]
["Platz 11",20]
["Platz 12",15,null,"Anzahl der teilgenommenen Vereine:  ",null,null,{"$f":"HM!B2","v":0}]
["Platz 13",15]
["Platz 14",15]
["Platz 15",10]
[null,{"$f":"SUM(B6:B20)","v":695}]
[]
[]
[null,null,"Einnahme","davon 60 %","vergeben","entspricht %","Differenz zu vergeben","Gesamt- überschuss"]
[null,"Pokal:",{"$f":"SUM(HM!D2:I2)","v":0},{"$f":"IF(C25=\"\",0,C25*60/100)","v":0},{"$f":"IF(C25=0,\"\",SUM(D12,F12,H12,J12,L12))","v":""},{"$f":"IF(C25=0,0,E25/C25)","v":0},{"$f":"IF(E25=\"\",\"\",D25-E25)","v":""},{"$f":"IF(E25=\"\",\"\",C25-E25)","v":""}]
[]
[null,"Preis:",{"$f":"HM!J2","v":0},{"$f":"IF(C27=\"\",0,C27*60/100)","v":0},{"$f":"IF(C27=0,\"\",B21)","v":""},{"$f":"IF(C27=0,0,E27/C27)","v":0},{"$f":"IF(E27=\"\",\"\",D27-E27)","v":""},{"$f":"IF(E27=\"\",\"\",C27-E27)","v":""}]
[null,null,null,null,null,null,{"$f":"IF(G25=\"\",\"\",G25+G27)","v":""},{"$f":"IF(H25=\"\",\"\",H25+H27)","v":""}]
[null,null,"Gesamtausgabe:",null,{"$f":"SUM(E25:E28)","v":0}]
[null,null,null,null,null,null,30,"  Ausgaben für Pokale"]
[null,null,"Pokaleinnahme: ",null,{"$f":"C25","v":0},null,{"$f":"(HM!J3*6)+HM!K3","v":0},"  Anzahl Verkaufter Scheiben"]
[null,null,"Preisscheibenverkauf: ",null,{"$f":"C27","v":0},null,1.7500000000000002E-2,"  Preis für eine Scheibe",null,"(1000x für 17,50 EURO)"]
[null,null,"Munition: ",null,{"$f":"HM!L2","v":0},null,{"$f":"G31*G32","v":0},"  Summe"]
[null,null,"Gesamteinnahme: ",null,{"$f":"SUM(E31:E33)","v":0},null,5,"  Munitionskosten pro Schachtel"]
[null,null,"minus Munitionskosten: ",null,{"$f":"G35*G34","v":0},null,{"$f":"HM!L2/HM!D265","v":0},"  Summe Verkaufter Munition"]
[null,null,"minus Preisverteilung: ",null,{"$f":"E29","v":0}]
[null,null,"minus Scheibenkosten: ",null,{"$f":"G33","v":0}]
[null,null,"minus Pokalkosten: ",null,{"$f":"G30","v":30}]
[null,null," => => => Gewinn: ",null,{"$f":"E34-SUM(E35:E38)","v":-30}]

{"sheet":"Etikettenvorlage","index":13,"n_rows":40,"n_cols":9,"rows_kept":40,"cut":false,"hidden":false,"merged":[]}
["Art des Schießens","Platz","Vor-/ Nachname","Verein","Text","Teiler"]
["Preisschießen KK in Soderstorf","1. Platz",{"$f":"D!T3","v":""},{"$f":"D!S3","v":""},"Teiler",{"$f":"D!U3","v":""}]
["Preisschießen KK in Soderstorf","2. Platz",{"$f":"D!T4","v":""},{"$f":"D!S4","v":""},"Teiler",{"$f":"D!U4","v":""}]
["Preisschießen KK in Soderstorf","3. Platz",{"$f":"D!T5","v":""},{"$f":"D!S5","v":""},"Teiler",{"$f":"D!U5","v":""}]
["Preisschießen KK in Soderstorf","4. Platz",{"$f":"D!T6","v":""},{"$f":"D!S6","v":""},"Teiler",{"$f":"D!U6","v":""}]
["Preisschießen KK in Soderstorf","5. Platz",{"$f":"D!T7","v":""},{"$f":"D!S7","v":""},"Teiler",{"$f":"D!U7","v":""}]
["Preisschießen KK in Soderstorf","6. Platz",{"$f":"D!T8","v":""},{"$f":"D!S8","v":""},"Teiler",{"$f":"D!U8","v":""}]
["Preisschießen KK in Soderstorf","7. Platz",{"$f":"D!T9","v":""},{"$f":"D!S9","v":""},"Teiler",{"$f":"D!U9","v":""}]
["Preisschießen KK in Soderstorf","8. Platz",{"$f":"D!T10","v":""},{"$f":"D!S10","v":""},"Teiler",{"$f":"D!U10","v":""}]
["Preisschießen KK in Soderstorf","9. Platz",{"$f":"D!T11","v":""},{"$f":"D!S11","v":""},"Teiler",{"$f":"D!U11","v":""}]
["Preisschießen KK in Soderstorf","10. Platz",{"$f":"D!T12","v":""},{"$f":"D!S12","v":""},"Teiler",{"$f":"D!U12","v":""}]
["Preisschießen KK in Soderstorf","11. Platz",{"$f":"D!T13","v":""},{"$f":"D!S13","v":""},"Teiler",{"$f":"D!U13","v":""}]
["Preisschießen KK in Soderstorf","12. Platz",{"$f":"D!T14","v":""},{"$f":"D!S14","v":""},"Teiler",{"$f":"D!U14","v":""}]
["Preisschießen KK in Soderstorf","13. Platz",{"$f":"D!T15","v":""},{"$f":"D!S15","v":""},"Teiler",{"$f":"D!U15","v":""}]
["Preisschießen KK in Soderstorf","14. Platz",{"$f":"D!T16","v":""},{"$f":"D!S16","v":""},"Teiler",{"$f":"D!U16","v":""}]
["Preisschießen KK in Soderstorf","15. Platz",{"$f":"D!T17","v":""},{"$f":"D!S17","v":""},"Teiler",{"$f":"D!U17","v":""}]
["Luhepokal Bestmann",null,{"$f":"D!J3","v":""},{"$f":"D!I3","v":""},"Teiler",{"$f":"IF(D!L3=0,\"\",D!L3)","v":""},null,"Ringe","Teiler"]
["Luhepokal","1. Platz",null,{"$f":"D!A3","v":""},{"$f":"CONCATENATE(H18,\" Ringe \")","v":" Ringe "},{"$f":"CONCATENATE(\"  Teiler \",I18,)","v":"  Teiler "},null,{"$f":"IF(D!B3=0,\"\",D!B3)","v":""},{"$f":"IF(D!C3=0,\"\",D!C3)","v":""}]
["Luhepokal","2. Platz",null,{"$f":"D!A4","v":""},{"$f":"CONCATENATE(H19,\" Ringe \")","v":" Ringe "},{"$f":"CONCATENATE(\"  Teiler \",I19,)","v":"  Teiler "},null,{"$f":"IF(D!B4=0,\"\",D!B4)","v":""},{"$f":"IF(D!C4=0,\"\",D!C4)","v":""}]
["Luhepokal","3. Platz",null,{"$f":"D!A5","v":""}," Ringe ","  Teiler ",null,{"$f":"IF(D!B5=0,\"\",D!B5)","v":""},{"$f":"IF(D!C5=0,\"\",D!C5)","v":""}]
["Luhepokal","4. Platz",null,{"$f":"D!A6","v":""}," Ringe ","  Teiler ",null,{"$f":"IF(D!B6=0,\"\",D!B6)","v":""},{"$f":"IF(D!C6=0,\"\",D!C6)","v":""}]
["Luhepokal","5. Platz",null,{"$f":"D!A7","v":""}," Ringe ","  Teiler ",null,{"$f":"IF(D!B7=0,\"\",D!B7)","v":""},{"$f":"IF(D!C7=0,\"\",D!C7)","v":""}]
["Kommandeurspokal Bestmann",null,{"$f":"D!O3","v":""},{"$f":"D!N3","v":""},"Teiler",{"$f":"IF(D!Q3=0,\"\",D!Q3)","v":""}]
["Kommandeurspokal","1. Platz",null,{"$f":"D!E3","v":""},{"$f":"CONCATENATE(H24,\" Ringe \")","v":" Ringe "},{"$f":"CONCATENATE(\"  Teiler \",I24,)","v":"  Teiler "},null,{"$f":"IF(D!F3=0,\"\",D!F3)","v":""},{"$f":"IF(D!G3=0,\"\",D!G3)","v":""}]
["Kommandeurspokal","2. Platz",null,{"$f":"D!E4","v":""},{"$f":"CONCATENATE(H25,\" Ringe \")","v":" Ringe "},{"$f":"CONCATENATE(\"  Teiler \",I25,)","v":"  Teiler "},null,{"$f":"IF(D!F4=0,\"\",D!F4)","v":""},{"$f":"IF(D!G4=0,\"\",D!G4)","v":""}]
["Kommandeurspokal","3. Platz",null,{"$f":"D!E5","v":""}," Ringe ","  Teiler ",null,{"$f":"IF(D!F5=0,\"\",D!F5)","v":""},{"$f":"IF(D!G5=0,\"\",D!G5)","v":""}]
["Kommandeurspokal","4. Platz",null,{"$f":"D!E6","v":""}," Ringe ","  Teiler ",null,{"$f":"IF(D!F6=0,\"\",D!F6)","v":""},{"$f":"IF(D!G6=0,\"\",D!G6)","v":""}]
["Kommandeurspokal","5. Platz",null,{"$f":"D!E7","v":""}," Ringe ","  Teiler ",null,{"$f":"IF(D!F7=0,\"\",D!F7)","v":""},{"$f":"IF(D!G7=0,\"\",D!G7)","v":""}]
["Damenpokal Bestfrau",null,{"$f":"D!AB3","v":""},{"$f":"D!AA3","v":""},"Teiler",{"$f":"D!AD3","v":""}]
["Damenpokal","1. Platz",null,{"$f":"D!W3","v":""}," Ringe ","  Teiler ",null,{"$f":"IF(D!X3=0,\"\",D!X3)","v":""},{"$f":"IF(D!Y3=0,\"\",D!Y3)","v":""}]
["Damenpokal","2. Platz",null,{"$f":"D!W4","v":""}," Ringe ","  Teiler ",null,{"$f":"IF(D!X4=0,\"\",D!X4)","v":""},{"$f":"IF(D!Y4=0,\"\",D!Y4)","v":""}]
["Damenpokal","3. Platz",null,{"$f":"D!W5","v":""}," Ringe ","  Teiler ",null,{"$f":"IF(D!X5=0,\"\",D!X5)","v":""},{"$f":"IF(D!Y5=0,\"\",D!Y5)","v":""}]
["Damenpokal","4. Platz",null,{"$f":"D!W6","v":""}," Ringe ","  Teiler ",null,{"$f":"IF(D!X6=0,\"\",D!X6)","v":""},{"$f":"IF(D!Y6=0,\"\",D!Y6)","v":""}]
["Damenpokal","5. Platz",null,{"$f":"D!W7","v":""}," Ringe ","  Teiler ",null,{"$f":"IF(D!X7=0,\"\",D!X7)","v":""},{"$f":"IF(D!Y7=0,\"\",D!Y7)","v":""}]
["Jugendpokal Bestmann",null,{"$f":"D!AM3","v":""},{"$f":"D!AL3","v":""},"Ringe",{"$f":"IF(D!AN3=0,\"\",D!AN3)","v":""}]
["Jugendpokal","1. Platz",null,{"$f":"D!AF3","v":""}," Ringe ",null,null,{"$f":"IF(D!AG3=0,\"\",D!AG3)","v":""}]
["Jugendpokal","2. Platz",null,{"$f":"D!AF4","v":""}," Ringe ",null,null,{"$f":"IF(D!AG4=0,\"\",D!AG4)","v":""}]
["Schülerpokal Bestmann",null,{"$f":"D!AQ3","v":""},{"$f":"D!AP3","v":""},"Ringe",{"$f":"IF(D!AR3=0,\"\",D!AR3)","v":""}]
["Schülerpokal","1. Platz",null,{"$f":"D!AI3","v":""},{"$f":"CONCATENATE(H39,\" Ringe \")","v":" Ringe "},null,null,{"$f":"IF(D!AJ3=0,\"\",D!AJ3)","v":""}]
["Schülerpokal","2. Platz",null,{"$f":"D!AI4","v":""}," Ringe ",null,null,{"$f":"IF(D!AJ4=0,\"\",D!AJ4)","v":""}]

{"sheet":"EMAIL","index":14,"n_rows":63,"n_cols":3,"rows_kept":63,"cut":false,"hidden":false,"merged":[[0,0,0,2]]}
["E-Mail Adressen der Fremdvereine\n(zusätzlich für Ergebnisbenachrichtigung)"]
[]
["lfd. Nr.:","E-Mail Adresse:","Verein:"]
[1]
[2]
[3]
[4]
[5]
[6]
[7]
[8]
[9]
[10]
[11]
[12]
[13]
[14]
[15]
[16]
[17]
[18]
[19]
[20]
[21]
[22]
[23]
[24]
[25]
[26]
[27]
[28]
[29]
[30]
[31]
[32]
[33]
[34]
[35]
[36]
[37]
[38]
[39]
[40]
[41]
[42]
[43]
[44]
[45]
[46]
[47]
[48]
[49]
[50]
[51]
[52]
[53]
[54]
[55]
[56]
[57]
[58]
[59]
[60]

{"sheet":"Mannschaft Übersicht","index":15,"n_rows":20,"n_cols":11,"rows_kept":20,"cut":false,"hidden":false,"merged":[[14,1,14,7],[14,9,14,10],[16,7,19,7],[0,1,0,7],[0,9,0,10],[2,7,6,7],[7,1,7,7],[7,9,7,10],[9,7,13,7]]}
[null,"Luhepokal (Mannschaft)",null,null,null,null,null,null,null,"Preisschießen:"]
[null,"Nr:","Verein:","Name:","Ringe:","Teiler:","E. Platz:","Msch. Platz:",null,"Teiler:","jetziger Platz:"]
[null,null,{"$f":"IF(B3=\"\",\"\",IF(VLOOKUP(B3,HM!$A$5:$B$254,2,0)=0,\"\",VLOOKUP(B3,HM!$A$5:$B$254,2,0)))","v":""},{"$f":"IF(B3=\"\",\"\",IF(VLOOKUP(B3,HM!$A$5:$C$254,3,0)=0,\"Nr. nicht gepflegt\",VLOOKUP(B3,HM!$A$5:$C$254,3,0)))","v":""},{"$f":"IF(B3=\"\",\"\",IF(ISERROR(VLOOKUP(D3,D!$J$3:$K$162,2,0)),\"-\",VLOOKUP(D3,D!$J$3:$K$162,2,0)))","v":""},{"$f":"IF(B3=\"\",\"\",IF(ISERROR(VLOOKUP(D3,D!$J$3:$L$162,3,0)),\"-\",VLOOKUP(D3,D!$J$3:$L$162,3,0)))","v":""},{"$f":"IF(B3=\"\",\"\",IF(ISERROR(VLOOKUP(D3,D!$J$3:$M$162,4,0)),\"-\",VLOOKUP(D3,D!$J$3:$M$162,4,0)))","v":""},{"$f":"IF(B3=\"\",\"\",IF(D3=\"Nr. nicht gepflegt\",\"\",IF(E3=\"-\",\"\",VLOOKUP(C3,D!$A$3:$D$42,4,0))))","v":""},null,{"$f":"IF(B3=\"\",\"\",IF(ISNA(VLOOKUP(D3,D!$T$3:$U$252,2,0)),\"-\",VLOOKUP(D3,D!$T$3:$U$252,2,0)))","v":""},{"$f":"IF(B3=\"\",\"\",IF(ISNA(VLOOKUP(D3,D!$T$3:$V$252,3,0)),\"-\",VLOOKUP(D3,D!$T$3:$V$252,3,0)))","v":""}]
[null,null,{"$f":"IF(B4=\"\",\"\",IF(VLOOKUP(B4,HM!$A$5:$B$254,2,0)=0,\"\",VLOOKUP(B4,HM!$A$5:$B$254,2,0)))","v":""},{"$f":"IF(B4=\"\",\"\",IF(VLOOKUP(B4,HM!$A$5:$C$254,3,0)=0,\"Nr. nicht gepflegt\",VLOOKUP(B4,HM!$A$5:$C$254,3,0)))","v":""},{"$f":"IF(B4=\"\",\"\",IF(ISERROR(VLOOKUP(D4,D!$J$3:$K$162,2,0)),\"-\",VLOOKUP(D4,D!$J$3:$K$162,2,0)))","v":""},{"$f":"IF(B4=\"\",\"\",IF(ISERROR(VLOOKUP(D4,D!$J$3:$L$162,3,0)),\"-\",VLOOKUP(D4,D!$J$3:$L$162,3,0)))","v":""},{"$f":"IF(B4=\"\",\"\",IF(ISERROR(VLOOKUP(D4,D!$J$3:$M$162,4,0)),\"-\",VLOOKUP(D4,D!$J$3:$M$162,4,0)))","v":""},null,null,{"$f":"IF(B4=\"\",\"\",IF(ISNA(VLOOKUP(D4,D!$T$3:$U$252,2,0)),\"-\",VLOOKUP(D4,D!$T$3:$U$252,2,0)))","v":""},{"$f":"IF(B4=\"\",\"\",IF(ISNA(VLOOKUP(D4,D!$T$3:$V$252,3,0)),\"-\",VLOOKUP(D4,D!$T$3:$V$252,3,0)))","v":""}]
[null,null,{"$f":"IF(B5=\"\",\"\",IF(VLOOKUP(B5,HM!$A$5:$B$254,2,0)=0,\"\",VLOOKUP(B5,HM!$A$5:$B$254,2,0)))","v":""},{"$f":"IF(B5=\"\",\"\",IF(VLOOKUP(B5,HM!$A$5:$C$254,3,0)=0,\"Nr. nicht gepflegt\",VLOOKUP(B5,HM!$A$5:$C$254,3,0)))","v":""},{"$f":"IF(B5=\"\",\"\",IF(ISERROR(VLOOKUP(D5,D!$J$3:$K$162,2,0)),\"-\",VLOOKUP(D5,D!$J$3:$K$162,2,0)))","v":""},{"$f":"IF(B5=\"\",\"\",IF(ISERROR(VLOOKUP(D5,D!$J$3:$L$162,3,0)),\"-\",VLOOKUP(D5,D!$J$3:$L$162,3,0)))","v":""},{"$f":"IF(B5=\"\",\"\",IF(ISERROR(VLOOKUP(D5,D!$J$3:$M$162,4,0)),\"-\",VLOOKUP(D5,D!$J$3:$M$162,4,0)))","v":""},null,null,{"$f":"IF(B5=\"\",\"\",IF(ISNA(VLOOKUP(D5,D!$T$3:$U$252,2,0)),\"-\",VLOOKUP(D5,D!$T$3:$U$252,2,0)))","v":""},{"$f":"IF(B5=\"\",\"\",IF(ISNA(VLOOKUP(D5,D!$T$3:$V$252,3,0)),\"-\",VLOOKUP(D5,D!$T$3:$V$252,3,0)))","v":""}]
[null,null,{"$f":"IF(B6=\"\",\"\",IF(VLOOKUP(B6,HM!$A$5:$B$254,2,0)=0,\"\",VLOOKUP(B6,HM!$A$5:$B$254,2,0)))","v":""},{"$f":"IF(B6=\"\",\"\",IF(VLOOKUP(B6,HM!$A$5:$C$254,3,0)=0,\"Nr. nicht gepflegt\",VLOOKUP(B6,HM!$A$5:$C$254,3,0)))","v":""},{"$f":"IF(B6=\"\",\"\",IF(ISERROR(VLOOKUP(D6,D!$J$3:$K$162,2,0)),\"-\",VLOOKUP(D6,D!$J$3:$K$162,2,0)))","v":""},{"$f":"IF(B6=\"\",\"\",IF(ISERROR(VLOOKUP(D6,D!$J$3:$L$162,3,0)),\"-\",VLOOKUP(D6,D!$J$3:$L$162,3,0)))","v":""},{"$f":"IF(B6=\"\",\"\",IF(ISERROR(VLOOKUP(D6,D!$J$3:$M$162,4,0)),\"-\",VLOOKUP(D6,D!$J$3:$M$162,4,0)))","v":""},null,null,{"$f":"IF(B6=\"\",\"\",IF(ISNA(VLOOKUP(D6,D!$T$3:$U$252,2,0)),\"-\",VLOOKUP(D6,D!$T$3:$U$252,2,0)))","v":""},{"$f":"IF(B6=\"\",\"\",IF(ISNA(VLOOKUP(D6,D!$T$3:$V$252,3,0)),\"-\",VLOOKUP(D6,D!$T$3:$V$252,3,0)))","v":""}]
[null,null,null,"gesamt:",{"$f":"IF(SUM(E3:E6)=0,\"\",SUM(E3:E6))","v":""},{"$f":"IF(SUM(F3:F6)=0,\"\",MIN(F3:F6))","v":""}]
[null,"Kommandeurspokal (Mannschaft)",null,null,null,null,null,null,null,"Preisschießen:"]
[null,"Nr:","Verein:","Name:","Ringe:","Teiler:","E. Platz:","Msch. Platz:",null,"Preisteiler:","jetziger Platz:"]
[null,null,{"$f":"IF(B10=\"\",\"\",IF(VLOOKUP(B10,HM!$A$5:$B$254,2,0)=0,\"\",VLOOKUP(B10,HM!$A$5:$B$254,2,0)))","v":""},{"$f":"IF(B10=\"\",\"\",IF(VLOOKUP(B10,HM!$A$5:$C$254,3,0)=0,\"Nr. nicht gepflegt\",VLOOKUP(B10,HM!$A$5:$C$254,3,0)))","v":""},{"$f":"IF(B10=\"\",\"\",IF(ISERROR(VLOOKUP(D10,D!$O$3:$P$162,2,0)),\"-\",VLOOKUP(D10,D!$O$3:$P$162,2,0)))","v":""},{"$f":"IF(B10=\"\",\"\",IF(ISERROR(VLOOKUP(D10,D!$O$3:$Q$162,3,0)),\"-\",VLOOKUP(D10,D!$O$3:$Q$162,3,0)))","v":""},{"$f":"IF(B10=\"\",\"\",IF(ISERROR(VLOOKUP(D10,D!$O$3:$R$162,4,0)),\"-\",VLOOKUP(D10,D!$O$3:$R$162,4,0)))","v":""},{"$f":"IF(B10=\"\",\"\",IF(D10=\"Nr. nicht gepflegt\",\"\",IF(E10=\"-\",\"\",VLOOKUP(C10,D!$E$3:$H$42,4,0))))","v":""},null,{"$f":"IF(B10=\"\",\"\",IF(ISNA(VLOOKUP(D10,D!$T$3:$U$252,2,0)),\"-\",VLOOKUP(D10,D!$T$3:$U$252,2,0)))","v":""},{"$f":"IF(B10=\"\",\"\",IF(ISNA(VLOOKUP(D10,D!$T$3:$V$252,3,0)),\"-\",VLOOKUP(D10,D!$T$3:$V$252,3,0)))","v":""}]
[null,null,{"$f":"IF(B11=\"\",\"\",IF(VLOOKUP(B11,HM!$A$5:$B$254,2,0)=0,\"\",VLOOKUP(B11,HM!$A$5:$B$254,2,0)))","v":""},{"$f":"IF(B11=\"\",\"\",IF(VLOOKUP(B11,HM!$A$5:$C$254,3,0)=0,\"Nr. nicht gepflegt\",VLOOKUP(B11,HM!$A$5:$C$254,3,0)))","v":""},{"$f":"IF(B11=\"\",\"\",IF(ISERROR(VLOOKUP(D11,D!$O$3:$P$162,2,0)),\"-\",VLOOKUP(D11,D!$O$3:$P$162,2,0)))","v":""},{"$f":"IF(B11=\"\",\"\",IF(ISERROR(VLOOKUP(D11,D!$O$3:$Q$162,3,0)),\"-\",VLOOKUP(D11,D!$O$3:$Q$162,3,0)))","v":""},{"$f":"IF(B11=\"\",\"\",IF(ISERROR(VLOOKUP(D11,D!$O$3:$R$162,4,0)),\"-\",VLOOKUP(D11,D!$O$3:$R$162,4,0)))","v":""},null,null,{"$f":"IF(B11=\"\",\"\",IF(ISNA(VLOOKUP(D11,D!$T$3:$U$252,2,0)),\"-\",VLOOKUP(D11,D!$T$3:$U$252,2,0)))","v":""},{"$f":"IF(B11=\"\",\"\",IF(ISNA(VLOOKUP(D11,D!$T$3:$V$252,3,0)),\"-\",VLOOKUP(D11,D!$T$3:$V$252,3,0)))","v":""}]
[null,null,{"$f":"IF(B12=\"\",\"\",IF(VLOOKUP(B12,HM!$A$5:$B$254,2,0)=0,\"\",VLOOKUP(B12,HM!$A$5:$B$254,2,0)))","v":""},{"$f":"IF(B12=\"\",\"\",IF(VLOOKUP(B12,HM!$A$5:$C$254,3,0)=0,\"Nr. nicht gepflegt\",VLOOKUP(B12,HM!$A$5:$C$254,3,0)))","v":""},{"$f":"IF(B12=\"\",\"\",IF(ISERROR(VLOOKUP(D12,D!$O$3:$P$162,2,0)),\"-\",VLOOKUP(D12,D!$O$3:$P$162,2,0)))","v":""},{"$f":"IF(B12=\"\",\"\",IF(ISERROR(VLOOKUP(D12,D!$O$3:$Q$162,3,0)),\"-\",VLOOKUP(D12,D!$O$3:$Q$162,3,0)))","v":""},{"$f":"IF(B12=\"\",\"\",IF(ISERROR(VLOOKUP(D12,D!$O$3:$R$162,4,0)),\"-\",VLOOKUP(D12,D!$O$3:$R$162,4,0)))","v":""},null,null,{"$f":"IF(B12=\"\",\"\",IF(ISNA(VLOOKUP(D12,D!$T$3:$U$252,2,0)),\"-\",VLOOKUP(D12,D!$T$3:$U$252,2,0)))","v":""},{"$f":"IF(B12=\"\",\"\",IF(ISNA(VLOOKUP(D12,D!$T$3:$V$252,3,0)),\"-\",VLOOKUP(D12,D!$T$3:$V$252,3,0)))","v":""}]
[null,null,{"$f":"IF(B13=\"\",\"\",IF(VLOOKUP(B13,HM!$A$5:$B$254,2,0)=0,\"\",VLOOKUP(B13,HM!$A$5:$B$254,2,0)))","v":""},{"$f":"IF(B13=\"\",\"\",IF(VLOOKUP(B13,HM!$A$5:$C$254,3,0)=0,\"Nr. nicht gepflegt\",VLOOKUP(B13,HM!$A$5:$C$254,3,0)))","v":""},{"$f":"IF(B13=\"\",\"\",IF(ISERROR(VLOOKUP(D13,D!$O$3:$P$162,2,0)),\"-\",VLOOKUP(D13,D!$O$3:$P$162,2,0)))","v":""},{"$f":"IF(B13=\"\",\"\",IF(ISERROR(VLOOKUP(D13,D!$O$3:$Q$162,3,0)),\"-\",VLOOKUP(D13,D!$O$3:$Q$162,3,0)))","v":""},{"$f":"IF(B13=\"\",\"\",IF(ISERROR(VLOOKUP(D13,D!$O$3:$R$162,4,0)),\"-\",VLOOKUP(D13,D!$O$3:$R$162,4,0)))","v":""},null,null,{"$f":"IF(B13=\"\",\"\",IF(ISNA(VLOOKUP(D13,D!$T$3:$U$252,2,0)),\"-\",VLOOKUP(D13,D!$T$3:$U$252,2,0)))","v":""},{"$f":"IF(B13=\"\",\"\",IF(ISNA(VLOOKUP(D13,D!$T$3:$V$252,3,0)),\"-\",VLOOKUP(D13,D!$T$3:$V$252,3,0)))","v":""}]
[null,null,null,"gesamt:",{"$f":"IF(SUM(E10:E13)=0,\"\",SUM(E10:E13))","v":""},{"$f":"IF(SUM(F10:F13)=0,\"\",MIN(F10:F13))","v":""}]
[null,"Damenpokal (Mannschaft)",null,null,null,null,null,null,null,"Preisschießen:"]
[null,"Nr:","Verein:","Name:","Ringe:","Teiler:","E. Platz:","Msch. Platz:",null,"Preisteiler:","jetziger Platz:"]
[null,null,{"$f":"IF(B17=\"\",\"\",IF(VLOOKUP(B17,HM!$A$5:$B$254,2,0)=0,\"\",VLOOKUP(B17,HM!$A$5:$B$254,2,0)))","v":""},{"$f":"IF(B17=\"\",\"\",IF(VLOOKUP(B17,HM!$A$5:$C$254,3,0)=0,\"Nr. nicht gepflegt\",VLOOKUP(B17,HM!$A$5:$C$254,3,0)))","v":""},{"$f":"IF(B17=\"\",\"\",IF(ISERROR(VLOOKUP(D17,D!$AB$3:$AC$92,2,0)),\"-\",VLOOKUP(D17,D!$AB$3:$AC$92,2,0)))","v":""},{"$f":"IF(B17=\"\",\"\",IF(ISERROR(VLOOKUP(D17,D!$AB$3:$AD$92,3,0)),\"-\",VLOOKUP(D17,D!$AB$3:$AD$92,3,0)))","v":""},{"$f":"IF(B17=\"\",\"\",IF(ISERROR(VLOOKUP(D17,D!$AB$3:$AE$92,4,0)),\"-\",VLOOKUP(D17,D!$AB$3:$AE$92,4,0)))","v":""},{"$f":"IF(B17=\"\",\"\",IF(D17=\"Nr. nicht gepflegt\",\"\",IF(E17=\"-\",\"\",VLOOKUP(C17,D!$W$3:$Z$32,4,0))))","v":""},null,{"$f":"IF(B17=\"\",\"\",IF(ISNA(VLOOKUP(D17,D!$T$3:$U$252,2,0)),\"-\",VLOOKUP(D17,D!$T$3:$U$252,2,0)))","v":""},{"$f":"IF(B17=\"\",\"\",IF(ISNA(VLOOKUP(D17,D!$T$3:$V$252,3,0)),\"-\",VLOOKUP(D17,D!$T$3:$V$252,3,0)))","v":""}]
[null,null,{"$f":"IF(B18=\"\",\"\",IF(VLOOKUP(B18,HM!$A$5:$B$254,2,0)=0,\"\",VLOOKUP(B18,HM!$A$5:$B$254,2,0)))","v":""},{"$f":"IF(B18=\"\",\"\",IF(VLOOKUP(B18,HM!$A$5:$C$254,3,0)=0,\"Nr. nicht gepflegt\",VLOOKUP(B18,HM!$A$5:$C$254,3,0)))","v":""},{"$f":"IF(B18=\"\",\"\",IF(ISERROR(VLOOKUP(D18,D!$AB$3:$AC$92,2,0)),\"-\",VLOOKUP(D18,D!$AB$3:$AC$92,2,0)))","v":""},{"$f":"IF(B18=\"\",\"\",IF(ISERROR(VLOOKUP(D18,D!$AB$3:$AD$92,3,0)),\"-\",VLOOKUP(D18,D!$AB$3:$AD$92,3,0)))","v":""},{"$f":"IF(B18=\"\",\"\",IF(ISERROR(VLOOKUP(D18,D!$AB$3:$AE$92,4,0)),\"-\",VLOOKUP(D18,D!$AB$3:$AE$92,4,0)))","v":""},null,null,{"$f":"IF(B18=\"\",\"\",IF(ISNA(VLOOKUP(D18,D!$T$3:$U$252,2,0)),\"-\",VLOOKUP(D18,D!$T$3:$U$252,2,0)))","v":""},{"$f":"IF(B18=\"\",\"\",IF(ISNA(VLOOKUP(D18,D!$T$3:$V$252,3,0)),\"-\",VLOOKUP(D18,D!$T$3:$V$252,3,0)))","v":""}]
[null,null,{"$f":"IF(B19=\"\",\"\",IF(VLOOKUP(B19,HM!$A$5:$B$254,2,0)=0,\"\",VLOOKUP(B19,HM!$A$5:$B$254,2,0)))","v":""},{"$f":"IF(B19=\"\",\"\",IF(VLOOKUP(B19,HM!$A$5:$C$254,3,0)=0,\"Nr. nicht gepflegt\",VLOOKUP(B19,HM!$A$5:$C$254,3,0)))","v":""},{"$f":"IF(B19=\"\",\"\",IF(ISERROR(VLOOKUP(D19,D!$AB$3:$AC$92,2,0)),\"-\",VLOOKUP(D19,D!$AB$3:$AC$92,2,0)))","v":""},{"$f":"IF(B19=\"\",\"\",IF(ISERROR(VLOOKUP(D19,D!$AB$3:$AD$92,3,0)),\"-\",VLOOKUP(D19,D!$AB$3:$AD$92,3,0)))","v":""},{"$f":"IF(B19=\"\",\"\",IF(ISERROR(VLOOKUP(D19,D!$AB$3:$AE$92,4,0)),\"-\",VLOOKUP(D19,D!$AB$3:$AE$92,4,0)))","v":""},null,null,{"$f":"IF(B19=\"\",\"\",IF(ISNA(VLOOKUP(D19,D!$T$3:$U$252,2,0)),\"-\",VLOOKUP(D19,D!$T$3:$U$252,2,0)))","v":""},{"$f":"IF(B19=\"\",\"\",IF(ISNA(VLOOKUP(D19,D!$T$3:$V$252,3,0)),\"-\",VLOOKUP(D19,D!$T$3:$V$252,3,0)))","v":""}]
[null,null,null,"gesamt:",{"$f":"IF(SUM(E16:E19)=0,\"\",SUM(E16:E19))","v":""},{"$f":"IF(SUM(F16:F19)=0,\"\",MIN(F16:F19))","v":""}]