{"text_format":"1","workbook":"xlsx","n_sheets":18,"sheets":["Hauptmaske","LG-Freihand","LG-FH-Sammler","Grafik-LG FH-1","Grafik-LG FH -2","LG-Auflage","LG-AL-Sammler","Grafik-LG AL-1","Grafik-LG AL-2","Lupi","Lupi-Sammler","Grafik-Lupi-1","Grafik-Lupi-2","KK","KK-Sammler","Grafik-KK-1","Grafik-KK-2","Hilfe"],"not_rendered":{"charts":16,"images":252,"macros":1,"external_links":0,"defined_names":44,"comments":1,"pivot_tables":0},"unopened":[],"bounds":{"document_bytes":16777216,"sheet_cells":100000,"rows_first":2000,"rows_last":500,"rows_between":2000,"halvings":0,"cell_chars":16384,"cell_head_chars":4096},"cells_cut":0,"cells_raw":0,"read":"whole","date_system":"1900"}

{"sheet":"Hauptmaske","index":0,"n_rows":7,"n_cols":14,"rows_kept":7,"cut":false,"hidden":false,"merged":[[0,10,0,13],[1,14,1,16],[4,6,5,6],[4,4,5,4],[4,2,5,2],[4,8,5,8],[3,1,3,8],[2,10,3,13],[0,1,2,8]]}
["© 2015, Rolf Marquardt",{"$f":"CONCATENATE(\"Dokumentation der \nSchießergebnisse\nfür LG,LP und KK\",\"  \",A4)","v":"Dokumentation der \nSchießergebnisse\nfür LG,LP und KK  2016"}]
[]
[null,null,null,null,null,null,null,null,null,null,"Min. Teilnahme\nfür Rangliste"]
[2016,"Anzahl Schüsse pro Serien Durchgang"]
[{"$f":"TODAY()","v":"2017-11-28"},20,"Auswahl",20,"Auswahl",10,"Auswahl",10,"Auswahl",null,"FH","AL","Lupi","KK"]
["Name:","LG-Freihand",null,"LG-Auflage",null,"Luftpistole",null,"KK-Auflage",null,null,1,1,1,1]
["Testname",null,"x",null,"x",null,"x",null,"x"]

{"sheet":"LG-Freihand","index":1,"n_rows":117,"n_cols":240,"rows_kept":117,"cut":false,"hidden":false,"merged":[[6,192,6,197],[6,198,6,203],[6,204,6,209],[6,210,6,215],[6,216,6,221],[6,222,6,227],[6,228,6,233],[6,234,6,239],[5,224,5,225],[5,192,5,193],[5,194,5,195],[5,198,5,199],[5,200,5,201],[5,204,5,205],[5,206,5,207],[5,210,5,211],[5,228,5,229],[5,230,5,231],[5,234,5,235],[5,212,5,213],[5,216,5,217],[5,218,5,219],[5,222,5,223],[5,236,5,237],[3,238,3,239],[4,192,4,193],[4,194,4,195],[4,196,4,197],[4,198,4,199],[4,200,4,201],[4,226,4,227],[4,228,4,229],[4,230,4,231],[4,232,4,233],[4,218,4,219],[4,220,4,221],[4,222,4,223],[4,224,4,225],[4,234,4,235],[4,236,4,237],[4,238,4,239],[3,210,3,211],[3,232,3,233],[3,234,3,235],[3,216,3,217],[3,220,3,221],[3,222,3,223],[3,226,3,227],[1,234,1,239],[2,192,2,193],[2,196,2,197],[2,198,2,199],[2,202,2,203],[2,204,2,205],[2,232,2,233],[2,234,2,235],[2,238,2,239],[1,222,1,227],[1,228,1,233],[2,216,2,217],[1,216,1,221],[2,220,2,221],[2,222,2,223],[2,226,2,227],[2,228,2,229],[1,192,1,197],[1,198,1,203],[1,204,1,209],[3,228,3,229],[4,190,4,191],[4,188,4,189],[2,208,2,209],[2,210,2,211],[2,214,2,215],[1,210,1,215],[3,192,3,193],[3,196,3,197],[3,198,3,199],[3,202,3,203],[3,204,3,205],[3,208,3,209],[4,202,4,203],[4,204,4,205],[4,206,4,207],[4,208,4,209],[4,210,4,211],[4,212,4,213],[4,214,4,215],[3,214,3,215],[4,216,4,217],[5,182,5,183],[5,186,5,187],[5,188,5,189],[6,96,6,101],[6,102,6,107],[6,108,6,113],[6,114,6,119],[6,120,6,125],[6,126,6,131],[6,132,6,137],[6,162,6,167],[6,168,6,173],[6,174,6,179],[6,180,6,185],[6,138,6,143],[6,144,6,149],[6,150,6,155],[6,156,6,161],[6,186,6,191],[4,182,4,183],[4,184,4,185],[4,186,4,187],[4,174,4,175],[4,176,4,177],[4,178,4,179],[4,180,4,181],[5,122,5,123],[5,126,5,127],[5,128,5,129],[5,132,5,133],[5,146,5,147],[5,150,5,151],[5,152,5,153],[5,156,5,157],[5,134,5,135],[5,138,5,139],[5,140,5,141],[5,144,5,145],[5,170,5,171],[5,174,5,175],[5,176,5,177],[5,180,5,181],[5,158,5,159],[4,166,4,167],[4,168,4,169],[4,170,4,171],[4,172,4,173],[4,158,4,159],[4,160,4,161],[4,162,4,163],[4,164,4,165],[5,114,5,115],[5,116,5,117],[5,120,5,121],[5,162,5,163],[5,164,5,165],[5,168,5,169],[4,128,4,129],[4,130,4,131],[4,132,4,133],[4,150,4,151],[4,152,4,153],[4,154,4,155],[4,156,4,157],[4,142,4,143],[4,144,4,145],[4,146,4,147],[4,148,4,149],[3,168,3,169],[3,184,3,185],[3,186,3,187],[3,190,3,191],[4,96,4,97],[4,98,4,99],[4,100,4,101],[4,102,4,103],[4,104,4,105],[4,106,4,107],[4,108,4,109],[4,118,4,119],[4,120,4,121],[4,122,4,123],[4,124,4,125],[4,110,4,111],[4,112,4,113],[4,114,4,115],[4,116,4,117],[4,134,4,135],[4,136,4,137],[4,138,4,139],[4,140,4,141],[4,126,4,127],[2,184,2,185],[2,186,2,187],[2,190,2,191],[3,96,3,97],[3,100,3,101],[3,102,3,103],[3,106,3,107],[3,108,3,109],[3,112,3,113],[3,114,3,115],[3,118,3,119],[3,150,3,151],[3,154,3,155],[3,156,3,157],[3,132,3,133],[3,136,3,137],[3,130,3,131],[3,172,3,173],[3,174,3,175],[3,178,3,179],[3,180,3,181],[3,160,3,161],[3,162,3,163],[3,166,3,167],[1,132,1,137],[2,172,2,173],[2,174,2,175],[2,178,2,179],[2,180,2,181],[2,160,2,161],[2,162,2,163],[2,166,2,167],[2,168,2,169],[1,144,1,149],[2,144,2,145],[2,148,2,149],[3,138,3,139],[3,142,3,143],[3,144,3,145],[3,148,3,149],[1,138,1,143],[2,132,2,133],[2,136,2,137],[2,138,2,139],[2,142,2,143],[6,48,6,53],[6,54,6,59],[6,60,6,65],[6,66,6,71],[6,72,6,77],[1,180,1,185],[1,186,1,191],[6,90,6,95],[1,150,1,155],[1,156,1,161],[1,162,1,167],[2,96,2,97],[2,100,2,101],[2,102,2,103],[2,106,2,107],[2,114,2,115],[2,150,2,151],[2,154,2,155],[2,156,2,157],[1,168,1,173],[1,174,1,179],[1,120,1,125],[2,120,2,121],[2,124,2,125],[6,78,6,83],[6,84,6,89],[5,74,5,75],[5,78,5,79],[5,80,5,81],[5,84,5,85],[2,108,2,109],[2,112,2,113],[5,86,5,87],[5,90,5,91],[5,92,5,93],[5,96,5,97],[5,98,5,99],[5,102,5,103],[5,104,5,105],[5,108,5,109],[5,110,5,111],[4,92,4,93],[4,78,4,79],[4,80,4,81],[4,82,4,83],[4,84,4,85],[4,94,4,95],[4,74,4,75],[5,48,5,49],[5,50,5,51],[5,54,5,55],[5,56,5,57],[5,60,5,61],[5,62,5,63],[5,66,5,67],[5,68,5,69],[5,72,5,73],[4,76,4,77],[4,62,4,63],[4,64,4,65],[4,66,4,67],[4,68,4,69],[4,86,4,87],[4,88,4,89],[4,90,4,91],[4,48,4,49],[4,50,4,51],[4,52,4,53],[4,54,4,55],[4,56,4,57],[4,58,4,59],[4,60,4,61],[4,70,4,71],[4,72,4,73],[2,90,2,91],[2,70,2,71],[2,72,2,73],[2,76,2,77],[2,78,2,79],[2,94,2,95],[3,48,3,49],[3,52,3,53],[3,54,3,55],[3,58,3,59],[3,60,3,61],[3,64,3,65],[3,66,3,67],[3,70,3,71],[2,82,2,83],[3,88,3,89],[3,90,3,91],[3,94,3,95],[3,78,3,79],[3,82,3,83],[3,84,3,85],[1,0,1,5],[1,6,1,11],[2,6,2,7],[2,10,2,11],[5,6,5,7],[5,8,5,9],[4,0,4,1],[4,2,4,3],[6,0,6,5],[2,0,2,1],[5,0,5,1],[3,0,3,1],[2,4,2,5],[4,4,4,5],[3,4,3,5],[5,2,5,3],[6,6,6,11],[4,6,4,7],[4,8,4,9],[4,10,4,11],[3,6,3,7],[3,10,3,11],[1,12,1,17],[1,18,1,23],[2,12,2,13],[2,16,2,17],[2,18,2,19],[2,22,2,23],[3,22,3,23],[4,12,4,13],[4,14,4,15],[3,12,3,13],[6,12,6,17],[6,18,6,23],[5,12,5,13],[5,14,5,15],[5,18,5,19],[5,20,5,21],[4,16,4,17],[4,18,4,19],[4,20,4,21],[4,22,4,23],[1,102,1,107],[2,34,2,35],[2,36,2,37],[1,24,1,29],[1,30,1,35],[1,36,1,41],[1,42,1,47],[3,16,3,17],[3,18,3,19],[1,96,1,101],[1,72,1,77],[1,78,1,83],[1,84,1,89],[1,90,1,95],[1,48,1,53],[1,54,1,59],[2,60,2,61],[2,64,2,65],[2,66,2,67],[2,84,2,85],[2,52,2,53],[2,54,2,55],[2,58,2,59],[2,88,2,89],[2,40,2,41],[2,42,2,43],[2,46,2,47],[1,60,1,65],[1,66,1,71],[2,48,2,49],[2,24,2,25],[2,28,2,29],[2,30,2,31],[3,40,3,41],[3,42,3,43],[3,46,3,47],[3,72,3,73],[3,76,3,77],[3,24,3,25],[3,28,3,29],[3,30,3,31],[3,34,3,35],[3,36,3,37],[1,126,1,131],[2,126,2,127],[2,130,2,131],[3,120,3,121],[3,124,3,125],[3,126,3,127],[1,108,1,113],[1,114,1,119],[2,118,2,119],[4,36,4,37],[4,38,4,39],[4,40,4,41],[4,42,4,43],[4,44,4,45],[4,46,4,47],[4,24,4,25],[4,26,4,27],[4,28,4,29],[4,30,4,31],[4,32,4,33],[4,34,4,35],[5,42,5,43],[5,44,5,45],[6,24,6,29],[6,30,6,35],[6,36,6,41],[6,42,6,47],[5,24,5,25],[5,26,5,27],[5,30,5,31],[5,32,5,33],[5,36,5,37],[5,38,5,39]]}
[{"$f":"IF(Hauptmaske!$B$5=\"\",10,Hauptmaske!$B$5)","v":20}]
[{"$f":"Hauptmaske!$B$6","v":"LG-Freihand"},null,null,null,null,null,{"$f":"Hauptmaske!$B$6","v":"LG-Freihand"},null,null,null,null,null,{"$f":"Hauptmaske!$B$6","v":"LG-Freihand"},null,null,null,null,null,{"$f":"Hauptmaske!$B$6","v":"LG-Freihand"},null,null,null,null,null,{"$f":"Hauptmaske!$B$6","v":"LG-Freihand"},null,null,null,null,null,{"$f":"Hauptmaske!$B$6","v":"LG-Freihand"},null,null,null,null,null,{"$f":"Hauptmaske!$B$6","v":"LG-Freihand"},null,null,null,null,null,{"$f":"Hauptmaske!$B$6","v":"LG-Freihand"},null,null,null,null,null,{"$f":"Hauptmaske!$B$6","v":"LG-Freihand"},null,null,null,null,null,{"$f":"Hauptmaske!$B$6","v":"LG-Freihand"},null,null,null,null,null,{"$f":"Hauptmaske!$B$6","v":"LG-Freihand"},null,null,null,null,null,{"$f":"Hauptmaske!$B$6","v":"LG-Freihand"},null,null,null,null,null,{"$f":"Hauptmaske!$B$6","v":"LG-Freihand"},null,null,null,null,null,{"$f":"Hauptmaske!$B$6","v":"LG-Freihand"},null,null,null,null,null,{"$f":"Hauptmaske!$B$6","v":"LG-Freihand"},null,null,null,null,null,{"$f":"Hauptmaske!$B$6","v":"LG-Freihand"},null,null,null,null,null,{"$f":"Hauptmaske!$B$6","v":"LG-Freihand"},null,null,null,null,null,{"$f":"Hauptmaske!$B$6","v":"LG-Freihand"},null,null,null,null,null,{"$f":"Hauptmaske!$B$6","v":"LG-Freihand"},null,null,null,null,null,{"$f":"Hauptmaske!$B$6","v":"LG-Freihand"},null,null,null,null,null,{"$f":"Hauptmaske!$B$6","v":"LG-Freihand"},null,null,null,null,null,{"$f":"Hauptmaske!$B$6","v":"LG-Freihand"},null,null,null,null,null,{"$f":"Hauptmaske!$B$6","v":"LG-Freihand"},null,null,null,null,null,{"$f":"Hauptmaske!$B$6","v":"LG-Freihand"},null,null,null,null,null,{"$f":"Hauptmaske!$B$6","v":"LG-Freihand"},null,null,null,null,null,{"$f":"Hauptmaske!$B$6","v":"LG-Freihand"},null,null,null,null,null,{"$f":"Hauptmaske!$B$6","v":"LG-Freihand"},null,null,null,null,null,{"$f":"Hauptmaske!$B$6","v":"LG-Freihand"},null,null,null,null,null,{"$f":"Hauptmaske!$B$6","v":"LG-Freihand"},null,null,null,null,null,{"$f":"Hauptmaske!$B$6","v":"LG-Freihand"},null,null,null,null,null,{"$f":"Hauptmaske!$B$6","v":"LG-Freihand"},null,null,null,null,null,{"$f":"Hauptmaske!$B$6","v":"LG-Freihand"},null,null,null,null,null,{"$f":"Hauptmaske!$B$6","v":"LG-Freihand"},null,null,null,null,null,{"$f":"Hauptmaske!$B$6","v":"LG-Freihand"},null,null,null,null,null,{"$f":"Hauptmaske!$B$6","v":"LG-Freihand"},null,null,null,null,null,{"$f":"Hauptmaske!$B$6","v":"LG-Freihand"},null,null,null,null,null,{"$f":"Hauptmaske!$B$6","v":"LG-Freihand"},null,null,null,null,null,{"$f":"Hauptmaske!$B$6","v":"LG-Freihand"},null,null,null,null,null,{"$f":"Hauptmaske!$B$6","v":"LG-Freihand"},null,null,null,null,null,{"$f":"Hauptmaske!$B$6","v":"LG-Freihand"}]
["Bestes\nErgebnis",null,"Beste\nEinzelserie","Teilnahmen","Mittelwert\nges. Ergebnis",null,"Bestes\nErgebnis",null,"Beste\nEinzelserie","Teilnahmen","Mittelwert\nges. Ergebnis",null,"Bestes\nErgebnis",null,"Beste\nEinzelserie","Teilnahmen","Mittelwert\nges. Ergebnis",null,"Bestes\nErgebnis",null,"Beste\nEinzelserie","Teilnahmen","Mittelwert\nges. Ergebnis",null,"Bestes\nErgebnis",null,"Beste\nEinzelserie","Teilnahmen","Mittelwert\nges. Ergebnis",null,"Bestes\nErgebnis",null,"Beste\nEinzelserie","Teilnahmen","Mittelwert\nges. Ergebnis",null,"Bestes\nErgebnis",null,"Beste\nEinzelserie","Teilnahmen","Mittelwert\nges. Ergebnis",null,"Bestes\nErgebnis",null,"Beste\nEinzelserie","Teilnahmen","Mittelwert\nges. Ergebnis",null,"Bestes\nErgebnis",null,"Beste\nEinzelserie","Teilnahmen","Mittelwert\nges. Ergebnis",null,"Bestes\nErgebnis",null,"Beste\nEinzelserie","Teilnahmen","Mittelwert\nges. Ergebnis",null,"Bestes\nErgebnis",null,"Beste\nEinzelserie","Teilnahmen","Mittelwert\nges. Ergebnis",null,"Bestes\nErgebnis",null,"Beste\nEinzelserie","Teilnahmen","Mittelwert\nges. Ergebnis",null,"Bestes\nErgebnis",null,"Beste\nEinzelserie","Teilnahmen","Mittelwert\nges. Ergebnis",null,"Bestes\nErgebnis",null,"Beste\nEinzelserie","Teilnahmen","Mittelwert\nges. Ergebnis",null,"Bestes\nErgebnis",null,"Beste\nEinzelserie","Teilnahmen","Mittelwert\nges. Ergebnis",null,"Bestes\nErgebnis",null,"Beste\nEinzelserie","Teilnahmen","Mittelwert\nges. Ergebnis",null,"Bestes\nErgebnis",null,"Beste\nEinzelserie","Teilnahmen","Mittelwert\nges. Ergebnis",null,"Bestes\nErgebnis",null,"Beste\nEinzelserie","Teilnahmen","Mittelwert\nges. Ergebnis",null,"Bestes\nErgebnis",null,"Beste\nEinzelserie","Teilnahmen","Mittelwert\nges. Ergebnis",null,"Bestes\nErgebnis",null,"Beste\nEinzelserie","Teilnahmen","Mittelwert\nges. Ergebnis",null,"Bestes\nErgebnis",null,"Beste\nEinzelserie","Teilnahmen","Mittelwert\nges. Ergebnis",null,"Bestes\nErgebnis",null,"Beste\nEinzelserie","Teilnahmen","Mittelwert\nges. Ergebnis",null,"Bestes\nErgebnis",null,"Beste\nEinzelserie","Teilnahmen","Mittelwert\nges. Ergebnis",null,"Bestes\nErgebnis",null,"Beste\nEinzelserie","Teilnahmen","Mittelwert\nges. Ergebnis",null,"Bestes\nErgebnis",null,"Beste\nEinzelserie","Teilnahmen","Mittelwert\nges. Ergebnis",null,"Bestes\nErgebnis",null,"Beste\nEinzelserie","Teilnahmen","Mittelwert\nges. Ergebnis",null,"Bestes\nErgebnis",null,"Beste\nEinzelserie","Teilnahmen","Mittelwert\nges. Ergebnis",null,"Bestes\nErgebnis",null,"Beste\nEinzelserie","Teilnahmen","Mittelwert\nges. Ergebnis",null,"Bestes\nErgebnis",null,"Beste\nEinzelserie","Teilnahmen","Mittelwert\nges. Ergebnis",null,"Bestes\nErgebnis",null,"Beste\nEinzelserie","Teilnahmen","Mittelwert\nges. Ergebnis",null,"Bestes\nErgebnis",null,"Beste\nEinzelserie","Teilnahmen","Mittelwert\nges. Ergebnis",null,"Bestes\nErgebnis",null,"Beste\nEinzelserie","Teilnahmen","Mittelwert\nges. Ergebnis",null,"Bestes\nErgebnis",null,"Beste\nEinzelserie","Teilnahmen","Mittelwert\nges. Ergebnis",null,"Bestes\nErgebnis",null,"Beste\nEinzelserie","Teilnahmen","Mittelwert\nges. Ergebnis",null,"Bestes\nErgebnis",null,"Beste\nEinzelserie","Teilnahmen","Mittelwert\nges. Ergebnis",null,"Bestes\nErgebnis",null,"Beste\nEinzelserie","Teilnahmen","Mittelwert\nges. Ergebnis",null,"Bestes\nErgebnis",null,"Beste\nEinzelserie","Teilnahmen","Mittelwert\nges. Ergebnis",null,"Bestes\nErgebnis",null,"Beste\nEinzelserie","Teilnahmen","Mittelwert\nges. Ergebnis",null,"Bestes\nErgebnis",null,"Beste\nEinzelserie","Teilnahmen","Mittelwert\nges. Ergebnis",null,"Bestes\nErgebnis",null,"Beste\nEinzelserie","Teilnahmen","Mittelwert\nges. Ergebnis"]
[{"$f":"IF(A9=\"\",\"\",MAX(F9:F117))","v":0},null,{"$f":"IF(A9=\"\",\"\",MAX(B9:E117))","v":0},{"$f":"IF(A9=\"\",\"\",COUNT(A9:A117))","v":1},{"$f":"IF(A9=\"\",\"\",AVERAGE(F9:F117))","v":0},null,{"$f":"IF(G9=\"\",\"\",MAX(L9:L117))","v":""},null,{"$f":"IF(G9=\"\",\"\",MAX(H9:K117))","v":""},{"$f":"IF(G9=\"\",\"\",COUNT(G9:G117))","v":""},{"$f":"IF(G9=\"\",\"\",AVERAGE(L9:L117))","v":""},null,{"$f":"IF(M9=\"\",\"\",MAX(R9:R117))","v":""},null,{"$f":"IF(M9=\"\",\"\",MAX(N9:Q117))","v":""},{"$f":"IF(M9=\"\",\"\",COUNT(M9:M117))","v":""},{"$f":"IF(M9=\"\",\"\",AVERAGE(R9:R117))","v":""},null,{"$f":"IF(S9=\"\",\"\",MAX(X9:X117))","v":""},null,{"$f":"IF(S9=\"\",\"\",MAX(T9:W117))","v":""},{"$f":"IF(S9=\"\",\"\",COUNT(S9:S117))","v":""},{"$f":"IF(S9=\"\",\"\",AVERAGE(X9:X117))","v":""},null,{"$f":"IF(Y9=\"\",\"\",MAX(AD9:AD117))","v":""},null,{"$f":"IF(Y9=\"\",\"\",MAX(Z9:AC117))","v":""},{"$f":"IF(Y9=\"\",\"\",COUNT(Y9:Y117))","v":""},{"$f":"IF(Y9=\"\",\"\",AVERAGE(AD9:AD117))","v":""},null,{"$f":"IF(AE9=\"\",\"\",MAX(AJ9:AJ117))","v":""},null,{"$f":"IF(AE9=\"\",\"\",MAX(AF9:AI117))","v":""},{"$f":"IF(AE9=\"\",\"\",COUNT(AE9:AE117))","v":""},{"$f":"IF(AE9=\"\",\"\",AVERAGE(AJ9:AJ117))","v":""},null,{"$f":"IF(AK9=\"\",\"\",MAX(AP9:AP117))","v":""},null,{"$f":"IF(AK9=\"\",\"\",MAX(AL9:AO117))","v":""},{"$f":"IF(AK9=\"\",\"\",COUNT(AK9:AK117))","v":""},{"$f":"IF(AK9=\"\",\"\",AVERAGE(AP9:AP117))","v":""},null,{"$f":"IF(AQ9=\"\",\"\",MAX(AV9:AV117))","v":""},null,{"$f":"IF(AQ9=\"\",\"\",MAX(AR9:AU117))","v":""},{"$f":"IF(AQ9=\"\",\"\",COUNT(AQ9:AQ117))","v":""},{"$f":"IF(AQ9=\"\",\"\",AVERAGE(AV9:AV117))","v":""},null,{"$f":"IF(AW9=\"\",\"\",MAX(BB9:BB117))","v":""},null,{"$f":"IF(AW9=\"\",\"\",MAX(AX9:BA117))","v":""},{"$f":"IF(AW9=\"\",\"\",COUNT(AW9:AW117))","v":""},{"$f":"IF(AW9=\"\",\"\",AVERAGE(BB9:BB117))","v":""},null,{"$f":"IF(BC9=\"\",\"\",MAX(BH9:BH117))","v":""},null,{"$f":"IF(BC9=\"\",\"\",MAX(BD9:BG117))","v":""},{"$f":"IF(BC9=\"\",\"\",COUNT(BC9:BC117))","v":""},{"$f":"IF(BC9=\"\",\"\",AVERAGE(BH9:BH117))","v":""},null,{"$f":"IF(BI9=\"\",\"\",MAX(BN9:BN117))","v":""},null,{"$f":"IF(BI9=\"\",\"\",MAX(BJ9:BM117))","v":""},{"$f":"IF(BI9=\"\",\"\",COUNT(BI9:BI117))","v":""},{"$f":"IF(BI9=\"\",\"\",AVERAGE(BN9:BN117))","v":""},null,{"$f":"IF(BO9=\"\",\"\",MAX(BT9:BT117))","v":""},null,{"$f":"IF(BO9=\"\",\"\",MAX(BP9:BS117))","v":""},{"$f":"IF(BO9=\"\",\"\",COUNT(BO9:BO117))","v":""},{"$f":"IF(BO9=\"\",\"\",AVERAGE(BT9:BT117))","v":""},null,{"$f":"IF(BU9=\"\",\"\",MAX(BZ9:BZ117))","v":""},null,{"$f":"IF(BU9=\"\",\"\",MAX(BV9:BY117))","v":""},{"$f":"IF(BU9=\"\",\"\",COUNT(BU9:BU117))","v":""},{"$f":"IF(BU9=\"\",\"\",AVERAGE(BZ9:BZ117))","v":""},null,{"$f":"IF(CA9=\"\",\"\",MAX(CF9:CF117))","v":""},null,{"$f":"IF(CA9=\"\",\"\",MAX(CB9:CE117))","v":""},{"$f":"IF(CA9=\"\",\"\",COUNT(CA9:CA117))","v":""},{"$f":"IF(CA9=\"\",\"\",AVERAGE(CF9:CF117))","v":""},null,{"$f":"IF(CG9=\"\",\"\",MAX(CL9:CL117))","v":""},null,{"$f":"IF(CG9=\"\",\"\",MAX(CH9:CK117))","v":""},{"$f":"IF(CG9=\"\",\"\",COUNT(CG9:CG117))","v":""},{"$f":"IF(CG9=\"\",\"\",AVERAGE(CL9:CL117))","v":""},null,{"$f":"IF(CM9=\"\",\"\",MAX(CR9:CR117))","v":""},null,{"$f":"IF(CM9=\"\",\"\",MAX(CN9:CQ117))","v":""},{"$f":"IF(CM9=\"\",\"\",COUNT(CM9:CM117))","v":""},{"$f":"IF(CM9=\"\",\"\",AVERAGE(CR9:CR117))","v":""},null,{"$f":"IF(CS9=\"\",\"\",MAX(CX9:CX117))","v":""},null,{"$f":"IF(CS9=\"\",\"\",MAX(CT9:CW117))","v":""},{"$f":"IF(CS9=\"\",\"\",COUNT(CS9:CS117))","v":""},{"$f":"IF(CS9=\"\",\"\",AVERAGE(CX9:CX117))","v":""},null,{"$f":"IF(CY9=\"\",\"\",MAX(DD9:DD117))","v":""},null,{"$f":"IF(CY9=\"\",\"\",MAX(CZ9:DC117))","v":""},{"$f":"IF(CY9=\"\",\"\",COUNT(CY9:CY117))","v":""},{"$f":"IF(CY9=\"\",\"\",AVERAGE(DD9:DD117))","v":""},null,{"$f":"IF(DE9=\"\",\"\",MAX(DJ9:DJ117))","v":""},null,{"$f":"IF(DE9=\"\",\"\",MAX(DF9:DI117))","v":""},{"$f":"IF(DE9=\"\",\"\",COUNT(DE9:DE117))","v":""},{"$f":"IF(DE9=\"\",\"\",AVERAGE(DJ9:DJ117))","v":""},null,{"$f":"IF(DK9=\"\",\"\",MAX(DP9:DP117))","v":""},null,{"$f":"IF(DK9=\"\",\"\",MAX(DL9:DO117))","v":""},{"$f":"IF(DK9=\"\",\"\",COUNT(DK9:DK117))","v":""},{"$f":"IF(DK9=\"\",\"\",AVERAGE(DP9:DP117))","v":""},null,{"$f":"IF(DQ9=\"\",\"\",MAX(DV9:DV117))","v":""},null,{"$f":"IF(DQ9=\"\",\"\",MAX(DR9:DU117))","v":""},{"$f":"IF(DQ9=\"\",\"\",COUNT(DQ9:DQ117))","v":""},{"$f":"IF(DQ9=\"\",\"\",AVERAGE(DV9:DV117))","v":""},null,{"$f":"IF(DW9=\"\",\"\",MAX(EB9:EB117))","v":""},null,{"$f":"IF(DW9=\"\",\"\",MAX(DX9:EA117))","v":""},{"$f":"IF(DW9=\"\",\"\",COUNT(DW9:DW117))","v":""},{"$f":"IF(DW9=\"\",\"\",AVERAGE(EB9:EB117))","v":""},null,{"$f":"IF(EC9=\"\",\"\",MAX(EH9:EH117))","v":""},null,{"$f":"IF(EC9=\"\",\"\",MAX(ED9:EG117))","v":""},{"$f":"IF(EC9=\"\",\"\",COUNT(EC9:EC117))","v":""},{"$f":"IF(EC9=\"\",\"\",AVERAGE(EH9:EH117))","v":""},null,{"$f":"IF(EI9=\"\",\"\",MAX(EN9:EN117))","v":""},null,{"$f":"IF(EI9=\"\",\"\",MAX(EJ9:EM117))","v":""},{"$f":"IF(EI9=\"\",\"\",COUNT(EI9:EI117))","v":""},{"$f":"IF(EI9=\"\",\"\",AVERAGE(EN9:EN117))","v":""},null,{"$f":"IF(EO9=\"\",\"\",MAX(ET9:ET117))","v":""},null,{"$f":"IF(EO9=\"\",\"\",MAX(EP9:ES117))","v":""},{"$f":"IF(EO9=\"\",\"\",COUNT(EO9:EO117))","v":""},{"$f":"IF(EO9=\"\",\"\",AVERAGE(ET9:ET117))","v":""},null,{"$f":"IF(EU9=\"\",\"\",MAX(EZ9:EZ117))","v":""},null,{"$f":"IF(EU9=\"\",\"\",MAX(EV9:EY117))","v":""},{"$f":"IF(EU9=\"\",\"\",COUNT(EU9:EU117))","v":""},{"$f":"IF(EU9=\"\",\"\",AVERAGE(EZ9:EZ117))","v":""},null,{"$f":"IF(FA9=\"\",\"\",MAX(FF9:FF117))","v":""},null,{"$f":"IF(FA9=\"\",\"\",MAX(FB9:FE117))","v":""},{"$f":"IF(FA9=\"\",\"\",COUNT(FA9:FA117))","v":""},{"$f":"IF(FA9=\"\",\"\",AVERAGE(FF9:FF117))","v":""},null,{"$f":"IF(FG9=\"\",\"\",MAX(FL9:FL117))","v":""},null,{"$f":"IF(FG9=\"\",\"\",MAX(FH9:FK117))","v":""},{"$f":"IF(FG9=\"\",\"\",COUNT(FG9:FG117))","v":""},{"$f":"IF(FG9=\"\",\"\",AVERAGE(FL9:FL117))","v":""},null,{"$f":"IF(FM9=\"\",\"\",MAX(FR9:FR117))","v":""},null,{"$f":"IF(FM9=\"\",\"\",MAX(FN9:FQ117))","v":""},{"$f":"IF(FM9=\"\",\"\",COUNT(FM9:FM117))","v":""},{"$f":"IF(FM9=\"\",\"\",AVERAGE(FR9:FR117))","v":""},null,{"$f":"IF(FS9=\"\",\"\",MAX(FX9:FX117))","v":""},null,{"$f":"IF(FS9=\"\",\"\",MAX(FT9:FW117))","v":""},{"$f":"IF(FS9=\"\",\"\",COUNT(FS9:FS117))","v":""},{"$f":"IF(FS9=\"\",\"\",AVERAGE(FX9:FX117))","v":""},null,{"$f":"IF(FY9=\"\",\"\",MAX(GD9:GD117))","v":""},null,{"$f":"IF(FY9=\"\",\"\",MAX(FZ9:GC117))","v":""},{"$f":"IF(FY9=\"\",\"\",COUNT(FY9:FY117))","v":""},{"$f":"IF(FY9=\"\",\"\",AVERAGE(GD9:GD117))","v":""},null,{"$f":"IF(GE9=\"\",\"\",MAX(GJ9:GJ117))","v":""},null,{"$f":"IF(GE9=\"\",\"\",MAX(GF9:GI117))","v":""},{"$f":"IF(GE9=\"\",\"\",COUNT(GE9:GE117))","v":""},{"$f":"IF(GE9=\"\",\"\",AVERAGE(GJ9:GJ117))","v":""},null,{"$f":"IF(GK9=\"\",\"\",MAX(GP9:GP117))","v":""},null,{"$f":"IF(GK9=\"\",\"\",MAX(GL9:GO117))","v":""},{"$f":"IF(GK9=\"\",\"\",COUNT(GK9:GK117))","v":""},{"$f":"IF(GK9=\"\",\"\",AVERAGE(GP9:GP117))","v":""},null,{"$f":"IF(GQ9=\"\",\"\",MAX(GV9:GV117))","v":""},null,{"$f":"IF(GQ9=\"\",\"\",MAX(GR9:GU117))","v":""},{"$f":"IF(GQ9=\"\",\"\",COUNT(GQ9:GQ117))","v":""},{"$f":"IF(GQ9=\"\",\"\",AVERAGE(GV9:GV117))","v":""},null,{"$f":"IF(GW9=\"\",\"\",MAX(HB9:HB117))","v":""},null,{"$f":"IF(GW9=\"\",\"\",MAX(GX9:HA117))","v":""},{"$f":"IF(GW9=\"\",\"\",COUNT(GW9:GW117))","v":""},{"$f":"IF(GW9=\"\",\"\",AVERAGE(HB9:HB117))","v":""},null,{"$f":"IF(HC9=\"\",\"\",MAX(HH9:HH117))","v":""},null,{"$f":"IF(HC9=\"\",\"\",MAX(HD9:HG117))","v":""},{"$f":"IF(HC9=\"\",\"\",COUNT(HC9:HC117))","v":""},{"$f":"IF(HC9=\"\",\"\",AVERAGE(HH9:HH117))","v":""},null,{"$f":"IF(HI9=\"\",\"\",MAX(HN9:HN117))","v":""},null,{"$f":"IF(HI9=\"\",\"\",MAX(HJ9:HM117))","v":""},{"$f":"IF(HI9=\"\",\"\",COUNT(HI9:HI117))","v":""},{"$f":"IF(HI9=\"\",\"\",AVERAGE(HN9:HN117))","v":""},null,{"$f":"IF(HO9=\"\",\"\",MAX(HT9:HT117))","v":""},null,{"$f":"IF(HO9=\"\",\"\",MAX(HP9:HS117))","v":""},{"$f":"IF(HO9=\"\",\"\",COUNT(HO9:HO117))","v":""},{"$f":"IF(HO9=\"\",\"\",AVERAGE(HT9:HT117))","v":""},null,{"$f":"IF(HU9=\"\",\"\",MAX(HZ9:HZ117))","v":""},null,{"$f":"IF(HU9=\"\",\"\",MAX(HV9:HY117))","v":""},{"$f":"IF(HU9=\"\",\"\",COUNT(HU9:HU117))","v":""},{"$f":"IF(HU9=\"\",\"\",AVERAGE(HZ9:HZ117))","v":""},null,{"$f":"IF(IA9=\"\",\"\",MAX(IF9:IF117))","v":""},null,{"$f":"IF(IA9=\"\",\"\",MAX(IB9:IE117))","v":""},{"$f":"IF(IA9=\"\",\"\",COUNT(IA9:IA117))","v":""},{"$f":"IF(IA9=\"\",\"\",AVERAGE(IF9:IF117))","v":""}]
["Schlechtestes\nErgebnis",null,"Schlechteste\nEinzelserie",null,"Ø Einzelschuss aus \nbester Einzelserie",null,"Schlechtestes\nErgebnis",null,"Schlechteste\nEinzelserie",null,"Ø Einzelschuss aus \nbester Einzelserie",null,"Schlechtestes\nErgebnis",null,"Schlechteste\nEinzelserie",null,"Ø Einzelschuss aus \nbester Einzelserie",null,"Schlechtestes\nErgebnis",null,"Schlechteste\nEinzelserie",null,"Ø Einzelschuss aus \nbester Einzelserie",null,"Schlechtestes\nErgebnis",null,"Schlechteste\nEinzelserie",null,"Ø Einzelschuss aus \nbester Einzelserie",null,"Schlechtestes\nErgebnis",null,"Schlechteste\nEinzelserie",null,"Ø Einzelschuss aus \nbester Einzelserie",null,"Schlechtestes\nErgebnis",null,"Schlechteste\nEinzelserie",null,"Ø Einzelschuss aus \nbester Einzelserie",null,"Schlechtestes\nErgebnis",null,"Schlechteste\nEinzelserie",null,"Ø Einzelschuss aus \nbester Einzelserie",null,"Schlechtestes\nErgebnis",null,"Schlechteste\nEinzelserie",null,"Ø Einzelschuss aus \nbester Einzelserie",null,"Schlechtestes\nErgebnis",null,"Schlechteste\nEinzelserie",null,"Ø Einzelschuss aus \nbester Einzelserie",null,"Schlechtestes\nErgebnis",null,"Schlechteste\nEinzelserie",null,"Ø Einzelschuss aus \nbester Einzelserie",null,"Schlechtestes\nErgebnis",null,"Schlechteste\nEinzelserie",null,"Ø Einzelschuss aus \nbester Einzelserie",null,"Schlechtestes\nErgebnis",null,"Schlechteste\nEinzelserie",null,"Ø Einzelschuss aus \nbester Einzelserie",null,"Schlechtestes\nErgebnis",null,"Schlechteste\nEinzelserie",null,"Ø Einzelschuss aus \nbester Einzelserie",null,"Schlechtestes\nErgebnis",null,"Schlechteste\nEinzelserie",null,"Ø Einzelschuss aus \nbester Einzelserie",null,"Schlechtestes\nErgebnis",null,"Schlechteste\nEinzelserie",null,"Ø Einzelschuss aus \nbester Einzelserie",null,"Schlechtestes\nErgebnis",null,"Schlechteste\nEinzelserie",null,"Ø Einzelschuss aus \nbester Einzelserie",null,"Schlechtestes\nErgebnis",null,"Schlechteste\nEinzelserie",null,"Ø Einzelschuss aus \nbester Einzelserie",null,"Schlechtestes\nErgebnis",null,"Schlechteste\nEinzelserie",null,"Ø Einzelschuss aus \nbester Einzelserie",null,"Schlechtestes\nErgebnis",null,"Schlechteste\nEinzelserie",null,"Ø Einzelschuss aus \nbester Einzelserie",null,"Schlechtestes\nErgebnis",null,"Schlechteste\nEinzelserie",null,"Ø Einzelschuss aus \nbester Einzelserie",null,"Schlechtestes\nErgebnis",null,"Schlechteste\nEinzelserie",null,"Ø Einzelschuss aus \nbester Einzelserie",null,"Schlechtestes\nErgebnis",null,"Schlechteste\nEinzelserie",null,"Ø Einzelschuss aus \nbester Einzelserie",null,"Schlechtestes\nErgebnis",null,"Schlechteste\nEinzelserie",null,"Ø Einzelschuss aus \nbester Einzelserie",null,"Schlechtestes\nErgebnis",null,"Schlechteste\nEinzelserie",null,"Ø Einzelschuss aus \nbester Einzelserie",null,"Schlechtestes\nErgebnis",null,"Schlechteste\nEinzelserie",null,"Ø Einzelschuss aus \nbester Einzelserie",null,"Schlechtestes\nErgebnis",null,"Schlechteste\nEinzelserie",null,"Ø Einzelschuss aus \nbester Einzelserie",null,"Schlechtestes\nErgebnis",null,"Schlechteste\nEinzelserie",null,"Ø Einzelschuss aus \nbester Einzelserie",null,"Schlechtestes\nErgebnis",null,"Schlechteste\nEinzelserie",null,"Ø Einzelschuss aus \nbester Einzelserie",null,"Schlechtestes\nErgebnis",null,"Schlechteste\nEinzelserie",null,"Ø Einzelschuss aus \nbester Einzelserie",null,"Schlechtestes\nErgebnis",null,"Schlechteste\nEinzelserie",null,"Ø Einzelschuss aus \nbester Einzelserie",null,"Schlechtestes\nErgebnis",null,"Schlechteste\nEinzelserie",null,"Ø Einzelschuss aus \nbester Einzelserie",null,"Schlechtestes\nErgebnis",null,"Schlechteste\nEinzelserie",null,"Ø Einzelschuss aus \nbester Einzelserie",null,"Schlechtestes\nErgebnis",null,"Schlechteste\nEinzelserie",null,"Ø Einzelschuss aus \nbester Einzelserie",null,"Schlechtestes\nErgebnis",null,"Schlechteste\nEinzelserie",null,"Ø Einzelschuss aus \nbester Einzelserie",null,"Schlechtestes\nErgebnis",null,"Schlechteste\nEinzelserie",null,"Ø Einzelschuss aus \nbester Einzelserie",null,"Schlechtestes\nErgebnis",null,"Schlechteste\nEinzelserie",null,"Ø Einzelschuss aus \nbester Einzelserie",null,"Schlechtestes\nErgebnis",null,"Schlechteste\nEinzelserie",null,"Ø Einzelschuss aus \nbester Einzelserie",null,"Schlechtestes\nErgebnis",null,"Schlechteste\nEinzelserie",null,"Ø Einzelschuss aus \nbester Einzelserie",null,"Schlechtestes\nErgebnis",null,"Schlechteste\nEinzelserie",null,"Ø Einzelschuss aus \nbester Einzelserie"]
[{"$f":"IF(A9=\"\",\"\",MIN(F9:F117))","v":0},null,{"$f":"IF(A9=\"\",\"\",MIN(B9:E117))","v":0},null,{"$f":"IF(A9=\"\",\"\",MAX(B9:E117)/Hauptmaske!$B$5)","v":0},{"$f":"IF(A9=\"\",\"\",MIN(B9:E117)/Hauptmaske!$B$5)","v":0},{"$f":"IF(G9=\"\",\"\",MIN(L9:L117))","v":""},null,{"$f":"IF(G9=\"\",\"\",MIN(H9:K117))","v":""},null,{"$f":"IF(G9=\"\",\"\",MAX(H9:K117)/Hauptmaske!$B$5)","v":""},{"$f":"IF(G9=\"\",\"\",MIN(H9:K117)/Hauptmaske!$B$5)","v":""},{"$f":"IF(M9=\"\",\"\",MIN(R9:R117))","v":""},null,{"$f":"IF(M9=\"\",\"\",MIN(N9:Q117))","v":""},null,{"$f":"IF(M9=\"\",\"\",MAX(N9:Q117)/Hauptmaske!$B$5)","v":""},{"$f":"IF(M9=\"\",\"\",MIN(N9:Q117)/Hauptmaske!$B$5)","v":""},{"$f":"IF(S9=\"\",\"\",MIN(X9:X117))","v":""},null,{"$f":"IF(S9=\"\",\"\",MIN(T9:W117))","v":""},null,{"$f":"IF(S9=\"\",\"\",MAX(T9:W117)/Hauptmaske!$B$5)","v":""},{"$f":"IF(S9=\"\",\"\",MIN(T9:W117)/Hauptmaske!$B$5)","v":""},{"$f":"IF(Y9=\"\",\"\",MIN(AD9:AD117))","v":""},null,{"$f":"IF(Y9=\"\",\"\",MIN(Z9:AC117))","v":""},null,{"$f":"IF(Y9=\"\",\"\",MAX(Z9:AC117)/Hauptmaske!$B$5)","v":""},{"$f":"IF(Y9=\"\",\"\",MIN(Z9:AC117)/Hauptmaske!$B$5)","v":""},{"$f":"IF(AE9=\"\",\"\",MIN(AJ9:AJ117))","v":""},null,{"$f":"IF(AE9=\"\",\"\",MIN(AF9:AI117))","v":""},null,{"$f":"IF(AE9=\"\",\"\",MAX(AF9:AI117)/Hauptmaske!$B$5)","v":""},{"$f":"IF(AE9=\"\",\"\",MIN(AF9:AI117)/Hauptmaske!$B$5)","v":""},{"$f":"IF(AK9=\"\",\"\",MIN(AP9:AP117))","v":""},null,{"$f":"IF(AK9=\"\",\"\",MIN(AL9:AO117))","v":""},null,{"$f":"IF(AK9=\"\",\"\",MAX(AL9:AO117)/Hauptmaske!$B$5)","v":""},{"$f":"IF(AK9=\"\",\"\",MIN(AL9:AO117)/Hauptmaske!$B$5)","v":""},{"$f":"IF(AQ9=\"\",\"\",MIN(AV9:AV117))","v":""},null,{"$f":"IF(AQ9=\"\",\"\",MIN(AR9:AU117))","v":""},null,{"$f":"IF(AQ9=\"\",\"\",MAX(AR9:AU117)/Hauptmaske!$B$5)","v":""},{"$f":"IF(AQ9=\"\",\"\",MIN(AR9:AU117)/Hauptmaske!$B$5)","v":""},{"$f":"IF(AW9=\"\",\"\",MIN(BB9:BB117))","v":""},null,{"$f":"IF(AW9=\"\",\"\",MIN(AX9:BA117))","v":""},null,{"$f":"IF(AW9=\"\",\"\",MAX(AX9:BA117)/Hauptmaske!$B$5)","v":""},{"$f":"IF(AW9=\"\",\"\",MIN(AX9:BA117)/Hauptmaske!$B$5)","v":""},{"$f":"IF(BC9=\"\",\"\",MIN(BH9:BH117))","v":""},null,{"$f":"IF(BC9=\"\",\"\",MIN(BD9:BG117))","v":""},null,{"$f":"IF(BC9=\"\",\"\",MAX(BD9:BG117)/Hauptmaske!$B$5)","v":""},{"$f":"IF(BC9=\"\",\"\",MIN(BD9:BG117)/Hauptmaske!$B$5)","v":""},{"$f":"IF(BI9=\"\",\"\",MIN(BN9:BN117))","v":""},null,{"$f":"IF(BI9=\"\",\"\",MIN(BJ9:BM117))","v":""},null,{"$f":"IF(BI9=\"\",\"\",MAX(BJ9:BM117)/Hauptmaske!$B$5)","v":""},{"$f":"IF(BI9=\"\",\"\",MIN(BJ9:BM117)/Hauptmaske!$B$5)","v":""},{"$f":"IF(BO9=\"\",\"\",MIN(BT9:BT117))","v":""},null,{"$f":"IF(BO9=\"\",\"\",MIN(BP9:BS117))","v":""},null,{"$f":"IF(BO9=\"\",\"\",MAX(BP9:BS117)/Hauptmaske!$B$5)","v":""},{"$f":"IF(BO9=\"\",\"\",MIN(BP9:BS117)/Hauptmaske!$B$5)","v":""},{"$f":"IF(BU9=\"\",\"\",MIN(BZ9:BZ117))","v":""},null,{"$f":"IF(BU9=\"\",\"\",MIN(BV9:BY117))","v":""},null,{"$f":"IF(BU9=\"\",\"\",MAX(BV9:BY117)/Hauptmaske!$B$5)","v":""},{"$f":"IF(BU9=\"\",\"\",MIN(BV9:BY117)/Hauptmaske!$B$5)","v":""},{"$f":"IF(CA9=\"\",\"\",MIN(CF9:CF117))","v":""},null,{"$f":"IF(CA9=\"\",\"\",MIN(CB9:CE117))","v":""},null,{"$f":"IF(CA9=\"\",\"\",MAX(CB9:CE117)/Hauptmaske!$B$5)","v":""},{"$f":"IF(CA9=\"\",\"\",MIN(CB9:CE117)/Hauptmaske!$B$5)","v":""},{"$f":"IF(CG9=\"\",\"\",MIN(CL9:CL117))","v":""},null,{"$f":"IF(CG9=\"\",\"\",MIN(CH9:CK117))","v":""},null,{"$f":"IF(CG9=\"\",\"\",MAX(CH9:CK117)/Hauptmaske!$B$5)","v":""},{"$f":"IF(CG9=\"\",\"\",MIN(CH9:CK117)/Hauptmaske!$B$5)","v":""},{"$f":"IF(CM9=\"\",\"\",MIN(CR9:CR117))","v":""},null,{"$f":"IF(CM9=\"\",\"\",MIN(CN9:CQ117))","v":""},null,{"$f":"IF(CM9=\"\",\"\",MAX(CN9:CQ117)/Hauptmaske!$B$5)","v":""},{"$f":"IF(CM9=\"\",\"\",MIN(CN9:CQ117)/Hauptmaske!$B$5)","v":""},{"$f":"IF(CS9=\"\",\"\",MIN(CX9:CX117))","v":""},null,{"$f":"IF(CS9=\"\",\"\",MIN(CT9:CW117))","v":""},null,{"$f":"IF(CS9=\"\",\"\",MAX(CT9:CW117)/Hauptmaske!$B$5)","v":""},{"$f":"IF(CS9=\"\",\"\",MIN(CT9:CW117)/Hauptmaske!$B$5)","v":""},{"$f":"IF(CY9=\"\",\"\",MIN(DD9:DD117))","v":""},null,{"$f":"IF(CY9=\"\",\"\",MIN(CZ9:DC117))","v":""},null,{"$f":"IF(CY9=\"\",\"\",MAX(CZ9:DC117)/Hauptmaske!$B$5)","v":""},{"$f":"IF(CY9=\"\",\"\",MIN(CZ9:DC117)/Hauptmaske!$B$5)","v":""},{"$f":"IF(DE9=\"\",\"\",MIN(DJ9:DJ117))","v":""},null,{"$f":"IF(DE9=\"\",\"\",MIN(DF9:DI117))","v":""},null,{"$f":"IF(DE9=\"\",\"\",MAX(DF9:DI117)/Hauptmaske!$B$5)","v":""},{"$f":"IF(DE9=\"\",\"\",MIN(DF9:DI117)/Hauptmaske!$B$5)","v":""},{"$f":"IF(DK9=\"\",\"\",MIN(DP9:DP117))","v":""},null,{"$f":"IF(DK9=\"\",\"\",MIN(DL9:DO117))","v":""},null,{"$f":"IF(DK9=\"\",\"\",MAX(DL9:DO117)/Hauptmaske!$B$5)","v":""},{"$f":"IF(DK9=\"\",\"\",MIN(DL9:DO117)/Hauptmaske!$B$5)","v":""},{"$f":"IF(DQ9=\"\",\"\",MIN(DV9:DV117))","v":""},null,{"$f":"IF(DQ9=\"\",\"\",MIN(DR9:DU117))","v":""},null,{"$f":"IF(DQ9=\"\",\"\",MAX(DR9:DU117)/Hauptmaske!$B$5)","v":""},{"$f":"IF(DQ9=\"\",\"\",MIN(DR9:DU117)/Hauptmaske!$B$5)","v":""},{"$f":"IF(DW9=\"\",\"\",MIN(EB9:EB117))","v":""},null,{"$f":"IF(DW9=\"\",\"\",MIN(DX9:EA117))","v":""},null,{"$f":"IF(DW9=\"\",\"\",MAX(DX9:EA117)/Hauptmaske!$B$5)","v":""},{"$f":"IF(DW9=\"\",\"\",MIN(DX9:EA117)/Hauptmaske!$B$5)","v":""},{"$f":"IF(EC9=\"\",\"\",MIN(EH9:EH117))","v":""},null,{"$f":"IF(EC9=\"\",\"\",MIN(ED9:EG117))","v":""},null,{"$f":"IF(EC9=\"\",\"\",MAX(ED9:EG117)/Hauptmaske!$B$5)","v":""},{"$f":"IF(EC9=\"\",\"\",MIN(ED9:EG117)/Hauptmaske!$B$5)","v":""},{"$f":"IF(EI9=\"\",\"\",MIN(EN9:EN117))","v":""},null,{"$f":"IF(EI9=\"\",\"\",MIN(EJ9:EM117))","v":""},null,{"$f":"IF(EI9=\"\",\"\",MAX(EJ9:EM117)/Hauptmaske!$B$5)","v":""},{"$f":"IF(EI9=\"\",\"\",MIN(EJ9:EM117)/Hauptmaske!$B$5)","v":""},{"$f":"IF(EO9=\"\",\"\",MIN(ET9:ET117))","v":""},null,{"$f":"IF(EO9=\"\",\"\",MIN(EP9:ES117))","v":""},null,{"$f":"IF(EO9=\"\",\"\",MAX(EP9:ES117)/Hauptmaske!$B$5)","v":""},{"$f":"IF(EO9=\"\",\"\",MIN(EP9:ES117)/Hauptmaske!$B$5)","v":""},{"$f":"IF(EU9=\"\",\"\",MIN(EZ9:EZ117))","v":""},null,{"$f":"IF(EU9=\"\",\"\",MIN(EV9:EY117))","v":""},null,{"$f":"IF(EU9=\"\",\"\",MAX(EV9:EY117)/Hauptmaske!$B$5)","v":""},{"$f":"IF(EU9=\"\",\"\",MIN(EV9:EY117)/Hauptmaske!$B$5)","v":""},{"$f":"IF(FA9=\"\",\"\",MIN(FF9:FF117))","v":""},null,{"$f":"IF(FA9=\"\",\"\",MIN(FB9:FE117))","v":""},null,{"$f":"IF(FA9=\"\",\"\",MAX(FB9:FE117)/Hauptmaske!$B$5)","v":""},{"$f":"IF(FA9=\"\",\"\",MIN(FB9:FE117)/Hauptmaske!$B$5)","v":""},{"$f":"IF(FG9=\"\",\"\",MIN(FL9:FL117))","v":""},null,{"$f":"IF(FG9=\"\",\"\",MIN(FH9:FK117))","v":""},null,{"$f":"IF(FG9=\"\",\"\",MAX(FH9:FK117)/Hauptmaske!$B$5)","v":""},{"$f":"IF(FG9=\"\",\"\",MIN(FH9:FK117)/Hauptmaske!$B$5)","v":""},{"$f":"IF(FM9=\"\",\"\",MIN(FR9:FR117))","v":""},null,{"$f":"IF(FM9=\"\",\"\",MIN(FN9:FQ117))","v":""},null,{"$f":"IF(FM9=\"\",\"\",MAX(FN9:FQ117)/Hauptmaske!$B$5)","v":""},{"$f":"IF(FM9=\"\",\"\",MIN(FN9:FQ117)/Hauptmaske!$B$5)","v":""},{"$f":"IF(FS9=\"\",\"\",MIN(FX9:FX117))","v":""},null,{"$f":"IF(FS9=\"\",\"\",MIN(FT9:FW117))","v":""},null,{"$f":"IF(FS9=\"\",\"\",MAX(FT9:FW117)/Hauptmaske!$B$5)","v":""},{"$f":"IF(FS9=\"\",\"\",MIN(FT9:FW117)/Hauptmaske!$B$5)","v":""},{"$f":"IF(FY9=\"\",\"\",MIN(GD9:GD117))","v":""},null,{"$f":"IF(FY9=\"\",\"\",MIN(FZ9:GC117))","v":""},null,{"$f":"IF(FY9=\"\",\"\",MAX(FZ9:GC117)/Hauptmaske!$B$5)","v":""},{"$f":"IF(FY9=\"\",\"\",MIN(FZ9:GC117)/Hauptmaske!$B$5)","v":""},{"$f":"IF(GE9=\"\",\"\",MIN(GJ9:GJ117))","v":""},null,{"$f":"IF(GE9=\"\",\"\",MIN(GF9:GI117))","v":""},null,{"$f":"IF(GE9=\"\",\"\",MAX(GF9:GI117)/Hauptmaske!$B$5)","v":""},{"$f":"IF(GE9=\"\",\"\",MIN(GF9:GI117)/Hauptmaske!$B$5)","v":""},{"$f":"IF(GK9=\"\",\"\",MIN(GP9:GP117))","v":""},null,{"$f":"IF(GK9=\"\",\"\",MIN(GL9:GO117))","v":""},null,{"$f":"IF(GK9=\"\",\"\",MAX(GL9:GO117)/Hauptmaske!$B$5)","v":""},{"$f":"IF(GK9=\"\",\"\",MIN(GL9:GO117)/Hauptmaske!$B$5)","v":""},{"$f":"IF(GQ9=\"\",\"\",MIN(GV9:GV117))","v":""},null,{"$f":"IF(GQ9=\"\",\"\",MIN(GR9:GU117))","v":""},null,{"$f":"IF(GQ9=\"\",\"\",MAX(GR9:GU117)/Hauptmaske!$B$5)","v":""},{"$f":"IF(GQ9=\"\",\"\",MIN(GR9:GU117)/Hauptmaske!$B$5)","v":""},{"$f":"IF(GW9=\"\",\"\",MIN(HB9:HB117))","v":""},null,{"$f":"IF(GW9=\"\",\"\",MIN(GX9:HA117))","v":""},null,{"$f":"IF(GW9=\"\",\"\",MAX(GX9:HA117)/Hauptmaske!$B$5)","v":""},{"$f":"IF(GW9=\"\",\"\",MIN(GX9:HA117)/Hauptmaske!$B$5)","v":""},{"$f":"IF(HC9=\"\",\"\",MIN(HH9:HH117))","v":""},null,{"$f":"IF(HC9=\"\",\"\",MIN(HD9:HG117))","v":""},null,{"$f":"IF(HC9=\"\",\"\",MAX(HD9:HG117)/Hauptmaske!$B$5)","v":""},{"$f":"IF(HC9=\"\",\"\",MIN(HD9:HG117)/Hauptmaske!$B$5)","v":""},{"$f":"IF(HI9=\"\",\"\",MIN(HN9:HN117))","v":""},null,{"$f":"IF(HI9=\"\",\"\",MIN(HJ9:HM117))","v":""},null,{"$f":"IF(HI9=\"\",\"\",MAX(HJ9:HM117)/Hauptmaske!$B$5)","v":""},{"$f":"IF(HI9=\"\",\"\",MIN(HJ9:HM117)/Hauptmaske!$B$5)","v":""},{"$f":"IF(HO9=\"\",\"\",MIN(HT9:HT117))","v":""},null,{"$f":"IF(HO9=\"\",\"\",MIN(HP9:HS117))","v":""},null,{"$f":"IF(HO9=\"\",\"\",MAX(HP9:HS117)/Hauptmaske!$B$5)","v":""},{"$f":"IF(HO9=\"\",\"\",MIN(HP9:HS117)/Hauptmaske!$B$5)","v":""},{"$f":"IF(HU9=\"\",\"\",MIN(HZ9:HZ117))","v":""},null,{"$f":"IF(HU9=\"\",\"\",MIN(HV9:HY117))","v":""},null,{"$f":"IF(HU9=\"\",\"\",MAX(HV9:HY117)/Hauptmaske!$B$5)","v":""},{"$f":"IF(HU9=\"\",\"\",MIN(HV9:HY117)/Hauptmaske!$B$5)","v":""},{"$f":"IF(IA9=\"\",\"\",MIN(IF9:IF117))","v":""},null,{"$f":"IF(IA9=\"\",\"\",MIN(IB9:IE117))","v":""},null,{"$f":"IF(IA9=\"\",\"\",MAX(IB9:IE117)/Hauptmaske!$B$5)","v":""},{"$f":"IF(IA9=\"\",\"\",MIN(IB9:IE117)/Hauptmaske!$B$5)","v":""}]
[{"$f":"IF(Hauptmaske!$C7=\"x\",Hauptmaske!$A7,\"Bitte Namen in Hauptmaske auswählen\")","v":"Testname"},null,null,null,null,null,{"$f":"IF(Hauptmaske!$C8=\"x\",Hauptmaske!$A8,\"Bitte Namen in Hauptmaske auswählen\")","v":"Bitte Namen in Hauptmaske auswählen"},null,null,null,null,null,{"$f":"IF(Hauptmaske!$C9=\"x\",Hauptmaske!$A9,\"Bitte Namen in Hauptmaske auswählen\")","v":"Bitte Namen in Hauptmaske auswählen"},null,null,null,null,null,{"$f":"IF(Hauptmaske!$C10=\"x\",Hauptmaske!$A10,\"Bitte Namen in Hauptmaske auswählen\")","v":"Bitte Namen in Hauptmaske auswählen"},null,null,null,null,null,{"$f":"IF(Hauptmaske!$C11=\"x\",Hauptmaske!$A11,\"Bitte Namen in Hauptmaske auswählen\")","v":"Bitte Namen in Hauptmaske auswählen"},null,null,null,null,null,{"$f":"IF(Hauptmaske!$C12=\"x\",Hauptmaske!$A12,\"Bitte Namen in Hauptmaske auswählen\")","v":"Bitte Namen in Hauptmaske auswählen"},null,null,null,null,null,{"$f":"IF(Hauptmaske!$C13=\"x\",Hauptmaske!$A13,\"Bitte Namen in Hauptmaske auswählen\")","v":"Bitte Namen in Hauptmaske auswählen"},null,null,null,null,null,{"$f":"IF(Hauptmaske!$C14=\"x\",Hauptmaske!$A14,\"Bitte Namen in Hauptmaske auswählen\")","v":"Bitte Namen in Hauptmaske auswählen"},null,null,null,null,null,{"$f":"IF(Hauptmaske!$C15=\"x\",Hauptmaske!$A15,\"Bitte Namen in Hauptmaske auswählen\")","v":"Bitte Namen in Hauptmaske auswählen"},null,null,null,null,null,{"$f":"IF(Hauptmaske!$C16=\"x\",Hauptmaske!$A16,\"Bitte Namen in Hauptmaske auswählen\")","v":"Bitte Namen in Hauptmaske auswählen"},null,null,null,null,null,{"$f":"IF(Hauptmaske!$C17=\"x\",Hauptmaske!$A17,\"Bitte Namen in Hauptmaske auswählen\")","v":"Bitte Namen in Hauptmaske auswählen"},null,null,null,null,null,{"$f":"IF(Hauptmaske!$C18=\"x\",Hauptmaske!$A18,\"Bitte Namen in Hauptmaske auswählen\")","v":"Bitte Namen in Hauptmaske auswählen"},null,null,null,null,null,{"$f":"IF(Hauptmaske!$C19=\"x\",Hauptmaske!$A19,\"Bitte Namen in Hauptmaske auswählen\")","v":"Bitte Namen in Hauptmaske auswählen"},null,null,null,null,null,{"$f":"IF(Hauptmaske!$C20=\"x\",Hauptmaske!$A20,\"Bitte Namen in Hauptmaske auswählen\")","v":"Bitte Namen in Hauptmaske auswählen"},null,null,null,null,null,{"$f":"IF(Hauptmaske!$C21=\"x\",Hauptmaske!$A21,\"Bitte Namen in Hauptmaske auswählen\")","v":"Bitte Namen in Hauptmaske auswählen"},null,null,null,null,null,{"$f":"IF(Hauptmaske!$C22=\"x\",Hauptmaske!$A22,\"Bitte Namen in Hauptmaske auswählen\")","v":"Bitte Namen in Hauptmaske auswählen"},null,null,null,null,null,{"$f":"IF(Hauptmaske!$C23=\"x\",Hauptmaske!$A23,\"Bitte Namen in Hauptmaske auswählen\")","v":"Bitte Namen in Hauptmaske auswählen"},null,null,null,null,null,{"$f":"IF(Hauptmaske!$C24=\"x\",Hauptmaske!$A24,\"Bitte Namen in Hauptmaske auswählen\")","v":"Bitte Namen in Hauptmaske auswählen"},null,null,null,null,null,{"$f":"IF(Hauptmaske!$C25=\"x\",Hauptmaske!$A25,\"Bitte Namen in Hauptmaske auswählen\")","v":"Bitte Namen in Hauptmaske auswählen"},null,null,null,null,null,{"$f":"IF(Hauptmaske!$C26=\"x\",Hauptmaske!$A26,\"Bitte Namen in Hauptmaske auswählen\")","v":"Bitte Namen in Hauptmaske auswählen"},null,null,null,null,null,{"$f":"IF(Hauptmaske!$C27=\"x\",Hauptmaske!$A27,\"Bitte Namen in Hauptmaske auswählen\")","v":"Bitte Namen in Hauptmaske auswählen"},null,null,null,null,null,{"$f":"IF(Hauptmaske!$C28=\"x\",Hauptmaske!$A28,\"Bitte Namen in Hauptmaske auswählen\")","v":"Bitte Namen in Hauptmaske auswählen"},null,null,null,null,null,{"$f":"IF(Hauptmaske!$C29=\"x\",Hauptmaske!$A29,\"Bitte Namen in Hauptmaske auswählen\")","v":"Bitte Namen in Hauptmaske auswählen"},null,null,null,null,null,{"$f":"IF(Hauptmaske!$C30=\"x\",Hauptmaske!$A30,\"Bitte Namen in Hauptmaske auswählen\")","v":"Bitte Namen in Hauptmaske auswählen"},null,null,null,null,null,{"$f":"IF(Hauptmaske!$C31=\"x\",Hauptmaske!$A31,\"Bitte Namen in Hauptmaske auswählen\")","v":"Bitte Namen in Hauptmaske auswählen"},null,null,null,null,null,{"$f":"IF(Hauptmaske!$C32=\"x\",Hauptmaske!$A32,\"Bitte Namen in Hauptmaske auswählen\")","v":"Bitte Namen in Hauptmaske auswählen"},null,null,null,null,null,{"$f":"IF(Hauptmaske!$C33=\"x\",Hauptmaske!$A33,\"Bitte Namen in Hauptmaske auswählen\")","v":"Bitte Namen in Hauptmaske auswählen"},null,null,null,null,null,{"$f":"IF(Hauptmaske!$C34=\"x\",Hauptmaske!$A34,\"Bitte Namen in Hauptmaske auswählen\")","v":"Bitte Namen in Hauptmaske auswählen"},null,null,null,null,null,{"$f":"IF(Hauptmaske!$C35=\"x\",Hauptmaske!$A35,\"Bitte Namen in Hauptmaske auswählen\")","v":"Bitte Namen in Hauptmaske auswählen"},null,null,null,null,null,{"$f":"IF(Hauptmaske!$C36=\"x\",Hauptmaske!$A36,\"Bitte Namen in Hauptmaske auswählen\")","v":"Bitte Namen in Hauptmaske auswählen"},null,null,null,null,null,{"$f":"IF(Hauptmaske!$C37=\"x\",Hauptmaske!$A37,\"Bitte Namen in Hauptmaske auswählen\")","v":"Bitte Namen in Hauptmaske auswählen"},null,null,null,null,null,{"$f":"IF(Hauptmaske!$C38=\"x\",Hauptmaske!$A38,\"Bitte Namen in Hauptmaske auswählen\")","v":"Bitte Namen in Hauptmaske auswählen"},null,null,null,null,null,{"$f":"IF(Hauptmaske!$C39=\"x\",Hauptmaske!$A39,\"Bitte Namen in Hauptmaske auswählen\")","v":"Bitte Namen in Hauptmaske auswählen"},null,null,null,null,null,{"$f":"IF(Hauptmaske!$C40=\"x\",Hauptmaske!$A40,\"Bitte Namen in Hauptmaske auswählen\")","v":"Bitte Namen in Hauptmaske auswählen"},null,null,null,null,null,{"$f":"IF(Hauptmaske!$C41=\"x\",Hauptmaske!$A41,\"Bitte Namen in Hauptmaske auswählen\")","v":"Bitte Namen in Hauptmaske auswählen"},null,null,null,null,null,{"$f":"IF(Hauptmaske!$C42=\"x\",Hauptmaske!$A42,\"Bitte Namen in Hauptmaske auswählen\")","v":"Bitte Namen in Hauptmaske auswählen"},null,null,null,null,null,{"$f":"IF(Hauptmaske!$C43=\"x\",Hauptmaske!$A43,\"Bitte Namen in Hauptmaske auswählen\")","v":"Bitte Namen in Hauptmaske auswählen"},null,null,null,null,null,{"$f":"IF(Hauptmaske!$C44=\"x\",Hauptmaske!$A44,\"Bitte Namen in Hauptmaske auswählen\")","v":"Bitte Namen in Hauptmaske auswählen"},null,null,null,null,null,{"$f":"IF(Hauptmaske!$C45=\"x\",Hauptmaske!$A45,\"Bitte Namen in Hauptmaske auswählen\")","v":"Bitte Namen in Hauptmaske auswählen"},null,null,null,null,null,{"$f":"IF(Hauptmaske!$C46=\"x\",Hauptmaske!$A46,\"Bitte Namen in Hauptmaske auswählen\")","v":"Bitte Namen in Hauptmaske auswählen"}]
["Datum:",{"$f":"CONCATENATE(\"Serie - 01\",\" (\",Hauptmaske!$B$5,\" Schuss)\")","v":"Serie - 01 (20 Schuss)"},{"$f":"CONCATENATE(\"Serie - 02\",\" (\",Hauptmaske!$B$5,\" Schuss)\")","v":"Serie - 02 (20 Schuss)"},{"$f":"CONCATENATE(\"Serie - 03\",\" (\",Hauptmaske!$B$5,\" Schuss)\")","v":"Serie - 03 (20 Schuss)"},{"$f":"CONCATENATE(\"Serie - 04\",\" (\",Hauptmaske!$B$5,\" Schuss)\")","v":"Serie - 04 (20 Schuss)"},"Summe","Datum:",{"$f":"CONCATENATE(\"Serie - 01\",\" (\",Hauptmaske!$B$5,\" Schuss)\")","v":"Serie - 01 (20 Schuss)"},{"$f":"CONCATENATE(\"Serie - 02\",\" (\",Hauptmaske!$B$5,\" Schuss)\")","v":"Serie - 02 (20 Schuss)"},{"$f":"CONCATENATE(\"Serie - 03\",\" (\",Hauptmaske!$B$5,\" Schuss)\")","v":"Serie - 03 (20 Schuss)"},{"$f":"CONCATENATE(\"Serie - 04\",\" (\",Hauptmaske!$B$5,\" Schuss)\")","v":"Serie - 04 (20 Schuss)"},"Summe","Datum:",{"$f":"CONCATENATE(\"Serie - 01\",\" (\",Hauptmaske!$B$5,\" Schuss)\")","v":"Serie - 01 (20 Schuss)"},{"$f":"CONCATENATE(\"Serie - 02\",\" (\",Hauptmaske!$B$5,\" Schuss)\")","v":"Serie - 02 (20 Schuss)"},{"$f":"CONCATENATE(\"Serie - 03\",\" (\",Hauptmaske!$B$5,\" Schuss)\")","v":"Serie - 03 (20 Schuss)"},{"$f":"CONCATENATE(\"Serie - 04\",\" (\",Hauptmaske!$B$5,\" Schuss)\")","v":"Serie - 04 (20 Schuss)"},"Summe","Datum:",{"$f":"CONCATENATE(\"Serie - 01\",\" (\",Hauptmaske!$B$5,\" Schuss)\")","v":"Serie - 01 (20 Schuss)"},{"$f":"CONCATENATE(\"Serie - 02\",\" (\",Hauptmaske!$B$5,\" Schuss)\")","v":"Serie - 02 (20 Schuss)"},{"$f":"CONCATENATE(\"Serie - 03\",\" (\",Hauptmaske!$B$5,\" Schuss)\")","v":"Serie - 03 (20 Schuss)"},{"$f":"CONCATENATE(\"Serie - 04\",\" (\",Hauptmaske!$B$5,\" Schuss)\")","v":"Serie - 04 (20 Schuss)"},"Summe","Datum:",{"$f":"CONCATENATE(\"Serie - 01\",\" (\",Hauptmaske!$B$5,\" Schuss)\")","v":"Serie - 01 (20 Schuss)"},{"$f":"CONCATENATE(\"Serie - 02\",\" (\",Hauptmaske!$B$5,\" Schuss)\")","v":"Serie - 02 (20 Schuss)"},{"$f":"CONCATENATE(\"Serie - 03\",\" (\",Hauptmaske!$B$5,\" Schuss)\")","v":"Serie - 03 (20 Schuss)"},{"$f":"CONCATENATE(\"Serie - 04\",\" (\",Hauptmaske!$B$5,\" Schuss)\")","v":"Serie - 04 (20 Schuss)"},"Summe","Datum:",{"$f":"CONCATENATE(\"Serie - 01\",\" (\",Hauptmaske!$B$5,\" Schuss)\")","v":"Serie - 01 (20 Schuss)"},{"$f":"CONCATENATE(\"Serie - 02\",\" (\",Hauptmaske!$B$5,\" Schuss)\")","v":"Serie - 02 (20 Schuss)"},{"$f":"CONCATENATE(\"Serie - 03\",\" (\",Hauptmaske!$B$5,\" Schuss)\")","v":"Serie - 03 (20 Schuss)"},{"$f":"CONCATENATE(\"Serie - 04\",\" (\",Hauptmaske!$B$5,\" Schuss)\")","v":"Serie - 04 (20 Schuss)"},"Summe","Datum:",{"$f":"CONCATENATE(\"Serie - 01\",\" (\",Hauptmaske!$B$5,\" Schuss)\")","v":"Serie - 01 (20 Schuss)"},{"$f":"CONCATENATE(\"Serie - 02\",\" (\",Hauptmaske!$B$5,\" Schuss)\")","v":"Serie - 02 (20 Schuss)"},{"$f":"CONCATENATE(\"Serie - 03\",\" (\",Hauptmaske!$B$5,\" Schuss)\")","v":"Serie - 03 (20 Schuss)"},{"$f":"CONCATENATE(\"Serie - 04\",\" (\",Hauptmaske!$B$5,\" Schuss)\")","v":"Serie - 04 (20 Schuss)"},"Summe","Datum:",{"$f":"CONCATENATE(\"Serie - 01\",\" (\",Hauptmaske!$B$5,\" Schuss)\")","v":"Serie - 01 (20 Schuss)"},{"$f":"CONCATENATE(\"Serie - 02\",\" (\",Hauptmaske!$B$5,\" Schuss)\")","v":"Serie - 02 (20 Schuss)"},{"$f":"CONCATENATE(\"Serie - 03\",\" (\",Hauptmaske!$B$5,\" Schuss)\")","v":"Serie - 03 (20 Schuss)"},{"$f":"CONCATENATE(\"Serie - 04\",\" (\",Hauptmaske!$B$5,\" Schuss)\")","v":"Serie - 04 (20 Schuss)"},"Summe","Datum:",{"$f":"CONCATENATE(\"Serie - 01\",\" (\",Hauptmaske!$B$5,\" Schuss)\")","v":"Serie - 01 (20 Schuss)"},{"$f":"CONCATENATE(\"Serie - 02\",\" (\",Hauptmaske!$B$5,\" Schuss)\")","v":"Serie - 02 (20 Schuss)"},{"$f":"CONCATENATE(\"Serie - 03\",\" (\",Hauptmaske!$B$5,\" Schuss)\")","v":"Serie - 03 (20 Schuss)"},{"$f":"CONCATENATE(\"Serie - 04\",\" (\",Hauptmaske!$B$5,\" Schuss)\")","v":"Serie - 04 (20 Schuss)"},"Summe","Datum:",{"$f":"CONCATENATE(\"Serie - 01\",\" (\",Hauptmaske!$B$5,\" Schuss)\")","v":"Serie - 01 (20 Schuss)"},{"$f":"CONCATENATE(\"Serie - 02\",\" (\",Hauptmaske!$B$5,\" Schuss)\")","v":"Serie - 02 (20 Schuss)"},{"$f":"CONCATENATE(\"Serie - 03\",\" (\",Hauptmaske!$B$5,\" Schuss)\")","v":"Serie - 03 (20 Schuss)"},{"$f":"CONCATENATE(\"Serie - 04\",\" (\",Hauptmaske!$B$5,\" Schuss)\")","v":"Serie - 04 (20 Schuss)"},"Summe","Datum:",{"$f":"CONCATENATE(\"Serie - 01\",\" (\",Hauptmaske!$B$5,\" Schuss)\")","v":"Serie - 01 (20 Schuss)"},{"$f":"CONCATENATE(\"Serie - 02\",\" (\",Hauptmaske!$B$5,\" Schuss)\")","v":"Serie - 02 (20 Schuss)"},{"$f":"CONCATENATE(\"Serie - 03\",\" (\",Hauptmaske!$B$5,\" Schuss)\")","v":"Serie - 03 (20 Schuss)"},{"$f":"CONCATENATE(\"Serie - 04\",\" (\",Hauptmaske!$B$5,\" Schuss)\")","v":"Serie - 04 (20 Schuss)"},"Summe","Datum:",{"$f":"CONCATENATE(\"Serie - 01\",\" (\",Hauptmaske!$B$5,\" Schuss)\")","v":"Serie - 01 (20 Schuss)"},{"$f":"CONCATENATE(\"Serie - 02\",\" (\",Hauptmaske!$B$5,\" Schuss)\")","v":"Serie - 02 (20 Schuss)"},{"$f":"CONCATENATE(\"Serie - 03\",\" (\",Hauptmaske!$B$5,\" Schuss)\")","v":"Serie - 03 (20 Schuss)"},{"$f":"CONCATENATE(\"Serie - 04\",\" (\",Hauptmaske!$B$5,\" Schuss)\")","v":"Serie - 04 (20 Schuss)"},"Summe","Datum:",{"$f":"CONCATENATE(\"Serie - 01\",\" (\",Hauptmaske!$B$5,\" Schuss)\")","v":"Serie - 01 (20 Schuss)"},{"$f":"CONCATENATE(\"Serie - 02\",\" (\",Hauptmaske!$B$5,\" Schuss)\")","v":"Serie - 02 (20 Schuss)"},{"$f":"CONCATENATE(\"Serie - 03\",\" (\",Hauptmaske!$B$5,\" Schuss)\")","v":"Serie - 03 (20 Schuss)"},{"$f":"CONCATENATE(\"Serie - 04\",\" (\",Hauptmaske!$B$5,\" Schuss)\")","v":"Serie - 04 (20 Schuss)"},"Summe","Datum:",{"$f":"CONCATENATE(\"Serie - 01\",\" (\",Hauptmaske!$B$5,\" Schuss)\")","v":"Serie - 01 (20 Schuss)"},{"$f":"CONCATENATE(\"Serie - 02\",\" (\",Hauptmaske!$B$5,\" Schuss)\")","v":"Serie - 02 (20 Schuss)"},{"$f":"CONCATENATE(\"Serie - 03\",\" (\",Hauptmaske!$B$5,\" Schuss)\")","v":"Serie - 03 (20 Schuss)"},{"$f":"CONCATENATE(\"Serie - 04\",\" (\",Hauptmaske!$B$5,\" Schuss)\")","v":"Serie - 04 (20 Schuss)"},"Summe","Datum:",{"$f":"CONCATENATE(\"Serie - 01\",\" (\",Hauptmaske!$B$5,\" Schuss)\")","v":"Serie - 01 (20 Schuss)"},{"$f":"CONCATENATE(\"Serie - 02\",\" (\",Hauptmaske!$B$5,\" Schuss)\")","v":"Serie - 02 (20 Schuss)"},{"$f":"CONCATENATE(\"Serie - 03\",\" (\",Hauptmaske!$B$5,\" Schuss)\")","v":"Serie - 03 (20 Schuss)"},{"$f":"CONCATENATE(\"Serie - 04\",\" (\",Hauptmaske!$B$5,\" Schuss)\")","v":"Serie - 04 (20 Schuss)"},"Summe","Datum:",{"$f":"CONCATENATE(\"Serie - 01\",\" (\",Hauptmaske!$B$5,\" Schuss)\")","v":"Serie - 01 (20 Schuss)"},{"$f":"CONCATENATE(\"Serie - 02\",\" (\",Hauptmaske!$B$5,\" Schuss)\")","v":"Serie - 02 (20 Schuss)"},{"$f":"CONCATENATE(\"Serie - 03\",\" (\",Hauptmaske!$B$5,\" Schuss)\")","v":"Serie - 03 (20 Schuss)"},{"$f":"CONCATENATE(\"Serie - 04\",\" (\",Hauptmaske!$B$5,\" Schuss)\")","v":"Serie - 04 (20 Schuss)"},"Summe","Datum:",{"$f":"CONCATENATE(\"Serie - 01\",\" (\",Hauptmaske!$B$5,\" Schuss)\")","v":"Serie - 01 (20 Schuss)"},{"$f":"CONCATENATE(\"Serie - 02\",\" (\",Hauptmaske!$B$5,\" Schuss)\")","v":"Serie - 02 (20 Schuss)"},{"$f":"CONCATENATE(\"Serie - 03\",\" (\",Hauptmaske!$B$5,\" Schuss)\")","v":"Serie - 03 (20 Schuss)"},{"$f":"CONCATENATE(\"Serie - 04\",\" (\",Hauptmaske!$B$5,\" Schuss)\")","v":"Serie - 04 (20 Schuss)"},"Summe","Datum:",{"$f":"CONCATENATE(\"Serie - 01\",\" (\",Hauptmaske!$B$5,\" Schuss)\")","v":"Serie - 01 (20 Schuss)"},{"$f":"CONCATENATE(\"Serie - 02\",\" (\",Hauptmaske!$B$5,\" Schuss)\")","v":"Serie - 02 (20 Schuss)"},{"$f":"CONCATENATE(\"Serie - 03\",\" (\",Hauptmaske!$B$5,\" Schuss)\")","v":"Serie - 03 (20 Schuss)"},{"$f":"CONCATENATE(\"Serie - 04\",\" (\",Hauptmaske!$B$5,\" Schuss)\")","v":"Serie - 04 (20 Schuss)"},"Summe","Datum:",{"$f":"CONCATENATE(\"Serie - 01\",\" (\",Hauptmaske!$B$5,\" Schuss)\")","v":"Serie - 01 (20 Schuss)"},{"$f":"CONCATENATE(\"Serie - 02\",\" (\",Hauptmaske!$B$5,\" Schuss)\")","v":"Serie - 02 (20 Schuss)"},{"$f":"CONCATENATE(\"Serie - 03\",\" (\",Hauptmaske!$B$5,\" Schuss)\")","v":"Serie - 03 (20 Schuss)"},{"$f":"CONCATENATE(\"Serie - 04\",\" (\",Hauptmaske!$B$5,\" Schuss)\")","v":"Serie - 04 (20 Schuss)"},"Summe","Datum:",{"$f":"CONCATENATE(\"Serie - 01\",\" (\",Hauptmaske!$B$5,\" Schuss)\")","v":"Serie - 01 (20 Schuss)"},{"$f":"CONCATENATE(\"Serie - 02\",\" (\",Hauptmaske!$B$5,\" Schuss)\")","v":"Serie - 02 (20 Schuss)"},{"$f":"CONCATENATE(\"Serie - 03\",\" (\",Hauptmaske!$B$5,\" Schuss)\")","v":"Serie - 03 (20 Schuss)"},{"$f":"CONCATENATE(\"Serie - 04\",\" (\",Hauptmaske!$B$5,\" Schuss)\")","v":"Serie - 04 (20 Schuss)"},"Summe","Datum:",{"$f":"CONCATENATE(\"Serie - 01\",\" (\",Hauptmaske!$B$5,\" Schuss)\")","v":"Serie - 01 (20 Schuss)"},{"$f":"CONCATENATE(\"Serie - 02\",\" (\",Hauptmaske!$B$5,\" Schuss)\")","v":"Serie - 02 (20 Schuss)"},{"$f":"CONCATENATE(\"Serie - 03\",\" (\",Hauptmaske!$B$5,\" Schuss)\")","v":"Serie - 03 (20 Schuss)"},{"$f":"CONCATENATE(\"Serie - 04\",\" (\",Hauptmaske!$B$5,\" Schuss)\")","v":"Serie - 04 (20 Schuss)"},"Summe","Datum:",{"$f":"CONCATENATE(\"Serie - 01\",\" (\",Hauptmaske!$B$5,\" Schuss)\")","v":"Serie - 01 (20 Schuss)"},{"$f":"CONCATENATE(\"Serie - 02\",\" (\",Hauptmaske!$B$5,\" Schuss)\")","v":"Serie - 02 (20 Schuss)"},{"$f":"CONCATENATE(\"Serie - 03\",\" (\",Hauptmaske!$B$5,\" Schuss)\")","v":"Serie - 03 (20 Schuss)"},{"$f":"CONCATENATE(\"Serie - 04\",\" (\",Hauptmaske!$B$5,\" Schuss)\")","v":"Serie - 04 (20 Schuss)"},"Summe","Datum:",{"$f":"CONCATENATE(\"Serie - 01\",\" (\",Hauptmaske!$B$5,\" Schuss)\")","v":"Serie - 01 (20 Schuss)"},{"$f":"CONCATENATE(\"Serie - 02\",\" (\",Hauptmaske!$B$5,\" Schuss)\")","v":"Serie - 02 (20 Schuss)"},{"$f":"CONCATENATE(\"Serie - 03\",\" (\",Hauptmaske!$B$5,\" Schuss)\")","v":"Serie - 03 (20 Schuss)"},{"$f":"CONCATENATE(\"Serie - 04\",\" (\",Hauptmaske!$B$5,\" Schuss)\")","v":"Serie - 04 (20 Schuss)"},"Summe","Datum:",{"$f":"CONCATENATE(\"Serie - 01\",\" (\",Hauptmaske!$B$5,\" Schuss)\")","v":"Serie - 01 (20 Schuss)"},{"$f":"CONCATENATE(\"Serie - 02\",\" (\",Hauptmaske!$B$5,\" Schuss)\")","v":"Serie - 02 (20 Schuss)"},{"$f":"CONCATENATE(\"Serie - 03\",\" (\",Hauptmaske!$B$5,\" Schuss)\")","v":"Serie - 03 (20 Schuss)"},{"$f":"CONCATENATE(\"Serie - 04\",\" (\",Hauptmaske!$B$5,\" Schuss)\")","v":"Serie - 04 (20 Schuss)"},"Summe","Datum:",{"$f":"CONCATENATE(\"Serie - 01\",\" (\",Hauptmaske!$B$5,\" Schuss)\")","v":"Serie - 01 (20 Schuss)"},{"$f":"CONCATENATE(\"Serie - 02\",\" (\",Hauptmaske!$B$5,\" Schuss)\")","v":"Serie - 02 (20 Schuss)"},{"$f":"CONCATENATE(\"Serie - 03\",\" (\",Hauptmaske!$B$5,\" Schuss)\")","v":"Serie - 03 (20 Schuss)"},{"$f":"CONCATENATE(\"Serie - 04\",\" (\",Hauptmaske!$B$5,\" Schuss)\")","v":"Serie - 04 (20 Schuss)"},"Summe","Datum:",{"$f":"CONCATENATE(\"Serie - 01\",\" (\",Hauptmaske!$B$5,\" Schuss)\")","v":"Serie - 01 (20 Schuss)"},{"$f":"CONCATENATE(\"Serie - 02\",\" (\",Hauptmaske!$B$5,\" Schuss)\")","v":"Serie - 02 (20 Schuss)"},{"$f":"CONCATENATE(\"Serie - 03\",\" (\",Hauptmaske!$B$5,\" Schuss)\")","v":"Serie - 03 (20 Schuss)"},{"$f":"CONCATENATE(\"Serie - 04\",\" (\",Hauptmaske!$B$5,\" Schuss)\")","v":"Serie - 04 (20 Schuss)"},"Summe","Datum:",{"$f":"CONCATENATE(\"Serie - 01\",\" (\",Hauptmaske!$B$5,\" Schuss)\")","v":"Serie - 01 (20 Schuss)"},{"$f":"CONCATENATE(\"Serie - 02\",\" (\",Hauptmaske!$B$5,\" Schuss)\")","v":"Serie - 02 (20 Schuss)"},{"$f":"CONCATENATE(\"Serie - 03\",\" (\",Hauptmaske!$B$5,\" Schuss)\")","v":"Serie - 03 (20 Schuss)"},{"$f":"CONCATENATE(\"Serie - 04\",\" (\",Hauptmaske!$B$5,\" Schuss)\")","v":"Serie - 04 (20 Schuss)"},"Summe","Datum:",{"$f":"CONCATENATE(\"Serie - 01\",\" (\",Hauptmaske!$B$5,\" Schuss)\")","v":"Serie - 01 (20 Schuss)"},{"$f":"CONCATENATE(\"Serie - 02\",\" (\",Hauptmaske!$B$5,\" Schuss)\")","v":"Serie - 02 (20 Schuss)"},{"$f":"CONCATENATE(\"Serie - 03\",\" (\",Hauptmaske!$B$5,\" Schuss)\")","v":"Serie - 03 (20 Schuss)"},{"$f":"CONCATENATE(\"Serie - 04\",\" (\",Hauptmaske!$B$5,\" Schuss)\")","v":"Serie - 04 (20 Schuss)"},"Summe","Datum:",{"$f":"CONCATENATE(\"Serie - 01\",\" (\",Hauptmaske!$B$5,\" Schuss)\")","v":"Serie - 01 (20 Schuss)"},{"$f":"CONCATENATE(\"Serie - 02\",\" (\",Hauptmaske!$B$5,\" Schuss)\")","v":"Serie - 02 (20 Schuss)"},{"$f":"CONCATENATE(\"Serie - 03\",\" (\",Hauptmaske!$B$5,\" Schuss)\")","v":"Serie - 03 (20 Schuss)"},{"$f":"CONCATENATE(\"Serie - 04\",\" (\",Hauptmaske!$B$5,\" Schuss)\")","v":"Serie - 04 (20 Schuss)"},"Summe","Datum:",{"$f":"CONCATENATE(\"Serie - 01\",\" (\",Hauptmaske!$B$5,\" Schuss)\")","v":"Serie - 01 (20 Schuss)"},{"$f":"CONCATENATE(\"Serie - 02\",\" (\",Hauptmaske!$B$5,\" Schuss)\")","v":"Serie - 02 (20 Schuss)"},{"$f":"CONCATENATE(\"Serie - 03\",\" (\",Hauptmaske!$B$5,\" Schuss)\")","v":"Serie - 03 (20 Schuss)"},{"$f":"CONCATENATE(\"Serie - 04\",\" (\",Hauptmaske!$B$5,\" Schuss)\")","v":"Serie - 04 (20 Schuss)"},"Summe","Datum:",{"$f":"CONCATENATE(\"Serie - 01\",\" (\",Hauptmaske!$B$5,\" Schuss)\")","v":"Serie - 01 (20 Schuss)"},{"$f":"CONCATENATE(\"Serie - 02\",\" (\",Hauptmaske!$B$5,\" Schuss)\")","v":"Serie - 02 (20 Schuss)"},{"$f":"CONCATENATE(\"Serie - 03\",\" (\",Hauptmaske!$B$5,\" Schuss)\")","v":"Serie - 03 (20 Schuss)"},{"$f":"CONCATENATE(\"Serie - 04\",\" (\",Hauptmaske!$B$5,\" Schuss)\")","v":"Serie - 04 (20 Schuss)"},"Summe","Datum:",{"$f":"CONCATENATE(\"Serie - 01\",\" (\",Hauptmaske!$B$5,\" Schuss)\")","v":"Serie - 01 (20 Schuss)"},{"$f":"CONCATENATE(\"Serie - 02\",\" (\",Hauptmaske!$B$5,\" Schuss)\")","v":"Serie - 02 (20 Schuss)"},{"$f":"CONCATENATE(\"Serie - 03\",\" (\",Hauptmaske!$B$5,\" Schuss)\")","v":"Serie - 03 (20 Schuss)"},{"$f":"CONCATENATE(\"Serie - 04\",\" (\",Hauptmaske!$B$5,\" Schuss)\")","v":"Serie - 04 (20 Schuss)"},"Summe","Datum:",{"$f":"CONCATENATE(\"Serie - 01\",\" (\",Hauptmaske!$B$5,\" Schuss)\")","v":"Serie - 01 (20 Schuss)"},{"$f":"CONCATENATE(\"Serie - 02\",\" (\",Hauptmaske!$B$5,\" Schuss)\")","v":"Serie - 02 (20 Schuss)"},{"$f":"CONCATENATE(\"Serie - 03\",\" (\",Hauptmaske!$B$5,\" Schuss)\")","v":"Serie - 03 (20 Schuss)"},{"$f":"CONCATENATE(\"Serie - 04\",\" (\",Hauptmaske!$B$5,\" Schuss)\")","v":"Serie - 04 (20 Schuss)"},"Summe","Datum:",{"$f":"CONCATENATE(\"Serie - 01\",\" (\",Hauptmaske!$B$5,\" Schuss)\")","v":"Serie - 01 (20 Schuss)"},{"$f":"CONCATENATE(\"Serie - 02\",\" (\",Hauptmaske!$B$5,\" Schuss)\")","v":"Serie - 02 (20 Schuss)"},{"$f":"CONCATENATE(\"Serie - 03\",\" (\",Hauptmaske!$B$5,\" Schuss)\")","v":"Serie - 03 (20 Schuss)"},{"$f":"CONCATENATE(\"Serie - 04\",\" (\",Hauptmaske!$B$5,\" Schuss)\")","v":"Serie - 04 (20 Schuss)"},"Summe","Datum:",{"$f":"CONCATENATE(\"Serie - 01\",\" (\",Hauptmaske!$B$5,\" Schuss)\")","v":"Serie - 01 (20 Schuss)"},{"$f":"CONCATENATE(\"Serie - 02\",\" (\",Hauptmaske!$B$5,\" Schuss)\")","v":"Serie - 02 (20 Schuss)"},{"$f":"CONCATENATE(\"Serie - 03\",\" (\",Hauptmaske!$B$5,\" Schuss)\")","v":"Serie - 03 (20 Schuss)"},{"$f":"CONCATENATE(\"Serie - 04\",\" (\",Hauptmaske!$B$5,\" Schuss)\")","v":"Serie - 04 (20 Schuss)"},"Summe","Datum:",{"$f":"CONCATENATE(\"Serie - 01\",\" (\",Hauptmaske!$B$5,\" Schuss)\")","v":"Serie - 01 (20 Schuss)"},{"$f":"CONCATENATE(\"Serie - 02\",\" (\",Hauptmaske!$B$5,\" Schuss)\")","v":"Serie - 02 (20 Schuss)"},{"$f":"CONCATENATE(\"Serie - 03\",\" (\",Hauptmaske!$B$5,\" Schuss)\")","v":"Serie - 03 (20 Schuss)"},{"$f":"CONCATENATE(\"Serie - 04\",\" (\",Hauptmaske!$B$5,\" Schuss)\")","v":"Serie - 04 (20 Schuss)"},"Summe","Datum:",{"$f":"CONCATENATE(\"Serie - 01\",\" (\",Hauptmaske!$B$5,\" Schuss)\")","v":"Serie - 01 (20 Schuss)"},{"$f":"CONCATENATE(\"Serie - 02\",\" (\",Hauptmaske!$B$5,\" Schuss)\")","v":"Serie - 02 (20 Schuss)"},{"$f":"CONCATENATE(\"Serie - 03\",\" (\",Hauptmaske!$B$5,\" Schuss)\")","v":"Serie - 03 (20 Schuss)"},{"$f":"CONCATENATE(\"Serie - 04\",\" (\",Hauptmaske!$B$5,\" Schuss)\")","v":"Serie - 04 (20 Schuss)"},"Summe","Datum:",{"$f":"CONCATENATE(\"Serie - 01\",\" (\",Hauptmaske!$B$5,\" Schuss)\")","v":"Serie - 01 (20 Schuss)"},{"$f":"CONCATENATE(\"Serie - 02\",\" (\",Hauptmaske!$B$5,\" Schuss)\")","v":"Serie - 02 (20 Schuss)"},{"$f":"CONCATENATE(\"Serie - 03\",\" (\",Hauptmaske!$B$5,\" Schuss)\")","v":"Serie - 03 (20 Schuss)"},{"$f":"CONCATENATE(\"Serie - 04\",\" (\",Hauptmaske!$B$5,\" Schuss)\")","v":"Serie - 04 (20 Schuss)"},"Summe","Datum:",{"$f":"CONCATENATE(\"Serie - 01\",\" (\",Hauptmaske!$B$5,\" Schuss)\")","v":"Serie - 01 (20 Schuss)"},{"$f":"CONCATENATE(\"Serie - 02\",\" (\",Hauptmaske!$B$5,\" Schuss)\")","v":"Serie - 02 (20 Schuss)"},{"$f":"CONCATENATE(\"Serie - 03\",\" (\",Hauptmaske!$B$5,\" Schuss)\")","v":"Serie - 03 (20 Schuss)"},{"$f":"CONCATENATE(\"Serie - 04\",\" (\",Hauptmaske!$B$5,\" Schuss)\")","v":"Serie - 04 (20 Schuss)"},"Summe","Datum:",{"$f":"CONCATENATE(\"Serie - 01\",\" (\",Hauptmaske!$B$5,\" Schuss)\")","v":"Serie - 01 (20 Schuss)"},{"$f":"CONCATENATE(\"Serie - 02\",\" (\",Hauptmaske!$B$5,\" Schuss)\")","v":"Serie - 02 (20 Schuss)"},{"$f":"CONCATENATE(\"Serie - 03\",\" (\",Hauptmaske!$B$5,\" Schuss)\")","v":"Serie - 03 (20 Schuss)"},{"$f":"CONCATENATE(\"Serie - 04\",\" (\",Hauptmaske!$B$5,\" Schuss)\")","v":"Serie - 04 (20 Schuss)"},"Summe"]
["2016-01-01",null,null,null,null,{"$f":"IF(A9=\"\",\"\",SUM(B9:E9))","v":0},null,null,null,null,null,{"$f":"IF(G9=\"\",\"\",SUM(H9:K9))","v":""},null,null,null,null,null,{"$f":"IF(M9=\"\",\"\",SUM(N9:Q9))","v":""},null,null,null,null,null,{"$f":"IF(S9=\"\",\"\",SUM(T9:W9))","v":""},null,null,null,null,null,{"$f":"IF(Y9=\"\",\"\",SUM(Z9:AC9))","v":""},null,null,null,null,null,{"$f":"IF(AE9=\"\",\"\",SUM(AF9:AI9))","v":""},null,null,null,null,null,{"$f":"IF(AK9=\"\",\"\",SUM(AL9:AO9))","v":""},null,null,null,null,null,{"$f":"IF(AQ9=\"\",\"\",SUM(AR9:AU9))","v":""},null,null,null,null,null,{"$f":"IF(AW9=\"\",\"\",SUM(AX9:BA9))","v":""},null,null,null,null,null,{"$f":"IF(BC9=\"\",\"\",SUM(BD9:BG9))","v":""},null,null,null,null,null,{"$f":"IF(BI9=\"\",\"\",SUM(BJ9:BM9))","v":""},null,null,null,null,null,{"$f":"IF(BO9=\"\",\"\",SUM(BP9:BS9))","v":""},null,null,null,null,null,{"$f":"IF(BU9=\"\",\"\",SUM(BV9:BY9))","v":""},null,null,null,null,null,{"$f":"IF(CA9=\"\",\"\",SUM(CB9:CE9))","v":""},null,null,null,null,null,{"$f":"IF(CG9=\"\",\"\",SUM(CH9:CK9))","v":""},null,null,null,null,null,{"$f":"IF(CM9=\"\",\"\",SUM(CN9:CQ9))","v":""},null,null,null,null,null,{"$f":"IF(CS9=\"\",\"\",SUM(CT9:CW9))","v":""},null,null,null,null,null,{"$f":"IF(CY9=\"\",\"\",SUM(CZ9:DC9))","v":""},null,null,null,null,null,{"$f":"IF(DE9=\"\",\"\",SUM(DF9:DI9))","v":""},null,null,null,null,null,{"$f":"IF(DK9=\"\",\"\",SUM(DL9:DO9))","v":""},null,null,null,null,null,{"$f":"IF(DQ9=\"\",\"\",SUM(DR9:DU9))","v":""},null,null,null,null,null,{"$f":"IF(DW9=\"\",\"\",SUM(DX9:EA9))","v":""},null,null,null,null,null,{"$f":"IF(EC9=\"\",\"\",SUM(ED9:EG9))","v":""},null,null,null,null,null,{"$f":"IF(EI9=\"\",\"\",SUM(EJ9:EM9))","v":""},null,null,null,null,null,{"$f":"IF(EO9=\"\",\"\",SUM(EP9:ES9))","v":""},null,null,null,null,null,{"$f":"IF(EU9=\"\",\"\",SUM(EV9:EY9))","v":""},null,null,null,null,null,{"$f":"IF(FA9=\"\",\"\",SUM(FB9:FE9))","v":""},null,null,null,null,null,{"$f":"IF(FG9=\"\",\"\",SUM(FH9:FK9))","v":""},null,null,null,null,null,{"$f":"IF(FM9=\"\",\"\",SUM(FN9:FQ9))","v":""},null,null,null,null,null,{"$f":"IF(FS9=\"\",\"\",SUM(FT9:FW9))","v":""},null,null,null,null,null,{"$f":"IF(FY9=\"\",\"\",SUM(FZ9:GC9))","v":""},null,null,null,null,null,{"$f":"IF(GE9=\"\",\"\",SUM(GF9:GI9))","v":""},null,null,null,null,null,{"$f":"IF(GK9=\"\",\"\",SUM(GL9:GO9))","v":""},null,null,null,null,null,{"$f":"IF(GQ9=\"\",\"\",SUM(GR9:GU9))","v":""},null,null,null,null,null,{"$f":"IF(GW9=\"\",\"\",SUM(GX9:HA9))","v":""},null,null,null,null,null,{"$f":"IF(HC9=\"\",\"\",SUM(HD9:HG9))","v":""},null,null,null,null,null,{"$f":"IF(HI9=\"\",\"\",SUM(HJ9:HM9))","v":""},null,null,null,null,null,{"$f":"IF(HO9=\"\",\"\",SUM(HP9:HS9))","v":""},null,null,null,null,null,{"$f":"IF(HU9=\"\",\"\",SUM(HV9:HY9))","v":""},null,null,null,null,null,{"$f":"IF(IA9=\"\",\"\",SUM(IB9:IE9))","v":""}]
[null,null,null,null,null,{"$f":"IF(A10=\"\",\"\",SUM(B10:E10))","v":""},null,null,null,null,null,"",null,null,null,null,null,"",null,null,null,null,null,"",null,null,null,null,null,"",null,null,null,null,null,"",null,null,null,null,null,"",null,null,null,null,null,"",null,null,null,null,null,"",null,null,null,null,null,"",null,null,null,null,null,"",null,null,null,null,null,"",null,null,null,null,null,"",null,null,null,null,null,"",null,null,null,null,null,"",null,null,null,null,null,"",null,null,null,null,null,"",null,null,null,null,null,"",null,null,null,null,null,"",null,null,null,null,null,"",null,null,null,null,null,"",null,null,null,null,null,"",null,null,null,null,null,"",null,null,null,null,null,"",null,null,null,null,null,"",null,null,null,null,null,"",null,null,null,null,null,"",null,null,null,null,null,"",null,null,null,null,null,"",null,null,null,null,null,"",null,null,null,null,null,"",null,null,null,null,null,"",null,null,null,null,null,"",null,null,null,null,null,"",null,null,null,null,null,"",null,null,null,null,null,"",null,null,null,null,null,"",null,null,null,null,null,"",null,null,null,null,null,"",null,null,null,null,null,""]
[null,null,null,null,null,"",null,null,null,null,null,"",null,null,null,null,null,"",null,null,null,null,null,"",null,null,null,null,null,"",null,null,null,null,null,"",null,null,null,null,null,"",null,null,null,null,null,"",null,null,null,null,null,"",null,null,null,null,null,"",null,null,null,null,null,"",null,null,null,null,null,"",null,null,null,null,null,"",null,null,null,null,null,"",null,null,null,null,null,"",null,null,null,null,null,"",null,null,null,null,null,"",null,null,null,null,null,"",null,null,null,null,null,"",null,null,null,null,null,"",null,null,null,null,null,"",null,null,null,null,null,"",null,null,null,null,null,"",null,null,null,null,null,"",null,null,null,null,null,"",null,null,null,null,null,"",null,null,null,null,null,"",null,null,null,null,null,"",null,null,null,null,null,"",null,null,null,null,null,"",null,null,null,null,null,"",null,null,null,null,null,"",null,null,null,null,null,"",null,null,null,null,null,"",null,null,null,null,null,"",null,null,null,null,null,"",null,null,null,null,null,"",null,null,null,null,null,"",null,null,null,null,null,"",null,null,null,null,null,""]
[null,null,null,null,null,"",null,null,null,null,null,"",null,null,null,null,null,"",null,null,null,null,null,"",null,null,null,null,null,"",null,null,null,null,null,"",null,null,null,null,null,"",null,null,null,null,null,"",null,null,null,null,null,"",null,null,null,null,null,"",null,null,null,null,null,"",null,null,null,null,null,"",null,null,null,null,null,"",null,null,null,null,null,"",null,null,null,null,null,"",null,null,null,null,null,"",null,null,null,null,null,"",null,null,null,null,null,"",null,null,null,null,null,"",null,null,null,null,null,"",null,null,null,null,null,"",null,null,null,null,null,"",null,null,null,null,null,"",null,null,null,null,null,"",null,null,null,null,null,"",null,null,null,null,null,"",null,null,null,null,null,"",null,null,null,null,null,"",null,null,null,null,null,"",null,null,null,null,null,"",null,null,null,null,null,"",null,null,null,null,null,"",null,null,null,null,null,"",null,null,null,null,null,"",null,null,null,null,null,"",null,null,null,null,null,"",null,null,null,null,null,"",null,null,null,null,null,"",null,null,null,null,null,"",null,null,null,null,null,""]
[null,null,null,null,null,"",null,null,null,null,null,"",null,null,null,null,null,"",null,null,null,null,null,"",null,null,null,null,null,"",null,null,null,null,null,"",null,null,null,null,null,"",null,null,null,null,null,"",null,null,null,null,null,"",null,null,null,null,null,"",null,null,null,null,null,"",null,null,null,null,null,"",null,null,null,null,null,"",null,null,null,null,null,"",null,null,null,null,null,"",null,null,null,null,null,"",null,null,null,null,null,"",null,null,null,null,null,"",null,null,null,null,null,"",null,null,null,null,null,"",null,null,null,null,null,"",null,null,null,null,null,"",null,null,null,null,null,"",null,null,null,null,null,"",null,null,null,null,null,"",null,null,null,null,null,"",null,null,null,null,null,"",null,null,null,null,null,"",null,null,null,null,null,"",null,null,null,null,null,"",null,null,null,null,null,"",null,null,null,null,null,"",null,null,null,null,null,"",null,null,null,null,null,"",null,null,null,null,null,"",null,null,null,null,null,"",null,null,null,null,null,"",null,null,null,null,null,"",null,null,null,null,null,"",null,null,null,null,null,""]
[null,null,null,null,null,"",null,null,null,null,null,"",null,null,null,null,null,"",null,null,null,null,null,"",null,null,null,null,null,"",null,null,null,null,null,"",null,null,null,null,null,"",null,null,null,null,null,"",null,null,null,null,null,"",null,null,null,null,null,"",null,null,null,null,null,"",null,null,null,null,null,"",null,null,null,null,null,"",null,null,null,null,null,"",null,null,null,null,null,"",null,null,null,null,null,"",null,null,null,null,null,"",null,null,null,null,null,"",null,null,null,null,null,"",null,null,null,null,null,"",null,null,null,null,null,"",null,null,null,null,null,"",null,null,null,null,null,"",null,null,null,null,null,"",null,null,null,null,null,"",null,null,null,null,null,"",null,null,null,null,null,"",null,null,null,null,null,"",null,null,null,null,null,"",null,null,null,null,null,"",null,null,null,null,null,"",null,null,null,null,null,"",null,null,null,null,null,"",null,null,null,null,null,"",null,null,null,null,null,"",null,null,null,null,null,"",null,null,null,null,null,"",null,null,null,null,null,"",null,null,null,null,null,"",null,null,null,null,null,""]
[null,null,null,null,null,"",null,null,null,null,null,"",null,null,null,null,null,"",null,null,null,null,null,"",null,null,null,null,null,"",null,null,null,null,null,"",null,null,null,null,null,"",null,null,null,null,null,"",null,null,null,null,null,"",null,null,null,null,null,"",null,null,null,null,null,"",null,null,null,null,null,"",null,null,null,null,null,"",null,null,null,null,null,"",null,null,null,null,null,"",null,null,null,null,null,"",null,null,null,null,null,"",null,null,null,null,null,"",null,null,null,null,null,"",null,null,null,null,null,"",null,null,null,null,null,"",null,null,null,null,null,"",null,null,null,null,null,"",null,null,null,null,null,"",null,null,null,null,null,"",null,null,null,null,null,"",null,null,null,null,null,"",null,null,null,null,null,"",null,null,null,null,null,"",null,null,null,null,null,"",null,null,null,null,null,"",null,null,null,null,null,"",null,null,null,null,null,"",null,null,null,null,null,"",null,null,null,null,null,"",null,null,null,null,null,"",null,null,null,null,null,"",null,null,null,null,null,"",null,null,null,null,null,"",null,null,null,null,null,""]
[null,null,null,null,null,"",null,null,null,null,null,"",null,null,null,null,null,"",null,null,null,null,null,"",null,null,null,null,null,"",null,null,null,null,null,"",null,null,null,null,null,"",null,null,null,null,null,"",null,null,null,null,null,"",null,null,null,null,null,"",null,null,null,null,null,"",null,null,null,null,null,"",null,null,null,null,null,"",null,null,null,null,null,"",null,null,null,null,null,"",null,null,null,null,null,"",null,null,null,null,null,"",null,null,null,null,null,"",null,null,null,null,null,"",null,null,null,null,null,"",null,null,null,null,null,"",null,null,null,null,null,"",null,null,null,null,null,"",null,null,null,null,null,"",null,null,null,null,null,"",null,null,null,null,null,"",null,null,null,null,null,"",null,null,null,null,null,"",null,null,null,null,null,"",null,null,null,null,null,"",null,null,null,null,null,"",null,null,null,null,null,"",null,null,null,null,null,"",null,null,null,null,null,"",null,null,null,null,null,"",null,null,null,null,null,"",null,null,null,null,null,"",null,null,null,null,null,"",null,null,null,null,null,"",null,null,null,null,null,""]
[null,null,null,null,null,"",null,null,null,null,null,"",null,null,null,null,null,"",null,null,null,null,null,"",null,null,null,null,null,"",null,null,null,null,null,"",null,null,null,null,null,"",null,null,null,null,null,"",null,null,null,null,null,"",null,null,null,null,null,"",null,null,null,null,null,"",null,null,null,null,null,"",null,null,null,null,null,"",null,null,null,null,null,"",null,null,null,null,null,"",null,null,null,null,null,"",null,null,null,null,null,"",null,null,null,null,null,"",null,null,null,null,null,"",null,null,null,null,null,"",null,null,null,null,null,"",null,null,null,null,null,"",null,null,null,null,null,"",null,null,null,null,null,"",null,null,null,null,null,"",null,null,null,null,null,"",null,null,null,null,null,"",null,null,null,null,null,"",null,null,null,null,null,"",null,null,null,null,null,"",null,null,null,null,null,"",null,null,null,null,null,"",null,null,null,null,null,"",null,null,null,null,null,"",null,null,null,null,null,"",null,null,null,null,null,"",null,null,null,null,null,"",null,null,null,null,null,"",null,null,null,null,null,"",null,null,null,null,null,""]
[null,null,null,null,null,"",null,null,null,null,null,"",null,null,null,null,null,"",null,null,null,null,null,"",null,null,null,null,null,"",null,null,null,null,null,"",null,null,null,null,null,"",null,null,null,null,null,"",null,null,null,null,null,"",null,null,null,null,null,"",null,null,null,null,null,"",null,null,null,null,null,"",null,null,null,null,null,"",null,null,null,null,null,"",null,null,null,null,null,"",null,null,null,null,null,"",null,null,null,null,null,"",null,null,null,null,null,"",null,null,null,null,null,"",null,null,null,null,null,"",null,null,null,null,null,"",null,null,null,null,null,"",null,null,null,null,null,"",null,null,null,null,null,"",null,null,null,null,null,"",null,null,null,null,null,"",null,null,null,null,null,"",null,null,null,null,null,"",null,null,null,null,null,"",null,null,null,null,null,"",null,null,null,null,null,"",null,null,null,null,null,"",null,null,null,null,null,"",null,null,null,null,null,"",null,null,null,null,null,"",null,null,null,null,null,"",null,null,null,null,null,"",null,null,null,null,null,"",null,null,null,null,null,"",null,null,null,null,null,""]
[null,null,null,null,null,"",null,null,null,null,null,"",null,null,null,null,null,"",null,null,null,null,null,"",null,null,null,null,null,"",null,null,null,null,null,"",null,null,null,null,null,"",null,null,null,null,null,"",null,null,null,null,null,"",null,null,null,null,null,"",null,null,null,null,null,"",null,null,null,null,null,"",null,null,null,null,null,"",null,null,null,null,null,"",null,null,null,null,null,"",null,null,null,null,null,"",null,null,null,null,null,"",null,null,null,null,null,"",null,null,null,null,null,"",null,null,null,null,null,"",null,null,null,null,null,"",null,null,null,null,null,"",null,null,null,null,null,"",null,null,null,null,null,"",null,null,null,null,null,"",null,null,null,null,null,"",null,null,null,null,null,"",null,null,null,null,null,"",null,null,null,null,null,"",null,null,null,null,null,"",null,null,null,null,null,"",null,null,null,null,null,"",null,null,null,null,null,"",null,null,null,null,null,"",null,null,null,null,null,"",null,null,null,null,null,"",null,null,null,null,null,"",null,null,null,null,null,"",null,null,null,null,null,"",null,null,null,null,null,""]
[null,null,null,null,null,"",null,null,null,null,null,"",null,null,null,null,null,"",null,null,null,null,null,"",null,null,null,null,null,"",null,null,null,null,null,"",null,null,null,null,null,"",null,null,null,null,null,"",null,null,null,null,null,"",null,null,null,null,null,"",null,null,null,null,null,"",null,null,null,null,null,"",null,null,null,null,null,"",null,null,null,null,null,"",null,null,null,null,null,"",null,null,null,null,null,"",null,null,null,null,null,"",null,null,null,null,null,"",null,null,null,null,null,"",null,null,null,null,null,"",null,null,null,null,null,"",null,null,null,null,null,"",null,null,null,null,null,"",null,null,null,null,null,"",null,null,null,null,null,"",null,null,null,null,null,"",null,null,null,null,null,"",null,null,null,null,null,"",null,null,null,null,null,"",null,null,null,null,null,"",null,null,null,null,null,"",null,null,null,null,null,"",null,null,null,null,null,"",null,null,null,null,null,"",null,null,null,null,null,"",null,null,null,null,null,"",null,null,null,null,null,"",null,null,null,null,null,"",null,null,null,null,null,"",null,null,null,null,null,""]
[null,null,null,null,null,"",null,null,null,null,null,"",null,null,null,null,null,"",null,null,null,null,null,"",null,null,null,null,null,"",null,null,null,null,null,"",null,null,null,null,null,"",null,null,null,null,null,"",null,null,null,null,null,"",null,null,null,null,null,"",null,null,null,null,null,"",null,null,null,null,null,"",null,null,null,null,null,"",null,null,null,null,null,"",null,null,null,null,null,"",null,null,null,null,null,"",null,null,null,null,null,"",null,null,null,null,null,"",null,null,null,null,null,"",null,null,null,null,null,"",null,null,null,null,null,"",null,null,null,null,null,"",null,null,null,null,null,"",null,null,null,null,null,"",null,null,null,null,null,"",null,null,null,null,null,"",null,null,null,null,null,"",null,null,null,null,null,"",null,null,null,null,null,"",null,null,null,null,null,"",null,null,null,null,null,"",null,null,null,null,null,"",null,null,null,null,null,"",null,null,null,null,null,"",null,null,null,null,null,"",null,null,null,null,null,"",null,null,null,null,null,"",null,null,null,null,null,"",null,null,null,null,null,"",null,null,null,null,null,""]
[null,null,null,null,null,"",null,null,null,null,null,"",null,null,null,null,null,"",null,null,null,null,null,"",null,null,null,null,null,"",null,null,null,null,null,"",null,null,null,null,null,"",null,null,null,null,null,"",null,null,null,null,null,"",null,null,null,null,null,"",null,null,null,null,null,"",null,null,null,null,null,"",null,null,null,null,null,"",null,null,null,null,null,"",null,null,null,null,null,"",null,null,null,null,null,"",null,null,null,null,null,"",null,null,null,null,null,"",null,null,null,null,null,"",null,null,null,null,null,"",null,null,null,null,null,"",null,null,null,null,null,"",null,null,null,null,null,"",null,null,null,null,null,"",null,null,null,null,null,"",null,null,null,null,null,"",null,null,null,null,null,"",null,null,null,null,null,"",null,null,null,null,null,"",null,null,null,null,null,"",null,null,null,null,null,"",null,null,null,null,null,"",null,null,null,null,null,"",null,null,null,null,null,"",null,null,null,null,null,"",null,null,null,null,null,"",null,null,null,null,null,"",null,null,null,null,null,"",null,null,null,null,null,"",null,null,null,null,null,""]
[null,null,null,null,null,"",null,null,null,null,null,"",null,null,null,null,null,"",null,null,null,null,null,"",null,null,null,null,null,"",null,null,null,null,null,"",null,null,null,null,null,"",null,null,null,null,null,"",null,null,null,null,null,"",null,null,null,null,null,"",null,null,null,null,null,"",null,null,null,null,null,"",null,null,null,null,null,"",null,null,null,null,null,"",null,null,null,null,null,"",null,null,null,null,null,"",null,null,null,null,null,"",null,null,null,null,null,"",null,null,null,null,null,"",null,null,null,null,null,"",null,null,null,null,null,"",null,null,null,null,null,"",null,null,null,null,null,"",null,null,null,null,null,"",null,null,null,null,null,"",null,null,null,null,null,"",null,null,null,null,null,"",null,null,null,null,null,"",null,null,null,null,null,"",null,null,null,null,null,"",null,null,null,null,null,"",null,null,null,null,null,"",null,null,null,null,null,"",null,null,null,null,null,"",null,null,null,null,null,"",null,null,null,null,null,"",null,null,null,null,null,"",null,null,null,null,null,"",null,null,null,null,null,"",null,null,null,null,null,""]
[null,null,null,null,null,"",null,null,null,null,null,"",null,null,null,null,null,"",null,null,null,null,null,"",null,null,null,null,null,"",null,null,null,null,null,"",null,null,null,null,null,"",null,null,null,null,null,"",null,null,null,null,null,"",null,null,null,null,null,"",null,null,null,null,null,"",null,null,null,null,null,"",null,null,null,null,null,"",null,null,null,null,null,"",null,null,null,null,null,"",null,null,null,null,null,"",null,null,null,null,null,"",null,null,null,null,null,"",null,null,null,null,null,"",null,null,null,null,null,"",null,null,null,null,null,"",null,null,null,null,null,"",null,null,null,null,null,"",null,null,null,null,null,"",null,null,null,null,null,"",null,null,null,null,null,"",null,null,null,null,null,"",null,null,null,null,null,"",null,null,null,null,null,"",null,null,null,null,null,"",null,null,null,null,null,"",null,null,null,null,null,"",null,null,null,null,null,"",null,null,null,null,null,"",null,null,null,null,null,"",null,null,null,null,null,"",null,null,null,null,null,"",null,null,null,null,null,"",null,null,null,null,null,"",null,null,null,null,null,""]
[null,null,null,null,null,"",null,null,null,null,null,{"$f":"IF(G25=\"\",\"\",SUM(H25:K25))","v":""},null,null,null,null,null,{"$f":"IF(M25=\"\",\"\",SUM(N25:Q25))","v":""},null,null,null,null,null,{"$f":"IF(S25=\"\",\"\",SUM(T25:W25))","v":""},null,null,null,null,null,{"$f":"IF(Y25=\"\",\"\",SUM(Z25:AC25))","v":""},null,null,null,null,null,{"$f":"IF(AE25=\"\",\"\",SUM(AF25:AI25))","v":""},null,null,null,null,null,{"$f":"IF(AK25=\"\",\"\",SUM(AL25:AO25))","v":""},null,null,null,null,null,{"$f":"IF(AQ25=\"\",\"\",SUM(AR25:AU25))","v":""},null,null,null,null,null,{"$f":"IF(AW25=\"\",\"\",SUM(AX25:BA25))","v":""},null,null,null,null,null,{"$f":"IF(BC25=\"\",\"\",SUM(BD25:BG25))","v":""},null,null,null,null,null,{"$f":"IF(BI25=\"\",\"\",SUM(BJ25:BM25))","v":""},null,null,null,null,null,{"$f":"IF(BO25=\"\",\"\",SUM(BP25:BS25))","v":""},null,null,null,null,null,{"$f":"IF(BU25=\"\",\"\",SUM(BV25:BY25))","v":""},null,null,null,null,null,{"$f":"IF(CA25=\"\",\"\",SUM(CB25:CE25))","v":""},null,null,null,null,null,{"$f":"IF(CG25=\"\",\"\",SUM(CH25:CK25))","v":""},null,null,null,null,null,{"$f":"IF(CM25=\"\",\"\",SUM(CN25:CQ25))","v":""},null,null,null,null,null,{"$f":"IF(CS25=\"\",\"\",SUM(CT25:CW25))","v":""},null,null,null,null,null,{"$f":"IF(CY25=\"\",\"\",SUM(CZ25:DC25))","v":""},null,null,null,null,null,{"$f":"IF(DE25=\"\",\"\",SUM(DF25:DI25))","v":""},null,null,null,null,null,{"$f":"IF(DK25=\"\",\"\",SUM(DL25:DO25))","v":""},null,null,null,null,null,{"$f":"IF(DQ25=\"\",\"\",SUM(DR25:DU25))","v":""},null,null,null,null,null,{"$f":"IF(DW25=\"\",\"\",SUM(DX25:EA25))","v":""},null,null,null,null,null,{"$f":"IF(EC25=\"\",\"\",SUM(ED25:EG25))","v":""},null,null,null,null,null,{"$f":"IF(EI25=\"\",\"\",SUM(EJ25:EM25))","v":""},null,null,null,null,null,{"$f":"IF(EO25=\"\",\"\",SUM(EP25:ES25))","v":""},null,null,null,null,null,{"$f":"IF(EU25=\"\",\"\",SUM(EV25:EY25))","v":""},null,null,null,null,null,{"$f":"IF(FA25=\"\",\"\",SUM(FB25:FE25))","v":""},null,null,null,null,null,{"$f":"IF(FG25=\"\",\"\",SUM(FH25:FK25))","v":""},null,null,null,null,null,{"$f":"IF(FM25=\"\",\"\",SUM(FN25:FQ25))","v":""},null,null,null,null,null,{"$f":"IF(FS25=\"\",\"\",SUM(FT25:FW25))","v":""},null,null,null,null,null,{"$f":"IF(FY25=\"\",\"\",SUM(FZ25:GC25))","v":""},null,null,null,null,null,{"$f":"IF(GE25=\"\",\"\",SUM(GF25:GI25))","v":""},null,null,null,null,null,{"$f":"IF(GK25=\"\",\"\",SUM(GL25:GO25))","v":""},null,null,null,null,null,{"$f":"IF(GQ25=\"\",\"\",SUM(GR25:GU25))","v":""},null,null,null,null,null,{"$f":"IF(GW25=\"\",\"\",SUM(GX25:HA25))","v":""},null,null,null,null,null,{"$f":"IF(HC25=\"\",\"\",SUM(HD25:HG25))","v":""},null,null,null,null,null,{"$f":"IF(HI25=\"\",\"\",SUM(HJ25:HM25))","v":""},null,null,null,null,null,{"$f":"IF(HO25=\"\",\"\",SUM(HP25:HS25))","v":""},null,null,null,null,null,{"$f":"IF(HU25=\"\",\"\",SUM(HV25:HY25))","v":""},null,null,null,null,null,""]
[null,null,null,null,null,"",null,null,null,null,null,"",null,null,null,null,null,"",null,null,null,null,null,"",null,null,null,null,null,"",null,null,null,null,null,"",null,null,null,null,null,"",null,null,null,null,null,"",null,null,null,null,null,"",null,null,null,null,null,"",null,null,null,null,null,"",null,null,null,null,null,"",null,null,null,null,null,"",null,null,null,null,null,"",null,null,null,null,null,"",null,null,null,null,null,"",null,null,null,null,null,"",null,null,null,null,null,"",null,null,null,null,null,"",null,null,null,null,null,"",null,null,null,null,null,"",null,null,null,null,null,"",null,null,null,null,null,"",null,null,null,null,null,"",null,null,null,null,null,"",null,null,null,null,null,"",null,null,null,null,null,"",null,null,null,null,null,"",null,null,null,null,null,"",null,null,null,null,null,"",null,null,null,null,null,"",null,null,null,null,null,"",null,null,null,null,null,"",null,null,null,null,null,"",null,null,null,null,null,"",null,null,null,null,null,"",null,null,null,null,null,"",null,null,null,null,null,"",null,null,null,null,null,"",null,null,null,null,null,""]
[null,null,null,null,null,"",null,null,null,null,null,"",null,null,null,null,null,"",null,null,null,null,null,"",null,null,null,null,null,"",null,null,null,null,null,"",null,null,null,null,null,"",null,null,null,null,null,"",null,null,null,null,null,"",null,null,null,null,null,"",null,null,null,null,null,"",null,null,null,null,null,"",null,null,null,null,null,"",null,null,null,null,null,"",null,null,null,null,null,"",null,null,null,null,null,"",null,null,null,null,null,"",null,null,null,null,null,"",null,null,null,null,null,"",null,null,null,null,null,"",null,null,null,null,null,"",null,null,null,null,null,"",null,null,null,null,null,"",null,null,null,null,null,"",null,null,null,null,null,"",null,null,null,null,null,"",null,null,null,null,null,"",null,null,null,null,null,"",null,null,null,null,null,"",null,null,null,null,null,"",null,null,null,null,null,"",null,null,null,null,null,"",null,null,null,null,null,"",null,null,null,null,null,"",null,null,null,null,null,"",null,null,null,null,null,"",null,null,null,null,null,"",null,null,null,null,null,"",null,null,null,null,null,"",null,null,null,null,null,""]
[null,null,null,null,null,"",null,null,null,null,null,"",null,null,null,null,null,"",null,null,null,null,null,"",null,null,null,null,null,"",null,null,null,null,null,"",null,null,null,null,null,"",null,null,null,null,null,"",null,null,null,null,null,"",null,null,null,null,null,"",null,null,null,null,null,"",null,null,null,null,null,"",null,null,null,null,null,"",null,null,null,null,null,"",null,null,null,null,null,"",null,null,null,null,null,"",null,null,null,null,null,"",null,null,null,null,null,"",null,null,null,null,null,"",null,null,null,null,null,"",null,null,null,null,null,"",null,null,null,null,null,"",null,null,null,null,null,"",null,null,null,null,null,"",null,null,null,null,null,"",null,null,null,null,null,"",null,null,null,null,null,"",null,null,null,null,null,"",null,null,null,null,null,"",null,null,null,null,null,"",null,null,null,null,null,"",null,null,null,null,null,"",null,null,null,null,null,"",null,null,null,null,null,"",null,null,null,null,null,"",null,null,null,null,null,"",null,null,null,null,null,"",null,null,null,null,null,"",null,null,null,null,null,"",null,null,null,null,null,""]
[null,null,null,null,null,"",null,null,null,null,null,"",null,null,null,null,null,"",null,null,null,null,null,"",null,null,null,null,null,"",null,null,null,null,null,"",null,null,null,null,null,"",null,null,null,null,null,"",null,null,null,null,null,"",null,null,null,null,null,"",null,null,null,null,null,"",null,null,null,null,null,"",null,null,null,null,null,"",null,null,null,null,null,"",null,null,null,null,null,"",null,null,null,null,null,"",null,null,null,null,null,"",null,null,null,null,null,"",null,null,null,null,null,"",null,null,null,null,null,"",null,null,null,null,null,"",null,null,null,null,null,"",null,null,null,null,null,"",null,null,null,null,null,"",null,null,null,null,null,"",null,null,null,null,null,"",null,null,null,null,null,"",null,null,null,null,null,"",null,null,null,null,null,"",null,null,null,null,null,"",null,null,null,null,null,"",null,null,null,null,null,"",null,null,null,null,null,"",null,null,null,null,null,"",null,null,null,null,null,"",null,null,null,null,null,"",null,null,null,null,null,"",null,null,null,null,null,"",null,null,null,null,null,"",null,null,null,null,null,""]
[null,null,null,null,null,"",null,null,null,null,null,"",null,null,null,null,null,"",null,null,null,null,null,"",null,null,null,null,null,"",null,null,null,null,null,"",null,null,null,null,null,"",null,null,null,null,null,"",null,null,null,null,null,"",null,null,null,null,null,"",null,null,null,null,null,"",null,null,null,null,null,"",null,null,null,null,null,"",null,null,null,null,null,"",null,null,null,null,null,"",null,null,null,null,null,"",null,null,null,null,null,"",null,null,null,null,null,"",null,null,null,null,null,"",null,null,null,null,null,"",null,null,null,null,null,"",null,null,null,null,null,"",null,null,null,null,null,"",null,null,null,null,null,"",null,null,null,null,null,"",null,null,null,null,null,"",null,null,null,null,null,"",null,null,null,null,null,"",null,null,null,null,null,"",null,null,null,null,null,"",null,null,null,null,null,"",null,null,null,null,null,"",null,null,null,null,null,"",null,null,null,null,null,"",null,null,null,null,null,"",null,null,null,null,null,"",null,null,null,null,null,"",null,null,null,null,null,"",null,null,null,null,null,"",null,null,null,null,null,""]
[null,null,null,null,null,"",null,null,null,null,null,"",null,null,null,null,null,"",null,null,null,null,null,"",null,null,null,null,null,"",null,null,null,null,null,"",null,null,null,null,null,"",null,null,null,null,null,"",null,null,null,null,null,"",null,null,null,null,null,"",null,null,null,null,null,"",null,null,null,null,null,"",null,null,null,null,null,"",null,null,null,null,null,"",null,null,null,null,null,"",null,null,null,null,null,"",null,null,null,null,null,"",null,null,null,null,null,"",null,null,null,null,null,"",null,null,null,null,null,"",null,null,null,null,null,"",null,null,null,null,null,"",null,null,null,null,null,"",null,null,null,null,null,"",null,null,null,null,null,"",null,null,null,null,null,"",null,null,null,null,null,"",null,null,null,null,null,"",null,null,null,null,null,"",null,null,null,null,null,"",null,null,null,null,null,"",null,null,null,null,null,"",null,null,null,null,null,"",null,null,null,null,null,"",null,null,null,null,null,"",null,null,null,null,null,"",null,null,null,null,null,"",null,null,null,null,null,"",null,null,null,null,null,"",null,null,null,null,null,""]
[null,null,null,null,null,"",null,null,null,null,null,"",null,null,null,null,null,"",null,null,null,null,null,"",null,null,null,null,null,"",null,null,null,null,null,"",null,null,null,null,null,"",null,null,null,null,null,"",null,null,null,null,null,"",null,null,null,null,null,"",null,null,null,null,null,"",null,null,null,null,null,"",null,null,null,null,null,"",null,null,null,null,null,"",null,null,null,null,null,"",null,null,null,null,null,"",null,null,null,null,null,"",null,null,null,null,null,"",null,null,null,null,null,"",null,null,null,null,null,"",null,null,null,null,null,"",null,null,null,null,null,"",null,null,null,null,null,"",null,null,null,null,null,"",null,null,null,null,null,"",null,null,null,null,null,"",null,null,null,null,null,"",null,null,null,null,null,"",null,null,null,null,null,"",null,null,null,null,null,"",null,null,null,null,null,"",null,null,null,null,null,"",null,null,null,null,null,"",null,null,null,null,null,"",null,null,null,null,null,"",null,null,null,null,null,"",null,null,null,null,null,"",null,null,null,null,null,"",null,null,null,null,null,"",null,null,null,null,null,""]
[null,null,null,null,null,"",null,null,null,null,null,"",null,null,null,null,null,"",null,null,null,null,null,"",null,null,null,null,null,"",null,null,null,null,null,"",null,null,null,null,null,"",null,null,null,null,null,"",null,null,null,null,null,"",null,null,null,null,null,"",null,null,null,null,null,"",null,null,null,null,null,"",null,null,null,null,null,"",null,null,null,null,null,"",null,null,null,null,null,"",null,null,null,null,null,"",null,null,null,null,null,"",null,null,null,null,null,"",null,null,null,null,null,"",null,null,null,null,null,"",null,null,null,null,null,"",null,null,null,null,null,"",null,null,null,null,null,"",null,null,null,null,null,"",null,null,null,null,null,"",null,null,null,null,null,"",null,null,null,null,null,"",null,null,null,null,null,"",null,null,null,null,null,"",null,null,null,null,null,"",null,null,null,null,null,"",null,null,null,null,null,"",null,null,null,null,null,"",null,null,null,null,null,"",null,null,null,null,null,"",null,null,null,null,null,"",null,null,null,null,null,"",null,null,null,null,null,"",null,null,null,null,null,"",null,null,null,null,null,""]
[null,null,null,null,null,"",null,null,null,null,null,"",null,null,null,null,null,"",null,null,null,null,null,"",null,null,null,null,null,"",null,null,null,null,null,"",null,null,null,null,null,"",null,null,null,null,null,"",null,null,null,null,null,"",null,null,null,null,null,"",null,null,null,null,null,"",null,null,null,null,null,"",null,null,null,null,null,"",null,null,null,null,null,"",null,null,null,null,null,"",null,null,null,null,null,"",null,null,null,null,null,"",null,null,null,null,null,"",null,null,null,null,null,"",null,null,null,null,null,"",null,null,null,null,null,"",null,null,null,null,null,"",null,null,null,null,null,"",null,null,null,null,null,"",null,null,null,null,null,"",null,null,null,null,null,"",null,null,null,null,null,"",null,null,null,null,null,"",null,null,null,null,null,"",null,null,null,null,null,"",null,null,null,null,null,"",null,null,null,null,null,"",null,null,null,null,null,"",null,null,null,null,null,"",null,null,null,null,null,"",null,null,null,null,null,"",null,null,null,null,null,"",null,null,null,null,null,"",null,null,null,null,null,"",null,null,null,null,null,""]
[null,null,null,null,null,"",null,null,null,null,null,"",null,null,null,null,null,"",null,null,null,null,null,"",null,null,null,null,null,"",null,null,null,null,null,"",null,null,null,null,null,"",null,null,null,null,null,"",null,null,null,null,null,"",null,null,null,null,null,"",null,null,null,null,null,"",null,null,null,null,null,"",null,null,null,null,null,"",null,null,null,null,null,"",null,null,null,null,null,"",null,null,null,null,null,"",null,null,null,null,null,"",null,null,null,null,null,"",null,null,null,null,null,"",null,null,null,null,null,"",null,null,null,null,null,"",null,null,null,null,null,"",null,null,null,null,null,"",null,null,null,null,null,"",null,null,null,null,null,"",null,null,null,null,null,"",null,null,null,null,null,"",null,null,null,null,null,"",null,null,null,null,null,"",null,null,null,null,null,"",null,null,null,null,null,"",null,null,null,null,null,"",null,null,null,null,null,"",null,null,null,null,null,"",null,null,null,null,null,"",null,null,null,null,null,"",null,null,null,null,null,"",null,null,null,null,null,"",null,null,null,null,null,"",null,null,null,null,null,""]
[null,null,null,null,null,"",null,null,null,null,null,"",null,null,null,null,null,"",null,null,null,null,null,"",null,null,null,null,null,"",null,null,null,null,null,"",null,null,null,null,null,"",null,null,null,null,null,"",null,null,null,null,null,"",null,null,null,null,null,"",null,null,null,null,null,"",null,null,null,null,null,"",null,null,null,null,null,"",null,null,null,null,null,"",null,null,null,null,null,"",null,null,null,null,null,"",null,null,null,null,null,"",null,null,null,null,null,"",null,null,null,null,null,"",null,null,null,null,null,"",null,null,null,null,null,"",null,null,null,null,null,"",null,null,null,null,null,"",null,null,null,null,null,"",null,null,null,null,null,"",null,null,null,null,null,"",null,null,null,null,null,"",null,null,null,null,null,"",null,null,null,null,null,"",null,null,null,null,null,"",null,null,null,null,null,"",null,null,null,null,null,"",null,null,null,null,null,"",null,null,null,null,null,"",null,null,null,null,null,"",null,null,null,null,null,"",null,null,null,null,null,"",null,null,null,null,null,"",null,null,null,null,null,"",null,null,null,null,null,""]
[null,null,null,null,null,"",null,null,null,null,null,"",null,null,null,null,null,"",null,null,null,null,null,"",null,null,null,null,null,"",null,null,null,null,null,"",null,null,null,null,null,"",null,null,null,null,null,"",null,null,null,null,null,"",null,null,null,null,null,"",null,null,null,null,null,"",null,null,null,null,null,"",null,null,null,null,null,"",null,null,null,null,null,"",null,null,null,null,null,"",null,null,null,null,null,"",null,null,null,null,null,"",null,null,null,null,null,"",null,null,null,null,null,"",null,null,null,null,null,"",null,null,null,null,null,"",null,null,null,null,null,"",null,null,null,null,null,"",null,null,null,null,null,"",null,null,null,null,null,"",null,null,null,null,null,"",null,null,null,null,null,"",null,null,null,null,null,"",null,null,null,null,null,"",null,null,null,null,null,"",null,null,null,null,null,"",null,null,null,null,null,"",null,null,null,null,null,"",null,null,null,null,null,"",null,null,null,null,null,"",null,null,null,null,null,"",null,null,null,null,null,"",null,null,null,null,null,"",null,null,null,null,null,"",null,null,null,null,null,""]
[null,null,null,null,null,"",null,null,null,null,null,"",null,null,null,null,null,"",null,null,null,null,null,"",null,null,null,null,null,"",null,null,null,null,null,"",null,null,null,null,null,"",null,null,null,null,null,"",null,null,null,null,null,"",null,null,null,null,null,"",null,null,null,null,null,"",null,null,null,null,null,"",null,null,null,null,null,"",null,null,null,null,null,"",null,null,null,null,null,"",null,null,null,null,null,"",null,null,null,null,null,"",null,null,null,null,null,"",null,null,null,null,null,"",null,null,null,null,null,"",null,null,null,null,null,"",null,null,null,null,null,"",null,null,null,null,null,"",null,null,null,null,null,"",null,null,null,null,null,"",null,null,null,null,null,"",null,null,null,null,null,"",null,null,null,null,null,"",null,null,null,null,null,"",null,null,null,null,null,"",null,null,null,null,null,"",null,null,null,null,null,"",null,null,null,null,null,"",null,null,null,null,null,"",null,null,null,null,null,"",null,null,null,null,null,"",null,null,null,null,null,"",null,null,null,null,null,"",null,null,null,null,null,"",null,null,null,null,null,""]
[null,null,null,null,null,"",null,null,null,null,null,"",null,null,null,null,null,"",null,null,null,null,null,"",null,null,null,null,null,"",null,null,null,null,null,"",null,null,null,null,null,"",null,null,null,null,null,"",null,null,null,null,null,"",null,null,null,null,null,"",null,null,null,null,null,"",null,null,null,null,null,"",null,null,null,null,null,"",null,null,null,null,null,"",null,null,null,null,null,"",null,null,null,null,null,"",null,null,null,null,null,"",null,null,null,null,null,"",null,null,null,null,null,"",null,null,null,null,null,"",null,null,null,null,null,"",null,null,null,null,null,"",null,null,null,null,null,"",null,null,null,null,null,"",null,null,null,null,null,"",null,null,null,null,null,"",null,null,null,null,null,"",null,null,null,null,null,"",null,null,null,null,null,"",null,null,null,null,null,"",null,null,null,null,null,"",null,null,null,null,null,"",null,null,null,null,null,"",null,null,null,null,null,"",null,null,null,null,null,"",null,null,null,null,null,"",null,null,null,null,null,"",null,null,null,null,null,"",null,null,null,null,null,"",null,null,null,null,null,""]
[null,null,null,null,null,"",null,null,null,null,null,"",null,null,null,null,null,"",null,null,null,null,null,"",null,null,null,null,null,"",null,null,null,null,null,"",null,null,null,null,null,"",null,null,null,null,null,"",null,null,null,null,null,"",null,null,null,null,null,"",null,null,null,null,null,"",null,null,null,null,null,"",null,null,null,null,null,"",null,null,null,null,null,"",null,null,null,null,null,"",null,null,null,null,null,"",null,null,null,null,null,"",null,null,null,null,null,"",null,null,null,null,null,"",null,null,null,null,null,"",null,null,null,null,null,"",null,null,null,null,null,"",null,null,null,null,null,"",null,null,null,null,null,"",null,null,null,null,null,"",null,null,null,null,null,"",null,null,null,null,null,"",null,null,null,null,null,"",null,null,null,null,null,"",null,null,null,null,null,"",null,null,null,null,null,"",null,null,null,null,null,"",null,null,null,null,null,"",null,null,null,null,null,"",null,null,null,null,null,"",null,null,null,null,null,"",null,null,null,null,null,"",null,null,null,null,null,"",null,null,null,null,null,"",null,null,null,null,null,""]
[null,null,null,null,null,"",null,null,null,null,null,"",null,null,null,null,null,"",null,null,null,null,null,"",null,null,null,null,null,"",null,null,null,null,null,"",null,null,null,null,null,"",null,null,null,null,null,"",null,null,null,null,null,"",null,null,null,null,null,"",null,null,null,null,null,"",null,null,null,null,null,"",null,null,null,null,null,"",null,null,null,null,null,"",null,null,null,null,null,"",null,null,null,null,null,"",null,null,null,null,null,"",null,null,null,null,null,"",null,null,null,null,null,"",null,null,null,null,null,"",null,null,null,null,null,"",null,null,null,null,null,"",null,null,null,null,null,"",null,null,null,null,null,"",null,null,null,null,null,"",null,null,null,null,null,"",null,null,null,null,null,"",null,null,null,null,null,"",null,null,null,null,null,"",null,null,null,null,null,"",null,null,null,null,null,"",null,null,null,null,null,"",null,null,null,null,null,"",null,null,null,null,null,"",null,null,null,null,null,"",null,null,null,null,null,"",null,null,null,null,null,"",null,null,null,null,null,"",null,null,null,null,null,"",null,null,null,null,null,""]
[null,null,null,null,null,"",null,null,null,null,null,"",null,null,null,null,null,"",null,null,null,null,null,"",null,null,null,null,null,"",null,null,null,null,null,"",null,null,null,null,null,"",null,null,null,null,null,"",null,null,null,null,null,"",null,null,null,null,null,"",null,null,null,null,null,"",null,null,null,null,null,"",null,null,null,null,null,"",null,null,null,null,null,"",null,null,null,null,null,"",null,null,null,null,null,"",null,null,null,null,null,"",null,null,null,null,null,"",null,null,null,null,null,"",null,null,null,null,null,"",null,null,null,null,null,"",null,null,null,null,null,"",null,null,null,null,null,"",null,null,null,null,null,"",null,null,null,null,null,"",null,null,null,null,null,"",null,null,null,null,null,"",null,null,null,null,null,"",null,null,null,null,null,"",null,null,null,null,null,"",null,null,null,null,null,"",null,null,null,null,null,"",null,null,null,null,null,"",null,null,null,null,null,"",null,null,null,null,null,"",null,null,null,null,null,"",null,null,null,null,null,"",null,null,null,null,null,"",null,null,null,null,null,"",null,null,null,null,null,""]
[null,null,null,null,null,"",null,null,null,null,null,"",null,null,null,null,null,"",null,null,null,null,null,"",null,null,null,null,null,"",null,null,null,null,null,"",null,null,null,null,null,"",null,null,null,null,null,"",null,null,null,null,null,"",null,null,null,null,null,"",null,null,null,null,null,"",null,null,null,null,null,"",null,null,null,null,null,"",null,null,null,null,null,"",null,null,null,null,null,"",null,null,null,null,null,"",null,null,null,null,null,"",null,null,null,null,null,"",null,null,null,null,null,"",null,null,null,null,null,"",null,null,null,null,null,"",null,null,null,null,null,"",null,null,null,null,null,"",null,null,null,null,null,"",null,null,null,null,null,"",null,null,null,null,null,"",null,null,null,null,null,"",null,null,null,null,null,"",null,null,null,null,null,"",null,null,null,null,null,"",null,null,null,null,null,"",null,null,null,null,null,"",null,null,null,null,null,"",null,null,null,null,null,"",null,null,null,null,null,"",null,null,null,null,null,"",null,null,null,null,null,"",null,null,null,null,null,"",null,null,null,null,null,"",null,null,null,null,null,""]
[null,null,null,null,null,"",null,null,null,null,null,"",null,null,null,null,null,"",null,null,null,null,null,"",null,null,null,null,null,"",null,null,null,null,null,"",null,null,null,null,null,"",null,null,null,null,null,"",null,null,null,null,null,"",null,null,null,null,null,"",null,null,null,null,null,"",null,null,null,null,null,"",null,null,null,null,null,"",null,null,null,null,null,"",null,null,null,null,null,"",null,null,null,null,null,"",null,null,null,null,null,"",null,null,null,null,null,"",null,null,null,null,null,"",null,null,null,null,null,"",null,null,null,null,null,"",null,null,null,null,null,"",null,null,null,null,null,"",null,null,null,null,null,"",null,null,null,null,null,"",null,null,null,null,null,"",null,null,null,null,null,"",null,null,null,null,null,"",null,null,null,null,null,"",null,null,null,null,null,"",null,null,null,null,null,"",null,null,null,null,null,"",null,null,null,null,null,"",null,null,null,null,null,"",null,null,null,null,null,"",null,null,null,null,null,"",null,null,null,null,null,"",null,null,null,null,null,"",null,null,null,null,null,"",null,null,null,null,null,""]
[null,null,null,null,null,"",null,null,null,null,null,"",null,null,null,null,null,"",null,null,null,null,null,"",null,null,null,null,null,"",null,null,null,null,null,"",null,null,null,null,null,"",null,null,null,null,null,"",null,null,null,null,null,"",null,null,null,null,null,"",null,null,null,null,null,"",null,null,null,null,null,"",null,null,null,null,null,"",null,null,null,null,null,"",null,null,null,null,null,"",null,null,null,null,null,"",null,null,null,null,null,"",null,null,null,null,null,"",null,null,null,null,null,"",null,null,null,null,null,"",null,null,null,null,null,"",null,null,null,null,null,"",null,null,null,null,null,"",null,null,null,null,null,"",null,null,null,null,null,"",null,null,null,null,null,"",null,null,null,null,null,"",null,null,null,null,null,"",null,null,null,null,null,"",null,null,null,null,null,"",null,null,null,null,null,"",null,null,null,null,null,"",null,null,null,null,null,"",null,null,null,null,null,"",null,null,null,null,null,"",null,null,null,null,null,"",null,null,null,null,null,"",null,null,null,null,null,"",null,null,null,null,null,"",null,null,null,null,null,""]
[null,null,null,null,null,"",null,null,null,null,null,"",null,null,null,null,null,"",null,null,null,null,null,"",null,null,null,null,null,"",null,null,null,null,null,"",null,null,null,null,null,"",null,null,null,null,null,"",null,null,null,null,null,"",null,null,null,null,null,"",null,null,null,null,null,"",null,null,null,null,null,"",null,null,null,null,null,"",null,null,null,null,null,"",null,null,null,null,null,"",null,null,null,null,null,"",null,null,null,null,null,"",null,null,null,null,null,"",null,null,null,null,null,"",null,null,null,null,null,"",null,null,null,null,null,"",null,null,null,null,null,"",null,null,null,null,null,"",null,null,null,null,null,"",null,null,null,null,null,"",null,null,null,null,null,"",null,null,null,null,null,"",null,null,null,null,null,"",null,null,null,null,null,"",null,null,null,null,null,"",null,null,null,null,null,"",null,null,null,null,null,"",null,null,null,null,null,"",null,null,null,null,null,"",null,null,null,null,null,"",null,null,null,null,null,"",null,null,null,null,null,"",null,null,null,null,null,"",null,null,null,null,null,"",null,null,null,null,null,""]
[null,null,null,null,null,"",null,null,null,null,null,"",null,null,null,null,null,"",null,null,null,null,null,"",null,null,null,null,null,"",null,null,null,null,null,"",null,null,null,null,null,"",null,null,null,null,null,"",null,null,null,null,null,"",null,null,null,null,null,"",null,null,null,null,null,"",null,null,null,null,null,"",null,null,null,null,null,"",null,null,null,null,null,"",null,null,null,null,null,"",null,null,null,null,null,"",null,null,null,null,null,"",null,null,null,null,null,"",null,null,null,null,null,"",null,null,null,null,null,"",null,null,null,null,null,"",null,null,null,null,null,"",null,null,null,null,null,"",null,null,null,null,null,"",null,null,null,null,null,"",null,null,null,null,null,"",null,null,null,null,null,"",null,null,null,null,null,"",null,null,null,null,null,"",null,null,null,null,null,"",null,null,null,null,null,"",null,null,null,null,null,"",null,null,null,null,null,"",null,null,null,null,null,"",null,null,null,null,null,"",null,null,null,null,null,"",null,null,null,null,null,"",null,null,null,null,null,"",null,null,null,null,null,"",null,null,null,null,null,""]
[null,null,null,null,null,"",null,null,null,null,null,"",null,null,null,null,null,"",null,null,null,null,null,"",null,null,null,null,null,"",null,null,null,null,null,"",null,null,null,null,null,"",null,null,null,null,null,"",null,null,null,null,null,"",null,null,null,null,null,"",null,null,null,null,null,"",null,null,null,null,null,"",null,null,null,null,null,"",null,null,null,null,null,"",null,null,null,null,null,"",null,null,null,null,null,"",null,null,null,null,null,"",null,null,null,null,null,"",null,null,null,null,null,"",null,null,null,null,null,"",null,null,null,null,null,"",null,null,null,null,null,"",null,null,null,null,null,"",null,null,null,null,null,"",null,null,null,null,null,"",null,null,null,null,null,"",null,null,null,null,null,"",null,null,null,null,null,"",null,null,null,null,null,"",null,null,null,null,null,"",null,null,null,null,null,"",null,null,null,null,null,"",null,null,null,null,null,"",null,null,null,null,null,"",null,null,null,null,null,"",null,null,null,null,null,"",null,null,null,null,null,"",null,null,null,null,null,"",null,null,null,null,null,"",null,null,null,null,null,""]
[null,null,null,null,null,"",null,null,null,null,null,"",null,null,null,null,null,"",null,null,null,null,null,"",null,null,null,null,null,"",null,null,null,null,null,"",null,null,null,null,null,"",null,null,null,null,null,"",null,null,null,null,null,"",null,null,null,null,null,"",null,null,null,null,null,"",null,null,null,null,null,"",null,null,null,null,null,"",null,null,null,null,null,"",null,null,null,null,null,"",null,null,null,null,null,"",null,null,null,null,null,"",null,null,null,null,null,"",null,null,null,null,null,"",null,null,null,null,null,"",null,null,null,null,null,"",null,null,null,null,null,"",null,null,null,null,null,"",null,null,null,null,null,"",null,null,null,null,null,"",null,null,null,null,null,"",null,null,null,null,null,"",null,null,null,null,null,"",null,null,null,null,null,"",null,null,null,null,null,"",null,null,null,null,null,"",null,null,null,null,null,"",null,null,null,null,null,"",null,null,null,null,null,"",null,null,null,null,null,"",null,null,null,null,null,"",null,null,null,null,null,"",null,null,null,null,null,"",null,null,null,null,null,"",null,null,null,null,null,""]
[null,null,null,null,null,"",null,null,null,null,null,"",null,null,null,null,null,"",null,null,null,null,null,"",null,null,null,null,null,"",null,null,null,null,null,"",null,null,null,null,null,"",null,null,null,null,null,"",null,null,null,null,null,"",null,null,null,null,null,"",null,null,null,null,null,"",null,null,null,null,null,"",null,null,null,null,null,"",null,null,null,null,null,"",null,null,null,null,null,"",null,null,null,null,null,"",null,null,null,null,null,"",null,null,null,null,null,"",null,null,null,null,null,"",null,null,null,null,null,"",null,null,null,null,null,"",null,null,null,null,null,"",null,null,null,null,null,"",null,null,null,null,null,"",null,null,null,null,null,"",null,null,null,null,null,"",null,null,null,null,null,"",null,null,null,null,null,"",null,null,null,null,null,"",null,null,null,null,null,"",null,null,null,null,null,"",null,null,null,null,null,"",null,null,null,null,null,"",null,null,null,null,null,"",null,null,null,null,null,"",null,null,null,null,null,"",null,null,null,null,null,"",null,null,null,null,null,"",null,null,null,null,null,"",null,null,null,null,null,""]
[null,null,null,null,null,"",null,null,null,null,null,"",null,null,null,null,null,"",null,null,null,null,null,"",null,null,null,null,null,"",null,null,null,null,null,"",null,null,null,null,null,"",null,null,null,null,null,"",null,null,null,null,null,"",null,null,null,null,null,"",null,null,null,null,null,"",null,null,null,null,null,"",null,null,null,null,null,"",null,null,null,null,null,"",null,null,null,null,null,"",null,null,null,null,null,"",null,null,null,null,null,"",null,null,null,null,null,"",null,null,null,null,null,"",null,null,null,null,null,"",null,null,null,null,null,"",null,null,null,null,null,"",null,null,null,null,null,"",null,null,null,null,null,"",null,null,null,null,null,"",null,null,null,null,null,"",null,null,null,null,null,"",null,null,null,null,null,"",null,null,null,null,null,"",null,null,null,null,null,"",null,null,null,null,null,"",null,null,null,null,null,"",null,null,null,null,null,"",null,null,null,null,null,"",null,null,null,null,null,"",null,null,null,null,null,"",null,null,null,null,null,"",null,null,null,null,null,"",null,null,null,null,null,"",null,null,null,null,null,""]
[null,null,null,null,null,"",null,null,null,null,null,"",null,null,null,null,null,"",null,null,null,null,null,"",null,null,null,null,null,"",null,null,null,null,null,"",null,null,null,null,null,"",null,null,null,null,null,"",null,null,null,null,null,"",null,null,null,null,null,"",null,null,null,null,null,"",null,null,null,null,null,"",null,null,null,null,null,"",null,null,null,null,null,"",null,null,null,null,null,"",null,null,null,null,null,"",null,null,null,null,null,"",null,null,null,null,null,"",null,null,null,null,null,"",null,null,null,null,null,"",null,null,null,null,null,"",null,null,null,null,null,"",null,null,null,null,null,"",null,null,null,null,null,"",null,null,null,null,null,"",null,null,null,null,null,"",null,null,null,null,null,"",null,null,null,null,null,"",null,null,null,null,null,"",null,null,null,null,null,"",null,null,null,null,null,"",null,null,null,null,null,"",null,null,null,null,null,"",null,null,null,null,null,"",null,null,null,null,null,"",null,null,null,null,null,"",null,null,null,null,null,"",null,null,null,null,null,"",null,null,null,null,null,"",null,null,null,null,null,""]
[null,null,null,null,null,"",null,null,null,null,null,"",null,null,null,null,null,"",null,null,null,null,null,"",null,null,null,null,null,"",null,null,null,null,null,"",null,null,null,null,null,"",null,null,null,null,null,"",null,null,null,null,null,"",null,null,null,null,null,"",null,null,null,null,null,"",null,null,null,null,null,"",null,null,null,null,null,"",null,null,null,null,null,"",null,null,null,null,null,"",null,null,null,null,null,"",null,null,null,null,null,"",null,null,null,null,null,"",null,null,null,null,null,"",null,null,null,null,null,"",null,null,null,null,null,"",null,null,null,null,null,"",null,null,null,null,null,"",null,null,null,null,null,"",null,null,null,null,null,"",null,null,null,null,null,"",null,null,null,null,null,"",null,null,null,null,null,"",null,null,null,null,null,"",null,null,null,null,null,"",null,null,null,null,null,"",null,null,null,null,null,"",null,null,null,null,null,"",null,null,null,null,null,"",null,null,null,null,null,"",null,null,null,null,null,"",null,null,null,null,null,"",null,null,null,null,null,"",null,null,null,null,null,"",null,null,null,null,null,""]
[null,null,null,null,null,"",null,null,null,null,null,"",null,null,null,null,null,"",null,null,null,null,null,"",null,null,null,null,null,"",null,null,null,null,null,"",null,null,null,null,null,"",null,null,null,null,null,"",null,null,null,null,null,"",null,null,null,null,null,"",null,null,null,null,null,"",null,null,null,null,null,"",null,null,null,null,null,"",null,null,null,null,null,"",null,null,null,null,null,"",null,null,null,null,null,"",null,null,null,null,null,"",null,null,null,null,null,"",null,null,null,null,null,"",null,null,null,null,null,"",null,null,null,null,null,"",null,null,null,null,null,"",null,null,null,null,null,"",null,null,null,null,null,"",null,null,null,null,null,"",null,null,null,null,null,"",null,null,null,null,null,"",null,null,null,null,null,"",null,null,null,null,null,"",null,null,null,null,null,"",null,null,null,null,null,"",null,null,null,null,null,"",null,null,null,null,null,"",null,null,null,null,null,"",null,null,null,null,null,"",null,null,null,null,null,"",null,null,null,null,null,"",null,null,null,null,null,"",null,null,null,null,null,"",null,null,null,null,null,""]
[null,null,null,null,null,"",null,null,null,null,null,"",null,null,null,null,null,"",null,null,null,null,null,"",null,null,null,null,null,"",null,null,null,null,null,"",null,null,null,null,null,"",null,null,null,null,null,"",null,null,null,null,null,"",null,null,null,null,null,"",null,null,null,null,null,"",null,null,null,null,null,"",null,null,null,null,null,"",null,null,null,null,null,"",null,null,null,null,null,"",null,null,null,null,null,"",null,null,null,null,null,"",null,null,null,null,null,"",null,null,null,null,null,"",null,null,null,null,null,"",null,null,null,null,null,"",null,null,null,null,null,"",null,null,null,null,null,"",null,null,null,null,null,"",null,null,null,null,null,"",null,null,null,null,null,"",null,null,null,null,null,"",null,null,null,null,null,"",null,null,null,null,null,"",null,null,null,null,null,"",null,null,null,null,null,"",null,null,null,null,null,"",null,null,null,null,null,"",null,null,null,null,null,"",null,null,null,null,null,"",null,null,null,null,null,"",null,null,null,null,null,"",null,null,null,null,null,"",null,null,null,null,null,"",null,null,null,null,null,""]
[null,null,null,null,null,"",null,null,null,null,null,"",null,null,null,null,null,"",null,null,null,null,null,"",null,null,null,null,null,"",null,null,null,null,null,"",null,null,null,null,null,"",null,null,null,null,null,"",null,null,null,null,null,"",null,null,null,null,null,"",null,null,null,null,null,"",null,null,null,null,null,"",null,null,null,null,null,"",null,null,null,null,null,"",null,null,null,null,null,"",null,null,null,null,null,"",null,null,null,null,null,"",null,null,null,null,null,"",null,null,null,null,null,"",null,null,null,null,null,"",null,null,null,null,null,"",null,null,null,null,null,"",null,null,null,null,null,"",null,null,null,null,null,"",null,null,null,null,null,"",null,null,null,null,null,"",null,null,null,null,null,"",null,null,null,null,null,"",null,null,null,null,null,"",null,null,null,null,null,"",null,null,null,null,null,"",null,null,null,null,null,"",null,null,null,null,null,"",null,null,null,null,null,"",null,null,null,null,null,"",null,null,null,null,null,"",null,null,null,null,null,"",null,null,null,null,null,"",null,null,null,null,null,"",null,null,null,null,null,""]
[null,null,null,null,null,"",null,null,null,null,null,"",null,null,null,null,null,"",null,null,null,null,null,"",null,null,null,null,null,"",null,null,null,null,null,"",null,null,null,null,null,"",null,null,null,null,null,"",null,null,null,null,null,"",null,null,null,null,null,"",null,null,null,null,null,"",null,null,null,null,null,"",null,null,null,null,null,"",null,null,null,null,null,"",null,null,null,null,null,"",null,null,null,null,null,"",null,null,null,null,null,"",null,null,null,null,null,"",null,null,null,null,null,"",null,null,null,null,null,"",null,null,null,null,null,"",null,null,null,null,null,"",null,null,null,null,null,"",null,null,null,null,null,"",null,null,null,null,null,"",null,null,null,null,null,"",null,null,null,null,null,"",null,null,null,null,null,"",null,null,null,null,null,"",null,null,null,null,null,"",null,null,null,null,null,"",null,null,null,null,null,"",null,null,null,null,null,"",null,null,null,null,null,"",null,null,null,null,null,"",null,null,null,null,null,"",null,null,null,null,null,"",null,null,null,null,null,"",null,null,null,null,null,"",null,null,null,null,null,""]
[null,null,null,null,null,"",null,null,null,null,null,"",null,null,null,null,null,"",null,null,null,null,null,"",null,null,null,null,null,"",null,null,null,null,null,"",null,null,null,null,null,"",null,null,null,null,null,"",null,null,null,null,null,"",null,null,null,null,null,"",null,null,null,null,null,"",null,null,null,null,null,"",null,null,null,null,null,"",null,null,null,null,null,"",null,null,null,null,null,"",null,null,null,null,null,"",null,null,null,null,null,"",null,null,null,null,null,"",null,null,null,null,null,"",null,null,null,null,null,"",null,null,null,null,null,"",null,null,null,null,null,"",null,null,null,null,null,"",null,null,null,null,null,"",null,null,null,null,null,"",null,null,null,null,null,"",null,null,null,null,null,"",null,null,null,null,null,"",null,null,null,null,null,"",null,null,null,null,null,"",null,null,null,null,null,"",null,null,null,null,null,"",null,null,null,null,null,"",null,null,null,null,null,"",null,null,null,null,null,"",null,null,null,null,null,"",null,null,null,null,null,"",null,null,null,null,null,"",null,null,null,null,null,"",null,null,null,null,null,""]
[null,null,null,null,null,"",null,null,null,null,null,"",null,null,null,null,null,"",null,null,null,null,null,"",null,null,null,null,null,"",null,null,null,null,null,"",null,null,null,null,null,"",null,null,null,null,null,"",null,null,null,null,null,"",null,null,null,null,null,"",null,null,null,null,null,"",null,null,null,null,null,"",null,null,null,null,null,"",null,null,null,null,null,"",null,null,null,null,null,"",null,null,null,null,null,"",null,null,null,null,null,"",null,null,null,null,null,"",null,null,null,null,null,"",null,null,null,null,null,"",null,null,null,null,null,"",null,null,null,null,null,"",null,null,null,null,null,"",null,null,null,null,null,"",null,null,null,null,null,"",null,null,null,null,null,"",null,null,null,null,null,"",null,null,null,null,null,"",null,null,null,null,null,"",null,null,null,null,null,"",null,null,null,null,null,"",null,null,null,null,null,"",null,null,null,null,null,"",null,null,null,null,null,"",null,null,null,null,null,"",null,null,null,null,null,"",null,null,null,null,null,"",null,null,null,null,null,"",null,null,null,null,null,"",null,null,null,null,null,""]
[null,null,null,null,null,"",null,null,null,null,null,"",null,null,null,null,null,"",null,null,null,null,null,"",null,null,null,null,null,"",null,null,null,null,null,"",null,null,null,null,null,"",null,null,null,null,null,"",null,null,null,null,null,"",null,null,null,null,null,"",null,null,null,null,null,"",null,null,null,null,null,"",null,null,null,null,null,"",null,null,null,null,null,"",null,null,null,null,null,"",null,null,null,null,null,"",null,null,null,null,null,"",null,null,null,null,null,"",null,null,null,null,null,"",null,null,null,null,null,"",null,null,null,null,null,"",null,null,null,null,null,"",null,null,null,null,null,"",null,null,null,null,null,"",null,null,null,null,null,"",null,null,null,null,null,"",null,null,null,null,null,"",null,null,null,null,null,"",null,null,null,null,null,"",null,null,null,null,null,"",null,null,null,null,null,"",null,null,null,null,null,"",null,null,null,null,null,"",null,null,null,null,null,"",null,null,null,null,null,"",null,null,null,null,null,"",null,null,null,null,null,"",null,null,null,null,null,"",null,null,null,null,null,"",null,null,null,null,null,""]
[null,null,null,null,null,"",null,null,null,null,null,"",null,null,null,null,null,"",null,null,null,null,null,"",null,null,null,null,null,"",null,null,null,null,null,"",null,null,null,null,null,"",null,null,null,null,null,"",null,null,null,null,null,"",null,null,null,null,null,"",null,null,null,null,null,"",null,null,null,null,null,"",null,null,null,null,null,"",null,null,null,null,null,"",null,null,null,null,null,"",null,null,null,null,null,"",null,null,null,null,null,"",null,null,null,null,null,"",null,null,null,null,null,"",null,null,null,null,null,"",null,null,null,null,null,"",null,null,null,null,null,"",null,null,null,null,null,"",null,null,null,null,null,"",null,null,null,null,null,"",null,null,null,null,null,"",null,null,null,null,null,"",null,null,null,null,null,"",null,null,null,null,null,"",null,null,null,null,null,"",null,null,null,null,null,"",null,null,null,null,null,"",null,null,null,null,null,"",null,null,null,null,null,"",null,null,null,null,null,"",null,null,null,null,null,"",null,null,null,null,null,"",null,null,null,null,null,"",null,null,null,null,null,"",null,null,null,null,null,""]
[null,null,null,null,null,"",null,null,null,null,null,"",null,null,null,null,null,"",null,null,null,null,null,"",null,null,null,null,null,"",null,null,null,null,null,"",null,null,null,null,null,"",null,null,null,null,null,"",null,null,null,null,null,"",null,null,null,null,null,"",null,null,null,null,null,"",null,null,null,null,null,"",null,null,null,null,null,"",null,null,null,null,null,"",null,null,null,null,null,"",null,null,null,null,null,"",null,null,null,null,null,"",null,null,null,null,null,"",null,null,null,null,null,"",null,null,null,null,null,"",null,null,null,null,null,"",null,null,null,null,null,"",null,null,null,null,null,"",null,null,null,null,null,"",null,null,null,null,null,"",null,null,null,null,null,"",null,null,null,null,null,"",null,null,null,null,null,"",null,null,null,null,null,"",null,null,null,null,null,"",null,null,null,null,null,"",null,null,null,null,null,"",null,null,null,null,null,"",null,null,null,null,null,"",null,null,null,null,null,"",null,null,null,null,null,"",null,null,null,null,null,"",null,null,null,null,null,"",null,null,null,null,null,"",null,null,null,null,null,""]
[null,null,null,null,null,"",null,null,null,null,null,"",null,null,null,null,null,"",null,null,null,null,null,"",null,null,null,null,null,"",null,null,null,null,null,"",null,null,null,null,null,"",null,null,null,null,null,"",null,null,null,null,null,"",null,null,null,null,null,"",null,null,null,null,null,"",null,null,null,null,null,"",null,null,null,null,null,"",null,null,null,null,null,"",null,null,null,null,null,"",null,null,null,null,null,"",null,null,null,null,null,"",null,null,null,null,null,"",null,null,null,null,null,"",null,null,null,null,null,"",null,null,null,null,null,"",null,null,null,null,null,"",null,null,null,null,null,"",null,null,null,null,null,"",null,null,null,null,null,"",null,null,null,null,null,"",null,null,null,null,null,"",null,null,null,null,null,"",null,null,null,null,null,"",null,null,null,null,null,"",null,null,null,null,null,"",null,null,null,null,null,"",null,null,null,null,null,"",null,null,null,null,null,"",null,null,null,null,null,"",null,null,null,null,null,"",null,null,null,null,null,"",null,null,null,null,null,"",null,null,null,null,null,"",null,null,null,null,null,""]
[null,null,null,null,null,"",null,null,null,null,null,"",null,null,null,null,null,"",null,null,null,null,null,"",null,null,null,null,null,"",null,null,null,null,null,"",null,null,null,null,null,"",null,null,null,null,null,"",null,null,null,null,null,"",null,null,null,null,null,"",null,null,null,null,null,"",null,null,null,null,null,"",null,null,null,null,null,"",null,null,null,null,null,"",null,null,null,null,null,"",null,null,null,null,null,"",null,null,null,null,null,"",null,null,null,null,null,"",null,null,null,null,null,"",null,null,null,null,null,"",null,null,null,null,null,"",null,null,null,null,null,"",null,null,null,null,null,"",null,null,null,null,null,"",null,null,null,null,null,"",null,null,null,null,null,"",null,null,null,null,null,"",null,null,null,null,null,"",null,null,null,null,null,"",null,null,null,null,null,"",null,null,null,null,null,"",null,null,null,null,null,"",null,null,null,null,null,"",null,null,null,null,null,"",null,null,null,null,null,"",null,null,null,null,null,"",null,null,null,null,null,"",null,null,null,null,null,"",null,null,null,null,null,"",null,null,null,null,null,""]
[null,null,null,null,null,"",null,null,null,null,null,"",null,null,null,null,null,"",null,null,null,null,null,"",null,null,null,null,null,"",null,null,null,null,null,"",null,null,null,null,null,"",null,null,null,null,null,"",null,null,null,null,null,"",null,null,null,null,null,"",null,null,null,null,null,"",null,null,null,null,null,"",null,null,null,null,null,"",null,null,null,null,null,"",null,null,null,null,null,"",null,null,null,null,null,"",null,null,null,null,null,"",null,null,null,null,null,"",null,null,null,null,null,"",null,null,null,null,null,"",null,null,null,null,null,"",null,null,null,null,null,"",null,null,null,null,null,"",null,null,null,null,null,"",null,null,null,null,null,"",null,null,null,null,null,"",null,null,null,null,null,"",null,null,null,null,null,"",null,null,null,null,null,"",null,null,null,null,null,"",null,null,null,null,null,"",null,null,null,null,null,"",null,null,null,null,null,"",null,null,null,null,null,"",null,null,null,null,null,"",null,null,null,null,null,"",null,null,null,null,null,"",null,null,null,null,null,"",null,null,null,null,null,"",null,null,null,null,null,""]
[null,null,null,null,null,"",null,null,null,null,null,"",null,null,null,null,null,"",null,null,null,null,null,"",null,null,null,null,null,"",null,null,null,null,null,"",null,null,null,null,null,"",null,null,null,null,null,"",null,null,null,null,null,"",null,null,null,null,null,"",null,null,null,null,null,"",null,null,null,null,null,"",null,null,null,null,null,"",null,null,null,null,null,"",null,null,null,null,null,"",null,null,null,null,null,"",null,null,null,null,null,"",null,null,null,null,null,"",null,null,null,null,null,"",null,null,null,null,null,"",null,null,null,null,null,"",null,null,null,null,null,"",null,null,null,null,null,"",null,null,null,null,null,"",null,null,null,null,null,"",null,null,null,null,null,"",null,null,null,null,null,"",null,null,null,null,null,"",null,null,null,null,null,"",null,null,null,null,null,"",null,null,null,null,null,"",null,null,null,null,null,"",null,null,null,null,null,"",null,null,null,null,null,"",null,null,null,null,null,"",null,null,null,null,null,"",null,null,null,null,null,"",null,null,null,null,null,"",null,null,null,null,null,"",null,null,null,null,null,""]
[null,null,null,null,null,"",null,null,null,null,null,"",null,null,null,null,null,"",null,null,null,null,null,"",null,null,null,null,null,"",null,null,null,null,null,"",null,null,null,null,null,"",null,null,null,null,null,"",null,null,null,null,null,"",null,null,null,null,null,"",null,null,null,null,null,"",null,null,null,null,null,"",null,null,null,null,null,"",null,null,null,null,null,"",null,null,null,null,null,"",null,null,null,null,null,"",null,null,null,null,null,"",null,null,null,null,null,"",null,null,null,null,null,"",null,null,null,null,null,"",null,null,null,null,null,"",null,null,null,null,null,"",null,null,null,null,null,"",null,null,null,null,null,"",null,null,null,null,null,"",null,null,null,null,null,"",null,null,null,null,null,"",null,null,null,null,null,"",null,null,null,null,null,"",null,null,null,null,null,"",null,null,null,null,null,"",null,null,null,null,null,"",null,null,null,null,null,"",null,null,null,null,null,"",null,null,null,null,null,"",null,null,null,null,null,"",null,null,null,null,null,"",null,null,null,null,null,"",null,null,null,null,null,"",null,null,null,null,null,""]
[null,null,null,null,null,"",null,null,null,null,null,"",null,null,null,null,null,"",null,null,null,null,null,"",null,null,null,null,null,"",null,null,null,null,null,"",null,null,null,null,null,"",null,null,null,null,null,"",null,null,null,null,null,"",null,null,null,null,null,"",null,null,null,null,null,"",null,null,null,null,null,"",null,null,null,null,null,"",null,null,null,null,null,"",null,null,null,null,null,"",null,null,null,null,null,"",null,null,null,null,null,"",null,null,null,null,null,"",null,null,null,null,null,"",null,null,null,null,null,"",null,null,null,null,null,"",null,null,null,null,null,"",null,null,null,null,null,"",null,null,null,null,null,"",null,null,null,null,null,"",null,null,null,null,null,"",null,null,null,null,null,"",null,null,null,null,null,"",null,null,null,null,null,"",null,null,null,null,null,"",null,null,null,null,null,"",null,null,null,null,null,"",null,null,null,null,null,"",null,null,null,null,null,"",null,null,null,null,null,"",null,null,null,null,null,"",null,null,null,null,null,"",null,null,null,null,null,"",null,null,null,null,null,"",null,null,null,null,null,""]
[null,null,null,null,null,"",null,null,null,null,null,"",null,null,null,null,null,"",null,null,null,null,null,"",null,null,null,null,null,"",null,null,null,null,null,"",null,null,null,null,null,"",null,null,null,null,null,"",null,null,null,null,null,"",null,null,null,null,null,"",null,null,null,null,null,"",null,null,null,null,null,"",null,null,null,null,null,"",null,null,null,null,null,"",null,null,null,null,null,"",null,null,null,null,null,"",null,null,null,null,null,"",null,null,null,null,null,"",null,null,null,null,null,"",null,null,null,null,null,"",null,null,null,null,null,"",null,null,null,null,null,"",null,null,null,null,null,"",null,null,null,null,null,"",null,null,null,null,null,"",null,null,null,null,null,"",null,null,null,null,null,"",null,null,null,null,null,"",null,null,null,null,null,"",null,null,null,null,null,"",null,null,null,null,null,"",null,null,null,null,null,"",null,null,null,null,null,"",null,null,null,null,null,"",null,null,null,null,null,"",null,null,null,null,null,"",null,null,null,null,null,"",null,null,null,null,null,"",null,null,null,null,null,"",null,null,null,null,null,""]
[null,null,null,null,null,"",null,null,null,null,null,"",null,null,null,null,null,"",null,null,null,null,null,"",null,null,null,null,null,"",null,null,null,null,null,"",null,null,null,null,null,"",null,null,null,null,null,"",null,null,null,null,null,"",null,null,null,null,null,"",null,null,null,null,null,"",null,null,null,null,null,"",null,null,null,null,null,"",null,null,null,null,null,"",null,null,null,null,null,"",null,null,null,null,null,"",null,null,null,null,null,"",null,null,null,null,null,"",null,null,null,null,null,"",null,null,null,null,null,"",null,null,null,null,null,"",null,null,null,null,null,"",null,null,null,null,null,"",null,null,null,null,null,"",null,null,null,null,null,"",null,null,null,null,null,"",null,null,null,null,null,"",null,null,null,null,null,"",null,null,null,null,null,"",null,null,null,null,null,"",null,null,null,null,null,"",null,null,null,null,null,"",null,null,null,null,null,"",null,null,null,null,null,"",null,null,null,null,null,"",null,null,null,null,null,"",null,null,null,null,null,"",null,null,null,null,null,"",null,null,null,null,null,"",null,null,null,null,null,""]
[null,null,null,null,null,"",null,null,null,null,null,"",null,null,null,null,null,"",null,null,null,null,null,"",null,null,null,null,null,"",null,null,null,null,null,"",null,null,null,null,null,"",null,null,null,null,null,"",null,null,null,null,null,"",null,null,null,null,null,"",null,null,null,null,null,"",null,null,null,null,null,"",null,null,null,null,null,"",null,null,null,null,null,"",null,null,null,null,null,"",null,null,null,null,null,"",null,null,null,null,null,"",null,null,null,null,null,"",null,null,null,null,null,"",null,null,null,null,null,"",null,null,null,null,null,"",null,null,null,null,null,"",null,null,null,null,null,"",null,null,null,null,null,"",null,null,null,null,null,"",null,null,null,null,null,"",null,null,null,null,null,"",null,null,null,null,null,"",null,null,null,null,null,"",null,null,null,null,null,"",null,null,null,null,null,"",null,null,null,null,null,"",null,null,null,null,null,"",null,null,null,null,null,"",null,null,null,null,null,"",null,null,null,null,null,"",null,null,null,null,null,"",null,null,null,null,null,"",null,null,null,null,null,"",null,null,null,null,null,""]
[null,null,null,null,null,"",null,null,null,null,null,"",null,null,null,null,null,"",null,null,null,null,null,"",null,null,null,null,null,"",null,null,null,null,null,"",null,null,null,null,null,"",null,null,null,null,null,"",null,null,null,null,null,"",null,null,null,null,null,"",null,null,null,null,null,"",null,null,null,null,null,"",null,null,null,null,null,"",null,null,null,null,null,"",null,null,null,null,null,"",null,null,null,null,null,"",null,null,null,null,null,"",null,null,null,null,null,"",null,null,null,null,null,"",null,null,null,null,null,"",null,null,null,null,null,"",null,null,null,null,null,"",null,null,null,null,null,"",null,null,null,null,null,"",null,null,null,null,null,"",null,null,null,null,null,"",null,null,null,null,null,"",null,null,null,null,null,"",null,null,null,null,null,"",null,null,null,null,null,"",null,null,null,null,null,"",null,null,null,null,null,"",null,null,null,null,null,"",null,null,null,null,null,"",null,null,null,null,null,"",null,null,null,null,null,"",null,null,null,null,null,"",null,null,null,null,null,"",null,null,null,null,null,"",null,null,null,null,null,""]
[null,null,null,null,null,"",null,null,null,null,null,"",null,null,null,null,null,"",null,null,null,null,null,"",null,null,null,null,null,"",null,null,null,null,null,"",null,null,null,null,null,"",null,null,null,null,null,"",null,null,null,null,null,"",null,null,null,null,null,"",null,null,null,null,null,"",null,null,null,null,null,"",null,null,null,null,null,"",null,null,null,null,null,"",null,null,null,null,null,"",null,null,null,null,null,"",null,null,null,null,null,"",null,null,null,null,null,"",null,null,null,null,null,"",null,null,null,null,null,"",null,null,null,null,null,"",null,null,null,null,null,"",null,null,null,null,null,"",null,null,null,null,null,"",null,null,null,null,null,"",null,null,null,null,null,"",null,null,null,null,null,"",null,null,null,null,null,"",null,null,null,null,null,"",null,null,null,null,null,"",null,null,null,null,null,"",null,null,null,null,null,"",null,null,null,null,null,"",null,null,null,null,null,"",null,null,null,null,null,"",null,null,null,null,null,"",null,null,null,null,null,"",null,null,null,null,null,"",null,null,null,null,null,"",null,null,null,null,null,{"$f":"IF(IA73=\"\",\"\",SUM(IB73:IE73))","v":""}]
[null,null,null,null,null,{"$f":"IF(A74=\"\",\"\",SUM(B74:E74))","v":""},null,null,null,null,null,"",null,null,null,null,null,"",null,null,null,null,null,"",null,null,null,null,null,"",null,null,null,null,null,"",null,null,null,null,null,"",null,null,null,null,null,"",null,null,null,null,null,"",null,null,null,null,null,"",null,null,null,null,null,"",null,null,null,null,null,"",null,null,null,null,null,"",null,null,null,null,null,"",null,null,null,null,null,"",null,null,null,null,null,"",null,null,null,null,null,"",null,null,null,null,null,"",null,null,null,null,null,"",null,null,null,null,null,"",null,null,null,null,null,"",null,null,null,null,null,"",null,null,null,null,null,"",null,null,null,null,null,"",null,null,null,null,null,"",null,null,null,null,null,"",null,null,null,null,null,"",null,null,null,null,null,"",null,null,null,null,null,"",null,null,null,null,null,"",null,null,null,null,null,"",null,null,null,null,null,"",null,null,null,null,null,"",null,null,null,null,null,"",null,null,null,null,null,"",null,null,null,null,null,"",null,null,null,null,null,"",null,null,null,null,null,"",null,null,null,null,null,"",null,null,null,null,null,""]
[null,null,null,null,null,"",null,null,null,null,null,"",null,null,null,null,null,"",null,null,null,null,null,"",null,null,null,null,null,"",null,null,null,null,null,"",null,null,null,null,null,"",null,null,null,null,null,"",null,null,null,null,null,"",null,null,null,null,null,"",null,null,null,null,null,"",null,null,null,null,null,"",null,null,null,null,null,"",null,null,null,null,null,"",null,null,null,null,null,"",null,null,null,null,null,"",null,null,null,null,null,"",null,null,null,null,null,"",null,null,null,null,null,"",null,null,null,null,null,"",null,null,null,null,null,"",null,null,null,null,null,"",null,null,null,null,null,"",null,null,null,null,null,"",null,null,null,null,null,"",null,null,null,null,null,"",null,null,null,null,null,"",null,null,null,null,null,"",null,null,null,null,null,"",null,null,null,null,null,"",null,null,null,null,null,"",null,null,null,null,null,"",null,null,null,null,null,"",null,null,null,null,null,"",null,null,null,null,null,"",null,null,null,null,null,"",null,null,null,null,null,"",null,null,null,null,null,"",null,null,null,null,null,"",null,null,null,null,null,""]
[null,null,null,null,null,"",null,null,null,null,null,"",null,null,null,null,null,"",null,null,null,null,null,"",null,null,null,null,null,"",null,null,null,null,null,"",null,null,null,null,null,"",null,null,null,null,null,"",null,null,null,null,null,"",null,null,null,null,null,"",null,null,null,null,null,"",null,null,null,null,null,"",null,null,null,null,null,"",null,null,null,null,null,"",null,null,null,null,null,"",null,null,null,null,null,"",null,null,null,null,null,"",null,null,null,null,null,"",null,null,null,null,null,"",null,null,null,null,null,"",null,null,null,null,null,"",null,null,null,null,null,"",null,null,null,null,null,"",null,null,null,null,null,"",null,null,null,null,null,"",null,null,null,null,null,"",null,null,null,null,null,"",null,null,null,null,null,"",null,null,null,null,null,"",null,null,null,null,null,"",null,null,null,null,null,"",null,null,null,null,null,"",null,null,null,null,null,"",null,null,null,null,null,"",null,null,null,null,null,"",null,null,null,null,null,"",null,null,null,null,null,"",null,null,null,null,null,"",null,null,null,null,null,"",null,null,null,null,null,""]
[null,null,null,null,null,"",null,null,null,null,null,"",null,null,null,null,null,"",null,null,null,null,null,"",null,null,null,null,null,"",null,null,null,null,null,"",null,null,null,null,null,"",null,null,null,null,null,"",null,null,null,null,null,"",null,null,null,null,null,"",null,null,null,null,null,"",null,null,null,null,null,"",null,null,null,null,null,"",null,null,null,null,null,"",null,null,null,null,null,"",null,null,null,null,null,"",null,null,null,null,null,"",null,null,null,null,null,"",null,null,null,null,null,"",null,null,null,null,null,"",null,null,null,null,null,"",null,null,null,null,null,"",null,null,null,null,null,"",null,null,null,null,null,"",null,null,null,null,null,"",null,null,null,null,null,"",null,null,null,null,null,"",null,null,null,null,null,"",null,null,null,null,null,"",null,null,null,null,null,"",null,null,null,null,null,"",null,null,null,null,null,"",null,null,null,null,null,"",null,null,null,null,null,"",null,null,null,null,null,"",null,null,null,null,null,"",null,null,null,null,null,"",null,null,null,null,null,"",null,null,null,null,null,"",null,null,null,null,null,""]
[null,null,null,null,null,"",null,null,null,null,null,"",null,null,null,null,null,"",null,null,null,null,null,"",null,null,null,null,null,"",null,null,null,null,null,"",null,null,null,null,null,"",null,null,null,null,null,"",null,null,null,null,null,"",null,null,null,null,null,"",null,null,null,null,null,"",null,null,null,null,null,"",null,null,null,null,null,"",null,null,null,null,null,"",null,null,null,null,null,"",null,null,null,null,null,"",null,null,null,null,null,"",null,null,null,null,null,"",null,null,null,null,null,"",null,null,null,null,null,"",null,null,null,null,null,"",null,null,null,null,null,"",null,null,null,null,null,"",null,null,null,null,null,"",null,null,null,null,null,"",null,null,null,null,null,"",null,null,null,null,null,"",null,null,null,null,null,"",null,null,null,null,null,"",null,null,null,null,null,"",null,null,null,null,null,"",null,null,null,null,null,"",null,null,null,null,null,"",null,null,null,null,null,"",null,null,null,null,null,"",null,null,null,null,null,"",null,null,null,null,null,"",null,null,null,null,null,"",null,null,null,null,null,"",null,null,null,null,null,""]
[null,null,null,null,null,"",null,null,null,null,null,"",null,null,null,null,null,"",null,null,null,null,null,"",null,null,null,null,null,"",null,null,null,null,null,"",null,null,null,null,null,"",null,null,null,null,null,"",null,null,null,null,null,"",null,null,null,null,null,"",null,null,null,null,null,"",null,null,null,null,null,"",null,null,null,null,null,"",null,null,null,null,null,"",null,null,null,null,null,"",null,null,null,null,null,"",null,null,null,null,null,"",null,null,null,null,null,"",null,null,null,null,null,"",null,null,null,null,null,"",null,null,null,null,null,"",null,null,null,null,null,"",null,null,null,null,null,"",null,null,null,null,null,"",null,null,null,null,null,"",null,null,null,null,null,"",null,null,null,null,null,"",null,null,null,null,null,"",null,null,null,null,null,"",null,null,null,null,null,"",null,null,null,null,null,"",null,null,null,null,null,"",null,null,null,null,null,"",null,null,null,null,null,"",null,null,null,null,null,"",null,null,null,null,null,"",null,null,null,null,null,"",null,null,null,null,null,"",null,null,null,null,null,"",null,null,null,null,null,""]
[null,null,null,null,null,"",null,null,null,null,null,"",null,null,null,null,null,"",null,null,null,null,null,"",null,null,null,null,null,"",null,null,null,null,null,"",null,null,null,null,null,"",null,null,null,null,null,"",null,null,null,null,null,"",null,null,null,null,null,"",null,null,null,null,null,"",null,null,null,null,null,"",null,null,null,null,null,"",null,null,null,null,null,"",null,null,null,null,null,"",null,null,null,null,null,"",null,null,null,null,null,"",null,null,null,null,null,"",null,null,null,null,null,"",null,null,null,null,null,"",null,null,null,null,null,"",null,null,null,null,null,"",null,null,null,null,null,"",null,null,null,null,null,"",null,null,null,null,null,"",null,null,null,null,null,"",null,null,null,null,null,"",null,null,null,null,null,"",null,null,null,null,null,"",null,null,null,null,null,"",null,null,null,null,null,"",null,null,null,null,null,"",null,null,null,null,null,"",null,null,null,null,null,"",null,null,null,null,null,"",null,null,null,null,null,"",null,null,null,null,null,"",null,null,null,null,null,"",null,null,null,null,null,"",null,null,null,null,null,""]
[null,null,null,null,null,"",null,null,null,null,null,"",null,null,null,null,null,"",null,null,null,null,null,"",null,null,null,null,null,"",null,null,null,null,null,"",null,null,null,null,null,"",null,null,null,null,null,"",null,null,null,null,null,"",null,null,null,null,null,"",null,null,null,null,null,"",null,null,null,null,null,"",null,null,null,null,null,"",null,null,null,null,null,"",null,null,null,null,null,"",null,null,null,null,null,"",null,null,null,null,null,"",null,null,null,null,null,"",null,null,null,null,null,"",null,null,null,null,null,"",null,null,null,null,null,"",null,null,null,null,null,"",null,null,null,null,null,"",null,null,null,null,null,"",null,null,null,null,null,"",null,null,null,null,null,"",null,null,null,null,null,"",null,null,null,null,null,"",null,null,null,null,null,"",null,null,null,null,null,"",null,null,null,null,null,"",null,null,null,null,null,"",null,null,null,null,null,"",null,null,null,null,null,"",null,null,null,null,null,"",null,null,null,null,null,"",null,null,null,null,null,"",null,null,null,null,null,"",null,null,null,null,null,"",null,null,null,null,null,""]
[null,null,null,null,null,"",null,null,null,null,null,"",null,null,null,null,null,"",null,null,null,null,null,"",null,null,null,null,null,"",null,null,null,null,null,"",null,null,null,null,null,"",null,null,null,null,null,"",null,null,null,null,null,"",null,null,null,null,null,"",null,null,null,null,null,"",null,null,null,null,null,"",null,null,null,null,null,"",null,null,null,null,null,"",null,null,null,null,null,"",null,null,null,null,null,"",null,null,null,null,null,"",null,null,null,null,null,"",null,null,null,null,null,"",null,null,null,null,null,"",null,null,null,null,null,"",null,null,null,null,null,"",null,null,null,null,null,"",null,null,null,null,null,"",null,null,null,null,null,"",null,null,null,null,null,"",null,null,null,null,null,"",null,null,null,null,null,"",null,null,null,null,null,"",null,null,null,null,null,"",null,null,null,null,null,"",null,null,null,null,null,"",null,null,null,null,null,"",null,null,null,null,null,"",null,null,null,null,null,"",null,null,null,null,null,"",null,null,null,null,null,"",null,null,null,null,null,"",null,null,null,null,null,"",null,null,null,null,null,""]
[null,null,null,null,null,"",null,null,null,null,null,"",null,null,null,null,null,"",null,null,null,null,null,"",null,null,null,null,null,"",null,null,null,null,null,"",null,null,null,null,null,"",null,null,null,null,null,"",null,null,null,null,null,"",null,null,null,null,null,"",null,null,null,null,null,"",null,null,null,null,null,"",null,null,null,null,null,"",null,null,null,null,null,"",null,null,null,null,null,"",null,null,null,null,null,"",null,null,null,null,null,"",null,null,null,null,null,"",null,null,null,null,null,"",null,null,null,null,null,"",null,null,null,null,null,"",null,null,null,null,null,"",null,null,null,null,null,"",null,null,null,null,null,"",null,null,null,null,null,"",null,null,null,null,null,"",null,null,null,null,null,"",null,null,null,null,null,"",null,null,null,null,null,"",null,null,null,null,null,"",null,null,null,null,null,"",null,null,null,null,null,"",null,null,null,null,null,"",null,null,null,null,null,"",null,null,null,null,null,"",null,null,null,null,null,"",null,null,null,null,null,"",null,null,null,null,null,"",null,null,null,null,null,"",null,null,null,null,null,""]
[null,null,null,null,null,"",null,null,null,null,null,"",null,null,null,null,null,"",null,null,null,null,null,"",null,null,null,null,null,"",null,null,null,null,null,"",null,null,null,null,null,"",null,null,null,null,null,"",null,null,null,null,null,"",null,null,null,null,null,"",null,null,null,null,null,"",null,null,null,null,null,"",null,null,null,null,null,"",null,null,null,null,null,"",null,null,null,null,null,"",null,null,null,null,null,"",null,null,null,null,null,"",null,null,null,null,null,"",null,null,null,null,null,"",null,null,null,null,null,"",null,null,null,null,null,"",null,null,null,null,null,"",null,null,null,null,null,"",null,null,null,null,null,"",null,null,null,null,null,"",null,null,null,null,null,"",null,null,null,null,null,"",null,null,null,null,null,"",null,null,null,null,null,"",null,null,null,null,null,"",null,null,null,null,null,"",null,null,null,null,null,"",null,null,null,null,null,"",null,null,null,null,null,"",null,null,null,null,null,"",null,null,null,null,null,"",null,null,null,null,null,"",null,null,null,null,null,"",null,null,null,null,null,"",null,null,null,null,null,""]
[null,null,null,null,null,"",null,null,null,null,null,"",null,null,null,null,null,"",null,null,null,null,null,"",null,null,null,null,null,"",null,null,null,null,null,"",null,null,null,null,null,"",null,null,null,null,null,"",null,null,null,null,null,"",null,null,null,null,null,"",null,null,null,null,null,"",null,null,null,null,null,"",null,null,null,null,null,"",null,null,null,null,null,"",null,null,null,null,null,"",null,null,null,null,null,"",null,null,null,null,null,"",null,null,null,null,null,"",null,null,null,null,null,"",null,null,null,null,null,"",null,null,null,null,null,"",null,null,null,null,null,"",null,null,null,null,null,"",null,null,null,null,null,"",null,null,null,null,null,"",null,null,null,null,null,"",null,null,null,null,null,"",null,null,null,null,null,"",null,null,null,null,null,"",null,null,null,null,null,"",null,null,null,null,null,"",null,null,null,null,null,"",null,null,null,null,null,"",null,null,null,null,null,"",null,null,null,null,null,"",null,null,null,null,null,"",null,null,null,null,null,"",null,null,null,null,null,"",null,null,null,null,null,"",null,null,null,null,null,""]
[null,null,null,null,null,"",null,null,null,null,null,"",null,null,null,null,null,"",null,null,null,null,null,"",null,null,null,null,null,"",null,null,null,null,null,"",null,null,null,null,null,"",null,null,null,null,null,"",null,null,null,null,null,"",null,null,null,null,null,"",null,null,null,null,null,"",null,null,null,null,null,"",null,null,null,null,null,"",null,null,null,null,null,"",null,null,null,null,null,"",null,null,null,null,null,"",null,null,null,null,null,"",null,null,null,null,null,"",null,null,null,null,null,"",null,null,null,null,null,"",null,null,null,null,null,"",null,null,null,null,null,"",null,null,null,null,null,"",null,null,null,null,null,"",null,null,null,null,null,"",null,null,null,null,null,"",null,null,null,null,null,"",null,null,null,null,null,"",null,null,null,null,null,"",null,null,null,null,null,"",null,null,null,null,null,"",null,null,null,null,null,"",null,null,null,null,null,"",null,null,null,null,null,"",null,null,null,null,null,"",null,null,null,null,null,"",null,null,null,null,null,"",null,null,null,null,null,"",null,null,null,null,null,"",null,null,null,null,null,""]
[null,null,null,null,null,"",null,null,null,null,null,"",null,null,null,null,null,"",null,null,null,null,null,"",null,null,null,null,null,"",null,null,null,null,null,"",null,null,null,null,null,"",null,null,null,null,null,"",null,null,null,null,null,"",null,null,null,null,null,"",null,null,null,null,null,"",null,null,null,null,null,"",null,null,null,null,null,"",null,null,null,null,null,"",null,null,null,null,null,"",null,null,null,null,null,"",null,null,null,null,null,"",null,null,null,null,null,"",null,null,null,null,null,"",null,null,null,null,null,"",null,null,null,null,null,"",null,null,null,null,null,"",null,null,null,null,null,"",null,null,null,null,null,"",null,null,null,null,null,"",null,null,null,null,null,"",null,null,null,null,null,"",null,null,null,null,null,"",null,null,null,null,null,"",null,null,null,null,null,"",null,null,null,null,null,"",null,null,null,null,null,"",null,null,null,null,null,"",null,null,null,null,null,"",null,null,null,null,null,"",null,null,null,null,null,"",null,null,null,null,null,"",null,null,null,null,null,"",null,null,null,null,null,"",null,null,null,null,null,""]
[null,null,null,null,null,"",null,null,null,null,null,"",null,null,null,null,null,"",null,null,null,null,null,"",null,null,null,null,null,"",null,null,null,null,null,"",null,null,null,null,null,"",null,null,null,null,null,"",null,null,null,null,null,"",null,null,null,null,null,"",null,null,null,null,null,"",null,null,null,null,null,"",null,null,null,null,null,"",null,null,null,null,null,"",null,null,null,null,null,"",null,null,null,null,null,"",null,null,null,null,null,"",null,null,null,null,null,"",null,null,null,null,null,"",null,null,null,null,null,"",null,null,null,null,null,"",null,null,null,null,null,"",null,null,null,null,null,"",null,null,null,null,null,"",null,null,null,null,null,"",null,null,null,null,null,"",null,null,null,null,null,"",null,null,null,null,null,"",null,null,null,null,null,"",null,null,null,null,null,"",null,null,null,null,null,"",null,null,null,null,null,"",null,null,null,null,null,"",null,null,null,null,null,"",null,null,null,null,null,"",null,null,null,null,null,"",null,null,null,null,null,"",null,null,null,null,null,"",null,null,null,null,null,"",null,null,null,null,null,""]
[null,null,null,null,null,"",null,null,null,null,null,{"$f":"IF(G89=\"\",\"\",SUM(H89:K89))","v":""},null,null,null,null,null,{"$f":"IF(M89=\"\",\"\",SUM(N89:Q89))","v":""},null,null,null,null,null,{"$f":"IF(S89=\"\",\"\",SUM(T89:W89))","v":""},null,null,null,null,null,{"$f":"IF(Y89=\"\",\"\",SUM(Z89:AC89))","v":""},null,null,null,null,null,{"$f":"IF(AE89=\"\",\"\",SUM(AF89:AI89))","v":""},null,null,null,null,null,{"$f":"IF(AK89=\"\",\"\",SUM(AL89:AO89))","v":""},null,null,null,null,null,{"$f":"IF(AQ89=\"\",\"\",SUM(AR89:AU89))","v":""},null,null,null,null,null,{"$f":"IF(AW89=\"\",\"\",SUM(AX89:BA89))","v":""},null,null,null,null,null,{"$f":"IF(BC89=\"\",\"\",SUM(BD89:BG89))","v":""},null,null,null,null,null,{"$f":"IF(BI89=\"\",\"\",SUM(BJ89:BM89))","v":""},null,null,null,null,null,{"$f":"IF(BO89=\"\",\"\",SUM(BP89:BS89))","v":""},null,null,null,null,null,{"$f":"IF(BU89=\"\",\"\",SUM(BV89:BY89))","v":""},null,null,null,null,null,{"$f":"IF(CA89=\"\",\"\",SUM(CB89:CE89))","v":""},null,null,null,null,null,{"$f":"IF(CG89=\"\",\"\",SUM(CH89:CK89))","v":""},null,null,null,null,null,{"$f":"IF(CM89=\"\",\"\",SUM(CN89:CQ89))","v":""},null,null,null,null,null,{"$f":"IF(CS89=\"\",\"\",SUM(CT89:CW89))","v":""},null,null,null,null,null,{"$f":"IF(CY89=\"\",\"\",SUM(CZ89:DC89))","v":""},null,null,null,null,null,{"$f":"IF(DE89=\"\",\"\",SUM(DF89:DI89))","v":""},null,null,null,null,null,{"$f":"IF(DK89=\"\",\"\",SUM(DL89:DO89))","v":""},null,null,null,null,null,{"$f":"IF(DQ89=\"\",\"\",SUM(DR89:DU89))","v":""},null,null,null,null,null,{"$f":"IF(DW89=\"\",\"\",SUM(DX89:EA89))","v":""},null,null,null,null,null,{"$f":"IF(EC89=\"\",\"\",SUM(ED89:EG89))","v":""},null,null,null,null,null,{"$f":"IF(EI89=\"\",\"\",SUM(EJ89:EM89))","v":""},null,null,null,null,null,{"$f":"IF(EO89=\"\",\"\",SUM(EP89:ES89))","v":""},null,null,null,null,null,{"$f":"IF(EU89=\"\",\"\",SUM(EV89:EY89))","v":""},null,null,null,null,null,{"$f":"IF(FA89=\"\",\"\",SUM(FB89:FE89))","v":""},null,null,null,null,null,{"$f":"IF(FG89=\"\",\"\",SUM(FH89:FK89))","v":""},null,null,null,null,null,{"$f":"IF(FM89=\"\",\"\",SUM(FN89:FQ89))","v":""},null,null,null,null,null,{"$f":"IF(FS89=\"\",\"\",SUM(FT89:FW89))","v":""},null,null,null,null,null,{"$f":"IF(FY89=\"\",\"\",SUM(FZ89:GC89))","v":""},null,null,null,null,null,{"$f":"IF(GE89=\"\",\"\",SUM(GF89:GI89))","v":""},null,null,null,null,null,{"$f":"IF(GK89=\"\",\"\",SUM(GL89:GO89))","v":""},null,null,null,null,null,{"$f":"IF(GQ89=\"\",\"\",SUM(GR89:GU89))","v":""},null,null,null,null,null,{"$f":"IF(GW89=\"\",\"\",SUM(GX89:HA89))","v":""},null,null,null,null,null,{"$f":"IF(HC89=\"\",\"\",SUM(HD89:HG89))","v":""},null,null,null,null,null,{"$f":"IF(HI89=\"\",\"\",SUM(HJ89:HM89))","v":""},null,null,null,null,null,{"$f":"IF(HO89=\"\",\"\",SUM(HP89:HS89))","v":""},null,null,null,null,null,{"$f":"IF(HU89=\"\",\"\",SUM(HV89:HY89))","v":""},null,null,null,null,null,""]
[null,null,null,null,null,"",null,null,null,null,null,"",null,null,null,null,null,"",null,null,null,null,null,"",null,null,null,null,null,"",null,null,null,null,null,"",null,null,null,null,null,"",null,null,null,null,null,"",null,null,null,null,null,"",null,null,null,null,null,"",null,null,null,null,null,"",null,null,null,null,null,"",null,null,null,null,null,"",null,null,null,null,null,"",null,null,null,null,null,"",null,null,null,null,null,"",null,null,null,null,null,"",null,null,null,null,null,"",null,null,null,null,null,"",null,null,null,null,null,"",null,null,null,null,null,"",null,null,null,null,null,"",null,null,null,null,null,"",null,null,null,null,null,"",null,null,null,null,null,"",null,null,null,null,null,"",null,null,null,null,null,"",null,null,null,null,null,"",null,null,null,null,null,"",null,null,null,null,null,"",null,null,null,null,null,"",null,null,null,null,null,"",null,null,null,null,null,"",null,null,null,null,null,"",null,null,null,null,null,"",null,null,null,null,null,"",null,null,null,null,null,"",null,null,null,null,null,"",null,null,null,null,null,"",null,null,null,null,null,""]
[null,null,null,null,null,"",null,null,null,null,null,"",null,null,null,null,null,"",null,null,null,null,null,"",null,null,null,null,null,"",null,null,null,null,null,"",null,null,null,null,null,"",null,null,null,null,null,"",null,null,null,null,null,"",null,null,null,null,null,"",null,null,null,null,null,"",null,null,null,null,null,"",null,null,null,null,null,"",null,null,null,null,null,"",null,null,null,null,null,"",null,null,null,null,null,"",null,null,null,null,null,"",null,null,null,null,null,"",null,null,null,null,null,"",null,null,null,null,null,"",null,null,null,null,null,"",null,null,null,null,null,"",null,null,null,null,null,"",null,null,null,null,null,"",null,null,null,null,null,"",null,null,null,null,null,"",null,null,null,null,null,"",null,null,null,null,null,"",null,null,null,null,null,"",null,null,null,null,null,"",null,null,null,null,null,"",null,null,null,null,null,"",null,null,null,null,null,"",null,null,null,null,null,"",null,null,null,null,null,"",null,null,null,null,null,"",null,null,null,null,null,"",null,null,null,null,null,"",null,null,null,null,null,"",null,null,null,null,null,""]
[null,null,null,null,null,"",null,null,null,null,null,"",null,null,null,null,null,"",null,null,null,null,null,"",null,null,null,null,null,"",null,null,null,null,null,"",null,null,null,null,null,"",null,null,null,null,null,"",null,null,null,null,null,"",null,null,null,null,null,"",null,null,null,null,null,"",null,null,null,null,null,"",null,null,null,null,null,"",null,null,null,null,null,"",null,null,null,null,null,"",null,null,null,null,null,"",null,null,null,null,null,"",null,null,null,null,null,"",null,null,null,null,null,"",null,null,null,null,null,"",null,null,null,null,null,"",null,null,null,null,null,"",null,null,null,null,null,"",null,null,null,null,null,"",null,null,null,null,null,"",null,null,null,null,null,"",null,null,null,null,null,"",null,null,null,null,null,"",null,null,null,null,null,"",null,null,null,null,null,"",null,null,null,null,null,"",null,null,null,null,null,"",null,null,null,null,null,"",null,null,null,null,null,"",null,null,null,null,null,"",null,null,null,null,null,"",null,null,null,null,null,"",null,null,null,null,null,"",null,null,null,null,null,"",null,null,null,null,null,""]
[null,null,null,null,null,"",null,null,null,null,null,"",null,null,null,null,null,"",null,null,null,null,null,"",null,null,null,null,null,"",null,null,null,null,null,"",null,null,null,null,null,"",null,null,null,null,null,"",null,null,null,null,null,"",null,null,null,null,null,"",null,null,null,null,null,"",null,null,null,null,null,"",null,null,null,null,null,"",null,null,null,null,null,"",null,null,null,null,null,"",null,null,null,null,null,"",null,null,null,null,null,"",null,null,null,null,null,"",null,null,null,null,null,"",null,null,null,null,null,"",null,null,null,null,null,"",null,null,null,null,null,"",null,null,null,null,null,"",null,null,null,null,null,"",null,null,null,null,null,"",null,null,null,null,null,"",null,null,null,null,null,"",null,null,null,null,null,"",null,null,null,null,null,"",null,null,null,null,null,"",null,null,null,null,null,"",null,null,null,null,null,"",null,null,null,null,null,"",null,null,null,null,null,"",null,null,null,null,null,"",null,null,null,null,null,"",null,null,null,null,null,"",null,null,null,null,null,"",null,null,null,null,null,"",null,null,null,null,null,""]
[null,null,null,null,null,"",null,null,null,null,null,"",null,null,null,null,null,"",null,null,null,null,null,"",null,null,null,null,null,"",null,null,null,null,null,"",null,null,null,null,null,"",null,null,null,null,null,"",null,null,null,null,null,"",null,null,null,null,null,"",null,null,null,null,null,"",null,null,null,null,null,"",null,null,null,null,null,"",null,null,null,null,null,"",null,null,null,null,null,"",null,null,null,null,null,"",null,null,null,null,null,"",null,null,null,null,null,"",null,null,null,null,null,"",null,null,null,null,null,"",null,null,null,null,null,"",null,null,null,null,null,"",null,null,null,null,null,"",null,null,null,null,null,"",null,null,null,null,null,"",null,null,null,null,null,"",null,null,null,null,null,"",null,null,null,null,null,"",null,null,null,null,null,"",null,null,null,null,null,"",null,null,null,null,null,"",null,null,null,null,null,"",null,null,null,null,null,"",null,null,null,null,null,"",null,null,null,null,null,"",null,null,null,null,null,"",null,null,null,null,null,"",null,null,null,null,null,"",null,null,null,null,null,"",null,null,null,null,null,""]
[null,null,null,null,null,"",null,null,null,null,null,"",null,null,null,null,null,"",null,null,null,null,null,"",null,null,null,null,null,"",null,null,null,null,null,"",null,null,null,null,null,"",null,null,null,null,null,"",null,null,null,null,null,"",null,null,null,null,null,"",null,null,null,null,null,"",null,null,null,null,null,"",null,null,null,null,null,"",null,null,null,null,null,"",null,null,null,null,null,"",null,null,null,null,null,"",null,null,null,null,null,"",null,null,null,null,null,"",null,null,null,null,null,"",null,null,null,null,null,"",null,null,null,null,null,"",null,null,null,null,null,"",null,null,null,null,null,"",null,null,null,null,null,"",null,null,null,null,null,"",null,null,null,null,null,"",null,null,null,null,null,"",null,null,null,null,null,"",null,null,null,null,null,"",null,null,null,null,null,"",null,null,null,null,null,"",null,null,null,null,null,"",null,null,null,null,null,"",null,null,null,null,null,"",null,null,null,null,null,"",null,null,null,null,null,"",null,null,null,null,null,"",null,null,null,null,null,"",null,null,null,null,null,"",null,null,null,null,null,""]
[null,null,null,null,null,"",null,null,null,null,null,"",null,null,null,null,null,"",null,null,null,null,null,"",null,null,null,null,null,"",null,null,null,null,null,"",null,null,null,null,null,"",null,null,null,null,null,"",null,null,null,null,null,"",null,null,null,null,null,"",null,null,null,null,null,"",null,null,null,null,null,"",null,null,null,null,null,"",null,null,null,null,null,"",null,null,null,null,null,"",null,null,null,null,null,"",null,null,null,null,null,"",null,null,null,null,null,"",null,null,null,null,null,"",null,null,null,null,null,"",null,null,null,null,null,"",null,null,null,null,null,"",null,null,null,null,null,"",null,null,null,null,null,"",null,null,null,null,null,"",null,null,null,null,null,"",null,null,null,null,null,"",null,null,null,null,null,"",null,null,null,null,null,"",null,null,null,null,null,"",null,null,null,null,null,"",null,null,null,null,null,"",null,null,null,null,null,"",null,null,null,null,null,"",null,null,null,null,null,"",null,null,null,null,null,"",null,null,null,null,null,"",null,null,null,null,null,"",null,null,null,null,null,"",null,null,null,null,null,""]
[null,null,null,null,null,"",null,null,null,null,null,"",null,null,null,null,null,"",null,null,null,null,null,"",null,null,null,null,null,"",null,null,null,null,null,"",null,null,null,null,null,"",null,null,null,null,null,"",null,null,null,null,null,"",null,null,null,null,null,"",null,null,null,null,null,"",null,null,null,null,null,"",null,null,null,null,null,"",null,null,null,null,null,"",null,null,null,null,null,"",null,null,null,null,null,"",null,null,null,null,null,"",null,null,null,null,null,"",null,null,null,null,null,"",null,null,null,null,null,"",null,null,null,null,null,"",null,null,null,null,null,"",null,null,null,null,null,"",null,null,null,null,null,"",null,null,null,null,null,"",null,null,null,null,null,"",null,null,null,null,null,"",null,null,null,null,null,"",null,null,null,null,null,"",null,null,null,null,null,"",null,null,null,null,null,"",null,null,null,null,null,"",null,null,null,null,null,"",null,null,null,null,null,"",null,null,null,null,null,"",null,null,null,null,null,"",null,null,null,null,null,"",null,null,null,null,null,"",null,null,null,null,null,"",null,null,null,null,null,""]
[null,null,null,null,null,"",null,null,null,null,null,"",null,null,null,null,null,"",null,null,null,null,null,"",null,null,null,null,null,"",null,null,null,null,null,"",null,null,null,null,null,"",null,null,null,null,null,"",null,null,null,null,null,"",null,null,null,null,null,"",null,null,null,null,null,"",null,null,null,null,null,"",null,null,null,null,null,"",null,null,null,null,null,"",null,null,null,null,null,"",null,null,null,null,null,"",null,null,null,null,null,"",null,null,null,null,null,"",null,null,null,null,null,"",null,null,null,null,null,"",null,null,null,null,null,"",null,null,null,null,null,"",null,null,null,null,null,"",null,null,null,null,null,"",null,null,null,null,null,"",null,null,null,null,null,"",null,null,null,null,null,"",null,null,null,null,null,"",null,null,null,null,null,"",null,null,null,null,null,"",null,null,null,null,null,"",null,null,null,null,null,"",null,null,null,null,null,"",null,null,null,null,null,"",null,null,null,null,null,"",null,null,null,null,null,"",null,null,null,null,null,"",null,null,null,null,null,"",null,null,null,null,null,"",null,null,null,null,null,""]
[null,null,null,null,null,"",null,null,null,null,null,"",null,null,null,null,null,"",null,null,null,null,null,"",null,null,null,null,null,"",null,null,null,null,null,"",null,null,null,null,null,"",null,null,null,null,null,"",null,null,null,null,null,"",null,null,null,null,null,"",null,null,null,null,null,"",null,null,null,null,null,"",null,null,null,null,null,"",null,null,null,null,null,"",null,null,null,null,null,"",null,null,null,null,null,"",null,null,null,null,null,"",null,null,null,null,null,"",null,null,null,null,null,"",null,null,null,null,null,"",null,null,null,null,null,"",null,null,null,null,null,"",null,null,null,null,null,"",null,null,null,null,null,"",null,null,null,null,null,"",null,null,null,null,null,"",null,null,null,null,null,"",null,null,null,null,null,"",null,null,null,null,null,"",null,null,null,null,null,"",null,null,null,null,null,"",null,null,null,null,null,"",null,null,null,null,null,"",null,null,null,null,null,"",null,null,null,null,null,"",null,null,null,null,null,"",null,null,null,null,null,"",null,null,null,null,null,"",null,null,null,null,null,"",null,null,null,null,null,""]
[null,null,null,null,null,"",null,null,null,null,null,"",null,null,null,null,null,"",null,null,null,null,null,"",null,null,null,null,null,"",null,null,null,null,null,"",null,null,null,null,null,"",null,null,null,null,null,"",null,null,null,null,null,"",null,null,null,null,null,"",null,null,null,null,null,"",null,null,null,null,null,"",null,null,null,null,null,"",null,null,null,null,null,"",null,null,null,null,null,"",null,null,null,null,null,"",null,null,null,null,null,"",null,null,null,null,null,"",null,null,null,null,null,"",null,null,null,null,null,"",null,null,null,null,null,"",null,null,null,null,null,"",null,null,null,null,null,"",null,null,null,null,null,"",null,null,null,null,null,"",null,null,null,null,null,"",null,null,null,null,null,"",null,null,null,null,null,"",null,null,null,null,null,"",null,null,null,null,null,"",null,null,null,null,null,"",null,null,null,null,null,"",null,null,null,null,null,"",null,null,null,null,null,"",null,null,null,null,null,"",null,null,null,null,null,"",null,null,null,null,null,"",null,null,null,null,null,"",null,null,null,null,null,"",null,null,null,null,null,""]
[null,null,null,null,null,"",null,null,null,null,null,"",null,null,null,null,null,"",null,null,null,null,null,"",null,null,null,null,null,"",null,null,null,null,null,"",null,null,null,null,null,"",null,null,null,null,null,"",null,null,null,null,null,"",null,null,null,null,null,"",null,null,null,null,null,"",null,null,null,null,null,"",null,null,null,null,null,"",null,null,null,null,null,"",null,null,null,null,null,"",null,null,null,null,null,"",null,null,null,null,null,"",null,null,null,null,null,"",null,null,null,null,null,"",null,null,null,null,null,"",null,null,null,null,null,"",null,null,null,null,null,"",null,null,null,null,null,"",null,null,null,null,null,"",null,null,null,null,null,"",null,null,null,null,null,"",null,null,null,null,null,"",null,null,null,null,null,"",null,null,null,null,null,"",null,null,null,null,null,"",null,null,null,null,null,"",null,null,null,null,null,"",null,null,null,null,null,"",null,null,null,null,null,"",null,null,null,null,null,"",null,null,null,null,null,"",null,null,null,null,null,"",null,null,null,null,null,"",null,null,null,null,null,"",null,null,null,null,null,""]
[null,null,null,null,null,"",null,null,null,null,null,"",null,null,null,null,null,"",null,null,null,null,null,"",null,null,null,null,null,"",null,null,null,null,null,"",null,null,null,null,null,"",null,null,null,null,null,"",null,null,null,null,null,"",null,null,null,null,null,"",null,null,null,null,null,"",null,null,null,null,null,"",null,null,null,null,null,"",null,null,null,null,null,"",null,null,null,null,null,"",null,null,null,null,null,"",null,null,null,null,null,"",null,null,null,null,null,"",null,null,null,null,null,"",null,null,null,null,null,"",null,null,null,null,null,"",null,null,null,null,null,"",null,null,null,null,null,"",null,null,null,null,null,"",null,null,null,null,null,"",null,null,null,null,null,"",null,null,null,null,null,"",null,null,null,null,null,"",null,null,null,null,null,"",null,null,null,null,null,"",null,null,null,null,null,"",null,null,null,null,null,"",null,null,null,null,null,"",null,null,null,null,null,"",null,null,null,null,null,"",null,null,null,null,null,"",null,null,null,null,null,"",null,null,null,null,null,"",null,null,null,null,null,"",null,null,null,null,null,""]
[null,null,null,null,null,"",null,null,null,null,null,"",null,null,null,null,null,"",null,null,null,null,null,"",null,null,null,null,null,"",null,null,null,null,null,"",null,null,null,null,null,"",null,null,null,null,null,"",null,null,null,null,null,"",null,null,null,null,null,"",null,null,null,null,null,"",null,null,null,null,null,"",null,null,null,null,null,"",null,null,null,null,null,"",null,null,null,null,null,"",null,null,null,null,null,"",null,null,null,null,null,"",null,null,null,null,null,"",null,null,null,null,null,"",null,null,null,null,null,"",null,null,null,null,null,"",null,null,null,null,null,"",null,null,null,null,null,"",null,null,null,null,null,"",null,null,null,null,null,"",null,null,null,null,null,"",null,null,null,null,null,"",null,null,null,null,null,"",null,null,null,null,null,"",null,null,null,null,null,"",null,null,null,null,null,"",null,null,null,null,null,"",null,null,null,null,null,"",null,null,null,null,null,"",null,null,null,null,null,"",null,null,null,null,null,"",null,null,null,null,null,"",null,null,null,null,null,"",null,null,null,null,null,"",null,null,null,null,null,""]
[null,null,null,null,null,"",null,null,null,null,null,"",null,null,null,null,null,"",null,null,null,null,null,"",null,null,null,null,null,"",null,null,null,null,null,"",null,null,null,null,null,"",null,null,null,null,null,"",null,null,null,null,null,"",null,null,null,null,null,"",null,null,null,null,null,"",null,null,null,null,null,"",null,null,null,null,null,"",null,null,null,null,null,"",null,null,null,null,null,"",null,null,null,null,null,"",null,null,null,null,null,"",null,null,null,null,null,"",null,null,null,null,null,"",null,null,null,null,null,"",null,null,null,null,null,"",null,null,null,null,null,"",null,null,null,null,null,"",null,null,null,null,null,"",null,null,null,null,null,"",null,null,null,null,null,"",null,null,null,null,null,"",null,null,null,null,null,"",null,null,null,null,null,"",null,null,null,null,null,"",null,null,null,null,null,"",null,null,null,null,null,"",null,null,null,null,null,"",null,null,null,null,null,"",null,null,null,null,null,"",null,null,null,null,null,"",null,null,null,null,null,"",null,null,null,null,null,"",null,null,null,null,null,"",null,null,null,null,null,""]
[null,null,null,null,null,"",null,null,null,null,null,"",null,null,null,null,null,"",null,null,null,null,null,"",null,null,null,null,null,"",null,null,null,null,null,"",null,null,null,null,null,"",null,null,null,null,null,"",null,null,null,null,null,"",null,null,null,null,null,"",null,null,null,null,null,"",null,null,null,null,null,"",null,null,null,null,null,"",null,null,null,null,null,"",null,null,null,null,null,"",null,null,null,null,null,"",null,null,null,null,null,"",null,null,null,null,null,"",null,null,null,null,null,"",null,null,null,null,null,"",null,null,null,null,null,"",null,null,null,null,null,"",null,null,null,null,null,"",null,null,null,null,null,"",null,null,null,null,null,"",null,null,null,null,null,"",null,null,null,null,null,"",null,null,null,null,null,"",null,null,null,null,null,"",null,null,null,null,null,"",null,null,null,null,null,"",null,null,null,null,null,"",null,null,null,null,null,"",null,null,null,null,null,"",null,null,null,null,null,"",null,null,null,null,null,"",null,null,null,null,null,"",null,null,null,null,null,"",null,null,null,null,null,"",null,null,null,null,null,""]
[null,null,null,null,null,"",null,null,null,null,null,"",null,null,null,null,null,"",null,null,null,null,null,"",null,null,null,null,null,"",null,null,null,null,null,"",null,null,null,null,null,"",null,null,null,null,null,"",null,null,null,null,null,"",null,null,null,null,null,"",null,null,null,null,null,"",null,null,null,null,null,"",null,null,null,null,null,"",null,null,null,null,null,"",null,null,null,null,null,"",null,null,null,null,null,"",null,null,null,null,null,"",null,null,null,null,null,"",null,null,null,null,null,"",null,null,null,null,null,"",null,null,null,null,null,"",null,null,null,null,null,"",null,null,null,null,null,"",null,null,null,null,null,"",null,null,null,null,null,"",null,null,null,null,null,"",null,null,null,null,null,"",null,null,null,null,null,"",null,null,null,null,null,"",null,null,null,null,null,"",null,null,null,null,null,"",null,null,null,null,null,"",null,null,null,null,null,"",null,null,null,null,null,"",null,null,null,null,null,"",null,null,null,null,null,"",null,null,null,null,null,"",null,null,null,null,null,"",null,null,null,null,null,"",null,null,null,null,null,""]
[null,null,null,null,null,"",null,null,null,null,null,"",null,null,null,null,null,"",null,null,null,null,null,"",null,null,null,null,null,"",null,null,null,null,null,"",null,null,null,null,null,"",null,null,null,null,null,"",null,null,null,null,null,"",null,null,null,null,null,"",null,null,null,null,null,"",null,null,null,null,null,"",null,null,null,null,null,"",null,null,null,null,null,"",null,null,null,null,null,"",null,null,null,null,null,"",null,null,null,null,null,"",null,null,null,null,null,"",null,null,null,null,null,"",null,null,null,null,null,"",null,null,null,null,null,"",null,null,null,null,null,"",null,null,null,null,null,"",null,null,null,null,null,"",null,null,null,null,null,"",null,null,null,null,null,"",null,null,null,null,null,"",null,null,null,null,null,"",null,null,null,null,null,"",null,null,null,null,null,"",null,null,null,null,null,"",null,null,null,null,null,"",null,null,null,null,null,"",null,null,null,null,null,"",null,null,null,null,null,"",null,null,null,null,null,"",null,null,null,null,null,"",null,null,null,null,null,"",null,null,null,null,null,"",null,null,null,null,null,""]
[null,null,null,null,null,"",null,null,null,null,null,"",null,null,null,null,null,"",null,null,null,null,null,"",null,null,null,null,null,"",null,null,null,null,null,"",null,null,null,null,null,"",null,null,null,null,null,"",null,null,null,null,null,"",null,null,null,null,null,"",null,null,null,null,null,"",null,null,null,null,null,"",null,null,null,null,null,"",null,null,null,null,null,"",null,null,null,null,null,"",null,null,null,null,null,"",null,null,null,null,null,"",null,null,null,null,null,"",null,null,null,null,null,"",null,null,null,null,null,"",null,null,null,null,null,"",null,null,null,null,null,"",null,null,null,null,null,"",null,null,null,null,null,"",null,null,null,null,null,"",null,null,null,null,null,"",null,null,null,null,null,"",null,null,null,null,null,"",null,null,null,null,null,"",null,null,null,null,null,"",null,null,null,null,null,"",null,null,null,null,null,"",null,null,null,null,null,"",null,null,null,null,null,"",null,null,null,null,null,"",null,null,null,null,null,"",null,null,null,null,null,"",null,null,null,null,null,"",null,null,null,null,null,"",null,null,null,null,null,""]
[null,null,null,null,null,"",null,null,null,null,null,"",null,null,null,null,null,"",null,null,null,null,null,"",null,null,null,null,null,"",null,null,null,null,null,"",null,null,null,null,null,"",null,null,null,null,null,"",null,null,null,null,null,"",null,null,null,null,null,"",null,null,null,null,null,"",null,null,null,null,null,"",null,null,null,null,null,"",null,null,null,null,null,"",null,null,null,null,null,"",null,null,null,null,null,"",null,null,null,null,null,"",null,null,null,null,null,"",null,null,null,null,null,"",null,null,null,null,null,"",null,null,null,null,null,"",null,null,null,null,null,"",null,null,null,null,null,"",null,null,null,null,null,"",null,null,null,null,null,"",null,null,null,null,null,"",null,null,null,null,null,"",null,null,null,null,null,"",null,null,null,null,null,"",null,null,null,null,null,"",null,null,null,null,null,"",null,null,null,null,null,"",null,null,null,null,null,"",null,null,null,null,null,"",null,null,null,null,null,"",null,null,null,null,null,"",null,null,null,null,null,"",null,null,null,null,null,"",null,null,null,null,null,"",null,null,null,null,null,""]
[null,null,null,null,null,"",null,null,null,null,null,"",null,null,null,null,null,"",null,null,null,null,null,"",null,null,null,null,null,"",null,null,null,null,null,"",null,null,null,null,null,"",null,null,null,null,null,"",null,null,null,null,null,"",null,null,null,null,null,"",null,null,null,null,null,"",null,null,null,null,null,"",null,null,null,null,null,"",null,null,null,null,null,"",null,null,null,null,null,"",null,null,null,null,null,"",null,null,null,null,null,"",null,null,null,null,null,"",null,null,null,null,null,"",null,null,null,null,null,"",null,null,null,null,null,"",null,null,null,null,null,"",null,null,null,null,null,"",null,null,null,null,null,"",null,null,null,null,null,"",null,null,null,null,null,"",null,null,null,null,null,"",null,null,null,null,null,"",null,null,null,null,null,"",null,null,null,null,null,"",null,null,null,null,null,"",null,null,null,null,null,"",null,null,null,null,null,"",null,null,null,null,null,"",null,null,null,null,null,"",null,null,null,null,null,"",null,null,null,null,null,"",null,null,null,null,null,"",null,null,null,null,null,"",null,null,null,null,null,""]
[null,null,null,null,null,"",null,null,null,null,null,"",null,null,null,null,null,"",null,null,null,null,null,"",null,null,null,null,null,"",null,null,null,null,null,"",null,null,null,null,null,"",null,null,null,null,null,"",null,null,null,null,null,"",null,null,null,null,null,"",null,null,null,null,null,"",null,null,null,null,null,"",null,null,null,null,null,"",null,null,null,null,null,"",null,null,null,null,null,"",null,null,null,null,null,"",null,null,null,null,null,"",null,null,null,null,null,"",null,null,null,null,null,"",null,null,null,null,null,"",null,null,null,null,null,"",null,null,null,null,null,"",null,null,null,null,null,"",null,null,null,null,null,"",null,null,null,null,null,"",null,null,null,null,null,"",null,null,null,null,null,"",null,null,null,null,null,"",null,null,null,null,null,"",null,null,null,null,null,"",null,null,null,null,null,"",null,null,null,null,null,"",null,null,null,null,null,"",null,null,null,null,null,"",null,null,null,null,null,"",null,null,null,null,null,"",null,null,null,null,null,"",null,null,null,null,null,"",null,null,null,null,null,"",null,null,null,null,null,""]
[null,null,null,null,null,"",null,null,null,null,null,"",null,null,null,null,null,"",null,null,null,null,null,"",null,null,null,null,null,"",null,null,null,null,null,"",null,null,null,null,null,"",null,null,null,null,null,"",null,null,null,null,null,"",null,null,null,null,null,"",null,null,null,null,null,"",null,null,null,null,null,"",null,null,null,null,null,"",null,null,null,null,null,"",null,null,null,null,null,"",null,null,null,null,null,"",null,null,null,null,null,"",null,null,null,null,null,"",null,null,null,null,null,"",null,null,null,null,null,"",null,null,null,null,null,"",null,null,null,null,null,"",null,null,null,null,null,"",null,null,null,null,null,"",null,null,null,null,null,"",null,null,null,null,null,"",null,null,null,null,null,"",null,null,null,null,null,"",null,null,null,null,null,"",null,null,null,null,null,"",null,null,null,null,null,"",null,null,null,null,null,"",null,null,null,null,null,"",null,null,null,null,null,"",null,null,null,null,null,"",null,null,null,null,null,"",null,null,null,null,null,"",null,null,null,null,null,"",null,null,null,null,null,"",null,null,null,null,null,""]
[null,null,null,null,null,"",null,null,null,null,null,"",null,null,null,null,null,"",null,null,null,null,null,"",null,null,null,null,null,"",null,null,null,null,null,"",null,null,null,null,null,"",null,null,null,null,null,"",null,null,null,null,null,"",null,null,null,null,null,"",null,null,null,null,null,"",null,null,null,null,null,"",null,null,null,null,null,"",null,null,null,null,null,"",null,null,null,null,null,"",null,null,null,null,null,"",null,null,null,null,null,"",null,null,null,null,null,"",null,null,null,null,null,"",null,null,null,null,null,"",null,null,null,null,null,"",null,null,null,null,null,"",null,null,null,null,null,"",null,null,null,null,null,"",null,null,null,null,null,"",null,null,null,null,null,"",null,null,null,null,null,"",null,null,null,null,null,"",null,null,null,null,null,"",null,null,null,null,null,"",null,null,null,null,null,"",null,null,null,null,null,"",null,null,null,null,null,"",null,null,null,null,null,"",null,null,null,null,null,"",null,null,null,null,null,"",null,null,null,null,null,"",null,null,null,null,null,"",null,null,null,null,null,"",null,null,null,null,null,""]
[null,null,null,null,null,"",null,null,null,null,null,"",null,null,null,null,null,"",null,null,null,null,null,"",null,null,null,null,null,"",null,null,null,null,null,"",null,null,null,null,null,"",null,null,null,null,null,"",null,null,null,null,null,"",null,null,null,null,null,"",null,null,null,null,null,"",null,null,null,null,null,"",null,null,null,null,null,"",null,null,null,null,null,"",null,null,null,null,null,"",null,null,null,null,null,"",null,null,null,null,null,"",null,null,null,null,null,"",null,null,null,null,null,"",null,null,null,null,null,"",null,null,null,null,null,"",null,null,null,null,null,"",null,null,null,null,null,"",null,null,null,null,null,"",null,null,null,null,null,"",null,null,null,null,null,"",null,null,null,null,null,"",null,null,null,null,null,"",null,null,null,null,null,"",null,null,null,null,null,"",null,null,null,null,null,"",null,null,null,null,null,"",null,null,null,null,null,"",null,null,null,null,null,"",null,null,null,null,null,"",null,null,null,null,null,"",null,null,null,null,null,"",null,null,null,null,null,"",null,null,null,null,null,"",null,null,null,null,null,""]
[null,null,null,null,null,"",null,null,null,null,null,"",null,null,null,null,null,"",null,null,null,null,null,"",null,null,null,null,null,"",null,null,null,null,null,"",null,null,null,null,null,"",null,null,null,null,null,"",null,null,null,null,null,"",null,null,null,null,null,"",null,null,null,null,null,"",null,null,null,null,null,"",null,null,null,null,null,"",null,null,null,null,null,"",null,null,null,null,null,"",null,null,null,null,null,"",null,null,null,null,null,"",null,null,null,null,null,"",null,null,null,null,null,"",null,null,null,null,null,"",null,null,null,null,null,"",null,null,null,null,null,"",null,null,null,null,null,"",null,null,null,null,null,"",null,null,null,null,null,"",null,null,null,null,null,"",null,null,null,null,null,"",null,null,null,null,null,"",null,null,null,null,null,"",null,null,null,null,null,"",null,null,null,null,null,"",null,null,null,null,null,"",null,null,null,null,null,"",null,null,null,null,null,"",null,null,null,null,null,"",null,null,null,null,null,"",null,null,null,null,null,"",null,null,null,null,null,"",null,null,null,null,null,"",null,null,null,null,null,""]
[null,null,null,null,null,"",null,null,null,null,null,"",null,null,null,null,null,"",null,null,null,null,null,"",null,null,null,null,null,"",null,null,null,null,null,"",null,null,null,null,null,"",null,null,null,null,null,"",null,null,null,null,null,"",null,null,null,null,null,"",null,null,null,null,null,"",null,null,null,null,null,"",null,null,null,null,null,"",null,null,null,null,null,"",null,null,null,null,null,"",null,null,null,null,null,"",null,null,null,null,null,"",null,null,null,null,null,"",null,null,null,null,null,"",null,null,null,null,null,"",null,null,null,null,null,"",null,null,null,null,null,"",null,null,null,null,null,"",null,null,null,null,null,"",null,null,null,null,null,"",null,null,null,null,null,"",null,null,null,null,null,"",null,null,null,null,null,"",null,null,null,null,null,"",null,null,null,null,null,"",null,null,null,null,null,"",null,null,null,null,null,"",null,null,null,null,null,"",null,null,null,null,null,"",null,null,null,null,null,"",null,null,null,null,null,"",null,null,null,null,null,"",null,null,null,null,null,"",null,null,null,null,null,"",null,null,null,null,null,{"$f":"IF(IA116=\"\",\"\",SUM(IB116:IE116))","v":""}]
[null,null,null,null,null,"",null,null,null,null,null,"",null,null,null,null,null,"",null,null,null,null,null,"",null,null,null,null,null,"",null,null,null,null,null,"",null,null,null,null,null,"",null,null,null,null,null,"",null,null,null,null,null,"",null,null,null,null,null,"",null,null,null,null,null,"",null,null,null,null,null,"",null,null,null,null,null,"",null,null,null,null,null,"",null,null,null,null,null,"",null,null,null,null,null,"",null,null,null,null,null,"",null,null,null,null,null,"",null,null,null,null,null,"",null,null,null,null,null,"",null,null,null,null,null,"",null,null,null,null,null,"",null,null,null,null,null,"",null,null,null,null,null,"",null,null,null,null,null,"",null,null,null,null,null,"",null,null,null,null,null,"",null,null,null,null,null,"",null,null,null,null,null,"",null,null,null,null,null,"",null,null,null,null,null,"",null,null,null,null,null,"",null,null,null,null,null,"",null,null,null,null,null,"",null,null,null,null,null,"",null,null,null,null,null,"",null,null,null,null,null,"",null,null,null,null,null,"",null,null,null,null,null,"",null,null,null,null,null,""]

{"sheet":"LG-FH-Sammler","index":2,"n_rows":83,"n_cols":15,"rows_kept":83,"cut":false,"hidden":false,"merged":[[2,9,4,11],[6,9,8,11]]}
["Name","Mittelwert","Bestes\nErgebnis","Schlechtestes\nErgebnis","Bester Ø \nEinzelschuss","Schlechtester\nØ Einzelschuss","Anzahl \nTeilnahmen","Summe\nEinzelergebnisse","Rang\n(nach Mittelwert)",null,null,null,"Name","Mittelwert","Hilfsspalte"]
[{"$f":"IF(Hauptmaske!C7=\"x\",Hauptmaske!A7,\"\")","v":"Testname"},{"$f":"'LG-Freihand'!E4","v":0},{"$f":"'LG-Freihand'!A4","v":0},{"$f":"'LG-Freihand'!A6","v":0},{"$f":"'LG-Freihand'!E6","v":0},{"$f":"'LG-Freihand'!F6","v":0},{"$f":"'LG-Freihand'!D4","v":1},{"$f":"IF('LG-Freihand'!B9=\"\",\"\",SUM('LG-Freihand'!F9:F117))","v":""},{"$f":"IF('LG-Freihand'!B9=\"\",\"\",RANK(B2,$B$2:$B$41))","v":""},null,null,null,{"$f":"IF(G2>=$K$6,A2,\"\")","v":"Testname"},{"$f":"IF(G2>=$K$6,B2,\"\")","v":0},{"$f":"IF(N2=\"\",\"\",N2-ROW()/1000000)","v":-1.9999999999999999E-6}]
[{"$f":"IF(Hauptmaske!C8=\"x\",Hauptmaske!A8,\"\")","v":""},{"$f":"'LG-Freihand'!K4","v":""},{"$f":"'LG-Freihand'!G4","v":""},{"$f":"'LG-Freihand'!G6","v":""},{"$f":"'LG-Freihand'!K6","v":""},{"$f":"'LG-Freihand'!L6","v":""},{"$f":"'LG-Freihand'!J4","v":""},{"$f":"IF('LG-Freihand'!H9=\"\",\"\",SUM('LG-Freihand'!L9:L117))","v":""},{"$f":"IF('LG-Freihand'!H9=\"\",\"\",RANK(B3,$B$2:$B$41))","v":""},"Anzahl der Mindestteilnahmen\nfür die Rangliste",null,null,{"$f":"IF(G3>=$K$6,A3,\"\")","v":""},{"$f":"IF(G3>=$K$6,B3,\"\")","v":""},{"$f":"IF(N3=\"\",\"\",N3-ROW()/1000000)","v":""}]
[{"$f":"IF(Hauptmaske!C12=\"x\",Hauptmaske!A12,\"\")","v":""},{"$f":"'LG-Freihand'!AI4","v":""},{"$f":"'LG-Freihand'!AE4","v":""},{"$f":"'LG-Freihand'!AE6","v":""},{"$f":"'LG-Freihand'!AI6","v":""},{"$f":"'LG-Freihand'!AJ6","v":""},{"$f":"'LG-Freihand'!AH4","v":""},{"$f":"IF('LG-Freihand'!AF9=\"\",\"\",SUM('LG-Freihand'!AJ9:AJ117))","v":""},{"$f":"IF('LG-Freihand'!AF9=\"\",\"\",RANK(B4,$B$2:$B$41))","v":""},null,null,null,"","",""]
[{"$f":"IF(Hauptmaske!C11=\"x\",Hauptmaske!A11,\"\")","v":""},{"$f":"'LG-Freihand'!AC4","v":""},{"$f":"'LG-Freihand'!Y4","v":""},{"$f":"'LG-Freihand'!Y6","v":""},{"$f":"'LG-Freihand'!AC6","v":""},{"$f":"'LG-Freihand'!AD6","v":""},{"$f":"'LG-Freihand'!AB4","v":""},{"$f":"IF('LG-Freihand'!Z9=\"\",\"\",SUM('LG-Freihand'!AD9:AD117))","v":""},{"$f":"IF('LG-Freihand'!Z9=\"\",\"\",RANK(B5,$B$2:$B$41))","v":""},null,null,null,"","",""]
[{"$f":"IF(Hauptmaske!C10=\"x\",Hauptmaske!A10,\"\")","v":""},{"$f":"'LG-Freihand'!W4","v":""},{"$f":"'LG-Freihand'!S4","v":""},{"$f":"'LG-Freihand'!S6","v":""},{"$f":"'LG-Freihand'!W6","v":""},{"$f":"'LG-Freihand'!X6","v":""},{"$f":"'LG-Freihand'!V4","v":""},{"$f":"IF('LG-Freihand'!T9=\"\",\"\",SUM('LG-Freihand'!X9:X117))","v":""},{"$f":"IF('LG-Freihand'!T9=\"\",\"\",RANK(B6,$B$2:$B$41))","v":""},null,{"$f":"IF(Hauptmaske!K6=\"\",3,Hauptmaske!K6)","v":1},null,"","",""]
[{"$f":"IF(Hauptmaske!C9=\"x\",Hauptmaske!A9,\"\")","v":""},{"$f":"'LG-Freihand'!Q4","v":""},{"$f":"'LG-Freihand'!M4","v":""},{"$f":"'LG-Freihand'!M6","v":""},{"$f":"'LG-Freihand'!Q6","v":""},{"$f":"'LG-Freihand'!R6","v":""},{"$f":"'LG-Freihand'!P4","v":""},{"$f":"IF('LG-Freihand'!N9=\"\",\"\",SUM('LG-Freihand'!R9:R117))","v":""},{"$f":"IF('LG-Freihand'!N9=\"\",\"\",RANK(B7,$B$2:$B$41))","v":""},"LG-Freihand",null,null,"","",""]
[{"$f":"IF(Hauptmaske!C13=\"x\",Hauptmaske!A13,\"\")","v":""},{"$f":"'LG-Freihand'!AO4","v":""},{"$f":"'LG-Freihand'!AK4","v":""},{"$f":"'LG-Freihand'!AK6","v":""},{"$f":"'LG-Freihand'!AO6","v":""},{"$f":"'LG-Freihand'!AP6","v":""},{"$f":"'LG-Freihand'!AN4","v":""},{"$f":"IF('LG-Freihand'!AL9=\"\",\"\",SUM('LG-Freihand'!AP9:AP117))","v":""},{"$f":"IF('LG-Freihand'!AL9=\"\",\"\",RANK(B8,$B$2:$B$41))","v":""},null,null,null,"","",""]
[{"$f":"IF(Hauptmaske!C14=\"x\",Hauptmaske!A14,\"\")","v":""},{"$f":"'LG-Freihand'!AU4","v":""},{"$f":"'LG-Freihand'!AQ4","v":""},{"$f":"'LG-Freihand'!AQ6","v":""},{"$f":"'LG-Freihand'!AU6","v":""},{"$f":"'LG-Freihand'!AV6","v":""},{"$f":"'LG-Freihand'!AT4","v":""},{"$f":"IF('LG-Freihand'!AR9=\"\",\"\",SUM('LG-Freihand'!AV9:AV117))","v":""},{"$f":"IF('LG-Freihand'!AR9=\"\",\"\",RANK(B9,$B$2:$B$41))","v":""},null,null,null,"","",""]
[{"$f":"IF(Hauptmaske!C15=\"x\",Hauptmaske!A15,\"\")","v":""},{"$f":"'LG-Freihand'!BA4","v":""},{"$f":"'LG-Freihand'!AW4","v":""},{"$f":"'LG-Freihand'!AW6","v":""},{"$f":"'LG-Freihand'!BA6","v":""},{"$f":"'LG-Freihand'!BB6","v":""},{"$f":"'LG-Freihand'!AZ4","v":""},{"$f":"IF('LG-Freihand'!AX9=\"\",\"\",SUM('LG-Freihand'!BB9:BB117))","v":""},{"$f":"IF('LG-Freihand'!AX9=\"\",\"\",RANK(B10,$B$2:$B$41))","v":""},null,null,null,"","",""]
[{"$f":"IF(Hauptmaske!C16=\"x\",Hauptmaske!A16,\"\")","v":""},{"$f":"'LG-Freihand'!BG4","v":""},{"$f":"'LG-Freihand'!BC4","v":""},{"$f":"'LG-Freihand'!BC6","v":""},{"$f":"'LG-Freihand'!BG6","v":""},{"$f":"'LG-Freihand'!BH6","v":""},{"$f":"'LG-Freihand'!BF4","v":""},{"$f":"IF('LG-Freihand'!BD9=\"\",\"\",SUM('LG-Freihand'!BH9:BH117))","v":""},{"$f":"IF('LG-Freihand'!BD9=\"\",\"\",RANK(B11,$B$2:$B$41))","v":""},null,null,null,"","",""]
[{"$f":"IF(Hauptmaske!C17=\"x\",Hauptmaske!A17,\"\")","v":""},{"$f":"'LG-Freihand'!BM4","v":""},{"$f":"'LG-Freihand'!BI4","v":""},{"$f":"'LG-Freihand'!BI6","v":""},{"$f":"'LG-Freihand'!BM6","v":""},{"$f":"'LG-Freihand'!BN6","v":""},{"$f":"'LG-Freihand'!BL4","v":""},{"$f":"IF('LG-Freihand'!BJ9=\"\",\"\",SUM('LG-Freihand'!BN9:BN117))","v":""},{"$f":"IF('LG-Freihand'!BJ9=\"\",\"\",RANK(B12,$B$2:$B$41))","v":""},null,null,null,"","",""]
[{"$f":"IF(Hauptmaske!C18=\"x\",Hauptmaske!A18,\"\")","v":""},{"$f":"'LG-Freihand'!BS4","v":""},{"$f":"'LG-Freihand'!BO4","v":""},{"$f":"'LG-Freihand'!BO6","v":""},{"$f":"'LG-Freihand'!BS6","v":""},{"$f":"'LG-Freihand'!BT6","v":""},{"$f":"'LG-Freihand'!BR4","v":""},{"$f":"IF('LG-Freihand'!BP9=\"\",\"\",SUM('LG-Freihand'!BT9:BT117))","v":""},{"$f":"IF('LG-Freihand'!BP9=\"\",\"\",RANK(B13,$B$2:$B$41))","v":""},null,null,null,"","",""]
[{"$f":"IF(Hauptmaske!C19=\"x\",Hauptmaske!A19,\"\")","v":""},{"$f":"'LG-Freihand'!BY4","v":""},{"$f":"'LG-Freihand'!BU4","v":""},{"$f":"'LG-Freihand'!BU6","v":""},{"$f":"'LG-Freihand'!BY6","v":""},{"$f":"'LG-Freihand'!BZ6","v":""},{"$f":"'LG-Freihand'!BX4","v":""},{"$f":"IF('LG-Freihand'!BV9=\"\",\"\",SUM('LG-Freihand'!BZ9:BZ117))","v":""},{"$f":"IF('LG-Freihand'!BV9=\"\",\"\",RANK(B14,$B$2:$B$41))","v":""},null,null,null,"","",""]
[{"$f":"IF(Hauptmaske!C20=\"x\",Hauptmaske!A20,\"\")","v":""},{"$f":"'LG-Freihand'!CE4","v":""},{"$f":"'LG-Freihand'!CA4","v":""},{"$f":"'LG-Freihand'!CA6","v":""},{"$f":"'LG-Freihand'!CE6","v":""},{"$f":"'LG-Freihand'!CF6","v":""},{"$f":"'LG-Freihand'!CD4","v":""},{"$f":"IF('LG-Freihand'!CB9=\"\",\"\",SUM('LG-Freihand'!CF9:CF117))","v":""},{"$f":"IF('LG-Freihand'!CB9=\"\",\"\",RANK(B15,$B$2:$B$41))","v":""},null,null,null,"","",""]
[{"$f":"IF(Hauptmaske!C21=\"x\",Hauptmaske!A21,\"\")","v":""},{"$f":"'LG-Freihand'!CK4","v":""},{"$f":"'LG-Freihand'!CG4","v":""},{"$f":"'LG-Freihand'!CG6","v":""},{"$f":"'LG-Freihand'!CK6","v":""},{"$f":"'LG-Freihand'!CL6","v":""},{"$f":"'LG-Freihand'!CJ4","v":""},{"$f":"IF('LG-Freihand'!CH9=\"\",\"\",SUM('LG-Freihand'!CL9:CL117))","v":""},{"$f":"IF('LG-Freihand'!CH9=\"\",\"\",RANK(B16,$B$2:$B$41))","v":""},null,null,null,"","",""]
[{"$f":"IF(Hauptmaske!C22=\"x\",Hauptmaske!A22,\"\")","v":""},{"$f":"'LG-Freihand'!CQ4","v":""},{"$f":"'LG-Freihand'!CM4","v":""},{"$f":"'LG-Freihand'!CM6","v":""},{"$f":"'LG-Freihand'!CQ6","v":""},{"$f":"'LG-Freihand'!CR6","v":""},{"$f":"'LG-Freihand'!CP4","v":""},{"$f":"IF('LG-Freihand'!CN9=\"\",\"\",SUM('LG-Freihand'!CR9:CR117))","v":""},{"$f":"IF('LG-Freihand'!CN9=\"\",\"\",RANK(B17,$B$2:$B$41))","v":""},null,null,null,"","",""]
[{"$f":"IF(Hauptmaske!C23=\"x\",Hauptmaske!A23,\"\")","v":""},{"$f":"'LG-Freihand'!CW4","v":""},{"$f":"'LG-Freihand'!CS4","v":""},{"$f":"'LG-Freihand'!CS6","v":""},{"$f":"'LG-Freihand'!CW6","v":""},{"$f":"'LG-Freihand'!CX6","v":""},{"$f":"'LG-Freihand'!CV4","v":""},{"$f":"IF('LG-Freihand'!CT9=\"\",\"\",SUM('LG-Freihand'!CX9:CX117))","v":""},{"$f":"IF('LG-Freihand'!CT9=\"\",\"\",RANK(B18,$B$2:$B$41))","v":""},null,null,null,"","",""]
[{"$f":"IF(Hauptmaske!C24=\"x\",Hauptmaske!A24,\"\")","v":""},{"$f":"'LG-Freihand'!DC4","v":""},{"$f":"'LG-Freihand'!CY4","v":""},{"$f":"'LG-Freihand'!CY6","v":""},{"$f":"'LG-Freihand'!DC6","v":""},{"$f":"'LG-Freihand'!DD6","v":""},{"$f":"'LG-Freihand'!DB4","v":""},{"$f":"IF('LG-Freihand'!CZ9=\"\",\"\",SUM('LG-Freihand'!DD9:DD117))","v":""},{"$f":"IF('LG-Freihand'!CZ9=\"\",\"\",RANK(B19,$B$2:$B$41))","v":""},null,null,null,"","",""]
[{"$f":"IF(Hauptmaske!C25=\"x\",Hauptmaske!A25,\"\")","v":""},{"$f":"'LG-Freihand'!DI4","v":""},{"$f":"'LG-Freihand'!DE4","v":""},{"$f":"'LG-Freihand'!DE6","v":""},{"$f":"'LG-Freihand'!DI6","v":""},{"$f":"'LG-Freihand'!DJ6","v":""},{"$f":"'LG-Freihand'!DH4","v":""},{"$f":"IF('LG-Freihand'!DF9=\"\",\"\",SUM('LG-Freihand'!DJ9:DJ117))","v":""},{"$f":"IF('LG-Freihand'!DF9=\"\",\"\",RANK(B20,$B$2:$B$41))","v":""},null,null,null,"","",""]
[{"$f":"IF(Hauptmaske!C26=\"x\",Hauptmaske!A26,\"\")","v":""},{"$f":"'LG-Freihand'!DO4","v":""},{"$f":"'LG-Freihand'!DK4","v":""},{"$f":"'LG-Freihand'!DK6","v":""},{"$f":"'LG-Freihand'!DO6","v":""},{"$f":"'LG-Freihand'!DP6","v":""},{"$f":"'LG-Freihand'!DN4","v":""},{"$f":"IF('LG-Freihand'!DL9=\"\",\"\",SUM('LG-Freihand'!DP9:DP117))","v":""},{"$f":"IF('LG-Freihand'!DL9=\"\",\"\",RANK(B21,$B$2:$B$41))","v":""},null,null,null,"","",""]
[{"$f":"IF(Hauptmaske!C27=\"x\",Hauptmaske!A27,\"\")","v":""},{"$f":"'LG-Freihand'!DU4","v":""},{"$f":"'LG-Freihand'!DQ4","v":""},{"$f":"'LG-Freihand'!DQ6","v":""},{"$f":"'LG-Freihand'!DU6","v":""},{"$f":"'LG-Freihand'!DV6","v":""},{"$f":"'LG-Freihand'!DT4","v":""},{"$f":"IF('LG-Freihand'!DR9=\"\",\"\",SUM('LG-Freihand'!DV9:DV117))","v":""},{"$f":"IF('LG-Freihand'!DR9=\"\",\"\",RANK(B22,$B$2:$B$41))","v":""},null,null,null,"","",""]
[{"$f":"IF(Hauptmaske!C28=\"x\",Hauptmaske!A28,\"\")","v":""},{"$f":"'LG-Freihand'!EA4","v":""},{"$f":"'LG-Freihand'!DW4","v":""},{"$f":"'LG-Freihand'!DW6","v":""},{"$f":"'LG-Freihand'!EA6","v":""},{"$f":"'LG-Freihand'!EB6","v":""},{"$f":"'LG-Freihand'!DZ4","v":""},{"$f":"IF('LG-Freihand'!DX9=\"\",\"\",SUM('LG-Freihand'!EB9:EB117))","v":""},{"$f":"IF('LG-Freihand'!DX9=\"\",\"\",RANK(B23,$B$2:$B$41))","v":""},null,null,null,"","",""]
[{"$f":"IF(Hauptmaske!C29=\"x\",Hauptmaske!A29,\"\")","v":""},{"$f":"'LG-Freihand'!EG4","v":""},{"$f":"'LG-Freihand'!EC4","v":""},{"$f":"'LG-Freihand'!EC6","v":""},{"$f":"'LG-Freihand'!EG6","v":""},{"$f":"'LG-Freihand'!EH6","v":""},{"$f":"'LG-Freihand'!EF4","v":""},{"$f":"IF('LG-Freihand'!ED9=\"\",\"\",SUM('LG-Freihand'!EH9:EH117))","v":""},{"$f":"IF('LG-Freihand'!ED9=\"\",\"\",RANK(B24,$B$2:$B$41))","v":""},null,null,null,"","",""]
[{"$f":"IF(Hauptmaske!C30=\"x\",Hauptmaske!A30,\"\")","v":""},{"$f":"'LG-Freihand'!EM4","v":""},{"$f":"'LG-Freihand'!EI4","v":""},{"$f":"'LG-Freihand'!EI6","v":""},{"$f":"'LG-Freihand'!EM6","v":""},{"$f":"'LG-Freihand'!EN6","v":""},{"$f":"'LG-Freihand'!EL4","v":""},{"$f":"IF('LG-Freihand'!EJ9=\"\",\"\",SUM('LG-Freihand'!EN9:EN117))","v":""},{"$f":"IF('LG-Freihand'!EJ9=\"\",\"\",RANK(B25,$B$2:$B$41))","v":""},null,null,null,"","",""]
[{"$f":"IF(Hauptmaske!C31=\"x\",Hauptmaske!A31,\"\")","v":""},{"$f":"'LG-Freihand'!ES4","v":""},{"$f":"'LG-Freihand'!EO4","v":""},{"$f":"'LG-Freihand'!EO6","v":""},{"$f":"'LG-Freihand'!ES6","v":""},{"$f":"'LG-Freihand'!ET6","v":""},{"$f":"'LG-Freihand'!ER4","v":""},{"$f":"IF('LG-Freihand'!EP9=\"\",\"\",SUM('LG-Freihand'!ET9:ET117))","v":""},{"$f":"IF('LG-Freihand'!EP9=\"\",\"\",RANK(B26,$B$2:$B$41))","v":""},null,null,null,"","",""]
[{"$f":"IF(Hauptmaske!C32=\"x\",Hauptmaske!A32,\"\")","v":""},{"$f":"'LG-Freihand'!EY4","v":""},{"$f":"'LG-Freihand'!EU4","v":""},{"$f":"'LG-Freihand'!EU6","v":""},{"$f":"'LG-Freihand'!EY6","v":""},{"$f":"'LG-Freihand'!EZ6","v":""},{"$f":"'LG-Freihand'!EX4","v":""},{"$f":"IF('LG-Freihand'!EV9=\"\",\"\",SUM('LG-Freihand'!EZ9:EZ117))","v":""},{"$f":"IF('LG-Freihand'!EV9=\"\",\"\",RANK(B27,$B$2:$B$41))","v":""},null,null,null,"","",""]
[{"$f":"IF(Hauptmaske!C33=\"x\",Hauptmaske!A33,\"\")","v":""},{"$f":"'LG-Freihand'!FE4","v":""},{"$f":"'LG-Freihand'!FA4","v":""},{"$f":"'LG-Freihand'!FA6","v":""},{"$f":"'LG-Freihand'!FE6","v":""},{"$f":"'LG-Freihand'!FF6","v":""},{"$f":"'LG-Freihand'!FD4","v":""},{"$f":"IF('LG-Freihand'!FB9=\"\",\"\",SUM('LG-Freihand'!FF9:FF117))","v":""},{"$f":"IF('LG-Freihand'!FB9=\"\",\"\",RANK(B28,$B$2:$B$41))","v":""},null,null,null,"","",""]
[{"$f":"IF(Hauptmaske!C34=\"x\",Hauptmaske!A34,\"\")","v":""},{"$f":"'LG-Freihand'!FK4","v":""},{"$f":"'LG-Freihand'!FG4","v":""},{"$f":"'LG-Freihand'!FG6","v":""},{"$f":"'LG-Freihand'!FK6","v":""},{"$f":"'LG-Freihand'!FL6","v":""},{"$f":"'LG-Freihand'!FJ4","v":""},{"$f":"IF('LG-Freihand'!FH9=\"\",\"\",SUM('LG-Freihand'!FL9:FL117))","v":""},{"$f":"IF('LG-Freihand'!FH9=\"\",\"\",RANK(B29,$B$2:$B$41))","v":""},null,null,null,"","",""]
[{"$f":"IF(Hauptmaske!C35=\"x\",Hauptmaske!A35,\"\")","v":""},{"$f":"'LG-Freihand'!FQ4","v":""},{"$f":"'LG-Freihand'!FM4","v":""},{"$f":"'LG-Freihand'!FM6","v":""},{"$f":"'LG-Freihand'!FQ6","v":""},{"$f":"'LG-Freihand'!FR6","v":""},{"$f":"'LG-Freihand'!FP4","v":""},{"$f":"IF('LG-Freihand'!FN9=\"\",\"\",SUM('LG-Freihand'!FR9:FR117))","v":""},{"$f":"IF('LG-Freihand'!FN9=\"\",\"\",RANK(B30,$B$2:$B$41))","v":""},null,null,null,"","",""]
[{"$f":"IF(Hauptmaske!C36=\"x\",Hauptmaske!A36,\"\")","v":""},{"$f":"'LG-Freihand'!FW4","v":""},{"$f":"'LG-Freihand'!FS4","v":""},{"$f":"'LG-Freihand'!FS6","v":""},{"$f":"'LG-Freihand'!FW6","v":""},{"$f":"'LG-Freihand'!FX6","v":""},{"$f":"'LG-Freihand'!FV4","v":""},{"$f":"IF('LG-Freihand'!FT9=\"\",\"\",SUM('LG-Freihand'!FX9:FX117))","v":""},{"$f":"IF('LG-Freihand'!FT9=\"\",\"\",RANK(B31,$B$2:$B$41))","v":""},null,null,null,"","",""]
[{"$f":"IF(Hauptmaske!C37=\"x\",Hauptmaske!A37,\"\")","v":""},{"$f":"'LG-Freihand'!GC4","v":""},{"$f":"'LG-Freihand'!FY4","v":""},{"$f":"'LG-Freihand'!FY6","v":""},{"$f":"'LG-Freihand'!GC6","v":""},{"$f":"'LG-Freihand'!GD6","v":""},{"$f":"'LG-Freihand'!GB4","v":""},{"$f":"IF('LG-Freihand'!FZ9=\"\",\"\",SUM('LG-Freihand'!GD9:GD117))","v":""},{"$f":"IF('LG-Freihand'!FZ9=\"\",\"\",RANK(B32,$B$2:$B$41))","v":""},null,null,null,"","",""]
[{"$f":"IF(Hauptmaske!C38=\"x\",Hauptmaske!A38,\"\")","v":""},{"$f":"'LG-Freihand'!GI4","v":""},{"$f":"'LG-Freihand'!GE4","v":""},{"$f":"'LG-Freihand'!GE6","v":""},{"$f":"'LG-Freihand'!GI6","v":""},{"$f":"'LG-Freihand'!GJ6","v":""},{"$f":"'LG-Freihand'!GH4","v":""},{"$f":"IF('LG-Freihand'!GF9=\"\",\"\",SUM('LG-Freihand'!GJ9:GJ117))","v":""},{"$f":"IF('LG-Freihand'!GF9=\"\",\"\",RANK(B33,$B$2:$B$41))","v":""},null,null,null,"","",""]
[{"$f":"IF(Hauptmaske!C39=\"x\",Hauptmaske!A39,\"\")","v":""},{"$f":"'LG-Freihand'!GO4","v":""},{"$f":"'LG-Freihand'!GK4","v":""},{"$f":"'LG-Freihand'!GK6","v":""},{"$f":"'LG-Freihand'!GO6","v":""},{"$f":"'LG-Freihand'!GP6","v":""},{"$f":"'LG-Freihand'!GN4","v":""},{"$f":"IF('LG-Freihand'!GL9=\"\",\"\",SUM('LG-Freihand'!GP9:GP117))","v":""},{"$f":"IF('LG-Freihand'!GL9=\"\",\"\",RANK(B34,$B$2:$B$41))","v":""},null,null,null,"","",""]
[{"$f":"IF(Hauptmaske!C40=\"x\",Hauptmaske!A40,\"\")","v":""},{"$f":"'LG-Freihand'!GU4","v":""},{"$f":"'LG-Freihand'!GQ4","v":""},{"$f":"'LG-Freihand'!GQ6","v":""},{"$f":"'LG-Freihand'!GU6","v":""},{"$f":"'LG-Freihand'!GV6","v":""},{"$f":"'LG-Freihand'!GT4","v":""},{"$f":"IF('LG-Freihand'!GR9=\"\",\"\",SUM('LG-Freihand'!GV9:GV117))","v":""},{"$f":"IF('LG-Freihand'!GR9=\"\",\"\",RANK(B35,$B$2:$B$41))","v":""},null,null,null,"","",""]
[{"$f":"IF(Hauptmaske!C41=\"x\",Hauptmaske!A41,\"\")","v":""},{"$f":"'LG-Freihand'!HA4","v":""},{"$f":"'LG-Freihand'!GW4","v":""},{"$f":"'LG-Freihand'!GW6","v":""},{"$f":"'LG-Freihand'!HA6","v":""},{"$f":"'LG-Freihand'!HB6","v":""},{"$f":"'LG-Freihand'!GZ4","v":""},{"$f":"IF('LG-Freihand'!GX9=\"\",\"\",SUM('LG-Freihand'!HB9:HB117))","v":""},{"$f":"IF('LG-Freihand'!GX9=\"\",\"\",RANK(B36,$B$2:$B$41))","v":""},null,null,null,"","",""]
[{"$f":"IF(Hauptmaske!C42=\"x\",Hauptmaske!A42,\"\")","v":""},{"$f":"'LG-Freihand'!HG4","v":""},{"$f":"'LG-Freihand'!HC4","v":""},{"$f":"'LG-Freihand'!HC6","v":""},{"$f":"'LG-Freihand'!HG6","v":""},{"$f":"'LG-Freihand'!HH6","v":""},{"$f":"'LG-Freihand'!HF4","v":""},{"$f":"IF('LG-Freihand'!HD9=\"\",\"\",SUM('LG-Freihand'!HH9:HH117))","v":""},{"$f":"IF('LG-Freihand'!HD9=\"\",\"\",RANK(B37,$B$2:$B$41))","v":""},null,null,null,"","",""]
[{"$f":"IF(Hauptmaske!C43=\"x\",Hauptmaske!A43,\"\")","v":""},{"$f":"'LG-Freihand'!HM4","v":""},{"$f":"'LG-Freihand'!HI4","v":""},{"$f":"'LG-Freihand'!HI6","v":""},{"$f":"'LG-Freihand'!HM6","v":""},{"$f":"'LG-Freihand'!HN6","v":""},{"$f":"'LG-Freihand'!HL4","v":""},{"$f":"IF('LG-Freihand'!HJ9=\"\",\"\",SUM('LG-Freihand'!HN9:HN117))","v":""},{"$f":"IF('LG-Freihand'!HJ9=\"\",\"\",RANK(B38,$B$2:$B$41))","v":""},null,null,null,"","",""]
[{"$f":"IF(Hauptmaske!C44=\"x\",Hauptmaske!A44,\"\")","v":""},{"$f":"'LG-Freihand'!HS4","v":""},{"$f":"'LG-Freihand'!HO4","v":""},{"$f":"'LG-Freihand'!HO6","v":""},{"$f":"'LG-Freihand'!HS6","v":""},{"$f":"'LG-Freihand'!HT6","v":""},{"$f":"'LG-Freihand'!HR4","v":""},{"$f":"IF('LG-Freihand'!HP9=\"\",\"\",SUM('LG-Freihand'!HT9:HT117))","v":""},{"$f":"IF('LG-Freihand'!HP9=\"\",\"\",RANK(B39,$B$2:$B$41))","v":""},null,null,null,"","",""]
[{"$f":"IF(Hauptmaske!C45=\"x\",Hauptmaske!A45,\"\")","v":""},{"$f":"'LG-Freihand'!HY4","v":""},{"$f":"'LG-Freihand'!HU4","v":""},{"$f":"'LG-Freihand'!HU6","v":""},{"$f":"'LG-Freihand'!HY6","v":""},{"$f":"'LG-Freihand'!HZ6","v":""},{"$f":"'LG-Freihand'!HX4","v":""},{"$f":"IF('LG-Freihand'!HV9=\"\",\"\",SUM('LG-Freihand'!HZ9:HZ117))","v":""},{"$f":"IF('LG-Freihand'!HV9=\"\",\"\",RANK(B40,$B$2:$B$41))","v":""},null,null,null,"","",""]
[{"$f":"IF(Hauptmaske!C46=\"x\",Hauptmaske!A46,\"\")","v":""},{"$f":"'LG-Freihand'!IE4","v":""},{"$f":"'LG-Freihand'!IA4","v":""},{"$f":"'LG-Freihand'!IA6","v":""},{"$f":"'LG-Freihand'!IE6","v":""},{"$f":"'LG-Freihand'!IF6","v":""},{"$f":"'LG-Freihand'!ID4","v":""},{"$f":"IF('LG-Freihand'!IB9=\"\",\"\",SUM('LG-Freihand'!IF9:IF117))","v":""},{"$f":"IF('LG-Freihand'!IB9=\"\",\"\",RANK(B41,$B$2:$B$41))","v":""},null,null,null,"","",""]
[]
[null,null,"Name","Mittelwert"]
[{"$f":"M2","v":"Testname"},{"$f":"O2","v":-1.9999999999999999E-6},{"$f":"INDEX($A$44:$B$83,MATCH(LARGE($B$44:$B$83,ROW()-43),$B$44:$B$83,0),1)","v":"Testname"},{"$f":"INDEX($A$44:$B$83,MATCH(LARGE($B$44:$B$83,ROW()-43),$B$44:$B$83,0),2)","v":-1.9999999999999999E-6}]
[{"$f":"M3","v":""},{"$f":"O3","v":""},{"$f":"INDEX($A$44:$B$83,MATCH(LARGE($B$44:$B$83,ROW()-43),$B$44:$B$83,0),1)","v":{"$error":"#NUM!"}},{"$f":"INDEX($A$44:$B$83,MATCH(LARGE($B$44:$B$83,ROW()-43),$B$44:$B$83,0),2)","v":{"$error":"#NUM!"}}]
["","",{"$error":"#NUM!"},{"$error":"#NUM!"}]
["","",{"$error":"#NUM!"},{"$error":"#NUM!"}]
["","",{"$error":"#NUM!"},{"$error":"#NUM!"}]
["","",{"$error":"#NUM!"},{"$error":"#NUM!"}]
["","",{"$error":"#NUM!"},{"$error":"#NUM!"}]
["","",{"$error":"#NUM!"},{"$error":"#NUM!"}]
["","",{"$error":"#NUM!"},{"$error":"#NUM!"}]
["","",{"$error":"#NUM!"},{"$error":"#NUM!"}]
["","",{"$error":"#NUM!"},{"$error":"#NUM!"}]
["","",{"$error":"#NUM!"},{"$error":"#NUM!"}]
["","",{"$error":"#NUM!"},{"$error":"#NUM!"}]
["","",{"$error":"#NUM!"},{"$error":"#NUM!"}]
["","",{"$error":"#NUM!"},{"$error":"#NUM!"}]
["","",{"$error":"#NUM!"},{"$error":"#NUM!"}]
["","",{"$error":"#NUM!"},{"$error":"#NUM!"}]
["","",{"$error":"#NUM!"},{"$error":"#NUM!"}]
["","",{"$error":"#NUM!"},{"$error":"#NUM!"}]
["","",{"$error":"#NUM!"},{"$error":"#NUM!"}]
["","",{"$error":"#NUM!"},{"$error":"#NUM!"}]
["","",{"$error":"#NUM!"},{"$error":"#NUM!"}]
["","",{"$error":"#NUM!"},{"$error":"#NUM!"}]
["","",{"$error":"#NUM!"},{"$error":"#NUM!"}]
["","",{"$error":"#NUM!"},{"$error":"#NUM!"}]
["","",{"$error":"#NUM!"},{"$error":"#NUM!"}]
["","",{"$error":"#NUM!"},{"$error":"#NUM!"}]
["","",{"$error":"#NUM!"},{"$error":"#NUM!"}]
["","",{"$error":"#NUM!"},{"$error":"#NUM!"}]
["","",{"$error":"#NUM!"},{"$error":"#NUM!"}]
["","",{"$error":"#NUM!"},{"$error":"#NUM!"}]
["","",{"$error":"#NUM!"},{"$error":"#NUM!"}]
["","",{"$error":"#NUM!"},{"$error":"#NUM!"}]
["","",{"$error":"#NUM!"},{"$error":"#NUM!"}]
["","",{"$error":"#NUM!"},{"$error":"#NUM!"}]
["","",{"$error":"#NUM!"},{"$error":"#NUM!"}]
["","",{"$error":"#NUM!"},{"$error":"#NUM!"}]
["","",{"$error":"#NUM!"},{"$error":"#NUM!"}]
["","",{"$error":"#NUM!"},{"$error":"#NUM!"}]
["","",{"$error":"#NUM!"},{"$error":"#NUM!"}]

{"sheet":"Grafik-LG FH-1","index":3,"n_rows":40,"n_cols":7,"rows_kept":40,"cut":false,"hidden":false,"merged":[[0,0,0,5],[4,6,11,8],[39,6,46,8]]}
[{"$f":"CONCATENATE(\"Ergebnisse vom LG - Freihandschießen\",\" \",Hauptmaske!A4)","v":"Ergebnisse vom LG - Freihandschießen 2016"}]
[]
[]
[]
[null,null,null,null,null,null,"Diese Grafik ist auf\n40 Teilenehmer beschränkt."]
[]
[]
[]
[]
[]
[]
[]
[]
[]
[]
[]
[]
[]
[]
[]
[]
[]
[]
[]
[]
[]
[]
[]
[]
[]
[]
[]
[]
[]
[]
[]
[]
[]
[]
[null,null,null,null,null,null,"Diese Grafik ist auf\n40 Teilenehmer beschränkt."]

{"sheet":"Grafik-LG FH -2","index":4,"n_rows":39,"n_cols":7,"rows_kept":39,"cut":false,"hidden":false,"merged":[[0,0,0,5],[6,6,13,8],[38,6,45,8]]}
[{"$f":"CONCATENATE(\"Ergebnisse vom LG - Freihandschießen\",\" \",Hauptmaske!A4)","v":"Ergebnisse vom LG - Freihandschießen 2016"}]
[]
[]
[]
[]
[]
[null,null,null,null,null,null,"Diese Grafik ist auf\n40 Teilenehmer beschränkt."]
[]
[]
[]
[]
[]
[]
[]
[]
[]
[]
[]
[]
[]
[]
[]
[]
[]
[]
[]
[]
[]
[]
[]
[]
[]
[]
[]
[]
[]
[]
[]
[null,null,null,null,null,null,"Diese Grafik ist auf\n40 Teilenehmer beschränkt."]

{"sheet":"LG-Auflage","index":5,"n_rows":117,"n_cols":240,"rows_kept":117,"cut":false,"hidden":false,"merged":[[6,192,6,197],[6,198,6,203],[6,204,6,209],[6,210,6,215],[6,216,6,221],[6,222,6,227],[6,228,6,233],[6,234,6,239],[5,224,5,225],[5,192,5,193],[5,194,5,195],[5,198,5,199],[5,200,5,201],[5,204,5,205],[5,206,5,207],[5,210,5,211],[5,228,5,229],[5,230,5,231],[5,234,5,235],[5,212,5,213],[5,216,5,217],[5,218,5,219],[5,222,5,223],[5,236,5,237],[3,238,3,239],[4,192,4,193],[4,194,4,195],[4,196,4,197],[4,198,4,199],[4,200,4,201],[4,226,4,227],[4,228,4,229],[4,230,4,231],[4,232,4,233],[4,218,4,219],[4,220,4,221],[4,222,4,223],[4,224,4,225],[4,234,4,235],[4,236,4,237],[4,238,4,239],[3,210,3,211],[3,232,3,233],[3,234,3,235],[3,216,3,217],[3,220,3,221],[3,222,3,223],[3,226,3,227],[1,234,1,239],[2,192,2,193],[2,196,2,197],[2,198,2,199],[2,202,2,203],[2,204,2,205],[2,232,2,233],[2,234,2,235],[2,238,2,239],[1,222,1,227],[1,228,1,233],[2,216,2,217],[1,216,1,221],[2,220,2,221],[2,222,2,223],[2,226,2,227],[2,228,2,229],[1,192,1,197],[1,198,1,203],[1,204,1,209],[3,228,3,229],[4,190,4,191],[4,188,4,189],[2,208,2,209],[2,210,2,211],[2,214,2,215],[1,210,1,215],[3,192,3,193],[3,196,3,197],[3,198,3,199],[3,202,3,203],[3,204,3,205],[3,208,3,209],[4,202,4,203],[4,204,4,205],[4,206,4,207],[4,208,4,209],[4,210,4,211],[4,212,4,213],[4,214,4,215],[3,214,3,215],[4,216,4,217],[5,182,5,183],[5,186,5,187],[5,188,5,189],[6,96,6,101],[6,102,6,107],[6,108,6,113],[6,114,6,119],[6,120,6,125],[6,126,6,131],[6,132,6,137],[6,162,6,167],[6,168,6,173],[6,174,6,179],[6,180,6,185],[6,138,6,143],[6,144,6,149],[6,150,6,155],[6,156,6,161],[6,186,6,191],[4,182,4,183],[4,184,4,185],[4,186,4,187],[4,174,4,175],[4,176,4,177],[4,178,4,179],[4,180,4,181],[5,122,5,123],[5,126,5,127],[5,128,5,129],[5,132,5,133],[5,146,5,147],[5,150,5,151],[5,152,5,153],[5,156,5,157],[5,134,5,135],[5,138,5,139],[5,140,5,141],[5,144,5,145],[5,170,5,171],[5,174,5,175],[5,176,5,177],[5,180,5,181],[5,158,5,159],[4,166,4,167],[4,168,4,169],[4,170,4,171],[4,172,4,173],[4,158,4,159],[4,160,4,161],[4,162,4,163],[4,164,4,165],[5,114,5,115],[5,116,5,117],[5,120,5,121],[5,162,5,163],[5,164,5,165],[5,168,5,169],[4,128,4,129],[4,130,4,131],[4,132,4,133],[4,150,4,151],[4,152,4,153],[4,154,4,155],[4,156,4,157],[4,142,4,143],[4,144,4,145],[4,146,4,147],[4,148,4,149],[3,168,3,169],[3,184,3,185],[3,186,3,187],[3,190,3,191],[4,96,4,97],[4,98,4,99],[4,100,4,101],[4,102,4,103],[4,104,4,105],[4,106,4,107],[4,108,4,109],[4,118,4,119],[4,120,4,121],[4,122,4,123],[4,124,4,125],[4,110,4,111],[4,112,4,113],[4,114,4,115],[4,116,4,117],[4,134,4,135],[4,136,4,137],[4,138,4,139],[4,140,4,141],[4,126,4,127],[2,184,2,185],[2,186,2,187],[2,190,2,191],[3,96,3,97],[3,100,3,101],[3,102,3,103],[3,106,3,107],[3,108,3,109],[3,112,3,113],[3,114,3,115],[3,118,3,119],[3,150,3,151],[3,154,3,155],[3,156,3,157],[3,132,3,133],[3,136,3,137],[3,130,3,131],[3,172,3,173],[3,174,3,175],[3,178,3,179],[3,180,3,181],[3,160,3,161],[3,162,3,163],[3,166,3,167],[1,132,1,137],[2,172,2,173],[2,174,2,175],[2,178,2,179],[2,180,2,181],[2,160,2,161],[2,162,2,163],[2,166,2,167],[2,168,2,169],[1,144,1,149],[2,144,2,145],[2,148,2,149],[3,138,3,139],[3,142,3,143],[3,144,3,145],[3,148,3,149],[1,138,1,143],[2,132,2,133],[2,136,2,137],[2,138,2,139],[2,142,2,143],[6,48,6,53],[6,54,6,59],[6,60,6,65],[6,66,6,71],[6,72,6,77],[1,180,1,185],[1,186,1,191],[6,90,6,95],[1,150,1,155],[1,156,1,161],[1,162,1,167],[2,96,2,97],[2,100,2,101],[2,102,2,103],[2,106,2,107],[2,114,2,115],[2,150,2,151],[2,154,2,155],[2,156,2,157],[1,168,1,173],[1,174,1,179],[1,120,1,125],[2,120,2,121],[2,124,2,125],[6,78,6,83],[6,84,6,89],[5,74,5,75],[5,78,5,79],[5,80,5,81],[5,84,5,85],[2,108,2,109],[2,112,2,113],[5,86,5,87],[5,90,5,91],[5,92,5,93],[5,96,5,97],[5,98,5,99],[5,102,5,103],[5,104,5,105],[5,108,5,109],[5,110,5,111],[4,92,4,93],[4,78,4,79],[4,80,4,81],[4,82,4,83],[4,84,4,85],[4,94,4,95],[4,74,4,75],[5,48,5,49],[5,50,5,51],[5,54,5,55],[5,56,5,57],[5,60,5,61],[5,62,5,63],[5,66,5,67],[5,68,5,69],[5,72,5,73],[4,76,4,77],[4,62,4,63],[4,64,4,65],[4,66,4,67],[4,68,4,69],[4,86,4,87],[4,88,4,89],[4,90,4,91],[4,48,4,49],[4,50,4,51],[4,52,4,53],[4,54,4,55],[4,56,4,57],[4,58,4,59],[4,60,4,61],[4,70,4,71],[4,72,4,73],[2,90,2,91],[2,70,2,71],[2,72,2,73],[2,76,2,77],[2,78,2,79],[2,94,2,95],[3,48,3,49],[3,52,3,53],[3,54,3,55],[3,58,3,59],[3,60,3,61],[3,64,3,65],[3,66,3,67],[3,70,3,71],[2,82,2,83],[3,88,3,89],[3,90,3,91],[3,94,3,95],[3,78,3,79],[3,82,3,83],[3,84,3,85],[1,0,1,5],[1,6,1,11],[2,6,2,7],[2,10,2,11],[5,6,5,7],[5,8,5,9],[4,0,4,1],[4,2,4,3],[6,0,6,5],[2,0,2,1],[5,0,5,1],[3,0,3,1],[2,4,2,5],[4,4,4,5],[3,4,3,5],[5,2,5,3],[6,6,6,11],[4,6,4,7],[4,8,4,9],[4,10,4,11],[3,6,3,7],[3,10,3,11],[1,12,1,17],[1,18,1,23],[2,12,2,13],[2,16,2,17],[2,18,2,19],[2,22,2,23],[3,22,3,23],[4,12,4,13],[4,14,4,15],[3,12,3,13],[6,12,6,17],[6,18,6,23],[5,12,5,13],[5,14,5,15],[5,18,5,19],[5,20,5,21],[4,16,4,17],[4,18,4,19],[4,20,4,21],[4,22,4,23],[1,102,1,107],[2,34,2,35],[2,36,2,37],[1,24,1,29],[1,30,1,35],[1,36,1,41],[1,42,1,47],[3,16,3,17],[3,18,3,19],[1,96,1,101],[1,72,1,77],[1,78,1,83],[1,84,1,89],[1,90,1,95],[1,48,1,53],[1,54,1,59],[2,60,2,61],[2,64,2,65],[2,66,2,67],[2,84,2,85],[2,52,2,53],[2,54,2,55],[2,58,2,59],[2,88,2,89],[2,40,2,41],[2,42,2,43],[2,46,2,47],[1,60,1,65],[1,66,1,71],[2,48,2,49],[2,24,2,25],[2,28,2,29],[2,30,2,31],[3,40,3,41],[3,42,3,43],[3,46,3,47],[3,72,3,73],[3,76,3,77],[3,24,3,25],[3,28,3,29],[3,30,3,31],[3,34,3,35],[3,36,3,37],[1,126,1,131],[2,126,2,127],[2,130,2,131],[3,120,3,121],[3,124,3,125],[3,126,3,127],[1,108,1,113],[1,114,1,119],[2,118,2,119],[4,36,4,37],[4,38,4,39],[4,40,4,41],[4,42,4,43],[4,44,4,45],[4,46,4,47],[4,24,4,25],[4,26,4,27],[4,28,4,29],[4,30,4,31],[4,32,4,33],[4,34,4,35],[5,42,5,43],[5,44,5,45],[6,24,6,29],[6,30,6,35],[6,36,6,41],[6,42,6,47],[5,24,5,25],[5,26,5,27],[5,30,5,31],[5,32,5,33],[5,36,5,37],[5,38,5,39]]}
[{"$f":"IF(Hauptmaske!$D$5=\"\",10,Hauptmaske!$D$5)","v":20}]
[{"$f":"Hauptmaske!$D$6","v":"LG-Auflage"},null,null,null,null,null,{"$f":"Hauptmaske!$D$6","v":"LG-Auflage"},null,null,null,null,null,{"$f":"Hauptmaske!$D$6","v":"LG-Auflage"},null,null,null,null,null,{"$f":"Hauptmaske!$D$6","v":"LG-Auflage"},null,null,null,null,null,{"$f":"Hauptmaske!$D$6","v":"LG-Auflage"},null,null,null,null,null,{"$f":"Hauptmaske!$D$6","v":"LG-Auflage"},null,null,null,null,null,{"$f":"Hauptmaske!$D$6","v":"LG-Auflage"},null,null,null,null,null,{"$f":"Hauptmaske!$D$6","v":"LG-Auflage"},null,null,null,null,null,{"$f":"Hauptmaske!$D$6","v":"LG-Auflage"},null,null,null,null,null,{"$f":"Hauptmaske!$D$6","v":"LG-Auflage"},null,null,null,null,null,{"$f":"Hauptmaske!$D$6","v":"LG-Auflage"},null,null,null,null,null,{"$f":"Hauptmaske!$D$6","v":"LG-Auflage"},null,null,null,null,null,{"$f":"Hauptmaske!$D$6","v":"LG-Auflage"},null,null,null,null,null,{"$f":"Hauptmaske!$D$6","v":"LG-Auflage"},null,null,null,null,null,{"$f":"Hauptmaske!$D$6","v":"LG-Auflage"},null,null,null,null,null,{"$f":"Hauptmaske!$D$6","v":"LG-Auflage"},null,null,null,null,null,{"$f":"Hauptmaske!$D$6","v":"LG-Auflage"},null,null,null,null,null,{"$f":"Hauptmaske!$D$6","v":"LG-Auflage"},null,null,null,null,null,{"$f":"Hauptmaske!$D$6","v":"LG-Auflage"},null,null,null,null,null,{"$f":"Hauptmaske!$D$6","v":"LG-Auflage"},null,null,null,null,null,{"$f":"Hauptmaske!$D$6","v":"LG-Auflage"},null,null,null,null,null,{"$f":"Hauptmaske!$D$6","v":"LG-Auflage"},null,null,null,null,null,{"$f":"Hauptmaske!$D$6","v":"LG-Auflage"},null,null,null,null,null,{"$f":"Hauptmaske!$D$6","v":"LG-Auflage"},null,null,null,null,null,{"$f":"Hauptmaske!$D$6","v":"LG-Auflage"},null,null,null,null,null,{"$f":"Hauptmaske!$D$6","v":"LG-Auflage"},null,null,null,null,null,{"$f":"Hauptmaske!$D$6","v":"LG-Auflage"},null,null,null,null,null,{"$f":"Hauptmaske!$D$6","v":"LG-Auflage"},null,null,null,null,null,{"$f":"Hauptmaske!$D$6","v":"LG-Auflage"},null,null,null,null,null,{"$f":"Hauptmaske!$D$6","v":"LG-Auflage"},null,null,null,null,null,{"$f":"Hauptmaske!$D$6","v":"LG-Auflage"},null,null,null,null,null,{"$f":"Hauptmaske!$D$6","v":"LG-Auflage"},null,null,null,null,null,{"$f":"Hauptmaske!$D$6","v":"LG-Auflage"},null,null,null,null,null,{"$f":"Hauptmaske!$D$6","v":"LG-Auflage"},null,null,null,null,null,{"$f":"Hauptmaske!$D$6","v":"LG-Auflage"},null,null,null,null,null,{"$f":"Hauptmaske!$D$6","v":"LG-Auflage"},null,null,null,null,null,{"$f":"Hauptmaske!$D$6","v":"LG-Auflage"},null,null,null,null,null,{"$f":"Hauptmaske!$D$6","v":"LG-Auflage"},null,null,null,null,null,{"$f":"Hauptmaske!$D$6","v":"LG-Auflage"},null,null,null,null,null,{"$f":"Hauptmaske!$D$6","v":"LG-Auflage"}]
["Bestes\nErgebnis",null,"Beste\nEinzelserie","Teilnahmen","Mittelwert\nges. Ergebnis",null,"Bestes\nErgebnis",null,"Beste\nEinzelserie","Teilnahmen","Mittelwert\nges. Ergebnis",null,"Bestes\nErgebnis",null,"Beste\nEinzelserie","Teilnahmen","Mittelwert\nges. Ergebnis",null,"Bestes\nErgebnis",null,"Beste\nEinzelserie","Teilnahmen","Mittelwert\nges. Ergebnis",null,"Bestes\nErgebnis",null,"Beste\nEinzelserie","Teilnahmen","Mittelwert\nges. Ergebnis",null,"Bestes\nErgebnis",null,"Beste\nEinzelserie","Teilnahmen","Mittelwert\nges. Ergebnis",null,"Bestes\nErgebnis",null,"Beste\nEinzelserie","Teilnahmen","Mittelwert\nges. Ergebnis",null,"Bestes\nErgebnis",null,"Beste\nEinzelserie","Teilnahmen","Mittelwert\nges. Ergebnis",null,"Bestes\nErgebnis",null,"Beste\nEinzelserie","Teilnahmen","Mittelwert\nges. Ergebnis",null,"Bestes\nErgebnis",null,"Beste\nEinzelserie","Teilnahmen","Mittelwert\nges. Ergebnis",null,"Bestes\nErgebnis",null,"Beste\nEinzelserie","Teilnahmen","Mittelwert\nges. Ergebnis",null,"Bestes\nErgebnis",null,"Beste\nEinzelserie","Teilnahmen","Mittelwert\nges. Ergebnis",null,"Bestes\nErgebnis",null,"Beste\nEinzelserie","Teilnahmen","Mittelwert\nges. Ergebnis",null,"Bestes\nErgebnis",null,"Beste\nEinzelserie","Teilnahmen","Mittelwert\nges. Ergebnis",null,"Bestes\nErgebnis",null,"Beste\nEinzelserie","Teilnahmen","Mittelwert\nges. Ergebnis",null,"Bestes\nErgebnis",null,"Beste\nEinzelserie","Teilnahmen","Mittelwert\nges. Ergebnis",null,"Bestes\nErgebnis",null,"Beste\nEinzelserie","Teilnahmen","Mittelwert\nges. Ergebnis",null,"Bestes\nErgebnis",null,"Beste\nEinzelserie","Teilnahmen","Mittelwert\nges. Ergebnis",null,"Bestes\nErgebnis",null,"Beste\nEinzelserie","Teilnahmen","Mittelwert\nges. Ergebnis",null,"Bestes\nErgebnis",null,"Beste\nEinzelserie","Teilnahmen","Mittelwert\nges. Ergebnis",null,"Bestes\nErgebnis",null,"Beste\nEinzelserie","Teilnahmen","Mittelwert\nges. Ergebnis",null,"Bestes\nErgebnis",null,"Beste\nEinzelserie","Teilnahmen","Mittelwert\nges. Ergebnis",null,"Bestes\nErgebnis",null,"Beste\nEinzelserie","Teilnahmen","Mittelwert\nges. Ergebnis",null,"Bestes\nErgebnis",null,"Beste\nEinzelserie","Teilnahmen","Mittelwert\nges. Ergebnis",null,"Bestes\nErgebnis",null,"Beste\nEinzelserie","Teilnahmen","Mittelwert\nges. Ergebnis",null,"Bestes\nErgebnis",null,"Beste\nEinzelserie","Teilnahmen","Mittelwert\nges. Ergebnis",null,"Bestes\nErgebnis",null,"Beste\nEinzelserie","Teilnahmen","Mittelwert\nges. Ergebnis",null,"Bestes\nErgebnis",null,"Beste\nEinzelserie","Teilnahmen","Mittelwert\nges. Ergebnis",null,"Bestes\nErgebnis",null,"Beste\nEinzelserie","Teilnahmen","Mittelwert\nges. Ergebnis",null,"Bestes\nErgebnis",null,"Beste\nEinzelserie","Teilnahmen","Mittelwert\nges. Ergebnis",null,"Bestes\nErgebnis",null,"Beste\nEinzelserie","Teilnahmen","Mittelwert\nges. Ergebnis",null,"Bestes\nErgebnis",null,"Beste\nEinzelserie","Teilnahmen","Mittelwert\nges. Ergebnis",null,"Bestes\nErgebnis",null,"Beste\nEinzelserie","Teilnahmen","Mittelwert\nges. Ergebnis",null,"Bestes\nErgebnis",null,"Beste\nEinzelserie","Teilnahmen","Mittelwert\nges. Ergebnis",null,"Bestes\nErgebnis",null,"Beste\nEinzelserie","Teilnahmen","Mittelwert\nges. Ergebnis",null,"Bestes\nErgebnis",null,"Beste\nEinzelserie","Teilnahmen","Mittelwert\nges. Ergebnis",null,"Bestes\nErgebnis",null,"Beste\nEinzelserie","Teilnahmen","Mittelwert\nges. Ergebnis",null,"Bestes\nErgebnis",null,"Beste\nEinzelserie","Teilnahmen","Mittelwert\nges. Ergebnis",null,"Bestes\nErgebnis",null,"Beste\nEinzelserie","Teilnahmen","Mittelwert\nges. Ergebnis",null,"Bestes\nErgebnis",null,"Beste\nEinzelserie","Teilnahmen","Mittelwert\nges. Ergebnis"]
[{"$f":"IF(A9=\"\",\"\",MAX(F9:F117))","v":0},null,{"$f":"IF(A9=\"\",\"\",MAX(B9:E117))","v":0},{"$f":"IF(A9=\"\",\"\",COUNT(A9:A117))","v":1},{"$f":"IF(A9=\"\",\"\",AVERAGE(F9:F117))","v":0},null,{"$f":"IF(G9=\"\",\"\",MAX(L9:L117))","v":""},null,{"$f":"IF(G9=\"\",\"\",MAX(H9:K117))","v":""},{"$f":"IF(G9=\"\",\"\",COUNT(G9:G117))","v":""},{"$f":"IF(G9=\"\",\"\",AVERAGE(L9:L117))","v":""},null,{"$f":"IF(M9=\"\",\"\",MAX(R9:R117))","v":""},null,{"$f":"IF(M9=\"\",\"\",MAX(N9:Q117))","v":""},{"$f":"IF(M9=\"\",\"\",COUNT(M9:M117))","v":""},{"$f":"IF(M9=\"\",\"\",AVERAGE(R9:R117))","v":""},null,{"$f":"IF(S9=\"\",\"\",MAX(X9:X117))","v":""},null,{"$f":"IF(S9=\"\",\"\",MAX(T9:W117))","v":""},{"$f":"IF(S9=\"\",\"\",COUNT(S9:S117))","v":""},{"$f":"IF(S9=\"\",\"\",AVERAGE(X9:X117))","v":""},null,{"$f":"IF(Y9=\"\",\"\",MAX(AD9:AD117))","v":""},null,{"$f":"IF(Y9=\"\",\"\",MAX(Z9:AC117))","v":""},{"$f":"IF(Y9=\"\",\"\",COUNT(Y9:Y117))","v":""},{"$f":"IF(Y9=\"\",\"\",AVERAGE(AD9:AD117))","v":""},null,{"$f":"IF(AE9=\"\",\"\",MAX(AJ9:AJ117))","v":""},null,{"$f":"IF(AE9=\"\",\"\",MAX(AF9:AI117))","v":""},{"$f":"IF(AE9=\"\",\"\",COUNT(AE9:AE117))","v":""},{"$f":"IF(AE9=\"\",\"\",AVERAGE(AJ9:AJ117))","v":""},null,{"$f":"IF(AK9=\"\",\"\",MAX(AP9:AP117))","v":""},null,{"$f":"IF(AK9=\"\",\"\",MAX(AL9:AO117))","v":""},{"$f":"IF(AK9=\"\",\"\",COUNT(AK9:AK117))","v":""},{"$f":"IF(AK9=\"\",\"\",AVERAGE(AP9:AP117))","v":""},null,{"$f":"IF(AQ9=\"\",\"\",MAX(AV9:AV117))","v":""},null,{"$f":"IF(AQ9=\"\",\"\",MAX(AR9:AU117))","v":""},{"$f":"IF(AQ9=\"\",\"\",COUNT(AQ9:AQ117))","v":""},{"$f":"IF(AQ9=\"\",\"\",AVERAGE(AV9:AV117))","v":""},null,{"$f":"IF(AW9=\"\",\"\",MAX(BB9:BB117))","v":""},null,{"$f":"IF(AW9=\"\",\"\",MAX(AX9:BA117))","v":""},{"$f":"IF(AW9=\"\",\"\",COUNT(AW9:AW117))","v":""},{"$f":"IF(AW9=\"\",\"\",AVERAGE(BB9:BB117))","v":""},null,{"$f":"IF(BC9=\"\",\"\",MAX(BH9:BH117))","v":""},null,{"$f":"IF(BC9=\"\",\"\",MAX(BD9:BG117))","v":""},{"$f":"IF(BC9=\"\",\"\",COUNT(BC9:BC117))","v":""},{"$f":"IF(BC9=\"\",\"\",AVERAGE(BH9:BH117))","v":""},null,{"$f":"IF(BI9=\"\",\"\",MAX(BN9:BN117))","v":""},null,{"$f":"IF(BI9=\"\",\"\",MAX(BJ9:BM117))","v":""},{"$f":"IF(BI9=\"\",\"\",COUNT(BI9:BI117))","v":""},{"$f":"IF(BI9=\"\",\"\",AVERAGE(BN9:BN117))","v":""},null,{"$f":"IF(BO9=\"\",\"\",MAX(BT9:BT117))","v":""},null,{"$f":"IF(BO9=\"\",\"\",MAX(BP9:BS117))","v":""},{"$f":"IF(BO9=\"\",\"\",COUNT(BO9:BO117))","v":""},{"$f":"IF(BO9=\"\",\"\",AVERAGE(BT9:BT117))","v":""},null,{"$f":"IF(BU9=\"\",\"\",MAX(BZ9:BZ117))","v":""},null,{"$f":"IF(BU9=\"\",\"\",MAX(BV9:BY117))","v":""},{"$f":"IF(BU9=\"\",\"\",COUNT(BU9:BU117))","v":""},{"$f":"IF(BU9=\"\",\"\",AVERAGE(BZ9:BZ117))","v":""},null,{"$f":"IF(CA9=\"\",\"\",MAX(CF9:CF117))","v":""},null,{"$f":"IF(CA9=\"\",\"\",MAX(CB9:CE117))","v":""},{"$f":"IF(CA9=\"\",\"\",COUNT(CA9:CA117))","v":""},{"$f":"IF(CA9=\"\",\"\",AVERAGE(CF9:CF117))","v":""},null,{"$f":"IF(CG9=\"\",\"\",MAX(CL9:CL117))","v":""},null,{"$f":"IF(CG9=\"\",\"\",MAX(CH9:CK117))","v":""},{"$f":"IF(CG9=\"\",\"\",COUNT(CG9:CG117))","v":""},{"$f":"IF(CG9=\"\",\"\",AVERAGE(CL9:CL117))","v":""},null,{"$f":"IF(CM9=\"\",\"\",MAX(CR9:CR117))","v":""},null,{"$f":"IF(CM9=\"\",\"\",MAX(CN9:CQ117))","v":""},{"$f":"IF(CM9=\"\",\"\",COUNT(CM9:CM117))","v":""},{"$f":"IF(CM9=\"\",\"\",AVERAGE(CR9:CR117))","v":""},null,{"$f":"IF(CS9=\"\",\"\",MAX(CX9:CX117))","v":""},null,{"$f":"IF(CS9=\"\",\"\",MAX(CT9:CW117))","v":""},{"$f":"IF(CS9=\"\",\"\",COUNT(CS9:CS117))","v":""},{"$f":"IF(CS9=\"\",\"\",AVERAGE(CX9:CX117))","v":""},null,{"$f":"IF(CY9=\"\",\"\",MAX(DD9:DD117))","v":""},null,{"$f":"IF(CY9=\"\",\"\",MAX(CZ9:DC117))","v":""},{"$f":"IF(CY9=\"\",\"\",COUNT(CY9:CY117))","v":""},{"$f":"IF(CY9=\"\",\"\",AVERAGE(DD9:DD117))","v":""},null,{"$f":"IF(DE9=\"\",\"\",MAX(DJ9:DJ117))","v":""},null,{"$f":"IF(DE9=\"\",\"\",MAX(DF9:DI117))","v":""},{"$f":"IF(DE9=\"\",\"\",COUNT(DE9:DE117))","v":""},{"$f":"IF(DE9=\"\",\"\",AVERAGE(DJ9:DJ117))","v":""},null,{"$f":"IF(DK9=\"\",\"\",MAX(DP9:DP117))","v":""},null,{"$f":"IF(DK9=\"\",\"\",MAX(DL9:DO117))","v":""},{"$f":"IF(DK9=\"\",\"\",COUNT(DK9:DK117))","v":""},{"$f":"IF(DK9=\"\",\"\",AVERAGE(DP9:DP117))","v":""},null,{"$f":"IF(DQ9=\"\",\"\",MAX(DV9:DV117))","v":""},null,{"$f":"IF(DQ9=\"\",\"\",MAX(DR9:DU117))","v":""},{"$f":"IF(DQ9=\"\",\"\",COUNT(DQ9:DQ117))","v":""},{"$f":"IF(DQ9=\"\",\"\",AVERAGE(DV9:DV117))","v":""},null,{"$f":"IF(DW9=\"\",\"\",MAX(EB9:EB117))","v":""},null,{"$f":"IF(DW9=\"\",\"\",MAX(DX9:EA117))","v":""},{"$f":"IF(DW9=\"\",\"\",COUNT(DW9:DW117))","v":""},{"$f":"IF(DW9=\"\",\"\",AVERAGE(EB9:EB117))","v":""},null,{"$f":"IF(EC9=\"\",\"\",MAX(EH9:EH117))","v":""},null,{"$f":"IF(EC9=\"\",\"\",MAX(ED9:EG117))","v":""},{"$f":"IF(EC9=\"\",\"\",COUNT(EC9:EC117))","v":""},{"$f":"IF(EC9=\"\",\"\",AVERAGE(EH9:EH117))","v":""},null,{"$f":"IF(EI9=\"\",\"\",MAX(EN9:EN117))","v":""},null,{"$f":"IF(EI9=\"\",\"\",MAX(EJ9:EM117))","v":""},{"$f":"IF(EI9=\"\",\"\",COUNT(EI9:EI117))","v":""},{"$f":"IF(EI9=\"\",\"\",AVERAGE(EN9:EN117))","v":""},null,{"$f":"IF(EO9=\"\",\"\",MAX(ET9:ET117))","v":""},null,{"$f":"IF(EO9=\"\",\"\",MAX(EP9:ES117))","v":""},{"$f":"IF(EO9=\"\",\"\",COUNT(EO9:EO117))","v":""},{"$f":"IF(EO9=\"\",\"\",AVERAGE(ET9:ET117))","v":""},null,{"$f":"IF(EU9=\"\",\"\",MAX(EZ9:EZ117))","v":""},null,{"$f":"IF(EU9=\"\",\"\",MAX(EV9:EY117))","v":""},{"$f":"IF(EU9=\"\",\"\",COUNT(EU9:EU117))","v":""},{"$f":"IF(EU9=\"\",\"\",AVERAGE(EZ9:EZ117))","v":""},null,{"$f":"IF(FA9=\"\",\"\",MAX(FF9:FF117))","v":""},null,{"$f":"IF(FA9=\"\",\"\",MAX(FB9:FE117))","v":""},{"$f":"IF(FA9=\"\",\"\",COUNT(FA9:FA117))","v":""},{"$f":"IF(FA9=\"\",\"\",AVERAGE(FF9:FF117))","v":""},null,{"$f":"IF(FG9=\"\",\"\",MAX(FL9:FL117))","v":""},null,{"$f":"IF(FG9=\"\",\"\",MAX(FH9:FK117))","v":""},{"$f":"IF(FG9=\"\",\"\",COUNT(FG9:FG117))","v":""},{"$f":"IF(FG9=\"\",\"\",AVERAGE(FL9:FL117))","v":""},null,{"$f":"IF(FM9=\"\",\"\",MAX(FR9:FR117))","v":""},null,{"$f":"IF(FM9=\"\",\"\",MAX(FN9:FQ117))","v":""},{"$f":"IF(FM9=\"\",\"\",COUNT(FM9:FM117))","v":""},{"$f":"IF(FM9=\"\",\"\",AVERAGE(FR9:FR117))","v":""},null,{"$f":"IF(FS9=\"\",\"\",MAX(FX9:FX117))","v":""},null,{"$f":"IF(FS9=\"\",\"\",MAX(FT9:FW117))","v":""},{"$f":"IF(FS9=\"\",\"\",COUNT(FS9:FS117))","v":""},{"$f":"IF(FS9=\"\",\"\",AVERAGE(FX9:FX117))","v":""},null,{"$f":"IF(FY9=\"\",\"\",MAX(GD9:GD117))","v":""},null,{"$f":"IF(FY9=\"\",\"\",MAX(FZ9:GC117))","v":""},{"$f":"IF(FY9=\"\",\"\",COUNT(FY9:FY117))","v":""},{"$f":"IF(FY9=\"\",\"\",AVERAGE(GD9:GD117))","v":""},null,{"$f":"IF(GE9=\"\",\"\",MAX(GJ9:GJ117))","v":""},null,{"$f":"IF(GE9=\"\",\"\",MAX(GF9:GI117))","v":""},{"$f":"IF(GE9=\"\",\"\",COUNT(GE9:GE117))","v":""},{"$f":"IF(GE9=\"\",\"\",AVERAGE(GJ9:GJ117))","v":""},null,{"$f":"IF(GK9=\"\",\"\",MAX(GP9:GP117))","v":""},null,{"$f":"IF(GK9=\"\",\"\",MAX(GL9:GO117))","v":""},{"$f":"IF(GK9=\"\",\"\",COUNT(GK9:GK117))","v":""},{"$f":"IF(GK9=\"\",\"\",AVERAGE(GP9:GP117))","v":""},null,{"$f":"IF(GQ9=\"\",\"\",MAX(GV9:GV117))","v":""},null,{"$f":"IF(GQ9=\"\",\"\",MAX(GR9:GU117))","v":""},{"$f":"IF(GQ9=\"\",\"\",COUNT(GQ9:GQ117))","v":""},{"$f":"IF(GQ9=\"\",\"\",AVERAGE(GV9:GV117))","v":""},null,{"$f":"IF(GW9=\"\",\"\",MAX(HB9:HB117))","v":""},null,{"$f":"IF(GW9=\"\",\"\",MAX(GX9:HA117))","v":""},{"$f":"IF(GW9=\"\",\"\",COUNT(GW9:GW117))","v":""},{"$f":"IF(GW9=\"\",\"\",AVERAGE(HB9:HB117))","v":""},null,{"$f":"IF(HC9=\"\",\"\",MAX(HH9:HH117))","v":""},null,{"$f":"IF(HC9=\"\",\"\",MAX(HD9:HG117))","v":""},{"$f":"IF(HC9=\"\",\"\",COUNT(HC9:HC117))","v":""},{"$f":"IF(HC9=\"\",\"\",AVERAGE(HH9:HH117))","v":""},null,{"$f":"IF(HI9=\"\",\"\",MAX(HN9:HN117))","v":""},null,{"$f":"IF(HI9=\"\",\"\",MAX(HJ9:HM117))","v":""},{"$f":"IF(HI9=\"\",\"\",COUNT(HI9:HI117))","v":""},{"$f":"IF(HI9=\"\",\"\",AVERAGE(HN9:HN117))","v":""},null,{"$f":"IF(HO9=\"\",\"\",MAX(HT9:HT117))","v":""},null,{"$f":"IF(HO9=\"\",\"\",MAX(HP9:HS117))","v":""},{"$f":"IF(HO9=\"\",\"\",COUNT(HO9:HO117))","v":""},{"$f":"IF(HO9=\"\",\"\",AVERAGE(HT9:HT117))","v":""},null,{"$f":"IF(HU9=\"\",\"\",MAX(HZ9:HZ117))","v":""},null,{"$f":"IF(HU9=\"\",\"\",MAX(HV9:HY117))","v":""},{"$f":"IF(HU9=\"\",\"\",COUNT(HU9:HU117))","v":""},{"$f":"IF(HU9=\"\",\"\",AVERAGE(HZ9:HZ117))","v":""},null,{"$f":"IF(IA9=\"\",\"\",MAX(IF9:IF117))","v":""},null,{"$f":"IF(IA9=\"\",\"\",MAX(IB9:IE117))","v":""},{"$f":"IF(IA9=\"\",\"\",COUNT(IA9:IA117))","v":""},{"$f":"IF(IA9=\"\",\"\",AVERAGE(IF9:IF117))","v":""}]
["Schlechtestes\nErgebnis",null,"Schlechteste\nEinzelserie",null,"Ø Einzelschuss aus \nbester Einzelserie",null,"Schlechtestes\nErgebnis",null,"Schlechteste\nEinzelserie",null,"Ø Einzelschuss aus \nbester Einzelserie",null,"Schlechtestes\nErgebnis",null,"Schlechteste\nEinzelserie",null,"Ø Einzelschuss aus \nbester Einzelserie",null,"Schlechtestes\nErgebnis",null,"Schlechteste\nEinzelserie",null,"Ø Einzelschuss aus \nbester Einzelserie",null,"Schlechtestes\nErgebnis",null,"Schlechteste\nEinzelserie",null,"Ø Einzelschuss aus \nbester Einzelserie",null,"Schlechtestes\nErgebnis",null,"Schlechteste\nEinzelserie",null,"Ø Einzelschuss aus \nbester Einzelserie",null,"Schlechtestes\nErgebnis",null,"Schlechteste\nEinzelserie",null,"Ø Einzelschuss aus \nbester Einzelserie",null,"Schlechtestes\nErgebnis",null,"Schlechteste\nEinzelserie",null,"Ø Einzelschuss aus \nbester Einzelserie",null,"Schlechtestes\nErgebnis",null,"Schlechteste\nEinzelserie",null,"Ø Einzelschuss aus \nbester Einzelserie",null,"Schlechtestes\nErgebnis",null,"Schlechteste\nEinzelserie",null,"Ø Einzelschuss aus \nbester Einzelserie",null,"Schlechtestes\nErgebnis",null,"Schlechteste\nEinzelserie",null,"Ø Einzelschuss aus \nbester Einzelserie",null,"Schlechtestes\nErgebnis",null,"Schlechteste\nEinzelserie",null,"Ø Einzelschuss aus \nbester Einzelserie",null,"Schlechtestes\nErgebnis",null,"Schlechteste\nEinzelserie",null,"Ø Einzelschuss aus \nbester Einzelserie",null,"Schlechtestes\nErgebnis",null,"Schlechteste\nEinzelserie",null,"Ø Einzelschuss aus \nbester Einzelserie",null,"Schlechtestes\nErgebnis",null,"Schlechteste\nEinzelserie",null,"Ø Einzelschuss aus \nbester Einzelserie",null,"Schlechtestes\nErgebnis",null,"Schlechteste\nEinzelserie",null,"Ø Einzelschuss aus \nbester Einzelserie",null,"Schlechtestes\nErgebnis",null,"Schlechteste\nEinzelserie",null,"Ø Einzelschuss aus \nbester Einzelserie",null,"Schlechtestes\nErgebnis",null,"Schlechteste\nEinzelserie",null,"Ø Einzelschuss aus \nbester Einzelserie",null,"Schlechtestes\nErgebnis",null,"Schlechteste\nEinzelserie",null,"Ø Einzelschuss aus \nbester Einzelserie",null,"Schlechtestes\nErgebnis",null,"Schlechteste\nEinzelserie",null,"Ø Einzelschuss aus \nbester Einzelserie",null,"Schlechtestes\nErgebnis",null,"Schlechteste\nEinzelserie",null,"Ø Einzelschuss aus \nbester Einzelserie",null,"Schlechtestes\nErgebnis",null,"Schlechteste\nEinzelserie",null,"Ø Einzelschuss aus \nbester Einzelserie",null,"Schlechtestes\nErgebnis",null,"Schlechteste\nEinzelserie",null,"Ø Einzelschuss aus \nbester Einzelserie",null,"Schlechtestes\nErgebnis",null,"Schlechteste\nEinzelserie",null,"Ø Einzelschuss aus \nbester Einzelserie",null,"Schlechtestes\nErgebnis",null,"Schlechteste\nEinzelserie",null,"Ø Einzelschuss aus \nbester Einzelserie",null,"Schlechtestes\nErgebnis",null,"Schlechteste\nEinzelserie",null,"Ø Einzelschuss aus \nbester Einzelserie",null,"Schlechtestes\nErgebnis",null,"Schlechteste\nEinzelserie",null,"Ø Einzelschuss aus \nbester Einzelserie",null,"Schlechtestes\nErgebnis",null,"Schlechteste\nEinzelserie",null,"Ø Einzelschuss aus \nbester Einzelserie",null,"Schlechtestes\nErgebnis",null,"Schlechteste\nEinzelserie",null,"Ø Einzelschuss aus \nbester Einzelserie",null,"Schlechtestes\nErgebnis",null,"Schlechteste\nEinzelserie",null,"Ø Einzelschuss aus \nbester Einzelserie",null,"Schlechtestes\nErgebnis",null,"Schlechteste\nEinzelserie",null,"Ø Einzelschuss aus \nbester Einzelserie",null,"Schlechtestes\nErgebnis",null,"Schlechteste\nEinzelserie",null,"Ø Einzelschuss aus \nbester Einzelserie",null,"Schlechtestes\nErgebnis",null,"Schlechteste\nEinzelserie",null,"Ø Einzelschuss aus \nbester Einzelserie",null,"Schlechtestes\nErgebnis",null,"Schlechteste\nEinzelserie",null,"Ø Einzelschuss aus \nbester Einzelserie",null,"Schlechtestes\nErgebnis",null,"Schlechteste\nEinzelserie",null,"Ø Einzelschuss aus \nbester Einzelserie",null,"Schlechtestes\nErgebnis",null,"Schlechteste\nEinzelserie",null,"Ø Einzelschuss aus \nbester Einzelserie",null,"Schlechtestes\nErgebnis",null,"Schlechteste\nEinzelserie",null,"Ø Einzelschuss aus \nbester Einzelserie",null,"Schlechtestes\nErgebnis",null,"Schlechteste\nEinzelserie",null,"Ø Einzelschuss aus \nbester Einzelserie",null,"Schlechtestes\nErgebnis",null,"Schlechteste\nEinzelserie",null,"Ø Einzelschuss aus \nbester Einzelserie",null,"Schlechtestes\nErgebnis",null,"Schlechteste\nEinzelserie",null,"Ø Einzelschuss aus \nbester Einzelserie"]
[{"$f":"IF(A9=\"\",\"\",MIN(F9:F117))","v":0},null,{"$f":"IF(A9=\"\",\"\",MIN(B9:E117))","v":0},null,{"$f":"IF(A9=\"\",\"\",MAX(B9:E117)/Hauptmaske!$D$5)","v":0},{"$f":"IF(A9=\"\",\"\",MIN(B9:E117)/Hauptmaske!$D$5)","v":0},{"$f":"IF(G9=\"\",\"\",MIN(L9:L117))","v":""},null,{"$f":"IF(G9=\"\",\"\",MIN(H9:K117))","v":""},null,{"$f":"IF(G9=\"\",\"\",MAX(H9:K117)/Hauptmaske!$D$5)","v":""},{"$f":"IF(G9=\"\",\"\",MIN(H9:K117)/Hauptmaske!$D$5)","v":""},{"$f":"IF(M9=\"\",\"\",MIN(R9:R117))","v":""},null,{"$f":"IF(M9=\"\",\"\",MIN(N9:Q117))","v":""},null,{"$f":"IF(M9=\"\",\"\",MAX(N9:Q117)/Hauptmaske!$D$5)","v":""},{"$f":"IF(M9=\"\",\"\",MIN(N9:Q117)/Hauptmaske!$D$5)","v":""},{"$f":"IF(S9=\"\",\"\",MIN(X9:X117))","v":""},null,{"$f":"IF(S9=\"\",\"\",MIN(T9:W117))","v":""},null,{"$f":"IF(S9=\"\",\"\",MAX(T9:W117)/Hauptmaske!$D$5)","v":""},{"$f":"IF(S9=\"\",\"\",MIN(T9:W117)/Hauptmaske!$D$5)","v":""},{"$f":"IF(Y9=\"\",\"\",MIN(AD9:AD117))","v":""},null,{"$f":"IF(Y9=\"\",\"\",MIN(Z9:AC117))","v":""},null,{"$f":"IF(Y9=\"\",\"\",MAX(Z9:AC117)/Hauptmaske!$D$5)","v":""},{"$f":"IF(Y9=\"\",\"\",MIN(Z9:AC117)/Hauptmaske!$D$5)","v":""},{"$f":"IF(AE9=\"\",\"\",MIN(AJ9:AJ117))","v":""},null,{"$f":"IF(AE9=\"\",\"\",MIN(AF9:AI117))","v":""},null,{"$f":"IF(AE9=\"\",\"\",MAX(AF9:AI117)/Hauptmaske!$D$5)","v":""},{"$f":"IF(AE9=\"\",\"\",MIN(AF9:AI117)/Hauptmaske!$D$5)","v":""},{"$f":"IF(AK9=\"\",\"\",MIN(AP9:AP117))","v":""},null,{"$f":"IF(AK9=\"\",\"\",MIN(AL9:AO117))","v":""},null,{"$f":"IF(AK9=\"\",\"\",MAX(AL9:AO117)/Hauptmaske!$D$5)","v":""},{"$f":"IF(AK9=\"\",\"\",MIN(AL9:AO117)/Hauptmaske!$D$5)","v":""},{"$f":"IF(AQ9=\"\",\"\",MIN(AV9:AV117))","v":""},null,{"$f":"IF(AQ9=\"\",\"\",MIN(AR9:AU117))","v":""},null,{"$f":"IF(AQ9=\"\",\"\",MAX(AR9:AU117)/Hauptmaske!$D$5)","v":""},{"$f":"IF(AQ9=\"\",\"\",MIN(AR9:AU117)/Hauptmaske!$D$5)","v":""},{"$f":"IF(AW9=\"\",\"\",MIN(BB9:BB117))","v":""},null,{"$f":"IF(AW9=\"\",\"\",MIN(AX9:BA117))","v":""},null,{"$f":"IF(AW9=\"\",\"\",MAX(AX9:BA117)/Hauptmaske!$D$5)","v":""},{"$f":"IF(AW9=\"\",\"\",MIN(AX9:BA117)/Hauptmaske!$D$5)","v":""},{"$f":"IF(BC9=\"\",\"\",MIN(BH9:BH117))","v":""},null,{"$f":"IF(BC9=\"\",\"\",MIN(BD9:BG117))","v":""},null,{"$f":"IF(BC9=\"\",\"\",MAX(BD9:BG117)/Hauptmaske!$D$5)","v":""},{"$f":"IF(BC9=\"\",\"\",MIN(BD9:BG117)/Hauptmaske!$D$5)","v":""},{"$f":"IF(BI9=\"\",\"\",MIN(BN9:BN117))","v":""},null,{"$f":"IF(BI9=\"\",\"\",MIN(BJ9:BM117))","v":""},null,{"$f":"IF(BI9=\"\",\"\",MAX(BJ9:BM117)/Hauptmaske!$D$5)","v":""},{"$f":"IF(BI9=\"\",\"\",MIN(BJ9:BM117)/Hauptmaske!$D$5)","v":""},{"$f":"IF(BO9=\"\",\"\",MIN(BT9:BT117))","v":""},null,{"$f":"IF(BO9=\"\",\"\",MIN(BP9:BS117))","v":""},null,{"$f":"IF(BO9=\"\",\"\",MAX(BP9:BS117)/Hauptmaske!$D$5)","v":""},{"$f":"IF(BO9=\"\",\"\",MIN(BP9:BS117)/Hauptmaske!$D$5)","v":""},{"$f":"IF(BU9=\"\",\"\",MIN(BZ9:BZ117))","v":""},null,{"$f":"IF(BU9=\"\",\"\",MIN(BV9:BY117))","v":""},null,{"$f":"IF(BU9=\"\",\"\",MAX(BV9:BY117)/Hauptmaske!$D$5)","v":""},{"$f":"IF(BU9=\"\",\"\",MIN(BV9:BY117)/Hauptmaske!$D$5)","v":""},{"$f":"IF(CA9=\"\",\"\",MIN(CF9:CF117))","v":""},null,{"$f":"IF(CA9=\"\",\"\",MIN(CB9:CE117))","v":""},null,{"$f":"IF(CA9=\"\",\"\",MAX(CB9:CE117)/Hauptmaske!$D$5)","v":""},{"$f":"IF(CA9=\"\",\"\",MIN(CB9:CE117)/Hauptmaske!$D$5)","v":""},{"$f":"IF(CG9=\"\",\"\",MIN(CL9:CL117))","v":""},null,{"$f":"IF(CG9=\"\",\"\",MIN(CH9:CK117))","v":""},null,{"$f":"IF(CG9=\"\",\"\",MAX(CH9:CK117)/Hauptmaske!$D$5)","v":""},{"$f":"IF(CG9=\"\",\"\",MIN(CH9:CK117)/Hauptmaske!$D$5)","v":""},{"$f":"IF(CM9=\"\",\"\",MIN(CR9:CR117))","v":""},null,{"$f":"IF(CM9=\"\",\"\",MIN(CN9:CQ117))","v":""},null,{"$f":"IF(CM9=\"\",\"\",MAX(CN9:CQ117)/Hauptmaske!$D$5)","v":""},{"$f":"IF(CM9=\"\",\"\",MIN(CN9:CQ117)/Hauptmaske!$D$5)","v":""},{"$f":"IF(CS9=\"\",\"\",MIN(CX9:CX117))","v":""},null,{"$f":"IF(CS9=\"\",\"\",MIN(CT9:CW117))","v":""},null,{"$f":"IF(CS9=\"\",\"\",MAX(CT9:CW117)/Hauptmaske!$D$5)","v":""},{"$f":"IF(CS9=\"\",\"\",MIN(CT9:CW117)/Hauptmaske!$D$5)","v":""},{"$f":"IF(CY9=\"\",\"\",MIN(DD9:DD117))","v":""},null,{"$f":"IF(CY9=\"\",\"\",MIN(CZ9:DC117))","v":""},null,{"$f":"IF(CY9=\"\",\"\",MAX(CZ9:DC117)/Hauptmaske!$D$5)","v":""},{"$f":"IF(CY9=\"\",\"\",MIN(CZ9:DC117)/Hauptmaske!$D$5)","v":""},{"$f":"IF(DE9=\"\",\"\",MIN(DJ9:DJ117))","v":""},null,{"$f":"IF(DE9=\"\",\"\",MIN(DF9:DI117))","v":""},null,{"$f":"IF(DE9=\"\",\"\",MAX(DF9:DI117)/Hauptmaske!$D$5)","v":""},{"$f":"IF(DE9=\"\",\"\",MIN(DF9:DI117)/Hauptmaske!$D$5)","v":""},{"$f":"IF(DK9=\"\",\"\",MIN(DP9:DP117))","v":""},null,{"$f":"IF(DK9=\"\",\"\",MIN(DL9:DO117))","v":""},null,{"$f":"IF(DK9=\"\",\"\",MAX(DL9:DO117)/Hauptmaske!$D$5)","v":""},{"$f":"IF(DK9=\"\",\"\",MIN(DL9:DO117)/Hauptmaske!$D$5)","v":""},{"$f":"IF(DQ9=\"\",\"\",MIN(DV9:DV117))","v":""},null,{"$f":"IF(DQ9=\"\",\"\",MIN(DR9:DU117))","v":""},null,{"$f":"IF(DQ9=\"\",\"\",MAX(DR9:DU117)/Hauptmaske!$D$5)","v":""},{"$f":"IF(DQ9=\"\",\"\",MIN(DR9:DU117)/Hauptmaske!$D$5)","v":""},{"$f":"IF(DW9=\"\",\"\",MIN(EB9:EB117))","v":""},null,{"$f":"IF(DW9=\"\",\"\",MIN(DX9:EA117))","v":""},null,{"$f":"IF(DW9=\"\",\"\",MAX(DX9:EA117)/Hauptmaske!$D$5)","v":""},{"$f":"IF(DW9=\"\",\"\",MIN(DX9:EA117)/Hauptmaske!$D$5)","v":""},{"$f":"IF(EC9=\"\",\"\",MIN(EH9:EH117))","v":""},null,{"$f":"IF(EC9=\"\",\"\",MIN(ED9:EG117))","v":""},null,{"$f":"IF(EC9=\"\",\"\",MAX(ED9:EG117)/Hauptmaske!$D$5)","v":""},{"$f":"IF(EC9=\"\",\"\",MIN(ED9:EG117)/Hauptmaske!$D$5)","v":""},{"$f":"IF(EI9=\"\",\"\",MIN(EN9:EN117))","v":""},null,{"$f":"IF(EI9=\"\",\"\",MIN(EJ9:EM117))","v":""},null,{"$f":"IF(EI9=\"\",\"\",MAX(EJ9:EM117)/Hauptmaske!$D$5)","v":""},{"$f":"IF(EI9=\"\",\"\",MIN(EJ9:EM117)/Hauptmaske!$D$5)","v":""},{"$f":"IF(EO9=\"\",\"\",MIN(ET9:ET117))","v":""},null,{"$f":"IF(EO9=\"\",\"\",MIN(EP9:ES117))","v":""},null,{"$f":"IF(EO9=\"\",\"\",MAX(EP9:ES117)/Hauptmaske!$D$5)","v":""},{"$f":"IF(EO9=\"\",\"\",MIN(EP9:ES117)/Hauptmaske!$D$5)","v":""},{"$f":"IF(EU9=\"\",\"\",MIN(EZ9:EZ117))","v":""},null,{"$f":"IF(EU9=\"\",\"\",MIN(EV9:EY117))","v":""},null,{"$f":"IF(EU9=\"\",\"\",MAX(EV9:EY117)/Hauptmaske!$D$5)","v":""},{"$f":"IF(EU9=\"\",\"\",MIN(EV9:EY117)/Hauptmaske!$D$5)","v":""},{"$f":"IF(FA9=\"\",\"\",MIN(FF9:FF117))","v":""},null,{"$f":"IF(FA9=\"\",\"\",MIN(FB9:FE117))","v":""},null,{"$f":"IF(FA9=\"\",\"\",MAX(FB9:FE117)/Hauptmaske!$D$5)","v":""},{"$f":"IF(FA9=\"\",\"\",MIN(FB9:FE117)/Hauptmaske!$D$5)","v":""},{"$f":"IF(FG9=\"\",\"\",MIN(FL9:FL117))","v":""},null,{"$f":"IF(FG9=\"\",\"\",MIN(FH9:FK117))","v":""},null,{"$f":"IF(FG9=\"\",\"\",MAX(FH9:FK117)/Hauptmaske!$D$5)","v":""},{"$f":"IF(FG9=\"\",\"\",MIN(FH9:FK117)/Hauptmaske!$D$5)","v":""},{"$f":"IF(FM9=\"\",\"\",MIN(FR9:FR117))","v":""},null,{"$f":"IF(FM9=\"\",\"\",MIN(FN9:FQ117))","v":""},null,{"$f":"IF(FM9=\"\",\"\",MAX(FN9:FQ117)/Hauptmaske!$D$5)","v":""},{"$f":"IF(FM9=\"\",\"\",MIN(FN9:FQ117)/Hauptmaske!$D$5)","v":""},{"$f":"IF(FS9=\"\",\"\",MIN(FX9:FX117))","v":""},null,{"$f":"IF(FS9=\"\",\"\",MIN(FT9:FW117))","v":""},null,{"$f":"IF(FS9=\"\",\"\",MAX(FT9:FW117)/Hauptmaske!$D$5)","v":""},{"$f":"IF(FS9=\"\",\"\",MIN(FT9:FW117)/Hauptmaske!$D$5)","v":""},{"$f":"IF(FY9=\"\",\"\",MIN(GD9:GD117))","v":""},null,{"$f":"IF(FY9=\"\",\"\",MIN(FZ9:GC117))","v":""},null,{"$f":"IF(FY9=\"\",\"\",MAX(FZ9:GC117)/Hauptmaske!$D$5)","v":""},{"$f":"IF(FY9=\"\",\"\",MIN(FZ9:GC117)/Hauptmaske!$D$5)","v":""},{"$f":"IF(GE9=\"\",\"\",MIN(GJ9:GJ117))","v":""},null,{"$f":"IF(GE9=\"\",\"\",MIN(GF9:GI117))","v":""},null,{"$f":"IF(GE9=\"\",\"\",MAX(GF9:GI117)/Hauptmaske!$D$5)","v":""},{"$f":"IF(GE9=\"\",\"\",MIN(GF9:GI117)/Hauptmaske!$D$5)","v":""},{"$f":"IF(GK9=\"\",\"\",MIN(GP9:GP117))","v":""},null,{"$f":"IF(GK9=\"\",\"\",MIN(GL9:GO117))","v":""},null,{"$f":"IF(GK9=\"\",\"\",MAX(GL9:GO117)/Hauptmaske!$D$5)","v":""},{"$f":"IF(GK9=\"\",\"\",MIN(GL9:GO117)/Hauptmaske!$D$5)","v":""},{"$f":"IF(GQ9=\"\",\"\",MIN(GV9:GV117))","v":""},null,{"$f":"IF(GQ9=\"\",\"\",MIN(GR9:GU117))","v":""},null,{"$f":"IF(GQ9=\"\",\"\",MAX(GR9:GU117)/Hauptmaske!$D$5)","v":""},{"$f":"IF(GQ9=\"\",\"\",MIN(GR9:GU117)/Hauptmaske!$D$5)","v":""},{"$f":"IF(GW9=\"\",\"\",MIN(HB9:HB117))","v":""},null,{"$f":"IF(GW9=\"\",\"\",MIN(GX9:HA117))","v":""},null,{"$f":"IF(GW9=\"\",\"\",MAX(GX9:HA117)/Hauptmaske!$D$5)","v":""},{"$f":"IF(GW9=\"\",\"\",MIN(GX9:HA117)/Hauptmaske!$D$5)","v":""},{"$f":"IF(HC9=\"\",\"\",MIN(HH9:HH117))","v":""},null,{"$f":"IF(HC9=\"\",\"\",MIN(HD9:HG117))","v":""},null,{"$f":"IF(HC9=\"\",\"\",MAX(HD9:HG117)/Hauptmaske!$D$5)","v":""},{"$f":"IF(HC9=\"\",\"\",MIN(HD9:HG117)/Hauptmaske!$D$5)","v":""},{"$f":"IF(HI9=\"\",\"\",MIN(HN9:HN117))","v":""},null,{"$f":"IF(HI9=\"\",\"\",MIN(HJ9:HM117))","v":""},null,{"$f":"IF(HI9=\"\",\"\",MAX(HJ9:HM117)/Hauptmaske!$D$5)","v":""},{"$f":"IF(HI9=\"\",\"\",MIN(HJ9:HM117)/Hauptmaske!$D$5)","v":""},{"$f":"IF(HO9=\"\",\"\",MIN(HT9:HT117))","v":""},null,{"$f":"IF(HO9=\"\",\"\",MIN(HP9:HS117))","v":""},null,{"$f":"IF(HO9=\"\",\"\",MAX(HP9:HS117)/Hauptmaske!$D$5)","v":""},{"$f":"IF(HO9=\"\",\"\",MIN(HP9:HS117)/Hauptmaske!$D$5)","v":""},{"$f":"IF(HU9=\"\",\"\",MIN(HZ9:HZ117))","v":""},null,{"$f":"IF(HU9=\"\",\"\",MIN(HV9:HY117))","v":""},null,{"$f":"IF(HU9=\"\",\"\",MAX(HV9:HY117)/Hauptmaske!$D$5)","v":""},{"$f":"IF(HU9=\"\",\"\",MIN(HV9:HY117)/Hauptmaske!$D$5)","v":""},{"$f":"IF(IA9=\"\",\"\",MIN(IF9:IF117))","v":""},null,{"$f":"IF(IA9=\"\",\"\",MIN(IB9:IE117))","v":""},null,{"$f":"IF(IA9=\"\",\"\",MAX(IB9:IE117)/Hauptmaske!$D$5)","v":""},{"$f":"IF(IA9=\"\",\"\",MIN(IB9:IE117)/Hauptmaske!$D$5)","v":""}]
[{"$f":"IF(Hauptmaske!$E7=\"x\",Hauptmaske!$A7,\"Bitte Namen in Hauptmaske auswählen\")","v":"Testname"},null,null,null,null,null,{"$f":"IF(Hauptmaske!$E8=\"x\",Hauptmaske!$A8,\"Bitte Namen in Hauptmaske auswählen\")","v":"Bitte Namen in Hauptmaske auswählen"},null,null,null,null,null,{"$f":"IF(Hauptmaske!$E9=\"x\",Hauptmaske!$A9,\"Bitte Namen in Hauptmaske auswählen\")","v":"Bitte Namen in Hauptmaske auswählen"},null,null,null,null,null,{"$f":"IF(Hauptmaske!$E10=\"x\",Hauptmaske!$A10,\"Bitte Namen in Hauptmaske auswählen\")","v":"Bitte Namen in Hauptmaske auswählen"},null,null,null,null,null,{"$f":"IF(Hauptmaske!$E11=\"x\",Hauptmaske!$A11,\"Bitte Namen in Hauptmaske auswählen\")","v":"Bitte Namen in Hauptmaske auswählen"},null,null,null,null,null,{"$f":"IF(Hauptmaske!$E12=\"x\",Hauptmaske!$A12,\"Bitte Namen in Hauptmaske auswählen\")","v":"Bitte Namen in Hauptmaske auswählen"},null,null,null,null,null,{"$f":"IF(Hauptmaske!$E13=\"x\",Hauptmaske!$A13,\"Bitte Namen in Hauptmaske auswählen\")","v":"Bitte Namen in Hauptmaske auswählen"},null,null,null,null,null,{"$f":"IF(Hauptmaske!$E14=\"x\",Hauptmaske!$A14,\"Bitte Namen in Hauptmaske auswählen\")","v":"Bitte Namen in Hauptmaske auswählen"},null,null,null,null,null,{"$f":"IF(Hauptmaske!$E15=\"x\",Hauptmaske!$A15,\"Bitte Namen in Hauptmaske auswählen\")","v":"Bitte Namen in Hauptmaske auswählen"},null,null,null,null,null,{"$f":"IF(Hauptmaske!$E16=\"x\",Hauptmaske!$A16,\"Bitte Namen in Hauptmaske auswählen\")","v":"Bitte Namen in Hauptmaske auswählen"},null,null,null,null,null,{"$f":"IF(Hauptmaske!$E17=\"x\",Hauptmaske!$A17,\"Bitte Namen in Hauptmaske auswählen\")","v":"Bitte Namen in Hauptmaske auswählen"},null,null,null,null,null,{"$f":"IF(Hauptmaske!$E18=\"x\",Hauptmaske!$A18,\"Bitte Namen in Hauptmaske auswählen\")","v":"Bitte Namen in Hauptmaske auswählen"},null,null,null,null,null,{"$f":"IF(Hauptmaske!$E19=\"x\",Hauptmaske!$A19,\"Bitte Namen in Hauptmaske auswählen\")","v":"Bitte Namen in Hauptmaske auswählen"},null,null,null,null,null,{"$f":"IF(Hauptmaske!$E20=\"x\",Hauptmaske!$A20,\"Bitte Namen in Hauptmaske auswählen\")","v":"Bitte Namen in Hauptmaske auswählen"},null,null,null,null,null,{"$f":"IF(Hauptmaske!$E21=\"x\",Hauptmaske!$A21,\"Bitte Namen in Hauptmaske auswählen\")","v":"Bitte Namen in Hauptmaske auswählen"},null,null,null,null,null,{"$f":"IF(Hauptmaske!$E22=\"x\",Hauptmaske!$A22,\"Bitte Namen in Hauptmaske auswählen\")","v":"Bitte Namen in Hauptmaske auswählen"},null,null,null,null,null,{"$f":"IF(Hauptmaske!$E23=\"x\",Hauptmaske!$A23,\"Bitte Namen in Hauptmaske auswählen\")","v":"Bitte Namen in Hauptmaske auswählen"},null,null,null,null,null,{"$f":"IF(Hauptmaske!$E24=\"x\",Hauptmaske!$A24,\"Bitte Namen in Hauptmaske auswählen\")","v":"Bitte Namen in Hauptmaske auswählen"},null,null,null,null,null,{"$f":"IF(Hauptmaske!$E25=\"x\",Hauptmaske!$A25,\"Bitte Namen in Hauptmaske auswählen\")","v":"Bitte Namen in Hauptmaske auswählen"},null,null,null,null,null,{"$f":"IF(Hauptmaske!$E26=\"x\",Hauptmaske!$A26,\"Bitte Namen in Hauptmaske auswählen\")","v":"Bitte Namen in Hauptmaske auswählen"},null,null,null,null,null,{"$f":"IF(Hauptmaske!$E27=\"x\",Hauptmaske!$A27,\"Bitte Namen in Hauptmaske auswählen\")","v":"Bitte Namen in Hauptmaske auswählen"},null,null,null,null,null,{"$f":"IF(Hauptmaske!$E28=\"x\",Hauptmaske!$A28,\"Bitte Namen in Hauptmaske auswählen\")","v":"Bitte Namen in Hauptmaske auswählen"},null,null,null,null,null,{"$f":"IF(Hauptmaske!$E29=\"x\",Hauptmaske!$A29,\"Bitte Namen in Hauptmaske auswählen\")","v":"Bitte Namen in Hauptmaske auswählen"},null,null,null,null,null,{"$f":"IF(Hauptmaske!$E30=\"x\",Hauptmaske!$A30,\"Bitte Namen in Hauptmaske auswählen\")","v":"Bitte Namen in Hauptmaske auswählen"},null,null,null,null,null,{"$f":"IF(Hauptmaske!$E31=\"x\",Hauptmaske!$A31,\"Bitte Namen in Hauptmaske auswählen\")","v":"Bitte Namen in Hauptmaske auswählen"},null,null,null,null,null,{"$f":"IF(Hauptmaske!$E32=\"x\",Hauptmaske!$A32,\"Bitte Namen in Hauptmaske auswählen\")","v":"Bitte Namen in Hauptmaske auswählen"},null,null,null,null,null,{"$f":"IF(Hauptmaske!$E33=\"x\",Hauptmaske!$A33,\"Bitte Namen in Hauptmaske auswählen\")","v":"Bitte Namen in Hauptmaske auswählen"},null,null,null,null,null,{"$f":"IF(Hauptmaske!$E34=\"x\",Hauptmaske!$A34,\"Bitte Namen in Hauptmaske auswählen\")","v":"Bitte Namen in Hauptmaske auswählen"},null,null,null,null,null,{"$f":"IF(Hauptmaske!$E35=\"x\",Hauptmaske!$A35,\"Bitte Namen in Hauptmaske auswählen\")","v":"Bitte Namen in Hauptmaske auswählen"},null,null,null,null,null,{"$f":"IF(Hauptmaske!$E36=\"x\",Hauptmaske!$A36,\"Bitte Namen in Hauptmaske auswählen\")","v":"Bitte Namen in Hauptmaske auswählen"},null,null,null,null,null,{"$f":"IF(Hauptmaske!$E37=\"x\",Hauptmaske!$A37,\"Bitte Namen in Hauptmaske auswählen\")","v":"Bitte Namen in Hauptmaske auswählen"},null,null,null,null,null,{"$f":"IF(Hauptmaske!$E38=\"x\",Hauptmaske!$A38,\"Bitte Namen in Hauptmaske auswählen\")","v":"Bitte Namen in Hauptmaske auswählen"},null,null,null,null,null,{"$f":"IF(Hauptmaske!$E39=\"x\",Hauptmaske!$A39,\"Bitte Namen in Hauptmaske auswählen\")","v":"Bitte Namen in Hauptmaske auswählen"},null,null,null,null,null,{"$f":"IF(Hauptmaske!$E40=\"x\",Hauptmaske!$A40,\"Bitte Namen in Hauptmaske auswählen\")","v":"Bitte Namen in Hauptmaske auswählen"},null,null,null,null,null,{"$f":"IF(Hauptmaske!$E41=\"x\",Hauptmaske!$A41,\"Bitte Namen in Hauptmaske auswählen\")","v":"Bitte Namen in Hauptmaske auswählen"},null,null,null,null,null,{"$f":"IF(Hauptmaske!$E42=\"x\",Hauptmaske!$A42,\"Bitte Namen in Hauptmaske auswählen\")","v":"Bitte Namen in Hauptmaske auswählen"},null,null,null,null,null,{"$f":"IF(Hauptmaske!$E43=\"x\",Hauptmaske!$A43,\"Bitte Namen in Hauptmaske auswählen\")","v":"Bitte Namen in Hauptmaske auswählen"},null,null,null,null,null,{"$f":"IF(Hauptmaske!$E44=\"x\",Hauptmaske!$A44,\"Bitte Namen in Hauptmaske auswählen\")","v":"Bitte Namen in Hauptmaske auswählen"},null,null,null,null,null,{"$f":"IF(Hauptmaske!$E45=\"x\",Hauptmaske!$A45,\"Bitte Namen in Hauptmaske auswählen\")","v":"Bitte Namen in Hauptmaske auswählen"},null,null,null,null,null,{"$f":"IF(Hauptmaske!$E46=\"x\",Hauptmaske!$A46,\"Bitte Namen in Hauptmaske auswählen\")","v":"Bitte Namen in Hauptmaske auswählen"}]
["Datum:",{"$f":"CONCATENATE(\"Serie - 01\",\" (\",Hauptmaske!$D$5,\" Schuss)\")","v":"Serie - 01 (20 Schuss)"},{"$f":"CONCATENATE(\"Serie - 02\",\" (\",Hauptmaske!$D$5,\" Schuss)\")","v":"Serie - 02 (20 Schuss)"},{"$f":"CONCATENATE(\"Serie - 03\",\" (\",Hauptmaske!$D$5,\" Schuss)\")","v":"Serie - 03 (20 Schuss)"},{"$f":"CONCATENATE(\"Serie - 04\",\" (\",Hauptmaske!$D$5,\" Schuss)\")","v":"Serie - 04 (20 Schuss)"},"Summe","Datum:",{"$f":"CONCATENATE(\"Serie - 01\",\" (\",Hauptmaske!$D$5,\" Schuss)\")","v":"Serie - 01 (20 Schuss)"},{"$f":"CONCATENATE(\"Serie - 02\",\" (\",Hauptmaske!$D$5,\" Schuss)\")","v":"Serie - 02 (20 Schuss)"},{"$f":"CONCATENATE(\"Serie - 03\",\" (\",Hauptmaske!$D$5,\" Schuss)\")","v":"Serie - 03 (20 Schuss)"},{"$f":"CONCATENATE(\"Serie - 04\",\" (\",Hauptmaske!$D$5,\" Schuss)\")","v":"Serie - 04 (20 Schuss)"},"Summe","Datum:",{"$f":"CONCATENATE(\"Serie - 01\",\" (\",Hauptmaske!$D$5,\" Schuss)\")","v":"Serie - 01 (20 Schuss)"},{"$f":"CONCATENATE(\"Serie - 02\",\" (\",Hauptmaske!$D$5,\" Schuss)\")","v":"Serie - 02 (20 Schuss)"},{"$f":"CONCATENATE(\"Serie - 03\",\" (\",Hauptmaske!$D$5,\" Schuss)\")","v":"Serie - 03 (20 Schuss)"},{"$f":"CONCATENATE(\"Serie - 04\",\" (\",Hauptmaske!$D$5,\" Schuss)\")","v":"Serie - 04 (20 Schuss)"},"Summe","Datum:",{"$f":"CONCATENATE(\"Serie - 01\",\" (\",Hauptmaske!$D$5,\" Schuss)\")","v":"Serie - 01 (20 Schuss)"},{"$f":"CONCATENATE(\"Serie - 02\",\" (\",Hauptmaske!$D$5,\" Schuss)\")","v":"Serie - 02 (20 Schuss)"},{"$f":"CONCATENATE(\"Serie - 03\",\" (\",Hauptmaske!$D$5,\" Schuss)\")","v":"Serie - 03 (20 Schuss)"},{"$f":"CONCATENATE(\"Serie - 04\",\" (\",Hauptmaske!$D$5,\" Schuss)\")","v":"Serie - 04 (20 Schuss)"},"Summe","Datum:",{"$f":"CONCATENATE(\"Serie - 01\",\" (\",Hauptmaske!$D$5,\" Schuss)\")","v":"Serie - 01 (20 Schuss)"},{"$f":"CONCATENATE(\"Serie - 02\",\" (\",Hauptmaske!$D$5,\" Schuss)\")","v":"Serie - 02 (20 Schuss)"},{"$f":"CONCATENATE(\"Serie - 03\",\" (\",Hauptmaske!$D$5,\" Schuss)\")","v":"Serie - 03 (20 Schuss)"},{"$f":"CONCATENATE(\"Serie - 04\",\" (\",Hauptmaske!$D$5,\" Schuss)\")","v":"Serie - 04 (20 Schuss)"},"Summe","Datum:",{"$f":"CONCATENATE(\"Serie - 01\",\" (\",Hauptmaske!$D$5,\" Schuss)\")","v":"Serie - 01 (20 Schuss)"},{"$f":"CONCATENATE(\"Serie - 02\",\" (\",Hauptmaske!$D$5,\" Schuss)\")","v":"Serie - 02 (20 Schuss)"},{"$f":"CONCATENATE(\"Serie - 03\",\" (\",Hauptmaske!$D$5,\" Schuss)\")","v":"Serie - 03 (20 Schuss)"},{"$f":"CONCATENATE(\"Serie - 04\",\" (\",Hauptmaske!$D$5,\" Schuss)\")","v":"Serie - 04 (20 Schuss)"},"Summe","Datum:",{"$f":"CONCATENATE(\"Serie - 01\",\" (\",Hauptmaske!$D$5,\" Schuss)\")","v":"Serie - 01 (20 Schuss)"},{"$f":"CONCATENATE(\"Serie - 02\",\" (\",Hauptmaske!$D$5,\" Schuss)\")","v":"Serie - 02 (20 Schuss)"},{"$f":"CONCATENATE(\"Serie - 03\",\" (\",Hauptmaske!$D$5,\" Schuss)\")","v":"Serie - 03 (20 Schuss)"},{"$f":"CONCATENATE(\"Serie - 04\",\" (\",Hauptmaske!$D$5,\" Schuss)\")","v":"Serie - 04 (20 Schuss)"},"Summe","Datum:",{"$f":"CONCATENATE(\"Serie - 01\",\" (\",Hauptmaske!$D$5,\" Schuss)\")","v":"Serie - 01 (20 Schuss)"},{"$f":"CONCATENATE(\"Serie - 02\",\" (\",Hauptmaske!$D$5,\" Schuss)\")","v":"Serie - 02 (20 Schuss)"},{"$f":"CONCATENATE(\"Serie - 03\",\" (\",Hauptmaske!$D$5,\" Schuss)\")","v":"Serie - 03 (20 Schuss)"},{"$f":"CONCATENATE(\"Serie - 04\",\" (\",Hauptmaske!$D$5,\" Schuss)\")","v":"Serie - 04 (20 Schuss)"},"Summe","Datum:",{"$f":"CONCATENATE(\"Serie - 01\",\" (\",Hauptmaske!$D$5,\" Schuss)\")","v":"Serie - 01 (20 Schuss)"},{"$f":"CONCATENATE(\"Serie - 02\",\" (\",Hauptmaske!$D$5,\" Schuss)\")","v":"Serie - 02 (20 Schuss)"},{"$f":"CONCATENATE(\"Serie - 03\",\" (\",Hauptmaske!$D$5,\" Schuss)\")","v":"Serie - 03 (20 Schuss)"},{"$f":"CONCATENATE(\"Serie - 04\",\" (\",Hauptmaske!$D$5,\" Schuss)\")","v":"Serie - 04 (20 Schuss)"},"Summe","Datum:",{"$f":"CONCATENATE(\"Serie - 01\",\" (\",Hauptmaske!$D$5,\" Schuss)\")","v":"Serie - 01 (20 Schuss)"},{"$f":"CONCATENATE(\"Serie - 02\",\" (\",Hauptmaske!$D$5,\" Schuss)\")","v":"Serie - 02 (20 Schuss)"},{"$f":"CONCATENATE(\"Serie - 03\",\" (\",Hauptmaske!$D$5,\" Schuss)\")","v":"Serie - 03 (20 Schuss)"},{"$f":"CONCATENATE(\"Serie - 04\",\" (\",Hauptmaske!$D$5,\" Schuss)\")","v":"Serie - 04 (20 Schuss)"},"Summe","Datum:",{"$f":"CONCATENATE(\"Serie - 01\",\" (\",Hauptmaske!$D$5,\" Schuss)\")","v":"Serie - 01 (20 Schuss)"},{"$f":"CONCATENATE(\"Serie - 02\",\" (\",Hauptmaske!$D$5,\" Schuss)\")","v":"Serie - 02 (20 Schuss)"},{"$f":"CONCATENATE(\"Serie - 03\",\" (\",Hauptmaske!$D$5,\" Schuss)\")","v":"Serie - 03 (20 Schuss)"},{"$f":"CONCATENATE(\"Serie - 04\",\" (\",Hauptmaske!$D$5,\" Schuss)\")","v":"Serie - 04 (20 Schuss)"},"Summe","Datum:",{"$f":"CONCATENATE(\"Serie - 01\",\" (\",Hauptmaske!$D$5,\" Schuss)\")","v":"Serie - 01 (20 Schuss)"},{"$f":"CONCATENATE(\"Serie - 02\",\" (\",Hauptmaske!$D$5,\" Schuss)\")","v":"Serie - 02 (20 Schuss)"},{"$f":"CONCATENATE(\"Serie - 03\",\" (\",Hauptmaske!$D$5,\" Schuss)\")","v":"Serie - 03 (20 Schuss)"},{"$f":"CONCATENATE(\"Serie - 04\",\" (\",Hauptmaske!$D$5,\" Schuss)\")","v":"Serie - 04 (20 Schuss)"},"Summe","Datum:",{"$f":"CONCATENATE(\"Serie - 01\",\" (\",Hauptmaske!$D$5,\" Schuss)\")","v":"Serie - 01 (20 Schuss)"},{"$f":"CONCATENATE(\"Serie - 02\",\" (\",Hauptmaske!$D$5,\" Schuss)\")","v":"Serie - 02 (20 Schuss)"},{"$f":"CONCATENATE(\"Serie - 03\",\" (\",Hauptmaske!$D$5,\" Schuss)\")","v":"Serie - 03 (20 Schuss)"},{"$f":"CONCATENATE(\"Serie - 04\",\" (\",Hauptmaske!$D$5,\" Schuss)\")","v":"Serie - 04 (20 Schuss)"},"Summe","Datum:",{"$f":"CONCATENATE(\"Serie - 01\",\" (\",Hauptmaske!$D$5,\" Schuss)\")","v":"Serie - 01 (20 Schuss)"},{"$f":"CONCATENATE(\"Serie - 02\",\" (\",Hauptmaske!$D$5,\" Schuss)\")","v":"Serie - 02 (20 Schuss)"},{"$f":"CONCATENATE(\"Serie - 03\",\" (\",Hauptmaske!$D$5,\" Schuss)\")","v":"Serie - 03 (20 Schuss)"},{"$f":"CONCATENATE(\"Serie - 04\",\" (\",Hauptmaske!$D$5,\" Schuss)\")","v":"Serie - 04 (20 Schuss)"},"Summe","Datum:",{"$f":"CONCATENATE(\"Serie - 01\",\" (\",Hauptmaske!$D$5,\" Schuss)\")","v":"Serie - 01 (20 Schuss)"},{"$f":"CONCATENATE(\"Serie - 02\",\" (\",Hauptmaske!$D$5,\" Schuss)\")","v":"Serie - 02 (20 Schuss)"},{"$f":"CONCATENATE(\"Serie - 03\",\" (\",Hauptmaske!$D$5,\" Schuss)\")","v":"Serie - 03 (20 Schuss)"},{"$f":"CONCATENATE(\"Serie - 04\",\" (\",Hauptmaske!$D$5,\" Schuss)\")","v":"Serie - 04 (20 Schuss)"},"Summe","Datum:",{"$f":"CONCATENATE(\"Serie - 01\",\" (\",Hauptmaske!$D$5,\" Schuss)\")","v":"Serie - 01 (20 Schuss)"},{"$f":"CONCATENATE(\"Serie - 02\",\" (\",Hauptmaske!$D$5,\" Schuss)\")","v":"Serie - 02 (20 Schuss)"},{"$f":"CONCATENATE(\"Serie - 03\",\" (\",Hauptmaske!$D$5,\" Schuss)\")","v":"Serie - 03 (20 Schuss)"},{"$f":"CONCATENATE(\"Serie - 04\",\" (\",Hauptmaske!$D$5,\" Schuss)\")","v":"Serie - 04 (20 Schuss)"},"Summe","Datum:",{"$f":"CONCATENATE(\"Serie - 01\",\" (\",Hauptmaske!$D$5,\" Schuss)\")","v":"Serie - 01 (20 Schuss)"},{"$f":"CONCATENATE(\"Serie - 02\",\" (\",Hauptmaske!$D$5,\" Schuss)\")","v":"Serie - 02 (20 Schuss)"},{"$f":"CONCATENATE(\"Serie - 03\",\" (\",Hauptmaske!$D$5,\" Schuss)\")","v":"Serie - 03 (20 Schuss)"},{"$f":"CONCATENATE(\"Serie - 04\",\" (\",Hauptmaske!$D$5,\" Schuss)\")","v":"Serie - 04 (20 Schuss)"},"Summe","Datum:",{"$f":"CONCATENATE(\"Serie - 01\",\" (\",Hauptmaske!$D$5,\" Schuss)\")","v":"Serie - 01 (20 Schuss)"},{"$f":"CONCATENATE(\"Serie - 02\",\" (\",Hauptmaske!$D$5,\" Schuss)\")","v":"Serie - 02 (20 Schuss)"},{"$f":"CONCATENATE(\"Serie - 03\",\" (\",Hauptmaske!$D$5,\" Schuss)\")","v":"Serie - 03 (20 Schuss)"},{"$f":"CONCATENATE(\"Serie - 04\",\" (\",Hauptmaske!$D$5,\" Schuss)\")","v":"Serie - 04 (20 Schuss)"},"Summe","Datum:",{"$f":"CONCATENATE(\"Serie - 01\",\" (\",Hauptmaske!$D$5,\" Schuss)\")","v":"Serie - 01 (20 Schuss)"},{"$f":"CONCATENATE(\"Serie - 02\",\" (\",Hauptmaske!$D$5,\" Schuss)\")","v":"Serie - 02 (20 Schuss)"},{"$f":"CONCATENATE(\"Serie - 03\",\" (\",Hauptmaske!$D$5,\" Schuss)\")","v":"Serie - 03 (20 Schuss)"},{"$f":"CONCATENATE(\"Serie - 04\",\" (\",Hauptmaske!$D$5,\" Schuss)\")","v":"Serie - 04 (20 Schuss)"},"Summe","Datum:",{"$f":"CONCATENATE(\"Serie - 01\",\" (\",Hauptmaske!$D$5,\" Schuss)\")","v":"Serie - 01 (20 Schuss)"},{"$f":"CONCATENATE(\"Serie - 02\",\" (\",Hauptmaske!$D$5,\" Schuss)\")","v":"Serie - 02 (20 Schuss)"},{"$f":"CONCATENATE(\"Serie - 03\",\" (\",Hauptmaske!$D$5,\" Schuss)\")","v":"Serie - 03 (20 Schuss)"},{"$f":"CONCATENATE(\"Serie - 04\",\" (\",Hauptmaske!$D$5,\" Schuss)\")","v":"Serie - 04 (20 Schuss)"},"Summe","Datum:",{"$f":"CONCATENATE(\"Serie - 01\",\" (\",Hauptmaske!$D$5,\" Schuss)\")","v":"Serie - 01 (20 Schuss)"},{"$f":"CONCATENATE(\"Serie - 02\",\" (\",Hauptmaske!$D$5,\" Schuss)\")","v":"Serie - 02 (20 Schuss)"},{"$f":"CONCATENATE(\"Serie - 03\",\" (\",Hauptmaske!$D$5,\" Schuss)\")","v":"Serie - 03 (20 Schuss)"},{"$f":"CONCATENATE(\"Serie - 04\",\" (\",Hauptmaske!$D$5,\" Schuss)\")","v":"Serie - 04 (20 Schuss)"},"Summe","Datum:",{"$f":"CONCATENATE(\"Serie - 01\",\" (\",Hauptmaske!$D$5,\" Schuss)\")","v":"Serie - 01 (20 Schuss)"},{"$f":"CONCATENATE(\"Serie - 02\",\" (\",Hauptmaske!$D$5,\" Schuss)\")","v":"Serie - 02 (20 Schuss)"},{"$f":"CONCATENATE(\"Serie - 03\",\" (\",Hauptmaske!$D$5,\" Schuss)\")","v":"Serie - 03 (20 Schuss)"},{"$f":"CONCATENATE(\"Serie - 04\",\" (\",Hauptmaske!$D$5,\" Schuss)\")","v":"Serie - 04 (20 Schuss)"},"Summe","Datum:",{"$f":"CONCATENATE(\"Serie - 01\",\" (\",Hauptmaske!$D$5,\" Schuss)\")","v":"Serie - 01 (20 Schuss)"},{"$f":"CONCATENATE(\"Serie - 02\",\" (\",Hauptmaske!$D$5,\" Schuss)\")","v":"Serie - 02 (20 Schuss)"},{"$f":"CONCATENATE(\"Serie - 03\",\" (\",Hauptmaske!$D$5,\" Schuss)\")","v":"Serie - 03 (20 Schuss)"},{"$f":"CONCATENATE(\"Serie - 04\",\" (\",Hauptmaske!$D$5,\" Schuss)\")","v":"Serie - 04 (20 Schuss)"},"Summe","Datum:",{"$f":"CONCATENATE(\"Serie - 01\",\" (\",Hauptmaske!$D$5,\" Schuss)\")","v":"Serie - 01 (20 Schuss)"},{"$f":"CONCATENATE(\"Serie - 02\",\" (\",Hauptmaske!$D$5,\" Schuss)\")","v":"Serie - 02 (20 Schuss)"},{"$f":"CONCATENATE(\"Serie - 03\",\" (\",Hauptmaske!$D$5,\" Schuss)\")","v":"Serie - 03 (20 Schuss)"},{"$f":"CONCATENATE(\"Serie - 04\",\" (\",Hauptmaske!$D$5,\" Schuss)\")","v":"Serie - 04 (20 Schuss)"},"Summe","Datum:",{"$f":"CONCATENATE(\"Serie - 01\",\" (\",Hauptmaske!$D$5,\" Schuss)\")","v":"Serie - 01 (20 Schuss)"},{"$f":"CONCATENATE(\"Serie - 02\",\" (\",Hauptmaske!$D$5,\" Schuss)\")","v":"Serie - 02 (20 Schuss)"},{"$f":"CONCATENATE(\"Serie - 03\",\" (\",Hauptmaske!$D$5,\" Schuss)\")","v":"Serie - 03 (20 Schuss)"},{"$f":"CONCATENATE(\"Serie - 04\",\" (\",Hauptmaske!$D$5,\" Schuss)\")","v":"Serie - 04 (20 Schuss)"},"Summe","Datum:",{"$f":"CONCATENATE(\"Serie - 01\",\" (\",Hauptmaske!$D$5,\" Schuss)\")","v":"Serie - 01 (20 Schuss)"},{"$f":"CONCATENATE(\"Serie - 02\",\" (\",Hauptmaske!$D$5,\" Schuss)\")","v":"Serie - 02 (20 Schuss)"},{"$f":"CONCATENATE(\"Serie - 03\",\" (\",Hauptmaske!$D$5,\" Schuss)\")","v":"Serie - 03 (20 Schuss)"},{"$f":"CONCATENATE(\"Serie - 04\",\" (\",Hauptmaske!$D$5,\" Schuss)\")","v":"Serie - 04 (20 Schuss)"},"Summe","Datum:",{"$f":"CONCATENATE(\"Serie - 01\",\" (\",Hauptmaske!$D$5,\" Schuss)\")","v":"Serie - 01 (20 Schuss)"},{"$f":"CONCATENATE(\"Serie - 02\",\" (\",Hauptmaske!$D$5,\" Schuss)\")","v":"Serie - 02 (20 Schuss)"},{"$f":"CONCATENATE(\"Serie - 03\",\" (\",Hauptmaske!$D$5,\" Schuss)\")","v":"Serie - 03 (20 Schuss)"},{"$f":"CONCATENATE(\"Serie - 04\",\" (\",Hauptmaske!$D$5,\" Schuss)\")","v":"Serie - 04 (20 Schuss)"},"Summe","Datum:",{"$f":"CONCATENATE(\"Serie - 01\",\" (\",Hauptmaske!$D$5,\" Schuss)\")","v":"Serie - 01 (20 Schuss)"},{"$f":"CONCATENATE(\"Serie - 02\",\" (\",Hauptmaske!$D$5,\" Schuss)\")","v":"Serie - 02 (20 Schuss)"},{"$f":"CONCATENATE(\"Serie - 03\",\" (\",Hauptmaske!$D$5,\" Schuss)\")","v":"Serie - 03 (20 Schuss)"},{"$f":"CONCATENATE(\"Serie - 04\",\" (\",Hauptmaske!$D$5,\" Schuss)\")","v":"Serie - 04 (20 Schuss)"},"Summe","Datum:",{"$f":"CONCATENATE(\"Serie - 01\",\" (\",Hauptmaske!$D$5,\" Schuss)\")","v":"Serie - 01 (20 Schuss)"},{"$f":"CONCATENATE(\"Serie - 02\",\" (\",Hauptmaske!$D$5,\" Schuss)\")","v":"Serie - 02 (20 Schuss)"},{"$f":"CONCATENATE(\"Serie - 03\",\" (\",Hauptmaske!$D$5,\" Schuss)\")","v":"Serie - 03 (20 Schuss)"},{"$f":"CONCATENATE(\"Serie - 04\",\" (\",Hauptmaske!$D$5,\" Schuss)\")","v":"Serie - 04 (20 Schuss)"},"Summe","Datum:",{"$f":"CONCATENATE(\"Serie - 01\",\" (\",Hauptmaske!$D$5,\" Schuss)\")","v":"Serie - 01 (20 Schuss)"},{"$f":"CONCATENATE(\"Serie - 02\",\" (\",Hauptmaske!$D$5,\" Schuss)\")","v":"Serie - 02 (20 Schuss)"},{"$f":"CONCATENATE(\"Serie - 03\",\" (\",Hauptmaske!$D$5,\" Schuss)\")","v":"Serie - 03 (20 Schuss)"},{"$f":"CONCATENATE(\"Serie - 04\",\" (\",Hauptmaske!$D$5,\" Schuss)\")","v":"Serie - 04 (20 Schuss)"},"Summe","Datum:",{"$f":"CONCATENATE(\"Serie - 01\",\" (\",Hauptmaske!$D$5,\" Schuss)\")","v":"Serie - 01 (20 Schuss)"},{"$f":"CONCATENATE(\"Serie - 02\",\" (\",Hauptmaske!$D$5,\" Schuss)\")","v":"Serie - 02 (20 Schuss)"},{"$f":"CONCATENATE(\"Serie - 03\",\" (\",Hauptmaske!$D$5,\" Schuss)\")","v":"Serie - 03 (20 Schuss)"},{"$f":"CONCATENATE(\"Serie - 04\",\" (\",Hauptmaske!$D$5,\" Schuss)\")","v":"Serie - 04 (20 Schuss)"},"Summe","Datum:",{"$f":"CONCATENATE(\"Serie - 01\",\" (\",Hauptmaske!$D$5,\" Schuss)\")","v":"Serie - 01 (20 Schuss)"},{"$f":"CONCATENATE(\"Serie - 02\",\" (\",Hauptmaske!$D$5,\" Schuss)\")","v":"Serie - 02 (20 Schuss)"},{"$f":"CONCATENATE(\"Serie - 03\",\" (\",Hauptmaske!$D$5,\" Schuss)\")","v":"Serie - 03 (20 Schuss)"},{"$f":"CONCATENATE(\"Serie - 04\",\" (\",Hauptmaske!$D$5,\" Schuss)\")","v":"Serie - 04 (20 Schuss)"},"Summe","Datum:",{"$f":"CONCATENATE(\"Serie - 01\",\" (\",Hauptmaske!$D$5,\" Schuss)\")","v":"Serie - 01 (20 Schuss)"},{"$f":"CONCATENATE(\"Serie - 02\",\" (\",Hauptmaske!$D$5,\" Schuss)\")","v":"Serie - 02 (20 Schuss)"},{"$f":"CONCATENATE(\"Serie - 03\",\" (\",Hauptmaske!$D$5,\" Schuss)\")","v":"Serie - 03 (20 Schuss)"},{"$f":"CONCATENATE(\"Serie - 04\",\" (\",Hauptmaske!$D$5,\" Schuss)\")","v":"Serie - 04 (20 Schuss)"},"Summe","Datum:",{"$f":"CONCATENATE(\"Serie - 01\",\" (\",Hauptmaske!$D$5,\" Schuss)\")","v":"Serie - 01 (20 Schuss)"},{"$f":"CONCATENATE(\"Serie - 02\",\" (\",Hauptmaske!$D$5,\" Schuss)\")","v":"Serie - 02 (20 Schuss)"},{"$f":"CONCATENATE(\"Serie - 03\",\" (\",Hauptmaske!$D$5,\" Schuss)\")","v":"Serie - 03 (20 Schuss)"},{"$f":"CONCATENATE(\"Serie - 04\",\" (\",Hauptmaske!$D$5,\" Schuss)\")","v":"Serie - 04 (20 Schuss)"},"Summe","Datum:",{"$f":"CONCATENATE(\"Serie - 01\",\" (\",Hauptmaske!$D$5,\" Schuss)\")","v":"Serie - 01 (20 Schuss)"},{"$f":"CONCATENATE(\"Serie - 02\",\" (\",Hauptmaske!$D$5,\" Schuss)\")","v":"Serie - 02 (20 Schuss)"},{"$f":"CONCATENATE(\"Serie - 03\",\" (\",Hauptmaske!$D$5,\" Schuss)\")","v":"Serie - 03 (20 Schuss)"},{"$f":"CONCATENATE(\"Serie - 04\",\" (\",Hauptmaske!$D$5,\" Schuss)\")","v":"Serie - 04 (20 Schuss)"},"Summe","Datum:",{"$f":"CONCATENATE(\"Serie - 01\",\" (\",Hauptmaske!$D$5,\" Schuss)\")","v":"Serie - 01 (20 Schuss)"},{"$f":"CONCATENATE(\"Serie - 02\",\" (\",Hauptmaske!$D$5,\" Schuss)\")","v":"Serie - 02 (20 Schuss)"},{"$f":"CONCATENATE(\"Serie - 03\",\" (\",Hauptmaske!$D$5,\" Schuss)\")","v":"Serie - 03 (20 Schuss)"},{"$f":"CONCATENATE(\"Serie - 04\",\" (\",Hauptmaske!$D$5,\" Schuss)\")","v":"Serie - 04 (20 Schuss)"},"Summe","Datum:",{"$f":"CONCATENATE(\"Serie - 01\",\" (\",Hauptmaske!$D$5,\" Schuss)\")","v":"Serie - 01 (20 Schuss)"},{"$f":"CONCATENATE(\"Serie - 02\",\" (\",Hauptmaske!$D$5,\" Schuss)\")","v":"Serie - 02 (20 Schuss)"},{"$f":"CONCATENATE(\"Serie - 03\",\" (\",Hauptmaske!$D$5,\" Schuss)\")","v":"Serie - 03 (20 Schuss)"},{"$f":"CONCATENATE(\"Serie - 04\",\" (\",Hauptmaske!$D$5,\" Schuss)\")","v":"Serie - 04 (20 Schuss)"},"Summe","Datum:",{"$f":"CONCATENATE(\"Serie - 01\",\" (\",Hauptmaske!$D$5,\" Schuss)\")","v":"Serie - 01 (20 Schuss)"},{"$f":"CONCATENATE(\"Serie - 02\",\" (\",Hauptmaske!$D$5,\" Schuss)\")","v":"Serie - 02 (20 Schuss)"},{"$f":"CONCATENATE(\"Serie - 03\",\" (\",Hauptmaske!$D$5,\" Schuss)\")","v":"Serie - 03 (20 Schuss)"},{"$f":"CONCATENATE(\"Serie - 04\",\" (\",Hauptmaske!$D$5,\" Schuss)\")","v":"Serie - 04 (20 Schuss)"},"Summe","Datum:",{"$f":"CONCATENATE(\"Serie - 01\",\" (\",Hauptmaske!$D$5,\" Schuss)\")","v":"Serie - 01 (20 Schuss)"},{"$f":"CONCATENATE(\"Serie - 02\",\" (\",Hauptmaske!$D$5,\" Schuss)\")","v":"Serie - 02 (20 Schuss)"},{"$f":"CONCATENATE(\"Serie - 03\",\" (\",Hauptmaske!$D$5,\" Schuss)\")","v":"Serie - 03 (20 Schuss)"},{"$f":"CONCATENATE(\"Serie - 04\",\" (\",Hauptmaske!$D$5,\" Schuss)\")","v":"Serie - 04 (20 Schuss)"},"Summe","Datum:",{"$f":"CONCATENATE(\"Serie - 01\",\" (\",Hauptmaske!$D$5,\" Schuss)\")","v":"Serie - 01 (20 Schuss)"},{"$f":"CONCATENATE(\"Serie - 02\",\" (\",Hauptmaske!$D$5,\" Schuss)\")","v":"Serie - 02 (20 Schuss)"},{"$f":"CONCATENATE(\"Serie - 03\",\" (\",Hauptmaske!$D$5,\" Schuss)\")","v":"Serie - 03 (20 Schuss)"},{"$f":"CONCATENATE(\"Serie - 04\",\" (\",Hauptmaske!$D$5,\" Schuss)\")","v":"Serie - 04 (20 Schuss)"},"Summe"]
["2016-01-01",null,null,null,null,{"$f":"IF(A9=\"\",\"\",SUM(B9:E9))","v":0},null,null,null,null,null,{"$f":"IF(G9=\"\",\"\",SUM(H9:K9))","v":""},null,null,null,null,null,{"$f":"IF(M9=\"\",\"\",SUM(N9:Q9))","v":""},null,null,null,null,null,{"$f":"IF(S9=\"\",\"\",SUM(T9:W9))","v":""},null,null,null,null,null,{"$f":"IF(Y9=\"\",\"\",SUM(Z9:AC9))","v":""},null,null,null,null,null,{"$f":"IF(AE9=\"\",\"\",SUM(AF9:AI9))","v":""},null,null,null,null,null,{"$f":"IF(AK9=\"\",\"\",SUM(AL9:AO9))","v":""},null,null,null,null,null,{"$f":"IF(AQ9=\"\",\"\",SUM(AR9:AU9))","v":""},null,null,null,null,null,{"$f":"IF(AW9=\"\",\"\",SUM(AX9:BA9))","v":""},null,null,null,null,null,{"$f":"IF(BC9=\"\",\"\",SUM(BD9:BG9))","v":""},null,null,null,null,null,{"$f":"IF(BI9=\"\",\"\",SUM(BJ9:BM9))","v":""},null,null,null,null,null,{"$f":"IF(BO9=\"\",\"\",SUM(BP9:BS9))","v":""},null,null,null,null,null,{"$f":"IF(BU9=\"\",\"\",SUM(BV9:BY9))","v":""},null,null,null,null,null,{"$f":"IF(CA9=\"\",\"\",SUM(CB9:CE9))","v":""},null,null,null,null,null,{"$f":"IF(CG9=\"\",\"\",SUM(CH9:CK9))","v":""},null,null,null,null,null,{"$f":"IF(CM9=\"\",\"\",SUM(CN9:CQ9))","v":""},null,null,null,null,null,{"$f":"IF(CS9=\"\",\"\",SUM(CT9:CW9))","v":""},null,null,null,null,null,{"$f":"IF(CY9=\"\",\"\",SUM(CZ9:DC9))","v":""},null,null,null,null,null,{"$f":"IF(DE9=\"\",\"\",SUM(DF9:DI9))","v":""},null,null,null,null,null,{"$f":"IF(DK9=\"\",\"\",SUM(DL9:DO9))","v":""},null,null,null,null,null,{"$f":"IF(DQ9=\"\",\"\",SUM(DR9:DU9))","v":""},null,null,null,null,null,{"$f":"IF(DW9=\"\",\"\",SUM(DX9:EA9))","v":""},null,null,null,null,null,{"$f":"IF(EC9=\"\",\"\",SUM(ED9:EG9))","v":""},null,null,null,null,null,{"$f":"IF(EI9=\"\",\"\",SUM(EJ9:EM9))","v":""},null,null,null,null,null,{"$f":"IF(EO9=\"\",\"\",SUM(EP9:ES9))","v":""},null,null,null,null,null,{"$f":"IF(EU9=\"\",\"\",SUM(EV9:EY9))","v":""},null,null,null,null,null,{"$f":"IF(FA9=\"\",\"\",SUM(FB9:FE9))","v":""},null,null,null,null,null,{"$f":"IF(FG9=\"\",\"\",SUM(FH9:FK9))","v":""},null,null,null,null,null,{"$f":"IF(FM9=\"\",\"\",SUM(FN9:FQ9))","v":""},null,null,null,null,null,{"$f":"IF(FS9=\"\",\"\",SUM(FT9:FW9))","v":""},null,null,null,null,null,{"$f":"IF(FY9=\"\",\"\",SUM(FZ9:GC9))","v":""},null,null,null,null,null,{"$f":"IF(GE9=\"\",\"\",SUM(GF9:GI9))","v":""},null,null,null,null,null,{"$f":"IF(GK9=\"\",\"\",SUM(GL9:GO9))","v":""},null,null,null,null,null,{"$f":"IF(GQ9=\"\",\"\",SUM(GR9:GU9))","v":""},null,null,null,null,null,{"$f":"IF(GW9=\"\",\"\",SUM(GX9:HA9))","v":""},null,null,null,null,null,{"$f":"IF(HC9=\"\",\"\",SUM(HD9:HG9))","v":""},null,null,null,null,null,{"$f":"IF(HI9=\"\",\"\",SUM(HJ9:HM9))","v":""},null,null,null,null,null,{"$f":"IF(HO9=\"\",\"\",SUM(HP9:HS9))","v":""},null,null,null,null,null,{"$f":"IF(HU9=\"\",\"\",SUM(HV9:HY9))","v":""},null,null,null,null,null,{"$f":"IF(IA9=\"\",\"\",SUM(IB9:IE9))","v":""}]
[null,null,null,null,null,"",null,null,null,null,null,"",null,null,null,null,null,"",null,null,null,null,null,"",null,null,null,null,null,"",null,null,null,null,null,"",null,null,null,null,null,"",null,null,null,null,null,"",null,null,null,null,null,"",null,null,null,null,null,"",null,null,null,null,null,"",null,null,null,null,null,"",null,null,null,null,null,"",null,null,null,null,null,"",null,null,null,null,null,"",null,null,null,null,null,"",null,null,null,null,null,"",null,null,null,null,null,"",null,null,null,null,null,"",null,null,null,null,null,"",null,null,null,null,null,"",null,null,null,null,null,"",null,null,null,null,null,"",null,null,null,null,null,"",null,null,null,null,null,"",null,null,null,null,null,"",null,null,null,null,null,"",null,null,null,null,null,"",null,null,null,null,null,"",null,null,null,null,null,"",null,null,null,null,null,"",null,null,null,null,null,"",null,null,null,null,null,"",null,null,null,null,null,"",null,null,null,null,null,"",null,null,null,null,null,"",null,null,null,null,null,"",null,null,null,null,null,"",null,null,null,null,null,"",null,null,null,null,null,""]
[null,null,null,null,null,"",null,null,null,null,null,"",null,null,null,null,null,"",null,null,null,null,null,"",null,null,null,null,null,"",null,null,null,null,null,"",null,null,null,null,null,"",null,null,null,null,null,"",null,null,null,null,null,"",null,null,null,null,null,"",null,null,null,null,null,"",null,null,null,null,null,"",null,null,null,null,null,"",null,null,null,null,null,"",null,null,null,null,null,"",null,null,null,null,null,"",null,null,null,null,null,"",null,null,null,null,null,"",null,null,null,null,null,"",null,null,null,null,null,"",null,null,null,null,null,"",null,null,null,null,null,"",null,null,null,null,null,"",null,null,null,null,null,"",null,null,null,null,null,"",null,null,null,null,null,"",null,null,null,null,null,"",null,null,null,null,null,"",null,null,null,null,null,"",null,null,null,null,null,"",null,null,null,null,null,"",null,null,null,null,null,"",null,null,null,null,null,"",null,null,null,null,null,"",null,null,null,null,null,"",null,null,null,null,null,"",null,null,null,null,null,"",null,null,null,null,null,"",null,null,null,null,null,"",null,null,null,null,null,""]
[null,null,null,null,null,"",null,null,null,null,null,"",null,null,null,null,null,"",null,null,null,null,null,"",null,null,null,null,null,"",null,null,null,null,null,"",null,null,null,null,null,"",null,null,null,null,null,"",null,null,null,null,null,"",null,null,null,null,null,"",null,null,null,null,null,"",null,null,null,null,null,"",null,null,null,null,null,"",null,null,null,null,null,"",null,null,null,null,null,"",null,null,null,null,null,"",null,null,null,null,null,"",null,null,null,null,null,"",null,null,null,null,null,"",null,null,null,null,null,"",null,null,null,null,null,"",null,null,null,null,null,"",null,null,null,null,null,"",null,null,null,null,null,"",null,null,null,null,null,"",null,null,null,null,null,"",null,null,null,null,null,"",null,null,null,null,null,"",null,null,null,null,null,"",null,null,null,null,null,"",null,null,null,null,null,"",null,null,null,null,null,"",null,null,null,null,null,"",null,null,null,null,null,"",null,null,null,null,null,"",null,null,null,null,null,"",null,null,null,null,null,"",null,null,null,null,null,"",null,null,null,null,null,"",null,null,null,null,null,""]
[null,null,null,null,null,"",null,null,null,null,null,"",null,null,null,null,null,"",null,null,null,null,null,"",null,null,null,null,null,"",null,null,null,null,null,"",null,null,null,null,null,"",null,null,null,null,null,"",null,null,null,null,null,"",null,null,null,null,null,"",null,null,null,null,null,"",null,null,null,null,null,"",null,null,null,null,null,"",null,null,null,null,null,"",null,null,null,null,null,"",null,null,null,null,null,"",null,null,null,null,null,"",null,null,null,null,null,"",null,null,null,null,null,"",null,null,null,null,null,"",null,null,null,null,null,"",null,null,null,null,null,"",null,null,null,null,null,"",null,null,null,null,null,"",null,null,null,null,null,"",null,null,null,null,null,"",null,null,null,null,null,"",null,null,null,null,null,"",null,null,null,null,null,"",null,null,null,null,null,"",null,null,null,null,null,"",null,null,null,null,null,"",null,null,null,null,null,"",null,null,null,null,null,"",null,null,null,null,null,"",null,null,null,null,null,"",null,null,null,null,null,"",null,null,null,null,null,"",null,null,null,null,null,"",null,null,null,null,null,""]
[null,null,null,null,null,"",null,null,null,null,null,"",null,null,null,null,null,"",null,null,null,null,null,"",null,null,null,null,null,"",null,null,null,null,null,"",null,null,null,null,null,"",null,null,null,null,null,"",null,null,null,null,null,"",null,null,null,null,null,"",null,null,null,null,null,"",null,null,null,null,null,"",null,null,null,null,null,"",null,null,null,null,null,"",null,null,null,null,null,"",null,null,null,null,null,"",null,null,null,null,null,"",null,null,null,null,null,"",null,null,null,null,null,"",null,null,null,null,null,"",null,null,null,null,null,"",null,null,null,null,null,"",null,null,null,null,null,"",null,null,null,null,null,"",null,null,null,null,null,"",null,null,null,null,null,"",null,null,null,null,null,"",null,null,null,null,null,"",null,null,null,null,null,"",null,null,null,null,null,"",null,null,null,null,null,"",null,null,null,null,null,"",null,null,null,null,null,"",null,null,null,null,null,"",null,null,null,null,null,"",null,null,null,null,null,"",null,null,null,null,null,"",null,null,null,null,null,"",null,null,null,null,null,"",null,null,null,null,null,""]
[null,null,null,null,null,"",null,null,null,null,null,"",null,null,null,null,null,"",null,null,null,null,null,"",null,null,null,null,null,"",null,null,null,null,null,"",null,null,null,null,null,"",null,null,null,null,null,"",null,null,null,null,null,"",null,null,null,null,null,"",null,null,null,null,null,"",null,null,null,null,null,"",null,null,null,null,null,"",null,null,null,null,null,"",null,null,null,null,null,"",null,null,null,null,null,"",null,null,null,null,null,"",null,null,null,null,null,"",null,null,null,null,null,"",null,null,null,null,null,"",null,null,null,null,null,"",null,null,null,null,null,"",null,null,null,null,null,"",null,null,null,null,null,"",null,null,null,null,null,"",null,null,null,null,null,"",null,null,null,null,null,"",null,null,null,null,null,"",null,null,null,null,null,"",null,null,null,null,null,"",null,null,null,null,null,"",null,null,null,null,null,"",null,null,null,null,null,"",null,null,null,null,null,"",null,null,null,null,null,"",null,null,null,null,null,"",null,null,null,null,null,"",null,null,null,null,null,"",null,null,null,null,null,"",null,null,null,null,null,""]
[null,null,null,null,null,"",null,null,null,null,null,"",null,null,null,null,null,"",null,null,null,null,null,"",null,null,null,null,null,"",null,null,null,null,null,"",null,null,null,null,null,"",null,null,null,null,null,"",null,null,null,null,null,"",null,null,null,null,null,"",null,null,null,null,null,"",null,null,null,null,null,"",null,null,null,null,null,"",null,null,null,null,null,"",null,null,null,null,null,"",null,null,null,null,null,"",null,null,null,null,null,"",null,null,null,null,null,"",null,null,null,null,null,"",null,null,null,null,null,"",null,null,null,null,null,"",null,null,null,null,null,"",null,null,null,null,null,"",null,null,null,null,null,"",null,null,null,null,null,"",null,null,null,null,null,"",null,null,null,null,null,"",null,null,null,null,null,"",null,null,null,null,null,"",null,null,null,null,null,"",null,null,null,null,null,"",null,null,null,null,null,"",null,null,null,null,null,"",null,null,null,null,null,"",null,null,null,null,null,"",null,null,null,null,null,"",null,null,null,null,null,"",null,null,null,null,null,"",null,null,null,null,null,"",null,null,null,null,null,""]
[null,null,null,null,null,"",null,null,null,null,null,"",null,null,null,null,null,"",null,null,null,null,null,"",null,null,null,null,null,"",null,null,null,null,null,"",null,null,null,null,null,"",null,null,null,null,null,"",null,null,null,null,null,"",null,null,null,null,null,"",null,null,null,null,null,"",null,null,null,null,null,"",null,null,null,null,null,"",null,null,null,null,null,"",null,null,null,null,null,"",null,null,null,null,null,"",null,null,null,null,null,"",null,null,null,null,null,"",null,null,null,null,null,"",null,null,null,null,null,"",null,null,null,null,null,"",null,null,null,null,null,"",null,null,null,null,null,"",null,null,null,null,null,"",null,null,null,null,null,"",null,null,null,null,null,"",null,null,null,null,null,"",null,null,null,null,null,"",null,null,null,null,null,"",null,null,null,null,null,"",null,null,null,null,null,"",null,null,null,null,null,"",null,null,null,null,null,"",null,null,null,null,null,"",null,null,null,null,null,"",null,null,null,null,null,"",null,null,null,null,null,"",null,null,null,null,null,"",null,null,null,null,null,"",null,null,null,null,null,""]
[null,null,null,null,null,"",null,null,null,null,null,"",null,null,null,null,null,"",null,null,null,null,null,"",null,null,null,null,null,"",null,null,null,null,null,"",null,null,null,null,null,"",null,null,null,null,null,"",null,null,null,null,null,"",null,null,null,null,null,"",null,null,null,null,null,"",null,null,null,null,null,"",null,null,null,null,null,"",null,null,null,null,null,"",null,null,null,null,null,"",null,null,null,null,null,"",null,null,null,null,null,"",null,null,null,null,null,"",null,null,null,null,null,"",null,null,null,null,null,"",null,null,null,null,null,"",null,null,null,null,null,"",null,null,null,null,null,"",null,null,null,null,null,"",null,null,null,null,null,"",null,null,null,null,null,"",null,null,null,null,null,"",null,null,null,null,null,"",null,null,null,null,null,"",null,null,null,null,null,"",null,null,null,null,null,"",null,null,null,null,null,"",null,null,null,null,null,"",null,null,null,null,null,"",null,null,null,null,null,"",null,null,null,null,null,"",null,null,null,null,null,"",null,null,null,null,null,"",null,null,null,null,null,"",null,null,null,null,null,""]
[null,null,null,null,null,"",null,null,null,null,null,"",null,null,null,null,null,"",null,null,null,null,null,"",null,null,null,null,null,"",null,null,null,null,null,"",null,null,null,null,null,"",null,null,null,null,null,"",null,null,null,null,null,"",null,null,null,null,null,"",null,null,null,null,null,"",null,null,null,null,null,"",null,null,null,null,null,"",null,null,null,null,null,"",null,null,null,null,null,"",null,null,null,null,null,"",null,null,null,null,null,"",null,null,null,null,null,"",null,null,null,null,null,"",null,null,null,null,null,"",null,null,null,null,null,"",null,null,null,null,null,"",null,null,null,null,null,"",null,null,null,null,null,"",null,null,null,null,null,"",null,null,null,null,null,"",null,null,null,null,null,"",null,null,null,null,null,"",null,null,null,null,null,"",null,null,null,null,null,"",null,null,null,null,null,"",null,null,null,null,null,"",null,null,null,null,null,"",null,null,null,null,null,"",null,null,null,null,null,"",null,null,null,null,null,"",null,null,null,null,null,"",null,null,null,null,null,"",null,null,null,null,null,"",null,null,null,null,null,""]
[null,null,null,null,null,"",null,null,null,null,null,"",null,null,null,null,null,"",null,null,null,null,null,"",null,null,null,null,null,"",null,null,null,null,null,"",null,null,null,null,null,"",null,null,null,null,null,"",null,null,null,null,null,"",null,null,null,null,null,"",null,null,null,null,null,"",null,null,null,null,null,"",null,null,null,null,null,"",null,null,null,null,null,"",null,null,null,null,null,"",null,null,null,null,null,"",null,null,null,null,null,"",null,null,null,null,null,"",null,null,null,null,null,"",null,null,null,null,null,"",null,null,null,null,null,"",null,null,null,null,null,"",null,null,null,null,null,"",null,null,null,null,null,"",null,null,null,null,null,"",null,null,null,null,null,"",null,null,null,null,null,"",null,null,null,null,null,"",null,null,null,null,null,"",null,null,null,null,null,"",null,null,null,null,null,"",null,null,null,null,null,"",null,null,null,null,null,"",null,null,null,null,null,"",null,null,null,null,null,"",null,null,null,null,null,"",null,null,null,null,null,"",null,null,null,null,null,"",null,null,null,null,null,"",null,null,null,null,null,""]
[null,null,null,null,null,"",null,null,null,null,null,"",null,null,null,null,null,"",null,null,null,null,null,"",null,null,null,null,null,"",null,null,null,null,null,"",null,null,null,null,null,"",null,null,null,null,null,"",null,null,null,null,null,"",null,null,null,null,null,"",null,null,null,null,null,"",null,null,null,null,null,"",null,null,null,null,null,"",null,null,null,null,null,"",null,null,null,null,null,"",null,null,null,null,null,"",null,null,null,null,null,"",null,null,null,null,null,"",null,null,null,null,null,"",null,null,null,null,null,"",null,null,null,null,null,"",null,null,null,null,null,"",null,null,null,null,null,"",null,null,null,null,null,"",null,null,null,null,null,"",null,null,null,null,null,"",null,null,null,null,null,"",null,null,null,null,null,"",null,null,null,null,null,"",null,null,null,null,null,"",null,null,null,null,null,"",null,null,null,null,null,"",null,null,null,null,null,"",null,null,null,null,null,"",null,null,null,null,null,"",null,null,null,null,null,"",null,null,null,null,null,"",null,null,null,null,null,"",null,null,null,null,null,"",null,null,null,null,null,""]
[null,null,null,null,null,"",null,null,null,null,null,"",null,null,null,null,null,"",null,null,null,null,null,"",null,null,null,null,null,"",null,null,null,null,null,"",null,null,null,null,null,"",null,null,null,null,null,"",null,null,null,null,null,"",null,null,null,null,null,"",null,null,null,null,null,"",null,null,null,null,null,"",null,null,null,null,null,"",null,null,null,null,null,"",null,null,null,null,null,"",null,null,null,null,null,"",null,null,null,null,null,"",null,null,null,null,null,"",null,null,null,null,null,"",null,null,null,null,null,"",null,null,null,null,null,"",null,null,null,null,null,"",null,null,null,null,null,"",null,null,null,null,null,"",null,null,null,null,null,"",null,null,null,null,null,"",null,null,null,null,null,"",null,null,null,null,null,"",null,null,null,null,null,"",null,null,null,null,null,"",null,null,null,null,null,"",null,null,null,null,null,"",null,null,null,null,null,"",null,null,null,null,null,"",null,null,null,null,null,"",null,null,null,null,null,"",null,null,null,null,null,"",null,null,null,null,null,"",null,null,null,null,null,"",null,null,null,null,null,""]
[null,null,null,null,null,"",null,null,null,null,null,"",null,null,null,null,null,"",null,null,null,null,null,"",null,null,null,null,null,"",null,null,null,null,null,"",null,null,null,null,null,"",null,null,null,null,null,"",null,null,null,null,null,"",null,null,null,null,null,"",null,null,null,null,null,"",null,null,null,null,null,"",null,null,null,null,null,"",null,null,null,null,null,"",null,null,null,null,null,"",null,null,null,null,null,"",null,null,null,null,null,"",null,null,null,null,null,"",null,null,null,null,null,"",null,null,null,null,null,"",null,null,null,null,null,"",null,null,null,null,null,"",null,null,null,null,null,"",null,null,null,null,null,"",null,null,null,null,null,"",null,null,null,null,null,"",null,null,null,null,null,"",null,null,null,null,null,"",null,null,null,null,null,"",null,null,null,null,null,"",null,null,null,null,null,"",null,null,null,null,null,"",null,null,null,null,null,"",null,null,null,null,null,"",null,null,null,null,null,"",null,null,null,null,null,"",null,null,null,null,null,"",null,null,null,null,null,"",null,null,null,null,null,"",null,null,null,null,null,""]
[null,null,null,null,null,"",null,null,null,null,null,"",null,null,null,null,null,"",null,null,null,null,null,"",null,null,null,null,null,"",null,null,null,null,null,"",null,null,null,null,null,"",null,null,null,null,null,"",null,null,null,null,null,"",null,null,null,null,null,"",null,null,null,null,null,"",null,null,null,null,null,"",null,null,null,null,null,"",null,null,null,null,null,"",null,null,null,null,null,"",null,null,null,null,null,"",null,null,null,null,null,"",null,null,null,null,null,"",null,null,null,null,null,"",null,null,null,null,null,"",null,null,null,null,null,"",null,null,null,null,null,"",null,null,null,null,null,"",null,null,null,null,null,"",null,null,null,null,null,"",null,null,null,null,null,"",null,null,null,null,null,"",null,null,null,null,null,"",null,null,null,null,null,"",null,null,null,null,null,"",null,null,null,null,null,"",null,null,null,null,null,"",null,null,null,null,null,"",null,null,null,null,null,"",null,null,null,null,null,"",null,null,null,null,null,"",null,null,null,null,null,"",null,null,null,null,null,"",null,null,null,null,null,"",null,null,null,null,null,""]
[null,null,null,null,null,"",null,null,null,null,null,"",null,null,null,null,null,"",null,null,null,null,null,"",null,null,null,null,null,"",null,null,null,null,null,"",null,null,null,null,null,"",null,null,null,null,null,"",null,null,null,null,null,"",null,null,null,null,null,"",null,null,null,null,null,"",null,null,null,null,null,"",null,null,null,null,null,"",null,null,null,null,null,"",null,null,null,null,null,"",null,null,null,null,null,"",null,null,null,null,null,"",null,null,null,null,null,"",null,null,null,null,null,"",null,null,null,null,null,"",null,null,null,null,null,"",null,null,null,null,null,"",null,null,null,null,null,"",null,null,null,null,null,"",null,null,null,null,null,"",null,null,null,null,null,"",null,null,null,null,null,"",null,null,null,null,null,"",null,null,null,null,null,"",null,null,null,null,null,"",null,null,null,null,null,"",null,null,null,null,null,"",null,null,null,null,null,"",null,null,null,null,null,"",null,null,null,null,null,"",null,null,null,null,null,"",null,null,null,null,null,"",null,null,null,null,null,"",null,null,null,null,null,"",null,null,null,null,null,""]
[null,null,null,null,null,"",null,null,null,null,null,"",null,null,null,null,null,"",null,null,null,null,null,"",null,null,null,null,null,"",null,null,null,null,null,"",null,null,null,null,null,"",null,null,null,null,null,"",null,null,null,null,null,"",null,null,null,null,null,"",null,null,null,null,null,"",null,null,null,null,null,"",null,null,null,null,null,"",null,null,null,null,null,"",null,null,null,null,null,"",null,null,null,null,null,"",null,null,null,null,null,"",null,null,null,null,null,"",null,null,null,null,null,"",null,null,null,null,null,"",null,null,null,null,null,"",null,null,null,null,null,"",null,null,null,null,null,"",null,null,null,null,null,"",null,null,null,null,null,"",null,null,null,null,null,"",null,null,null,null,null,"",null,null,null,null,null,"",null,null,null,null,null,"",null,null,null,null,null,"",null,null,null,null,null,"",null,null,null,null,null,"",null,null,null,null,null,"",null,null,null,null,null,"",null,null,null,null,null,"",null,null,null,null,null,"",null,null,null,null,null,"",null,null,null,null,null,"",null,null,null,null,null,"",null,null,null,null,null,""]
[null,null,null,null,null,"",null,null,null,null,null,"",null,null,null,null,null,"",null,null,null,null,null,"",null,null,null,null,null,"",null,null,null,null,null,"",null,null,null,null,null,"",null,null,null,null,null,"",null,null,null,null,null,"",null,null,null,null,null,"",null,null,null,null,null,"",null,null,null,null,null,"",null,null,null,null,null,"",null,null,null,null,null,"",null,null,null,null,null,"",null,null,null,null,null,"",null,null,null,null,null,"",null,null,null,null,null,"",null,null,null,null,null,"",null,null,null,null,null,"",null,null,null,null,null,"",null,null,null,null,null,"",null,null,null,null,null,"",null,null,null,null,null,"",null,null,null,null,null,"",null,null,null,null,null,"",null,null,null,null,null,"",null,null,null,null,null,"",null,null,null,null,null,"",null,null,null,null,null,"",null,null,null,null,null,"",null,null,null,null,null,"",null,null,null,null,null,"",null,null,null,null,null,"",null,null,null,null,null,"",null,null,null,null,null,"",null,null,null,null,null,"",null,null,null,null,null,"",null,null,null,null,null,"",null,null,null,null,null,""]
[null,null,null,null,null,"",null,null,null,null,null,"",null,null,null,null,null,"",null,null,null,null,null,"",null,null,null,null,null,"",null,null,null,null,null,"",null,null,null,null,null,"",null,null,null,null,null,"",null,null,null,null,null,"",null,null,null,null,null,"",null,null,null,null,null,"",null,null,null,null,null,"",null,null,null,null,null,"",null,null,null,null,null,"",null,null,null,null,null,"",null,null,null,null,null,"",null,null,null,null,null,"",null,null,null,null,null,"",null,null,null,null,null,"",null,null,null,null,null,"",null,null,null,null,null,"",null,null,null,null,null,"",null,null,null,null,null,"",null,null,null,null,null,"",null,null,null,null,null,"",null,null,null,null,null,"",null,null,null,null,null,"",null,null,null,null,null,"",null,null,null,null,null,"",null,null,null,null,null,"",null,null,null,null,null,"",null,null,null,null,null,"",null,null,null,null,null,"",null,null,null,null,null,"",null,null,null,null,null,"",null,null,null,null,null,"",null,null,null,null,null,"",null,null,null,null,null,"",null,null,null,null,null,"",null,null,null,null,null,""]
[null,null,null,null,null,"",null,null,null,null,null,"",null,null,null,null,null,"",null,null,null,null,null,"",null,null,null,null,null,"",null,null,null,null,null,"",null,null,null,null,null,"",null,null,null,null,null,"",null,null,null,null,null,"",null,null,null,null,null,"",null,null,null,null,null,"",null,null,null,null,null,"",null,null,null,null,null,"",null,null,null,null,null,"",null,null,null,null,null,"",null,null,null,null,null,"",null,null,null,null,null,"",null,null,null,null,null,"",null,null,null,null,null,"",null,null,null,null,null,"",null,null,null,null,null,"",null,null,null,null,null,"",null,null,null,null,null,"",null,null,null,null,null,"",null,null,null,null,null,"",null,null,null,null,null,"",null,null,null,null,null,"",null,null,null,null,null,"",null,null,null,null,null,"",null,null,null,null,null,"",null,null,null,null,null,"",null,null,null,null,null,"",null,null,null,null,null,"",null,null,null,null,null,"",null,null,null,null,null,"",null,null,null,null,null,"",null,null,null,null,null,"",null,null,null,null,null,"",null,null,null,null,null,"",null,null,null,null,null,""]
[null,null,null,null,null,"",null,null,null,null,null,"",null,null,null,null,null,"",null,null,null,null,null,"",null,null,null,null,null,"",null,null,null,null,null,"",null,null,null,null,null,"",null,null,null,null,null,"",null,null,null,null,null,"",null,null,null,null,null,"",null,null,null,null,null,"",null,null,null,null,null,"",null,null,null,null,null,"",null,null,null,null,null,"",null,null,null,null,null,"",null,null,null,null,null,"",null,null,null,null,null,"",null,null,null,null,null,"",null,null,null,null,null,"",null,null,null,null,null,"",null,null,null,null,null,"",null,null,null,null,null,"",null,null,null,null,null,"",null,null,null,null,null,"",null,null,null,null,null,"",null,null,null,null,null,"",null,null,null,null,null,"",null,null,null,null,null,"",null,null,null,null,null,"",null,null,null,null,null,"",null,null,null,null,null,"",null,null,null,null,null,"",null,null,null,null,null,"",null,null,null,null,null,"",null,null,null,null,null,"",null,null,null,null,null,"",null,null,null,null,null,"",null,null,null,null,null,"",null,null,null,null,null,"",null,null,null,null,null,""]
[null,null,null,null,null,"",null,null,null,null,null,"",null,null,null,null,null,"",null,null,null,null,null,"",null,null,null,null,null,"",null,null,null,null,null,"",null,null,null,null,null,"",null,null,null,null,null,"",null,null,null,null,null,"",null,null,null,null,null,"",null,null,null,null,null,"",null,null,null,null,null,"",null,null,null,null,null,"",null,null,null,null,null,"",null,null,null,null,null,"",null,null,null,null,null,"",null,null,null,null,null,"",null,null,null,null,null,"",null,null,null,null,null,"",null,null,null,null,null,"",null,null,null,null,null,"",null,null,null,null,null,"",null,null,null,null,null,"",null,null,null,null,null,"",null,null,null,null,null,"",null,null,null,null,null,"",null,null,null,null,null,"",null,null,null,null,null,"",null,null,null,null,null,"",null,null,null,null,null,"",null,null,null,null,null,"",null,null,null,null,null,"",null,null,null,null,null,"",null,null,null,null,null,"",null,null,null,null,null,"",null,null,null,null,null,"",null,null,null,null,null,"",null,null,null,null,null,"",null,null,null,null,null,"",null,null,null,null,null,""]
[null,null,null,null,null,"",null,null,null,null,null,"",null,null,null,null,null,"",null,null,null,null,null,"",null,null,null,null,null,"",null,null,null,null,null,"",null,null,null,null,null,"",null,null,null,null,null,"",null,null,null,null,null,"",null,null,null,null,null,"",null,null,null,null,null,"",null,null,null,null,null,"",null,null,null,null,null,"",null,null,null,null,null,"",null,null,null,null,null,"",null,null,null,null,null,"",null,null,null,null,null,"",null,null,null,null,null,"",null,null,null,null,null,"",null,null,null,null,null,"",null,null,null,null,null,"",null,null,null,null,null,"",null,null,null,null,null,"",null,null,null,null,null,"",null,null,null,null,null,"",null,null,null,null,null,"",null,null,null,null,null,"",null,null,null,null,null,"",null,null,null,null,null,"",null,null,null,null,null,"",null,null,null,null,null,"",null,null,null,null,null,"",null,null,null,null,null,"",null,null,null,null,null,"",null,null,null,null,null,"",null,null,null,null,null,"",null,null,null,null,null,"",null,null,null,null,null,"",null,null,null,null,null,"",null,null,null,null,null,""]
[null,null,null,null,null,"",null,null,null,null,null,"",null,null,null,null,null,"",null,null,null,null,null,"",null,null,null,null,null,"",null,null,null,null,null,"",null,null,null,null,null,"",null,null,null,null,null,"",null,null,null,null,null,"",null,null,null,null,null,"",null,null,null,null,null,"",null,null,null,null,null,"",null,null,null,null,null,"",null,null,null,null,null,"",null,null,null,null,null,"",null,null,null,null,null,"",null,null,null,null,null,"",null,null,null,null,null,"",null,null,null,null,null,"",null,null,null,null,null,"",null,null,null,null,null,"",null,null,null,null,null,"",null,null,null,null,null,"",null,null,null,null,null,"",null,null,null,null,null,"",null,null,null,null,null,"",null,null,null,null,null,"",null,null,null,null,null,"",null,null,null,null,null,"",null,null,null,null,null,"",null,null,null,null,null,"",null,null,null,null,null,"",null,null,null,null,null,"",null,null,null,null,null,"",null,null,null,null,null,"",null,null,null,null,null,"",null,null,null,null,null,"",null,null,null,null,null,"",null,null,null,null,null,"",null,null,null,null,null,""]
[null,null,null,null,null,"",null,null,null,null,null,"",null,null,null,null,null,"",null,null,null,null,null,"",null,null,null,null,null,"",null,null,null,null,null,"",null,null,null,null,null,"",null,null,null,null,null,"",null,null,null,null,null,"",null,null,null,null,null,"",null,null,null,null,null,"",null,null,null,null,null,"",null,null,null,null,null,"",null,null,null,null,null,"",null,null,null,null,null,"",null,null,null,null,null,"",null,null,null,null,null,"",null,null,null,null,null,"",null,null,null,null,null,"",null,null,null,null,null,"",null,null,null,null,null,"",null,null,null,null,null,"",null,null,null,null,null,"",null,null,null,null,null,"",null,null,null,null,null,"",null,null,null,null,null,"",null,null,null,null,null,"",null,null,null,null,null,"",null,null,null,null,null,"",null,null,null,null,null,"",null,null,null,null,null,"",null,null,null,null,null,"",null,null,null,null,null,"",null,null,null,null,null,"",null,null,null,null,null,"",null,null,null,null,null,"",null,null,null,null,null,"",null,null,null,null,null,"",null,null,null,null,null,"",null,null,null,null,null,""]
[null,null,null,null,null,"",null,null,null,null,null,"",null,null,null,null,null,"",null,null,null,null,null,"",null,null,null,null,null,"",null,null,null,null,null,"",null,null,null,null,null,"",null,null,null,null,null,"",null,null,null,null,null,"",null,null,null,null,null,"",null,null,null,null,null,"",null,null,null,null,null,"",null,null,null,null,null,"",null,null,null,null,null,"",null,null,null,null,null,"",null,null,null,null,null,"",null,null,null,null,null,"",null,null,null,null,null,"",null,null,null,null,null,"",null,null,null,null,null,"",null,null,null,null,null,"",null,null,null,null,null,"",null,null,null,null,null,"",null,null,null,null,null,"",null,null,null,null,null,"",null,null,null,null,null,"",null,null,null,null,null,"",null,null,null,null,null,"",null,null,null,null,null,"",null,null,null,null,null,"",null,null,null,null,null,"",null,null,null,null,null,"",null,null,null,null,null,"",null,null,null,null,null,"",null,null,null,null,null,"",null,null,null,null,null,"",null,null,null,null,null,"",null,null,null,null,null,"",null,null,null,null,null,"",null,null,null,null,null,""]
[null,null,null,null,null,"",null,null,null,null,null,"",null,null,null,null,null,"",null,null,null,null,null,"",null,null,null,null,null,"",null,null,null,null,null,"",null,null,null,null,null,"",null,null,null,null,null,"",null,null,null,null,null,"",null,null,null,null,null,"",null,null,null,null,null,"",null,null,null,null,null,"",null,null,null,null,null,"",null,null,null,null,null,"",null,null,null,null,null,"",null,null,null,null,null,"",null,null,null,null,null,"",null,null,null,null,null,"",null,null,null,null,null,"",null,null,null,null,null,"",null,null,null,null,null,"",null,null,null,null,null,"",null,null,null,null,null,"",null,null,null,null,null,"",null,null,null,null,null,"",null,null,null,null,null,"",null,null,null,null,null,"",null,null,null,null,null,"",null,null,null,null,null,"",null,null,null,null,null,"",null,null,null,null,null,"",null,null,null,null,null,"",null,null,null,null,null,"",null,null,null,null,null,"",null,null,null,null,null,"",null,null,null,null,null,"",null,null,null,null,null,"",null,null,null,null,null,"",null,null,null,null,null,"",null,null,null,null,null,""]
[null,null,null,null,null,"",null,null,null,null,null,"",null,null,null,null,null,"",null,null,null,null,null,"",null,null,null,null,null,"",null,null,null,null,null,"",null,null,null,null,null,"",null,null,null,null,null,"",null,null,null,null,null,"",null,null,null,null,null,"",null,null,null,null,null,"",null,null,null,null,null,"",null,null,null,null,null,"",null,null,null,null,null,"",null,null,null,null,null,"",null,null,null,null,null,"",null,null,null,null,null,"",null,null,null,null,null,"",null,null,null,null,null,"",null,null,null,null,null,"",null,null,null,null,null,"",null,null,null,null,null,"",null,null,null,null,null,"",null,null,null,null,null,"",null,null,null,null,null,"",null,null,null,null,null,"",null,null,null,null,null,"",null,null,null,null,null,"",null,null,null,null,null,"",null,null,null,null,null,"",null,null,null,null,null,"",null,null,null,null,null,"",null,null,null,null,null,"",null,null,null,null,null,"",null,null,null,null,null,"",null,null,null,null,null,"",null,null,null,null,null,"",null,null,null,null,null,"",null,null,null,null,null,"",null,null,null,null,null,""]
[null,null,null,null,null,"",null,null,null,null,null,"",null,null,null,null,null,"",null,null,null,null,null,"",null,null,null,null,null,"",null,null,null,null,null,"",null,null,null,null,null,"",null,null,null,null,null,"",null,null,null,null,null,"",null,null,null,null,null,"",null,null,null,null,null,"",null,null,null,null,null,"",null,null,null,null,null,"",null,null,null,null,null,"",null,null,null,null,null,"",null,null,null,null,null,"",null,null,null,null,null,"",null,null,null,null,null,"",null,null,null,null,null,"",null,null,null,null,null,"",null,null,null,null,null,"",null,null,null,null,null,"",null,null,null,null,null,"",null,null,null,null,null,"",null,null,null,null,null,"",null,null,null,null,null,"",null,null,null,null,null,"",null,null,null,null,null,"",null,null,null,null,null,"",null,null,null,null,null,"",null,null,null,null,null,"",null,null,null,null,null,"",null,null,null,null,null,"",null,null,null,null,null,"",null,null,null,null,null,"",null,null,null,null,null,"",null,null,null,null,null,"",null,null,null,null,null,"",null,null,null,null,null,"",null,null,null,null,null,""]
[null,null,null,null,null,"",null,null,null,null,null,"",null,null,null,null,null,"",null,null,null,null,null,"",null,null,null,null,null,"",null,null,null,null,null,"",null,null,null,null,null,"",null,null,null,null,null,"",null,null,null,null,null,"",null,null,null,null,null,"",null,null,null,null,null,"",null,null,null,null,null,"",null,null,null,null,null,"",null,null,null,null,null,"",null,null,null,null,null,"",null,null,null,null,null,"",null,null,null,null,null,"",null,null,null,null,null,"",null,null,null,null,null,"",null,null,null,null,null,"",null,null,null,null,null,"",null,null,null,null,null,"",null,null,null,null,null,"",null,null,null,null,null,"",null,null,null,null,null,"",null,null,null,null,null,"",null,null,null,null,null,"",null,null,null,null,null,"",null,null,null,null,null,"",null,null,null,null,null,"",null,null,null,null,null,"",null,null,null,null,null,"",null,null,null,null,null,"",null,null,null,null,null,"",null,null,null,null,null,"",null,null,null,null,null,"",null,null,null,null,null,"",null,null,null,null,null,"",null,null,null,null,null,"",null,null,null,null,null,""]
[null,null,null,null,null,"",null,null,null,null,null,"",null,null,null,null,null,"",null,null,null,null,null,"",null,null,null,null,null,"",null,null,null,null,null,"",null,null,null,null,null,"",null,null,null,null,null,"",null,null,null,null,null,"",null,null,null,null,null,"",null,null,null,null,null,"",null,null,null,null,null,"",null,null,null,null,null,"",null,null,null,null,null,"",null,null,null,null,null,"",null,null,null,null,null,"",null,null,null,null,null,"",null,null,null,null,null,"",null,null,null,null,null,"",null,null,null,null,null,"",null,null,null,null,null,"",null,null,null,null,null,"",null,null,null,null,null,"",null,null,null,null,null,"",null,null,null,null,null,"",null,null,null,null,null,"",null,null,null,null,null,"",null,null,null,null,null,"",null,null,null,null,null,"",null,null,null,null,null,"",null,null,null,null,null,"",null,null,null,null,null,"",null,null,null,null,null,"",null,null,null,null,null,"",null,null,null,null,null,"",null,null,null,null,null,"",null,null,null,null,null,"",null,null,null,null,null,"",null,null,null,null,null,"",null,null,null,null,null,""]
[null,null,null,null,null,"",null,null,null,null,null,"",null,null,null,null,null,"",null,null,null,null,null,"",null,null,null,null,null,"",null,null,null,null,null,"",null,null,null,null,null,"",null,null,null,null,null,"",null,null,null,null,null,"",null,null,null,null,null,"",null,null,null,null,null,"",null,null,null,null,null,"",null,null,null,null,null,"",null,null,null,null,null,"",null,null,null,null,null,"",null,null,null,null,null,"",null,null,null,null,null,"",null,null,null,null,null,"",null,null,null,null,null,"",null,null,null,null,null,"",null,null,null,null,null,"",null,null,null,null,null,"",null,null,null,null,null,"",null,null,null,null,null,"",null,null,null,null,null,"",null,null,null,null,null,"",null,null,null,null,null,"",null,null,null,null,null,"",null,null,null,null,null,"",null,null,null,null,null,"",null,null,null,null,null,"",null,null,null,null,null,"",null,null,null,null,null,"",null,null,null,null,null,"",null,null,null,null,null,"",null,null,null,null,null,"",null,null,null,null,null,"",null,null,null,null,null,"",null,null,null,null,null,"",null,null,null,null,null,""]
[null,null,null,null,null,"",null,null,null,null,null,"",null,null,null,null,null,"",null,null,null,null,null,"",null,null,null,null,null,"",null,null,null,null,null,"",null,null,null,null,null,"",null,null,null,null,null,"",null,null,null,null,null,"",null,null,null,null,null,"",null,null,null,null,null,"",null,null,null,null,null,"",null,null,null,null,null,"",null,null,null,null,null,"",null,null,null,null,null,"",null,null,null,null,null,"",null,null,null,null,null,"",null,null,null,null,null,"",null,null,null,null,null,"",null,null,null,null,null,"",null,null,null,null,null,"",null,null,null,null,null,"",null,null,null,null,null,"",null,null,null,null,null,"",null,null,null,null,null,"",null,null,null,null,null,"",null,null,null,null,null,"",null,null,null,null,null,"",null,null,null,null,null,"",null,null,null,null,null,"",null,null,null,null,null,"",null,null,null,null,null,"",null,null,null,null,null,"",null,null,null,null,null,"",null,null,null,null,null,"",null,null,null,null,null,"",null,null,null,null,null,"",null,null,null,null,null,"",null,null,null,null,null,"",null,null,null,null,null,""]
[null,null,null,null,null,"",null,null,null,null,null,"",null,null,null,null,null,"",null,null,null,null,null,"",null,null,null,null,null,"",null,null,null,null,null,"",null,null,null,null,null,"",null,null,null,null,null,"",null,null,null,null,null,"",null,null,null,null,null,"",null,null,null,null,null,"",null,null,null,null,null,"",null,null,null,null,null,"",null,null,null,null,null,"",null,null,null,null,null,"",null,null,null,null,null,"",null,null,null,null,null,"",null,null,null,null,null,"",null,null,null,null,null,"",null,null,null,null,null,"",null,null,null,null,null,"",null,null,null,null,null,"",null,null,null,null,null,"",null,null,null,null,null,"",null,null,null,null,null,"",null,null,null,null,null,"",null,null,null,null,null,"",null,null,null,null,null,"",null,null,null,null,null,"",null,null,null,null,null,"",null,null,null,null,null,"",null,null,null,null,null,"",null,null,null,null,null,"",null,null,null,null,null,"",null,null,null,null,null,"",null,null,null,null,null,"",null,null,null,null,null,"",null,null,null,null,null,"",null,null,null,null,null,"",null,null,null,null,null,""]
[null,null,null,null,null,"",null,null,null,null,null,"",null,null,null,null,null,"",null,null,null,null,null,"",null,null,null,null,null,"",null,null,null,null,null,"",null,null,null,null,null,"",null,null,null,null,null,"",null,null,null,null,null,"",null,null,null,null,null,"",null,null,null,null,null,"",null,null,null,null,null,"",null,null,null,null,null,"",null,null,null,null,null,"",null,null,null,null,null,"",null,null,null,null,null,"",null,null,null,null,null,"",null,null,null,null,null,"",null,null,null,null,null,"",null,null,null,null,null,"",null,null,null,null,null,"",null,null,null,null,null,"",null,null,null,null,null,"",null,null,null,null,null,"",null,null,null,null,null,"",null,null,null,null,null,"",null,null,null,null,null,"",null,null,null,null,null,"",null,null,null,null,null,"",null,null,null,null,null,"",null,null,null,null,null,"",null,null,null,null,null,"",null,null,null,null,null,"",null,null,null,null,null,"",null,null,null,null,null,"",null,null,null,null,null,"",null,null,null,null,null,"",null,null,null,null,null,"",null,null,null,null,null,"",null,null,null,null,null,""]
[null,null,null,null,null,"",null,null,null,null,null,"",null,null,null,null,null,"",null,null,null,null,null,"",null,null,null,null,null,"",null,null,null,null,null,"",null,null,null,null,null,"",null,null,null,null,null,"",null,null,null,null,null,"",null,null,null,null,null,"",null,null,null,null,null,"",null,null,null,null,null,"",null,null,null,null,null,"",null,null,null,null,null,"",null,null,null,null,null,"",null,null,null,null,null,"",null,null,null,null,null,"",null,null,null,null,null,"",null,null,null,null,null,"",null,null,null,null,null,"",null,null,null,null,null,"",null,null,null,null,null,"",null,null,null,null,null,"",null,null,null,null,null,"",null,null,null,null,null,"",null,null,null,null,null,"",null,null,null,null,null,"",null,null,null,null,null,"",null,null,null,null,null,"",null,null,null,null,null,"",null,null,null,null,null,"",null,null,null,null,null,"",null,null,null,null,null,"",null,null,null,null,null,"",null,null,null,null,null,"",null,null,null,null,null,"",null,null,null,null,null,"",null,null,null,null,null,"",null,null,null,null,null,"",null,null,null,null,null,""]
[null,null,null,null,null,"",null,null,null,null,null,"",null,null,null,null,null,"",null,null,null,null,null,"",null,null,null,null,null,"",null,null,null,null,null,"",null,null,null,null,null,"",null,null,null,null,null,"",null,null,null,null,null,"",null,null,null,null,null,"",null,null,null,null,null,"",null,null,null,null,null,"",null,null,null,null,null,"",null,null,null,null,null,"",null,null,null,null,null,"",null,null,null,null,null,"",null,null,null,null,null,"",null,null,null,null,null,"",null,null,null,null,null,"",null,null,null,null,null,"",null,null,null,null,null,"",null,null,null,null,null,"",null,null,null,null,null,"",null,null,null,null,null,"",null,null,null,null,null,"",null,null,null,null,null,"",null,null,null,null,null,"",null,null,null,null,null,"",null,null,null,null,null,"",null,null,null,null,null,"",null,null,null,null,null,"",null,null,null,null,null,"",null,null,null,null,null,"",null,null,null,null,null,"",null,null,null,null,null,"",null,null,null,null,null,"",null,null,null,null,null,"",null,null,null,null,null,"",null,null,null,null,null,"",null,null,null,null,null,""]
[null,null,null,null,null,"",null,null,null,null,null,"",null,null,null,null,null,"",null,null,null,null,null,"",null,null,null,null,null,"",null,null,null,null,null,"",null,null,null,null,null,"",null,null,null,null,null,"",null,null,null,null,null,"",null,null,null,null,null,"",null,null,null,null,null,"",null,null,null,null,null,"",null,null,null,null,null,"",null,null,null,null,null,"",null,null,null,null,null,"",null,null,null,null,null,"",null,null,null,null,null,"",null,null,null,null,null,"",null,null,null,null,null,"",null,null,null,null,null,"",null,null,null,null,null,"",null,null,null,null,null,"",null,null,null,null,null,"",null,null,null,null,null,"",null,null,null,null,null,"",null,null,null,null,null,"",null,null,null,null,null,"",null,null,null,null,null,"",null,null,null,null,null,"",null,null,null,null,null,"",null,null,null,null,null,"",null,null,null,null,null,"",null,null,null,null,null,"",null,null,null,null,null,"",null,null,null,null,null,"",null,null,null,null,null,"",null,null,null,null,null,"",null,null,null,null,null,"",null,null,null,null,null,"",null,null,null,null,null,""]
[null,null,null,null,null,"",null,null,null,null,null,"",null,null,null,null,null,"",null,null,null,null,null,"",null,null,null,null,null,"",null,null,null,null,null,"",null,null,null,null,null,"",null,null,null,null,null,"",null,null,null,null,null,"",null,null,null,null,null,"",null,null,null,null,null,"",null,null,null,null,null,"",null,null,null,null,null,"",null,null,null,null,null,"",null,null,null,null,null,"",null,null,null,null,null,"",null,null,null,null,null,"",null,null,null,null,null,"",null,null,null,null,null,"",null,null,null,null,null,"",null,null,null,null,null,"",null,null,null,null,null,"",null,null,null,null,null,"",null,null,null,null,null,"",null,null,null,null,null,"",null,null,null,null,null,"",null,null,null,null,null,"",null,null,null,null,null,"",null,null,null,null,null,"",null,null,null,null,null,"",null,null,null,null,null,"",null,null,null,null,null,"",null,null,null,null,null,"",null,null,null,null,null,"",null,null,null,null,null,"",null,null,null,null,null,"",null,null,null,null,null,"",null,null,null,null,null,"",null,null,null,null,null,"",null,null,null,null,null,""]
[null,null,null,null,null,"",null,null,null,null,null,"",null,null,null,null,null,"",null,null,null,null,null,"",null,null,null,null,null,"",null,null,null,null,null,"",null,null,null,null,null,"",null,null,null,null,null,"",null,null,null,null,null,"",null,null,null,null,null,"",null,null,null,null,null,"",null,null,null,null,null,"",null,null,null,null,null,"",null,null,null,null,null,"",null,null,null,null,null,"",null,null,null,null,null,"",null,null,null,null,null,"",null,null,null,null,null,"",null,null,null,null,null,"",null,null,null,null,null,"",null,null,null,null,null,"",null,null,null,null,null,"",null,null,null,null,null,"",null,null,null,null,null,"",null,null,null,null,null,"",null,null,null,null,null,"",null,null,null,null,null,"",null,null,null,null,null,"",null,null,null,null,null,"",null,null,null,null,null,"",null,null,null,null,null,"",null,null,null,null,null,"",null,null,null,null,null,"",null,null,null,null,null,"",null,null,null,null,null,"",null,null,null,null,null,"",null,null,null,null,null,"",null,null,null,null,null,"",null,null,null,null,null,"",null,null,null,null,null,""]
[null,null,null,null,null,"",null,null,null,null,null,"",null,null,null,null,null,"",null,null,null,null,null,"",null,null,null,null,null,"",null,null,null,null,null,"",null,null,null,null,null,"",null,null,null,null,null,"",null,null,null,null,null,"",null,null,null,null,null,"",null,null,null,null,null,"",null,null,null,null,null,"",null,null,null,null,null,"",null,null,null,null,null,"",null,null,null,null,null,"",null,null,null,null,null,"",null,null,null,null,null,"",null,null,null,null,null,"",null,null,null,null,null,"",null,null,null,null,null,"",null,null,null,null,null,"",null,null,null,null,null,"",null,null,null,null,null,"",null,null,null,null,null,"",null,null,null,null,null,"",null,null,null,null,null,"",null,null,null,null,null,"",null,null,null,null,null,"",null,null,null,null,null,"",null,null,null,null,null,"",null,null,null,null,null,"",null,null,null,null,null,"",null,null,null,null,null,"",null,null,null,null,null,"",null,null,null,null,null,"",null,null,null,null,null,"",null,null,null,null,null,"",null,null,null,null,null,"",null,null,null,null,null,"",null,null,null,null,null,""]
[null,null,null,null,null,"",null,null,null,null,null,"",null,null,null,null,null,"",null,null,null,null,null,"",null,null,null,null,null,"",null,null,null,null,null,"",null,null,null,null,null,"",null,null,null,null,null,"",null,null,null,null,null,"",null,null,null,null,null,"",null,null,null,null,null,"",null,null,null,null,null,"",null,null,null,null,null,"",null,null,null,null,null,"",null,null,null,null,null,"",null,null,null,null,null,"",null,null,null,null,null,"",null,null,null,null,null,"",null,null,null,null,null,"",null,null,null,null,null,"",null,null,null,null,null,"",null,null,null,null,null,"",null,null,null,null,null,"",null,null,null,null,null,"",null,null,null,null,null,"",null,null,null,null,null,"",null,null,null,null,null,"",null,null,null,null,null,"",null,null,null,null,null,"",null,null,null,null,null,"",null,null,null,null,null,"",null,null,null,null,null,"",null,null,null,null,null,"",null,null,null,null,null,"",null,null,null,null,null,"",null,null,null,null,null,"",null,null,null,null,null,"",null,null,null,null,null,"",null,null,null,null,null,"",null,null,null,null,null,""]
[null,null,null,null,null,"",null,null,null,null,null,"",null,null,null,null,null,"",null,null,null,null,null,"",null,null,null,null,null,"",null,null,null,null,null,"",null,null,null,null,null,"",null,null,null,null,null,"",null,null,null,null,null,"",null,null,null,null,null,"",null,null,null,null,null,"",null,null,null,null,null,"",null,null,null,null,null,"",null,null,null,null,null,"",null,null,null,null,null,"",null,null,null,null,null,"",null,null,null,null,null,"",null,null,null,null,null,"",null,null,null,null,null,"",null,null,null,null,null,"",null,null,null,null,null,"",null,null,null,null,null,"",null,null,null,null,null,"",null,null,null,null,null,"",null,null,null,null,null,"",null,null,null,null,null,"",null,null,null,null,null,"",null,null,null,null,null,"",null,null,null,null,null,"",null,null,null,null,null,"",null,null,null,null,null,"",null,null,null,null,null,"",null,null,null,null,null,"",null,null,null,null,null,"",null,null,null,null,null,"",null,null,null,null,null,"",null,null,null,null,null,"",null,null,null,null,null,"",null,null,null,null,null,"",null,null,null,null,null,""]
[null,null,null,null,null,"",null,null,null,null,null,"",null,null,null,null,null,"",null,null,null,null,null,"",null,null,null,null,null,"",null,null,null,null,null,"",null,null,null,null,null,"",null,null,null,null,null,"",null,null,null,null,null,"",null,null,null,null,null,"",null,null,null,null,null,"",null,null,null,null,null,"",null,null,null,null,null,"",null,null,null,null,null,"",null,null,null,null,null,"",null,null,null,null,null,"",null,null,null,null,null,"",null,null,null,null,null,"",null,null,null,null,null,"",null,null,null,null,null,"",null,null,null,null,null,"",null,null,null,null,null,"",null,null,null,null,null,"",null,null,null,null,null,"",null,null,null,null,null,"",null,null,null,null,null,"",null,null,null,null,null,"",null,null,null,null,null,"",null,null,null,null,null,"",null,null,null,null,null,"",null,null,null,null,null,"",null,null,null,null,null,"",null,null,null,null,null,"",null,null,null,null,null,"",null,null,null,null,null,"",null,null,null,null,null,"",null,null,null,null,null,"",null,null,null,null,null,"",null,null,null,null,null,"",null,null,null,null,null,""]
[null,null,null,null,null,"",null,null,null,null,null,"",null,null,null,null,null,"",null,null,null,null,null,"",null,null,null,null,null,"",null,null,null,null,null,"",null,null,null,null,null,"",null,null,null,null,null,"",null,null,null,null,null,"",null,null,null,null,null,"",null,null,null,null,null,"",null,null,null,null,null,"",null,null,null,null,null,"",null,null,null,null,null,"",null,null,null,null,null,"",null,null,null,null,null,"",null,null,null,null,null,"",null,null,null,null,null,"",null,null,null,null,null,"",null,null,null,null,null,"",null,null,null,null,null,"",null,null,null,null,null,"",null,null,null,null,null,"",null,null,null,null,null,"",null,null,null,null,null,"",null,null,null,null,null,"",null,null,null,null,null,"",null,null,null,null,null,"",null,null,null,null,null,"",null,null,null,null,null,"",null,null,null,null,null,"",null,null,null,null,null,"",null,null,null,null,null,"",null,null,null,null,null,"",null,null,null,null,null,"",null,null,null,null,null,"",null,null,null,null,null,"",null,null,null,null,null,"",null,null,null,null,null,"",null,null,null,null,null,""]
[null,null,null,null,null,"",null,null,null,null,null,"",null,null,null,null,null,"",null,null,null,null,null,"",null,null,null,null,null,"",null,null,null,null,null,"",null,null,null,null,null,"",null,null,null,null,null,"",null,null,null,null,null,"",null,null,null,null,null,"",null,null,null,null,null,"",null,null,null,null,null,"",null,null,null,null,null,"",null,null,null,null,null,"",null,null,null,null,null,"",null,null,null,null,null,"",null,null,null,null,null,"",null,null,null,null,null,"",null,null,null,null,null,"",null,null,null,null,null,"",null,null,null,null,null,"",null,null,null,null,null,"",null,null,null,null,null,"",null,null,null,null,null,"",null,null,null,null,null,"",null,null,null,null,null,"",null,null,null,null,null,"",null,null,null,null,null,"",null,null,null,null,null,"",null,null,null,null,null,"",null,null,null,null,null,"",null,null,null,null,null,"",null,null,null,null,null,"",null,null,null,null,null,"",null,null,null,null,null,"",null,null,null,null,null,"",null,null,null,null,null,"",null,null,null,null,null,"",null,null,null,null,null,"",null,null,null,null,null,""]
[null,null,null,null,null,"",null,null,null,null,null,"",null,null,null,null,null,"",null,null,null,null,null,"",null,null,null,null,null,"",null,null,null,null,null,"",null,null,null,null,null,"",null,null,null,null,null,"",null,null,null,null,null,"",null,null,null,null,null,"",null,null,null,null,null,"",null,null,null,null,null,"",null,null,null,null,null,"",null,null,null,null,null,"",null,null,null,null,null,"",null,null,null,null,null,"",null,null,null,null,null,"",null,null,null,null,null,"",null,null,null,null,null,"",null,null,null,null,null,"",null,null,null,null,null,"",null,null,null,null,null,"",null,null,null,null,null,"",null,null,null,null,null,"",null,null,null,null,null,"",null,null,null,null,null,"",null,null,null,null,null,"",null,null,null,null,null,"",null,null,null,null,null,"",null,null,null,null,null,"",null,null,null,null,null,"",null,null,null,null,null,"",null,null,null,null,null,"",null,null,null,null,null,"",null,null,null,null,null,"",null,null,null,null,null,"",null,null,null,null,null,"",null,null,null,null,null,"",null,null,null,null,null,"",null,null,null,null,null,""]
[null,null,null,null,null,"",null,null,null,null,null,"",null,null,null,null,null,"",null,null,null,null,null,"",null,null,null,null,null,"",null,null,null,null,null,"",null,null,null,null,null,"",null,null,null,null,null,"",null,null,null,null,null,"",null,null,null,null,null,"",null,null,null,null,null,"",null,null,null,null,null,"",null,null,null,null,null,"",null,null,null,null,null,"",null,null,null,null,null,"",null,null,null,null,null,"",null,null,null,null,null,"",null,null,null,null,null,"",null,null,null,null,null,"",null,null,null,null,null,"",null,null,null,null,null,"",null,null,null,null,null,"",null,null,null,null,null,"",null,null,null,null,null,"",null,null,null,null,null,"",null,null,null,null,null,"",null,null,null,null,null,"",null,null,null,null,null,"",null,null,null,null,null,"",null,null,null,null,null,"",null,null,null,null,null,"",null,null,null,null,null,"",null,null,null,null,null,"",null,null,null,null,null,"",null,null,null,null,null,"",null,null,null,null,null,"",null,null,null,null,null,"",null,null,null,null,null,"",null,null,null,null,null,"",null,null,null,null,null,""]
[null,null,null,null,null,"",null,null,null,null,null,"",null,null,null,null,null,"",null,null,null,null,null,"",null,null,null,null,null,"",null,null,null,null,null,"",null,null,null,null,null,"",null,null,null,null,null,"",null,null,null,null,null,"",null,null,null,null,null,"",null,null,null,null,null,"",null,null,null,null,null,"",null,null,null,null,null,"",null,null,null,null,null,"",null,null,null,null,null,"",null,null,null,null,null,"",null,null,null,null,null,"",null,null,null,null,null,"",null,null,null,null,null,"",null,null,null,null,null,"",null,null,null,null,null,"",null,null,null,null,null,"",null,null,null,null,null,"",null,null,null,null,null,"",null,null,null,null,null,"",null,null,null,null,null,"",null,null,null,null,null,"",null,null,null,null,null,"",null,null,null,null,null,"",null,null,null,null,null,"",null,null,null,null,null,"",null,null,null,null,null,"",null,null,null,null,null,"",null,null,null,null,null,"",null,null,null,null,null,"",null,null,null,null,null,"",null,null,null,null,null,"",null,null,null,null,null,"",null,null,null,null,null,"",null,null,null,null,null,""]
[null,null,null,null,null,"",null,null,null,null,null,"",null,null,null,null,null,"",null,null,null,null,null,"",null,null,null,null,null,"",null,null,null,null,null,"",null,null,null,null,null,"",null,null,null,null,null,"",null,null,null,null,null,"",null,null,null,null,null,"",null,null,null,null,null,"",null,null,null,null,null,"",null,null,null,null,null,"",null,null,null,null,null,"",null,null,null,null,null,"",null,null,null,null,null,"",null,null,null,null,null,"",null,null,null,null,null,"",null,null,null,null,null,"",null,null,null,null,null,"",null,null,null,null,null,"",null,null,null,null,null,"",null,null,null,null,null,"",null,null,null,null,null,"",null,null,null,null,null,"",null,null,null,null,null,"",null,null,null,null,null,"",null,null,null,null,null,"",null,null,null,null,null,"",null,null,null,null,null,"",null,null,null,null,null,"",null,null,null,null,null,"",null,null,null,null,null,"",null,null,null,null,null,"",null,null,null,null,null,"",null,null,null,null,null,"",null,null,null,null,null,"",null,null,null,null,null,"",null,null,null,null,null,"",null,null,null,null,null,""]
[null,null,null,null,null,"",null,null,null,null,null,"",null,null,null,null,null,"",null,null,null,null,null,"",null,null,null,null,null,"",null,null,null,null,null,"",null,null,null,null,null,"",null,null,null,null,null,"",null,null,null,null,null,"",null,null,null,null,null,"",null,null,null,null,null,"",null,null,null,null,null,"",null,null,null,null,null,"",null,null,null,null,null,"",null,null,null,null,null,"",null,null,null,null,null,"",null,null,null,null,null,"",null,null,null,null,null,"",null,null,null,null,null,"",null,null,null,null,null,"",null,null,null,null,null,"",null,null,null,null,null,"",null,null,null,null,null,"",null,null,null,null,null,"",null,null,null,null,null,"",null,null,null,null,null,"",null,null,null,null,null,"",null,null,null,null,null,"",null,null,null,null,null,"",null,null,null,null,null,"",null,null,null,null,null,"",null,null,null,null,null,"",null,null,null,null,null,"",null,null,null,null,null,"",null,null,null,null,null,"",null,null,null,null,null,"",null,null,null,null,null,"",null,null,null,null,null,"",null,null,null,null,null,"",null,null,null,null,null,""]
[null,null,null,null,null,"",null,null,null,null,null,"",null,null,null,null,null,"",null,null,null,null,null,"",null,null,null,null,null,"",null,null,null,null,null,"",null,null,null,null,null,"",null,null,null,null,null,"",null,null,null,null,null,"",null,null,null,null,null,"",null,null,null,null,null,"",null,null,null,null,null,"",null,null,null,null,null,"",null,null,null,null,null,"",null,null,null,null,null,"",null,null,null,null,null,"",null,null,null,null,null,"",null,null,null,null,null,"",null,null,null,null,null,"",null,null,null,null,null,"",null,null,null,null,null,"",null,null,null,null,null,"",null,null,null,null,null,"",null,null,null,null,null,"",null,null,null,null,null,"",null,null,null,null,null,"",null,null,null,null,null,"",null,null,null,null,null,"",null,null,null,null,null,"",null,null,null,null,null,"",null,null,null,null,null,"",null,null,null,null,null,"",null,null,null,null,null,"",null,null,null,null,null,"",null,null,null,null,null,"",null,null,null,null,null,"",null,null,null,null,null,"",null,null,null,null,null,"",null,null,null,null,null,"",null,null,null,null,null,""]
[null,null,null,null,null,"",null,null,null,null,null,"",null,null,null,null,null,"",null,null,null,null,null,"",null,null,null,null,null,"",null,null,null,null,null,"",null,null,null,null,null,"",null,null,null,null,null,"",null,null,null,null,null,"",null,null,null,null,null,"",null,null,null,null,null,"",null,null,null,null,null,"",null,null,null,null,null,"",null,null,null,null,null,"",null,null,null,null,null,"",null,null,null,null,null,"",null,null,null,null,null,"",null,null,null,null,null,"",null,null,null,null,null,"",null,null,null,null,null,"",null,null,null,null,null,"",null,null,null,null,null,"",null,null,null,null,null,"",null,null,null,null,null,"",null,null,null,null,null,"",null,null,null,null,null,"",null,null,null,null,null,"",null,null,null,null,null,"",null,null,null,null,null,"",null,null,null,null,null,"",null,null,null,null,null,"",null,null,null,null,null,"",null,null,null,null,null,"",null,null,null,null,null,"",null,null,null,null,null,"",null,null,null,null,null,"",null,null,null,null,null,"",null,null,null,null,null,"",null,null,null,null,null,"",null,null,null,null,null,""]
[null,null,null,null,null,"",null,null,null,null,null,"",null,null,null,null,null,"",null,null,null,null,null,"",null,null,null,null,null,"",null,null,null,null,null,"",null,null,null,null,null,"",null,null,null,null,null,"",null,null,null,null,null,"",null,null,null,null,null,"",null,null,null,null,null,"",null,null,null,null,null,"",null,null,null,null,null,"",null,null,null,null,null,"",null,null,null,null,null,"",null,null,null,null,null,"",null,null,null,null,null,"",null,null,null,null,null,"",null,null,null,null,null,"",null,null,null,null,null,"",null,null,null,null,null,"",null,null,null,null,null,"",null,null,null,null,null,"",null,null,null,null,null,"",null,null,null,null,null,"",null,null,null,null,null,"",null,null,null,null,null,"",null,null,null,null,null,"",null,null,null,null,null,"",null,null,null,null,null,"",null,null,null,null,null,"",null,null,null,null,null,"",null,null,null,null,null,"",null,null,null,null,null,"",null,null,null,null,null,"",null,null,null,null,null,"",null,null,null,null,null,"",null,null,null,null,null,"",null,null,null,null,null,"",null,null,null,null,null,""]
[null,null,null,null,null,"",null,null,null,null,null,"",null,null,null,null,null,"",null,null,null,null,null,"",null,null,null,null,null,"",null,null,null,null,null,"",null,null,null,null,null,"",null,null,null,null,null,"",null,null,null,null,null,"",null,null,null,null,null,"",null,null,null,null,null,"",null,null,null,null,null,"",null,null,null,null,null,"",null,null,null,null,null,"",null,null,null,null,null,"",null,null,null,null,null,"",null,null,null,null,null,"",null,null,null,null,null,"",null,null,null,null,null,"",null,null,null,null,null,"",null,null,null,null,null,"",null,null,null,null,null,"",null,null,null,null,null,"",null,null,null,null,null,"",null,null,null,null,null,"",null,null,null,null,null,"",null,null,null,null,null,"",null,null,null,null,null,"",null,null,null,null,null,"",null,null,null,null,null,"",null,null,null,null,null,"",null,null,null,null,null,"",null,null,null,null,null,"",null,null,null,null,null,"",null,null,null,null,null,"",null,null,null,null,null,"",null,null,null,null,null,"",null,null,null,null,null,"",null,null,null,null,null,"",null,null,null,null,null,""]
[null,null,null,null,null,"",null,null,null,null,null,"",null,null,null,null,null,"",null,null,null,null,null,"",null,null,null,null,null,"",null,null,null,null,null,"",null,null,null,null,null,"",null,null,null,null,null,"",null,null,null,null,null,"",null,null,null,null,null,"",null,null,null,null,null,"",null,null,null,null,null,"",null,null,null,null,null,"",null,null,null,null,null,"",null,null,null,null,null,"",null,null,null,null,null,"",null,null,null,null,null,"",null,null,null,null,null,"",null,null,null,null,null,"",null,null,null,null,null,"",null,null,null,null,null,"",null,null,null,null,null,"",null,null,null,null,null,"",null,null,null,null,null,"",null,null,null,null,null,"",null,null,null,null,null,"",null,null,null,null,null,"",null,null,null,null,null,"",null,null,null,null,null,"",null,null,null,null,null,"",null,null,null,null,null,"",null,null,null,null,null,"",null,null,null,null,null,"",null,null,null,null,null,"",null,null,null,null,null,"",null,null,null,null,null,"",null,null,null,null,null,"",null,null,null,null,null,"",null,null,null,null,null,"",null,null,null,null,null,""]
[null,null,null,null,null,"",null,null,null,null,null,"",null,null,null,null,null,"",null,null,null,null,null,"",null,null,null,null,null,"",null,null,null,null,null,"",null,null,null,null,null,"",null,null,null,null,null,"",null,null,null,null,null,"",null,null,null,null,null,"",null,null,null,null,null,"",null,null,null,null,null,"",null,null,null,null,null,"",null,null,null,null,null,"",null,null,null,null,null,"",null,null,null,null,null,"",null,null,null,null,null,"",null,null,null,null,null,"",null,null,null,null,null,"",null,null,null,null,null,"",null,null,null,null,null,"",null,null,null,null,null,"",null,null,null,null,null,"",null,null,null,null,null,"",null,null,null,null,null,"",null,null,null,null,null,"",null,null,null,null,null,"",null,null,null,null,null,"",null,null,null,null,null,"",null,null,null,null,null,"",null,null,null,null,null,"",null,null,null,null,null,"",null,null,null,null,null,"",null,null,null,null,null,"",null,null,null,null,null,"",null,null,null,null,null,"",null,null,null,null,null,"",null,null,null,null,null,"",null,null,null,null,null,"",null,null,null,null,null,""]
[null,null,null,null,null,"",null,null,null,null,null,"",null,null,null,null,null,"",null,null,null,null,null,"",null,null,null,null,null,"",null,null,null,null,null,"",null,null,null,null,null,"",null,null,null,null,null,"",null,null,null,null,null,"",null,null,null,null,null,"",null,null,null,null,null,"",null,null,null,null,null,"",null,null,null,null,null,"",null,null,null,null,null,"",null,null,null,null,null,"",null,null,null,null,null,"",null,null,null,null,null,"",null,null,null,null,null,"",null,null,null,null,null,"",null,null,null,null,null,"",null,null,null,null,null,"",null,null,null,null,null,"",null,null,null,null,null,"",null,null,null,null,null,"",null,null,null,null,null,"",null,null,null,null,null,"",null,null,null,null,null,"",null,null,null,null,null,"",null,null,null,null,null,"",null,null,null,null,null,"",null,null,null,null,null,"",null,null,null,null,null,"",null,null,null,null,null,"",null,null,null,null,null,"",null,null,null,null,null,"",null,null,null,null,null,"",null,null,null,null,null,"",null,null,null,null,null,"",null,null,null,null,null,"",null,null,null,null,null,""]
[null,null,null,null,null,"",null,null,null,null,null,"",null,null,null,null,null,"",null,null,null,null,null,"",null,null,null,null,null,"",null,null,null,null,null,"",null,null,null,null,null,"",null,null,null,null,null,"",null,null,null,null,null,"",null,null,null,null,null,"",null,null,null,null,null,"",null,null,null,null,null,"",null,null,null,null,null,"",null,null,null,null,null,"",null,null,null,null,null,"",null,null,null,null,null,"",null,null,null,null,null,"",null,null,null,null,null,"",null,null,null,null,null,"",null,null,null,null,null,"",null,null,null,null,null,"",null,null,null,null,null,"",null,null,null,null,null,"",null,null,null,null,null,"",null,null,null,null,null,"",null,null,null,null,null,"",null,null,null,null,null,"",null,null,null,null,null,"",null,null,null,null,null,"",null,null,null,null,null,"",null,null,null,null,null,"",null,null,null,null,null,"",null,null,null,null,null,"",null,null,null,null,null,"",null,null,null,null,null,"",null,null,null,null,null,"",null,null,null,null,null,"",null,null,null,null,null,"",null,null,null,null,null,"",null,null,null,null,null,""]
[null,null,null,null,null,"",null,null,null,null,null,"",null,null,null,null,null,"",null,null,null,null,null,"",null,null,null,null,null,"",null,null,null,null,null,"",null,null,null,null,null,"",null,null,null,null,null,"",null,null,null,null,null,"",null,null,null,null,null,"",null,null,null,null,null,"",null,null,null,null,null,"",null,null,null,null,null,"",null,null,null,null,null,"",null,null,null,null,null,"",null,null,null,null,null,"",null,null,null,null,null,"",null,null,null,null,null,"",null,null,null,null,null,"",null,null,null,null,null,"",null,null,null,null,null,"",null,null,null,null,null,"",null,null,null,null,null,"",null,null,null,null,null,"",null,null,null,null,null,"",null,null,null,null,null,"",null,null,null,null,null,"",null,null,null,null,null,"",null,null,null,null,null,"",null,null,null,null,null,"",null,null,null,null,null,"",null,null,null,null,null,"",null,null,null,null,null,"",null,null,null,null,null,"",null,null,null,null,null,"",null,null,null,null,null,"",null,null,null,null,null,"",null,null,null,null,null,"",null,null,null,null,null,"",null,null,null,null,null,""]
[null,null,null,null,null,"",null,null,null,null,null,"",null,null,null,null,null,"",null,null,null,null,null,"",null,null,null,null,null,"",null,null,null,null,null,"",null,null,null,null,null,"",null,null,null,null,null,"",null,null,null,null,null,"",null,null,null,null,null,"",null,null,null,null,null,"",null,null,null,null,null,"",null,null,null,null,null,"",null,null,null,null,null,"",null,null,null,null,null,"",null,null,null,null,null,"",null,null,null,null,null,"",null,null,null,null,null,"",null,null,null,null,null,"",null,null,null,null,null,"",null,null,null,null,null,"",null,null,null,null,null,"",null,null,null,null,null,"",null,null,null,null,null,"",null,null,null,null,null,"",null,null,null,null,null,"",null,null,null,null,null,"",null,null,null,null,null,"",null,null,null,null,null,"",null,null,null,null,null,"",null,null,null,null,null,"",null,null,null,null,null,"",null,null,null,null,null,"",null,null,null,null,null,"",null,null,null,null,null,"",null,null,null,null,null,"",null,null,null,null,null,"",null,null,null,null,null,"",null,null,null,null,null,"",null,null,null,null,null,""]
[null,null,null,null,null,"",null,null,null,null,null,"",null,null,null,null,null,"",null,null,null,null,null,"",null,null,null,null,null,"",null,null,null,null,null,"",null,null,null,null,null,"",null,null,null,null,null,"",null,null,null,null,null,"",null,null,null,null,null,"",null,null,null,null,null,"",null,null,null,null,null,"",null,null,null,null,null,"",null,null,null,null,null,"",null,null,null,null,null,"",null,null,null,null,null,"",null,null,null,null,null,"",null,null,null,null,null,"",null,null,null,null,null,"",null,null,null,null,null,"",null,null,null,null,null,"",null,null,null,null,null,"",null,null,null,null,null,"",null,null,null,null,null,"",null,null,null,null,null,"",null,null,null,null,null,"",null,null,null,null,null,"",null,null,null,null,null,"",null,null,null,null,null,"",null,null,null,null,null,"",null,null,null,null,null,"",null,null,null,null,null,"",null,null,null,null,null,"",null,null,null,null,null,"",null,null,null,null,null,"",null,null,null,null,null,"",null,null,null,null,null,"",null,null,null,null,null,"",null,null,null,null,null,"",null,null,null,null,null,""]
[null,null,null,null,null,"",null,null,null,null,null,"",null,null,null,null,null,"",null,null,null,null,null,"",null,null,null,null,null,"",null,null,null,null,null,"",null,null,null,null,null,"",null,null,null,null,null,"",null,null,null,null,null,"",null,null,null,null,null,"",null,null,null,null,null,"",null,null,null,null,null,"",null,null,null,null,null,"",null,null,null,null,null,"",null,null,null,null,null,"",null,null,null,null,null,"",null,null,null,null,null,"",null,null,null,null,null,"",null,null,null,null,null,"",null,null,null,null,null,"",null,null,null,null,null,"",null,null,null,null,null,"",null,null,null,null,null,"",null,null,null,null,null,"",null,null,null,null,null,"",null,null,null,null,null,"",null,null,null,null,null,"",null,null,null,null,null,"",null,null,null,null,null,"",null,null,null,null,null,"",null,null,null,null,null,"",null,null,null,null,null,"",null,null,null,null,null,"",null,null,null,null,null,"",null,null,null,null,null,"",null,null,null,null,null,"",null,null,null,null,null,"",null,null,null,null,null,"",null,null,null,null,null,"",null,null,null,null,null,""]
[null,null,null,null,null,{"$f":"IF(A73=\"\",\"\",SUM(B73:E73))","v":""},null,null,null,null,null,{"$f":"IF(G73=\"\",\"\",SUM(H73:K73))","v":""},null,null,null,null,null,{"$f":"IF(M73=\"\",\"\",SUM(N73:Q73))","v":""},null,null,null,null,null,{"$f":"IF(S73=\"\",\"\",SUM(T73:W73))","v":""},null,null,null,null,null,{"$f":"IF(Y73=\"\",\"\",SUM(Z73:AC73))","v":""},null,null,null,null,null,{"$f":"IF(AE73=\"\",\"\",SUM(AF73:AI73))","v":""},null,null,null,null,null,{"$f":"IF(AK73=\"\",\"\",SUM(AL73:AO73))","v":""},null,null,null,null,null,{"$f":"IF(AQ73=\"\",\"\",SUM(AR73:AU73))","v":""},null,null,null,null,null,{"$f":"IF(AW73=\"\",\"\",SUM(AX73:BA73))","v":""},null,null,null,null,null,{"$f":"IF(BC73=\"\",\"\",SUM(BD73:BG73))","v":""},null,null,null,null,null,{"$f":"IF(BI73=\"\",\"\",SUM(BJ73:BM73))","v":""},null,null,null,null,null,{"$f":"IF(BO73=\"\",\"\",SUM(BP73:BS73))","v":""},null,null,null,null,null,{"$f":"IF(BU73=\"\",\"\",SUM(BV73:BY73))","v":""},null,null,null,null,null,{"$f":"IF(CA73=\"\",\"\",SUM(CB73:CE73))","v":""},null,null,null,null,null,{"$f":"IF(CG73=\"\",\"\",SUM(CH73:CK73))","v":""},null,null,null,null,null,{"$f":"IF(CM73=\"\",\"\",SUM(CN73:CQ73))","v":""},null,null,null,null,null,{"$f":"IF(CS73=\"\",\"\",SUM(CT73:CW73))","v":""},null,null,null,null,null,{"$f":"IF(CY73=\"\",\"\",SUM(CZ73:DC73))","v":""},null,null,null,null,null,{"$f":"IF(DE73=\"\",\"\",SUM(DF73:DI73))","v":""},null,null,null,null,null,{"$f":"IF(DK73=\"\",\"\",SUM(DL73:DO73))","v":""},null,null,null,null,null,{"$f":"IF(DQ73=\"\",\"\",SUM(DR73:DU73))","v":""},null,null,null,null,null,{"$f":"IF(DW73=\"\",\"\",SUM(DX73:EA73))","v":""},null,null,null,null,null,{"$f":"IF(EC73=\"\",\"\",SUM(ED73:EG73))","v":""},null,null,null,null,null,{"$f":"IF(EI73=\"\",\"\",SUM(EJ73:EM73))","v":""},null,null,null,null,null,{"$f":"IF(EO73=\"\",\"\",SUM(EP73:ES73))","v":""},null,null,null,null,null,{"$f":"IF(EU73=\"\",\"\",SUM(EV73:EY73))","v":""},null,null,null,null,null,{"$f":"IF(FA73=\"\",\"\",SUM(FB73:FE73))","v":""},null,null,null,null,null,{"$f":"IF(FG73=\"\",\"\",SUM(FH73:FK73))","v":""},null,null,null,null,null,{"$f":"IF(FM73=\"\",\"\",SUM(FN73:FQ73))","v":""},null,null,null,null,null,{"$f":"IF(FS73=\"\",\"\",SUM(FT73:FW73))","v":""},null,null,null,null,null,{"$f":"IF(FY73=\"\",\"\",SUM(FZ73:GC73))","v":""},null,null,null,null,null,{"$f":"IF(GE73=\"\",\"\",SUM(GF73:GI73))","v":""},null,null,null,null,null,{"$f":"IF(GK73=\"\",\"\",SUM(GL73:GO73))","v":""},null,null,null,null,null,{"$f":"IF(GQ73=\"\",\"\",SUM(GR73:GU73))","v":""},null,null,null,null,null,{"$f":"IF(GW73=\"\",\"\",SUM(GX73:HA73))","v":""},null,null,null,null,null,{"$f":"IF(HC73=\"\",\"\",SUM(HD73:HG73))","v":""},null,null,null,null,null,{"$f":"IF(HI73=\"\",\"\",SUM(HJ73:HM73))","v":""},null,null,null,null,null,{"$f":"IF(HO73=\"\",\"\",SUM(HP73:HS73))","v":""},null,null,null,null,null,{"$f":"IF(HU73=\"\",\"\",SUM(HV73:HY73))","v":""},null,null,null,null,null,{"$f":"IF(IA73=\"\",\"\",SUM(IB73:IE73))","v":""}]
[null,null,null,null,null,"",null,null,null,null,null,"",null,null,null,null,null,"",null,null,null,null,null,"",null,null,null,null,null,"",null,null,null,null,null,"",null,null,null,null,null,"",null,null,null,null,null,"",null,null,null,null,null,"",null,null,null,null,null,"",null,null,null,null,null,"",null,null,null,null,null,"",null,null,null,null,null,"",null,null,null,null,null,"",null,null,null,null,null,"",null,null,null,null,null,"",null,null,null,null,null,"",null,null,null,null,null,"",null,null,null,null,null,"",null,null,null,null,null,"",null,null,null,null,null,"",null,null,null,null,null,"",null,null,null,null,null,"",null,null,null,null,null,"",null,null,null,null,null,"",null,null,null,null,null,"",null,null,null,null,null,"",null,null,null,null,null,"",null,null,null,null,null,"",null,null,null,null,null,"",null,null,null,null,null,"",null,null,null,null,null,"",null,null,null,null,null,"",null,null,null,null,null,"",null,null,null,null,null,"",null,null,null,null,null,"",null,null,null,null,null,"",null,null,null,null,null,"",null,null,null,null,null,"",null,null,null,null,null,""]
[null,null,null,null,null,"",null,null,null,null,null,"",null,null,null,null,null,"",null,null,null,null,null,"",null,null,null,null,null,"",null,null,null,null,null,"",null,null,null,null,null,"",null,null,null,null,null,"",null,null,null,null,null,"",null,null,null,null,null,"",null,null,null,null,null,"",null,null,null,null,null,"",null,null,null,null,null,"",null,null,null,null,null,"",null,null,null,null,null,"",null,null,null,null,null,"",null,null,null,null,null,"",null,null,null,null,null,"",null,null,null,null,null,"",null,null,null,null,null,"",null,null,null,null,null,"",null,null,null,null,null,"",null,null,null,null,null,"",null,null,null,null,null,"",null,null,null,null,null,"",null,null,null,null,null,"",null,null,null,null,null,"",null,null,null,null,null,"",null,null,null,null,null,"",null,null,null,null,null,"",null,null,null,null,null,"",null,null,null,null,null,"",null,null,null,null,null,"",null,null,null,null,null,"",null,null,null,null,null,"",null,null,null,null,null,"",null,null,null,null,null,"",null,null,null,null,null,"",null,null,null,null,null,"",null,null,null,null,null,""]
[null,null,null,null,null,"",null,null,null,null,null,"",null,null,null,null,null,"",null,null,null,null,null,"",null,null,null,null,null,"",null,null,null,null,null,"",null,null,null,null,null,"",null,null,null,null,null,"",null,null,null,null,null,"",null,null,null,null,null,"",null,null,null,null,null,"",null,null,null,null,null,"",null,null,null,null,null,"",null,null,null,null,null,"",null,null,null,null,null,"",null,null,null,null,null,"",null,null,null,null,null,"",null,null,null,null,null,"",null,null,null,null,null,"",null,null,null,null,null,"",null,null,null,null,null,"",null,null,null,null,null,"",null,null,null,null,null,"",null,null,null,null,null,"",null,null,null,null,null,"",null,null,null,null,null,"",null,null,null,null,null,"",null,null,null,null,null,"",null,null,null,null,null,"",null,null,null,null,null,"",null,null,null,null,null,"",null,null,null,null,null,"",null,null,null,null,null,"",null,null,null,null,null,"",null,null,null,null,null,"",null,null,null,null,null,"",null,null,null,null,null,"",null,null,null,null,null,"",null,null,null,null,null,"",null,null,null,null,null,""]
[null,null,null,null,null,"",null,null,null,null,null,"",null,null,null,null,null,"",null,null,null,null,null,"",null,null,null,null,null,"",null,null,null,null,null,"",null,null,null,null,null,"",null,null,null,null,null,"",null,null,null,null,null,"",null,null,null,null,null,"",null,null,null,null,null,"",null,null,null,null,null,"",null,null,null,null,null,"",null,null,null,null,null,"",null,null,null,null,null,"",null,null,null,null,null,"",null,null,null,null,null,"",null,null,null,null,null,"",null,null,null,null,null,"",null,null,null,null,null,"",null,null,null,null,null,"",null,null,null,null,null,"",null,null,null,null,null,"",null,null,null,null,null,"",null,null,null,null,null,"",null,null,null,null,null,"",null,null,null,null,null,"",null,null,null,null,null,"",null,null,null,null,null,"",null,null,null,null,null,"",null,null,null,null,null,"",null,null,null,null,null,"",null,null,null,null,null,"",null,null,null,null,null,"",null,null,null,null,null,"",null,null,null,null,null,"",null,null,null,null,null,"",null,null,null,null,null,"",null,null,null,null,null,"",null,null,null,null,null,""]
[null,null,null,null,null,"",null,null,null,null,null,"",null,null,null,null,null,"",null,null,null,null,null,"",null,null,null,null,null,"",null,null,null,null,null,"",null,null,null,null,null,"",null,null,null,null,null,"",null,null,null,null,null,"",null,null,null,null,null,"",null,null,null,null,null,"",null,null,null,null,null,"",null,null,null,null,null,"",null,null,null,null,null,"",null,null,null,null,null,"",null,null,null,null,null,"",null,null,null,null,null,"",null,null,null,null,null,"",null,null,null,null,null,"",null,null,null,null,null,"",null,null,null,null,null,"",null,null,null,null,null,"",null,null,null,null,null,"",null,null,null,null,null,"",null,null,null,null,null,"",null,null,null,null,null,"",null,null,null,null,null,"",null,null,null,null,null,"",null,null,null,null,null,"",null,null,null,null,null,"",null,null,null,null,null,"",null,null,null,null,null,"",null,null,null,null,null,"",null,null,null,null,null,"",null,null,null,null,null,"",null,null,null,null,null,"",null,null,null,null,null,"",null,null,null,null,null,"",null,null,null,null,null,"",null,null,null,null,null,""]
[null,null,null,null,null,"",null,null,null,null,null,"",null,null,null,null,null,"",null,null,null,null,null,"",null,null,null,null,null,"",null,null,null,null,null,"",null,null,null,null,null,"",null,null,null,null,null,"",null,null,null,null,null,"",null,null,null,null,null,"",null,null,null,null,null,"",null,null,null,null,null,"",null,null,null,null,null,"",null,null,null,null,null,"",null,null,null,null,null,"",null,null,null,null,null,"",null,null,null,null,null,"",null,null,null,null,null,"",null,null,null,null,null,"",null,null,null,null,null,"",null,null,null,null,null,"",null,null,null,null,null,"",null,null,null,null,null,"",null,null,null,null,null,"",null,null,null,null,null,"",null,null,null,null,null,"",null,null,null,null,null,"",null,null,null,null,null,"",null,null,null,null,null,"",null,null,null,null,null,"",null,null,null,null,null,"",null,null,null,null,null,"",null,null,null,null,null,"",null,null,null,null,null,"",null,null,null,null,null,"",null,null,null,null,null,"",null,null,null,null,null,"",null,null,null,null,null,"",null,null,null,null,null,"",null,null,null,null,null,""]
[null,null,null,null,null,"",null,null,null,null,null,"",null,null,null,null,null,"",null,null,null,null,null,"",null,null,null,null,null,"",null,null,null,null,null,"",null,null,null,null,null,"",null,null,null,null,null,"",null,null,null,null,null,"",null,null,null,null,null,"",null,null,null,null,null,"",null,null,null,null,null,"",null,null,null,null,null,"",null,null,null,null,null,"",null,null,null,null,null,"",null,null,null,null,null,"",null,null,null,null,null,"",null,null,null,null,null,"",null,null,null,null,null,"",null,null,null,null,null,"",null,null,null,null,null,"",null,null,null,null,null,"",null,null,null,null,null,"",null,null,null,null,null,"",null,null,null,null,null,"",null,null,null,null,null,"",null,null,null,null,null,"",null,null,null,null,null,"",null,null,null,null,null,"",null,null,null,null,null,"",null,null,null,null,null,"",null,null,null,null,null,"",null,null,null,null,null,"",null,null,null,null,null,"",null,null,null,null,null,"",null,null,null,null,null,"",null,null,null,null,null,"",null,null,null,null,null,"",null,null,null,null,null,"",null,null,null,null,null,""]
[null,null,null,null,null,"",null,null,null,null,null,"",null,null,null,null,null,"",null,null,null,null,null,"",null,null,null,null,null,"",null,null,null,null,null,"",null,null,null,null,null,"",null,null,null,null,null,"",null,null,null,null,null,"",null,null,null,null,null,"",null,null,null,null,null,"",null,null,null,null,null,"",null,null,null,null,null,"",null,null,null,null,null,"",null,null,null,null,null,"",null,null,null,null,null,"",null,null,null,null,null,"",null,null,null,null,null,"",null,null,null,null,null,"",null,null,null,null,null,"",null,null,null,null,null,"",null,null,null,null,null,"",null,null,null,null,null,"",null,null,null,null,null,"",null,null,null,null,null,"",null,null,null,null,null,"",null,null,null,null,null,"",null,null,null,null,null,"",null,null,null,null,null,"",null,null,null,null,null,"",null,null,null,null,null,"",null,null,null,null,null,"",null,null,null,null,null,"",null,null,null,null,null,"",null,null,null,null,null,"",null,null,null,null,null,"",null,null,null,null,null,"",null,null,null,null,null,"",null,null,null,null,null,"",null,null,null,null,null,""]
[null,null,null,null,null,"",null,null,null,null,null,"",null,null,null,null,null,"",null,null,null,null,null,"",null,null,null,null,null,"",null,null,null,null,null,"",null,null,null,null,null,"",null,null,null,null,null,"",null,null,null,null,null,"",null,null,null,null,null,"",null,null,null,null,null,"",null,null,null,null,null,"",null,null,null,null,null,"",null,null,null,null,null,"",null,null,null,null,null,"",null,null,null,null,null,"",null,null,null,null,null,"",null,null,null,null,null,"",null,null,null,null,null,"",null,null,null,null,null,"",null,null,null,null,null,"",null,null,null,null,null,"",null,null,null,null,null,"",null,null,null,null,null,"",null,null,null,null,null,"",null,null,null,null,null,"",null,null,null,null,null,"",null,null,null,null,null,"",null,null,null,null,null,"",null,null,null,null,null,"",null,null,null,null,null,"",null,null,null,null,null,"",null,null,null,null,null,"",null,null,null,null,null,"",null,null,null,null,null,"",null,null,null,null,null,"",null,null,null,null,null,"",null,null,null,null,null,"",null,null,null,null,null,"",null,null,null,null,null,""]
[null,null,null,null,null,"",null,null,null,null,null,"",null,null,null,null,null,"",null,null,null,null,null,"",null,null,null,null,null,"",null,null,null,null,null,"",null,null,null,null,null,"",null,null,null,null,null,"",null,null,null,null,null,"",null,null,null,null,null,"",null,null,null,null,null,"",null,null,null,null,null,"",null,null,null,null,null,"",null,null,null,null,null,"",null,null,null,null,null,"",null,null,null,null,null,"",null,null,null,null,null,"",null,null,null,null,null,"",null,null,null,null,null,"",null,null,null,null,null,"",null,null,null,null,null,"",null,null,null,null,null,"",null,null,null,null,null,"",null,null,null,null,null,"",null,null,null,null,null,"",null,null,null,null,null,"",null,null,null,null,null,"",null,null,null,null,null,"",null,null,null,null,null,"",null,null,null,null,null,"",null,null,null,null,null,"",null,null,null,null,null,"",null,null,null,null,null,"",null,null,null,null,null,"",null,null,null,null,null,"",null,null,null,null,null,"",null,null,null,null,null,"",null,null,null,null,null,"",null,null,null,null,null,"",null,null,null,null,null,""]
[null,null,null,null,null,"",null,null,null,null,null,"",null,null,null,null,null,"",null,null,null,null,null,"",null,null,null,null,null,"",null,null,null,null,null,"",null,null,null,null,null,"",null,null,null,null,null,"",null,null,null,null,null,"",null,null,null,null,null,"",null,null,null,null,null,"",null,null,null,null,null,"",null,null,null,null,null,"",null,null,null,null,null,"",null,null,null,null,null,"",null,null,null,null,null,"",null,null,null,null,null,"",null,null,null,null,null,"",null,null,null,null,null,"",null,null,null,null,null,"",null,null,null,null,null,"",null,null,null,null,null,"",null,null,null,null,null,"",null,null,null,null,null,"",null,null,null,null,null,"",null,null,null,null,null,"",null,null,null,null,null,"",null,null,null,null,null,"",null,null,null,null,null,"",null,null,null,null,null,"",null,null,null,null,null,"",null,null,null,null,null,"",null,null,null,null,null,"",null,null,null,null,null,"",null,null,null,null,null,"",null,null,null,null,null,"",null,null,null,null,null,"",null,null,null,null,null,"",null,null,null,null,null,"",null,null,null,null,null,""]
[null,null,null,null,null,"",null,null,null,null,null,"",null,null,null,null,null,"",null,null,null,null,null,"",null,null,null,null,null,"",null,null,null,null,null,"",null,null,null,null,null,"",null,null,null,null,null,"",null,null,null,null,null,"",null,null,null,null,null,"",null,null,null,null,null,"",null,null,null,null,null,"",null,null,null,null,null,"",null,null,null,null,null,"",null,null,null,null,null,"",null,null,null,null,null,"",null,null,null,null,null,"",null,null,null,null,null,"",null,null,null,null,null,"",null,null,null,null,null,"",null,null,null,null,null,"",null,null,null,null,null,"",null,null,null,null,null,"",null,null,null,null,null,"",null,null,null,null,null,"",null,null,null,null,null,"",null,null,null,null,null,"",null,null,null,null,null,"",null,null,null,null,null,"",null,null,null,null,null,"",null,null,null,null,null,"",null,null,null,null,null,"",null,null,null,null,null,"",null,null,null,null,null,"",null,null,null,null,null,"",null,null,null,null,null,"",null,null,null,null,null,"",null,null,null,null,null,"",null,null,null,null,null,"",null,null,null,null,null,""]
[null,null,null,null,null,"",null,null,null,null,null,"",null,null,null,null,null,"",null,null,null,null,null,"",null,null,null,null,null,"",null,null,null,null,null,"",null,null,null,null,null,"",null,null,null,null,null,"",null,null,null,null,null,"",null,null,null,null,null,"",null,null,null,null,null,"",null,null,null,null,null,"",null,null,null,null,null,"",null,null,null,null,null,"",null,null,null,null,null,"",null,null,null,null,null,"",null,null,null,null,null,"",null,null,null,null,null,"",null,null,null,null,null,"",null,null,null,null,null,"",null,null,null,null,null,"",null,null,null,null,null,"",null,null,null,null,null,"",null,null,null,null,null,"",null,null,null,null,null,"",null,null,null,null,null,"",null,null,null,null,null,"",null,null,null,null,null,"",null,null,null,null,null,"",null,null,null,null,null,"",null,null,null,null,null,"",null,null,null,null,null,"",null,null,null,null,null,"",null,null,null,null,null,"",null,null,null,null,null,"",null,null,null,null,null,"",null,null,null,null,null,"",null,null,null,null,null,"",null,null,null,null,null,"",null,null,null,null,null,""]
[null,null,null,null,null,"",null,null,null,null,null,"",null,null,null,null,null,"",null,null,null,null,null,"",null,null,null,null,null,"",null,null,null,null,null,"",null,null,null,null,null,"",null,null,null,null,null,"",null,null,null,null,null,"",null,null,null,null,null,"",null,null,null,null,null,"",null,null,null,null,null,"",null,null,null,null,null,"",null,null,null,null,null,"",null,null,null,null,null,"",null,null,null,null,null,"",null,null,null,null,null,"",null,null,null,null,null,"",null,null,null,null,null,"",null,null,null,null,null,"",null,null,null,null,null,"",null,null,null,null,null,"",null,null,null,null,null,"",null,null,null,null,null,"",null,null,null,null,null,"",null,null,null,null,null,"",null,null,null,null,null,"",null,null,null,null,null,"",null,null,null,null,null,"",null,null,null,null,null,"",null,null,null,null,null,"",null,null,null,null,null,"",null,null,null,null,null,"",null,null,null,null,null,"",null,null,null,null,null,"",null,null,null,null,null,"",null,null,null,null,null,"",null,null,null,null,null,"",null,null,null,null,null,"",null,null,null,null,null,""]
[null,null,null,null,null,"",null,null,null,null,null,"",null,null,null,null,null,"",null,null,null,null,null,"",null,null,null,null,null,"",null,null,null,null,null,"",null,null,null,null,null,"",null,null,null,null,null,"",null,null,null,null,null,"",null,null,null,null,null,"",null,null,null,null,null,"",null,null,null,null,null,"",null,null,null,null,null,"",null,null,null,null,null,"",null,null,null,null,null,"",null,null,null,null,null,"",null,null,null,null,null,"",null,null,null,null,null,"",null,null,null,null,null,"",null,null,null,null,null,"",null,null,null,null,null,"",null,null,null,null,null,"",null,null,null,null,null,"",null,null,null,null,null,"",null,null,null,null,null,"",null,null,null,null,null,"",null,null,null,null,null,"",null,null,null,null,null,"",null,null,null,null,null,"",null,null,null,null,null,"",null,null,null,null,null,"",null,null,null,null,null,"",null,null,null,null,null,"",null,null,null,null,null,"",null,null,null,null,null,"",null,null,null,null,null,"",null,null,null,null,null,"",null,null,null,null,null,"",null,null,null,null,null,"",null,null,null,null,null,""]
[null,null,null,null,null,"",null,null,null,null,null,"",null,null,null,null,null,"",null,null,null,null,null,"",null,null,null,null,null,"",null,null,null,null,null,"",null,null,null,null,null,"",null,null,null,null,null,"",null,null,null,null,null,"",null,null,null,null,null,"",null,null,null,null,null,"",null,null,null,null,null,"",null,null,null,null,null,"",null,null,null,null,null,"",null,null,null,null,null,"",null,null,null,null,null,"",null,null,null,null,null,"",null,null,null,null,null,"",null,null,null,null,null,"",null,null,null,null,null,"",null,null,null,null,null,"",null,null,null,null,null,"",null,null,null,null,null,"",null,null,null,null,null,"",null,null,null,null,null,"",null,null,null,null,null,"",null,null,null,null,null,"",null,null,null,null,null,"",null,null,null,null,null,"",null,null,null,null,null,"",null,null,null,null,null,"",null,null,null,null,null,"",null,null,null,null,null,"",null,null,null,null,null,"",null,null,null,null,null,"",null,null,null,null,null,"",null,null,null,null,null,"",null,null,null,null,null,"",null,null,null,null,null,"",null,null,null,null,null,""]
[null,null,null,null,null,"",null,null,null,null,null,"",null,null,null,null,null,"",null,null,null,null,null,"",null,null,null,null,null,"",null,null,null,null,null,"",null,null,null,null,null,"",null,null,null,null,null,"",null,null,null,null,null,"",null,null,null,null,null,"",null,null,null,null,null,"",null,null,null,null,null,"",null,null,null,null,null,"",null,null,null,null,null,"",null,null,null,null,null,"",null,null,null,null,null,"",null,null,null,null,null,"",null,null,null,null,null,"",null,null,null,null,null,"",null,null,null,null,null,"",null,null,null,null,null,"",null,null,null,null,null,"",null,null,null,null,null,"",null,null,null,null,null,"",null,null,null,null,null,"",null,null,null,null,null,"",null,null,null,null,null,"",null,null,null,null,null,"",null,null,null,null,null,"",null,null,null,null,null,"",null,null,null,null,null,"",null,null,null,null,null,"",null,null,null,null,null,"",null,null,null,null,null,"",null,null,null,null,null,"",null,null,null,null,null,"",null,null,null,null,null,"",null,null,null,null,null,"",null,null,null,null,null,"",null,null,null,null,null,""]
[null,null,null,null,null,"",null,null,null,null,null,"",null,null,null,null,null,"",null,null,null,null,null,"",null,null,null,null,null,"",null,null,null,null,null,"",null,null,null,null,null,"",null,null,null,null,null,"",null,null,null,null,null,"",null,null,null,null,null,"",null,null,null,null,null,"",null,null,null,null,null,"",null,null,null,null,null,"",null,null,null,null,null,"",null,null,null,null,null,"",null,null,null,null,null,"",null,null,null,null,null,"",null,null,null,null,null,"",null,null,null,null,null,"",null,null,null,null,null,"",null,null,null,null,null,"",null,null,null,null,null,"",null,null,null,null,null,"",null,null,null,null,null,"",null,null,null,null,null,"",null,null,null,null,null,"",null,null,null,null,null,"",null,null,null,null,null,"",null,null,null,null,null,"",null,null,null,null,null,"",null,null,null,null,null,"",null,null,null,null,null,"",null,null,null,null,null,"",null,null,null,null,null,"",null,null,null,null,null,"",null,null,null,null,null,"",null,null,null,null,null,"",null,null,null,null,null,"",null,null,null,null,null,"",null,null,null,null,null,""]
[null,null,null,null,null,"",null,null,null,null,null,"",null,null,null,null,null,"",null,null,null,null,null,"",null,null,null,null,null,"",null,null,null,null,null,"",null,null,null,null,null,"",null,null,null,null,null,"",null,null,null,null,null,"",null,null,null,null,null,"",null,null,null,null,null,"",null,null,null,null,null,"",null,null,null,null,null,"",null,null,null,null,null,"",null,null,null,null,null,"",null,null,null,null,null,"",null,null,null,null,null,"",null,null,null,null,null,"",null,null,null,null,null,"",null,null,null,null,null,"",null,null,null,null,null,"",null,null,null,null,null,"",null,null,null,null,null,"",null,null,null,null,null,"",null,null,null,null,null,"",null,null,null,null,null,"",null,null,null,null,null,"",null,null,null,null,null,"",null,null,null,null,null,"",null,null,null,null,null,"",null,null,null,null,null,"",null,null,null,null,null,"",null,null,null,null,null,"",null,null,null,null,null,"",null,null,null,null,null,"",null,null,null,null,null,"",null,null,null,null,null,"",null,null,null,null,null,"",null,null,null,null,null,"",null,null,null,null,null,""]
[null,null,null,null,null,"",null,null,null,null,null,"",null,null,null,null,null,"",null,null,null,null,null,"",null,null,null,null,null,"",null,null,null,null,null,"",null,null,null,null,null,"",null,null,null,null,null,"",null,null,null,null,null,"",null,null,null,null,null,"",null,null,null,null,null,"",null,null,null,null,null,"",null,null,null,null,null,"",null,null,null,null,null,"",null,null,null,null,null,"",null,null,null,null,null,"",null,null,null,null,null,"",null,null,null,null,null,"",null,null,null,null,null,"",null,null,null,null,null,"",null,null,null,null,null,"",null,null,null,null,null,"",null,null,null,null,null,"",null,null,null,null,null,"",null,null,null,null,null,"",null,null,null,null,null,"",null,null,null,null,null,"",null,null,null,null,null,"",null,null,null,null,null,"",null,null,null,null,null,"",null,null,null,null,null,"",null,null,null,null,null,"",null,null,null,null,null,"",null,null,null,null,null,"",null,null,null,null,null,"",null,null,null,null,null,"",null,null,null,null,null,"",null,null,null,null,null,"",null,null,null,null,null,"",null,null,null,null,null,""]
[null,null,null,null,null,"",null,null,null,null,null,"",null,null,null,null,null,"",null,null,null,null,null,"",null,null,null,null,null,"",null,null,null,null,null,"",null,null,null,null,null,"",null,null,null,null,null,"",null,null,null,null,null,"",null,null,null,null,null,"",null,null,null,null,null,"",null,null,null,null,null,"",null,null,null,null,null,"",null,null,null,null,null,"",null,null,null,null,null,"",null,null,null,null,null,"",null,null,null,null,null,"",null,null,null,null,null,"",null,null,null,null,null,"",null,null,null,null,null,"",null,null,null,null,null,"",null,null,null,null,null,"",null,null,null,null,null,"",null,null,null,null,null,"",null,null,null,null,null,"",null,null,null,null,null,"",null,null,null,null,null,"",null,null,null,null,null,"",null,null,null,null,null,"",null,null,null,null,null,"",null,null,null,null,null,"",null,null,null,null,null,"",null,null,null,null,null,"",null,null,null,null,null,"",null,null,null,null,null,"",null,null,null,null,null,"",null,null,null,null,null,"",null,null,null,null,null,"",null,null,null,null,null,"",null,null,null,null,null,""]
[null,null,null,null,null,"",null,null,null,null,null,"",null,null,null,null,null,"",null,null,null,null,null,"",null,null,null,null,null,"",null,null,null,null,null,"",null,null,null,null,null,"",null,null,null,null,null,"",null,null,null,null,null,"",null,null,null,null,null,"",null,null,null,null,null,"",null,null,null,null,null,"",null,null,null,null,null,"",null,null,null,null,null,"",null,null,null,null,null,"",null,null,null,null,null,"",null,null,null,null,null,"",null,null,null,null,null,"",null,null,null,null,null,"",null,null,null,null,null,"",null,null,null,null,null,"",null,null,null,null,null,"",null,null,null,null,null,"",null,null,null,null,null,"",null,null,null,null,null,"",null,null,null,null,null,"",null,null,null,null,null,"",null,null,null,null,null,"",null,null,null,null,null,"",null,null,null,null,null,"",null,null,null,null,null,"",null,null,null,null,null,"",null,null,null,null,null,"",null,null,null,null,null,"",null,null,null,null,null,"",null,null,null,null,null,"",null,null,null,null,null,"",null,null,null,null,null,"",null,null,null,null,null,"",null,null,null,null,null,""]
[null,null,null,null,null,"",null,null,null,null,null,"",null,null,null,null,null,"",null,null,null,null,null,"",null,null,null,null,null,"",null,null,null,null,null,"",null,null,null,null,null,"",null,null,null,null,null,"",null,null,null,null,null,"",null,null,null,null,null,"",null,null,null,null,null,"",null,null,null,null,null,"",null,null,null,null,null,"",null,null,null,null,null,"",null,null,null,null,null,"",null,null,null,null,null,"",null,null,null,null,null,"",null,null,null,null,null,"",null,null,null,null,null,"",null,null,null,null,null,"",null,null,null,null,null,"",null,null,null,null,null,"",null,null,null,null,null,"",null,null,null,null,null,"",null,null,null,null,null,"",null,null,null,null,null,"",null,null,null,null,null,"",null,null,null,null,null,"",null,null,null,null,null,"",null,null,null,null,null,"",null,null,null,null,null,"",null,null,null,null,null,"",null,null,null,null,null,"",null,null,null,null,null,"",null,null,null,null,null,"",null,null,null,null,null,"",null,null,null,null,null,"",null,null,null,null,null,"",null,null,null,null,null,"",null,null,null,null,null,""]
[null,null,null,null,null,"",null,null,null,null,null,"",null,null,null,null,null,"",null,null,null,null,null,"",null,null,null,null,null,"",null,null,null,null,null,"",null,null,null,null,null,"",null,null,null,null,null,"",null,null,null,null,null,"",null,null,null,null,null,"",null,null,null,null,null,"",null,null,null,null,null,"",null,null,null,null,null,"",null,null,null,null,null,"",null,null,null,null,null,"",null,null,null,null,null,"",null,null,null,null,null,"",null,null,null,null,null,"",null,null,null,null,null,"",null,null,null,null,null,"",null,null,null,null,null,"",null,null,null,null,null,"",null,null,null,null,null,"",null,null,null,null,null,"",null,null,null,null,null,"",null,null,null,null,null,"",null,null,null,null,null,"",null,null,null,null,null,"",null,null,null,null,null,"",null,null,null,null,null,"",null,null,null,null,null,"",null,null,null,null,null,"",null,null,null,null,null,"",null,null,null,null,null,"",null,null,null,null,null,"",null,null,null,null,null,"",null,null,null,null,null,"",null,null,null,null,null,"",null,null,null,null,null,"",null,null,null,null,null,""]
[null,null,null,null,null,"",null,null,null,null,null,"",null,null,null,null,null,"",null,null,null,null,null,"",null,null,null,null,null,"",null,null,null,null,null,"",null,null,null,null,null,"",null,null,null,null,null,"",null,null,null,null,null,"",null,null,null,null,null,"",null,null,null,null,null,"",null,null,null,null,null,"",null,null,null,null,null,"",null,null,null,null,null,"",null,null,null,null,null,"",null,null,null,null,null,"",null,null,null,null,null,"",null,null,null,null,null,"",null,null,null,null,null,"",null,null,null,null,null,"",null,null,null,null,null,"",null,null,null,null,null,"",null,null,null,null,null,"",null,null,null,null,null,"",null,null,null,null,null,"",null,null,null,null,null,"",null,null,null,null,null,"",null,null,null,null,null,"",null,null,null,null,null,"",null,null,null,null,null,"",null,null,null,null,null,"",null,null,null,null,null,"",null,null,null,null,null,"",null,null,null,null,null,"",null,null,null,null,null,"",null,null,null,null,null,"",null,null,null,null,null,"",null,null,null,null,null,"",null,null,null,null,null,"",null,null,null,null,null,""]
[null,null,null,null,null,"",null,null,null,null,null,"",null,null,null,null,null,"",null,null,null,null,null,"",null,null,null,null,null,"",null,null,null,null,null,"",null,null,null,null,null,"",null,null,null,null,null,"",null,null,null,null,null,"",null,null,null,null,null,"",null,null,null,null,null,"",null,null,null,null,null,"",null,null,null,null,null,"",null,null,null,null,null,"",null,null,null,null,null,"",null,null,null,null,null,"",null,null,null,null,null,"",null,null,null,null,null,"",null,null,null,null,null,"",null,null,null,null,null,"",null,null,null,null,null,"",null,null,null,null,null,"",null,null,null,null,null,"",null,null,null,null,null,"",null,null,null,null,null,"",null,null,null,null,null,"",null,null,null,null,null,"",null,null,null,null,null,"",null,null,null,null,null,"",null,null,null,null,null,"",null,null,null,null,null,"",null,null,null,null,null,"",null,null,null,null,null,"",null,null,null,null,null,"",null,null,null,null,null,"",null,null,null,null,null,"",null,null,null,null,null,"",null,null,null,null,null,"",null,null,null,null,null,"",null,null,null,null,null,""]
[null,null,null,null,null,"",null,null,null,null,null,"",null,null,null,null,null,"",null,null,null,null,null,"",null,null,null,null,null,"",null,null,null,null,null,"",null,null,null,null,null,"",null,null,null,null,null,"",null,null,null,null,null,"",null,null,null,null,null,"",null,null,null,null,null,"",null,null,null,null,null,"",null,null,null,null,null,"",null,null,null,null,null,"",null,null,null,null,null,"",null,null,null,null,null,"",null,null,null,null,null,"",null,null,null,null,null,"",null,null,null,null,null,"",null,null,null,null,null,"",null,null,null,null,null,"",null,null,null,null,null,"",null,null,null,null,null,"",null,null,null,null,null,"",null,null,null,null,null,"",null,null,null,null,null,"",null,null,null,null,null,"",null,null,null,null,null,"",null,null,null,null,null,"",null,null,null,null,null,"",null,null,null,null,null,"",null,null,null,null,null,"",null,null,null,null,null,"",null,null,null,null,null,"",null,null,null,null,null,"",null,null,null,null,null,"",null,null,null,null,null,"",null,null,null,null,null,"",null,null,null,null,null,"",null,null,null,null,null,""]
[null,null,null,null,null,"",null,null,null,null,null,"",null,null,null,null,null,"",null,null,null,null,null,"",null,null,null,null,null,"",null,null,null,null,null,"",null,null,null,null,null,"",null,null,null,null,null,"",null,null,null,null,null,"",null,null,null,null,null,"",null,null,null,null,null,"",null,null,null,null,null,"",null,null,null,null,null,"",null,null,null,null,null,"",null,null,null,null,null,"",null,null,null,null,null,"",null,null,null,null,null,"",null,null,null,null,null,"",null,null,null,null,null,"",null,null,null,null,null,"",null,null,null,null,null,"",null,null,null,null,null,"",null,null,null,null,null,"",null,null,null,null,null,"",null,null,null,null,null,"",null,null,null,null,null,"",null,null,null,null,null,"",null,null,null,null,null,"",null,null,null,null,null,"",null,null,null,null,null,"",null,null,null,null,null,"",null,null,null,null,null,"",null,null,null,null,null,"",null,null,null,null,null,"",null,null,null,null,null,"",null,null,null,null,null,"",null,null,null,null,null,"",null,null,null,null,null,"",null,null,null,null,null,"",null,null,null,null,null,""]
[null,null,null,null,null,"",null,null,null,null,null,"",null,null,null,null,null,"",null,null,null,null,null,"",null,null,null,null,null,"",null,null,null,null,null,"",null,null,null,null,null,"",null,null,null,null,null,"",null,null,null,null,null,"",null,null,null,null,null,"",null,null,null,null,null,"",null,null,null,null,null,"",null,null,null,null,null,"",null,null,null,null,null,"",null,null,null,null,null,"",null,null,null,null,null,"",null,null,null,null,null,"",null,null,null,null,null,"",null,null,null,null,null,"",null,null,null,null,null,"",null,null,null,null,null,"",null,null,null,null,null,"",null,null,null,null,null,"",null,null,null,null,null,"",null,null,null,null,null,"",null,null,null,null,null,"",null,null,null,null,null,"",null,null,null,null,null,"",null,null,null,null,null,"",null,null,null,null,null,"",null,null,null,null,null,"",null,null,null,null,null,"",null,null,null,null,null,"",null,null,null,null,null,"",null,null,null,null,null,"",null,null,null,null,null,"",null,null,null,null,null,"",null,null,null,null,null,"",null,null,null,null,null,"",null,null,null,null,null,""]
[null,null,null,null,null,"",null,null,null,null,null,"",null,null,null,null,null,"",null,null,null,null,null,"",null,null,null,null,null,"",null,null,null,null,null,"",null,null,null,null,null,"",null,null,null,null,null,"",null,null,null,null,null,"",null,null,null,null,null,"",null,null,null,null,null,"",null,null,null,null,null,"",null,null,null,null,null,"",null,null,null,null,null,"",null,null,null,null,null,"",null,null,null,null,null,"",null,null,null,null,null,"",null,null,null,null,null,"",null,null,null,null,null,"",null,null,null,null,null,"",null,null,null,null,null,"",null,null,null,null,null,"",null,null,null,null,null,"",null,null,null,null,null,"",null,null,null,null,null,"",null,null,null,null,null,"",null,null,null,null,null,"",null,null,null,null,null,"",null,null,null,null,null,"",null,null,null,null,null,"",null,null,null,null,null,"",null,null,null,null,null,"",null,null,null,null,null,"",null,null,null,null,null,"",null,null,null,null,null,"",null,null,null,null,null,"",null,null,null,null,null,"",null,null,null,null,null,"",null,null,null,null,null,"",null,null,null,null,null,""]
[null,null,null,null,null,"",null,null,null,null,null,"",null,null,null,null,null,"",null,null,null,null,null,"",null,null,null,null,null,"",null,null,null,null,null,"",null,null,null,null,null,"",null,null,null,null,null,"",null,null,null,null,null,"",null,null,null,null,null,"",null,null,null,null,null,"",null,null,null,null,null,"",null,null,null,null,null,"",null,null,null,null,null,"",null,null,null,null,null,"",null,null,null,null,null,"",null,null,null,null,null,"",null,null,null,null,null,"",null,null,null,null,null,"",null,null,null,null,null,"",null,null,null,null,null,"",null,null,null,null,null,"",null,null,null,null,null,"",null,null,null,null,null,"",null,null,null,null,null,"",null,null,null,null,null,"",null,null,null,null,null,"",null,null,null,null,null,"",null,null,null,null,null,"",null,null,null,null,null,"",null,null,null,null,null,"",null,null,null,null,null,"",null,null,null,null,null,"",null,null,null,null,null,"",null,null,null,null,null,"",null,null,null,null,null,"",null,null,null,null,null,"",null,null,null,null,null,"",null,null,null,null,null,"",null,null,null,null,null,""]
[null,null,null,null,null,"",null,null,null,null,null,"",null,null,null,null,null,"",null,null,null,null,null,"",null,null,null,null,null,"",null,null,null,null,null,"",null,null,null,null,null,"",null,null,null,null,null,"",null,null,null,null,null,"",null,null,null,null,null,"",null,null,null,null,null,"",null,null,null,null,null,"",null,null,null,null,null,"",null,null,null,null,null,"",null,null,null,null,null,"",null,null,null,null,null,"",null,null,null,null,null,"",null,null,null,null,null,"",null,null,null,null,null,"",null,null,null,null,null,"",null,null,null,null,null,"",null,null,null,null,null,"",null,null,null,null,null,"",null,null,null,null,null,"",null,null,null,null,null,"",null,null,null,null,null,"",null,null,null,null,null,"",null,null,null,null,null,"",null,null,null,null,null,"",null,null,null,null,null,"",null,null,null,null,null,"",null,null,null,null,null,"",null,null,null,null,null,"",null,null,null,null,null,"",null,null,null,null,null,"",null,null,null,null,null,"",null,null,null,null,null,"",null,null,null,null,null,"",null,null,null,null,null,"",null,null,null,null,null,""]
[null,null,null,null,null,"",null,null,null,null,null,"",null,null,null,null,null,"",null,null,null,null,null,"",null,null,null,null,null,"",null,null,null,null,null,"",null,null,null,null,null,"",null,null,null,null,null,"",null,null,null,null,null,"",null,null,null,null,null,"",null,null,null,null,null,"",null,null,null,null,null,"",null,null,null,null,null,"",null,null,null,null,null,"",null,null,null,null,null,"",null,null,null,null,null,"",null,null,null,null,null,"",null,null,null,null,null,"",null,null,null,null,null,"",null,null,null,null,null,"",null,null,null,null,null,"",null,null,null,null,null,"",null,null,null,null,null,"",null,null,null,null,null,"",null,null,null,null,null,"",null,null,null,null,null,"",null,null,null,null,null,"",null,null,null,null,null,"",null,null,null,null,null,"",null,null,null,null,null,"",null,null,null,null,null,"",null,null,null,null,null,"",null,null,null,null,null,"",null,null,null,null,null,"",null,null,null,null,null,"",null,null,null,null,null,"",null,null,null,null,null,"",null,null,null,null,null,"",null,null,null,null,null,"",null,null,null,null,null,""]
[null,null,null,null,null,"",null,null,null,null,null,"",null,null,null,null,null,"",null,null,null,null,null,"",null,null,null,null,null,"",null,null,null,null,null,"",null,null,null,null,null,"",null,null,null,null,null,"",null,null,null,null,null,"",null,null,null,null,null,"",null,null,null,null,null,"",null,null,null,null,null,"",null,null,null,null,null,"",null,null,null,null,null,"",null,null,null,null,null,"",null,null,null,null,null,"",null,null,null,null,null,"",null,null,null,null,null,"",null,null,null,null,null,"",null,null,null,null,null,"",null,null,null,null,null,"",null,null,null,null,null,"",null,null,null,null,null,"",null,null,null,null,null,"",null,null,null,null,null,"",null,null,null,null,null,"",null,null,null,null,null,"",null,null,null,null,null,"",null,null,null,null,null,"",null,null,null,null,null,"",null,null,null,null,null,"",null,null,null,null,null,"",null,null,null,null,null,"",null,null,null,null,null,"",null,null,null,null,null,"",null,null,null,null,null,"",null,null,null,null,null,"",null,null,null,null,null,"",null,null,null,null,null,"",null,null,null,null,null,""]
[null,null,null,null,null,"",null,null,null,null,null,"",null,null,null,null,null,"",null,null,null,null,null,"",null,null,null,null,null,"",null,null,null,null,null,"",null,null,null,null,null,"",null,null,null,null,null,"",null,null,null,null,null,"",null,null,null,null,null,"",null,null,null,null,null,"",null,null,null,null,null,"",null,null,null,null,null,"",null,null,null,null,null,"",null,null,null,null,null,"",null,null,null,null,null,"",null,null,null,null,null,"",null,null,null,null,null,"",null,null,null,null,null,"",null,null,null,null,null,"",null,null,null,null,null,"",null,null,null,null,null,"",null,null,null,null,null,"",null,null,null,null,null,"",null,null,null,null,null,"",null,null,null,null,null,"",null,null,null,null,null,"",null,null,null,null,null,"",null,null,null,null,null,"",null,null,null,null,null,"",null,null,null,null,null,"",null,null,null,null,null,"",null,null,null,null,null,"",null,null,null,null,null,"",null,null,null,null,null,"",null,null,null,null,null,"",null,null,null,null,null,"",null,null,null,null,null,"",null,null,null,null,null,"",null,null,null,null,null,""]
[null,null,null,null,null,"",null,null,null,null,null,"",null,null,null,null,null,"",null,null,null,null,null,"",null,null,null,null,null,"",null,null,null,null,null,"",null,null,null,null,null,"",null,null,null,null,null,"",null,null,null,null,null,"",null,null,null,null,null,"",null,null,null,null,null,"",null,null,null,null,null,"",null,null,null,null,null,"",null,null,null,null,null,"",null,null,null,null,null,"",null,null,null,null,null,"",null,null,null,null,null,"",null,null,null,null,null,"",null,null,null,null,null,"",null,null,null,null,null,"",null,null,null,null,null,"",null,null,null,null,null,"",null,null,null,null,null,"",null,null,null,null,null,"",null,null,null,null,null,"",null,null,null,null,null,"",null,null,null,null,null,"",null,null,null,null,null,"",null,null,null,null,null,"",null,null,null,null,null,"",null,null,null,null,null,"",null,null,null,null,null,"",null,null,null,null,null,"",null,null,null,null,null,"",null,null,null,null,null,"",null,null,null,null,null,"",null,null,null,null,null,"",null,null,null,null,null,"",null,null,null,null,null,"",null,null,null,null,null,""]
[null,null,null,null,null,"",null,null,null,null,null,"",null,null,null,null,null,"",null,null,null,null,null,"",null,null,null,null,null,"",null,null,null,null,null,"",null,null,null,null,null,"",null,null,null,null,null,"",null,null,null,null,null,"",null,null,null,null,null,"",null,null,null,null,null,"",null,null,null,null,null,"",null,null,null,null,null,"",null,null,null,null,null,"",null,null,null,null,null,"",null,null,null,null,null,"",null,null,null,null,null,"",null,null,null,null,null,"",null,null,null,null,null,"",null,null,null,null,null,"",null,null,null,null,null,"",null,null,null,null,null,"",null,null,null,null,null,"",null,null,null,null,null,"",null,null,null,null,null,"",null,null,null,null,null,"",null,null,null,null,null,"",null,null,null,null,null,"",null,null,null,null,null,"",null,null,null,null,null,"",null,null,null,null,null,"",null,null,null,null,null,"",null,null,null,null,null,"",null,null,null,null,null,"",null,null,null,null,null,"",null,null,null,null,null,"",null,null,null,null,null,"",null,null,null,null,null,"",null,null,null,null,null,"",null,null,null,null,null,""]
[null,null,null,null,null,"",null,null,null,null,null,"",null,null,null,null,null,"",null,null,null,null,null,"",null,null,null,null,null,"",null,null,null,null,null,"",null,null,null,null,null,"",null,null,null,null,null,"",null,null,null,null,null,"",null,null,null,null,null,"",null,null,null,null,null,"",null,null,null,null,null,"",null,null,null,null,null,"",null,null,null,null,null,"",null,null,null,null,null,"",null,null,null,null,null,"",null,null,null,null,null,"",null,null,null,null,null,"",null,null,null,null,null,"",null,null,null,null,null,"",null,null,null,null,null,"",null,null,null,null,null,"",null,null,null,null,null,"",null,null,null,null,null,"",null,null,null,null,null,"",null,null,null,null,null,"",null,null,null,null,null,"",null,null,null,null,null,"",null,null,null,null,null,"",null,null,null,null,null,"",null,null,null,null,null,"",null,null,null,null,null,"",null,null,null,null,null,"",null,null,null,null,null,"",null,null,null,null,null,"",null,null,null,null,null,"",null,null,null,null,null,"",null,null,null,null,null,"",null,null,null,null,null,"",null,null,null,null,null,""]
[null,null,null,null,null,"",null,null,null,null,null,"",null,null,null,null,null,"",null,null,null,null,null,"",null,null,null,null,null,"",null,null,null,null,null,"",null,null,null,null,null,"",null,null,null,null,null,"",null,null,null,null,null,"",null,null,null,null,null,"",null,null,null,null,null,"",null,null,null,null,null,"",null,null,null,null,null,"",null,null,null,null,null,"",null,null,null,null,null,"",null,null,null,null,null,"",null,null,null,null,null,"",null,null,null,null,null,"",null,null,null,null,null,"",null,null,null,null,null,"",null,null,null,null,null,"",null,null,null,null,null,"",null,null,null,null,null,"",null,null,null,null,null,"",null,null,null,null,null,"",null,null,null,null,null,"",null,null,null,null,null,"",null,null,null,null,null,"",null,null,null,null,null,"",null,null,null,null,null,"",null,null,null,null,null,"",null,null,null,null,null,"",null,null,null,null,null,"",null,null,null,null,null,"",null,null,null,null,null,"",null,null,null,null,null,"",null,null,null,null,null,"",null,null,null,null,null,"",null,null,null,null,null,"",null,null,null,null,null,""]
[null,null,null,null,null,"",null,null,null,null,null,"",null,null,null,null,null,"",null,null,null,null,null,"",null,null,null,null,null,"",null,null,null,null,null,"",null,null,null,null,null,"",null,null,null,null,null,"",null,null,null,null,null,"",null,null,null,null,null,"",null,null,null,null,null,"",null,null,null,null,null,"",null,null,null,null,null,"",null,null,null,null,null,"",null,null,null,null,null,"",null,null,null,null,null,"",null,null,null,null,null,"",null,null,null,null,null,"",null,null,null,null,null,"",null,null,null,null,null,"",null,null,null,null,null,"",null,null,null,null,null,"",null,null,null,null,null,"",null,null,null,null,null,"",null,null,null,null,null,"",null,null,null,null,null,"",null,null,null,null,null,"",null,null,null,null,null,"",null,null,null,null,null,"",null,null,null,null,null,"",null,null,null,null,null,"",null,null,null,null,null,"",null,null,null,null,null,"",null,null,null,null,null,"",null,null,null,null,null,"",null,null,null,null,null,"",null,null,null,null,null,"",null,null,null,null,null,"",null,null,null,null,null,"",null,null,null,null,null,""]
[null,null,null,null,null,"",null,null,null,null,null,"",null,null,null,null,null,"",null,null,null,null,null,"",null,null,null,null,null,"",null,null,null,null,null,"",null,null,null,null,null,"",null,null,null,null,null,"",null,null,null,null,null,"",null,null,null,null,null,"",null,null,null,null,null,"",null,null,null,null,null,"",null,null,null,null,null,"",null,null,null,null,null,"",null,null,null,null,null,"",null,null,null,null,null,"",null,null,null,null,null,"",null,null,null,null,null,"",null,null,null,null,null,"",null,null,null,null,null,"",null,null,null,null,null,"",null,null,null,null,null,"",null,null,null,null,null,"",null,null,null,null,null,"",null,null,null,null,null,"",null,null,null,null,null,"",null,null,null,null,null,"",null,null,null,null,null,"",null,null,null,null,null,"",null,null,null,null,null,"",null,null,null,null,null,"",null,null,null,null,null,"",null,null,null,null,null,"",null,null,null,null,null,"",null,null,null,null,null,"",null,null,null,null,null,"",null,null,null,null,null,"",null,null,null,null,null,"",null,null,null,null,null,"",null,null,null,null,null,""]
[null,null,null,null,null,"",null,null,null,null,null,"",null,null,null,null,null,"",null,null,null,null,null,"",null,null,null,null,null,"",null,null,null,null,null,"",null,null,null,null,null,"",null,null,null,null,null,"",null,null,null,null,null,"",null,null,null,null,null,"",null,null,null,null,null,"",null,null,null,null,null,"",null,null,null,null,null,"",null,null,null,null,null,"",null,null,null,null,null,"",null,null,null,null,null,"",null,null,null,null,null,"",null,null,null,null,null,"",null,null,null,null,null,"",null,null,null,null,null,"",null,null,null,null,null,"",null,null,null,null,null,"",null,null,null,null,null,"",null,null,null,null,null,"",null,null,null,null,null,"",null,null,null,null,null,"",null,null,null,null,null,"",null,null,null,null,null,"",null,null,null,null,null,"",null,null,null,null,null,"",null,null,null,null,null,"",null,null,null,null,null,"",null,null,null,null,null,"",null,null,null,null,null,"",null,null,null,null,null,"",null,null,null,null,null,"",null,null,null,null,null,"",null,null,null,null,null,"",null,null,null,null,null,"",null,null,null,null,null,""]
[null,null,null,null,null,"",null,null,null,null,null,"",null,null,null,null,null,"",null,null,null,null,null,"",null,null,null,null,null,"",null,null,null,null,null,"",null,null,null,null,null,"",null,null,null,null,null,"",null,null,null,null,null,"",null,null,null,null,null,"",null,null,null,null,null,"",null,null,null,null,null,"",null,null,null,null,null,"",null,null,null,null,null,"",null,null,null,null,null,"",null,null,null,null,null,"",null,null,null,null,null,"",null,null,null,null,null,"",null,null,null,null,null,"",null,null,null,null,null,"",null,null,null,null,null,"",null,null,null,null,null,"",null,null,null,null,null,"",null,null,null,null,null,"",null,null,null,null,null,"",null,null,null,null,null,"",null,null,null,null,null,"",null,null,null,null,null,"",null,null,null,null,null,"",null,null,null,null,null,"",null,null,null,null,null,"",null,null,null,null,null,"",null,null,null,null,null,"",null,null,null,null,null,"",null,null,null,null,null,"",null,null,null,null,null,"",null,null,null,null,null,"",null,null,null,null,null,"",null,null,null,null,null,"",null,null,null,null,null,""]
[null,null,null,null,null,"",null,null,null,null,null,"",null,null,null,null,null,"",null,null,null,null,null,"",null,null,null,null,null,"",null,null,null,null,null,"",null,null,null,null,null,"",null,null,null,null,null,"",null,null,null,null,null,"",null,null,null,null,null,"",null,null,null,null,null,"",null,null,null,null,null,"",null,null,null,null,null,"",null,null,null,null,null,"",null,null,null,null,null,"",null,null,null,null,null,"",null,null,null,null,null,"",null,null,null,null,null,"",null,null,null,null,null,"",null,null,null,null,null,"",null,null,null,null,null,"",null,null,null,null,null,"",null,null,null,null,null,"",null,null,null,null,null,"",null,null,null,null,null,"",null,null,null,null,null,"",null,null,null,null,null,"",null,null,null,null,null,"",null,null,null,null,null,"",null,null,null,null,null,"",null,null,null,null,null,"",null,null,null,null,null,"",null,null,null,null,null,"",null,null,null,null,null,"",null,null,null,null,null,"",null,null,null,null,null,"",null,null,null,null,null,"",null,null,null,null,null,"",null,null,null,null,null,"",null,null,null,null,null,""]

{"sheet":"LG-AL-Sammler","index":6,"n_rows":83,"n_cols":15,"rows_kept":83,"cut":false,"hidden":false,"merged":[[2,9,4,11],[6,9,8,11]]}
["Name","Mittelwert","Bestes\nErgebnis","Schlechtestes\nErgebnis","Bester Ø \nEinzelschuss","Schlechtester\nØ Einzelschuss","Anzahl \nTeilnahmen","Summe\nEinzelergebnisse","Rang\n(nach Mittelwert)",null,null,null,"Name","Mittelwert","Hilfsspalte"]
[{"$f":"IF(Hauptmaske!E7=\"x\",Hauptmaske!A7,\"\")","v":"Testname"},{"$f":"'LG-Auflage'!E4","v":0},{"$f":"'LG-Auflage'!A4","v":0},{"$f":"'LG-Auflage'!A6","v":0},{"$f":"'LG-Auflage'!E6","v":0},{"$f":"'LG-Auflage'!F6","v":0},{"$f":"'LG-Auflage'!D4","v":1},{"$f":"IF('LG-Auflage'!B9=\"\",\"\",SUM('LG-Auflage'!F9:F117))","v":""},{"$f":"IF('LG-Auflage'!B9=\"\",\"\",RANK(B2,$B$2:$B$41))","v":""},null,null,null,{"$f":"IF(G2>=$K$6,A2,\"\")","v":"Testname"},{"$f":"IF(G2>=$K$6,B2,\"\")","v":0},{"$f":"IF(N2=\"\",\"\",N2-ROW()/1000000)","v":-1.9999999999999999E-6}]
[{"$f":"IF(Hauptmaske!E23=\"x\",Hauptmaske!A23,\"\")","v":""},{"$f":"'LG-Auflage'!CW4","v":""},{"$f":"'LG-Auflage'!CS4","v":""},{"$f":"'LG-Auflage'!CS6","v":""},{"$f":"'LG-Auflage'!CW6","v":""},{"$f":"'LG-Auflage'!CX6","v":""},{"$f":"'LG-Auflage'!CV4","v":""},{"$f":"IF('LG-Auflage'!CT9=\"\",\"\",SUM('LG-Auflage'!CX9:CX117))","v":""},{"$f":"IF('LG-Auflage'!CT9=\"\",\"\",RANK(B3,$B$2:$B$41))","v":""},"Anzahl der Mindestteilnahmen\nfür die Rangliste",null,null,{"$f":"IF(G3>=$K$6,A3,\"\")","v":""},{"$f":"IF(G3>=$K$6,B3,\"\")","v":""},{"$f":"IF(N3=\"\",\"\",N3-ROW()/1000000)","v":""}]
[{"$f":"IF(Hauptmaske!E10=\"x\",Hauptmaske!A10,\"\")","v":""},{"$f":"'LG-Auflage'!W4","v":""},{"$f":"'LG-Auflage'!S4","v":""},{"$f":"'LG-Auflage'!S6","v":""},{"$f":"'LG-Auflage'!W6","v":""},{"$f":"'LG-Auflage'!X6","v":""},{"$f":"'LG-Auflage'!V4","v":""},{"$f":"IF('LG-Auflage'!T9=\"\",\"\",SUM('LG-Auflage'!X9:X117))","v":""},{"$f":"IF('LG-Auflage'!T9=\"\",\"\",RANK(B4,$B$2:$B$41))","v":""},null,null,null,"","",""]
[{"$f":"IF(Hauptmaske!E9=\"x\",Hauptmaske!A9,\"\")","v":""},{"$f":"'LG-Auflage'!Q4","v":""},{"$f":"'LG-Auflage'!M4","v":""},{"$f":"'LG-Auflage'!M6","v":""},{"$f":"'LG-Auflage'!Q6","v":""},{"$f":"'LG-Auflage'!R6","v":""},{"$f":"'LG-Auflage'!P4","v":""},{"$f":"IF('LG-Auflage'!N9=\"\",\"\",SUM('LG-Auflage'!R9:R117))","v":""},{"$f":"IF('LG-Auflage'!N9=\"\",\"\",RANK(B5,$B$2:$B$41))","v":""},null,null,null,"","",""]
[{"$f":"IF(Hauptmaske!E8=\"x\",Hauptmaske!A8,\"\")","v":""},{"$f":"'LG-Auflage'!K4","v":""},{"$f":"'LG-Auflage'!G4","v":""},{"$f":"'LG-Auflage'!G6","v":""},{"$f":"'LG-Auflage'!K6","v":""},{"$f":"'LG-Auflage'!L6","v":""},{"$f":"'LG-Auflage'!J4","v":""},{"$f":"IF('LG-Auflage'!H9=\"\",\"\",SUM('LG-Auflage'!L9:L117))","v":""},{"$f":"IF('LG-Auflage'!H9=\"\",\"\",RANK(B6,$B$2:$B$41))","v":""},null,{"$f":"IF(Hauptmaske!L6=\"\",3,Hauptmaske!L6)","v":1},null,"","",""]
[{"$f":"IF(Hauptmaske!E11=\"x\",Hauptmaske!A11,\"\")","v":""},{"$f":"'LG-Auflage'!AC4","v":""},{"$f":"'LG-Auflage'!Y4","v":""},{"$f":"'LG-Auflage'!Y6","v":""},{"$f":"'LG-Auflage'!AC6","v":""},{"$f":"'LG-Auflage'!AD6","v":""},{"$f":"'LG-Auflage'!AB4","v":""},{"$f":"IF('LG-Auflage'!Z9=\"\",\"\",SUM('LG-Auflage'!AD9:AD117))","v":""},{"$f":"IF('LG-Auflage'!Z9=\"\",\"\",RANK(B7,$B$2:$B$41))","v":""},"LG-Auflage",null,null,"","",""]
[{"$f":"IF(Hauptmaske!E14=\"x\",Hauptmaske!A14,\"\")","v":""},{"$f":"'LG-Auflage'!AU4","v":""},{"$f":"'LG-Auflage'!AQ4","v":""},{"$f":"'LG-Auflage'!AQ6","v":""},{"$f":"'LG-Auflage'!AU6","v":""},{"$f":"'LG-Auflage'!AV6","v":""},{"$f":"'LG-Auflage'!AT4","v":""},{"$f":"IF('LG-Auflage'!AR9=\"\",\"\",SUM('LG-Auflage'!AV9:AV117))","v":""},{"$f":"IF('LG-Auflage'!AR9=\"\",\"\",RANK(B8,$B$2:$B$41))","v":""},null,null,null,"","",""]
[{"$f":"IF(Hauptmaske!E13=\"x\",Hauptmaske!A13,\"\")","v":""},{"$f":"'LG-Auflage'!AO4","v":""},{"$f":"'LG-Auflage'!AK4","v":""},{"$f":"'LG-Auflage'!AK6","v":""},{"$f":"'LG-Auflage'!AO6","v":""},{"$f":"'LG-Auflage'!AP6","v":""},{"$f":"'LG-Auflage'!AN4","v":""},{"$f":"IF('LG-Auflage'!AL9=\"\",\"\",SUM('LG-Auflage'!AP9:AP117))","v":""},{"$f":"IF('LG-Auflage'!AL9=\"\",\"\",RANK(B9,$B$2:$B$41))","v":""},null,null,null,"","",""]
[{"$f":"IF(Hauptmaske!E12=\"x\",Hauptmaske!A12,\"\")","v":""},{"$f":"'LG-Auflage'!AI4","v":""},{"$f":"'LG-Auflage'!AE4","v":""},{"$f":"'LG-Auflage'!AE6","v":""},{"$f":"'LG-Auflage'!AI6","v":""},{"$f":"'LG-Auflage'!AJ6","v":""},{"$f":"'LG-Auflage'!AH4","v":""},{"$f":"IF('LG-Auflage'!AF9=\"\",\"\",SUM('LG-Auflage'!AJ9:AJ117))","v":""},{"$f":"IF('LG-Auflage'!AF9=\"\",\"\",RANK(B10,$B$2:$B$41))","v":""},null,null,null,"","",""]
[{"$f":"IF(Hauptmaske!E15=\"x\",Hauptmaske!A15,\"\")","v":""},{"$f":"'LG-Auflage'!BA4","v":""},{"$f":"'LG-Auflage'!AW4","v":""},{"$f":"'LG-Auflage'!AW6","v":""},{"$f":"'LG-Auflage'!BA6","v":""},{"$f":"'LG-Auflage'!BB6","v":""},{"$f":"'LG-Auflage'!AZ4","v":""},{"$f":"IF('LG-Auflage'!AX9=\"\",\"\",SUM('LG-Auflage'!BB9:BB117))","v":""},{"$f":"IF('LG-Auflage'!AX9=\"\",\"\",RANK(B11,$B$2:$B$41))","v":""},null,null,null,"","",""]
[{"$f":"IF(Hauptmaske!E16=\"x\",Hauptmaske!A16,\"\")","v":""},{"$f":"'LG-Auflage'!BG4","v":""},{"$f":"'LG-Auflage'!BC4","v":""},{"$f":"'LG-Auflage'!BC6","v":""},{"$f":"'LG-Auflage'!BG6","v":""},{"$f":"'LG-Auflage'!BH6","v":""},{"$f":"'LG-Auflage'!BF4","v":""},{"$f":"IF('LG-Auflage'!BD9=\"\",\"\",SUM('LG-Auflage'!BH9:BH117))","v":""},{"$f":"IF('LG-Auflage'!BD9=\"\",\"\",RANK(B12,$B$2:$B$41))","v":""},null,null,null,"","",""]
[{"$f":"IF(Hauptmaske!E17=\"x\",Hauptmaske!A17,\"\")","v":""},{"$f":"'LG-Auflage'!BM4","v":""},{"$f":"'LG-Auflage'!BI4","v":""},{"$f":"'LG-Auflage'!BI6","v":""},{"$f":"'LG-Auflage'!BM6","v":""},{"$f":"'LG-Auflage'!BN6","v":""},{"$f":"'LG-Auflage'!BL4","v":""},{"$f":"IF('LG-Auflage'!BJ9=\"\",\"\",SUM('LG-Auflage'!BN9:BN117))","v":""},{"$f":"IF('LG-Auflage'!BJ9=\"\",\"\",RANK(B13,$B$2:$B$41))","v":""},null,null,null,"","",""]
[{"$f":"IF(Hauptmaske!E18=\"x\",Hauptmaske!A18,\"\")","v":""},{"$f":"'LG-Auflage'!BS4","v":""},{"$f":"'LG-Auflage'!BO4","v":""},{"$f":"'LG-Auflage'!BO6","v":""},{"$f":"'LG-Auflage'!BS6","v":""},{"$f":"'LG-Auflage'!BT6","v":""},{"$f":"'LG-Auflage'!BR4","v":""},{"$f":"IF('LG-Auflage'!BP9=\"\",\"\",SUM('LG-Auflage'!BT9:BT117))","v":""},{"$f":"IF('LG-Auflage'!BP9=\"\",\"\",RANK(B14,$B$2:$B$41))","v":""},null,null,null,"","",""]
[{"$f":"IF(Hauptmaske!E19=\"x\",Hauptmaske!A19,\"\")","v":""},{"$f":"'LG-Auflage'!BY4","v":""},{"$f":"'LG-Auflage'!BU4","v":""},{"$f":"'LG-Auflage'!BU6","v":""},{"$f":"'LG-Auflage'!BY6","v":""},{"$f":"'LG-Auflage'!BZ6","v":""},{"$f":"'LG-Auflage'!BX4","v":""},{"$f":"IF('LG-Auflage'!BV9=\"\",\"\",SUM('LG-Auflage'!BZ9:BZ117))","v":""},{"$f":"IF('LG-Auflage'!BV9=\"\",\"\",RANK(B15,$B$2:$B$41))","v":""},null,null,null,"","",""]
[{"$f":"IF(Hauptmaske!E20=\"x\",Hauptmaske!A20,\"\")","v":""},{"$f":"'LG-Auflage'!CE4","v":""},{"$f":"'LG-Auflage'!CA4","v":""},{"$f":"'LG-Auflage'!CA6","v":""},{"$f":"'LG-Auflage'!CE6","v":""},{"$f":"'LG-Auflage'!CF6","v":""},{"$f":"'LG-Auflage'!CD4","v":""},{"$f":"IF('LG-Auflage'!CB9=\"\",\"\",SUM('LG-Auflage'!CF9:CF117))","v":""},{"$f":"IF('LG-Auflage'!CB9=\"\",\"\",RANK(B16,$B$2:$B$41))","v":""},null,null,null,"","",""]
[{"$f":"IF(Hauptmaske!E21=\"x\",Hauptmaske!A21,\"\")","v":""},{"$f":"'LG-Auflage'!CK4","v":""},{"$f":"'LG-Auflage'!CG4","v":""},{"$f":"'LG-Auflage'!CG6","v":""},{"$f":"'LG-Auflage'!CK6","v":""},{"$f":"'LG-Auflage'!CL6","v":""},{"$f":"'LG-Auflage'!CJ4","v":""},{"$f":"IF('LG-Auflage'!CH9=\"\",\"\",SUM('LG-Auflage'!CL9:CL117))","v":""},{"$f":"IF('LG-Auflage'!CH9=\"\",\"\",RANK(B17,$B$2:$B$41))","v":""},null,null,null,"","",""]
[{"$f":"IF(Hauptmaske!E22=\"x\",Hauptmaske!A22,\"\")","v":""},{"$f":"'LG-Auflage'!CQ4","v":""},{"$f":"'LG-Auflage'!CM4","v":""},{"$f":"'LG-Auflage'!CM6","v":""},{"$f":"'LG-Auflage'!CQ6","v":""},{"$f":"'LG-Auflage'!CR6","v":""},{"$f":"'LG-Auflage'!CP4","v":""},{"$f":"IF('LG-Auflage'!CN9=\"\",\"\",SUM('LG-Auflage'!CR9:CR117))","v":""},{"$f":"IF('LG-Auflage'!CN9=\"\",\"\",RANK(B18,$B$2:$B$41))","v":""},null,null,null,"","",""]
[{"$f":"IF(Hauptmaske!E24=\"x\",Hauptmaske!A24,\"\")","v":""},{"$f":"'LG-Auflage'!DC4","v":""},{"$f":"'LG-Auflage'!CY4","v":""},{"$f":"'LG-Auflage'!CY6","v":""},{"$f":"'LG-Auflage'!DC6","v":""},{"$f":"'LG-Auflage'!DD6","v":""},{"$f":"'LG-Auflage'!DB4","v":""},{"$f":"IF('LG-Auflage'!CZ9=\"\",\"\",SUM('LG-Auflage'!DD9:DD117))","v":""},{"$f":"IF('LG-Auflage'!CZ9=\"\",\"\",RANK(B19,$B$2:$B$41))","v":""},null,null,null,"","",""]
[{"$f":"IF(Hauptmaske!E25=\"x\",Hauptmaske!A25,\"\")","v":""},{"$f":"'LG-Auflage'!DI4","v":""},{"$f":"'LG-Auflage'!DE4","v":""},{"$f":"'LG-Auflage'!DE6","v":""},{"$f":"'LG-Auflage'!DI6","v":""},{"$f":"'LG-Auflage'!DJ6","v":""},{"$f":"'LG-Auflage'!DH4","v":""},{"$f":"IF('LG-Auflage'!DF9=\"\",\"\",SUM('LG-Auflage'!DJ9:DJ117))","v":""},{"$f":"IF('LG-Auflage'!DF9=\"\",\"\",RANK(B20,$B$2:$B$41))","v":""},null,null,null,"","",""]
[{"$f":"IF(Hauptmaske!E26=\"x\",Hauptmaske!A26,\"\")","v":""},{"$f":"'LG-Auflage'!DO4","v":""},{"$f":"'LG-Auflage'!DK4","v":""},{"$f":"'LG-Auflage'!DK6","v":""},{"$f":"'LG-Auflage'!DO6","v":""},{"$f":"'LG-Auflage'!DP6","v":""},{"$f":"'LG-Auflage'!DN4","v":""},{"$f":"IF('LG-Auflage'!DL9=\"\",\"\",SUM('LG-Auflage'!DP9:DP117))","v":""},{"$f":"IF('LG-Auflage'!DL9=\"\",\"\",RANK(B21,$B$2:$B$41))","v":""},null,null,null,"","",""]
[{"$f":"IF(Hauptmaske!E27=\"x\",Hauptmaske!A27,\"\")","v":""},{"$f":"'LG-Auflage'!DU4","v":""},{"$f":"'LG-Auflage'!DQ4","v":""},{"$f":"'LG-Auflage'!DQ6","v":""},{"$f":"'LG-Auflage'!DU6","v":""},{"$f":"'LG-Auflage'!DV6","v":""},{"$f":"'LG-Auflage'!DT4","v":""},{"$f":"IF('LG-Auflage'!DR9=\"\",\"\",SUM('LG-Auflage'!DV9:DV117))","v":""},{"$f":"IF('LG-Auflage'!DR9=\"\",\"\",RANK(B22,$B$2:$B$41))","v":""},null,null,null,"","",""]
[{"$f":"IF(Hauptmaske!E28=\"x\",Hauptmaske!A28,\"\")","v":""},{"$f":"'LG-Auflage'!EA4","v":""},{"$f":"'LG-Auflage'!DW4","v":""},{"$f":"'LG-Auflage'!DW6","v":""},{"$f":"'LG-Auflage'!EA6","v":""},{"$f":"'LG-Auflage'!EB6","v":""},{"$f":"'LG-Auflage'!DZ4","v":""},{"$f":"IF('LG-Auflage'!DX9=\"\",\"\",SUM('LG-Auflage'!EB9:EB117))","v":""},{"$f":"IF('LG-Auflage'!DX9=\"\",\"\",RANK(B23,$B$2:$B$41))","v":""},null,null,null,"","",""]
[{"$f":"IF(Hauptmaske!E29=\"x\",Hauptmaske!A29,\"\")","v":""},{"$f":"'LG-Auflage'!EG4","v":""},{"$f":"'LG-Auflage'!EC4","v":""},{"$f":"'LG-Auflage'!EC6","v":""},{"$f":"'LG-Auflage'!EG6","v":""},{"$f":"'LG-Auflage'!EH6","v":""},{"$f":"'LG-Auflage'!EF4","v":""},{"$f":"IF('LG-Auflage'!ED9=\"\",\"\",SUM('LG-Auflage'!EH9:EH117))","v":""},{"$f":"IF('LG-Auflage'!ED9=\"\",\"\",RANK(B24,$B$2:$B$41))","v":""},null,null,null,"","",""]
[{"$f":"IF(Hauptmaske!E30=\"x\",Hauptmaske!A30,\"\")","v":""},{"$f":"'LG-Auflage'!EM4","v":""},{"$f":"'LG-Auflage'!EI4","v":""},{"$f":"'LG-Auflage'!EI6","v":""},{"$f":"'LG-Auflage'!EM6","v":""},{"$f":"'LG-Auflage'!EN6","v":""},{"$f":"'LG-Auflage'!EL4","v":""},{"$f":"IF('LG-Auflage'!EJ9=\"\",\"\",SUM('LG-Auflage'!EN9:EN117))","v":""},{"$f":"IF('LG-Auflage'!EJ9=\"\",\"\",RANK(B25,$B$2:$B$41))","v":""},null,null,null,"","",""]
[{"$f":"IF(Hauptmaske!E31=\"x\",Hauptmaske!A31,\"\")","v":""},{"$f":"'LG-Auflage'!ES4","v":""},{"$f":"'LG-Auflage'!EO4","v":""},{"$f":"'LG-Auflage'!EO6","v":""},{"$f":"'LG-Auflage'!ES6","v":""},{"$f":"'LG-Auflage'!ET6","v":""},{"$f":"'LG-Auflage'!ER4","v":""},{"$f":"IF('LG-Auflage'!EP9=\"\",\"\",SUM('LG-Auflage'!ET9:ET117))","v":""},{"$f":"IF('LG-Auflage'!EP9=\"\",\"\",RANK(B26,$B$2:$B$41))","v":""},null,null,null,"","",""]
[{"$f":"IF(Hauptmaske!E32=\"x\",Hauptmaske!A32,\"\")","v":""},{"$f":"'LG-Auflage'!EY4","v":""},{"$f":"'LG-Auflage'!EU4","v":""},{"$f":"'LG-Auflage'!EU6","v":""},{"$f":"'LG-Auflage'!EY6","v":""},{"$f":"'LG-Auflage'!EZ6","v":""},{"$f":"'LG-Auflage'!EX4","v":""},{"$f":"IF('LG-Auflage'!EV9=\"\",\"\",SUM('LG-Auflage'!EZ9:EZ117))","v":""},{"$f":"IF('LG-Auflage'!EV9=\"\",\"\",RANK(B27,$B$2:$B$41))","v":""},null,null,null,"","",""]
[{"$f":"IF(Hauptmaske!E33=\"x\",Hauptmaske!A33,\"\")","v":""},{"$f":"'LG-Auflage'!FE4","v":""},{"$f":"'LG-Auflage'!FA4","v":""},{"$f":"'LG-Auflage'!FA6","v":""},{"$f":"'LG-Auflage'!FE6","v":""},{"$f":"'LG-Auflage'!FF6","v":""},{"$f":"'LG-Auflage'!FD4","v":""},{"$f":"IF('LG-Auflage'!FB9=\"\",\"\",SUM('LG-Auflage'!FF9:FF117))","v":""},{"$f":"IF('LG-Auflage'!FB9=\"\",\"\",RANK(B28,$B$2:$B$41))","v":""},null,null,null,"","",""]
[{"$f":"IF(Hauptmaske!E34=\"x\",Hauptmaske!A34,\"\")","v":""},{"$f":"'LG-Auflage'!FK4","v":""},{"$f":"'LG-Auflage'!FG4","v":""},{"$f":"'LG-Auflage'!FG6","v":""},{"$f":"'LG-Auflage'!FK6","v":""},{"$f":"'LG-Auflage'!FL6","v":""},{"$f":"'LG-Auflage'!FJ4","v":""},{"$f":"IF('LG-Auflage'!FH9=\"\",\"\",SUM('LG-Auflage'!FL9:FL117))","v":""},{"$f":"IF('LG-Auflage'!FH9=\"\",\"\",RANK(B29,$B$2:$B$41))","v":""},null,null,null,"","",""]
[{"$f":"IF(Hauptmaske!E35=\"x\",Hauptmaske!A35,\"\")","v":""},{"$f":"'LG-Auflage'!FQ4","v":""},{"$f":"'LG-Auflage'!FM4","v":""},{"$f":"'LG-Auflage'!FM6","v":""},{"$f":"'LG-Auflage'!FQ6","v":""},{"$f":"'LG-Auflage'!FR6","v":""},{"$f":"'LG-Auflage'!FP4","v":""},{"$f":"IF('LG-Auflage'!FN9=\"\",\"\",SUM('LG-Auflage'!FR9:FR117))","v":""},{"$f":"IF('LG-Auflage'!FN9=\"\",\"\",RANK(B30,$B$2:$B$41))","v":""},null,null,null,"","",""]
[{"$f":"IF(Hauptmaske!E36=\"x\",Hauptmaske!A36,\"\")","v":""},{"$f":"'LG-Auflage'!FW4","v":""},{"$f":"'LG-Auflage'!FS4","v":""},{"$f":"'LG-Auflage'!FS6","v":""},{"$f":"'LG-Auflage'!FW6","v":""},{"$f":"'LG-Auflage'!FX6","v":""},{"$f":"'LG-Auflage'!FV4","v":""},{"$f":"IF('LG-Auflage'!FT9=\"\",\"\",SUM('LG-Auflage'!FX9:FX117))","v":""},{"$f":"IF('LG-Auflage'!FT9=\"\",\"\",RANK(B31,$B$2:$B$41))","v":""},null,null,null,"","",""]
[{"$f":"IF(Hauptmaske!E37=\"x\",Hauptmaske!A37,\"\")","v":""},{"$f":"'LG-Auflage'!GC4","v":""},{"$f":"'LG-Auflage'!FY4","v":""},{"$f":"'LG-Auflage'!FY6","v":""},{"$f":"'LG-Auflage'!GC6","v":""},{"$f":"'LG-Auflage'!GD6","v":""},{"$f":"'LG-Auflage'!GB4","v":""},{"$f":"IF('LG-Auflage'!FZ9=\"\",\"\",SUM('LG-Auflage'!GD9:GD117))","v":""},{"$f":"IF('LG-Auflage'!FZ9=\"\",\"\",RANK(B32,$B$2:$B$41))","v":""},null,null,null,"","",""]
[{"$f":"IF(Hauptmaske!E38=\"x\",Hauptmaske!A38,\"\")","v":""},{"$f":"'LG-Auflage'!GI4","v":""},{"$f":"'LG-Auflage'!GE4","v":""},{"$f":"'LG-Auflage'!GE6","v":""},{"$f":"'LG-Auflage'!GI6","v":""},{"$f":"'LG-Auflage'!GJ6","v":""},{"$f":"'LG-Auflage'!GH4","v":""},{"$f":"IF('LG-Auflage'!GF9=\"\",\"\",SUM('LG-Auflage'!GJ9:GJ117))","v":""},{"$f":"IF('LG-Auflage'!GF9=\"\",\"\",RANK(B33,$B$2:$B$41))","v":""},null,null,null,"","",""]
[{"$f":"IF(Hauptmaske!E39=\"x\",Hauptmaske!A39,\"\")","v":""},{"$f":"'LG-Auflage'!GO4","v":""},{"$f":"'LG-Auflage'!GK4","v":""},{"$f":"'LG-Auflage'!GK6","v":""},{"$f":"'LG-Auflage'!GO6","v":""},{"$f":"'LG-Auflage'!GP6","v":""},{"$f":"'LG-Auflage'!GN4","v":""},{"$f":"IF('LG-Auflage'!GL9=\"\",\"\",SUM('LG-Auflage'!GP9:GP117))","v":""},{"$f":"IF('LG-Auflage'!GL9=\"\",\"\",RANK(B34,$B$2:$B$41))","v":""},null,null,null,"","",""]
[{"$f":"IF(Hauptmaske!E40=\"x\",Hauptmaske!A40,\"\")","v":""},{"$f":"'LG-Auflage'!GU4","v":""},{"$f":"'LG-Auflage'!GQ4","v":""},{"$f":"'LG-Auflage'!GQ6","v":""},{"$f":"'LG-Auflage'!GU6","v":""},{"$f":"'LG-Auflage'!GV6","v":""},{"$f":"'LG-Auflage'!GT4","v":""},{"$f":"IF('LG-Auflage'!GR9=\"\",\"\",SUM('LG-Auflage'!GV9:GV117))","v":""},{"$f":"IF('LG-Auflage'!GR9=\"\",\"\",RANK(B35,$B$2:$B$41))","v":""},null,null,null,"","",""]
[{"$f":"IF(Hauptmaske!E41=\"x\",Hauptmaske!A41,\"\")","v":""},{"$f":"'LG-Auflage'!HA4","v":""},{"$f":"'LG-Auflage'!GW4","v":""},{"$f":"'LG-Auflage'!GW6","v":""},{"$f":"'LG-Auflage'!HA6","v":""},{"$f":"'LG-Auflage'!HB6","v":""},{"$f":"'LG-Auflage'!GZ4","v":""},{"$f":"IF('LG-Auflage'!GX9=\"\",\"\",SUM('LG-Auflage'!HB9:HB117))","v":""},{"$f":"IF('LG-Auflage'!GX9=\"\",\"\",RANK(B36,$B$2:$B$41))","v":""},null,null,null,"","",""]
[{"$f":"IF(Hauptmaske!E42=\"x\",Hauptmaske!A42,\"\")","v":""},{"$f":"'LG-Auflage'!HG4","v":""},{"$f":"'LG-Auflage'!HC4","v":""},{"$f":"'LG-Auflage'!HC6","v":""},{"$f":"'LG-Auflage'!HG6","v":""},{"$f":"'LG-Auflage'!HH6","v":""},{"$f":"'LG-Auflage'!HF4","v":""},{"$f":"IF('LG-Auflage'!HD9=\"\",\"\",SUM('LG-Auflage'!HH9:HH117))","v":""},{"$f":"IF('LG-Auflage'!HD9=\"\",\"\",RANK(B37,$B$2:$B$41))","v":""},null,null,null,"","",""]
[{"$f":"IF(Hauptmaske!E43=\"x\",Hauptmaske!A43,\"\")","v":""},{"$f":"'LG-Auflage'!HM4","v":""},{"$f":"'LG-Auflage'!HI4","v":""},{"$f":"'LG-Auflage'!HI6","v":""},{"$f":"'LG-Auflage'!HM6","v":""},{"$f":"'LG-Auflage'!HN6","v":""},{"$f":"'LG-Auflage'!HL4","v":""},{"$f":"IF('LG-Auflage'!HJ9=\"\",\"\",SUM('LG-Auflage'!HN9:HN117))","v":""},{"$f":"IF('LG-Auflage'!HJ9=\"\",\"\",RANK(B38,$B$2:$B$41))","v":""},null,null,null,"","",""]
[{"$f":"IF(Hauptmaske!E44=\"x\",Hauptmaske!A44,\"\")","v":""},{"$f":"'LG-Auflage'!HS4","v":""},{"$f":"'LG-Auflage'!HO4","v":""},{"$f":"'LG-Auflage'!HO6","v":""},{"$f":"'LG-Auflage'!HS6","v":""},{"$f":"'LG-Auflage'!HT6","v":""},{"$f":"'LG-Auflage'!HR4","v":""},{"$f":"IF('LG-Auflage'!HP9=\"\",\"\",SUM('LG-Auflage'!HT9:HT117))","v":""},{"$f":"IF('LG-Auflage'!HP9=\"\",\"\",RANK(B39,$B$2:$B$41))","v":""},null,null,null,"","",""]
[{"$f":"IF(Hauptmaske!E45=\"x\",Hauptmaske!A45,\"\")","v":""},{"$f":"'LG-Auflage'!HY4","v":""},{"$f":"'LG-Auflage'!HU4","v":""},{"$f":"'LG-Auflage'!HU6","v":""},{"$f":"'LG-Auflage'!HY6","v":""},{"$f":"'LG-Auflage'!HZ6","v":""},{"$f":"'LG-Auflage'!HX4","v":""},{"$f":"IF('LG-Auflage'!HV9=\"\",\"\",SUM('LG-Auflage'!HZ9:HZ117))","v":""},{"$f":"IF('LG-Auflage'!HV9=\"\",\"\",RANK(B40,$B$2:$B$41))","v":""},null,null,null,"","",""]
[{"$f":"IF(Hauptmaske!E46=\"x\",Hauptmaske!A46,\"\")","v":""},{"$f":"'LG-Auflage'!IE4","v":""},{"$f":"'LG-Auflage'!IA4","v":""},{"$f":"'LG-Auflage'!IA6","v":""},{"$f":"'LG-Auflage'!IE6","v":""},{"$f":"'LG-Auflage'!IF6","v":""},{"$f":"'LG-Auflage'!ID4","v":""},{"$f":"IF('LG-Auflage'!IB9=\"\",\"\",SUM('LG-Auflage'!IF9:IF117))","v":""},{"$f":"IF('LG-Auflage'!IB9=\"\",\"\",RANK(B41,$B$2:$B$41))","v":""},null,null,null,"","",""]
[]
[null,null,"Name","Mittelwert"]
[{"$f":"M2","v":"Testname"},{"$f":"O2","v":-1.9999999999999999E-6},{"$f":"INDEX($A$44:$B$83,MATCH(LARGE($B$44:$B$83,ROW()-43),$B$44:$B$83,0),1)","v":"Testname"},{"$f":"INDEX($A$44:$B$83,MATCH(LARGE($B$44:$B$83,ROW()-43),$B$44:$B$83,0),2)","v":-1.9999999999999999E-6}]
[{"$f":"M3","v":""},{"$f":"O3","v":""},{"$f":"INDEX($A$44:$B$83,MATCH(LARGE($B$44:$B$83,ROW()-43),$B$44:$B$83,0),1)","v":{"$error":"#NUM!"}},{"$f":"INDEX($A$44:$B$83,MATCH(LARGE($B$44:$B$83,ROW()-43),$B$44:$B$83,0),2)","v":{"$error":"#NUM!"}}]
["","",{"$error":"#NUM!"},{"$error":"#NUM!"}]
["","",{"$error":"#NUM!"},{"$error":"#NUM!"}]
["","",{"$error":"#NUM!"},{"$error":"#NUM!"}]
["","",{"$error":"#NUM!"},{"$error":"#NUM!"}]
["","",{"$error":"#NUM!"},{"$error":"#NUM!"}]
["","",{"$error":"#NUM!"},{"$error":"#NUM!"}]
["","",{"$error":"#NUM!"},{"$error":"#NUM!"}]
["","",{"$error":"#NUM!"},{"$error":"#NUM!"}]
["","",{"$error":"#NUM!"},{"$error":"#NUM!"}]
["","",{"$error":"#NUM!"},{"$error":"#NUM!"}]
["","",{"$error":"#NUM!"},{"$error":"#NUM!"}]
["","",{"$error":"#NUM!"},{"$error":"#NUM!"}]
["","",{"$error":"#NUM!"},{"$error":"#NUM!"}]
["","",{"$error":"#NUM!"},{"$error":"#NUM!"}]
["","",{"$error":"#NUM!"},{"$error":"#NUM!"}]
["","",{"$error":"#NUM!"},{"$error":"#NUM!"}]
["","",{"$error":"#NUM!"},{"$error":"#NUM!"}]
["","",{"$error":"#NUM!"},{"$error":"#NUM!"}]
["","",{"$error":"#NUM!"},{"$error":"#NUM!"}]
["","",{"$error":"#NUM!"},{"$error":"#NUM!"}]
["","",{"$error":"#NUM!"},{"$error":"#NUM!"}]
["","",{"$error":"#NUM!"},{"$error":"#NUM!"}]
["","",{"$error":"#NUM!"},{"$error":"#NUM!"}]
["","",{"$error":"#NUM!"},{"$error":"#NUM!"}]
["","",{"$error":"#NUM!"},{"$error":"#NUM!"}]
["","",{"$error":"#NUM!"},{"$error":"#NUM!"}]
["","",{"$error":"#NUM!"},{"$error":"#NUM!"}]
["","",{"$error":"#NUM!"},{"$error":"#NUM!"}]
["","",{"$error":"#NUM!"},{"$error":"#NUM!"}]
["","",{"$error":"#NUM!"},{"$error":"#NUM!"}]
["","",{"$error":"#NUM!"},{"$error":"#NUM!"}]
["","",{"$error":"#NUM!"},{"$error":"#NUM!"}]
["","",{"$error":"#NUM!"},{"$error":"#NUM!"}]
["","",{"$error":"#NUM!"},{"$error":"#NUM!"}]
["","",{"$error":"#NUM!"},{"$error":"#NUM!"}]
["","",{"$error":"#NUM!"},{"$error":"#NUM!"}]
["","",{"$error":"#NUM!"},{"$error":"#NUM!"}]
["","",{"$error":"#NUM!"},{"$error":"#NUM!"}]

{"sheet":"Grafik-LG AL-1","index":7,"n_rows":40,"n_cols":7,"rows_kept":40,"cut":false,"hidden":false,"merged":[[0,0,0,5],[4,6,11,8],[39,6,46,8]]}
[{"$f":"CONCATENATE(\"Ergebnisse vom LG - Auflageschießen\",\" \",Hauptmaske!A4)","v":"Ergebnisse vom LG - Auflageschießen 2016"}]
[]
[]
[]
[null,null,null,null,null,null,"Diese Grafik ist auf\n40 Teilenehmer beschränkt."]
[]
[]
[]
[]
[]
[]
[]
[]
[]
[]
[]
[]
[]
[]
[]
[]
[]
[]
[]
[]
[]
[]
[]
[]
[]
[]
[]
[]
[]
[]
[]
[]
[]
[]
[null,null,null,null,null,null,"Diese Grafik ist auf\n40 Teilenehmer beschränkt."]

{"sheet":"Grafik-LG AL-2","index":8,"n_rows":39,"n_cols":7,"rows_kept":39,"cut":false,"hidden":false,"merged":[[0,0,0,5],[6,6,13,8],[38,6,45,8]]}
[{"$f":"CONCATENATE(\"Ergebnisse vom LG - Auflageschießen\",\" \",Hauptmaske!A4)","v":"Ergebnisse vom LG - Auflageschießen 2016"}]
[]
[]
[]
[]
[]
[null,null,null,null,null,null,"Diese Grafik ist auf\n40 Teilenehmer beschränkt."]
[]
[]
[]
[]
[]
[]
[]
[]
[]
[]
[]
[]
[]
[]
[]
[]
[]
[]
[]
[]
[]
[]
[]
[]
[]
[]
[]
[]
[]
[]
[]
[null,null,null,null,null,null,"Diese Grafik ist auf\n40 Teilenehmer beschränkt."]

{"sheet":"Lupi","index":9,"n_rows":117,"n_cols":240,"rows_kept":117,"cut":false,"hidden":false,"merged":[[6,192,6,197],[6,198,6,203],[6,204,6,209],[6,210,6,215],[6,216,6,221],[6,222,6,227],[6,228,6,233],[6,234,6,239],[5,224,5,225],[5,192,5,193],[5,194,5,195],[5,198,5,199],[5,200,5,201],[5,204,5,205],[5,206,5,207],[5,210,5,211],[5,228,5,229],[5,230,5,231],[5,234,5,235],[5,212,5,213],[5,216,5,217],[5,218,5,219],[5,222,5,223],[5,236,5,237],[3,238,3,239],[4,192,4,193],[4,194,4,195],[4,196,4,197],[4,198,4,199],[4,200,4,201],[4,226,4,227],[4,228,4,229],[4,230,4,231],[4,232,4,233],[4,218,4,219],[4,220,4,221],[4,222,4,223],[4,224,4,225],[4,234,4,235],[4,236,4,237],[4,238,4,239],[3,210,3,211],[3,232,3,233],[3,234,3,235],[3,216,3,217],[3,220,3,221],[3,222,3,223],[3,226,3,227],[1,234,1,239],[2,192,2,193],[2,196,2,197],[2,198,2,199],[2,202,2,203],[2,204,2,205],[2,232,2,233],[2,234,2,235],[2,238,2,239],[1,222,1,227],[1,228,1,233],[2,216,2,217],[1,216,1,221],[2,220,2,221],[2,222,2,223],[2,226,2,227],[2,228,2,229],[1,192,1,197],[1,198,1,203],[1,204,1,209],[3,228,3,229],[4,190,4,191],[4,188,4,189],[2,208,2,209],[2,210,2,211],[2,214,2,215],[1,210,1,215],[3,192,3,193],[3,196,3,197],[3,198,3,199],[3,202,3,203],[3,204,3,205],[3,208,3,209],[4,202,4,203],[4,204,4,205],[4,206,4,207],[4,208,4,209],[4,210,4,211],[4,212,4,213],[4,214,4,215],[3,214,3,215],[4,216,4,217],[5,182,5,183],[5,186,5,187],[5,188,5,189],[6,96,6,101],[6,102,6,107],[6,108,6,113],[6,114,6,119],[6,120,6,125],[6,126,6,131],[6,132,6,137],[6,162,6,167],[6,168,6,173],[6,174,6,179],[6,180,6,185],[6,138,6,143],[6,144,6,149],[6,150,6,155],[6,156,6,161],[6,186,6,191],[4,182,4,183],[4,184,4,185],[4,186,4,187],[4,174,4,175],[4,176,4,177],[4,178,4,179],[4,180,4,181],[5,122,5,123],[5,126,5,127],[5,128,5,129],[5,132,5,133],[5,146,5,147],[5,150,5,151],[5,152,5,153],[5,156,5,157],[5,134,5,135],[5,138,5,139],[5,140,5,141],[5,144,5,145],[5,170,5,171],[5,174,5,175],[5,176,5,177],[5,180,5,181],[5,158,5,159],[4,166,4,167],[4,168,4,169],[4,170,4,171],[4,172,4,173],[4,158,4,159],[4,160,4,161],[4,162,4,163],[4,164,4,165],[5,114,5,115],[5,116,5,117],[5,120,5,121],[5,162,5,163],[5,164,5,165],[5,168,5,169],[4,128,4,129],[4,130,4,131],[4,132,4,133],[4,150,4,151],[4,152,4,153],[4,154,4,155],[4,156,4,157],[4,142,4,143],[4,144,4,145],[4,146,4,147],[4,148,4,149],[3,168,3,169],[3,184,3,185],[3,186,3,187],[3,190,3,191],[4,96,4,97],[4,98,4,99],[4,100,4,101],[4,102,4,103],[4,104,4,105],[4,106,4,107],[4,108,4,109],[4,118,4,119],[4,120,4,121],[4,122,4,123],[4,124,4,125],[4,110,4,111],[4,112,4,113],[4,114,4,115],[4,116,4,117],[4,134,4,135],[4,136,4,137],[4,138,4,139],[4,140,4,141],[4,126,4,127],[2,184,2,185],[2,186,2,187],[2,190,2,191],[3,96,3,97],[3,100,3,101],[3,102,3,103],[3,106,3,107],[3,108,3,109],[3,112,3,113],[3,114,3,115],[3,118,3,119],[3,150,3,151],[3,154,3,155],[3,156,3,157],[3,132,3,133],[3,136,3,137],[3,130,3,131],[3,172,3,173],[3,174,3,175],[3,178,3,179],[3,180,3,181],[3,160,3,161],[3,162,3,163],[3,166,3,167],[1,132,1,137],[2,172,2,173],[2,174,2,175],[2,178,2,179],[2,180,2,181],[2,160,2,161],[2,162,2,163],[2,166,2,167],[2,168,2,169],[1,144,1,149],[2,144,2,145],[2,148,2,149],[3,138,3,139],[3,142,3,143],[3,144,3,145],[3,148,3,149],[1,138,1,143],[2,132,2,133],[2,136,2,137],[2,138,2,139],[2,142,2,143],[6,48,6,53],[6,54,6,59],[6,60,6,65],[6,66,6,71],[6,72,6,77],[1,180,1,185],[1,186,1,191],[6,90,6,95],[1,150,1,155],[1,156,1,161],[1,162,1,167],[2,96,2,97],[2,100,2,101],[2,102,2,103],[2,106,2,107],[2,114,2,115],[2,150,2,151],[2,154,2,155],[2,156,2,157],[1,168,1,173],[1,174,1,179],[1,120,1,125],[2,120,2,121],[2,124,2,125],[6,78,6,83],[6,84,6,89],[5,74,5,75],[5,78,5,79],[5,80,5,81],[5,84,5,85],[2,108,2,109],[2,112,2,113],[5,86,5,87],[5,90,5,91],[5,92,5,93],[5,96,5,97],[5,98,5,99],[5,102,5,103],[5,104,5,105],[5,108,5,109],[5,110,5,111],[4,92,4,93],[4,78,4,79],[4,80,4,81],[4,82,4,83],[4,84,4,85],[4,94,4,95],[4,74,4,75],[5,48,5,49],[5,50,5,51],[5,54,5,55],[5,56,5,57],[5,60,5,61],[5,62,5,63],[5,66,5,67],[5,68,5,69],[5,72,5,73],[4,76,4,77],[4,62,4,63],[4,64,4,65],[4,66,4,67],[4,68,4,69],[4,86,4,87],[4,88,4,89],[4,90,4,91],[4,48,4,49],[4,50,4,51],[4,52,4,53],[4,54,4,55],[4,56,4,57],[4,58,4,59],[4,60,4,61],[4,70,4,71],[4,72,4,73],[2,90,2,91],[2,70,2,71],[2,72,2,73],[2,76,2,77],[2,78,2,79],[2,94,2,95],[3,48,3,49],[3,52,3,53],[3,54,3,55],[3,58,3,59],[3,60,3,61],[3,64,3,65],[3,66,3,67],[3,70,3,71],[2,82,2,83],[3,88,3,89],[3,90,3,91],[3,94,3,95],[3,78,3,79],[3,82,3,83],[3,84,3,85],[1,0,1,5],[1,6,1,11],[2,6,2,7],[2,10,2,11],[5,6,5,7],[5,8,5,9],[4,0,4,1],[4,2,4,3],[6,0,6,5],[2,0,2,1],[5,0,5,1],[3,0,3,1],[2,4,2,5],[4,4,4,5],[3,4,3,5],[5,2,5,3],[6,6,6,11],[4,6,4,7],[4,8,4,9],[4,10,4,11],[3,6,3,7],[3,10,3,11],[1,12,1,17],[1,18,1,23],[2,12,2,13],[2,16,2,17],[2,18,2,19],[2,22,2,23],[3,22,3,23],[4,12,4,13],[4,14,4,15],[3,12,3,13],[6,12,6,17],[6,18,6,23],[5,12,5,13],[5,14,5,15],[5,18,5,19],[5,20,5,21],[4,16,4,17],[4,18,4,19],[4,20,4,21],[4,22,4,23],[1,102,1,107],[2,34,2,35],[2,36,2,37],[1,24,1,29],[1,30,1,35],[1,36,1,41],[1,42,1,47],[3,16,3,17],[3,18,3,19],[1,96,1,101],[1,72,1,77],[1,78,1,83],[1,84,1,89],[1,90,1,95],[1,48,1,53],[1,54,1,59],[2,60,2,61],[2,64,2,65],[2,66,2,67],[2,84,2,85],[2,52,2,53],[2,54,2,55],[2,58,2,59],[2,88,2,89],[2,40,2,41],[2,42,2,43],[2,46,2,47],[1,60,1,65],[1,66,1,71],[2,48,2,49],[2,24,2,25],[2,28,2,29],[2,30,2,31],[3,40,3,41],[3,42,3,43],[3,46,3,47],[3,72,3,73],[3,76,3,77],[3,24,3,25],[3,28,3,29],[3,30,3,31],[3,34,3,35],[3,36,3,37],[1,126,1,131],[2,126,2,127],[2,130,2,131],[3,120,3,121],[3,124,3,125],[3,126,3,127],[1,108,1,113],[1,114,1,119],[2,118,2,119],[4,36,4,37],[4,38,4,39],[4,40,4,41],[4,42,4,43],[4,44,4,45],[4,46,4,47],[4,24,4,25],[4,26,4,27],[4,28,4,29],[4,30,4,31],[4,32,4,33],[4,34,4,35],[5,42,5,43],[5,44,5,45],[6,24,6,29],[6,30,6,35],[6,36,6,41],[6,42,6,47],[5,24,5,25],[5,26,5,27],[5,30,5,31],[5,32,5,33],[5,36,5,37],[5,38,5,39]]}
[{"$f":"IF(Hauptmaske!$F$5=\"\",10,Hauptmaske!$F$5)","v":10}]
[{"$f":"Hauptmaske!$F$6","v":"Luftpistole"},null,null,null,null,null,{"$f":"Hauptmaske!$F$6","v":"Luftpistole"},null,null,null,null,null,{"$f":"Hauptmaske!$F$6","v":"Luftpistole"},null,null,null,null,null,{"$f":"Hauptmaske!$F$6","v":"Luftpistole"},null,null,null,null,null,{"$f":"Hauptmaske!$F$6","v":"Luftpistole"},null,null,null,null,null,{"$f":"Hauptmaske!$F$6","v":"Luftpistole"},null,null,null,null,null,{"$f":"Hauptmaske!$F$6","v":"Luftpistole"},null,null,null,null,null,{"$f":"Hauptmaske!$F$6","v":"Luftpistole"},null,null,null,null,null,{"$f":"Hauptmaske!$F$6","v":"Luftpistole"},null,null,null,null,null,{"$f":"Hauptmaske!$F$6","v":"Luftpistole"},null,null,null,null,null,{"$f":"Hauptmaske!$F$6","v":"Luftpistole"},null,null,null,null,null,{"$f":"Hauptmaske!$F$6","v":"Luftpistole"},null,null,null,null,null,{"$f":"Hauptmaske!$F$6","v":"Luftpistole"},null,null,null,null,null,{"$f":"Hauptmaske!$F$6","v":"Luftpistole"},null,null,null,null,null,{"$f":"Hauptmaske!$F$6","v":"Luftpistole"},null,null,null,null,null,{"$f":"Hauptmaske!$F$6","v":"Luftpistole"},null,null,null,null,null,{"$f":"Hauptmaske!$F$6","v":"Luftpistole"},null,null,null,null,null,{"$f":"Hauptmaske!$F$6","v":"Luftpistole"},null,null,null,null,null,{"$f":"Hauptmaske!$F$6","v":"Luftpistole"},null,null,null,null,null,{"$f":"Hauptmaske!$F$6","v":"Luftpistole"},null,null,null,null,null,{"$f":"Hauptmaske!$F$6","v":"Luftpistole"},null,null,null,null,null,{"$f":"Hauptmaske!$F$6","v":"Luftpistole"},null,null,null,null,null,{"$f":"Hauptmaske!$F$6","v":"Luftpistole"},null,null,null,null,null,{"$f":"Hauptmaske!$F$6","v":"Luftpistole"},null,null,null,null,null,{"$f":"Hauptmaske!$F$6","v":"Luftpistole"},null,null,null,null,null,{"$f":"Hauptmaske!$F$6","v":"Luftpistole"},null,null,null,null,null,{"$f":"Hauptmaske!$F$6","v":"Luftpistole"},null,null,null,null,null,{"$f":"Hauptmaske!$F$6","v":"Luftpistole"},null,null,null,null,null,{"$f":"Hauptmaske!$F$6","v":"Luftpistole"},null,null,null,null,null,{"$f":"Hauptmaske!$F$6","v":"Luftpistole"},null,null,null,null,null,{"$f":"Hauptmaske!$F$6","v":"Luftpistole"},null,null,null,null,null,{"$f":"Hauptmaske!$F$6","v":"Luftpistole"},null,null,null,null,null,{"$f":"Hauptmaske!$F$6","v":"Luftpistole"},null,null,null,null,null,{"$f":"Hauptmaske!$F$6","v":"Luftpistole"},null,null,null,null,null,{"$f":"Hauptmaske!$F$6","v":"Luftpistole"},null,null,null,null,null,{"$f":"Hauptmaske!$F$6","v":"Luftpistole"},null,null,null,null,null,{"$f":"Hauptmaske!$F$6","v":"Luftpistole"},null,null,null,null,null,{"$f":"Hauptmaske!$F$6","v":"Luftpistole"},null,null,null,null,null,{"$f":"Hauptmaske!$F$6","v":"Luftpistole"},null,null,null,null,null,{"$f":"Hauptmaske!$F$6","v":"Luftpistole"}]
["Bestes\nErgebnis",null,"Beste\nEinzelserie","Teilnahmen","Mittelwert\nges. Ergebnis",null,"Bestes\nErgebnis",null,"Beste\nEinzelserie","Teilnahmen","Mittelwert\nges. Ergebnis",null,"Bestes\nErgebnis",null,"Beste\nEinzelserie","Teilnahmen","Mittelwert\nges. Ergebnis",null,"Bestes\nErgebnis",null,"Beste\nEinzelserie","Teilnahmen","Mittelwert\nges. Ergebnis",null,"Bestes\nErgebnis",null,"Beste\nEinzelserie","Teilnahmen","Mittelwert\nges. Ergebnis",null,"Bestes\nErgebnis",null,"Beste\nEinzelserie","Teilnahmen","Mittelwert\nges. Ergebnis",null,"Bestes\nErgebnis",null,"Beste\nEinzelserie","Teilnahmen","Mittelwert\nges. Ergebnis",null,"Bestes\nErgebnis",null,"Beste\nEinzelserie","Teilnahmen","Mittelwert\nges. Ergebnis",null,"Bestes\nErgebnis",null,"Beste\nEinzelserie","Teilnahmen","Mittelwert\nges. Ergebnis",null,"Bestes\nErgebnis",null,"Beste\nEinzelserie","Teilnahmen","Mittelwert\nges. Ergebnis",null,"Bestes\nErgebnis",null,"Beste\nEinzelserie","Teilnahmen","Mittelwert\nges. Ergebnis",null,"Bestes\nErgebnis",null,"Beste\nEinzelserie","Teilnahmen","Mittelwert\nges. Ergebnis",null,"Bestes\nErgebnis",null,"Beste\nEinzelserie","Teilnahmen","Mittelwert\nges. Ergebnis",null,"Bestes\nErgebnis",null,"Beste\nEinzelserie","Teilnahmen","Mittelwert\nges. Ergebnis",null,"Bestes\nErgebnis",null,"Beste\nEinzelserie","Teilnahmen","Mittelwert\nges. Ergebnis",null,"Bestes\nErgebnis",null,"Beste\nEinzelserie","Teilnahmen","Mittelwert\nges. Ergebnis",null,"Bestes\nErgebnis",null,"Beste\nEinzelserie","Teilnahmen","Mittelwert\nges. Ergebnis",null,"Bestes\nErgebnis",null,"Beste\nEinzelserie","Teilnahmen","Mittelwert\nges. Ergebnis",null,"Bestes\nErgebnis",null,"Beste\nEinzelserie","Teilnahmen","Mittelwert\nges. Ergebnis",null,"Bestes\nErgebnis",null,"Beste\nEinzelserie","Teilnahmen","Mittelwert\nges. Ergebnis",null,"Bestes\nErgebnis",null,"Beste\nEinzelserie","Teilnahmen","Mittelwert\nges. Ergebnis",null,"Bestes\nErgebnis",null,"Beste\nEinzelserie","Teilnahmen","Mittelwert\nges. Ergebnis",null,"Bestes\nErgebnis",null,"Beste\nEinzelserie","Teilnahmen","Mittelwert\nges. Ergebnis",null,"Bestes\nErgebnis",null,"Beste\nEinzelserie","Teilnahmen","Mittelwert\nges. Ergebnis",null,"Bestes\nErgebnis",null,"Beste\nEinzelserie","Teilnahmen","Mittelwert\nges. Ergebnis",null,"Bestes\nErgebnis",null,"Beste\nEinzelserie","Teilnahmen","Mittelwert\nges. Ergebnis",null,"Bestes\nErgebnis",null,"Beste\nEinzelserie","Teilnahmen","Mittelwert\nges. Ergebnis",null,"Bestes\nErgebnis",null,"Beste\nEinzelserie","Teilnahmen","Mittelwert\nges. Ergebnis",null,"Bestes\nErgebnis",null,"Beste\nEinzelserie","Teilnahmen","Mittelwert\nges. Ergebnis",null,"Bestes\nErgebnis",null,"Beste\nEinzelserie","Teilnahmen","Mittelwert\nges. Ergebnis",null,"Bestes\nErgebnis",null,"Beste\nEinzelserie","Teilnahmen","Mittelwert\nges. Ergebnis",null,"Bestes\nErgebnis",null,"Beste\nEinzelserie","Teilnahmen","Mittelwert\nges. Ergebnis",null,"Bestes\nErgebnis",null,"Beste\nEinzelserie","Teilnahmen","Mittelwert\nges. Ergebnis",null,"Bestes\nErgebnis",null,"Beste\nEinzelserie","Teilnahmen","Mittelwert\nges. Ergebnis",null,"Bestes\nErgebnis",null,"Beste\nEinzelserie","Teilnahmen","Mittelwert\nges. Ergebnis",null,"Bestes\nErgebnis",null,"Beste\nEinzelserie","Teilnahmen","Mittelwert\nges. Ergebnis",null,"Bestes\nErgebnis",null,"Beste\nEinzelserie","Teilnahmen","Mittelwert\nges. Ergebnis",null,"Bestes\nErgebnis",null,"Beste\nEinzelserie","Teilnahmen","Mittelwert\nges. Ergebnis",null,"Bestes\nErgebnis",null,"Beste\nEinzelserie","Teilnahmen","Mittelwert\nges. Ergebnis",null,"Bestes\nErgebnis",null,"Beste\nEinzelserie","Teilnahmen","Mittelwert\nges. Ergebnis"]
[{"$f":"IF(A9=\"\",\"\",MAX(F9:F117))","v":0},null,{"$f":"IF(A9=\"\",\"\",MAX(B9:E117))","v":0},{"$f":"IF(A9=\"\",\"\",COUNT(A9:A117))","v":1},{"$f":"IF(A9=\"\",\"\",AVERAGE(F9:F117))","v":0},null,{"$f":"IF(G9=\"\",\"\",MAX(L9:L117))","v":""},null,{"$f":"IF(G9=\"\",\"\",MAX(H9:K117))","v":""},{"$f":"IF(G9=\"\",\"\",COUNT(G9:G117))","v":""},{"$f":"IF(G9=\"\",\"\",AVERAGE(L9:L117))","v":""},null,{"$f":"IF(M9=\"\",\"\",MAX(R9:R117))","v":""},null,{"$f":"IF(M9=\"\",\"\",MAX(N9:Q117))","v":""},{"$f":"IF(M9=\"\",\"\",COUNT(M9:M117))","v":""},{"$f":"IF(M9=\"\",\"\",AVERAGE(R9:R117))","v":""},null,{"$f":"IF(S9=\"\",\"\",MAX(X9:X117))","v":""},null,{"$f":"IF(S9=\"\",\"\",MAX(T9:W117))","v":""},{"$f":"IF(S9=\"\",\"\",COUNT(S9:S117))","v":""},{"$f":"IF(S9=\"\",\"\",AVERAGE(X9:X117))","v":""},null,{"$f":"IF(Y9=\"\",\"\",MAX(AD9:AD117))","v":""},null,{"$f":"IF(Y9=\"\",\"\",MAX(Z9:AC117))","v":""},{"$f":"IF(Y9=\"\",\"\",COUNT(Y9:Y117))","v":""},{"$f":"IF(Y9=\"\",\"\",AVERAGE(AD9:AD117))","v":""},null,{"$f":"IF(AE9=\"\",\"\",MAX(AJ9:AJ117))","v":""},null,{"$f":"IF(AE9=\"\",\"\",MAX(AF9:AI117))","v":""},{"$f":"IF(AE9=\"\",\"\",COUNT(AE9:AE117))","v":""},{"$f":"IF(AE9=\"\",\"\",AVERAGE(AJ9:AJ117))","v":""},null,{"$f":"IF(AK9=\"\",\"\",MAX(AP9:AP117))","v":""},null,{"$f":"IF(AK9=\"\",\"\",MAX(AL9:AO117))","v":""},{"$f":"IF(AK9=\"\",\"\",COUNT(AK9:AK117))","v":""},{"$f":"IF(AK9=\"\",\"\",AVERAGE(AP9:AP117))","v":""},null,{"$f":"IF(AQ9=\"\",\"\",MAX(AV9:AV117))","v":""},null,{"$f":"IF(AQ9=\"\",\"\",MAX(AR9:AU117))","v":""},{"$f":"IF(AQ9=\"\",\"\",COUNT(AQ9:AQ117))","v":""},{"$f":"IF(AQ9=\"\",\"\",AVERAGE(AV9:AV117))","v":""},null,{"$f":"IF(AW9=\"\",\"\",MAX(BB9:BB117))","v":""},null,{"$f":"IF(AW9=\"\",\"\",MAX(AX9:BA117))","v":""},{"$f":"IF(AW9=\"\",\"\",COUNT(AW9:AW117))","v":""},{"$f":"IF(AW9=\"\",\"\",AVERAGE(BB9:BB117))","v":""},null,{"$f":"IF(BC9=\"\",\"\",MAX(BH9:BH117))","v":""},null,{"$f":"IF(BC9=\"\",\"\",MAX(BD9:BG117))","v":""},{"$f":"IF(BC9=\"\",\"\",COUNT(BC9:BC117))","v":""},{"$f":"IF(BC9=\"\",\"\",AVERAGE(BH9:BH117))","v":""},null,{"$f":"IF(BI9=\"\",\"\",MAX(BN9:BN117))","v":""},null,{"$f":"IF(BI9=\"\",\"\",MAX(BJ9:BM117))","v":""},{"$f":"IF(BI9=\"\",\"\",COUNT(BI9:BI117))","v":""},{"$f":"IF(BI9=\"\",\"\",AVERAGE(BN9:BN117))","v":""},null,{"$f":"IF(BO9=\"\",\"\",MAX(BT9:BT117))","v":""},null,{"$f":"IF(BO9=\"\",\"\",MAX(BP9:BS117))","v":""},{"$f":"IF(BO9=\"\",\"\",COUNT(BO9:BO117))","v":""},{"$f":"IF(BO9=\"\",\"\",AVERAGE(BT9:BT117))","v":""},null,{"$f":"IF(BU9=\"\",\"\",MAX(BZ9:BZ117))","v":""},null,{"$f":"IF(BU9=\"\",\"\",MAX(BV9:BY117))","v":""},{"$f":"IF(BU9=\"\",\"\",COUNT(BU9:BU117))","v":""},{"$f":"IF(BU9=\"\",\"\",AVERAGE(BZ9:BZ117))","v":""},null,{"$f":"IF(CA9=\"\",\"\",MAX(CF9:CF117))","v":""},null,{"$f":"IF(CA9=\"\",\"\",MAX(CB9:CE117))","v":""},{"$f":"IF(CA9=\"\",\"\",COUNT(CA9:CA117))","v":""},{"$f":"IF(CA9=\"\",\"\",AVERAGE(CF9:CF117))","v":""},null,{"$f":"IF(CG9=\"\",\"\",MAX(CL9:CL117))","v":""},null,{"$f":"IF(CG9=\"\",\"\",MAX(CH9:CK117))","v":""},{"$f":"IF(CG9=\"\",\"\",COUNT(CG9:CG117))","v":""},{"$f":"IF(CG9=\"\",\"\",AVERAGE(CL9:CL117))","v":""},null,{"$f":"IF(CM9=\"\",\"\",MAX(CR9:CR117))","v":""},null,{"$f":"IF(CM9=\"\",\"\",MAX(CN9:CQ117))","v":""},{"$f":"IF(CM9=\"\",\"\",COUNT(CM9:CM117))","v":""},{"$f":"IF(CM9=\"\",\"\",AVERAGE(CR9:CR117))","v":""},null,{"$f":"IF(CS9=\"\",\"\",MAX(CX9:CX117))","v":""},null,{"$f":"IF(CS9=\"\",\"\",MAX(CT9:CW117))","v":""},{"$f":"IF(CS9=\"\",\"\",COUNT(CS9:CS117))","v":""},{"$f":"IF(CS9=\"\",\"\",AVERAGE(CX9:CX117))","v":""},null,{"$f":"IF(CY9=\"\",\"\",MAX(DD9:DD117))","v":""},null,{"$f":"IF(CY9=\"\",\"\",MAX(CZ9:DC117))","v":""},{"$f":"IF(CY9=\"\",\"\",COUNT(CY9:CY117))","v":""},{"$f":"IF(CY9=\"\",\"\",AVERAGE(DD9:DD117))","v":""},null,{"$f":"IF(DE9=\"\",\"\",MAX(DJ9:DJ117))","v":""},null,{"$f":"IF(DE9=\"\",\"\",MAX(DF9:DI117))","v":""},{"$f":"IF(DE9=\"\",\"\",COUNT(DE9:DE117))","v":""},{"$f":"IF(DE9=\"\",\"\",AVERAGE(DJ9:DJ117))","v":""},null,{"$f":"IF(DK9=\"\",\"\",MAX(DP9:DP117))","v":""},null,{"$f":"IF(DK9=\"\",\"\",MAX(DL9:DO117))","v":""},{"$f":"IF(DK9=\"\",\"\",COUNT(DK9:DK117))","v":""},{"$f":"IF(DK9=\"\",\"\",AVERAGE(DP9:DP117))","v":""},null,{"$f":"IF(DQ9=\"\",\"\",MAX(DV9:DV117))","v":""},null,{"$f":"IF(DQ9=\"\",\"\",MAX(DR9:DU117))","v":""},{"$f":"IF(DQ9=\"\",\"\",COUNT(DQ9:DQ117))","v":""},{"$f":"IF(DQ9=\"\",\"\",AVERAGE(DV9:DV117))","v":""},null,{"$f":"IF(DW9=\"\",\"\",MAX(EB9:EB117))","v":""},null,{"$f":"IF(DW9=\"\",\"\",MAX(DX9:EA117))","v":""},{"$f":"IF(DW9=\"\",\"\",COUNT(DW9:DW117))","v":""},{"$f":"IF(DW9=\"\",\"\",AVERAGE(EB9:EB117))","v":""},null,{"$f":"IF(EC9=\"\",\"\",MAX(EH9:EH117))","v":""},null,{"$f":"IF(EC9=\"\",\"\",MAX(ED9:EG117))","v":""},{"$f":"IF(EC9=\"\",\"\",COUNT(EC9:EC117))","v":""},{"$f":"IF(EC9=\"\",\"\",AVERAGE(EH9:EH117))","v":""},null,{"$f":"IF(EI9=\"\",\"\",MAX(EN9:EN117))","v":""},null,{"$f":"IF(EI9=\"\",\"\",MAX(EJ9:EM117))","v":""},{"$f":"IF(EI9=\"\",\"\",COUNT(EI9:EI117))","v":""},{"$f":"IF(EI9=\"\",\"\",AVERAGE(EN9:EN117))","v":""},null,{"$f":"IF(EO9=\"\",\"\",MAX(ET9:ET117))","v":""},null,{"$f":"IF(EO9=\"\",\"\",MAX(EP9:ES117))","v":""},{"$f":"IF(EO9=\"\",\"\",COUNT(EO9:EO117))","v":""},{"$f":"IF(EO9=\"\",\"\",AVERAGE(ET9:ET117))","v":""},null,{"$f":"IF(EU9=\"\",\"\",MAX(EZ9:EZ117))","v":""},null,{"$f":"IF(EU9=\"\",\"\",MAX(EV9:EY117))","v":""},{"$f":"IF(EU9=\"\",\"\",COUNT(EU9:EU117))","v":""},{"$f":"IF(EU9=\"\",\"\",AVERAGE(EZ9:EZ117))","v":""},null,{"$f":"IF(FA9=\"\",\"\",MAX(FF9:FF117))","v":""},null,{"$f":"IF(FA9=\"\",\"\",MAX(FB9:FE117))","v":""},{"$f":"IF(FA9=\"\",\"\",COUNT(FA9:FA117))","v":""},{"$f":"IF(FA9=\"\",\"\",AVERAGE(FF9:FF117))","v":""},null,{"$f":"IF(FG9=\"\",\"\",MAX(FL9:FL117))","v":""},null,{"$f":"IF(FG9=\"\",\"\",MAX(FH9:FK117))","v":""},{"$f":"IF(FG9=\"\",\"\",COUNT(FG9:FG117))","v":""},{"$f":"IF(FG9=\"\",\"\",AVERAGE(FL9:FL117))","v":""},null,{"$f":"IF(FM9=\"\",\"\",MAX(FR9:FR117))","v":""},null,{"$f":"IF(FM9=\"\",\"\",MAX(FN9:FQ117))","v":""},{"$f":"IF(FM9=\"\",\"\",COUNT(FM9:FM117))","v":""},{"$f":"IF(FM9=\"\",\"\",AVERAGE(FR9:FR117))","v":""},null,{"$f":"IF(FS9=\"\",\"\",MAX(FX9:FX117))","v":""},null,{"$f":"IF(FS9=\"\",\"\",MAX(FT9:FW117))","v":""},{"$f":"IF(FS9=\"\",\"\",COUNT(FS9:FS117))","v":""},{"$f":"IF(FS9=\"\",\"\",AVERAGE(FX9:FX117))","v":""},null,{"$f":"IF(FY9=\"\",\"\",MAX(GD9:GD117))","v":""},null,{"$f":"IF(FY9=\"\",\"\",MAX(FZ9:GC117))","v":""},{"$f":"IF(FY9=\"\",\"\",COUNT(FY9:FY117))","v":""},{"$f":"IF(FY9=\"\",\"\",AVERAGE(GD9:GD117))","v":""},null,{"$f":"IF(GE9=\"\",\"\",MAX(GJ9:GJ117))","v":""},null,{"$f":"IF(GE9=\"\",\"\",MAX(GF9:GI117))","v":""},{"$f":"IF(GE9=\"\",\"\",COUNT(GE9:GE117))","v":""},{"$f":"IF(GE9=\"\",\"\",AVERAGE(GJ9:GJ117))","v":""},null,{"$f":"IF(GK9=\"\",\"\",MAX(GP9:GP117))","v":""},null,{"$f":"IF(GK9=\"\",\"\",MAX(GL9:GO117))","v":""},{"$f":"IF(GK9=\"\",\"\",COUNT(GK9:GK117))","v":""},{"$f":"IF(GK9=\"\",\"\",AVERAGE(GP9:GP117))","v":""},null,{"$f":"IF(GQ9=\"\",\"\",MAX(GV9:GV117))","v":""},null,{"$f":"IF(GQ9=\"\",\"\",MAX(GR9:GU117))","v":""},{"$f":"IF(GQ9=\"\",\"\",COUNT(GQ9:GQ117))","v":""},{"$f":"IF(GQ9=\"\",\"\",AVERAGE(GV9:GV117))","v":""},null,{"$f":"IF(GW9=\"\",\"\",MAX(HB9:HB117))","v":""},null,{"$f":"IF(GW9=\"\",\"\",MAX(GX9:HA117))","v":""},{"$f":"IF(GW9=\"\",\"\",COUNT(GW9:GW117))","v":""},{"$f":"IF(GW9=\"\",\"\",AVERAGE(HB9:HB117))","v":""},null,{"$f":"IF(HC9=\"\",\"\",MAX(HH9:HH117))","v":""},null,{"$f":"IF(HC9=\"\",\"\",MAX(HD9:HG117))","v":""},{"$f":"IF(HC9=\"\",\"\",COUNT(HC9:HC117))","v":""},{"$f":"IF(HC9=\"\",\"\",AVERAGE(HH9:HH117))","v":""},null,{"$f":"IF(HI9=\"\",\"\",MAX(HN9:HN117))","v":""},null,{"$f":"IF(HI9=\"\",\"\",MAX(HJ9:HM117))","v":""},{"$f":"IF(HI9=\"\",\"\",COUNT(HI9:HI117))","v":""},{"$f":"IF(HI9=\"\",\"\",AVERAGE(HN9:HN117))","v":""},null,{"$f":"IF(HO9=\"\",\"\",MAX(HT9:HT117))","v":""},null,{"$f":"IF(HO9=\"\",\"\",MAX(HP9:HS117))","v":""},{"$f":"IF(HO9=\"\",\"\",COUNT(HO9:HO117))","v":""},{"$f":"IF(HO9=\"\",\"\",AVERAGE(HT9:HT117))","v":""},null,{"$f":"IF(HU9=\"\",\"\",MAX(HZ9:HZ117))","v":""},null,{"$f":"IF(HU9=\"\",\"\",MAX(HV9:HY117))","v":""},{"$f":"IF(HU9=\"\",\"\",COUNT(HU9:HU117))","v":""},{"$f":"IF(HU9=\"\",\"\",AVERAGE(HZ9:HZ117))","v":""},null,{"$f":"IF(IA9=\"\",\"\",MAX(IF9:IF117))","v":""},null,{"$f":"IF(IA9=\"\",\"\",MAX(IB9:IE117))","v":""},{"$f":"IF(IA9=\"\",\"\",COUNT(IA9:IA117))","v":""},{"$f":"IF(IA9=\"\",\"\",AVERAGE(IF9:IF117))","v":""}]
["Schlechtestes\nErgebnis",null,"Schlechteste\nEinzelserie",null,"Ø Einzelschuss aus \nbester Einzelserie",null,"Schlechtestes\nErgebnis",null,"Schlechteste\nEinzelserie",null,"Ø Einzelschuss aus \nbester Einzelserie",null,"Schlechtestes\nErgebnis",null,"Schlechteste\nEinzelserie",null,"Ø Einzelschuss aus \nbester Einzelserie",null,"Schlechtestes\nErgebnis",null,"Schlechteste\nEinzelserie",null,"Ø Einzelschuss aus \nbester Einzelserie",null,"Schlechtestes\nErgebnis",null,"Schlechteste\nEinzelserie",null,"Ø Einzelschuss aus \nbester Einzelserie",null,"Schlechtestes\nErgebnis",null,"Schlechteste\nEinzelserie",null,"Ø Einzelschuss aus \nbester Einzelserie",null,"Schlechtestes\nErgebnis",null,"Schlechteste\nEinzelserie",null,"Ø Einzelschuss aus \nbester Einzelserie",null,"Schlechtestes\nErgebnis",null,"Schlechteste\nEinzelserie",null,"Ø Einzelschuss aus \nbester Einzelserie",null,"Schlechtestes\nErgebnis",null,"Schlechteste\nEinzelserie",null,"Ø Einzelschuss aus \nbester Einzelserie",null,"Schlechtestes\nErgebnis",null,"Schlechteste\nEinzelserie",null,"Ø Einzelschuss aus \nbester Einzelserie",null,"Schlechtestes\nErgebnis",null,"Schlechteste\nEinzelserie",null,"Ø Einzelschuss aus \nbester Einzelserie",null,"Schlechtestes\nErgebnis",null,"Schlechteste\nEinzelserie",null,"Ø Einzelschuss aus \nbester Einzelserie",null,"Schlechtestes\nErgebnis",null,"Schlechteste\nEinzelserie",null,"Ø Einzelschuss aus \nbester Einzelserie",null,"Schlechtestes\nErgebnis",null,"Schlechteste\nEinzelserie",null,"Ø Einzelschuss aus \nbester Einzelserie",null,"Schlechtestes\nErgebnis",null,"Schlechteste\nEinzelserie",null,"Ø Einzelschuss aus \nbester Einzelserie",null,"Schlechtestes\nErgebnis",null,"Schlechteste\nEinzelserie",null,"Ø Einzelschuss aus \nbester Einzelserie",null,"Schlechtestes\nErgebnis",null,"Schlechteste\nEinzelserie",null,"Ø Einzelschuss aus \nbester Einzelserie",null,"Schlechtestes\nErgebnis",null,"Schlechteste\nEinzelserie",null,"Ø Einzelschuss aus \nbester Einzelserie",null,"Schlechtestes\nErgebnis",null,"Schlechteste\nEinzelserie",null,"Ø Einzelschuss aus \nbester Einzelserie",null,"Schlechtestes\nErgebnis",null,"Schlechteste\nEinzelserie",null,"Ø Einzelschuss aus \nbester Einzelserie",null,"Schlechtestes\nErgebnis",null,"Schlechteste\nEinzelserie",null,"Ø Einzelschuss aus \nbester Einzelserie",null,"Schlechtestes\nErgebnis",null,"Schlechteste\nEinzelserie",null,"Ø Einzelschuss aus \nbester Einzelserie",null,"Schlechtestes\nErgebnis",null,"Schlechteste\nEinzelserie",null,"Ø Einzelschuss aus \nbester Einzelserie",null,"Schlechtestes\nErgebnis",null,"Schlechteste\nEinzelserie",null,"Ø Einzelschuss aus \nbester Einzelserie",null,"Schlechtestes\nErgebnis",null,"Schlechteste\nEinzelserie",null,"Ø Einzelschuss aus \nbester Einzelserie",null,"Schlechtestes\nErgebnis",null,"Schlechteste\nEinzelserie",null,"Ø Einzelschuss aus \nbester Einzelserie",null,"Schlechtestes\nErgebnis",null,"Schlechteste\nEinzelserie",null,"Ø Einzelschuss aus \nbester Einzelserie",null,"Schlechtestes\nErgebnis",null,"Schlechteste\nEinzelserie",null,"Ø Einzelschuss aus \nbester Einzelserie",null,"Schlechtestes\nErgebnis",null,"Schlechteste\nEinzelserie",null,"Ø Einzelschuss aus \nbester Einzelserie",null,"Schlechtestes\nErgebnis",null,"Schlechteste\nEinzelserie",null,"Ø Einzelschuss aus \nbester Einzelserie",null,"Schlechtestes\nErgebnis",null,"Schlechteste\nEinzelserie",null,"Ø Einzelschuss aus \nbester Einzelserie",null,"Schlechtestes\nErgebnis",null,"Schlechteste\nEinzelserie",null,"Ø Einzelschuss aus \nbester Einzelserie",null,"Schlechtestes\nErgebnis",null,"Schlechteste\nEinzelserie",null,"Ø Einzelschuss aus \nbester Einzelserie",null,"Schlechtestes\nErgebnis",null,"Schlechteste\nEinzelserie",null,"Ø Einzelschuss aus \nbester Einzelserie",null,"Schlechtestes\nErgebnis",null,"Schlechteste\nEinzelserie",null,"Ø Einzelschuss aus \nbester Einzelserie",null,"Schlechtestes\nErgebnis",null,"Schlechteste\nEinzelserie",null,"Ø Einzelschuss aus \nbester Einzelserie",null,"Schlechtestes\nErgebnis",null,"Schlechteste\nEinzelserie",null,"Ø Einzelschuss aus \nbester Einzelserie",null,"Schlechtestes\nErgebnis",null,"Schlechteste\nEinzelserie",null,"Ø Einzelschuss aus \nbester Einzelserie",null,"Schlechtestes\nErgebnis",null,"Schlechteste\nEinzelserie",null,"Ø Einzelschuss aus \nbester Einzelserie",null,"Schlechtestes\nErgebnis",null,"Schlechteste\nEinzelserie",null,"Ø Einzelschuss aus \nbester Einzelserie"]
[{"$f":"IF(A9=\"\",\"\",MIN(F9:F117))","v":0},null,{"$f":"IF(A9=\"\",\"\",MIN(B9:E117))","v":0},null,{"$f":"IF(A9=\"\",\"\",MAX(B9:E117)/Hauptmaske!$F$5)","v":0},{"$f":"IF(A9=\"\",\"\",MIN(B9:E117)/Hauptmaske!$F$5)","v":0},{"$f":"IF(G9=\"\",\"\",MIN(L9:L117))","v":""},null,{"$f":"IF(G9=\"\",\"\",MIN(H9:K117))","v":""},null,{"$f":"IF(G9=\"\",\"\",MAX(H9:K117)/Hauptmaske!$F$5)","v":""},{"$f":"IF(G9=\"\",\"\",MIN(H9:K117)/Hauptmaske!$F$5)","v":""},{"$f":"IF(M9=\"\",\"\",MIN(R9:R117))","v":""},null,{"$f":"IF(M9=\"\",\"\",MIN(N9:Q117))","v":""},null,{"$f":"IF(M9=\"\",\"\",MAX(N9:Q117)/Hauptmaske!$F$5)","v":""},{"$f":"IF(M9=\"\",\"\",MIN(N9:Q117)/Hauptmaske!$F$5)","v":""},{"$f":"IF(S9=\"\",\"\",MIN(X9:X117))","v":""},null,{"$f":"IF(S9=\"\",\"\",MIN(T9:W117))","v":""},null,{"$f":"IF(S9=\"\",\"\",MAX(T9:W117)/Hauptmaske!$F$5)","v":""},{"$f":"IF(S9=\"\",\"\",MIN(T9:W117)/Hauptmaske!$F$5)","v":""},{"$f":"IF(Y9=\"\",\"\",MIN(AD9:AD117))","v":""},null,{"$f":"IF(Y9=\"\",\"\",MIN(Z9:AC117))","v":""},null,{"$f":"IF(Y9=\"\",\"\",MAX(Z9:AC117)/Hauptmaske!$F$5)","v":""},{"$f":"IF(Y9=\"\",\"\",MIN(Z9:AC117)/Hauptmaske!$F$5)","v":""},{"$f":"IF(AE9=\"\",\"\",MIN(AJ9:AJ117))","v":""},null,{"$f":"IF(AE9=\"\",\"\",MIN(AF9:AI117))","v":""},null,{"$f":"IF(AE9=\"\",\"\",MAX(AF9:AI117)/Hauptmaske!$F$5)","v":""},{"$f":"IF(AE9=\"\",\"\",MIN(AF9:AI117)/Hauptmaske!$F$5)","v":""},{"$f":"IF(AK9=\"\",\"\",MIN(AP9:AP117))","v":""},null,{"$f":"IF(AK9=\"\",\"\",MIN(AL9:AO117))","v":""},null,{"$f":"IF(AK9=\"\",\"\",MAX(AL9:AO117)/Hauptmaske!$F$5)","v":""},{"$f":"IF(AK9=\"\",\"\",MIN(AL9:AO117)/Hauptmaske!$F$5)","v":""},{"$f":"IF(AQ9=\"\",\"\",MIN(AV9:AV117))","v":""},null,{"$f":"IF(AQ9=\"\",\"\",MIN(AR9:AU117))","v":""},null,{"$f":"IF(AQ9=\"\",\"\",MAX(AR9:AU117)/Hauptmaske!$F$5)","v":""},{"$f":"IF(AQ9=\"\",\"\",MIN(AR9:AU117)/Hauptmaske!$F$5)","v":""},{"$f":"IF(AW9=\"\",\"\",MIN(BB9:BB117))","v":""},null,{"$f":"IF(AW9=\"\",\"\",MIN(AX9:BA117))","v":""},null,{"$f":"IF(AW9=\"\",\"\",MAX(AX9:BA117)/Hauptmaske!$F$5)","v":""},{"$f":"IF(AW9=\"\",\"\",MIN(AX9:BA117)/Hauptmaske!$F$5)","v":""},{"$f":"IF(BC9=\"\",\"\",MIN(BH9:BH117))","v":""},null,{"$f":"IF(BC9=\"\",\"\",MIN(BD9:BG117))","v":""},null,{"$f":"IF(BC9=\"\",\"\",MAX(BD9:BG117)/Hauptmaske!$F$5)","v":""},{"$f":"IF(BC9=\"\",\"\",MIN(BD9:BG117)/Hauptmaske!$F$5)","v":""},{"$f":"IF(BI9=\"\",\"\",MIN(BN9:BN117))","v":""},null,{"$f":"IF(BI9=\"\",\"\",MIN(BJ9:BM117))","v":""},null,{"$f":"IF(BI9=\"\",\"\",MAX(BJ9:BM117)/Hauptmaske!$F$5)","v":""},{"$f":"IF(BI9=\"\",\"\",MIN(BJ9:BM117)/Hauptmaske!$F$5)","v":""},{"$f":"IF(BO9=\"\",\"\",MIN(BT9:BT117))","v":""},null,{"$f":"IF(BO9=\"\",\"\",MIN(BP9:BS117))","v":""},null,{"$f":"IF(BO9=\"\",\"\",MAX(BP9:BS117)/Hauptmaske!$F$5)","v":""},{"$f":"IF(BO9=\"\",\"\",MIN(BP9:BS117)/Hauptmaske!$F$5)","v":""},{"$f":"IF(BU9=\"\",\"\",MIN(BZ9:BZ117))","v":""},null,{"$f":"IF(BU9=\"\",\"\",MIN(BV9:BY117))","v":""},null,{"$f":"IF(BU9=\"\",\"\",MAX(BV9:BY117)/Hauptmaske!$F$5)","v":""},{"$f":"IF(BU9=\"\",\"\",MIN(BV9:BY117)/Hauptmaske!$F$5)","v":""},{"$f":"IF(CA9=\"\",\"\",MIN(CF9:CF117))","v":""},null,{"$f":"IF(CA9=\"\",\"\",MIN(CB9:CE117))","v":""},null,{"$f":"IF(CA9=\"\",\"\",MAX(CB9:CE117)/Hauptmaske!$F$5)","v":""},{"$f":"IF(CA9=\"\",\"\",MIN(CB9:CE117)/Hauptmaske!$F$5)","v":""},{"$f":"IF(CG9=\"\",\"\",MIN(CL9:CL117))","v":""},null,{"$f":"IF(CG9=\"\",\"\",MIN(CH9:CK117))","v":""},null,{"$f":"IF(CG9=\"\",\"\",MAX(CH9:CK117)/Hauptmaske!$F$5)","v":""},{"$f":"IF(CG9=\"\",\"\",MIN(CH9:CK117)/Hauptmaske!$F$5)","v":""},{"$f":"IF(CM9=\"\",\"\",MIN(CR9:CR117))","v":""},null,{"$f":"IF(CM9=\"\",\"\",MIN(CN9:CQ117))","v":""},null,{"$f":"IF(CM9=\"\",\"\",MAX(CN9:CQ117)/Hauptmaske!$F$5)","v":""},{"$f":"IF(CM9=\"\",\"\",MIN(CN9:CQ117)/Hauptmaske!$F$5)","v":""},{"$f":"IF(CS9=\"\",\"\",MIN(CX9:CX117))","v":""},null,{"$f":"IF(CS9=\"\",\"\",MIN(CT9:CW117))","v":""},null,{"$f":"IF(CS9=\"\",\"\",MAX(CT9:CW117)/Hauptmaske!$F$5)","v":""},{"$f":"IF(CS9=\"\",\"\",MIN(CT9:CW117)/Hauptmaske!$F$5)","v":""},{"$f":"IF(CY9=\"\",\"\",MIN(DD9:DD117))","v":""},null,{"$f":"IF(CY9=\"\",\"\",MIN(CZ9:DC117))","v":""},null,{"$f":"IF(CY9=\"\",\"\",MAX(CZ9:DC117)/Hauptmaske!$F$5)","v":""},{"$f":"IF(CY9=\"\",\"\",MIN(CZ9:DC117)/Hauptmaske!$F$5)","v":""},{"$f":"IF(DE9=\"\",\"\",MIN(DJ9:DJ117))","v":""},null,{"$f":"IF(DE9=\"\",\"\",MIN(DF9:DI117))","v":""},null,{"$f":"IF(DE9=\"\",\"\",MAX(DF9:DI117)/Hauptmaske!$F$5)","v":""},{"$f":"IF(DE9=\"\",\"\",MIN(DF9:DI117)/Hauptmaske!$F$5)","v":""},{"$f":"IF(DK9=\"\",\"\",MIN(DP9:DP117))","v":""},null,{"$f":"IF(DK9=\"\",\"\",MIN(DL9:DO117))","v":""},null,{"$f":"IF(DK9=\"\",\"\",MAX(DL9:DO117)/Hauptmaske!$F$5)","v":""},{"$f":"IF(DK9=\"\",\"\",MIN(DL9:DO117)/Hauptmaske!$F$5)","v":""},{"$f":"IF(DQ9=\"\",\"\",MIN(DV9:DV117))","v":""},null,{"$f":"IF(DQ9=\"\",\"\",MIN(DR9:DU117))","v":""},null,{"$f":"IF(DQ9=\"\",\"\",MAX(DR9:DU117)/Hauptmaske!$F$5)","v":""},{"$f":"IF(DQ9=\"\",\"\",MIN(DR9:DU117)/Hauptmaske!$F$5)","v":""},{"$f":"IF(DW9=\"\",\"\",MIN(EB9:EB117))","v":""},null,{"$f":"IF(DW9=\"\",\"\",MIN(DX9:EA117))","v":""},null,{"$f":"IF(DW9=\"\",\"\",MAX(DX9:EA117)/Hauptmaske!$F$5)","v":""},{"$f":"IF(DW9=\"\",\"\",MIN(DX9:EA117)/Hauptmaske!$F$5)","v":""},{"$f":"IF(EC9=\"\",\"\",MIN(EH9:EH117))","v":""},null,{"$f":"IF(EC9=\"\",\"\",MIN(ED9:EG117))","v":""},null,{"$f":"IF(EC9=\"\",\"\",MAX(ED9:EG117)/Hauptmaske!$F$5)","v":""},{"$f":"IF(EC9=\"\",\"\",MIN(ED9:EG117)/Hauptmaske!$F$5)","v":""},{"$f":"IF(EI9=\"\",\"\",MIN(EN9:EN117))","v":""},null,{"$f":"IF(EI9=\"\",\"\",MIN(EJ9:EM117))","v":""},null,{"$f":"IF(EI9=\"\",\"\",MAX(EJ9:EM117)/Hauptmaske!$F$5)","v":""},{"$f":"IF(EI9=\"\",\"\",MIN(EJ9:EM117)/Hauptmaske!$F$5)","v":""},{"$f":"IF(EO9=\"\",\"\",MIN(ET9:ET117))","v":""},null,{"$f":"IF(EO9=\"\",\"\",MIN(EP9:ES117))","v":""},null,{"$f":"IF(EO9=\"\",\"\",MAX(EP9:ES117)/Hauptmaske!$F$5)","v":""},{"$f":"IF(EO9=\"\",\"\",MIN(EP9:ES117)/Hauptmaske!$F$5)","v":""},{"$f":"IF(EU9=\"\",\"\",MIN(EZ9:EZ117))","v":""},null,{"$f":"IF(EU9=\"\",\"\",MIN(EV9:EY117))","v":""},null,{"$f":"IF(EU9=\"\",\"\",MAX(EV9:EY117)/Hauptmaske!$F$5)","v":""},{"$f":"IF(EU9=\"\",\"\",MIN(EV9:EY117)/Hauptmaske!$F$5)","v":""},{"$f":"IF(FA9=\"\",\"\",MIN(FF9:FF117))","v":""},null,{"$f":"IF(FA9=\"\",\"\",MIN(FB9:FE117))","v":""},null,{"$f":"IF(FA9=\"\",\"\",MAX(FB9:FE117)/Hauptmaske!$F$5)","v":""},{"$f":"IF(FA9=\"\",\"\",MIN(FB9:FE117)/Hauptmaske!$F$5)","v":""},{"$f":"IF(FG9=\"\",\"\",MIN(FL9:FL117))","v":""},null,{"$f":"IF(FG9=\"\",\"\",MIN(FH9:FK117))","v":""},null,{"$f":"IF(FG9=\"\",\"\",MAX(FH9:FK117)/Hauptmaske!$F$5)","v":""},{"$f":"IF(FG9=\"\",\"\",MIN(FH9:FK117)/Hauptmaske!$F$5)","v":""},{"$f":"IF(FM9=\"\",\"\",MIN(FR9:FR117))","v":""},null,{"$f":"IF(FM9=\"\",\"\",MIN(FN9:FQ117))","v":""},null,{"$f":"IF(FM9=\"\",\"\",MAX(FN9:FQ117)/Hauptmaske!$F$5)","v":""},{"$f":"IF(FM9=\"\",\"\",MIN(FN9:FQ117)/Hauptmaske!$F$5)","v":""},{"$f":"IF(FS9=\"\",\"\",MIN(FX9:FX117))","v":""},null,{"$f":"IF(FS9=\"\",\"\",MIN(FT9:FW117))","v":""},null,{"$f":"IF(FS9=\"\",\"\",MAX(FT9:FW117)/Hauptmaske!$F$5)","v":""},{"$f":"IF(FS9=\"\",\"\",MIN(FT9:FW117)/Hauptmaske!$F$5)","v":""},{"$f":"IF(FY9=\"\",\"\",MIN(GD9:GD117))","v":""},null,{"$f":"IF(FY9=\"\",\"\",MIN(FZ9:GC117))","v":""},null,{"$f":"IF(FY9=\"\",\"\",MAX(FZ9:GC117)/Hauptmaske!$F$5)","v":""},{"$f":"IF(FY9=\"\",\"\",MIN(FZ9:GC117)/Hauptmaske!$F$5)","v":""},{"$f":"IF(GE9=\"\",\"\",MIN(GJ9:GJ117))","v":""},null,{"$f":"IF(GE9=\"\",\"\",MIN(GF9:GI117))","v":""},null,{"$f":"IF(GE9=\"\",\"\",MAX(GF9:GI117)/Hauptmaske!$F$5)","v":""},{"$f":"IF(GE9=\"\",\"\",MIN(GF9:GI117)/Hauptmaske!$F$5)","v":""},{"$f":"IF(GK9=\"\",\"\",MIN(GP9:GP117))","v":""},null,{"$f":"IF(GK9=\"\",\"\",MIN(GL9:GO117))","v":""},null,{"$f":"IF(GK9=\"\",\"\",MAX(GL9:GO117)/Hauptmaske!$F$5)","v":""},{"$f":"IF(GK9=\"\",\"\",MIN(GL9:GO117)/Hauptmaske!$F$5)","v":""},{"$f":"IF(GQ9=\"\",\"\",MIN(GV9:GV117))","v":""},null,{"$f":"IF(GQ9=\"\",\"\",MIN(GR9:GU117))","v":""},null,{"$f":"IF(GQ9=\"\",\"\",MAX(GR9:GU117)/Hauptmaske!$F$5)","v":""},{"$f":"IF(GQ9=\"\",\"\",MIN(GR9:GU117)/Hauptmaske!$F$5)","v":""},{"$f":"IF(GW9=\"\",\"\",MIN(HB9:HB117))","v":""},null,{"$f":"IF(GW9=\"\",\"\",MIN(GX9:HA117))","v":""},null,{"$f":"IF(GW9=\"\",\"\",MAX(GX9:HA117)/Hauptmaske!$F$5)","v":""},{"$f":"IF(GW9=\"\",\"\",MIN(GX9:HA117)/Hauptmaske!$F$5)","v":""},{"$f":"IF(HC9=\"\",\"\",MIN(HH9:HH117))","v":""},null,{"$f":"IF(HC9=\"\",\"\",MIN(HD9:HG117))","v":""},null,{"$f":"IF(HC9=\"\",\"\",MAX(HD9:HG117)/Hauptmaske!$F$5)","v":""},{"$f":"IF(HC9=\"\",\"\",MIN(HD9:HG117)/Hauptmaske!$F$5)","v":""},{"$f":"IF(HI9=\"\",\"\",MIN(HN9:HN117))","v":""},null,{"$f":"IF(HI9=\"\",\"\",MIN(HJ9:HM117))","v":""},null,{"$f":"IF(HI9=\"\",\"\",MAX(HJ9:HM117)/Hauptmaske!$F$5)","v":""},{"$f":"IF(HI9=\"\",\"\",MIN(HJ9:HM117)/Hauptmaske!$F$5)","v":""},{"$f":"IF(HO9=\"\",\"\",MIN(HT9:HT117))","v":""},null,{"$f":"IF(HO9=\"\",\"\",MIN(HP9:HS117))","v":""},null,{"$f":"IF(HO9=\"\",\"\",MAX(HP9:HS117)/Hauptmaske!$F$5)","v":""},{"$f":"IF(HO9=\"\",\"\",MIN(HP9:HS117)/Hauptmaske!$F$5)","v":""},{"$f":"IF(HU9=\"\",\"\",MIN(HZ9:HZ117))","v":""},null,{"$f":"IF(HU9=\"\",\"\",MIN(HV9:HY117))","v":""},null,{"$f":"IF(HU9=\"\",\"\",MAX(HV9:HY117)/Hauptmaske!$F$5)","v":""},{"$f":"IF(HU9=\"\",\"\",MIN(HV9:HY117)/Hauptmaske!$F$5)","v":""},{"$f":"IF(IA9=\"\",\"\",MIN(IF9:IF117))","v":""},null,{"$f":"IF(IA9=\"\",\"\",MIN(IB9:IE117))","v":""},null,{"$f":"IF(IA9=\"\",\"\",MAX(IB9:IE117)/Hauptmaske!$F$5)","v":""},{"$f":"IF(IA9=\"\",\"\",MIN(IB9:IE117)/Hauptmaske!$F$5)","v":""}]
[{"$f":"IF(Hauptmaske!$G7=\"x\",Hauptmaske!$A7,\"Bitte Namen in Hauptmaske auswählen\")","v":"Testname"},null,null,null,null,null,{"$f":"IF(Hauptmaske!$G8=\"x\",Hauptmaske!$A8,\"Bitte Namen in Hauptmaske auswählen\")","v":"Bitte Namen in Hauptmaske auswählen"},null,null,null,null,null,{"$f":"IF(Hauptmaske!$G9=\"x\",Hauptmaske!$A9,\"Bitte Namen in Hauptmaske auswählen\")","v":"Bitte Namen in Hauptmaske auswählen"},null,null,null,null,null,{"$f":"IF(Hauptmaske!$G10=\"x\",Hauptmaske!$A10,\"Bitte Namen in Hauptmaske auswählen\")","v":"Bitte Namen in Hauptmaske auswählen"},null,null,null,null,null,{"$f":"IF(Hauptmaske!$G11=\"x\",Hauptmaske!$A11,\"Bitte Namen in Hauptmaske auswählen\")","v":"Bitte Namen in Hauptmaske auswählen"},null,null,null,null,null,{"$f":"IF(Hauptmaske!$G12=\"x\",Hauptmaske!$A12,\"Bitte Namen in Hauptmaske auswählen\")","v":"Bitte Namen in Hauptmaske auswählen"},null,null,null,null,null,{"$f":"IF(Hauptmaske!$G13=\"x\",Hauptmaske!$A13,\"Bitte Namen in Hauptmaske auswählen\")","v":"Bitte Namen in Hauptmaske auswählen"},null,null,null,null,null,{"$f":"IF(Hauptmaske!$G14=\"x\",Hauptmaske!$A14,\"Bitte Namen in Hauptmaske auswählen\")","v":"Bitte Namen in Hauptmaske auswählen"},null,null,null,null,null,{"$f":"IF(Hauptmaske!$G15=\"x\",Hauptmaske!$A15,\"Bitte Namen in Hauptmaske auswählen\")","v":"Bitte Namen in Hauptmaske auswählen"},null,null,null,null,null,{"$f":"IF(Hauptmaske!$G16=\"x\",Hauptmaske!$A16,\"Bitte Namen in Hauptmaske auswählen\")","v":"Bitte Namen in Hauptmaske auswählen"},null,null,null,null,null,{"$f":"IF(Hauptmaske!$G17=\"x\",Hauptmaske!$A17,\"Bitte Namen in Hauptmaske auswählen\")","v":"Bitte Namen in Hauptmaske auswählen"},null,null,null,null,null,{"$f":"IF(Hauptmaske!$G18=\"x\",Hauptmaske!$A18,\"Bitte Namen in Hauptmaske auswählen\")","v":"Bitte Namen in Hauptmaske auswählen"},null,null,null,null,null,{"$f":"IF(Hauptmaske!$G19=\"x\",Hauptmaske!$A19,\"Bitte Namen in Hauptmaske auswählen\")","v":"Bitte Namen in Hauptmaske auswählen"},null,null,null,null,null,{"$f":"IF(Hauptmaske!$G20=\"x\",Hauptmaske!$A20,\"Bitte Namen in Hauptmaske auswählen\")","v":"Bitte Namen in Hauptmaske auswählen"},null,null,null,null,null,{"$f":"IF(Hauptmaske!$G21=\"x\",Hauptmaske!$A21,\"Bitte Namen in Hauptmaske auswählen\")","v":"Bitte Namen in Hauptmaske auswählen"},null,null,null,null,null,{"$f":"IF(Hauptmaske!$G22=\"x\",Hauptmaske!$A22,\"Bitte Namen in Hauptmaske auswählen\")","v":"Bitte Namen in Hauptmaske auswählen"},null,null,null,null,null,{"$f":"IF(Hauptmaske!$G23=\"x\",Hauptmaske!$A23,\"Bitte Namen in Hauptmaske auswählen\")","v":"Bitte Namen in Hauptmaske auswählen"},null,null,null,null,null,{"$f":"IF(Hauptmaske!$G24=\"x\",Hauptmaske!$A24,\"Bitte Namen in Hauptmaske auswählen\")","v":"Bitte Namen in Hauptmaske auswählen"},null,null,null,null,null,{"$f":"IF(Hauptmaske!$G25=\"x\",Hauptmaske!$A25,\"Bitte Namen in Hauptmaske auswählen\")","v":"Bitte Namen in Hauptmaske auswählen"},null,null,null,null,null,{"$f":"IF(Hauptmaske!$G26=\"x\",Hauptmaske!$A26,\"Bitte Namen in Hauptmaske auswählen\")","v":"Bitte Namen in Hauptmaske auswählen"},null,null,null,null,null,{"$f":"IF(Hauptmaske!$G27=\"x\",Hauptmaske!$A27,\"Bitte Namen in Hauptmaske auswählen\")","v":"Bitte Namen in Hauptmaske auswählen"},null,null,null,null,null,{"$f":"IF(Hauptmaske!$G28=\"x\",Hauptmaske!$A28,\"Bitte Namen in Hauptmaske auswählen\")","v":"Bitte Namen in Hauptmaske auswählen"},null,null,null,null,null,{"$f":"IF(Hauptmaske!$G29=\"x\",Hauptmaske!$A29,\"Bitte Namen in Hauptmaske auswählen\")","v":"Bitte Namen in Hauptmaske auswählen"},null,null,null,null,null,{"$f":"IF(Hauptmaske!$G30=\"x\",Hauptmaske!$A30,\"Bitte Namen in Hauptmaske auswählen\")","v":"Bitte Namen in Hauptmaske auswählen"},null,null,null,null,null,{"$f":"IF(Hauptmaske!$G31=\"x\",Hauptmaske!$A31,\"Bitte Namen in Hauptmaske auswählen\")","v":"Bitte Namen in Hauptmaske auswählen"},null,null,null,null,null,{"$f":"IF(Hauptmaske!$G32=\"x\",Hauptmaske!$A32,\"Bitte Namen in Hauptmaske auswählen\")","v":"Bitte Namen in Hauptmaske auswählen"},null,null,null,null,null,{"$f":"IF(Hauptmaske!$G33=\"x\",Hauptmaske!$A33,\"Bitte Namen in Hauptmaske auswählen\")","v":"Bitte Namen in Hauptmaske auswählen"},null,null,null,null,null,{"$f":"IF(Hauptmaske!$G34=\"x\",Hauptmaske!$A34,\"Bitte Namen in Hauptmaske auswählen\")","v":"Bitte Namen in Hauptmaske auswählen"},null,null,null,null,null,{"$f":"IF(Hauptmaske!$G35=\"x\",Hauptmaske!$A35,\"Bitte Namen in Hauptmaske auswählen\")","v":"Bitte Namen in Hauptmaske auswählen"},null,null,null,null,null,{"$f":"IF(Hauptmaske!$G36=\"x\",Hauptmaske!$A36,\"Bitte Namen in Hauptmaske auswählen\")","v":"Bitte Namen in Hauptmaske auswählen"},null,null,null,null,null,{"$f":"IF(Hauptmaske!$G37=\"x\",Hauptmaske!$A37,\"Bitte Namen in Hauptmaske auswählen\")","v":"Bitte Namen in Hauptmaske auswählen"},null,null,null,null,null,{"$f":"IF(Hauptmaske!$G38=\"x\",Hauptmaske!$A38,\"Bitte Namen in Hauptmaske auswählen\")","v":"Bitte Namen in Hauptmaske auswählen"},null,null,null,null,null,{"$f":"IF(Hauptmaske!$G39=\"x\",Hauptmaske!$A39,\"Bitte Namen in Hauptmaske auswählen\")","v":"Bitte Namen in Hauptmaske auswählen"},null,null,null,null,null,{"$f":"IF(Hauptmaske!$G40=\"x\",Hauptmaske!$A40,\"Bitte Namen in Hauptmaske auswählen\")","v":"Bitte Namen in Hauptmaske auswählen"},null,null,null,null,null,{"$f":"IF(Hauptmaske!$G41=\"x\",Hauptmaske!$A41,\"Bitte Namen in Hauptmaske auswählen\")","v":"Bitte Namen in Hauptmaske auswählen"},null,null,null,null,null,{"$f":"IF(Hauptmaske!$G42=\"x\",Hauptmaske!$A42,\"Bitte Namen in Hauptmaske auswählen\")","v":"Bitte Namen in Hauptmaske auswählen"},null,null,null,null,null,{"$f":"IF(Hauptmaske!$G43=\"x\",Hauptmaske!$A43,\"Bitte Namen in Hauptmaske auswählen\")","v":"Bitte Namen in Hauptmaske auswählen"},null,null,null,null,null,{"$f":"IF(Hauptmaske!$G44=\"x\",Hauptmaske!$A44,\"Bitte Namen in Hauptmaske auswählen\")","v":"Bitte Namen in Hauptmaske auswählen"},null,null,null,null,null,{"$f":"IF(Hauptmaske!$G45=\"x\",Hauptmaske!$A45,\"Bitte Namen in Hauptmaske auswählen\")","v":"Bitte Namen in Hauptmaske auswählen"},null,null,null,null,null,{"$f":"IF(Hauptmaske!$G46=\"x\",Hauptmaske!$A46,\"Bitte Namen in Hauptmaske auswählen\")","v":"Bitte Namen in Hauptmaske auswählen"}]
["Datum:",{"$f":"CONCATENATE(\"Serie - 01\",\" (\",Hauptmaske!$F$5,\" Schuss)\")","v":"Serie - 01 (10 Schuss)"},{"$f":"CONCATENATE(\"Serie - 02\",\" (\",Hauptmaske!$F$5,\" Schuss)\")","v":"Serie - 02 (10 Schuss)"},{"$f":"CONCATENATE(\"Serie - 03\",\" (\",Hauptmaske!$F$5,\" Schuss)\")","v":"Serie - 03 (10 Schuss)"},{"$f":"CONCATENATE(\"Serie - 04\",\" (\",Hauptmaske!$F$5,\" Schuss)\")","v":"Serie - 04 (10 Schuss)"},"Summe","Datum:",{"$f":"CONCATENATE(\"Serie - 01\",\" (\",Hauptmaske!$F$5,\" Schuss)\")","v":"Serie - 01 (10 Schuss)"},{"$f":"CONCATENATE(\"Serie - 02\",\" (\",Hauptmaske!$F$5,\" Schuss)\")","v":"Serie - 02 (10 Schuss)"},{"$f":"CONCATENATE(\"Serie - 03\",\" (\",Hauptmaske!$F$5,\" Schuss)\")","v":"Serie - 03 (10 Schuss)"},{"$f":"CONCATENATE(\"Serie - 04\",\" (\",Hauptmaske!$F$5,\" Schuss)\")","v":"Serie - 04 (10 Schuss)"},"Summe","Datum:",{"$f":"CONCATENATE(\"Serie - 01\",\" (\",Hauptmaske!$F$5,\" Schuss)\")","v":"Serie - 01 (10 Schuss)"},{"$f":"CONCATENATE(\"Serie - 02\",\" (\",Hauptmaske!$F$5,\" Schuss)\")","v":"Serie - 02 (10 Schuss)"},{"$f":"CONCATENATE(\"Serie - 03\",\" (\",Hauptmaske!$F$5,\" Schuss)\")","v":"Serie - 03 (10 Schuss)"},{"$f":"CONCATENATE(\"Serie - 04\",\" (\",Hauptmaske!$F$5,\" Schuss)\")","v":"Serie - 04 (10 Schuss)"},"Summe","Datum:",{"$f":"CONCATENATE(\"Serie - 01\",\" (\",Hauptmaske!$F$5,\" Schuss)\")","v":"Serie - 01 (10 Schuss)"},{"$f":"CONCATENATE(\"Serie - 02\",\" (\",Hauptmaske!$F$5,\" Schuss)\")","v":"Serie - 02 (10 Schuss)"},{"$f":"CONCATENATE(\"Serie - 03\",\" (\",Hauptmaske!$F$5,\" Schuss)\")","v":"Serie - 03 (10 Schuss)"},{"$f":"CONCATENATE(\"Serie - 04\",\" (\",Hauptmaske!$F$5,\" Schuss)\")","v":"Serie - 04 (10 Schuss)"},"Summe","Datum:",{"$f":"CONCATENATE(\"Serie - 01\",\" (\",Hauptmaske!$F$5,\" Schuss)\")","v":"Serie - 01 (10 Schuss)"},{"$f":"CONCATENATE(\"Serie - 02\",\" (\",Hauptmaske!$F$5,\" Schuss)\")","v":"Serie - 02 (10 Schuss)"},{"$f":"CONCATENATE(\"Serie - 03\",\" (\",Hauptmaske!$F$5,\" Schuss)\")","v":"Serie - 03 (10 Schuss)"},{"$f":"CONCATENATE(\"Serie - 04\",\" (\",Hauptmaske!$F$5,\" Schuss)\")","v":"Serie - 04 (10 Schuss)"},"Summe","Datum:",{"$f":"CONCATENATE(\"Serie - 01\",\" (\",Hauptmaske!$F$5,\" Schuss)\")","v":"Serie - 01 (10 Schuss)"},{"$f":"CONCATENATE(\"Serie - 02\",\" (\",Hauptmaske!$F$5,\" Schuss)\")","v":"Serie - 02 (10 Schuss)"},{"$f":"CONCATENATE(\"Serie - 03\",\" (\",Hauptmaske!$F$5,\" Schuss)\")","v":"Serie - 03 (10 Schuss)"},{"$f":"CONCATENATE(\"Serie - 04\",\" (\",Hauptmaske!$F$5,\" Schuss)\")","v":"Serie - 04 (10 Schuss)"},"Summe","Datum:",{"$f":"CONCATENATE(\"Serie - 01\",\" (\",Hauptmaske!$F$5,\" Schuss)\")","v":"Serie - 01 (10 Schuss)"},{"$f":"CONCATENATE(\"Serie - 02\",\" (\",Hauptmaske!$F$5,\" Schuss)\")","v":"Serie - 02 (10 Schuss)"},{"$f":"CONCATENATE(\"Serie - 03\",\" (\",Hauptmaske!$F$5,\" Schuss)\")","v":"Serie - 03 (10 Schuss)"},{"$f":"CONCATENATE(\"Serie - 04\",\" (\",Hauptmaske!$F$5,\" Schuss)\")","v":"Serie - 04 (10 Schuss)"},"Summe","Datum:",{"$f":"CONCATENATE(\"Serie - 01\",\" (\",Hauptmaske!$F$5,\" Schuss)\")","v":"Serie - 01 (10 Schuss)"},{"$f":"CONCATENATE(\"Serie - 02\",\" (\",Hauptmaske!$F$5,\" Schuss)\")","v":"Serie - 02 (10 Schuss)"},{"$f":"CONCATENATE(\"Serie - 03\",\" (\",Hauptmaske!$F$5,\" Schuss)\")","v":"Serie - 03 (10 Schuss)"},{"$f":"CONCATENATE(\"Serie - 04\",\" (\",Hauptmaske!$F$5,\" Schuss)\")","v":"Serie - 04 (10 Schuss)"},"Summe","Datum:",{"$f":"CONCATENATE(\"Serie - 01\",\" (\",Hauptmaske!$F$5,\" Schuss)\")","v":"Serie - 01 (10 Schuss)"},{"$f":"CONCATENATE(\"Serie - 02\",\" (\",Hauptmaske!$F$5,\" Schuss)\")","v":"Serie - 02 (10 Schuss)"},{"$f":"CONCATENATE(\"Serie - 03\",\" (\",Hauptmaske!$F$5,\" Schuss)\")","v":"Serie - 03 (10 Schuss)"},{"$f":"CONCATENATE(\"Serie - 04\",\" (\",Hauptmaske!$F$5,\" Schuss)\")","v":"Serie - 04 (10 Schuss)"},"Summe","Datum:",{"$f":"CONCATENATE(\"Serie - 01\",\" (\",Hauptmaske!$F$5,\" Schuss)\")","v":"Serie - 01 (10 Schuss)"},{"$f":"CONCATENATE(\"Serie - 02\",\" (\",Hauptmaske!$F$5,\" Schuss)\")","v":"Serie - 02 (10 Schuss)"},{"$f":"CONCATENATE(\"Serie - 03\",\" (\",Hauptmaske!$F$5,\" Schuss)\")","v":"Serie - 03 (10 Schuss)"},{"$f":"CONCATENATE(\"Serie - 04\",\" (\",Hauptmaske!$F$5,\" Schuss)\")","v":"Serie - 04 (10 Schuss)"},"Summe","Datum:",{"$f":"CONCATENATE(\"Serie - 01\",\" (\",Hauptmaske!$F$5,\" Schuss)\")","v":"Serie - 01 (10 Schuss)"},{"$f":"CONCATENATE(\"Serie - 02\",\" (\",Hauptmaske!$F$5,\" Schuss)\")","v":"Serie - 02 (10 Schuss)"},{"$f":"CONCATENATE(\"Serie - 03\",\" (\",Hauptmaske!$F$5,\" Schuss)\")","v":"Serie - 03 (10 Schuss)"},{"$f":"CONCATENATE(\"Serie - 04\",\" (\",Hauptmaske!$F$5,\" Schuss)\")","v":"Serie - 04 (10 Schuss)"},"Summe","Datum:",{"$f":"CONCATENATE(\"Serie - 01\",\" (\",Hauptmaske!$F$5,\" Schuss)\")","v":"Serie - 01 (10 Schuss)"},{"$f":"CONCATENATE(\"Serie - 02\",\" (\",Hauptmaske!$F$5,\" Schuss)\")","v":"Serie - 02 (10 Schuss)"},{"$f":"CONCATENATE(\"Serie - 03\",\" (\",Hauptmaske!$F$5,\" Schuss)\")","v":"Serie - 03 (10 Schuss)"},{"$f":"CONCATENATE(\"Serie - 04\",\" (\",Hauptmaske!$F$5,\" Schuss)\")","v":"Serie - 04 (10 Schuss)"},"Summe","Datum:",{"$f":"CONCATENATE(\"Serie - 01\",\" (\",Hauptmaske!$F$5,\" Schuss)\")","v":"Serie - 01 (10 Schuss)"},{"$f":"CONCATENATE(\"Serie - 02\",\" (\",Hauptmaske!$F$5,\" Schuss)\")","v":"Serie - 02 (10 Schuss)"},{"$f":"CONCATENATE(\"Serie - 03\",\" (\",Hauptmaske!$F$5,\" Schuss)\")","v":"Serie - 03 (10 Schuss)"},{"$f":"CONCATENATE(\"Serie - 04\",\" (\",Hauptmaske!$F$5,\" Schuss)\")","v":"Serie - 04 (10 Schuss)"},"Summe","Datum:",{"$f":"CONCATENATE(\"Serie - 01\",\" (\",Hauptmaske!$F$5,\" Schuss)\")","v":"Serie - 01 (10 Schuss)"},{"$f":"CONCATENATE(\"Serie - 02\",\" (\",Hauptmaske!$F$5,\" Schuss)\")","v":"Serie - 02 (10 Schuss)"},{"$f":"CONCATENATE(\"Serie - 03\",\" (\",Hauptmaske!$F$5,\" Schuss)\")","v":"Serie - 03 (10 Schuss)"},{"$f":"CONCATENATE(\"Serie - 04\",\" (\",Hauptmaske!$F$5,\" Schuss)\")","v":"Serie - 04 (10 Schuss)"},"Summe","Datum:",{"$f":"CONCATENATE(\"Serie - 01\",\" (\",Hauptmaske!$F$5,\" Schuss)\")","v":"Serie - 01 (10 Schuss)"},{"$f":"CONCATENATE(\"Serie - 02\",\" (\",Hauptmaske!$F$5,\" Schuss)\")","v":"Serie - 02 (10 Schuss)"},{"$f":"CONCATENATE(\"Serie - 03\",\" (\",Hauptmaske!$F$5,\" Schuss)\")","v":"Serie - 03 (10 Schuss)"},{"$f":"CONCATENATE(\"Serie - 04\",\" (\",Hauptmaske!$F$5,\" Schuss)\")","v":"Serie - 04 (10 Schuss)"},"Summe","Datum:",{"$f":"CONCATENATE(\"Serie - 01\",\" (\",Hauptmaske!$F$5,\" Schuss)\")","v":"Serie - 01 (10 Schuss)"},{"$f":"CONCATENATE(\"Serie - 02\",\" (\",Hauptmaske!$F$5,\" Schuss)\")","v":"Serie - 02 (10 Schuss)"},{"$f":"CONCATENATE(\"Serie - 03\",\" (\",Hauptmaske!$F$5,\" Schuss)\")","v":"Serie - 03 (10 Schuss)"},{"$f":"CONCATENATE(\"Serie - 04\",\" (\",Hauptmaske!$F$5,\" Schuss)\")","v":"Serie - 04 (10 Schuss)"},"Summe","Datum:",{"$f":"CONCATENATE(\"Serie - 01\",\" (\",Hauptmaske!$F$5,\" Schuss)\")","v":"Serie - 01 (10 Schuss)"},{"$f":"CONCATENATE(\"Serie - 02\",\" (\",Hauptmaske!$F$5,\" Schuss)\")","v":"Serie - 02 (10 Schuss)"},{"$f":"CONCATENATE(\"Serie - 03\",\" (\",Hauptmaske!$F$5,\" Schuss)\")","v":"Serie - 03 (10 Schuss)"},{"$f":"CONCATENATE(\"Serie - 04\",\" (\",Hauptmaske!$F$5,\" Schuss)\")","v":"Serie - 04 (10 Schuss)"},"Summe","Datum:",{"$f":"CONCATENATE(\"Serie - 01\",\" (\",Hauptmaske!$F$5,\" Schuss)\")","v":"Serie - 01 (10 Schuss)"},{"$f":"CONCATENATE(\"Serie - 02\",\" (\",Hauptmaske!$F$5,\" Schuss)\")","v":"Serie - 02 (10 Schuss)"},{"$f":"CONCATENATE(\"Serie - 03\",\" (\",Hauptmaske!$F$5,\" Schuss)\")","v":"Serie - 03 (10 Schuss)"},{"$f":"CONCATENATE(\"Serie - 04\",\" (\",Hauptmaske!$F$5,\" Schuss)\")","v":"Serie - 04 (10 Schuss)"},"Summe","Datum:",{"$f":"CONCATENATE(\"Serie - 01\",\" (\",Hauptmaske!$F$5,\" Schuss)\")","v":"Serie - 01 (10 Schuss)"},{"$f":"CONCATENATE(\"Serie - 02\",\" (\",Hauptmaske!$F$5,\" Schuss)\")","v":"Serie - 02 (10 Schuss)"},{"$f":"CONCATENATE(\"Serie - 03\",\" (\",Hauptmaske!$F$5,\" Schuss)\")","v":"Serie - 03 (10 Schuss)"},{"$f":"CONCATENATE(\"Serie - 04\",\" (\",Hauptmaske!$F$5,\" Schuss)\")","v":"Serie - 04 (10 Schuss)"},"Summe","Datum:",{"$f":"CONCATENATE(\"Serie - 01\",\" (\",Hauptmaske!$F$5,\" Schuss)\")","v":"Serie - 01 (10 Schuss)"},{"$f":"CONCATENATE(\"Serie - 02\",\" (\",Hauptmaske!$F$5,\" Schuss)\")","v":"Serie - 02 (10 Schuss)"},{"$f":"CONCATENATE(\"Serie - 03\",\" (\",Hauptmaske!$F$5,\" Schuss)\")","v":"Serie - 03 (10 Schuss)"},{"$f":"CONCATENATE(\"Serie - 04\",\" (\",Hauptmaske!$F$5,\" Schuss)\")","v":"Serie - 04 (10 Schuss)"},"Summe","Datum:",{"$f":"CONCATENATE(\"Serie - 01\",\" (\",Hauptmaske!$F$5,\" Schuss)\")","v":"Serie - 01 (10 Schuss)"},{"$f":"CONCATENATE(\"Serie - 02\",\" (\",Hauptmaske!$F$5,\" Schuss)\")","v":"Serie - 02 (10 Schuss)"},{"$f":"CONCATENATE(\"Serie - 03\",\" (\",Hauptmaske!$F$5,\" Schuss)\")","v":"Serie - 03 (10 Schuss)"},{"$f":"CONCATENATE(\"Serie - 04\",\" (\",Hauptmaske!$F$5,\" Schuss)\")","v":"Serie - 04 (10 Schuss)"},"Summe","Datum:",{"$f":"CONCATENATE(\"Serie - 01\",\" (\",Hauptmaske!$F$5,\" Schuss)\")","v":"Serie - 01 (10 Schuss)"},{"$f":"CONCATENATE(\"Serie - 02\",\" (\",Hauptmaske!$F$5,\" Schuss)\")","v":"Serie - 02 (10 Schuss)"},{"$f":"CONCATENATE(\"Serie - 03\",\" (\",Hauptmaske!$F$5,\" Schuss)\")","v":"Serie - 03 (10 Schuss)"},{"$f":"CONCATENATE(\"Serie - 04\",\" (\",Hauptmaske!$F$5,\" Schuss)\")","v":"Serie - 04 (10 Schuss)"},"Summe","Datum:",{"$f":"CONCATENATE(\"Serie - 01\",\" (\",Hauptmaske!$F$5,\" Schuss)\")","v":"Serie - 01 (10 Schuss)"},{"$f":"CONCATENATE(\"Serie - 02\",\" (\",Hauptmaske!$F$5,\" Schuss)\")","v":"Serie - 02 (10 Schuss)"},{"$f":"CONCATENATE(\"Serie - 03\",\" (\",Hauptmaske!$F$5,\" Schuss)\")","v":"Serie - 03 (10 Schuss)"},{"$f":"CONCATENATE(\"Serie - 04\",\" (\",Hauptmaske!$F$5,\" Schuss)\")","v":"Serie - 04 (10 Schuss)"},"Summe","Datum:",{"$f":"CONCATENATE(\"Serie - 01\",\" (\",Hauptmaske!$F$5,\" Schuss)\")","v":"Serie - 01 (10 Schuss)"},{"$f":"CONCATENATE(\"Serie - 02\",\" (\",Hauptmaske!$F$5,\" Schuss)\")","v":"Serie - 02 (10 Schuss)"},{"$f":"CONCATENATE(\"Serie - 03\",\" (\",Hauptmaske!$F$5,\" Schuss)\")","v":"Serie - 03 (10 Schuss)"},{"$f":"CONCATENATE(\"Serie - 04\",\" (\",Hauptmaske!$F$5,\" Schuss)\")","v":"Serie - 04 (10 Schuss)"},"Summe","Datum:",{"$f":"CONCATENATE(\"Serie - 01\",\" (\",Hauptmaske!$F$5,\" Schuss)\")","v":"Serie - 01 (10 Schuss)"},{"$f":"CONCATENATE(\"Serie - 02\",\" (\",Hauptmaske!$F$5,\" Schuss)\")","v":"Serie - 02 (10 Schuss)"},{"$f":"CONCATENATE(\"Serie - 03\",\" (\",Hauptmaske!$F$5,\" Schuss)\")","v":"Serie - 03 (10 Schuss)"},{"$f":"CONCATENATE(\"Serie - 04\",\" (\",Hauptmaske!$F$5,\" Schuss)\")","v":"Serie - 04 (10 Schuss)"},"Summe","Datum:",{"$f":"CONCATENATE(\"Serie - 01\",\" (\",Hauptmaske!$F$5,\" Schuss)\")","v":"Serie - 01 (10 Schuss)"},{"$f":"CONCATENATE(\"Serie - 02\",\" (\",Hauptmaske!$F$5,\" Schuss)\")","v":"Serie - 02 (10 Schuss)"},{"$f":"CONCATENATE(\"Serie - 03\",\" (\",Hauptmaske!$F$5,\" Schuss)\")","v":"Serie - 03 (10 Schuss)"},{"$f":"CONCATENATE(\"Serie - 04\",\" (\",Hauptmaske!$F$5,\" Schuss)\")","v":"Serie - 04 (10 Schuss)"},"Summe","Datum:",{"$f":"CONCATENATE(\"Serie - 01\",\" (\",Hauptmaske!$F$5,\" Schuss)\")","v":"Serie - 01 (10 Schuss)"},{"$f":"CONCATENATE(\"Serie - 02\",\" (\",Hauptmaske!$F$5,\" Schuss)\")","v":"Serie - 02 (10 Schuss)"},{"$f":"CONCATENATE(\"Serie - 03\",\" (\",Hauptmaske!$F$5,\" Schuss)\")","v":"Serie - 03 (10 Schuss)"},{"$f":"CONCATENATE(\"Serie - 04\",\" (\",Hauptmaske!$F$5,\" Schuss)\")","v":"Serie - 04 (10 Schuss)"},"Summe","Datum:",{"$f":"CONCATENATE(\"Serie - 01\",\" (\",Hauptmaske!$F$5,\" Schuss)\")","v":"Serie - 01 (10 Schuss)"},{"$f":"CONCATENATE(\"Serie - 02\",\" (\",Hauptmaske!$F$5,\" Schuss)\")","v":"Serie - 02 (10 Schuss)"},{"$f":"CONCATENATE(\"Serie - 03\",\" (\",Hauptmaske!$F$5,\" Schuss)\")","v":"Serie - 03 (10 Schuss)"},{"$f":"CONCATENATE(\"Serie - 04\",\" (\",Hauptmaske!$F$5,\" Schuss)\")","v":"Serie - 04 (10 Schuss)"},"Summe","Datum:",{"$f":"CONCATENATE(\"Serie - 01\",\" (\",Hauptmaske!$F$5,\" Schuss)\")","v":"Serie - 01 (10 Schuss)"},{"$f":"CONCATENATE(\"Serie - 02\",\" (\",Hauptmaske!$F$5,\" Schuss)\")","v":"Serie - 02 (10 Schuss)"},{"$f":"CONCATENATE(\"Serie - 03\",\" (\",Hauptmaske!$F$5,\" Schuss)\")","v":"Serie - 03 (10 Schuss)"},{"$f":"CONCATENATE(\"Serie - 04\",\" (\",Hauptmaske!$F$5,\" Schuss)\")","v":"Serie - 04 (10 Schuss)"},"Summe","Datum:",{"$f":"CONCATENATE(\"Serie - 01\",\" (\",Hauptmaske!$F$5,\" Schuss)\")","v":"Serie - 01 (10 Schuss)"},{"$f":"CONCATENATE(\"Serie - 02\",\" (\",Hauptmaske!$F$5,\" Schuss)\")","v":"Serie - 02 (10 Schuss)"},{"$f":"CONCATENATE(\"Serie - 03\",\" (\",Hauptmaske!$F$5,\" Schuss)\")","v":"Serie - 03 (10 Schuss)"},{"$f":"CONCATENATE(\"Serie - 04\",\" (\",Hauptmaske!$F$5,\" Schuss)\")","v":"Serie - 04 (10 Schuss)"},"Summe","Datum:",{"$f":"CONCATENATE(\"Serie - 01\",\" (\",Hauptmaske!$F$5,\" Schuss)\")","v":"Serie - 01 (10 Schuss)"},{"$f":"CONCATENATE(\"Serie - 02\",\" (\",Hauptmaske!$F$5,\" Schuss)\")","v":"Serie - 02 (10 Schuss)"},{"$f":"CONCATENATE(\"Serie - 03\",\" (\",Hauptmaske!$F$5,\" Schuss)\")","v":"Serie - 03 (10 Schuss)"},{"$f":"CONCATENATE(\"Serie - 04\",\" (\",Hauptmaske!$F$5,\" Schuss)\")","v":"Serie - 04 (10 Schuss)"},"Summe","Datum:",{"$f":"CONCATENATE(\"Serie - 01\",\" (\",Hauptmaske!$F$5,\" Schuss)\")","v":"Serie - 01 (10 Schuss)"},{"$f":"CONCATENATE(\"Serie - 02\",\" (\",Hauptmaske!$F$5,\" Schuss)\")","v":"Serie - 02 (10 Schuss)"},{"$f":"CONCATENATE(\"Serie - 03\",\" (\",Hauptmaske!$F$5,\" Schuss)\")","v":"Serie - 03 (10 Schuss)"},{"$f":"CONCATENATE(\"Serie - 04\",\" (\",Hauptmaske!$F$5,\" Schuss)\")","v":"Serie - 04 (10 Schuss)"},"Summe","Datum:",{"$f":"CONCATENATE(\"Serie - 01\",\" (\",Hauptmaske!$F$5,\" Schuss)\")","v":"Serie - 01 (10 Schuss)"},{"$f":"CONCATENATE(\"Serie - 02\",\" (\",Hauptmaske!$F$5,\" Schuss)\")","v":"Serie - 02 (10 Schuss)"},{"$f":"CONCATENATE(\"Serie - 03\",\" (\",Hauptmaske!$F$5,\" Schuss)\")","v":"Serie - 03 (10 Schuss)"},{"$f":"CONCATENATE(\"Serie - 04\",\" (\",Hauptmaske!$F$5,\" Schuss)\")","v":"Serie - 04 (10 Schuss)"},"Summe","Datum:",{"$f":"CONCATENATE(\"Serie - 01\",\" (\",Hauptmaske!$F$5,\" Schuss)\")","v":"Serie - 01 (10 Schuss)"},{"$f":"CONCATENATE(\"Serie - 02\",\" (\",Hauptmaske!$F$5,\" Schuss)\")","v":"Serie - 02 (10 Schuss)"},{"$f":"CONCATENATE(\"Serie - 03\",\" (\",Hauptmaske!$F$5,\" Schuss)\")","v":"Serie - 03 (10 Schuss)"},{"$f":"CONCATENATE(\"Serie - 04\",\" (\",Hauptmaske!$F$5,\" Schuss)\")","v":"Serie - 04 (10 Schuss)"},"Summe","Datum:",{"$f":"CONCATENATE(\"Serie - 01\",\" (\",Hauptmaske!$F$5,\" Schuss)\")","v":"Serie - 01 (10 Schuss)"},{"$f":"CONCATENATE(\"Serie - 02\",\" (\",Hauptmaske!$F$5,\" Schuss)\")","v":"Serie - 02 (10 Schuss)"},{"$f":"CONCATENATE(\"Serie - 03\",\" (\",Hauptmaske!$F$5,\" Schuss)\")","v":"Serie - 03 (10 Schuss)"},{"$f":"CONCATENATE(\"Serie - 04\",\" (\",Hauptmaske!$F$5,\" Schuss)\")","v":"Serie - 04 (10 Schuss)"},"Summe","Datum:",{"$f":"CONCATENATE(\"Serie - 01\",\" (\",Hauptmaske!$F$5,\" Schuss)\")","v":"Serie - 01 (10 Schuss)"},{"$f":"CONCATENATE(\"Serie - 02\",\" (\",Hauptmaske!$F$5,\" Schuss)\")","v":"Serie - 02 (10 Schuss)"},{"$f":"CONCATENATE(\"Serie - 03\",\" (\",Hauptmaske!$F$5,\" Schuss)\")","v":"Serie - 03 (10 Schuss)"},{"$f":"CONCATENATE(\"Serie - 04\",\" (\",Hauptmaske!$F$5,\" Schuss)\")","v":"Serie - 04 (10 Schuss)"},"Summe","Datum:",{"$f":"CONCATENATE(\"Serie - 01\",\" (\",Hauptmaske!$F$5,\" Schuss)\")","v":"Serie - 01 (10 Schuss)"},{"$f":"CONCATENATE(\"Serie - 02\",\" (\",Hauptmaske!$F$5,\" Schuss)\")","v":"Serie - 02 (10 Schuss)"},{"$f":"CONCATENATE(\"Serie - 03\",\" (\",Hauptmaske!$F$5,\" Schuss)\")","v":"Serie - 03 (10 Schuss)"},{"$f":"CONCATENATE(\"Serie - 04\",\" (\",Hauptmaske!$F$5,\" Schuss)\")","v":"Serie - 04 (10 Schuss)"},"Summe","Datum:",{"$f":"CONCATENATE(\"Serie - 01\",\" (\",Hauptmaske!$F$5,\" Schuss)\")","v":"Serie - 01 (10 Schuss)"},{"$f":"CONCATENATE(\"Serie - 02\",\" (\",Hauptmaske!$F$5,\" Schuss)\")","v":"Serie - 02 (10 Schuss)"},{"$f":"CONCATENATE(\"Serie - 03\",\" (\",Hauptmaske!$F$5,\" Schuss)\")","v":"Serie - 03 (10 Schuss)"},{"$f":"CONCATENATE(\"Serie - 04\",\" (\",Hauptmaske!$F$5,\" Schuss)\")","v":"Serie - 04 (10 Schuss)"},"Summe","Datum:",{"$f":"CONCATENATE(\"Serie - 01\",\" (\",Hauptmaske!$F$5,\" Schuss)\")","v":"Serie - 01 (10 Schuss)"},{"$f":"CONCATENATE(\"Serie - 02\",\" (\",Hauptmaske!$F$5,\" Schuss)\")","v":"Serie - 02 (10 Schuss)"},{"$f":"CONCATENATE(\"Serie - 03\",\" (\",Hauptmaske!$F$5,\" Schuss)\")","v":"Serie - 03 (10 Schuss)"},{"$f":"CONCATENATE(\"Serie - 04\",\" (\",Hauptmaske!$F$5,\" Schuss)\")","v":"Serie - 04 (10 Schuss)"},"Summe","Datum:",{"$f":"CONCATENATE(\"Serie - 01\",\" (\",Hauptmaske!$F$5,\" Schuss)\")","v":"Serie - 01 (10 Schuss)"},{"$f":"CONCATENATE(\"Serie - 02\",\" (\",Hauptmaske!$F$5,\" Schuss)\")","v":"Serie - 02 (10 Schuss)"},{"$f":"CONCATENATE(\"Serie - 03\",\" (\",Hauptmaske!$F$5,\" Schuss)\")","v":"Serie - 03 (10 Schuss)"},{"$f":"CONCATENATE(\"Serie - 04\",\" (\",Hauptmaske!$F$5,\" Schuss)\")","v":"Serie - 04 (10 Schuss)"},"Summe"]
["2016-01-01",null,null,null,null,{"$f":"IF(A9=\"\",\"\",SUM(B9:E9))","v":0},null,null,null,null,null,{"$f":"IF(G9=\"\",\"\",SUM(H9:K9))","v":""},null,null,null,null,null,{"$f":"IF(M9=\"\",\"\",SUM(N9:Q9))","v":""},null,null,null,null,null,{"$f":"IF(S9=\"\",\"\",SUM(T9:W9))","v":""},null,null,null,null,null,{"$f":"IF(Y9=\"\",\"\",SUM(Z9:AC9))","v":""},null,null,null,null,null,{"$f":"IF(AE9=\"\",\"\",SUM(AF9:AI9))","v":""},null,null,null,null,null,{"$f":"IF(AK9=\"\",\"\",SUM(AL9:AO9))","v":""},null,null,null,null,null,{"$f":"IF(AQ9=\"\",\"\",SUM(AR9:AU9))","v":""},null,null,null,null,null,{"$f":"IF(AW9=\"\",\"\",SUM(AX9:BA9))","v":""},null,null,null,null,null,{"$f":"IF(BC9=\"\",\"\",SUM(BD9:BG9))","v":""},null,null,null,null,null,{"$f":"IF(BI9=\"\",\"\",SUM(BJ9:BM9))","v":""},null,null,null,null,null,{"$f":"IF(BO9=\"\",\"\",SUM(BP9:BS9))","v":""},null,null,null,null,null,{"$f":"IF(BU9=\"\",\"\",SUM(BV9:BY9))","v":""},null,null,null,null,null,{"$f":"IF(CA9=\"\",\"\",SUM(CB9:CE9))","v":""},null,null,null,null,null,{"$f":"IF(CG9=\"\",\"\",SUM(CH9:CK9))","v":""},null,null,null,null,null,{"$f":"IF(CM9=\"\",\"\",SUM(CN9:CQ9))","v":""},null,null,null,null,null,{"$f":"IF(CS9=\"\",\"\",SUM(CT9:CW9))","v":""},null,null,null,null,null,{"$f":"IF(CY9=\"\",\"\",SUM(CZ9:DC9))","v":""},null,null,null,null,null,{"$f":"IF(DE9=\"\",\"\",SUM(DF9:DI9))","v":""},null,null,null,null,null,{"$f":"IF(DK9=\"\",\"\",SUM(DL9:DO9))","v":""},null,null,null,null,null,{"$f":"IF(DQ9=\"\",\"\",SUM(DR9:DU9))","v":""},null,null,null,null,null,{"$f":"IF(DW9=\"\",\"\",SUM(DX9:EA9))","v":""},null,null,null,null,null,{"$f":"IF(EC9=\"\",\"\",SUM(ED9:EG9))","v":""},null,null,null,null,null,{"$f":"IF(EI9=\"\",\"\",SUM(EJ9:EM9))","v":""},null,null,null,null,null,{"$f":"IF(EO9=\"\",\"\",SUM(EP9:ES9))","v":""},null,null,null,null,null,{"$f":"IF(EU9=\"\",\"\",SUM(EV9:EY9))","v":""},null,null,null,null,null,{"$f":"IF(FA9=\"\",\"\",SUM(FB9:FE9))","v":""},null,null,null,null,null,{"$f":"IF(FG9=\"\",\"\",SUM(FH9:FK9))","v":""},null,null,null,null,null,{"$f":"IF(FM9=\"\",\"\",SUM(FN9:FQ9))","v":""},null,null,null,null,null,{"$f":"IF(FS9=\"\",\"\",SUM(FT9:FW9))","v":""},null,null,null,null,null,{"$f":"IF(FY9=\"\",\"\",SUM(FZ9:GC9))","v":""},null,null,null,null,null,{"$f":"IF(GE9=\"\",\"\",SUM(GF9:GI9))","v":""},null,null,null,null,null,{"$f":"IF(GK9=\"\",\"\",SUM(GL9:GO9))","v":""},null,null,null,null,null,{"$f":"IF(GQ9=\"\",\"\",SUM(GR9:GU9))","v":""},null,null,null,null,null,{"$f":"IF(GW9=\"\",\"\",SUM(GX9:HA9))","v":""},null,null,null,null,null,{"$f":"IF(HC9=\"\",\"\",SUM(HD9:HG9))","v":""},null,null,null,null,null,{"$f":"IF(HI9=\"\",\"\",SUM(HJ9:HM9))","v":""},null,null,null,null,null,{"$f":"IF(HO9=\"\",\"\",SUM(HP9:HS9))","v":""},null,null,null,null,null,{"$f":"IF(HU9=\"\",\"\",SUM(HV9:HY9))","v":""},null,null,null,null,null,{"$f":"IF(IA9=\"\",\"\",SUM(IB9:IE9))","v":""}]
[null,null,null,null,null,"",null,null,null,null,null,"",null,null,null,null,null,"",null,null,null,null,null,"",null,null,null,null,null,"",null,null,null,null,null,"",null,null,null,null,null,"",null,null,null,null,null,"",null,null,null,null,null,"",null,null,null,null,null,"",null,null,null,null,null,"",null,null,null,null,null,"",null,null,null,null,null,"",null,null,null,null,null,"",null,null,null,null,null,"",null,null,null,null,null,"",null,null,null,null,null,"",null,null,null,null,null,"",null,null,null,null,null,"",null,null,null,null,null,"",null,null,null,null,null,"",null,null,null,null,null,"",null,null,null,null,null,"",null,null,null,null,null,"",null,null,null,null,null,"",null,null,null,null,null,"",null,null,null,null,null,"",null,null,null,null,null,"",null,null,null,null,null,"",null,null,null,null,null,"",null,null,null,null,null,"",null,null,null,null,null,"",null,null,null,null,null,"",null,null,null,null,null,"",null,null,null,null,null,"",null,null,null,null,null,"",null,null,null,null,null,"",null,null,null,null,null,"",null,null,null,null,null,"",null,null,null,null,null,""]
[null,null,null,null,null,"",null,null,null,null,null,"",null,null,null,null,null,"",null,null,null,null,null,"",null,null,null,null,null,"",null,null,null,null,null,"",null,null,null,null,null,"",null,null,null,null,null,"",null,null,null,null,null,"",null,null,null,null,null,"",null,null,null,null,null,"",null,null,null,null,null,"",null,null,null,null,null,"",null,null,null,null,null,"",null,null,null,null,null,"",null,null,null,null,null,"",null,null,null,null,null,"",null,null,null,null,null,"",null,null,null,null,null,"",null,null,null,null,null,"",null,null,null,null,null,"",null,null,null,null,null,"",null,null,null,null,null,"",null,null,null,null,null,"",null,null,null,null,null,"",null,null,null,null,null,"",null,null,null,null,null,"",null,null,null,null,null,"",null,null,null,null,null,"",null,null,null,null,null,"",null,null,null,null,null,"",null,null,null,null,null,"",null,null,null,null,null,"",null,null,null,null,null,"",null,null,null,null,null,"",null,null,null,null,null,"",null,null,null,null,null,"",null,null,null,null,null,"",null,null,null,null,null,"",null,null,null,null,null,""]
[null,null,null,null,null,"",null,null,null,null,null,"",null,null,null,null,null,"",null,null,null,null,null,"",null,null,null,null,null,"",null,null,null,null,null,"",null,null,null,null,null,"",null,null,null,null,null,"",null,null,null,null,null,"",null,null,null,null,null,"",null,null,null,null,null,"",null,null,null,null,null,"",null,null,null,null,null,"",null,null,null,null,null,"",null,null,null,null,null,"",null,null,null,null,null,"",null,null,null,null,null,"",null,null,null,null,null,"",null,null,null,null,null,"",null,null,null,null,null,"",null,null,null,null,null,"",null,null,null,null,null,"",null,null,null,null,null,"",null,null,null,null,null,"",null,null,null,null,null,"",null,null,null,null,null,"",null,null,null,null,null,"",null,null,null,null,null,"",null,null,null,null,null,"",null,null,null,null,null,"",null,null,null,null,null,"",null,null,null,null,null,"",null,null,null,null,null,"",null,null,null,null,null,"",null,null,null,null,null,"",null,null,null,null,null,"",null,null,null,null,null,"",null,null,null,null,null,"",null,null,null,null,null,"",null,null,null,null,null,""]
[null,null,null,null,null,"",null,null,null,null,null,"",null,null,null,null,null,"",null,null,null,null,null,"",null,null,null,null,null,"",null,null,null,null,null,"",null,null,null,null,null,"",null,null,null,null,null,"",null,null,null,null,null,"",null,null,null,null,null,"",null,null,null,null,null,"",null,null,null,null,null,"",null,null,null,null,null,"",null,null,null,null,null,"",null,null,null,null,null,"",null,null,null,null,null,"",null,null,null,null,null,"",null,null,null,null,null,"",null,null,null,null,null,"",null,null,null,null,null,"",null,null,null,null,null,"",null,null,null,null,null,"",null,null,null,null,null,"",null,null,null,null,null,"",null,null,null,null,null,"",null,null,null,null,null,"",null,null,null,null,null,"",null,null,null,null,null,"",null,null,null,null,null,"",null,null,null,null,null,"",null,null,null,null,null,"",null,null,null,null,null,"",null,null,null,null,null,"",null,null,null,null,null,"",null,null,null,null,null,"",null,null,null,null,null,"",null,null,null,null,null,"",null,null,null,null,null,"",null,null,null,null,null,"",null,null,null,null,null,""]
[null,null,null,null,null,"",null,null,null,null,null,"",null,null,null,null,null,"",null,null,null,null,null,"",null,null,null,null,null,"",null,null,null,null,null,"",null,null,null,null,null,"",null,null,null,null,null,"",null,null,null,null,null,"",null,null,null,null,null,"",null,null,null,null,null,"",null,null,null,null,null,"",null,null,null,null,null,"",null,null,null,null,null,"",null,null,null,null,null,"",null,null,null,null,null,"",null,null,null,null,null,"",null,null,null,null,null,"",null,null,null,null,null,"",null,null,null,null,null,"",null,null,null,null,null,"",null,null,null,null,null,"",null,null,null,null,null,"",null,null,null,null,null,"",null,null,null,null,null,"",null,null,null,null,null,"",null,null,null,null,null,"",null,null,null,null,null,"",null,null,null,null,null,"",null,null,null,null,null,"",null,null,null,null,null,"",null,null,null,null,null,"",null,null,null,null,null,"",null,null,null,null,null,"",null,null,null,null,null,"",null,null,null,null,null,"",null,null,null,null,null,"",null,null,null,null,null,"",null,null,null,null,null,"",null,null,null,null,null,""]
[null,null,null,null,null,"",null,null,null,null,null,"",null,null,null,null,null,"",null,null,null,null,null,"",null,null,null,null,null,"",null,null,null,null,null,"",null,null,null,null,null,"",null,null,null,null,null,"",null,null,null,null,null,"",null,null,null,null,null,"",null,null,null,null,null,"",null,null,null,null,null,"",null,null,null,null,null,"",null,null,null,null,null,"",null,null,null,null,null,"",null,null,null,null,null,"",null,null,null,null,null,"",null,null,null,null,null,"",null,null,null,null,null,"",null,null,null,null,null,"",null,null,null,null,null,"",null,null,null,null,null,"",null,null,null,null,null,"",null,null,null,null,null,"",null,null,null,null,null,"",null,null,null,null,null,"",null,null,null,null,null,"",null,null,null,null,null,"",null,null,null,null,null,"",null,null,null,null,null,"",null,null,null,null,null,"",null,null,null,null,null,"",null,null,null,null,null,"",null,null,null,null,null,"",null,null,null,null,null,"",null,null,null,null,null,"",null,null,null,null,null,"",null,null,null,null,null,"",null,null,null,null,null,"",null,null,null,null,null,""]
[null,null,null,null,null,"",null,null,null,null,null,"",null,null,null,null,null,"",null,null,null,null,null,"",null,null,null,null,null,"",null,null,null,null,null,"",null,null,null,null,null,"",null,null,null,null,null,"",null,null,null,null,null,"",null,null,null,null,null,"",null,null,null,null,null,"",null,null,null,null,null,"",null,null,null,null,null,"",null,null,null,null,null,"",null,null,null,null,null,"",null,null,null,null,null,"",null,null,null,null,null,"",null,null,null,null,null,"",null,null,null,null,null,"",null,null,null,null,null,"",null,null,null,null,null,"",null,null,null,null,null,"",null,null,null,null,null,"",null,null,null,null,null,"",null,null,null,null,null,"",null,null,null,null,null,"",null,null,null,null,null,"",null,null,null,null,null,"",null,null,null,null,null,"",null,null,null,null,null,"",null,null,null,null,null,"",null,null,null,null,null,"",null,null,null,null,null,"",null,null,null,null,null,"",null,null,null,null,null,"",null,null,null,null,null,"",null,null,null,null,null,"",null,null,null,null,null,"",null,null,null,null,null,"",null,null,null,null,null,""]
[null,null,null,null,null,"",null,null,null,null,null,"",null,null,null,null,null,"",null,null,null,null,null,"",null,null,null,null,null,"",null,null,null,null,null,"",null,null,null,null,null,"",null,null,null,null,null,"",null,null,null,null,null,"",null,null,null,null,null,"",null,null,null,null,null,"",null,null,null,null,null,"",null,null,null,null,null,"",null,null,null,null,null,"",null,null,null,null,null,"",null,null,null,null,null,"",null,null,null,null,null,"",null,null,null,null,null,"",null,null,null,null,null,"",null,null,null,null,null,"",null,null,null,null,null,"",null,null,null,null,null,"",null,null,null,null,null,"",null,null,null,null,null,"",null,null,null,null,null,"",null,null,null,null,null,"",null,null,null,null,null,"",null,null,null,null,null,"",null,null,null,null,null,"",null,null,null,null,null,"",null,null,null,null,null,"",null,null,null,null,null,"",null,null,null,null,null,"",null,null,null,null,null,"",null,null,null,null,null,"",null,null,null,null,null,"",null,null,null,null,null,"",null,null,null,null,null,"",null,null,null,null,null,"",null,null,null,null,null,""]
[null,null,null,null,null,"",null,null,null,null,null,"",null,null,null,null,null,"",null,null,null,null,null,"",null,null,null,null,null,"",null,null,null,null,null,"",null,null,null,null,null,"",null,null,null,null,null,"",null,null,null,null,null,"",null,null,null,null,null,"",null,null,null,null,null,"",null,null,null,null,null,"",null,null,null,null,null,"",null,null,null,null,null,"",null,null,null,null,null,"",null,null,null,null,null,"",null,null,null,null,null,"",null,null,null,null,null,"",null,null,null,null,null,"",null,null,null,null,null,"",null,null,null,null,null,"",null,null,null,null,null,"",null,null,null,null,null,"",null,null,null,null,null,"",null,null,null,null,null,"",null,null,null,null,null,"",null,null,null,null,null,"",null,null,null,null,null,"",null,null,null,null,null,"",null,null,null,null,null,"",null,null,null,null,null,"",null,null,null,null,null,"",null,null,null,null,null,"",null,null,null,null,null,"",null,null,null,null,null,"",null,null,null,null,null,"",null,null,null,null,null,"",null,null,null,null,null,"",null,null,null,null,null,"",null,null,null,null,null,""]
[null,null,null,null,null,"",null,null,null,null,null,"",null,null,null,null,null,"",null,null,null,null,null,"",null,null,null,null,null,"",null,null,null,null,null,"",null,null,null,null,null,"",null,null,null,null,null,"",null,null,null,null,null,"",null,null,null,null,null,"",null,null,null,null,null,"",null,null,null,null,null,"",null,null,null,null,null,"",null,null,null,null,null,"",null,null,null,null,null,"",null,null,null,null,null,"",null,null,null,null,null,"",null,null,null,null,null,"",null,null,null,null,null,"",null,null,null,null,null,"",null,null,null,null,null,"",null,null,null,null,null,"",null,null,null,null,null,"",null,null,null,null,null,"",null,null,null,null,null,"",null,null,null,null,null,"",null,null,null,null,null,"",null,null,null,null,null,"",null,null,null,null,null,"",null,null,null,null,null,"",null,null,null,null,null,"",null,null,null,null,null,"",null,null,null,null,null,"",null,null,null,null,null,"",null,null,null,null,null,"",null,null,null,null,null,"",null,null,null,null,null,"",null,null,null,null,null,"",null,null,null,null,null,"",null,null,null,null,null,""]
[null,null,null,null,null,"",null,null,null,null,null,"",null,null,null,null,null,"",null,null,null,null,null,"",null,null,null,null,null,"",null,null,null,null,null,"",null,null,null,null,null,"",null,null,null,null,null,"",null,null,null,null,null,"",null,null,null,null,null,"",null,null,null,null,null,"",null,null,null,null,null,"",null,null,null,null,null,"",null,null,null,null,null,"",null,null,null,null,null,"",null,null,null,null,null,"",null,null,null,null,null,"",null,null,null,null,null,"",null,null,null,null,null,"",null,null,null,null,null,"",null,null,null,null,null,"",null,null,null,null,null,"",null,null,null,null,null,"",null,null,null,null,null,"",null,null,null,null,null,"",null,null,null,null,null,"",null,null,null,null,null,"",null,null,null,null,null,"",null,null,null,null,null,"",null,null,null,null,null,"",null,null,null,null,null,"",null,null,null,null,null,"",null,null,null,null,null,"",null,null,null,null,null,"",null,null,null,null,null,"",null,null,null,null,null,"",null,null,null,null,null,"",null,null,null,null,null,"",null,null,null,null,null,"",null,null,null,null,null,""]
[null,null,null,null,null,"",null,null,null,null,null,"",null,null,null,null,null,"",null,null,null,null,null,"",null,null,null,null,null,"",null,null,null,null,null,"",null,null,null,null,null,"",null,null,null,null,null,"",null,null,null,null,null,"",null,null,null,null,null,"",null,null,null,null,null,"",null,null,null,null,null,"",null,null,null,null,null,"",null,null,null,null,null,"",null,null,null,null,null,"",null,null,null,null,null,"",null,null,null,null,null,"",null,null,null,null,null,"",null,null,null,null,null,"",null,null,null,null,null,"",null,null,null,null,null,"",null,null,null,null,null,"",null,null,null,null,null,"",null,null,null,null,null,"",null,null,null,null,null,"",null,null,null,null,null,"",null,null,null,null,null,"",null,null,null,null,null,"",null,null,null,null,null,"",null,null,null,null,null,"",null,null,null,null,null,"",null,null,null,null,null,"",null,null,null,null,null,"",null,null,null,null,null,"",null,null,null,null,null,"",null,null,null,null,null,"",null,null,null,null,null,"",null,null,null,null,null,"",null,null,null,null,null,"",null,null,null,null,null,""]
[null,null,null,null,null,"",null,null,null,null,null,"",null,null,null,null,null,"",null,null,null,null,null,"",null,null,null,null,null,"",null,null,null,null,null,"",null,null,null,null,null,"",null,null,null,null,null,"",null,null,null,null,null,"",null,null,null,null,null,"",null,null,null,null,null,"",null,null,null,null,null,"",null,null,null,null,null,"",null,null,null,null,null,"",null,null,null,null,null,"",null,null,null,null,null,"",null,null,null,null,null,"",null,null,null,null,null,"",null,null,null,null,null,"",null,null,null,null,null,"",null,null,null,null,null,"",null,null,null,null,null,"",null,null,null,null,null,"",null,null,null,null,null,"",null,null,null,null,null,"",null,null,null,null,null,"",null,null,null,null,null,"",null,null,null,null,null,"",null,null,null,null,null,"",null,null,null,null,null,"",null,null,null,null,null,"",null,null,null,null,null,"",null,null,null,null,null,"",null,null,null,null,null,"",null,null,null,null,null,"",null,null,null,null,null,"",null,null,null,null,null,"",null,null,null,null,null,"",null,null,null,null,null,"",null,null,null,null,null,""]
[null,null,null,null,null,"",null,null,null,null,null,"",null,null,null,null,null,"",null,null,null,null,null,"",null,null,null,null,null,"",null,null,null,null,null,"",null,null,null,null,null,"",null,null,null,null,null,"",null,null,null,null,null,"",null,null,null,null,null,"",null,null,null,null,null,"",null,null,null,null,null,"",null,null,null,null,null,"",null,null,null,null,null,"",null,null,null,null,null,"",null,null,null,null,null,"",null,null,null,null,null,"",null,null,null,null,null,"",null,null,null,null,null,"",null,null,null,null,null,"",null,null,null,null,null,"",null,null,null,null,null,"",null,null,null,null,null,"",null,null,null,null,null,"",null,null,null,null,null,"",null,null,null,null,null,"",null,null,null,null,null,"",null,null,null,null,null,"",null,null,null,null,null,"",null,null,null,null,null,"",null,null,null,null,null,"",null,null,null,null,null,"",null,null,null,null,null,"",null,null,null,null,null,"",null,null,null,null,null,"",null,null,null,null,null,"",null,null,null,null,null,"",null,null,null,null,null,"",null,null,null,null,null,"",null,null,null,null,null,""]
[null,null,null,null,null,"",null,null,null,null,null,"",null,null,null,null,null,"",null,null,null,null,null,"",null,null,null,null,null,"",null,null,null,null,null,"",null,null,null,null,null,"",null,null,null,null,null,"",null,null,null,null,null,"",null,null,null,null,null,"",null,null,null,null,null,"",null,null,null,null,null,"",null,null,null,null,null,"",null,null,null,null,null,"",null,null,null,null,null,"",null,null,null,null,null,"",null,null,null,null,null,"",null,null,null,null,null,"",null,null,null,null,null,"",null,null,null,null,null,"",null,null,null,null,null,"",null,null,null,null,null,"",null,null,null,null,null,"",null,null,null,null,null,"",null,null,null,null,null,"",null,null,null,null,null,"",null,null,null,null,null,"",null,null,null,null,null,"",null,null,null,null,null,"",null,null,null,null,null,"",null,null,null,null,null,"",null,null,null,null,null,"",null,null,null,null,null,"",null,null,null,null,null,"",null,null,null,null,null,"",null,null,null,null,null,"",null,null,null,null,null,"",null,null,null,null,null,"",null,null,null,null,null,"",null,null,null,null,null,""]
[null,null,null,null,null,"",null,null,null,null,null,"",null,null,null,null,null,"",null,null,null,null,null,"",null,null,null,null,null,"",null,null,null,null,null,"",null,null,null,null,null,"",null,null,null,null,null,"",null,null,null,null,null,"",null,null,null,null,null,"",null,null,null,null,null,"",null,null,null,null,null,"",null,null,null,null,null,"",null,null,null,null,null,"",null,null,null,null,null,"",null,null,null,null,null,"",null,null,null,null,null,"",null,null,null,null,null,"",null,null,null,null,null,"",null,null,null,null,null,"",null,null,null,null,null,"",null,null,null,null,null,"",null,null,null,null,null,"",null,null,null,null,null,"",null,null,null,null,null,"",null,null,null,null,null,"",null,null,null,null,null,"",null,null,null,null,null,"",null,null,null,null,null,"",null,null,null,null,null,"",null,null,null,null,null,"",null,null,null,null,null,"",null,null,null,null,null,"",null,null,null,null,null,"",null,null,null,null,null,"",null,null,null,null,null,"",null,null,null,null,null,"",null,null,null,null,null,"",null,null,null,null,null,"",null,null,null,null,null,""]
[null,null,null,null,null,"",null,null,null,null,null,"",null,null,null,null,null,"",null,null,null,null,null,"",null,null,null,null,null,"",null,null,null,null,null,"",null,null,null,null,null,"",null,null,null,null,null,"",null,null,null,null,null,"",null,null,null,null,null,"",null,null,null,null,null,"",null,null,null,null,null,"",null,null,null,null,null,"",null,null,null,null,null,"",null,null,null,null,null,"",null,null,null,null,null,"",null,null,null,null,null,"",null,null,null,null,null,"",null,null,null,null,null,"",null,null,null,null,null,"",null,null,null,null,null,"",null,null,null,null,null,"",null,null,null,null,null,"",null,null,null,null,null,"",null,null,null,null,null,"",null,null,null,null,null,"",null,null,null,null,null,"",null,null,null,null,null,"",null,null,null,null,null,"",null,null,null,null,null,"",null,null,null,null,null,"",null,null,null,null,null,"",null,null,null,null,null,"",null,null,null,null,null,"",null,null,null,null,null,"",null,null,null,null,null,"",null,null,null,null,null,"",null,null,null,null,null,"",null,null,null,null,null,"",null,null,null,null,null,""]
[null,null,null,null,null,"",null,null,null,null,null,"",null,null,null,null,null,"",null,null,null,null,null,"",null,null,null,null,null,"",null,null,null,null,null,"",null,null,null,null,null,"",null,null,null,null,null,"",null,null,null,null,null,"",null,null,null,null,null,"",null,null,null,null,null,"",null,null,null,null,null,"",null,null,null,null,null,"",null,null,null,null,null,"",null,null,null,null,null,"",null,null,null,null,null,"",null,null,null,null,null,"",null,null,null,null,null,"",null,null,null,null,null,"",null,null,null,null,null,"",null,null,null,null,null,"",null,null,null,null,null,"",null,null,null,null,null,"",null,null,null,null,null,"",null,null,null,null,null,"",null,null,null,null,null,"",null,null,null,null,null,"",null,null,null,null,null,"",null,null,null,null,null,"",null,null,null,null,null,"",null,null,null,null,null,"",null,null,null,null,null,"",null,null,null,null,null,"",null,null,null,null,null,"",null,null,null,null,null,"",null,null,null,null,null,"",null,null,null,null,null,"",null,null,null,null,null,"",null,null,null,null,null,"",null,null,null,null,null,""]
[null,null,null,null,null,"",null,null,null,null,null,"",null,null,null,null,null,"",null,null,null,null,null,"",null,null,null,null,null,"",null,null,null,null,null,"",null,null,null,null,null,"",null,null,null,null,null,"",null,null,null,null,null,"",null,null,null,null,null,"",null,null,null,null,null,"",null,null,null,null,null,"",null,null,null,null,null,"",null,null,null,null,null,"",null,null,null,null,null,"",null,null,null,null,null,"",null,null,null,null,null,"",null,null,null,null,null,"",null,null,null,null,null,"",null,null,null,null,null,"",null,null,null,null,null,"",null,null,null,null,null,"",null,null,null,null,null,"",null,null,null,null,null,"",null,null,null,null,null,"",null,null,null,null,null,"",null,null,null,null,null,"",null,null,null,null,null,"",null,null,null,null,null,"",null,null,null,null,null,"",null,null,null,null,null,"",null,null,null,null,null,"",null,null,null,null,null,"",null,null,null,null,null,"",null,null,null,null,null,"",null,null,null,null,null,"",null,null,null,null,null,"",null,null,null,null,null,"",null,null,null,null,null,"",null,null,null,null,null,""]
[null,null,null,null,null,"",null,null,null,null,null,"",null,null,null,null,null,"",null,null,null,null,null,"",null,null,null,null,null,"",null,null,null,null,null,"",null,null,null,null,null,"",null,null,null,null,null,"",null,null,null,null,null,"",null,null,null,null,null,"",null,null,null,null,null,"",null,null,null,null,null,"",null,null,null,null,null,"",null,null,null,null,null,"",null,null,null,null,null,"",null,null,null,null,null,"",null,null,null,null,null,"",null,null,null,null,null,"",null,null,null,null,null,"",null,null,null,null,null,"",null,null,null,null,null,"",null,null,null,null,null,"",null,null,null,null,null,"",null,null,null,null,null,"",null,null,null,null,null,"",null,null,null,null,null,"",null,null,null,null,null,"",null,null,null,null,null,"",null,null,null,null,null,"",null,null,null,null,null,"",null,null,null,null,null,"",null,null,null,null,null,"",null,null,null,null,null,"",null,null,null,null,null,"",null,null,null,null,null,"",null,null,null,null,null,"",null,null,null,null,null,"",null,null,null,null,null,"",null,null,null,null,null,"",null,null,null,null,null,""]
[null,null,null,null,null,"",null,null,null,null,null,"",null,null,null,null,null,"",null,null,null,null,null,"",null,null,null,null,null,"",null,null,null,null,null,"",null,null,null,null,null,"",null,null,null,null,null,"",null,null,null,null,null,"",null,null,null,null,null,"",null,null,null,null,null,"",null,null,null,null,null,"",null,null,null,null,null,"",null,null,null,null,null,"",null,null,null,null,null,"",null,null,null,null,null,"",null,null,null,null,null,"",null,null,null,null,null,"",null,null,null,null,null,"",null,null,null,null,null,"",null,null,null,null,null,"",null,null,null,null,null,"",null,null,null,null,null,"",null,null,null,null,null,"",null,null,null,null,null,"",null,null,null,null,null,"",null,null,null,null,null,"",null,null,null,null,null,"",null,null,null,null,null,"",null,null,null,null,null,"",null,null,null,null,null,"",null,null,null,null,null,"",null,null,null,null,null,"",null,null,null,null,null,"",null,null,null,null,null,"",null,null,null,null,null,"",null,null,null,null,null,"",null,null,null,null,null,"",null,null,null,null,null,"",null,null,null,null,null,""]
[null,null,null,null,null,"",null,null,null,null,null,"",null,null,null,null,null,"",null,null,null,null,null,"",null,null,null,null,null,"",null,null,null,null,null,"",null,null,null,null,null,"",null,null,null,null,null,"",null,null,null,null,null,"",null,null,null,null,null,"",null,null,null,null,null,"",null,null,null,null,null,"",null,null,null,null,null,"",null,null,null,null,null,"",null,null,null,null,null,"",null,null,null,null,null,"",null,null,null,null,null,"",null,null,null,null,null,"",null,null,null,null,null,"",null,null,null,null,null,"",null,null,null,null,null,"",null,null,null,null,null,"",null,null,null,null,null,"",null,null,null,null,null,"",null,null,null,null,null,"",null,null,null,null,null,"",null,null,null,null,null,"",null,null,null,null,null,"",null,null,null,null,null,"",null,null,null,null,null,"",null,null,null,null,null,"",null,null,null,null,null,"",null,null,null,null,null,"",null,null,null,null,null,"",null,null,null,null,null,"",null,null,null,null,null,"",null,null,null,null,null,"",null,null,null,null,null,"",null,null,null,null,null,"",null,null,null,null,null,""]
[null,null,null,null,null,"",null,null,null,null,null,"",null,null,null,null,null,"",null,null,null,null,null,"",null,null,null,null,null,"",null,null,null,null,null,"",null,null,null,null,null,"",null,null,null,null,null,"",null,null,null,null,null,"",null,null,null,null,null,"",null,null,null,null,null,"",null,null,null,null,null,"",null,null,null,null,null,"",null,null,null,null,null,"",null,null,null,null,null,"",null,null,null,null,null,"",null,null,null,null,null,"",null,null,null,null,null,"",null,null,null,null,null,"",null,null,null,null,null,"",null,null,null,null,null,"",null,null,null,null,null,"",null,null,null,null,null,"",null,null,null,null,null,"",null,null,null,null,null,"",null,null,null,null,null,"",null,null,null,null,null,"",null,null,null,null,null,"",null,null,null,null,null,"",null,null,null,null,null,"",null,null,null,null,null,"",null,null,null,null,null,"",null,null,null,null,null,"",null,null,null,null,null,"",null,null,null,null,null,"",null,null,null,null,null,"",null,null,null,null,null,"",null,null,null,null,null,"",null,null,null,null,null,"",null,null,null,null,null,""]
[null,null,null,null,null,"",null,null,null,null,null,"",null,null,null,null,null,"",null,null,null,null,null,"",null,null,null,null,null,"",null,null,null,null,null,"",null,null,null,null,null,"",null,null,null,null,null,"",null,null,null,null,null,"",null,null,null,null,null,"",null,null,null,null,null,"",null,null,null,null,null,"",null,null,null,null,null,"",null,null,null,null,null,"",null,null,null,null,null,"",null,null,null,null,null,"",null,null,null,null,null,"",null,null,null,null,null,"",null,null,null,null,null,"",null,null,null,null,null,"",null,null,null,null,null,"",null,null,null,null,null,"",null,null,null,null,null,"",null,null,null,null,null,"",null,null,null,null,null,"",null,null,null,null,null,"",null,null,null,null,null,"",null,null,null,null,null,"",null,null,null,null,null,"",null,null,null,null,null,"",null,null,null,null,null,"",null,null,null,null,null,"",null,null,null,null,null,"",null,null,null,null,null,"",null,null,null,null,null,"",null,null,null,null,null,"",null,null,null,null,null,"",null,null,null,null,null,"",null,null,null,null,null,"",null,null,null,null,null,""]
[null,null,null,null,null,"",null,null,null,null,null,"",null,null,null,null,null,"",null,null,null,null,null,"",null,null,null,null,null,"",null,null,null,null,null,"",null,null,null,null,null,"",null,null,null,null,null,"",null,null,null,null,null,"",null,null,null,null,null,"",null,null,null,null,null,"",null,null,null,null,null,"",null,null,null,null,null,"",null,null,null,null,null,"",null,null,null,null,null,"",null,null,null,null,null,"",null,null,null,null,null,"",null,null,null,null,null,"",null,null,null,null,null,"",null,null,null,null,null,"",null,null,null,null,null,"",null,null,null,null,null,"",null,null,null,null,null,"",null,null,null,null,null,"",null,null,null,null,null,"",null,null,null,null,null,"",null,null,null,null,null,"",null,null,null,null,null,"",null,null,null,null,null,"",null,null,null,null,null,"",null,null,null,null,null,"",null,null,null,null,null,"",null,null,null,null,null,"",null,null,null,null,null,"",null,null,null,null,null,"",null,null,null,null,null,"",null,null,null,null,null,"",null,null,null,null,null,"",null,null,null,null,null,"",null,null,null,null,null,""]
[null,null,null,null,null,"",null,null,null,null,null,"",null,null,null,null,null,"",null,null,null,null,null,"",null,null,null,null,null,"",null,null,null,null,null,"",null,null,null,null,null,"",null,null,null,null,null,"",null,null,null,null,null,"",null,null,null,null,null,"",null,null,null,null,null,"",null,null,null,null,null,"",null,null,null,null,null,"",null,null,null,null,null,"",null,null,null,null,null,"",null,null,null,null,null,"",null,null,null,null,null,"",null,null,null,null,null,"",null,null,null,null,null,"",null,null,null,null,null,"",null,null,null,null,null,"",null,null,null,null,null,"",null,null,null,null,null,"",null,null,null,null,null,"",null,null,null,null,null,"",null,null,null,null,null,"",null,null,null,null,null,"",null,null,null,null,null,"",null,null,null,null,null,"",null,null,null,null,null,"",null,null,null,null,null,"",null,null,null,null,null,"",null,null,null,null,null,"",null,null,null,null,null,"",null,null,null,null,null,"",null,null,null,null,null,"",null,null,null,null,null,"",null,null,null,null,null,"",null,null,null,null,null,"",null,null,null,null,null,""]
[null,null,null,null,null,"",null,null,null,null,null,"",null,null,null,null,null,"",null,null,null,null,null,"",null,null,null,null,null,"",null,null,null,null,null,"",null,null,null,null,null,"",null,null,null,null,null,"",null,null,null,null,null,"",null,null,null,null,null,"",null,null,null,null,null,"",null,null,null,null,null,"",null,null,null,null,null,"",null,null,null,null,null,"",null,null,null,null,null,"",null,null,null,null,null,"",null,null,null,null,null,"",null,null,null,null,null,"",null,null,null,null,null,"",null,null,null,null,null,"",null,null,null,null,null,"",null,null,null,null,null,"",null,null,null,null,null,"",null,null,null,null,null,"",null,null,null,null,null,"",null,null,null,null,null,"",null,null,null,null,null,"",null,null,null,null,null,"",null,null,null,null,null,"",null,null,null,null,null,"",null,null,null,null,null,"",null,null,null,null,null,"",null,null,null,null,null,"",null,null,null,null,null,"",null,null,null,null,null,"",null,null,null,null,null,"",null,null,null,null,null,"",null,null,null,null,null,"",null,null,null,null,null,"",null,null,null,null,null,""]
[null,null,null,null,null,"",null,null,null,null,null,"",null,null,null,null,null,"",null,null,null,null,null,"",null,null,null,null,null,"",null,null,null,null,null,"",null,null,null,null,null,"",null,null,null,null,null,"",null,null,null,null,null,"",null,null,null,null,null,"",null,null,null,null,null,"",null,null,null,null,null,"",null,null,null,null,null,"",null,null,null,null,null,"",null,null,null,null,null,"",null,null,null,null,null,"",null,null,null,null,null,"",null,null,null,null,null,"",null,null,null,null,null,"",null,null,null,null,null,"",null,null,null,null,null,"",null,null,null,null,null,"",null,null,null,null,null,"",null,null,null,null,null,"",null,null,null,null,null,"",null,null,null,null,null,"",null,null,null,null,null,"",null,null,null,null,null,"",null,null,null,null,null,"",null,null,null,null,null,"",null,null,null,null,null,"",null,null,null,null,null,"",null,null,null,null,null,"",null,null,null,null,null,"",null,null,null,null,null,"",null,null,null,null,null,"",null,null,null,null,null,"",null,null,null,null,null,"",null,null,null,null,null,"",null,null,null,null,null,""]
[null,null,null,null,null,"",null,null,null,null,null,"",null,null,null,null,null,"",null,null,null,null,null,"",null,null,null,null,null,"",null,null,null,null,null,"",null,null,null,null,null,"",null,null,null,null,null,"",null,null,null,null,null,"",null,null,null,null,null,"",null,null,null,null,null,"",null,null,null,null,null,"",null,null,null,null,null,"",null,null,null,null,null,"",null,null,null,null,null,"",null,null,null,null,null,"",null,null,null,null,null,"",null,null,null,null,null,"",null,null,null,null,null,"",null,null,null,null,null,"",null,null,null,null,null,"",null,null,null,null,null,"",null,null,null,null,null,"",null,null,null,null,null,"",null,null,null,null,null,"",null,null,null,null,null,"",null,null,null,null,null,"",null,null,null,null,null,"",null,null,null,null,null,"",null,null,null,null,null,"",null,null,null,null,null,"",null,null,null,null,null,"",null,null,null,null,null,"",null,null,null,null,null,"",null,null,null,null,null,"",null,null,null,null,null,"",null,null,null,null,null,"",null,null,null,null,null,"",null,null,null,null,null,"",null,null,null,null,null,""]
[null,null,null,null,null,"",null,null,null,null,null,"",null,null,null,null,null,"",null,null,null,null,null,"",null,null,null,null,null,"",null,null,null,null,null,"",null,null,null,null,null,"",null,null,null,null,null,"",null,null,null,null,null,"",null,null,null,null,null,"",null,null,null,null,null,"",null,null,null,null,null,"",null,null,null,null,null,"",null,null,null,null,null,"",null,null,null,null,null,"",null,null,null,null,null,"",null,null,null,null,null,"",null,null,null,null,null,"",null,null,null,null,null,"",null,null,null,null,null,"",null,null,null,null,null,"",null,null,null,null,null,"",null,null,null,null,null,"",null,null,null,null,null,"",null,null,null,null,null,"",null,null,null,null,null,"",null,null,null,null,null,"",null,null,null,null,null,"",null,null,null,null,null,"",null,null,null,null,null,"",null,null,null,null,null,"",null,null,null,null,null,"",null,null,null,null,null,"",null,null,null,null,null,"",null,null,null,null,null,"",null,null,null,null,null,"",null,null,null,null,null,"",null,null,null,null,null,"",null,null,null,null,null,"",null,null,null,null,null,""]
[null,null,null,null,null,"",null,null,null,null,null,"",null,null,null,null,null,"",null,null,null,null,null,"",null,null,null,null,null,"",null,null,null,null,null,"",null,null,null,null,null,"",null,null,null,null,null,"",null,null,null,null,null,"",null,null,null,null,null,"",null,null,null,null,null,"",null,null,null,null,null,"",null,null,null,null,null,"",null,null,null,null,null,"",null,null,null,null,null,"",null,null,null,null,null,"",null,null,null,null,null,"",null,null,null,null,null,"",null,null,null,null,null,"",null,null,null,null,null,"",null,null,null,null,null,"",null,null,null,null,null,"",null,null,null,null,null,"",null,null,null,null,null,"",null,null,null,null,null,"",null,null,null,null,null,"",null,null,null,null,null,"",null,null,null,null,null,"",null,null,null,null,null,"",null,null,null,null,null,"",null,null,null,null,null,"",null,null,null,null,null,"",null,null,null,null,null,"",null,null,null,null,null,"",null,null,null,null,null,"",null,null,null,null,null,"",null,null,null,null,null,"",null,null,null,null,null,"",null,null,null,null,null,"",null,null,null,null,null,""]
[null,null,null,null,null,"",null,null,null,null,null,"",null,null,null,null,null,"",null,null,null,null,null,"",null,null,null,null,null,"",null,null,null,null,null,"",null,null,null,null,null,"",null,null,null,null,null,"",null,null,null,null,null,"",null,null,null,null,null,"",null,null,null,null,null,"",null,null,null,null,null,"",null,null,null,null,null,"",null,null,null,null,null,"",null,null,null,null,null,"",null,null,null,null,null,"",null,null,null,null,null,"",null,null,null,null,null,"",null,null,null,null,null,"",null,null,null,null,null,"",null,null,null,null,null,"",null,null,null,null,null,"",null,null,null,null,null,"",null,null,null,null,null,"",null,null,null,null,null,"",null,null,null,null,null,"",null,null,null,null,null,"",null,null,null,null,null,"",null,null,null,null,null,"",null,null,null,null,null,"",null,null,null,null,null,"",null,null,null,null,null,"",null,null,null,null,null,"",null,null,null,null,null,"",null,null,null,null,null,"",null,null,null,null,null,"",null,null,null,null,null,"",null,null,null,null,null,"",null,null,null,null,null,"",null,null,null,null,null,""]
[null,null,null,null,null,"",null,null,null,null,null,"",null,null,null,null,null,"",null,null,null,null,null,"",null,null,null,null,null,"",null,null,null,null,null,"",null,null,null,null,null,"",null,null,null,null,null,"",null,null,null,null,null,"",null,null,null,null,null,"",null,null,null,null,null,"",null,null,null,null,null,"",null,null,null,null,null,"",null,null,null,null,null,"",null,null,null,null,null,"",null,null,null,null,null,"",null,null,null,null,null,"",null,null,null,null,null,"",null,null,null,null,null,"",null,null,null,null,null,"",null,null,null,null,null,"",null,null,null,null,null,"",null,null,null,null,null,"",null,null,null,null,null,"",null,null,null,null,null,"",null,null,null,null,null,"",null,null,null,null,null,"",null,null,null,null,null,"",null,null,null,null,null,"",null,null,null,null,null,"",null,null,null,null,null,"",null,null,null,null,null,"",null,null,null,null,null,"",null,null,null,null,null,"",null,null,null,null,null,"",null,null,null,null,null,"",null,null,null,null,null,"",null,null,null,null,null,"",null,null,null,null,null,"",null,null,null,null,null,""]
[null,null,null,null,null,"",null,null,null,null,null,"",null,null,null,null,null,"",null,null,null,null,null,"",null,null,null,null,null,"",null,null,null,null,null,"",null,null,null,null,null,"",null,null,null,null,null,"",null,null,null,null,null,"",null,null,null,null,null,"",null,null,null,null,null,"",null,null,null,null,null,"",null,null,null,null,null,"",null,null,null,null,null,"",null,null,null,null,null,"",null,null,null,null,null,"",null,null,null,null,null,"",null,null,null,null,null,"",null,null,null,null,null,"",null,null,null,null,null,"",null,null,null,null,null,"",null,null,null,null,null,"",null,null,null,null,null,"",null,null,null,null,null,"",null,null,null,null,null,"",null,null,null,null,null,"",null,null,null,null,null,"",null,null,null,null,null,"",null,null,null,null,null,"",null,null,null,null,null,"",null,null,null,null,null,"",null,null,null,null,null,"",null,null,null,null,null,"",null,null,null,null,null,"",null,null,null,null,null,"",null,null,null,null,null,"",null,null,null,null,null,"",null,null,null,null,null,"",null,null,null,null,null,"",null,null,null,null,null,""]
[null,null,null,null,null,"",null,null,null,null,null,"",null,null,null,null,null,"",null,null,null,null,null,"",null,null,null,null,null,"",null,null,null,null,null,"",null,null,null,null,null,"",null,null,null,null,null,"",null,null,null,null,null,"",null,null,null,null,null,"",null,null,null,null,null,"",null,null,null,null,null,"",null,null,null,null,null,"",null,null,null,null,null,"",null,null,null,null,null,"",null,null,null,null,null,"",null,null,null,null,null,"",null,null,null,null,null,"",null,null,null,null,null,"",null,null,null,null,null,"",null,null,null,null,null,"",null,null,null,null,null,"",null,null,null,null,null,"",null,null,null,null,null,"",null,null,null,null,null,"",null,null,null,null,null,"",null,null,null,null,null,"",null,null,null,null,null,"",null,null,null,null,null,"",null,null,null,null,null,"",null,null,null,null,null,"",null,null,null,null,null,"",null,null,null,null,null,"",null,null,null,null,null,"",null,null,null,null,null,"",null,null,null,null,null,"",null,null,null,null,null,"",null,null,null,null,null,"",null,null,null,null,null,"",null,null,null,null,null,""]
[null,null,null,null,null,"",null,null,null,null,null,"",null,null,null,null,null,"",null,null,null,null,null,"",null,null,null,null,null,"",null,null,null,null,null,"",null,null,null,null,null,"",null,null,null,null,null,"",null,null,null,null,null,"",null,null,null,null,null,"",null,null,null,null,null,"",null,null,null,null,null,"",null,null,null,null,null,"",null,null,null,null,null,"",null,null,null,null,null,"",null,null,null,null,null,"",null,null,null,null,null,"",null,null,null,null,null,"",null,null,null,null,null,"",null,null,null,null,null,"",null,null,null,null,null,"",null,null,null,null,null,"",null,null,null,null,null,"",null,null,null,null,null,"",null,null,null,null,null,"",null,null,null,null,null,"",null,null,null,null,null,"",null,null,null,null,null,"",null,null,null,null,null,"",null,null,null,null,null,"",null,null,null,null,null,"",null,null,null,null,null,"",null,null,null,null,null,"",null,null,null,null,null,"",null,null,null,null,null,"",null,null,null,null,null,"",null,null,null,null,null,"",null,null,null,null,null,"",null,null,null,null,null,"",null,null,null,null,null,""]
[null,null,null,null,null,"",null,null,null,null,null,"",null,null,null,null,null,"",null,null,null,null,null,"",null,null,null,null,null,"",null,null,null,null,null,"",null,null,null,null,null,"",null,null,null,null,null,"",null,null,null,null,null,"",null,null,null,null,null,"",null,null,null,null,null,"",null,null,null,null,null,"",null,null,null,null,null,"",null,null,null,null,null,"",null,null,null,null,null,"",null,null,null,null,null,"",null,null,null,null,null,"",null,null,null,null,null,"",null,null,null,null,null,"",null,null,null,null,null,"",null,null,null,null,null,"",null,null,null,null,null,"",null,null,null,null,null,"",null,null,null,null,null,"",null,null,null,null,null,"",null,null,null,null,null,"",null,null,null,null,null,"",null,null,null,null,null,"",null,null,null,null,null,"",null,null,null,null,null,"",null,null,null,null,null,"",null,null,null,null,null,"",null,null,null,null,null,"",null,null,null,null,null,"",null,null,null,null,null,"",null,null,null,null,null,"",null,null,null,null,null,"",null,null,null,null,null,"",null,null,null,null,null,"",null,null,null,null,null,""]
[null,null,null,null,null,"",null,null,null,null,null,"",null,null,null,null,null,"",null,null,null,null,null,"",null,null,null,null,null,"",null,null,null,null,null,"",null,null,null,null,null,"",null,null,null,null,null,"",null,null,null,null,null,"",null,null,null,null,null,"",null,null,null,null,null,"",null,null,null,null,null,"",null,null,null,null,null,"",null,null,null,null,null,"",null,null,null,null,null,"",null,null,null,null,null,"",null,null,null,null,null,"",null,null,null,null,null,"",null,null,null,null,null,"",null,null,null,null,null,"",null,null,null,null,null,"",null,null,null,null,null,"",null,null,null,null,null,"",null,null,null,null,null,"",null,null,null,null,null,"",null,null,null,null,null,"",null,null,null,null,null,"",null,null,null,null,null,"",null,null,null,null,null,"",null,null,null,null,null,"",null,null,null,null,null,"",null,null,null,null,null,"",null,null,null,null,null,"",null,null,null,null,null,"",null,null,null,null,null,"",null,null,null,null,null,"",null,null,null,null,null,"",null,null,null,null,null,"",null,null,null,null,null,"",null,null,null,null,null,""]
[null,null,null,null,null,"",null,null,null,null,null,"",null,null,null,null,null,"",null,null,null,null,null,"",null,null,null,null,null,"",null,null,null,null,null,"",null,null,null,null,null,"",null,null,null,null,null,"",null,null,null,null,null,"",null,null,null,null,null,"",null,null,null,null,null,"",null,null,null,null,null,"",null,null,null,null,null,"",null,null,null,null,null,"",null,null,null,null,null,"",null,null,null,null,null,"",null,null,null,null,null,"",null,null,null,null,null,"",null,null,null,null,null,"",null,null,null,null,null,"",null,null,null,null,null,"",null,null,null,null,null,"",null,null,null,null,null,"",null,null,null,null,null,"",null,null,null,null,null,"",null,null,null,null,null,"",null,null,null,null,null,"",null,null,null,null,null,"",null,null,null,null,null,"",null,null,null,null,null,"",null,null,null,null,null,"",null,null,null,null,null,"",null,null,null,null,null,"",null,null,null,null,null,"",null,null,null,null,null,"",null,null,null,null,null,"",null,null,null,null,null,"",null,null,null,null,null,"",null,null,null,null,null,"",null,null,null,null,null,""]
[null,null,null,null,null,"",null,null,null,null,null,"",null,null,null,null,null,"",null,null,null,null,null,"",null,null,null,null,null,"",null,null,null,null,null,"",null,null,null,null,null,"",null,null,null,null,null,"",null,null,null,null,null,"",null,null,null,null,null,"",null,null,null,null,null,"",null,null,null,null,null,"",null,null,null,null,null,"",null,null,null,null,null,"",null,null,null,null,null,"",null,null,null,null,null,"",null,null,null,null,null,"",null,null,null,null,null,"",null,null,null,null,null,"",null,null,null,null,null,"",null,null,null,null,null,"",null,null,null,null,null,"",null,null,null,null,null,"",null,null,null,null,null,"",null,null,null,null,null,"",null,null,null,null,null,"",null,null,null,null,null,"",null,null,null,null,null,"",null,null,null,null,null,"",null,null,null,null,null,"",null,null,null,null,null,"",null,null,null,null,null,"",null,null,null,null,null,"",null,null,null,null,null,"",null,null,null,null,null,"",null,null,null,null,null,"",null,null,null,null,null,"",null,null,null,null,null,"",null,null,null,null,null,"",null,null,null,null,null,""]
[null,null,null,null,null,"",null,null,null,null,null,"",null,null,null,null,null,"",null,null,null,null,null,"",null,null,null,null,null,"",null,null,null,null,null,"",null,null,null,null,null,"",null,null,null,null,null,"",null,null,null,null,null,"",null,null,null,null,null,"",null,null,null,null,null,"",null,null,null,null,null,"",null,null,null,null,null,"",null,null,null,null,null,"",null,null,null,null,null,"",null,null,null,null,null,"",null,null,null,null,null,"",null,null,null,null,null,"",null,null,null,null,null,"",null,null,null,null,null,"",null,null,null,null,null,"",null,null,null,null,null,"",null,null,null,null,null,"",null,null,null,null,null,"",null,null,null,null,null,"",null,null,null,null,null,"",null,null,null,null,null,"",null,null,null,null,null,"",null,null,null,null,null,"",null,null,null,null,null,"",null,null,null,null,null,"",null,null,null,null,null,"",null,null,null,null,null,"",null,null,null,null,null,"",null,null,null,null,null,"",null,null,null,null,null,"",null,null,null,null,null,"",null,null,null,null,null,"",null,null,null,null,null,"",null,null,null,null,null,""]
[null,null,null,null,null,"",null,null,null,null,null,"",null,null,null,null,null,"",null,null,null,null,null,"",null,null,null,null,null,"",null,null,null,null,null,"",null,null,null,null,null,"",null,null,null,null,null,"",null,null,null,null,null,"",null,null,null,null,null,"",null,null,null,null,null,"",null,null,null,null,null,"",null,null,null,null,null,"",null,null,null,null,null,"",null,null,null,null,null,"",null,null,null,null,null,"",null,null,null,null,null,"",null,null,null,null,null,"",null,null,null,null,null,"",null,null,null,null,null,"",null,null,null,null,null,"",null,null,null,null,null,"",null,null,null,null,null,"",null,null,null,null,null,"",null,null,null,null,null,"",null,null,null,null,null,"",null,null,null,null,null,"",null,null,null,null,null,"",null,null,null,null,null,"",null,null,null,null,null,"",null,null,null,null,null,"",null,null,null,null,null,"",null,null,null,null,null,"",null,null,null,null,null,"",null,null,null,null,null,"",null,null,null,null,null,"",null,null,null,null,null,"",null,null,null,null,null,"",null,null,null,null,null,"",null,null,null,null,null,""]
[null,null,null,null,null,"",null,null,null,null,null,"",null,null,null,null,null,"",null,null,null,null,null,"",null,null,null,null,null,"",null,null,null,null,null,"",null,null,null,null,null,"",null,null,null,null,null,"",null,null,null,null,null,"",null,null,null,null,null,"",null,null,null,null,null,"",null,null,null,null,null,"",null,null,null,null,null,"",null,null,null,null,null,"",null,null,null,null,null,"",null,null,null,null,null,"",null,null,null,null,null,"",null,null,null,null,null,"",null,null,null,null,null,"",null,null,null,null,null,"",null,null,null,null,null,"",null,null,null,null,null,"",null,null,null,null,null,"",null,null,null,null,null,"",null,null,null,null,null,"",null,null,null,null,null,"",null,null,null,null,null,"",null,null,null,null,null,"",null,null,null,null,null,"",null,null,null,null,null,"",null,null,null,null,null,"",null,null,null,null,null,"",null,null,null,null,null,"",null,null,null,null,null,"",null,null,null,null,null,"",null,null,null,null,null,"",null,null,null,null,null,"",null,null,null,null,null,"",null,null,null,null,null,"",null,null,null,null,null,""]
[null,null,null,null,null,"",null,null,null,null,null,"",null,null,null,null,null,"",null,null,null,null,null,"",null,null,null,null,null,"",null,null,null,null,null,"",null,null,null,null,null,"",null,null,null,null,null,"",null,null,null,null,null,"",null,null,null,null,null,"",null,null,null,null,null,"",null,null,null,null,null,"",null,null,null,null,null,"",null,null,null,null,null,"",null,null,null,null,null,"",null,null,null,null,null,"",null,null,null,null,null,"",null,null,null,null,null,"",null,null,null,null,null,"",null,null,null,null,null,"",null,null,null,null,null,"",null,null,null,null,null,"",null,null,null,null,null,"",null,null,null,null,null,"",null,null,null,null,null,"",null,null,null,null,null,"",null,null,null,null,null,"",null,null,null,null,null,"",null,null,null,null,null,"",null,null,null,null,null,"",null,null,null,null,null,"",null,null,null,null,null,"",null,null,null,null,null,"",null,null,null,null,null,"",null,null,null,null,null,"",null,null,null,null,null,"",null,null,null,null,null,"",null,null,null,null,null,"",null,null,null,null,null,"",null,null,null,null,null,""]
[null,null,null,null,null,"",null,null,null,null,null,"",null,null,null,null,null,"",null,null,null,null,null,"",null,null,null,null,null,"",null,null,null,null,null,"",null,null,null,null,null,"",null,null,null,null,null,"",null,null,null,null,null,"",null,null,null,null,null,"",null,null,null,null,null,"",null,null,null,null,null,"",null,null,null,null,null,"",null,null,null,null,null,"",null,null,null,null,null,"",null,null,null,null,null,"",null,null,null,null,null,"",null,null,null,null,null,"",null,null,null,null,null,"",null,null,null,null,null,"",null,null,null,null,null,"",null,null,null,null,null,"",null,null,null,null,null,"",null,null,null,null,null,"",null,null,null,null,null,"",null,null,null,null,null,"",null,null,null,null,null,"",null,null,null,null,null,"",null,null,null,null,null,"",null,null,null,null,null,"",null,null,null,null,null,"",null,null,null,null,null,"",null,null,null,null,null,"",null,null,null,null,null,"",null,null,null,null,null,"",null,null,null,null,null,"",null,null,null,null,null,"",null,null,null,null,null,"",null,null,null,null,null,"",null,null,null,null,null,""]
[null,null,null,null,null,"",null,null,null,null,null,"",null,null,null,null,null,"",null,null,null,null,null,"",null,null,null,null,null,"",null,null,null,null,null,"",null,null,null,null,null,"",null,null,null,null,null,"",null,null,null,null,null,"",null,null,null,null,null,"",null,null,null,null,null,"",null,null,null,null,null,"",null,null,null,null,null,"",null,null,null,null,null,"",null,null,null,null,null,"",null,null,null,null,null,"",null,null,null,null,null,"",null,null,null,null,null,"",null,null,null,null,null,"",null,null,null,null,null,"",null,null,null,null,null,"",null,null,null,null,null,"",null,null,null,null,null,"",null,null,null,null,null,"",null,null,null,null,null,"",null,null,null,null,null,"",null,null,null,null,null,"",null,null,null,null,null,"",null,null,null,null,null,"",null,null,null,null,null,"",null,null,null,null,null,"",null,null,null,null,null,"",null,null,null,null,null,"",null,null,null,null,null,"",null,null,null,null,null,"",null,null,null,null,null,"",null,null,null,null,null,"",null,null,null,null,null,"",null,null,null,null,null,"",null,null,null,null,null,""]
[null,null,null,null,null,"",null,null,null,null,null,"",null,null,null,null,null,"",null,null,null,null,null,"",null,null,null,null,null,"",null,null,null,null,null,"",null,null,null,null,null,"",null,null,null,null,null,"",null,null,null,null,null,"",null,null,null,null,null,"",null,null,null,null,null,"",null,null,null,null,null,"",null,null,null,null,null,"",null,null,null,null,null,"",null,null,null,null,null,"",null,null,null,null,null,"",null,null,null,null,null,"",null,null,null,null,null,"",null,null,null,null,null,"",null,null,null,null,null,"",null,null,null,null,null,"",null,null,null,null,null,"",null,null,null,null,null,"",null,null,null,null,null,"",null,null,null,null,null,"",null,null,null,null,null,"",null,null,null,null,null,"",null,null,null,null,null,"",null,null,null,null,null,"",null,null,null,null,null,"",null,null,null,null,null,"",null,null,null,null,null,"",null,null,null,null,null,"",null,null,null,null,null,"",null,null,null,null,null,"",null,null,null,null,null,"",null,null,null,null,null,"",null,null,null,null,null,"",null,null,null,null,null,"",null,null,null,null,null,""]
[null,null,null,null,null,"",null,null,null,null,null,"",null,null,null,null,null,"",null,null,null,null,null,"",null,null,null,null,null,"",null,null,null,null,null,"",null,null,null,null,null,"",null,null,null,null,null,"",null,null,null,null,null,"",null,null,null,null,null,"",null,null,null,null,null,"",null,null,null,null,null,"",null,null,null,null,null,"",null,null,null,null,null,"",null,null,null,null,null,"",null,null,null,null,null,"",null,null,null,null,null,"",null,null,null,null,null,"",null,null,null,null,null,"",null,null,null,null,null,"",null,null,null,null,null,"",null,null,null,null,null,"",null,null,null,null,null,"",null,null,null,null,null,"",null,null,null,null,null,"",null,null,null,null,null,"",null,null,null,null,null,"",null,null,null,null,null,"",null,null,null,null,null,"",null,null,null,null,null,"",null,null,null,null,null,"",null,null,null,null,null,"",null,null,null,null,null,"",null,null,null,null,null,"",null,null,null,null,null,"",null,null,null,null,null,"",null,null,null,null,null,"",null,null,null,null,null,"",null,null,null,null,null,"",null,null,null,null,null,""]
[null,null,null,null,null,"",null,null,null,null,null,"",null,null,null,null,null,"",null,null,null,null,null,"",null,null,null,null,null,"",null,null,null,null,null,"",null,null,null,null,null,"",null,null,null,null,null,"",null,null,null,null,null,"",null,null,null,null,null,"",null,null,null,null,null,"",null,null,null,null,null,"",null,null,null,null,null,"",null,null,null,null,null,"",null,null,null,null,null,"",null,null,null,null,null,"",null,null,null,null,null,"",null,null,null,null,null,"",null,null,null,null,null,"",null,null,null,null,null,"",null,null,null,null,null,"",null,null,null,null,null,"",null,null,null,null,null,"",null,null,null,null,null,"",null,null,null,null,null,"",null,null,null,null,null,"",null,null,null,null,null,"",null,null,null,null,null,"",null,null,null,null,null,"",null,null,null,null,null,"",null,null,null,null,null,"",null,null,null,null,null,"",null,null,null,null,null,"",null,null,null,null,null,"",null,null,null,null,null,"",null,null,null,null,null,"",null,null,null,null,null,"",null,null,null,null,null,"",null,null,null,null,null,"",null,null,null,null,null,""]
[null,null,null,null,null,"",null,null,null,null,null,"",null,null,null,null,null,"",null,null,null,null,null,"",null,null,null,null,null,"",null,null,null,null,null,"",null,null,null,null,null,"",null,null,null,null,null,"",null,null,null,null,null,"",null,null,null,null,null,"",null,null,null,null,null,"",null,null,null,null,null,"",null,null,null,null,null,"",null,null,null,null,null,"",null,null,null,null,null,"",null,null,null,null,null,"",null,null,null,null,null,"",null,null,null,null,null,"",null,null,null,null,null,"",null,null,null,null,null,"",null,null,null,null,null,"",null,null,null,null,null,"",null,null,null,null,null,"",null,null,null,null,null,"",null,null,null,null,null,"",null,null,null,null,null,"",null,null,null,null,null,"",null,null,null,null,null,"",null,null,null,null,null,"",null,null,null,null,null,"",null,null,null,null,null,"",null,null,null,null,null,"",null,null,null,null,null,"",null,null,null,null,null,"",null,null,null,null,null,"",null,null,null,null,null,"",null,null,null,null,null,"",null,null,null,null,null,"",null,null,null,null,null,"",null,null,null,null,null,""]
[null,null,null,null,null,"",null,null,null,null,null,"",null,null,null,null,null,"",null,null,null,null,null,"",null,null,null,null,null,"",null,null,null,null,null,"",null,null,null,null,null,"",null,null,null,null,null,"",null,null,null,null,null,"",null,null,null,null,null,"",null,null,null,null,null,"",null,null,null,null,null,"",null,null,null,null,null,"",null,null,null,null,null,"",null,null,null,null,null,"",null,null,null,null,null,"",null,null,null,null,null,"",null,null,null,null,null,"",null,null,null,null,null,"",null,null,null,null,null,"",null,null,null,null,null,"",null,null,null,null,null,"",null,null,null,null,null,"",null,null,null,null,null,"",null,null,null,null,null,"",null,null,null,null,null,"",null,null,null,null,null,"",null,null,null,null,null,"",null,null,null,null,null,"",null,null,null,null,null,"",null,null,null,null,null,"",null,null,null,null,null,"",null,null,null,null,null,"",null,null,null,null,null,"",null,null,null,null,null,"",null,null,null,null,null,"",null,null,null,null,null,"",null,null,null,null,null,"",null,null,null,null,null,"",null,null,null,null,null,""]
[null,null,null,null,null,"",null,null,null,null,null,"",null,null,null,null,null,"",null,null,null,null,null,"",null,null,null,null,null,"",null,null,null,null,null,"",null,null,null,null,null,"",null,null,null,null,null,"",null,null,null,null,null,"",null,null,null,null,null,"",null,null,null,null,null,"",null,null,null,null,null,"",null,null,null,null,null,"",null,null,null,null,null,"",null,null,null,null,null,"",null,null,null,null,null,"",null,null,null,null,null,"",null,null,null,null,null,"",null,null,null,null,null,"",null,null,null,null,null,"",null,null,null,null,null,"",null,null,null,null,null,"",null,null,null,null,null,"",null,null,null,null,null,"",null,null,null,null,null,"",null,null,null,null,null,"",null,null,null,null,null,"",null,null,null,null,null,"",null,null,null,null,null,"",null,null,null,null,null,"",null,null,null,null,null,"",null,null,null,null,null,"",null,null,null,null,null,"",null,null,null,null,null,"",null,null,null,null,null,"",null,null,null,null,null,"",null,null,null,null,null,"",null,null,null,null,null,"",null,null,null,null,null,"",null,null,null,null,null,""]
[null,null,null,null,null,"",null,null,null,null,null,"",null,null,null,null,null,"",null,null,null,null,null,"",null,null,null,null,null,"",null,null,null,null,null,"",null,null,null,null,null,"",null,null,null,null,null,"",null,null,null,null,null,"",null,null,null,null,null,"",null,null,null,null,null,"",null,null,null,null,null,"",null,null,null,null,null,"",null,null,null,null,null,"",null,null,null,null,null,"",null,null,null,null,null,"",null,null,null,null,null,"",null,null,null,null,null,"",null,null,null,null,null,"",null,null,null,null,null,"",null,null,null,null,null,"",null,null,null,null,null,"",null,null,null,null,null,"",null,null,null,null,null,"",null,null,null,null,null,"",null,null,null,null,null,"",null,null,null,null,null,"",null,null,null,null,null,"",null,null,null,null,null,"",null,null,null,null,null,"",null,null,null,null,null,"",null,null,null,null,null,"",null,null,null,null,null,"",null,null,null,null,null,"",null,null,null,null,null,"",null,null,null,null,null,"",null,null,null,null,null,"",null,null,null,null,null,"",null,null,null,null,null,"",null,null,null,null,null,""]
[null,null,null,null,null,"",null,null,null,null,null,"",null,null,null,null,null,"",null,null,null,null,null,"",null,null,null,null,null,"",null,null,null,null,null,"",null,null,null,null,null,"",null,null,null,null,null,"",null,null,null,null,null,"",null,null,null,null,null,"",null,null,null,null,null,"",null,null,null,null,null,"",null,null,null,null,null,"",null,null,null,null,null,"",null,null,null,null,null,"",null,null,null,null,null,"",null,null,null,null,null,"",null,null,null,null,null,"",null,null,null,null,null,"",null,null,null,null,null,"",null,null,null,null,null,"",null,null,null,null,null,"",null,null,null,null,null,"",null,null,null,null,null,"",null,null,null,null,null,"",null,null,null,null,null,"",null,null,null,null,null,"",null,null,null,null,null,"",null,null,null,null,null,"",null,null,null,null,null,"",null,null,null,null,null,"",null,null,null,null,null,"",null,null,null,null,null,"",null,null,null,null,null,"",null,null,null,null,null,"",null,null,null,null,null,"",null,null,null,null,null,"",null,null,null,null,null,"",null,null,null,null,null,"",null,null,null,null,null,""]
[null,null,null,null,null,"",null,null,null,null,null,"",null,null,null,null,null,"",null,null,null,null,null,"",null,null,null,null,null,"",null,null,null,null,null,"",null,null,null,null,null,"",null,null,null,null,null,"",null,null,null,null,null,"",null,null,null,null,null,"",null,null,null,null,null,"",null,null,null,null,null,"",null,null,null,null,null,"",null,null,null,null,null,"",null,null,null,null,null,"",null,null,null,null,null,"",null,null,null,null,null,"",null,null,null,null,null,"",null,null,null,null,null,"",null,null,null,null,null,"",null,null,null,null,null,"",null,null,null,null,null,"",null,null,null,null,null,"",null,null,null,null,null,"",null,null,null,null,null,"",null,null,null,null,null,"",null,null,null,null,null,"",null,null,null,null,null,"",null,null,null,null,null,"",null,null,null,null,null,"",null,null,null,null,null,"",null,null,null,null,null,"",null,null,null,null,null,"",null,null,null,null,null,"",null,null,null,null,null,"",null,null,null,null,null,"",null,null,null,null,null,"",null,null,null,null,null,"",null,null,null,null,null,"",null,null,null,null,null,""]
[null,null,null,null,null,"",null,null,null,null,null,"",null,null,null,null,null,"",null,null,null,null,null,"",null,null,null,null,null,"",null,null,null,null,null,"",null,null,null,null,null,"",null,null,null,null,null,"",null,null,null,null,null,"",null,null,null,null,null,"",null,null,null,null,null,"",null,null,null,null,null,"",null,null,null,null,null,"",null,null,null,null,null,"",null,null,null,null,null,"",null,null,null,null,null,"",null,null,null,null,null,"",null,null,null,null,null,"",null,null,null,null,null,"",null,null,null,null,null,"",null,null,null,null,null,"",null,null,null,null,null,"",null,null,null,null,null,"",null,null,null,null,null,"",null,null,null,null,null,"",null,null,null,null,null,"",null,null,null,null,null,"",null,null,null,null,null,"",null,null,null,null,null,"",null,null,null,null,null,"",null,null,null,null,null,"",null,null,null,null,null,"",null,null,null,null,null,"",null,null,null,null,null,"",null,null,null,null,null,"",null,null,null,null,null,"",null,null,null,null,null,"",null,null,null,null,null,"",null,null,null,null,null,"",null,null,null,null,null,""]
[null,null,null,null,null,"",null,null,null,null,null,"",null,null,null,null,null,"",null,null,null,null,null,"",null,null,null,null,null,"",null,null,null,null,null,"",null,null,null,null,null,"",null,null,null,null,null,"",null,null,null,null,null,"",null,null,null,null,null,"",null,null,null,null,null,"",null,null,null,null,null,"",null,null,null,null,null,"",null,null,null,null,null,"",null,null,null,null,null,"",null,null,null,null,null,"",null,null,null,null,null,"",null,null,null,null,null,"",null,null,null,null,null,"",null,null,null,null,null,"",null,null,null,null,null,"",null,null,null,null,null,"",null,null,null,null,null,"",null,null,null,null,null,"",null,null,null,null,null,"",null,null,null,null,null,"",null,null,null,null,null,"",null,null,null,null,null,"",null,null,null,null,null,"",null,null,null,null,null,"",null,null,null,null,null,"",null,null,null,null,null,"",null,null,null,null,null,"",null,null,null,null,null,"",null,null,null,null,null,"",null,null,null,null,null,"",null,null,null,null,null,"",null,null,null,null,null,"",null,null,null,null,null,"",null,null,null,null,null,""]
[null,null,null,null,null,"",null,null,null,null,null,"",null,null,null,null,null,"",null,null,null,null,null,"",null,null,null,null,null,"",null,null,null,null,null,"",null,null,null,null,null,"",null,null,null,null,null,"",null,null,null,null,null,"",null,null,null,null,null,"",null,null,null,null,null,"",null,null,null,null,null,"",null,null,null,null,null,"",null,null,null,null,null,"",null,null,null,null,null,"",null,null,null,null,null,"",null,null,null,null,null,"",null,null,null,null,null,"",null,null,null,null,null,"",null,null,null,null,null,"",null,null,null,null,null,"",null,null,null,null,null,"",null,null,null,null,null,"",null,null,null,null,null,"",null,null,null,null,null,"",null,null,null,null,null,"",null,null,null,null,null,"",null,null,null,null,null,"",null,null,null,null,null,"",null,null,null,null,null,"",null,null,null,null,null,"",null,null,null,null,null,"",null,null,null,null,null,"",null,null,null,null,null,"",null,null,null,null,null,"",null,null,null,null,null,"",null,null,null,null,null,"",null,null,null,null,null,"",null,null,null,null,null,"",null,null,null,null,null,""]
[null,null,null,null,null,"",null,null,null,null,null,"",null,null,null,null,null,"",null,null,null,null,null,"",null,null,null,null,null,"",null,null,null,null,null,"",null,null,null,null,null,"",null,null,null,null,null,"",null,null,null,null,null,"",null,null,null,null,null,"",null,null,null,null,null,"",null,null,null,null,null,"",null,null,null,null,null,"",null,null,null,null,null,"",null,null,null,null,null,"",null,null,null,null,null,"",null,null,null,null,null,"",null,null,null,null,null,"",null,null,null,null,null,"",null,null,null,null,null,"",null,null,null,null,null,"",null,null,null,null,null,"",null,null,null,null,null,"",null,null,null,null,null,"",null,null,null,null,null,"",null,null,null,null,null,"",null,null,null,null,null,"",null,null,null,null,null,"",null,null,null,null,null,"",null,null,null,null,null,"",null,null,null,null,null,"",null,null,null,null,null,"",null,null,null,null,null,"",null,null,null,null,null,"",null,null,null,null,null,"",null,null,null,null,null,"",null,null,null,null,null,"",null,null,null,null,null,"",null,null,null,null,null,"",null,null,null,null,null,""]
[null,null,null,null,null,"",null,null,null,null,null,"",null,null,null,null,null,"",null,null,null,null,null,"",null,null,null,null,null,"",null,null,null,null,null,"",null,null,null,null,null,"",null,null,null,null,null,"",null,null,null,null,null,"",null,null,null,null,null,"",null,null,null,null,null,"",null,null,null,null,null,"",null,null,null,null,null,"",null,null,null,null,null,"",null,null,null,null,null,"",null,null,null,null,null,"",null,null,null,null,null,"",null,null,null,null,null,"",null,null,null,null,null,"",null,null,null,null,null,"",null,null,null,null,null,"",null,null,null,null,null,"",null,null,null,null,null,"",null,null,null,null,null,"",null,null,null,null,null,"",null,null,null,null,null,"",null,null,null,null,null,"",null,null,null,null,null,"",null,null,null,null,null,"",null,null,null,null,null,"",null,null,null,null,null,"",null,null,null,null,null,"",null,null,null,null,null,"",null,null,null,null,null,"",null,null,null,null,null,"",null,null,null,null,null,"",null,null,null,null,null,"",null,null,null,null,null,"",null,null,null,null,null,"",null,null,null,null,null,""]
[null,null,null,null,null,"",null,null,null,null,null,"",null,null,null,null,null,"",null,null,null,null,null,"",null,null,null,null,null,"",null,null,null,null,null,"",null,null,null,null,null,"",null,null,null,null,null,"",null,null,null,null,null,"",null,null,null,null,null,"",null,null,null,null,null,"",null,null,null,null,null,"",null,null,null,null,null,"",null,null,null,null,null,"",null,null,null,null,null,"",null,null,null,null,null,"",null,null,null,null,null,"",null,null,null,null,null,"",null,null,null,null,null,"",null,null,null,null,null,"",null,null,null,null,null,"",null,null,null,null,null,"",null,null,null,null,null,"",null,null,null,null,null,"",null,null,null,null,null,"",null,null,null,null,null,"",null,null,null,null,null,"",null,null,null,null,null,"",null,null,null,null,null,"",null,null,null,null,null,"",null,null,null,null,null,"",null,null,null,null,null,"",null,null,null,null,null,"",null,null,null,null,null,"",null,null,null,null,null,"",null,null,null,null,null,"",null,null,null,null,null,"",null,null,null,null,null,"",null,null,null,null,null,"",null,null,null,null,null,""]
[null,null,null,null,null,"",null,null,null,null,null,"",null,null,null,null,null,"",null,null,null,null,null,"",null,null,null,null,null,"",null,null,null,null,null,"",null,null,null,null,null,"",null,null,null,null,null,"",null,null,null,null,null,"",null,null,null,null,null,"",null,null,null,null,null,"",null,null,null,null,null,"",null,null,null,null,null,"",null,null,null,null,null,"",null,null,null,null,null,"",null,null,null,null,null,"",null,null,null,null,null,"",null,null,null,null,null,"",null,null,null,null,null,"",null,null,null,null,null,"",null,null,null,null,null,"",null,null,null,null,null,"",null,null,null,null,null,"",null,null,null,null,null,"",null,null,null,null,null,"",null,null,null,null,null,"",null,null,null,null,null,"",null,null,null,null,null,"",null,null,null,null,null,"",null,null,null,null,null,"",null,null,null,null,null,"",null,null,null,null,null,"",null,null,null,null,null,"",null,null,null,null,null,"",null,null,null,null,null,"",null,null,null,null,null,"",null,null,null,null,null,"",null,null,null,null,null,"",null,null,null,null,null,"",null,null,null,null,null,""]
[null,null,null,null,null,"",null,null,null,null,null,"",null,null,null,null,null,"",null,null,null,null,null,"",null,null,null,null,null,"",null,null,null,null,null,"",null,null,null,null,null,"",null,null,null,null,null,"",null,null,null,null,null,"",null,null,null,null,null,"",null,null,null,null,null,"",null,null,null,null,null,"",null,null,null,null,null,"",null,null,null,null,null,"",null,null,null,null,null,"",null,null,null,null,null,"",null,null,null,null,null,"",null,null,null,null,null,"",null,null,null,null,null,"",null,null,null,null,null,"",null,null,null,null,null,"",null,null,null,null,null,"",null,null,null,null,null,"",null,null,null,null,null,"",null,null,null,null,null,"",null,null,null,null,null,"",null,null,null,null,null,"",null,null,null,null,null,"",null,null,null,null,null,"",null,null,null,null,null,"",null,null,null,null,null,"",null,null,null,null,null,"",null,null,null,null,null,"",null,null,null,null,null,"",null,null,null,null,null,"",null,null,null,null,null,"",null,null,null,null,null,"",null,null,null,null,null,"",null,null,null,null,null,"",null,null,null,null,null,""]
[null,null,null,null,null,{"$f":"IF(A73=\"\",\"\",SUM(B73:E73))","v":""},null,null,null,null,null,{"$f":"IF(G73=\"\",\"\",SUM(H73:K73))","v":""},null,null,null,null,null,{"$f":"IF(M73=\"\",\"\",SUM(N73:Q73))","v":""},null,null,null,null,null,{"$f":"IF(S73=\"\",\"\",SUM(T73:W73))","v":""},null,null,null,null,null,{"$f":"IF(Y73=\"\",\"\",SUM(Z73:AC73))","v":""},null,null,null,null,null,{"$f":"IF(AE73=\"\",\"\",SUM(AF73:AI73))","v":""},null,null,null,null,null,{"$f":"IF(AK73=\"\",\"\",SUM(AL73:AO73))","v":""},null,null,null,null,null,{"$f":"IF(AQ73=\"\",\"\",SUM(AR73:AU73))","v":""},null,null,null,null,null,{"$f":"IF(AW73=\"\",\"\",SUM(AX73:BA73))","v":""},null,null,null,null,null,{"$f":"IF(BC73=\"\",\"\",SUM(BD73:BG73))","v":""},null,null,null,null,null,{"$f":"IF(BI73=\"\",\"\",SUM(BJ73:BM73))","v":""},null,null,null,null,null,{"$f":"IF(BO73=\"\",\"\",SUM(BP73:BS73))","v":""},null,null,null,null,null,{"$f":"IF(BU73=\"\",\"\",SUM(BV73:BY73))","v":""},null,null,null,null,null,{"$f":"IF(CA73=\"\",\"\",SUM(CB73:CE73))","v":""},null,null,null,null,null,{"$f":"IF(CG73=\"\",\"\",SUM(CH73:CK73))","v":""},null,null,null,null,null,{"$f":"IF(CM73=\"\",\"\",SUM(CN73:CQ73))","v":""},null,null,null,null,null,{"$f":"IF(CS73=\"\",\"\",SUM(CT73:CW73))","v":""},null,null,null,null,null,{"$f":"IF(CY73=\"\",\"\",SUM(CZ73:DC73))","v":""},null,null,null,null,null,{"$f":"IF(DE73=\"\",\"\",SUM(DF73:DI73))","v":""},null,null,null,null,null,{"$f":"IF(DK73=\"\",\"\",SUM(DL73:DO73))","v":""},null,null,null,null,null,{"$f":"IF(DQ73=\"\",\"\",SUM(DR73:DU73))","v":""},null,null,null,null,null,{"$f":"IF(DW73=\"\",\"\",SUM(DX73:EA73))","v":""},null,null,null,null,null,{"$f":"IF(EC73=\"\",\"\",SUM(ED73:EG73))","v":""},null,null,null,null,null,{"$f":"IF(EI73=\"\",\"\",SUM(EJ73:EM73))","v":""},null,null,null,null,null,{"$f":"IF(EO73=\"\",\"\",SUM(EP73:ES73))","v":""},null,null,null,null,null,{"$f":"IF(EU73=\"\",\"\",SUM(EV73:EY73))","v":""},null,null,null,null,null,{"$f":"IF(FA73=\"\",\"\",SUM(FB73:FE73))","v":""},null,null,null,null,null,{"$f":"IF(FG73=\"\",\"\",SUM(FH73:FK73))","v":""},null,null,null,null,null,{"$f":"IF(FM73=\"\",\"\",SUM(FN73:FQ73))","v":""},null,null,null,null,null,{"$f":"IF(FS73=\"\",\"\",SUM(FT73:FW73))","v":""},null,null,null,null,null,{"$f":"IF(FY73=\"\",\"\",SUM(FZ73:GC73))","v":""},null,null,null,null,null,{"$f":"IF(GE73=\"\",\"\",SUM(GF73:GI73))","v":""},null,null,null,null,null,{"$f":"IF(GK73=\"\",\"\",SUM(GL73:GO73))","v":""},null,null,null,null,null,{"$f":"IF(GQ73=\"\",\"\",SUM(GR73:GU73))","v":""},null,null,null,null,null,{"$f":"IF(GW73=\"\",\"\",SUM(GX73:HA73))","v":""},null,null,null,null,null,{"$f":"IF(HC73=\"\",\"\",SUM(HD73:HG73))","v":""},null,null,null,null,null,{"$f":"IF(HI73=\"\",\"\",SUM(HJ73:HM73))","v":""},null,null,null,null,null,{"$f":"IF(HO73=\"\",\"\",SUM(HP73:HS73))","v":""},null,null,null,null,null,{"$f":"IF(HU73=\"\",\"\",SUM(HV73:HY73))","v":""},null,null,null,null,null,{"$f":"IF(IA73=\"\",\"\",SUM(IB73:IE73))","v":""}]
[null,null,null,null,null,"",null,null,null,null,null,"",null,null,null,null,null,"",null,null,null,null,null,"",null,null,null,null,null,"",null,null,null,null,null,"",null,null,null,null,null,"",null,null,null,null,null,"",null,null,null,null,null,"",null,null,null,null,null,"",null,null,null,null,null,"",null,null,null,null,null,"",null,null,null,null,null,"",null,null,null,null,null,"",null,null,null,null,null,"",null,null,null,null,null,"",null,null,null,null,null,"",null,null,null,null,null,"",null,null,null,null,null,"",null,null,null,null,null,"",null,null,null,null,null,"",null,null,null,null,null,"",null,null,null,null,null,"",null,null,null,null,null,"",null,null,null,null,null,"",null,null,null,null,null,"",null,null,null,null,null,"",null,null,null,null,null,"",null,null,null,null,null,"",null,null,null,null,null,"",null,null,null,null,null,"",null,null,null,null,null,"",null,null,null,null,null,"",null,null,null,null,null,"",null,null,null,null,null,"",null,null,null,null,null,"",null,null,null,null,null,"",null,null,null,null,null,"",null,null,null,null,null,"",null,null,null,null,null,""]
[null,null,null,null,null,"",null,null,null,null,null,"",null,null,null,null,null,"",null,null,null,null,null,"",null,null,null,null,null,"",null,null,null,null,null,"",null,null,null,null,null,"",null,null,null,null,null,"",null,null,null,null,null,"",null,null,null,null,null,"",null,null,null,null,null,"",null,null,null,null,null,"",null,null,null,null,null,"",null,null,null,null,null,"",null,null,null,null,null,"",null,null,null,null,null,"",null,null,null,null,null,"",null,null,null,null,null,"",null,null,null,null,null,"",null,null,null,null,null,"",null,null,null,null,null,"",null,null,null,null,null,"",null,null,null,null,null,"",null,null,null,null,null,"",null,null,null,null,null,"",null,null,null,null,null,"",null,null,null,null,null,"",null,null,null,null,null,"",null,null,null,null,null,"",null,null,null,null,null,"",null,null,null,null,null,"",null,null,null,null,null,"",null,null,null,null,null,"",null,null,null,null,null,"",null,null,null,null,null,"",null,null,null,null,null,"",null,null,null,null,null,"",null,null,null,null,null,"",null,null,null,null,null,"",null,null,null,null,null,""]
[null,null,null,null,null,"",null,null,null,null,null,"",null,null,null,null,null,"",null,null,null,null,null,"",null,null,null,null,null,"",null,null,null,null,null,"",null,null,null,null,null,"",null,null,null,null,null,"",null,null,null,null,null,"",null,null,null,null,null,"",null,null,null,null,null,"",null,null,null,null,null,"",null,null,null,null,null,"",null,null,null,null,null,"",null,null,null,null,null,"",null,null,null,null,null,"",null,null,null,null,null,"",null,null,null,null,null,"",null,null,null,null,null,"",null,null,null,null,null,"",null,null,null,null,null,"",null,null,null,null,null,"",null,null,null,null,null,"",null,null,null,null,null,"",null,null,null,null,null,"",null,null,null,null,null,"",null,null,null,null,null,"",null,null,null,null,null,"",null,null,null,null,null,"",null,null,null,null,null,"",null,null,null,null,null,"",null,null,null,null,null,"",null,null,null,null,null,"",null,null,null,null,null,"",null,null,null,null,null,"",null,null,null,null,null,"",null,null,null,null,null,"",null,null,null,null,null,"",null,null,null,null,null,"",null,null,null,null,null,""]
[null,null,null,null,null,"",null,null,null,null,null,"",null,null,null,null,null,"",null,null,null,null,null,"",null,null,null,null,null,"",null,null,null,null,null,"",null,null,null,null,null,"",null,null,null,null,null,"",null,null,null,null,null,"",null,null,null,null,null,"",null,null,null,null,null,"",null,null,null,null,null,"",null,null,null,null,null,"",null,null,null,null,null,"",null,null,null,null,null,"",null,null,null,null,null,"",null,null,null,null,null,"",null,null,null,null,null,"",null,null,null,null,null,"",null,null,null,null,null,"",null,null,null,null,null,"",null,null,null,null,null,"",null,null,null,null,null,"",null,null,null,null,null,"",null,null,null,null,null,"",null,null,null,null,null,"",null,null,null,null,null,"",null,null,null,null,null,"",null,null,null,null,null,"",null,null,null,null,null,"",null,null,null,null,null,"",null,null,null,null,null,"",null,null,null,null,null,"",null,null,null,null,null,"",null,null,null,null,null,"",null,null,null,null,null,"",null,null,null,null,null,"",null,null,null,null,null,"",null,null,null,null,null,"",null,null,null,null,null,""]
[null,null,null,null,null,"",null,null,null,null,null,"",null,null,null,null,null,"",null,null,null,null,null,"",null,null,null,null,null,"",null,null,null,null,null,"",null,null,null,null,null,"",null,null,null,null,null,"",null,null,null,null,null,"",null,null,null,null,null,"",null,null,null,null,null,"",null,null,null,null,null,"",null,null,null,null,null,"",null,null,null,null,null,"",null,null,null,null,null,"",null,null,null,null,null,"",null,null,null,null,null,"",null,null,null,null,null,"",null,null,null,null,null,"",null,null,null,null,null,"",null,null,null,null,null,"",null,null,null,null,null,"",null,null,null,null,null,"",null,null,null,null,null,"",null,null,null,null,null,"",null,null,null,null,null,"",null,null,null,null,null,"",null,null,null,null,null,"",null,null,null,null,null,"",null,null,null,null,null,"",null,null,null,null,null,"",null,null,null,null,null,"",null,null,null,null,null,"",null,null,null,null,null,"",null,null,null,null,null,"",null,null,null,null,null,"",null,null,null,null,null,"",null,null,null,null,null,"",null,null,null,null,null,"",null,null,null,null,null,""]
[null,null,null,null,null,"",null,null,null,null,null,"",null,null,null,null,null,"",null,null,null,null,null,"",null,null,null,null,null,"",null,null,null,null,null,"",null,null,null,null,null,"",null,null,null,null,null,"",null,null,null,null,null,"",null,null,null,null,null,"",null,null,null,null,null,"",null,null,null,null,null,"",null,null,null,null,null,"",null,null,null,null,null,"",null,null,null,null,null,"",null,null,null,null,null,"",null,null,null,null,null,"",null,null,null,null,null,"",null,null,null,null,null,"",null,null,null,null,null,"",null,null,null,null,null,"",null,null,null,null,null,"",null,null,null,null,null,"",null,null,null,null,null,"",null,null,null,null,null,"",null,null,null,null,null,"",null,null,null,null,null,"",null,null,null,null,null,"",null,null,null,null,null,"",null,null,null,null,null,"",null,null,null,null,null,"",null,null,null,null,null,"",null,null,null,null,null,"",null,null,null,null,null,"",null,null,null,null,null,"",null,null,null,null,null,"",null,null,null,null,null,"",null,null,null,null,null,"",null,null,null,null,null,"",null,null,null,null,null,""]
[null,null,null,null,null,"",null,null,null,null,null,"",null,null,null,null,null,"",null,null,null,null,null,"",null,null,null,null,null,"",null,null,null,null,null,"",null,null,null,null,null,"",null,null,null,null,null,"",null,null,null,null,null,"",null,null,null,null,null,"",null,null,null,null,null,"",null,null,null,null,null,"",null,null,null,null,null,"",null,null,null,null,null,"",null,null,null,null,null,"",null,null,null,null,null,"",null,null,null,null,null,"",null,null,null,null,null,"",null,null,null,null,null,"",null,null,null,null,null,"",null,null,null,null,null,"",null,null,null,null,null,"",null,null,null,null,null,"",null,null,null,null,null,"",null,null,null,null,null,"",null,null,null,null,null,"",null,null,null,null,null,"",null,null,null,null,null,"",null,null,null,null,null,"",null,null,null,null,null,"",null,null,null,null,null,"",null,null,null,null,null,"",null,null,null,null,null,"",null,null,null,null,null,"",null,null,null,null,null,"",null,null,null,null,null,"",null,null,null,null,null,"",null,null,null,null,null,"",null,null,null,null,null,"",null,null,null,null,null,""]
[null,null,null,null,null,"",null,null,null,null,null,"",null,null,null,null,null,"",null,null,null,null,null,"",null,null,null,null,null,"",null,null,null,null,null,"",null,null,null,null,null,"",null,null,null,null,null,"",null,null,null,null,null,"",null,null,null,null,null,"",null,null,null,null,null,"",null,null,null,null,null,"",null,null,null,null,null,"",null,null,null,null,null,"",null,null,null,null,null,"",null,null,null,null,null,"",null,null,null,null,null,"",null,null,null,null,null,"",null,null,null,null,null,"",null,null,null,null,null,"",null,null,null,null,null,"",null,null,null,null,null,"",null,null,null,null,null,"",null,null,null,null,null,"",null,null,null,null,null,"",null,null,null,null,null,"",null,null,null,null,null,"",null,null,null,null,null,"",null,null,null,null,null,"",null,null,null,null,null,"",null,null,null,null,null,"",null,null,null,null,null,"",null,null,null,null,null,"",null,null,null,null,null,"",null,null,null,null,null,"",null,null,null,null,null,"",null,null,null,null,null,"",null,null,null,null,null,"",null,null,null,null,null,"",null,null,null,null,null,""]
[null,null,null,null,null,"",null,null,null,null,null,"",null,null,null,null,null,"",null,null,null,null,null,"",null,null,null,null,null,"",null,null,null,null,null,"",null,null,null,null,null,"",null,null,null,null,null,"",null,null,null,null,null,"",null,null,null,null,null,"",null,null,null,null,null,"",null,null,null,null,null,"",null,null,null,null,null,"",null,null,null,null,null,"",null,null,null,null,null,"",null,null,null,null,null,"",null,null,null,null,null,"",null,null,null,null,null,"",null,null,null,null,null,"",null,null,null,null,null,"",null,null,null,null,null,"",null,null,null,null,null,"",null,null,null,null,null,"",null,null,null,null,null,"",null,null,null,null,null,"",null,null,null,null,null,"",null,null,null,null,null,"",null,null,null,null,null,"",null,null,null,null,null,"",null,null,null,null,null,"",null,null,null,null,null,"",null,null,null,null,null,"",null,null,null,null,null,"",null,null,null,null,null,"",null,null,null,null,null,"",null,null,null,null,null,"",null,null,null,null,null,"",null,null,null,null,null,"",null,null,null,null,null,"",null,null,null,null,null,""]
[null,null,null,null,null,"",null,null,null,null,null,"",null,null,null,null,null,"",null,null,null,null,null,"",null,null,null,null,null,"",null,null,null,null,null,"",null,null,null,null,null,"",null,null,null,null,null,"",null,null,null,null,null,"",null,null,null,null,null,"",null,null,null,null,null,"",null,null,null,null,null,"",null,null,null,null,null,"",null,null,null,null,null,"",null,null,null,null,null,"",null,null,null,null,null,"",null,null,null,null,null,"",null,null,null,null,null,"",null,null,null,null,null,"",null,null,null,null,null,"",null,null,null,null,null,"",null,null,null,null,null,"",null,null,null,null,null,"",null,null,null,null,null,"",null,null,null,null,null,"",null,null,null,null,null,"",null,null,null,null,null,"",null,null,null,null,null,"",null,null,null,null,null,"",null,null,null,null,null,"",null,null,null,null,null,"",null,null,null,null,null,"",null,null,null,null,null,"",null,null,null,null,null,"",null,null,null,null,null,"",null,null,null,null,null,"",null,null,null,null,null,"",null,null,null,null,null,"",null,null,null,null,null,"",null,null,null,null,null,""]
[null,null,null,null,null,"",null,null,null,null,null,"",null,null,null,null,null,"",null,null,null,null,null,"",null,null,null,null,null,"",null,null,null,null,null,"",null,null,null,null,null,"",null,null,null,null,null,"",null,null,null,null,null,"",null,null,null,null,null,"",null,null,null,null,null,"",null,null,null,null,null,"",null,null,null,null,null,"",null,null,null,null,null,"",null,null,null,null,null,"",null,null,null,null,null,"",null,null,null,null,null,"",null,null,null,null,null,"",null,null,null,null,null,"",null,null,null,null,null,"",null,null,null,null,null,"",null,null,null,null,null,"",null,null,null,null,null,"",null,null,null,null,null,"",null,null,null,null,null,"",null,null,null,null,null,"",null,null,null,null,null,"",null,null,null,null,null,"",null,null,null,null,null,"",null,null,null,null,null,"",null,null,null,null,null,"",null,null,null,null,null,"",null,null,null,null,null,"",null,null,null,null,null,"",null,null,null,null,null,"",null,null,null,null,null,"",null,null,null,null,null,"",null,null,null,null,null,"",null,null,null,null,null,"",null,null,null,null,null,""]
[null,null,null,null,null,"",null,null,null,null,null,"",null,null,null,null,null,"",null,null,null,null,null,"",null,null,null,null,null,"",null,null,null,null,null,"",null,null,null,null,null,"",null,null,null,null,null,"",null,null,null,null,null,"",null,null,null,null,null,"",null,null,null,null,null,"",null,null,null,null,null,"",null,null,null,null,null,"",null,null,null,null,null,"",null,null,null,null,null,"",null,null,null,null,null,"",null,null,null,null,null,"",null,null,null,null,null,"",null,null,null,null,null,"",null,null,null,null,null,"",null,null,null,null,null,"",null,null,null,null,null,"",null,null,null,null,null,"",null,null,null,null,null,"",null,null,null,null,null,"",null,null,null,null,null,"",null,null,null,null,null,"",null,null,null,null,null,"",null,null,null,null,null,"",null,null,null,null,null,"",null,null,null,null,null,"",null,null,null,null,null,"",null,null,null,null,null,"",null,null,null,null,null,"",null,null,null,null,null,"",null,null,null,null,null,"",null,null,null,null,null,"",null,null,null,null,null,"",null,null,null,null,null,"",null,null,null,null,null,""]
[null,null,null,null,null,"",null,null,null,null,null,"",null,null,null,null,null,"",null,null,null,null,null,"",null,null,null,null,null,"",null,null,null,null,null,"",null,null,null,null,null,"",null,null,null,null,null,"",null,null,null,null,null,"",null,null,null,null,null,"",null,null,null,null,null,"",null,null,null,null,null,"",null,null,null,null,null,"",null,null,null,null,null,"",null,null,null,null,null,"",null,null,null,null,null,"",null,null,null,null,null,"",null,null,null,null,null,"",null,null,null,null,null,"",null,null,null,null,null,"",null,null,null,null,null,"",null,null,null,null,null,"",null,null,null,null,null,"",null,null,null,null,null,"",null,null,null,null,null,"",null,null,null,null,null,"",null,null,null,null,null,"",null,null,null,null,null,"",null,null,null,null,null,"",null,null,null,null,null,"",null,null,null,null,null,"",null,null,null,null,null,"",null,null,null,null,null,"",null,null,null,null,null,"",null,null,null,null,null,"",null,null,null,null,null,"",null,null,null,null,null,"",null,null,null,null,null,"",null,null,null,null,null,"",null,null,null,null,null,""]
[null,null,null,null,null,"",null,null,null,null,null,"",null,null,null,null,null,"",null,null,null,null,null,"",null,null,null,null,null,"",null,null,null,null,null,"",null,null,null,null,null,"",null,null,null,null,null,"",null,null,null,null,null,"",null,null,null,null,null,"",null,null,null,null,null,"",null,null,null,null,null,"",null,null,null,null,null,"",null,null,null,null,null,"",null,null,null,null,null,"",null,null,null,null,null,"",null,null,null,null,null,"",null,null,null,null,null,"",null,null,null,null,null,"",null,null,null,null,null,"",null,null,null,null,null,"",null,null,null,null,null,"",null,null,null,null,null,"",null,null,null,null,null,"",null,null,null,null,null,"",null,null,null,null,null,"",null,null,null,null,null,"",null,null,null,null,null,"",null,null,null,null,null,"",null,null,null,null,null,"",null,null,null,null,null,"",null,null,null,null,null,"",null,null,null,null,null,"",null,null,null,null,null,"",null,null,null,null,null,"",null,null,null,null,null,"",null,null,null,null,null,"",null,null,null,null,null,"",null,null,null,null,null,"",null,null,null,null,null,""]
[null,null,null,null,null,"",null,null,null,null,null,"",null,null,null,null,null,"",null,null,null,null,null,"",null,null,null,null,null,"",null,null,null,null,null,"",null,null,null,null,null,"",null,null,null,null,null,"",null,null,null,null,null,"",null,null,null,null,null,"",null,null,null,null,null,"",null,null,null,null,null,"",null,null,null,null,null,"",null,null,null,null,null,"",null,null,null,null,null,"",null,null,null,null,null,"",null,null,null,null,null,"",null,null,null,null,null,"",null,null,null,null,null,"",null,null,null,null,null,"",null,null,null,null,null,"",null,null,null,null,null,"",null,null,null,null,null,"",null,null,null,null,null,"",null,null,null,null,null,"",null,null,null,null,null,"",null,null,null,null,null,"",null,null,null,null,null,"",null,null,null,null,null,"",null,null,null,null,null,"",null,null,null,null,null,"",null,null,null,null,null,"",null,null,null,null,null,"",null,null,null,null,null,"",null,null,null,null,null,"",null,null,null,null,null,"",null,null,null,null,null,"",null,null,null,null,null,"",null,null,null,null,null,"",null,null,null,null,null,""]
[null,null,null,null,null,"",null,null,null,null,null,"",null,null,null,null,null,"",null,null,null,null,null,"",null,null,null,null,null,"",null,null,null,null,null,"",null,null,null,null,null,"",null,null,null,null,null,"",null,null,null,null,null,"",null,null,null,null,null,"",null,null,null,null,null,"",null,null,null,null,null,"",null,null,null,null,null,"",null,null,null,null,null,"",null,null,null,null,null,"",null,null,null,null,null,"",null,null,null,null,null,"",null,null,null,null,null,"",null,null,null,null,null,"",null,null,null,null,null,"",null,null,null,null,null,"",null,null,null,null,null,"",null,null,null,null,null,"",null,null,null,null,null,"",null,null,null,null,null,"",null,null,null,null,null,"",null,null,null,null,null,"",null,null,null,null,null,"",null,null,null,null,null,"",null,null,null,null,null,"",null,null,null,null,null,"",null,null,null,null,null,"",null,null,null,null,null,"",null,null,null,null,null,"",null,null,null,null,null,"",null,null,null,null,null,"",null,null,null,null,null,"",null,null,null,null,null,"",null,null,null,null,null,"",null,null,null,null,null,""]
[null,null,null,null,null,"",null,null,null,null,null,"",null,null,null,null,null,"",null,null,null,null,null,"",null,null,null,null,null,"",null,null,null,null,null,"",null,null,null,null,null,"",null,null,null,null,null,"",null,null,null,null,null,"",null,null,null,null,null,"",null,null,null,null,null,"",null,null,null,null,null,"",null,null,null,null,null,"",null,null,null,null,null,"",null,null,null,null,null,"",null,null,null,null,null,"",null,null,null,null,null,"",null,null,null,null,null,"",null,null,null,null,null,"",null,null,null,null,null,"",null,null,null,null,null,"",null,null,null,null,null,"",null,null,null,null,null,"",null,null,null,null,null,"",null,null,null,null,null,"",null,null,null,null,null,"",null,null,null,null,null,"",null,null,null,null,null,"",null,null,null,null,null,"",null,null,null,null,null,"",null,null,null,null,null,"",null,null,null,null,null,"",null,null,null,null,null,"",null,null,null,null,null,"",null,null,null,null,null,"",null,null,null,null,null,"",null,null,null,null,null,"",null,null,null,null,null,"",null,null,null,null,null,"",null,null,null,null,null,""]
[null,null,null,null,null,"",null,null,null,null,null,"",null,null,null,null,null,"",null,null,null,null,null,"",null,null,null,null,null,"",null,null,null,null,null,"",null,null,null,null,null,"",null,null,null,null,null,"",null,null,null,null,null,"",null,null,null,null,null,"",null,null,null,null,null,"",null,null,null,null,null,"",null,null,null,null,null,"",null,null,null,null,null,"",null,null,null,null,null,"",null,null,null,null,null,"",null,null,null,null,null,"",null,null,null,null,null,"",null,null,null,null,null,"",null,null,null,null,null,"",null,null,null,null,null,"",null,null,null,null,null,"",null,null,null,null,null,"",null,null,null,null,null,"",null,null,null,null,null,"",null,null,null,null,null,"",null,null,null,null,null,"",null,null,null,null,null,"",null,null,null,null,null,"",null,null,null,null,null,"",null,null,null,null,null,"",null,null,null,null,null,"",null,null,null,null,null,"",null,null,null,null,null,"",null,null,null,null,null,"",null,null,null,null,null,"",null,null,null,null,null,"",null,null,null,null,null,"",null,null,null,null,null,"",null,null,null,null,null,""]
[null,null,null,null,null,"",null,null,null,null,null,"",null,null,null,null,null,"",null,null,null,null,null,"",null,null,null,null,null,"",null,null,null,null,null,"",null,null,null,null,null,"",null,null,null,null,null,"",null,null,null,null,null,"",null,null,null,null,null,"",null,null,null,null,null,"",null,null,null,null,null,"",null,null,null,null,null,"",null,null,null,null,null,"",null,null,null,null,null,"",null,null,null,null,null,"",null,null,null,null,null,"",null,null,null,null,null,"",null,null,null,null,null,"",null,null,null,null,null,"",null,null,null,null,null,"",null,null,null,null,null,"",null,null,null,null,null,"",null,null,null,null,null,"",null,null,null,null,null,"",null,null,null,null,null,"",null,null,null,null,null,"",null,null,null,null,null,"",null,null,null,null,null,"",null,null,null,null,null,"",null,null,null,null,null,"",null,null,null,null,null,"",null,null,null,null,null,"",null,null,null,null,null,"",null,null,null,null,null,"",null,null,null,null,null,"",null,null,null,null,null,"",null,null,null,null,null,"",null,null,null,null,null,"",null,null,null,null,null,""]
[null,null,null,null,null,"",null,null,null,null,null,"",null,null,null,null,null,"",null,null,null,null,null,"",null,null,null,null,null,"",null,null,null,null,null,"",null,null,null,null,null,"",null,null,null,null,null,"",null,null,null,null,null,"",null,null,null,null,null,"",null,null,null,null,null,"",null,null,null,null,null,"",null,null,null,null,null,"",null,null,null,null,null,"",null,null,null,null,null,"",null,null,null,null,null,"",null,null,null,null,null,"",null,null,null,null,null,"",null,null,null,null,null,"",null,null,null,null,null,"",null,null,null,null,null,"",null,null,null,null,null,"",null,null,null,null,null,"",null,null,null,null,null,"",null,null,null,null,null,"",null,null,null,null,null,"",null,null,null,null,null,"",null,null,null,null,null,"",null,null,null,null,null,"",null,null,null,null,null,"",null,null,null,null,null,"",null,null,null,null,null,"",null,null,null,null,null,"",null,null,null,null,null,"",null,null,null,null,null,"",null,null,null,null,null,"",null,null,null,null,null,"",null,null,null,null,null,"",null,null,null,null,null,"",null,null,null,null,null,""]
[null,null,null,null,null,"",null,null,null,null,null,"",null,null,null,null,null,"",null,null,null,null,null,"",null,null,null,null,null,"",null,null,null,null,null,"",null,null,null,null,null,"",null,null,null,null,null,"",null,null,null,null,null,"",null,null,null,null,null,"",null,null,null,null,null,"",null,null,null,null,null,"",null,null,null,null,null,"",null,null,null,null,null,"",null,null,null,null,null,"",null,null,null,null,null,"",null,null,null,null,null,"",null,null,null,null,null,"",null,null,null,null,null,"",null,null,null,null,null,"",null,null,null,null,null,"",null,null,null,null,null,"",null,null,null,null,null,"",null,null,null,null,null,"",null,null,null,null,null,"",null,null,null,null,null,"",null,null,null,null,null,"",null,null,null,null,null,"",null,null,null,null,null,"",null,null,null,null,null,"",null,null,null,null,null,"",null,null,null,null,null,"",null,null,null,null,null,"",null,null,null,null,null,"",null,null,null,null,null,"",null,null,null,null,null,"",null,null,null,null,null,"",null,null,null,null,null,"",null,null,null,null,null,"",null,null,null,null,null,""]
[null,null,null,null,null,"",null,null,null,null,null,"",null,null,null,null,null,"",null,null,null,null,null,"",null,null,null,null,null,"",null,null,null,null,null,"",null,null,null,null,null,"",null,null,null,null,null,"",null,null,null,null,null,"",null,null,null,null,null,"",null,null,null,null,null,"",null,null,null,null,null,"",null,null,null,null,null,"",null,null,null,null,null,"",null,null,null,null,null,"",null,null,null,null,null,"",null,null,null,null,null,"",null,null,null,null,null,"",null,null,null,null,null,"",null,null,null,null,null,"",null,null,null,null,null,"",null,null,null,null,null,"",null,null,null,null,null,"",null,null,null,null,null,"",null,null,null,null,null,"",null,null,null,null,null,"",null,null,null,null,null,"",null,null,null,null,null,"",null,null,null,null,null,"",null,null,null,null,null,"",null,null,null,null,null,"",null,null,null,null,null,"",null,null,null,null,null,"",null,null,null,null,null,"",null,null,null,null,null,"",null,null,null,null,null,"",null,null,null,null,null,"",null,null,null,null,null,"",null,null,null,null,null,"",null,null,null,null,null,""]
[null,null,null,null,null,"",null,null,null,null,null,"",null,null,null,null,null,"",null,null,null,null,null,"",null,null,null,null,null,"",null,null,null,null,null,"",null,null,null,null,null,"",null,null,null,null,null,"",null,null,null,null,null,"",null,null,null,null,null,"",null,null,null,null,null,"",null,null,null,null,null,"",null,null,null,null,null,"",null,null,null,null,null,"",null,null,null,null,null,"",null,null,null,null,null,"",null,null,null,null,null,"",null,null,null,null,null,"",null,null,null,null,null,"",null,null,null,null,null,"",null,null,null,null,null,"",null,null,null,null,null,"",null,null,null,null,null,"",null,null,null,null,null,"",null,null,null,null,null,"",null,null,null,null,null,"",null,null,null,null,null,"",null,null,null,null,null,"",null,null,null,null,null,"",null,null,null,null,null,"",null,null,null,null,null,"",null,null,null,null,null,"",null,null,null,null,null,"",null,null,null,null,null,"",null,null,null,null,null,"",null,null,null,null,null,"",null,null,null,null,null,"",null,null,null,null,null,"",null,null,null,null,null,"",null,null,null,null,null,""]
[null,null,null,null,null,"",null,null,null,null,null,"",null,null,null,null,null,"",null,null,null,null,null,"",null,null,null,null,null,"",null,null,null,null,null,"",null,null,null,null,null,"",null,null,null,null,null,"",null,null,null,null,null,"",null,null,null,null,null,"",null,null,null,null,null,"",null,null,null,null,null,"",null,null,null,null,null,"",null,null,null,null,null,"",null,null,null,null,null,"",null,null,null,null,null,"",null,null,null,null,null,"",null,null,null,null,null,"",null,null,null,null,null,"",null,null,null,null,null,"",null,null,null,null,null,"",null,null,null,null,null,"",null,null,null,null,null,"",null,null,null,null,null,"",null,null,null,null,null,"",null,null,null,null,null,"",null,null,null,null,null,"",null,null,null,null,null,"",null,null,null,null,null,"",null,null,null,null,null,"",null,null,null,null,null,"",null,null,null,null,null,"",null,null,null,null,null,"",null,null,null,null,null,"",null,null,null,null,null,"",null,null,null,null,null,"",null,null,null,null,null,"",null,null,null,null,null,"",null,null,null,null,null,"",null,null,null,null,null,""]
[null,null,null,null,null,"",null,null,null,null,null,"",null,null,null,null,null,"",null,null,null,null,null,"",null,null,null,null,null,"",null,null,null,null,null,"",null,null,null,null,null,"",null,null,null,null,null,"",null,null,null,null,null,"",null,null,null,null,null,"",null,null,null,null,null,"",null,null,null,null,null,"",null,null,null,null,null,"",null,null,null,null,null,"",null,null,null,null,null,"",null,null,null,null,null,"",null,null,null,null,null,"",null,null,null,null,null,"",null,null,null,null,null,"",null,null,null,null,null,"",null,null,null,null,null,"",null,null,null,null,null,"",null,null,null,null,null,"",null,null,null,null,null,"",null,null,null,null,null,"",null,null,null,null,null,"",null,null,null,null,null,"",null,null,null,null,null,"",null,null,null,null,null,"",null,null,null,null,null,"",null,null,null,null,null,"",null,null,null,null,null,"",null,null,null,null,null,"",null,null,null,null,null,"",null,null,null,null,null,"",null,null,null,null,null,"",null,null,null,null,null,"",null,null,null,null,null,"",null,null,null,null,null,"",null,null,null,null,null,""]
[null,null,null,null,null,"",null,null,null,null,null,"",null,null,null,null,null,"",null,null,null,null,null,"",null,null,null,null,null,"",null,null,null,null,null,"",null,null,null,null,null,"",null,null,null,null,null,"",null,null,null,null,null,"",null,null,null,null,null,"",null,null,null,null,null,"",null,null,null,null,null,"",null,null,null,null,null,"",null,null,null,null,null,"",null,null,null,null,null,"",null,null,null,null,null,"",null,null,null,null,null,"",null,null,null,null,null,"",null,null,null,null,null,"",null,null,null,null,null,"",null,null,null,null,null,"",null,null,null,null,null,"",null,null,null,null,null,"",null,null,null,null,null,"",null,null,null,null,null,"",null,null,null,null,null,"",null,null,null,null,null,"",null,null,null,null,null,"",null,null,null,null,null,"",null,null,null,null,null,"",null,null,null,null,null,"",null,null,null,null,null,"",null,null,null,null,null,"",null,null,null,null,null,"",null,null,null,null,null,"",null,null,null,null,null,"",null,null,null,null,null,"",null,null,null,null,null,"",null,null,null,null,null,"",null,null,null,null,null,""]
[null,null,null,null,null,"",null,null,null,null,null,"",null,null,null,null,null,"",null,null,null,null,null,"",null,null,null,null,null,"",null,null,null,null,null,"",null,null,null,null,null,"",null,null,null,null,null,"",null,null,null,null,null,"",null,null,null,null,null,"",null,null,null,null,null,"",null,null,null,null,null,"",null,null,null,null,null,"",null,null,null,null,null,"",null,null,null,null,null,"",null,null,null,null,null,"",null,null,null,null,null,"",null,null,null,null,null,"",null,null,null,null,null,"",null,null,null,null,null,"",null,null,null,null,null,"",null,null,null,null,null,"",null,null,null,null,null,"",null,null,null,null,null,"",null,null,null,null,null,"",null,null,null,null,null,"",null,null,null,null,null,"",null,null,null,null,null,"",null,null,null,null,null,"",null,null,null,null,null,"",null,null,null,null,null,"",null,null,null,null,null,"",null,null,null,null,null,"",null,null,null,null,null,"",null,null,null,null,null,"",null,null,null,null,null,"",null,null,null,null,null,"",null,null,null,null,null,"",null,null,null,null,null,"",null,null,null,null,null,""]
[null,null,null,null,null,"",null,null,null,null,null,"",null,null,null,null,null,"",null,null,null,null,null,"",null,null,null,null,null,"",null,null,null,null,null,"",null,null,null,null,null,"",null,null,null,null,null,"",null,null,null,null,null,"",null,null,null,null,null,"",null,null,null,null,null,"",null,null,null,null,null,"",null,null,null,null,null,"",null,null,null,null,null,"",null,null,null,null,null,"",null,null,null,null,null,"",null,null,null,null,null,"",null,null,null,null,null,"",null,null,null,null,null,"",null,null,null,null,null,"",null,null,null,null,null,"",null,null,null,null,null,"",null,null,null,null,null,"",null,null,null,null,null,"",null,null,null,null,null,"",null,null,null,null,null,"",null,null,null,null,null,"",null,null,null,null,null,"",null,null,null,null,null,"",null,null,null,null,null,"",null,null,null,null,null,"",null,null,null,null,null,"",null,null,null,null,null,"",null,null,null,null,null,"",null,null,null,null,null,"",null,null,null,null,null,"",null,null,null,null,null,"",null,null,null,null,null,"",null,null,null,null,null,"",null,null,null,null,null,""]
[null,null,null,null,null,"",null,null,null,null,null,"",null,null,null,null,null,"",null,null,null,null,null,"",null,null,null,null,null,"",null,null,null,null,null,"",null,null,null,null,null,"",null,null,null,null,null,"",null,null,null,null,null,"",null,null,null,null,null,"",null,null,null,null,null,"",null,null,null,null,null,"",null,null,null,null,null,"",null,null,null,null,null,"",null,null,null,null,null,"",null,null,null,null,null,"",null,null,null,null,null,"",null,null,null,null,null,"",null,null,null,null,null,"",null,null,null,null,null,"",null,null,null,null,null,"",null,null,null,null,null,"",null,null,null,null,null,"",null,null,null,null,null,"",null,null,null,null,null,"",null,null,null,null,null,"",null,null,null,null,null,"",null,null,null,null,null,"",null,null,null,null,null,"",null,null,null,null,null,"",null,null,null,null,null,"",null,null,null,null,null,"",null,null,null,null,null,"",null,null,null,null,null,"",null,null,null,null,null,"",null,null,null,null,null,"",null,null,null,null,null,"",null,null,null,null,null,"",null,null,null,null,null,"",null,null,null,null,null,""]
[null,null,null,null,null,"",null,null,null,null,null,"",null,null,null,null,null,"",null,null,null,null,null,"",null,null,null,null,null,"",null,null,null,null,null,"",null,null,null,null,null,"",null,null,null,null,null,"",null,null,null,null,null,"",null,null,null,null,null,"",null,null,null,null,null,"",null,null,null,null,null,"",null,null,null,null,null,"",null,null,null,null,null,"",null,null,null,null,null,"",null,null,null,null,null,"",null,null,null,null,null,"",null,null,null,null,null,"",null,null,null,null,null,"",null,null,null,null,null,"",null,null,null,null,null,"",null,null,null,null,null,"",null,null,null,null,null,"",null,null,null,null,null,"",null,null,null,null,null,"",null,null,null,null,null,"",null,null,null,null,null,"",null,null,null,null,null,"",null,null,null,null,null,"",null,null,null,null,null,"",null,null,null,null,null,"",null,null,null,null,null,"",null,null,null,null,null,"",null,null,null,null,null,"",null,null,null,null,null,"",null,null,null,null,null,"",null,null,null,null,null,"",null,null,null,null,null,"",null,null,null,null,null,"",null,null,null,null,null,""]
[null,null,null,null,null,"",null,null,null,null,null,"",null,null,null,null,null,"",null,null,null,null,null,"",null,null,null,null,null,"",null,null,null,null,null,"",null,null,null,null,null,"",null,null,null,null,null,"",null,null,null,null,null,"",null,null,null,null,null,"",null,null,null,null,null,"",null,null,null,null,null,"",null,null,null,null,null,"",null,null,null,null,null,"",null,null,null,null,null,"",null,null,null,null,null,"",null,null,null,null,null,"",null,null,null,null,null,"",null,null,null,null,null,"",null,null,null,null,null,"",null,null,null,null,null,"",null,null,null,null,null,"",null,null,null,null,null,"",null,null,null,null,null,"",null,null,null,null,null,"",null,null,null,null,null,"",null,null,null,null,null,"",null,null,null,null,null,"",null,null,null,null,null,"",null,null,null,null,null,"",null,null,null,null,null,"",null,null,null,null,null,"",null,null,null,null,null,"",null,null,null,null,null,"",null,null,null,null,null,"",null,null,null,null,null,"",null,null,null,null,null,"",null,null,null,null,null,"",null,null,null,null,null,"",null,null,null,null,null,""]
[null,null,null,null,null,"",null,null,null,null,null,"",null,null,null,null,null,"",null,null,null,null,null,"",null,null,null,null,null,"",null,null,null,null,null,"",null,null,null,null,null,"",null,null,null,null,null,"",null,null,null,null,null,"",null,null,null,null,null,"",null,null,null,null,null,"",null,null,null,null,null,"",null,null,null,null,null,"",null,null,null,null,null,"",null,null,null,null,null,"",null,null,null,null,null,"",null,null,null,null,null,"",null,null,null,null,null,"",null,null,null,null,null,"",null,null,null,null,null,"",null,null,null,null,null,"",null,null,null,null,null,"",null,null,null,null,null,"",null,null,null,null,null,"",null,null,null,null,null,"",null,null,null,null,null,"",null,null,null,null,null,"",null,null,null,null,null,"",null,null,null,null,null,"",null,null,null,null,null,"",null,null,null,null,null,"",null,null,null,null,null,"",null,null,null,null,null,"",null,null,null,null,null,"",null,null,null,null,null,"",null,null,null,null,null,"",null,null,null,null,null,"",null,null,null,null,null,"",null,null,null,null,null,"",null,null,null,null,null,""]
[null,null,null,null,null,"",null,null,null,null,null,"",null,null,null,null,null,"",null,null,null,null,null,"",null,null,null,null,null,"",null,null,null,null,null,"",null,null,null,null,null,"",null,null,null,null,null,"",null,null,null,null,null,"",null,null,null,null,null,"",null,null,null,null,null,"",null,null,null,null,null,"",null,null,null,null,null,"",null,null,null,null,null,"",null,null,null,null,null,"",null,null,null,null,null,"",null,null,null,null,null,"",null,null,null,null,null,"",null,null,null,null,null,"",null,null,null,null,null,"",null,null,null,null,null,"",null,null,null,null,null,"",null,null,null,null,null,"",null,null,null,null,null,"",null,null,null,null,null,"",null,null,null,null,null,"",null,null,null,null,null,"",null,null,null,null,null,"",null,null,null,null,null,"",null,null,null,null,null,"",null,null,null,null,null,"",null,null,null,null,null,"",null,null,null,null,null,"",null,null,null,null,null,"",null,null,null,null,null,"",null,null,null,null,null,"",null,null,null,null,null,"",null,null,null,null,null,"",null,null,null,null,null,"",null,null,null,null,null,""]
[null,null,null,null,null,"",null,null,null,null,null,"",null,null,null,null,null,"",null,null,null,null,null,"",null,null,null,null,null,"",null,null,null,null,null,"",null,null,null,null,null,"",null,null,null,null,null,"",null,null,null,null,null,"",null,null,null,null,null,"",null,null,null,null,null,"",null,null,null,null,null,"",null,null,null,null,null,"",null,null,null,null,null,"",null,null,null,null,null,"",null,null,null,null,null,"",null,null,null,null,null,"",null,null,null,null,null,"",null,null,null,null,null,"",null,null,null,null,null,"",null,null,null,null,null,"",null,null,null,null,null,"",null,null,null,null,null,"",null,null,null,null,null,"",null,null,null,null,null,"",null,null,null,null,null,"",null,null,null,null,null,"",null,null,null,null,null,"",null,null,null,null,null,"",null,null,null,null,null,"",null,null,null,null,null,"",null,null,null,null,null,"",null,null,null,null,null,"",null,null,null,null,null,"",null,null,null,null,null,"",null,null,null,null,null,"",null,null,null,null,null,"",null,null,null,null,null,"",null,null,null,null,null,"",null,null,null,null,null,""]
[null,null,null,null,null,"",null,null,null,null,null,"",null,null,null,null,null,"",null,null,null,null,null,"",null,null,null,null,null,"",null,null,null,null,null,"",null,null,null,null,null,"",null,null,null,null,null,"",null,null,null,null,null,"",null,null,null,null,null,"",null,null,null,null,null,"",null,null,null,null,null,"",null,null,null,null,null,"",null,null,null,null,null,"",null,null,null,null,null,"",null,null,null,null,null,"",null,null,null,null,null,"",null,null,null,null,null,"",null,null,null,null,null,"",null,null,null,null,null,"",null,null,null,null,null,"",null,null,null,null,null,"",null,null,null,null,null,"",null,null,null,null,null,"",null,null,null,null,null,"",null,null,null,null,null,"",null,null,null,null,null,"",null,null,null,null,null,"",null,null,null,null,null,"",null,null,null,null,null,"",null,null,null,null,null,"",null,null,null,null,null,"",null,null,null,null,null,"",null,null,null,null,null,"",null,null,null,null,null,"",null,null,null,null,null,"",null,null,null,null,null,"",null,null,null,null,null,"",null,null,null,null,null,"",null,null,null,null,null,""]
[null,null,null,null,null,"",null,null,null,null,null,"",null,null,null,null,null,"",null,null,null,null,null,"",null,null,null,null,null,"",null,null,null,null,null,"",null,null,null,null,null,"",null,null,null,null,null,"",null,null,null,null,null,"",null,null,null,null,null,"",null,null,null,null,null,"",null,null,null,null,null,"",null,null,null,null,null,"",null,null,null,null,null,"",null,null,null,null,null,"",null,null,null,null,null,"",null,null,null,null,null,"",null,null,null,null,null,"",null,null,null,null,null,"",null,null,null,null,null,"",null,null,null,null,null,"",null,null,null,null,null,"",null,null,null,null,null,"",null,null,null,null,null,"",null,null,null,null,null,"",null,null,null,null,null,"",null,null,null,null,null,"",null,null,null,null,null,"",null,null,null,null,null,"",null,null,null,null,null,"",null,null,null,null,null,"",null,null,null,null,null,"",null,null,null,null,null,"",null,null,null,null,null,"",null,null,null,null,null,"",null,null,null,null,null,"",null,null,null,null,null,"",null,null,null,null,null,"",null,null,null,null,null,"",null,null,null,null,null,""]
[null,null,null,null,null,"",null,null,null,null,null,"",null,null,null,null,null,"",null,null,null,null,null,"",null,null,null,null,null,"",null,null,null,null,null,"",null,null,null,null,null,"",null,null,null,null,null,"",null,null,null,null,null,"",null,null,null,null,null,"",null,null,null,null,null,"",null,null,null,null,null,"",null,null,null,null,null,"",null,null,null,null,null,"",null,null,null,null,null,"",null,null,null,null,null,"",null,null,null,null,null,"",null,null,null,null,null,"",null,null,null,null,null,"",null,null,null,null,null,"",null,null,null,null,null,"",null,null,null,null,null,"",null,null,null,null,null,"",null,null,null,null,null,"",null,null,null,null,null,"",null,null,null,null,null,"",null,null,null,null,null,"",null,null,null,null,null,"",null,null,null,null,null,"",null,null,null,null,null,"",null,null,null,null,null,"",null,null,null,null,null,"",null,null,null,null,null,"",null,null,null,null,null,"",null,null,null,null,null,"",null,null,null,null,null,"",null,null,null,null,null,"",null,null,null,null,null,"",null,null,null,null,null,"",null,null,null,null,null,""]
[null,null,null,null,null,"",null,null,null,null,null,"",null,null,null,null,null,"",null,null,null,null,null,"",null,null,null,null,null,"",null,null,null,null,null,"",null,null,null,null,null,"",null,null,null,null,null,"",null,null,null,null,null,"",null,null,null,null,null,"",null,null,null,null,null,"",null,null,null,null,null,"",null,null,null,null,null,"",null,null,null,null,null,"",null,null,null,null,null,"",null,null,null,null,null,"",null,null,null,null,null,"",null,null,null,null,null,"",null,null,null,null,null,"",null,null,null,null,null,"",null,null,null,null,null,"",null,null,null,null,null,"",null,null,null,null,null,"",null,null,null,null,null,"",null,null,null,null,null,"",null,null,null,null,null,"",null,null,null,null,null,"",null,null,null,null,null,"",null,null,null,null,null,"",null,null,null,null,null,"",null,null,null,null,null,"",null,null,null,null,null,"",null,null,null,null,null,"",null,null,null,null,null,"",null,null,null,null,null,"",null,null,null,null,null,"",null,null,null,null,null,"",null,null,null,null,null,"",null,null,null,null,null,"",null,null,null,null,null,""]
[null,null,null,null,null,"",null,null,null,null,null,"",null,null,null,null,null,"",null,null,null,null,null,"",null,null,null,null,null,"",null,null,null,null,null,"",null,null,null,null,null,"",null,null,null,null,null,"",null,null,null,null,null,"",null,null,null,null,null,"",null,null,null,null,null,"",null,null,null,null,null,"",null,null,null,null,null,"",null,null,null,null,null,"",null,null,null,null,null,"",null,null,null,null,null,"",null,null,null,null,null,"",null,null,null,null,null,"",null,null,null,null,null,"",null,null,null,null,null,"",null,null,null,null,null,"",null,null,null,null,null,"",null,null,null,null,null,"",null,null,null,null,null,"",null,null,null,null,null,"",null,null,null,null,null,"",null,null,null,null,null,"",null,null,null,null,null,"",null,null,null,null,null,"",null,null,null,null,null,"",null,null,null,null,null,"",null,null,null,null,null,"",null,null,null,null,null,"",null,null,null,null,null,"",null,null,null,null,null,"",null,null,null,null,null,"",null,null,null,null,null,"",null,null,null,null,null,"",null,null,null,null,null,"",null,null,null,null,null,""]
[null,null,null,null,null,"",null,null,null,null,null,"",null,null,null,null,null,"",null,null,null,null,null,"",null,null,null,null,null,"",null,null,null,null,null,"",null,null,null,null,null,"",null,null,null,null,null,"",null,null,null,null,null,"",null,null,null,null,null,"",null,null,null,null,null,"",null,null,null,null,null,"",null,null,null,null,null,"",null,null,null,null,null,"",null,null,null,null,null,"",null,null,null,null,null,"",null,null,null,null,null,"",null,null,null,null,null,"",null,null,null,null,null,"",null,null,null,null,null,"",null,null,null,null,null,"",null,null,null,null,null,"",null,null,null,null,null,"",null,null,null,null,null,"",null,null,null,null,null,"",null,null,null,null,null,"",null,null,null,null,null,"",null,null,null,null,null,"",null,null,null,null,null,"",null,null,null,null,null,"",null,null,null,null,null,"",null,null,null,null,null,"",null,null,null,null,null,"",null,null,null,null,null,"",null,null,null,null,null,"",null,null,null,null,null,"",null,null,null,null,null,"",null,null,null,null,null,"",null,null,null,null,null,"",null,null,null,null,null,""]
[null,null,null,null,null,"",null,null,null,null,null,"",null,null,null,null,null,"",null,null,null,null,null,"",null,null,null,null,null,"",null,null,null,null,null,"",null,null,null,null,null,"",null,null,null,null,null,"",null,null,null,null,null,"",null,null,null,null,null,"",null,null,null,null,null,"",null,null,null,null,null,"",null,null,null,null,null,"",null,null,null,null,null,"",null,null,null,null,null,"",null,null,null,null,null,"",null,null,null,null,null,"",null,null,null,null,null,"",null,null,null,null,null,"",null,null,null,null,null,"",null,null,null,null,null,"",null,null,null,null,null,"",null,null,null,null,null,"",null,null,null,null,null,"",null,null,null,null,null,"",null,null,null,null,null,"",null,null,null,null,null,"",null,null,null,null,null,"",null,null,null,null,null,"",null,null,null,null,null,"",null,null,null,null,null,"",null,null,null,null,null,"",null,null,null,null,null,"",null,null,null,null,null,"",null,null,null,null,null,"",null,null,null,null,null,"",null,null,null,null,null,"",null,null,null,null,null,"",null,null,null,null,null,"",null,null,null,null,null,""]
[null,null,null,null,null,"",null,null,null,null,null,"",null,null,null,null,null,"",null,null,null,null,null,"",null,null,null,null,null,"",null,null,null,null,null,"",null,null,null,null,null,"",null,null,null,null,null,"",null,null,null,null,null,"",null,null,null,null,null,"",null,null,null,null,null,"",null,null,null,null,null,"",null,null,null,null,null,"",null,null,null,null,null,"",null,null,null,null,null,"",null,null,null,null,null,"",null,null,null,null,null,"",null,null,null,null,null,"",null,null,null,null,null,"",null,null,null,null,null,"",null,null,null,null,null,"",null,null,null,null,null,"",null,null,null,null,null,"",null,null,null,null,null,"",null,null,null,null,null,"",null,null,null,null,null,"",null,null,null,null,null,"",null,null,null,null,null,"",null,null,null,null,null,"",null,null,null,null,null,"",null,null,null,null,null,"",null,null,null,null,null,"",null,null,null,null,null,"",null,null,null,null,null,"",null,null,null,null,null,"",null,null,null,null,null,"",null,null,null,null,null,"",null,null,null,null,null,"",null,null,null,null,null,"",null,null,null,null,null,""]
[null,null,null,null,null,"",null,null,null,null,null,"",null,null,null,null,null,"",null,null,null,null,null,"",null,null,null,null,null,"",null,null,null,null,null,"",null,null,null,null,null,"",null,null,null,null,null,"",null,null,null,null,null,"",null,null,null,null,null,"",null,null,null,null,null,"",null,null,null,null,null,"",null,null,null,null,null,"",null,null,null,null,null,"",null,null,null,null,null,"",null,null,null,null,null,"",null,null,null,null,null,"",null,null,null,null,null,"",null,null,null,null,null,"",null,null,null,null,null,"",null,null,null,null,null,"",null,null,null,null,null,"",null,null,null,null,null,"",null,null,null,null,null,"",null,null,null,null,null,"",null,null,null,null,null,"",null,null,null,null,null,"",null,null,null,null,null,"",null,null,null,null,null,"",null,null,null,null,null,"",null,null,null,null,null,"",null,null,null,null,null,"",null,null,null,null,null,"",null,null,null,null,null,"",null,null,null,null,null,"",null,null,null,null,null,"",null,null,null,null,null,"",null,null,null,null,null,"",null,null,null,null,null,"",null,null,null,null,null,""]
[null,null,null,null,null,"",null,null,null,null,null,"",null,null,null,null,null,"",null,null,null,null,null,"",null,null,null,null,null,"",null,null,null,null,null,"",null,null,null,null,null,"",null,null,null,null,null,"",null,null,null,null,null,"",null,null,null,null,null,"",null,null,null,null,null,"",null,null,null,null,null,"",null,null,null,null,null,"",null,null,null,null,null,"",null,null,null,null,null,"",null,null,null,null,null,"",null,null,null,null,null,"",null,null,null,null,null,"",null,null,null,null,null,"",null,null,null,null,null,"",null,null,null,null,null,"",null,null,null,null,null,"",null,null,null,null,null,"",null,null,null,null,null,"",null,null,null,null,null,"",null,null,null,null,null,"",null,null,null,null,null,"",null,null,null,null,null,"",null,null,null,null,null,"",null,null,null,null,null,"",null,null,null,null,null,"",null,null,null,null,null,"",null,null,null,null,null,"",null,null,null,null,null,"",null,null,null,null,null,"",null,null,null,null,null,"",null,null,null,null,null,"",null,null,null,null,null,"",null,null,null,null,null,"",null,null,null,null,null,""]

{"sheet":"Lupi-Sammler","index":10,"n_rows":83,"n_cols":15,"rows_kept":83,"cut":false,"hidden":false,"merged":[[2,9,4,11],[6,9,8,11]]}
["Name","Mittelwert","Bestes\nErgebnis","Schlechtestes\nErgebnis","Bester Ø \nEinzelschuss","Schlechtester\nØ Einzelschuss","Anzahl \nTeilnahmen","Summe\nEinzelergebnisse","Rang\n(nach Mittelwert)",null,null,null,"Name","Mittelwert","Hilfsspalte"]
[{"$f":"IF(Hauptmaske!G7=\"x\",Hauptmaske!A7,\"\")","v":"Testname"},{"$f":"Lupi!E4","v":0},{"$f":"Lupi!A4","v":0},{"$f":"Lupi!A6","v":0},{"$f":"Lupi!E6","v":0},{"$f":"Lupi!F6","v":0},{"$f":"Lupi!D4","v":1},{"$f":"IF(Lupi!B9=\"\",\"\",SUM(Lupi!F9:F117))","v":""},{"$f":"IF(Lupi!B9=\"\",\"\",RANK(B2,$B$2:$B$41))","v":""},null,null,null,{"$f":"IF(G2>=$K$6,A2,\"\")","v":"Testname"},{"$f":"IF(G2>=$K$6,B2,\"\")","v":0},{"$f":"IF(N2=\"\",\"\",N2-ROW()/1000000)","v":-1.9999999999999999E-6}]
[{"$f":"IF(Hauptmaske!G15=\"x\",Hauptmaske!A15,\"\")","v":""},{"$f":"Lupi!BA4","v":""},{"$f":"Lupi!AW4","v":""},{"$f":"Lupi!AW6","v":""},{"$f":"Lupi!BA6","v":""},{"$f":"Lupi!BB6","v":""},{"$f":"Lupi!AZ4","v":""},{"$f":"IF(Lupi!AX9=\"\",\"\",SUM(Lupi!BB9:BB117))","v":""},{"$f":"IF(Lupi!AX9=\"\",\"\",RANK(B3,$B$2:$B$41))","v":""},"Anzahl der Mindestteilnahmen\nfür die Rangliste",null,null,{"$f":"IF(G3>=$K$6,A3,\"\")","v":""},{"$f":"IF(G3>=$K$6,B3,\"\")","v":""},{"$f":"IF(N3=\"\",\"\",N3-ROW()/1000000)","v":""}]
[{"$f":"IF(Hauptmaske!G9=\"x\",Hauptmaske!A9,\"\")","v":""},{"$f":"Lupi!Q4","v":""},{"$f":"Lupi!M4","v":""},{"$f":"Lupi!M6","v":""},{"$f":"Lupi!Q6","v":""},{"$f":"Lupi!R6","v":""},{"$f":"Lupi!P4","v":""},{"$f":"IF(Lupi!N9=\"\",\"\",SUM(Lupi!R9:R117))","v":""},{"$f":"IF(Lupi!N9=\"\",\"\",RANK(B4,$B$2:$B$41))","v":""},null,null,null,"","",""]
[{"$f":"IF(Hauptmaske!G12=\"x\",Hauptmaske!A12,\"\")","v":""},{"$f":"Lupi!AI4","v":""},{"$f":"Lupi!AE4","v":""},{"$f":"Lupi!AE6","v":""},{"$f":"Lupi!AI6","v":""},{"$f":"Lupi!AJ6","v":""},{"$f":"Lupi!AH4","v":""},{"$f":"IF(Lupi!AF9=\"\",\"\",SUM(Lupi!AJ9:AJ117))","v":""},{"$f":"IF(Lupi!AF9=\"\",\"\",RANK(B5,$B$2:$B$41))","v":""},null,null,null,{"$f":"IF(G5>=$K$6,A5,\"\")","v":""},"",""]
[{"$f":"IF(Hauptmaske!G23=\"x\",Hauptmaske!A23,\"\")","v":""},{"$f":"Lupi!CW4","v":""},{"$f":"Lupi!CS4","v":""},{"$f":"Lupi!CS6","v":""},{"$f":"Lupi!CW6","v":""},{"$f":"Lupi!CX6","v":""},{"$f":"Lupi!CV4","v":""},{"$f":"IF(Lupi!CT9=\"\",\"\",SUM(Lupi!CX9:CX117))","v":""},{"$f":"IF(Lupi!CT9=\"\",\"\",RANK(B6,$B$2:$B$41))","v":""},null,{"$f":"IF(Hauptmaske!M6=\"\",3,Hauptmaske!M6)","v":1},null,"","",""]
[{"$f":"IF(Hauptmaske!G13=\"x\",Hauptmaske!A13,\"\")","v":""},{"$f":"Lupi!AO4","v":""},{"$f":"Lupi!AK4","v":""},{"$f":"Lupi!AK6","v":""},{"$f":"Lupi!AO6","v":""},{"$f":"Lupi!AP6","v":""},{"$f":"Lupi!AN4","v":""},{"$f":"IF(Lupi!AL9=\"\",\"\",SUM(Lupi!AP9:AP117))","v":""},{"$f":"IF(Lupi!AL9=\"\",\"\",RANK(B7,$B$2:$B$41))","v":""},"Luftpistole",null,null,"","",""]
[{"$f":"IF(Hauptmaske!G8=\"x\",Hauptmaske!A8,\"\")","v":""},{"$f":"Lupi!K4","v":""},{"$f":"Lupi!G4","v":""},{"$f":"Lupi!G6","v":""},{"$f":"Lupi!K6","v":""},{"$f":"Lupi!L6","v":""},{"$f":"Lupi!J4","v":""},{"$f":"IF(Lupi!H9=\"\",\"\",SUM(Lupi!L9:L117))","v":""},{"$f":"IF(Lupi!H9=\"\",\"\",RANK(B8,$B$2:$B$41))","v":""},null,null,null,"","",""]
[{"$f":"IF(Hauptmaske!G10=\"x\",Hauptmaske!A10,\"\")","v":""},{"$f":"Lupi!W4","v":""},{"$f":"Lupi!S4","v":""},{"$f":"Lupi!S6","v":""},{"$f":"Lupi!W6","v":""},{"$f":"Lupi!X6","v":""},{"$f":"Lupi!V4","v":""},{"$f":"IF(Lupi!T9=\"\",\"\",SUM(Lupi!X9:X117))","v":""},{"$f":"IF(Lupi!T9=\"\",\"\",RANK(B9,$B$2:$B$41))","v":""},null,null,null,"","",""]
[{"$f":"IF(Hauptmaske!G11=\"x\",Hauptmaske!A11,\"\")","v":""},{"$f":"Lupi!AC4","v":""},{"$f":"Lupi!Y4","v":""},{"$f":"Lupi!Y6","v":""},{"$f":"Lupi!AC6","v":""},{"$f":"Lupi!AD6","v":""},{"$f":"Lupi!AB4","v":""},{"$f":"IF(Lupi!Z9=\"\",\"\",SUM(Lupi!AD9:AD117))","v":""},{"$f":"IF(Lupi!Z9=\"\",\"\",RANK(B10,$B$2:$B$41))","v":""},null,null,null,"","",""]
[{"$f":"IF(Hauptmaske!G14=\"x\",Hauptmaske!A14,\"\")","v":""},{"$f":"Lupi!AU4","v":""},{"$f":"Lupi!AQ4","v":""},{"$f":"Lupi!AQ6","v":""},{"$f":"Lupi!AU6","v":""},{"$f":"Lupi!AV6","v":""},{"$f":"Lupi!AT4","v":""},{"$f":"IF(Lupi!AR9=\"\",\"\",SUM(Lupi!AV9:AV117))","v":""},{"$f":"IF(Lupi!AR9=\"\",\"\",RANK(B11,$B$2:$B$41))","v":""},null,null,null,"","",""]
[{"$f":"IF(Hauptmaske!G17=\"x\",Hauptmaske!A17,\"\")","v":""},{"$f":"Lupi!BM4","v":""},{"$f":"Lupi!BI4","v":""},{"$f":"Lupi!BI6","v":""},{"$f":"Lupi!BM6","v":""},{"$f":"Lupi!BN6","v":""},{"$f":"Lupi!BL4","v":""},{"$f":"IF(Lupi!BJ9=\"\",\"\",SUM(Lupi!BN9:BN117))","v":""},{"$f":"IF(Lupi!BJ9=\"\",\"\",RANK(B12,$B$2:$B$41))","v":""},null,null,null,"","",""]
[{"$f":"IF(Hauptmaske!G18=\"x\",Hauptmaske!A18,\"\")","v":""},{"$f":"Lupi!BS4","v":""},{"$f":"Lupi!BO4","v":""},{"$f":"Lupi!BO6","v":""},{"$f":"Lupi!BS6","v":""},{"$f":"Lupi!BT6","v":""},{"$f":"Lupi!BR4","v":""},{"$f":"IF(Lupi!BP9=\"\",\"\",SUM(Lupi!BT9:BT117))","v":""},{"$f":"IF(Lupi!BP9=\"\",\"\",RANK(B13,$B$2:$B$41))","v":""},null,null,null,"","",""]
[{"$f":"IF(Hauptmaske!G19=\"x\",Hauptmaske!A19,\"\")","v":""},{"$f":"Lupi!BY4","v":""},{"$f":"Lupi!BU4","v":""},{"$f":"Lupi!BU6","v":""},{"$f":"Lupi!BY6","v":""},{"$f":"Lupi!BZ6","v":""},{"$f":"Lupi!BX4","v":""},{"$f":"IF(Lupi!BV9=\"\",\"\",SUM(Lupi!BZ9:BZ117))","v":""},{"$f":"IF(Lupi!BV9=\"\",\"\",RANK(B14,$B$2:$B$41))","v":""},null,null,null,"","",""]
[{"$f":"IF(Hauptmaske!G20=\"x\",Hauptmaske!A20,\"\")","v":""},{"$f":"Lupi!CE4","v":""},{"$f":"Lupi!CA4","v":""},{"$f":"Lupi!CA6","v":""},{"$f":"Lupi!CE6","v":""},{"$f":"Lupi!CF6","v":""},{"$f":"Lupi!CD4","v":""},{"$f":"IF(Lupi!CB9=\"\",\"\",SUM(Lupi!CF9:CF117))","v":""},{"$f":"IF(Lupi!CB9=\"\",\"\",RANK(B15,$B$2:$B$41))","v":""},null,null,null,"","",""]
[{"$f":"IF(Hauptmaske!G21=\"x\",Hauptmaske!A21,\"\")","v":""},{"$f":"Lupi!CK4","v":""},{"$f":"Lupi!CG4","v":""},{"$f":"Lupi!CG6","v":""},{"$f":"Lupi!CK6","v":""},{"$f":"Lupi!CL6","v":""},{"$f":"Lupi!CJ4","v":""},{"$f":"IF(Lupi!CH9=\"\",\"\",SUM(Lupi!CL9:CL117))","v":""},{"$f":"IF(Lupi!CH9=\"\",\"\",RANK(B16,$B$2:$B$41))","v":""},null,null,null,"","",""]
[{"$f":"IF(Hauptmaske!G22=\"x\",Hauptmaske!A22,\"\")","v":""},{"$f":"Lupi!CQ4","v":""},{"$f":"Lupi!CM4","v":""},{"$f":"Lupi!CM6","v":""},{"$f":"Lupi!CQ6","v":""},{"$f":"Lupi!CR6","v":""},{"$f":"Lupi!CP4","v":""},{"$f":"IF(Lupi!CN9=\"\",\"\",SUM(Lupi!CR9:CR117))","v":""},{"$f":"IF(Lupi!CN9=\"\",\"\",RANK(B17,$B$2:$B$41))","v":""},null,null,null,"","",""]
[{"$f":"IF(Hauptmaske!G24=\"x\",Hauptmaske!A24,\"\")","v":""},{"$f":"Lupi!DC4","v":""},{"$f":"Lupi!CY4","v":""},{"$f":"Lupi!CY6","v":""},{"$f":"Lupi!DC6","v":""},{"$f":"Lupi!DD6","v":""},{"$f":"Lupi!DB4","v":""},{"$f":"IF(Lupi!CZ9=\"\",\"\",SUM(Lupi!DD9:DD117))","v":""},{"$f":"IF(Lupi!CZ9=\"\",\"\",RANK(B18,$B$2:$B$41))","v":""},null,null,null,"","",""]
[{"$f":"IF(Hauptmaske!G25=\"x\",Hauptmaske!A25,\"\")","v":""},{"$f":"Lupi!DI4","v":""},{"$f":"Lupi!DE4","v":""},{"$f":"Lupi!DE6","v":""},{"$f":"Lupi!DI6","v":""},{"$f":"Lupi!DJ6","v":""},{"$f":"Lupi!DH4","v":""},{"$f":"IF(Lupi!DF9=\"\",\"\",SUM(Lupi!DJ9:DJ117))","v":""},{"$f":"IF(Lupi!DF9=\"\",\"\",RANK(B19,$B$2:$B$41))","v":""},null,null,null,"","",""]
[{"$f":"IF(Hauptmaske!G26=\"x\",Hauptmaske!A26,\"\")","v":""},{"$f":"Lupi!DO4","v":""},{"$f":"Lupi!DK4","v":""},{"$f":"Lupi!DK6","v":""},{"$f":"Lupi!DO6","v":""},{"$f":"Lupi!DP6","v":""},{"$f":"Lupi!DN4","v":""},{"$f":"IF(Lupi!DL9=\"\",\"\",SUM(Lupi!DP9:DP117))","v":""},{"$f":"IF(Lupi!DL9=\"\",\"\",RANK(B20,$B$2:$B$41))","v":""},null,null,null,"","",""]
[{"$f":"IF(Hauptmaske!G27=\"x\",Hauptmaske!A27,\"\")","v":""},{"$f":"Lupi!DU4","v":""},{"$f":"Lupi!DQ4","v":""},{"$f":"Lupi!DQ6","v":""},{"$f":"Lupi!DU6","v":""},{"$f":"Lupi!DV6","v":""},{"$f":"Lupi!DT4","v":""},{"$f":"IF(Lupi!DR9=\"\",\"\",SUM(Lupi!DV9:DV117))","v":""},{"$f":"IF(Lupi!DR9=\"\",\"\",RANK(B21,$B$2:$B$41))","v":""},null,null,null,"","",""]
[{"$f":"IF(Hauptmaske!G28=\"x\",Hauptmaske!A28,\"\")","v":""},{"$f":"Lupi!EA4","v":""},{"$f":"Lupi!DW4","v":""},{"$f":"Lupi!DW6","v":""},{"$f":"Lupi!EA6","v":""},{"$f":"Lupi!EB6","v":""},{"$f":"Lupi!DZ4","v":""},{"$f":"IF(Lupi!DX9=\"\",\"\",SUM(Lupi!EB9:EB117))","v":""},{"$f":"IF(Lupi!DX9=\"\",\"\",RANK(B22,$B$2:$B$41))","v":""},null,null,null,"","",""]
[{"$f":"IF(Hauptmaske!G29=\"x\",Hauptmaske!A29,\"\")","v":""},{"$f":"Lupi!EG4","v":""},{"$f":"Lupi!EC4","v":""},{"$f":"Lupi!EC6","v":""},{"$f":"Lupi!EG6","v":""},{"$f":"Lupi!EH6","v":""},{"$f":"Lupi!EF4","v":""},{"$f":"IF(Lupi!ED9=\"\",\"\",SUM(Lupi!EH9:EH117))","v":""},{"$f":"IF(Lupi!ED9=\"\",\"\",RANK(B23,$B$2:$B$41))","v":""},null,null,null,"","",""]
[{"$f":"IF(Hauptmaske!G30=\"x\",Hauptmaske!A30,\"\")","v":""},{"$f":"Lupi!EM4","v":""},{"$f":"Lupi!EI4","v":""},{"$f":"Lupi!EI6","v":""},{"$f":"Lupi!EM6","v":""},{"$f":"Lupi!EN6","v":""},{"$f":"Lupi!EL4","v":""},{"$f":"IF(Lupi!EJ9=\"\",\"\",SUM(Lupi!EN9:EN117))","v":""},{"$f":"IF(Lupi!EJ9=\"\",\"\",RANK(B24,$B$2:$B$41))","v":""},null,null,null,"","",""]
[{"$f":"IF(Hauptmaske!G31=\"x\",Hauptmaske!A31,\"\")","v":""},{"$f":"Lupi!ES4","v":""},{"$f":"Lupi!EO4","v":""},{"$f":"Lupi!EO6","v":""},{"$f":"Lupi!ES6","v":""},{"$f":"Lupi!ET6","v":""},{"$f":"Lupi!ER4","v":""},{"$f":"IF(Lupi!EP9=\"\",\"\",SUM(Lupi!ET9:ET117))","v":""},{"$f":"IF(Lupi!EP9=\"\",\"\",RANK(B25,$B$2:$B$41))","v":""},null,null,null,"","",""]
[{"$f":"IF(Hauptmaske!G32=\"x\",Hauptmaske!A32,\"\")","v":""},{"$f":"Lupi!EY4","v":""},{"$f":"Lupi!EU4","v":""},{"$f":"Lupi!EU6","v":""},{"$f":"Lupi!EY6","v":""},{"$f":"Lupi!EZ6","v":""},{"$f":"Lupi!EX4","v":""},{"$f":"IF(Lupi!EV9=\"\",\"\",SUM(Lupi!EZ9:EZ117))","v":""},{"$f":"IF(Lupi!EV9=\"\",\"\",RANK(B26,$B$2:$B$41))","v":""},null,null,null,"","",""]
[{"$f":"IF(Hauptmaske!G33=\"x\",Hauptmaske!A33,\"\")","v":""},{"$f":"Lupi!FE4","v":""},{"$f":"Lupi!FA4","v":""},{"$f":"Lupi!FA6","v":""},{"$f":"Lupi!FE6","v":""},{"$f":"Lupi!FF6","v":""},{"$f":"Lupi!FD4","v":""},{"$f":"IF(Lupi!FB9=\"\",\"\",SUM(Lupi!FF9:FF117))","v":""},{"$f":"IF(Lupi!FB9=\"\",\"\",RANK(B27,$B$2:$B$41))","v":""},null,null,null,"","",""]
[{"$f":"IF(Hauptmaske!G34=\"x\",Hauptmaske!A34,\"\")","v":""},{"$f":"Lupi!FK4","v":""},{"$f":"Lupi!FG4","v":""},{"$f":"Lupi!FG6","v":""},{"$f":"Lupi!FK6","v":""},{"$f":"Lupi!FL6","v":""},{"$f":"Lupi!FJ4","v":""},{"$f":"IF(Lupi!FH9=\"\",\"\",SUM(Lupi!FL9:FL117))","v":""},{"$f":"IF(Lupi!FH9=\"\",\"\",RANK(B28,$B$2:$B$41))","v":""},null,null,null,"","",""]
[{"$f":"IF(Hauptmaske!G35=\"x\",Hauptmaske!A35,\"\")","v":""},{"$f":"Lupi!FQ4","v":""},{"$f":"Lupi!FM4","v":""},{"$f":"Lupi!FM6","v":""},{"$f":"Lupi!FQ6","v":""},{"$f":"Lupi!FR6","v":""},{"$f":"Lupi!FP4","v":""},{"$f":"IF(Lupi!FN9=\"\",\"\",SUM(Lupi!FR9:FR117))","v":""},{"$f":"IF(Lupi!FN9=\"\",\"\",RANK(B29,$B$2:$B$41))","v":""},null,null,null,"","",""]
[{"$f":"IF(Hauptmaske!G36=\"x\",Hauptmaske!A36,\"\")","v":""},{"$f":"Lupi!FW4","v":""},{"$f":"Lupi!FS4","v":""},{"$f":"Lupi!FS6","v":""},{"$f":"Lupi!FW6","v":""},{"$f":"Lupi!FX6","v":""},{"$f":"Lupi!FV4","v":""},{"$f":"IF(Lupi!FT9=\"\",\"\",SUM(Lupi!FX9:FX117))","v":""},{"$f":"IF(Lupi!FT9=\"\",\"\",RANK(B30,$B$2:$B$41))","v":""},null,null,null,"","",""]
[{"$f":"IF(Hauptmaske!G37=\"x\",Hauptmaske!A37,\"\")","v":""},{"$f":"Lupi!GC4","v":""},{"$f":"Lupi!FY4","v":""},{"$f":"Lupi!FY6","v":""},{"$f":"Lupi!GC6","v":""},{"$f":"Lupi!GD6","v":""},{"$f":"Lupi!GB4","v":""},{"$f":"IF(Lupi!FZ9=\"\",\"\",SUM(Lupi!GD9:GD117))","v":""},{"$f":"IF(Lupi!FZ9=\"\",\"\",RANK(B31,$B$2:$B$41))","v":""},null,null,null,"","",""]
[{"$f":"IF(Hauptmaske!G38=\"x\",Hauptmaske!A38,\"\")","v":""},{"$f":"Lupi!GI4","v":""},{"$f":"Lupi!GE4","v":""},{"$f":"Lupi!GE6","v":""},{"$f":"Lupi!GI6","v":""},{"$f":"Lupi!GJ6","v":""},{"$f":"Lupi!GH4","v":""},{"$f":"IF(Lupi!GF9=\"\",\"\",SUM(Lupi!GJ9:GJ117))","v":""},{"$f":"IF(Lupi!GF9=\"\",\"\",RANK(B32,$B$2:$B$41))","v":""},null,null,null,"","",""]
[{"$f":"IF(Hauptmaske!G39=\"x\",Hauptmaske!A39,\"\")","v":""},{"$f":"Lupi!GO4","v":""},{"$f":"Lupi!GK4","v":""},{"$f":"Lupi!GK6","v":""},{"$f":"Lupi!GO6","v":""},{"$f":"Lupi!GP6","v":""},{"$f":"Lupi!GN4","v":""},{"$f":"IF(Lupi!GL9=\"\",\"\",SUM(Lupi!GP9:GP117))","v":""},{"$f":"IF(Lupi!GL9=\"\",\"\",RANK(B33,$B$2:$B$41))","v":""},null,null,null,"","",""]
[{"$f":"IF(Hauptmaske!G40=\"x\",Hauptmaske!A40,\"\")","v":""},{"$f":"Lupi!GU4","v":""},{"$f":"Lupi!GQ4","v":""},{"$f":"Lupi!GQ6","v":""},{"$f":"Lupi!GU6","v":""},{"$f":"Lupi!GV6","v":""},{"$f":"Lupi!GT4","v":""},{"$f":"IF(Lupi!GR9=\"\",\"\",SUM(Lupi!GV9:GV117))","v":""},{"$f":"IF(Lupi!GR9=\"\",\"\",RANK(B34,$B$2:$B$41))","v":""},null,null,null,"","",""]
[{"$f":"IF(Hauptmaske!G41=\"x\",Hauptmaske!A41,\"\")","v":""},{"$f":"Lupi!HA4","v":""},{"$f":"Lupi!GW4","v":""},{"$f":"Lupi!GW6","v":""},{"$f":"Lupi!HA6","v":""},{"$f":"Lupi!HB6","v":""},{"$f":"Lupi!GZ4","v":""},{"$f":"IF(Lupi!GX9=\"\",\"\",SUM(Lupi!HB9:HB117))","v":""},{"$f":"IF(Lupi!GX9=\"\",\"\",RANK(B35,$B$2:$B$41))","v":""},null,null,null,"","",""]
[{"$f":"IF(Hauptmaske!G42=\"x\",Hauptmaske!A42,\"\")","v":""},{"$f":"Lupi!HG4","v":""},{"$f":"Lupi!HC4","v":""},{"$f":"Lupi!HC6","v":""},{"$f":"Lupi!HG6","v":""},{"$f":"Lupi!HH6","v":""},{"$f":"Lupi!HF4","v":""},{"$f":"IF(Lupi!HD9=\"\",\"\",SUM(Lupi!HH9:HH117))","v":""},{"$f":"IF(Lupi!HD9=\"\",\"\",RANK(B36,$B$2:$B$41))","v":""},null,null,null,"","",""]
[{"$f":"IF(Hauptmaske!G43=\"x\",Hauptmaske!A43,\"\")","v":""},{"$f":"Lupi!HM4","v":""},{"$f":"Lupi!HI4","v":""},{"$f":"Lupi!HI6","v":""},{"$f":"Lupi!HM6","v":""},{"$f":"Lupi!HN6","v":""},{"$f":"Lupi!HL4","v":""},{"$f":"IF(Lupi!HJ9=\"\",\"\",SUM(Lupi!HN9:HN117))","v":""},{"$f":"IF(Lupi!HJ9=\"\",\"\",RANK(B37,$B$2:$B$41))","v":""},null,null,null,"","",""]
[{"$f":"IF(Hauptmaske!G44=\"x\",Hauptmaske!A44,\"\")","v":""},{"$f":"Lupi!HS4","v":""},{"$f":"Lupi!HO4","v":""},{"$f":"Lupi!HO6","v":""},{"$f":"Lupi!HS6","v":""},{"$f":"Lupi!HT6","v":""},{"$f":"Lupi!HR4","v":""},{"$f":"IF(Lupi!HP9=\"\",\"\",SUM(Lupi!HT9:HT117))","v":""},{"$f":"IF(Lupi!HP9=\"\",\"\",RANK(B38,$B$2:$B$41))","v":""},null,null,null,"","",""]
[{"$f":"IF(Hauptmaske!G45=\"x\",Hauptmaske!A45,\"\")","v":""},{"$f":"Lupi!HY4","v":""},{"$f":"Lupi!HU4","v":""},{"$f":"Lupi!HU6","v":""},{"$f":"Lupi!HY6","v":""},{"$f":"Lupi!HZ6","v":""},{"$f":"Lupi!HX4","v":""},{"$f":"IF(Lupi!HV9=\"\",\"\",SUM(Lupi!HZ9:HZ117))","v":""},{"$f":"IF(Lupi!HV9=\"\",\"\",RANK(B39,$B$2:$B$41))","v":""},null,null,null,"","",""]
[{"$f":"IF(Hauptmaske!G46=\"x\",Hauptmaske!A46,\"\")","v":""},{"$f":"Lupi!IE4","v":""},{"$f":"Lupi!IA4","v":""},{"$f":"Lupi!IA6","v":""},{"$f":"Lupi!IE6","v":""},{"$f":"Lupi!IF6","v":""},{"$f":"Lupi!ID4","v":""},{"$f":"IF(Lupi!IB9=\"\",\"\",SUM(Lupi!IF9:IF117))","v":""},{"$f":"IF(Lupi!IB9=\"\",\"\",RANK(B40,$B$2:$B$41))","v":""},null,null,null,"","",""]
[{"$f":"IF(Hauptmaske!G16=\"x\",Hauptmaske!A16,\"\")","v":""},{"$f":"Lupi!BG4","v":""},{"$f":"Lupi!BC4","v":""},{"$f":"Lupi!BC6","v":""},{"$f":"Lupi!BG6","v":""},{"$f":"Lupi!BH6","v":""},{"$f":"Lupi!BF4","v":""},{"$f":"IF(Lupi!BD9=\"\",\"\",SUM(Lupi!BH9:BH117))","v":""},{"$f":"IF(Lupi!BD9=\"\",\"\",RANK(B41,$B$2:$B$41))","v":""},null,null,null,"","",""]
[]
[null,null,"Name","Mittelwert"]
[{"$f":"M2","v":"Testname"},{"$f":"O2","v":-1.9999999999999999E-6},{"$f":"INDEX($A$44:$B$83,MATCH(LARGE($B$44:$B$83,ROW()-43),$B$44:$B$83,0),1)","v":"Testname"},{"$f":"INDEX($A$44:$B$83,MATCH(LARGE($B$44:$B$83,ROW()-43),$B$44:$B$83,0),2)","v":-1.9999999999999999E-6}]
[{"$f":"M3","v":""},{"$f":"O3","v":""},{"$f":"INDEX($A$44:$B$83,MATCH(LARGE($B$44:$B$83,ROW()-43),$B$44:$B$83,0),1)","v":{"$error":"#NUM!"}},{"$f":"INDEX($A$44:$B$83,MATCH(LARGE($B$44:$B$83,ROW()-43),$B$44:$B$83,0),2)","v":{"$error":"#NUM!"}}]
["","",{"$error":"#NUM!"},{"$error":"#NUM!"}]
["","",{"$error":"#NUM!"},{"$error":"#NUM!"}]
["","",{"$error":"#NUM!"},{"$error":"#NUM!"}]
["","",{"$error":"#NUM!"},{"$error":"#NUM!"}]
["","",{"$error":"#NUM!"},{"$error":"#NUM!"}]
["","",{"$error":"#NUM!"},{"$error":"#NUM!"}]
["","",{"$error":"#NUM!"},{"$error":"#NUM!"}]
["","",{"$error":"#NUM!"},{"$error":"#NUM!"}]
["","",{"$error":"#NUM!"},{"$error":"#NUM!"}]
["","",{"$error":"#NUM!"},{"$error":"#NUM!"}]
["","",{"$error":"#NUM!"},{"$error":"#NUM!"}]
["","",{"$error":"#NUM!"},{"$error":"#NUM!"}]
["","",{"$error":"#NUM!"},{"$error":"#NUM!"}]
["","",{"$error":"#NUM!"},{"$error":"#NUM!"}]
["","",{"$error":"#NUM!"},{"$error":"#NUM!"}]
["","",{"$error":"#NUM!"},{"$error":"#NUM!"}]
["","",{"$error":"#NUM!"},{"$error":"#NUM!"}]
["","",{"$error":"#NUM!"},{"$error":"#NUM!"}]
["","",{"$error":"#NUM!"},{"$error":"#NUM!"}]
["","",{"$error":"#NUM!"},{"$error":"#NUM!"}]
["","",{"$error":"#NUM!"},{"$error":"#NUM!"}]
["","",{"$error":"#NUM!"},{"$error":"#NUM!"}]
["","",{"$error":"#NUM!"},{"$error":"#NUM!"}]
["","",{"$error":"#NUM!"},{"$error":"#NUM!"}]
["","",{"$error":"#NUM!"},{"$error":"#NUM!"}]
["","",{"$error":"#NUM!"},{"$error":"#NUM!"}]
["","",{"$error":"#NUM!"},{"$error":"#NUM!"}]
["","",{"$error":"#NUM!"},{"$error":"#NUM!"}]
["","",{"$error":"#NUM!"},{"$error":"#NUM!"}]
["","",{"$error":"#NUM!"},{"$error":"#NUM!"}]
["","",{"$error":"#NUM!"},{"$error":"#NUM!"}]
["","",{"$error":"#NUM!"},{"$error":"#NUM!"}]
["","",{"$error":"#NUM!"},{"$error":"#NUM!"}]
["","",{"$error":"#NUM!"},{"$error":"#NUM!"}]
["","",{"$error":"#NUM!"},{"$error":"#NUM!"}]
["","",{"$error":"#NUM!"},{"$error":"#NUM!"}]
["","",{"$error":"#NUM!"},{"$error":"#NUM!"}]
["","",{"$error":"#NUM!"},{"$error":"#NUM!"}]

{"sheet":"Grafik-Lupi-1","index":11,"n_rows":38,"n_cols":7,"rows_kept":38,"cut":false,"hidden":false,"merged":[[0,0,0,5],[5,6,12,8],[37,6,44,8]]}
[{"$f":"CONCATENATE(\"Ergebnisse vom Luftpistolenschießen\",\" \",Hauptmaske!A4)","v":"Ergebnisse vom Luftpistolenschießen 2016"}]
[]
[]
[]
[]
[null,null,null,null,null,null,"Diese Grafik ist auf\n40 Teilenehmer beschränkt."]
[]
[]
[]
[]
[]
[]
[]
[]
[]
[]
[]
[]
[]
[]
[]
[]
[]
[]
[]
[]
[]
[]
[]
[]
[]
[]
[]
[]
[]
[]
[]
[null,null,null,null,null,null,"Diese Grafik ist auf\n40 Teilenehmer beschränkt."]

{"sheet":"Grafik-Lupi-2","index":12,"n_rows":38,"n_cols":7,"rows_kept":38,"cut":false,"hidden":false,"merged":[[0,0,0,5],[6,6,13,8],[37,6,44,8]]}
[{"$f":"CONCATENATE(\"Ergebnisse vom Luftpistolenschießen\",\" \",Hauptmaske!A4)","v":"Ergebnisse vom Luftpistolenschießen 2016"}]
[]
[]
[]
[]
[]
[null,null,null,null,null,null,"Diese Grafik ist auf\n40 Teilenehmer beschränkt."]
[]
[]
[]
[]
[]
[]
[]
[]
[]
[]
[]
[]
[]
[]
[]
[]
[]
[]
[]
[]
[]
[]
[]
[]
[]
[]
[]
[]
[]
[]
[null,null,null,null,null,null,"Diese Grafik ist auf\n40 Teilenehmer beschränkt."]

{"sheet":"KK","index":13,"n_rows":117,"n_cols":240,"rows_kept":117,"cut":false,"hidden":false,"merged":[[1,36,1,41],[1,42,1,47],[1,48,1,53],[1,54,1,59],[1,60,1,65],[1,66,1,71],[1,0,1,5],[1,6,1,11],[1,12,1,17],[1,18,1,23],[1,24,1,29],[1,30,1,35],[1,120,1,125],[1,126,1,131],[1,132,1,137],[1,138,1,143],[1,72,1,77],[1,78,1,83],[1,84,1,89],[1,90,1,95],[1,96,1,101],[1,102,1,107],[1,216,1,221],[1,222,1,227],[1,228,1,233],[1,234,1,239],[2,0,2,1],[2,4,2,5],[2,6,2,7],[2,10,2,11],[2,12,2,13],[2,16,2,17],[1,180,1,185],[1,186,1,191],[1,192,1,197],[1,198,1,203],[1,204,1,209],[1,210,1,215],[1,144,1,149],[1,150,1,155],[1,156,1,161],[1,162,1,167],[1,168,1,173],[1,174,1,179],[1,108,1,113],[1,114,1,119],[2,36,2,37],[2,40,2,41],[2,42,2,43],[2,46,2,47],[2,48,2,49],[2,52,2,53],[2,18,2,19],[2,22,2,23],[2,24,2,25],[2,28,2,29],[2,30,2,31],[2,34,2,35],[2,72,2,73],[2,76,2,77],[2,78,2,79],[2,82,2,83],[2,84,2,85],[2,88,2,89],[2,54,2,55],[2,58,2,59],[2,60,2,61],[2,64,2,65],[2,66,2,67],[2,70,2,71],[2,108,2,109],[2,112,2,113],[2,114,2,115],[2,118,2,119],[2,120,2,121],[2,124,2,125],[2,90,2,91],[2,94,2,95],[2,96,2,97],[2,100,2,101],[2,102,2,103],[2,106,2,107],[2,144,2,145],[2,148,2,149],[2,150,2,151],[2,154,2,155],[2,156,2,157],[2,160,2,161],[2,126,2,127],[2,130,2,131],[2,132,2,133],[2,136,2,137],[2,138,2,139],[2,142,2,143],[2,186,2,187],[2,190,2,191],[2,192,2,193],[2,196,2,197],[2,162,2,163],[2,166,2,167],[2,168,2,169],[2,172,2,173],[2,174,2,175],[2,178,2,179],[2,234,2,235],[2,238,2,239],[3,0,3,1],[3,4,3,5],[3,6,3,7],[3,10,3,11],[3,12,3,13],[3,16,3,17],[3,18,3,19],[3,22,3,23],[2,216,2,217],[2,220,2,221],[2,222,2,223],[2,226,2,227],[2,228,2,229],[2,232,2,233],[2,198,2,199],[2,202,2,203],[2,204,2,205],[2,208,2,209],[2,210,2,211],[2,214,2,215],[2,180,2,181],[2,184,2,185],[3,42,3,43],[3,46,3,47],[3,48,3,49],[3,52,3,53],[3,54,3,55],[3,58,3,59],[3,24,3,25],[3,28,3,29],[3,30,3,31],[3,34,3,35],[3,36,3,37],[3,40,3,41],[3,78,3,79],[3,82,3,83],[3,84,3,85],[3,88,3,89],[3,90,3,91],[3,94,3,95],[3,60,3,61],[3,64,3,65],[3,66,3,67],[3,70,3,71],[3,72,3,73],[3,76,3,77],[3,114,3,115],[3,118,3,119],[3,120,3,121],[3,124,3,125],[3,126,3,127],[3,130,3,131],[3,96,3,97],[3,100,3,101],[3,102,3,103],[3,106,3,107],[3,108,3,109],[3,112,3,113],[3,150,3,151],[3,154,3,155],[3,156,3,157],[3,160,3,161],[3,162,3,163],[3,166,3,167],[3,132,3,133],[3,136,3,137],[3,138,3,139],[3,142,3,143],[3,144,3,145],[3,148,3,149],[3,186,3,187],[3,190,3,191],[3,192,3,193],[3,196,3,197],[3,198,3,199],[3,202,3,203],[3,168,3,169],[3,172,3,173],[3,174,3,175],[3,178,3,179],[3,180,3,181],[3,184,3,185],[3,222,3,223],[3,226,3,227],[3,228,3,229],[3,232,3,233],[3,234,3,235],[3,238,3,239],[3,204,3,205],[3,208,3,209],[3,210,3,211],[3,214,3,215],[3,216,3,217],[3,220,3,221],[4,12,4,13],[4,14,4,15],[4,16,4,17],[4,18,4,19],[4,20,4,21],[4,22,4,23],[4,0,4,1],[4,2,4,3],[4,4,4,5],[4,6,4,7],[4,8,4,9],[4,10,4,11],[4,36,4,37],[4,38,4,39],[4,40,4,41],[4,42,4,43],[4,44,4,45],[4,46,4,47],[4,24,4,25],[4,26,4,27],[4,28,4,29],[4,30,4,31],[4,32,4,33],[4,34,4,35],[4,60,4,61],[4,62,4,63],[4,64,4,65],[4,66,4,67],[4,68,4,69],[4,70,4,71],[4,48,4,49],[4,50,4,51],[4,52,4,53],[4,54,4,55],[4,56,4,57],[4,58,4,59],[4,84,4,85],[4,86,4,87],[4,88,4,89],[4,90,4,91],[4,92,4,93],[4,94,4,95],[4,72,4,73],[4,74,4,75],[4,76,4,77],[4,78,4,79],[4,80,4,81],[4,82,4,83],[4,108,4,109],[4,110,4,111],[4,112,4,113],[4,114,4,115],[4,116,4,117],[4,118,4,119],[4,96,4,97],[4,98,4,99],[4,100,4,101],[4,102,4,103],[4,104,4,105],[4,106,4,107],[4,132,4,133],[4,134,4,135],[4,136,4,137],[4,138,4,139],[4,140,4,141],[4,142,4,143],[4,120,4,121],[4,122,4,123],[4,124,4,125],[4,126,4,127],[4,128,4,129],[4,130,4,131],[4,156,4,157],[4,158,4,159],[4,160,4,161],[4,162,4,163],[4,164,4,165],[4,166,4,167],[4,144,4,145],[4,146,4,147],[4,148,4,149],[4,150,4,151],[4,152,4,153],[4,154,4,155],[4,180,4,181],[4,182,4,183],[4,184,4,185],[4,186,4,187],[4,188,4,189],[4,190,4,191],[4,168,4,169],[4,170,4,171],[4,172,4,173],[4,174,4,175],[4,176,4,177],[4,178,4,179],[4,204,4,205],[4,206,4,207],[4,208,4,209],[4,210,4,211],[4,212,4,213],[4,214,4,215],[4,192,4,193],[4,194,4,195],[4,196,4,197],[4,198,4,199],[4,200,4,201],[4,202,4,203],[4,228,4,229],[4,230,4,231],[4,232,4,233],[4,234,4,235],[4,236,4,237],[4,238,4,239],[4,216,4,217],[4,218,4,219],[4,220,4,221],[4,222,4,223],[4,224,4,225],[4,226,4,227],[5,18,5,19],[5,20,5,21],[5,24,5,25],[5,26,5,27],[5,30,5,31],[5,32,5,33],[5,0,5,1],[5,2,5,3],[5,6,5,7],[5,8,5,9],[5,12,5,13],[5,14,5,15],[5,54,5,55],[5,56,5,57],[5,60,5,61],[5,62,5,63],[5,66,5,67],[5,68,5,69],[5,36,5,37],[5,38,5,39],[5,42,5,43],[5,44,5,45],[5,48,5,49],[5,50,5,51],[5,90,5,91],[5,92,5,93],[5,96,5,97],[5,98,5,99],[5,102,5,103],[5,104,5,105],[5,72,5,73],[5,74,5,75],[5,78,5,79],[5,80,5,81],[5,84,5,85],[5,86,5,87],[5,126,5,127],[5,128,5,129],[5,132,5,133],[5,134,5,135],[5,138,5,139],[5,140,5,141],[5,108,5,109],[5,110,5,111],[5,114,5,115],[5,116,5,117],[5,120,5,121],[5,122,5,123],[5,162,5,163],[5,164,5,165],[5,168,5,169],[5,170,5,171],[5,174,5,175],[5,176,5,177],[5,144,5,145],[5,146,5,147],[5,150,5,151],[5,152,5,153],[5,156,5,157],[5,158,5,159],[5,204,5,205],[5,206,5,207],[5,210,5,211],[5,212,5,213],[5,180,5,181],[5,182,5,183],[5,186,5,187],[5,188,5,189],[5,192,5,193],[5,194,5,195],[6,48,6,53],[6,54,6,59],[6,60,6,65],[6,66,6,71],[6,72,6,77],[6,78,6,83],[5,234,5,235],[5,236,5,237],[6,0,6,5],[6,6,6,11],[6,12,6,17],[6,18,6,23],[6,24,6,29],[6,30,6,35],[6,36,6,41],[6,42,6,47],[5,216,5,217],[5,218,5,219],[5,222,5,223],[5,224,5,225],[5,228,5,229],[5,230,5,231],[5,198,5,199],[5,200,5,201],[6,120,6,125],[6,126,6,131],[6,132,6,137],[6,138,6,143],[6,144,6,149],[6,150,6,155],[6,84,6,89],[6,90,6,95],[6,96,6,101],[6,102,6,107],[6,108,6,113],[6,114,6,119],[6,228,6,233],[6,234,6,239],[6,192,6,197],[6,198,6,203],[6,204,6,209],[6,210,6,215],[6,216,6,221],[6,222,6,227],[6,156,6,161],[6,162,6,167],[6,168,6,173],[6,174,6,179],[6,180,6,185],[6,186,6,191]]}
[{"$f":"IF(Hauptmaske!$B$5=\"\",10,Hauptmaske!$H$5)","v":10}]
[{"$f":"Hauptmaske!$H$6","v":"KK-Auflage"},null,null,null,null,null,{"$f":"Hauptmaske!$H$6","v":"KK-Auflage"},null,null,null,null,null,{"$f":"Hauptmaske!$H$6","v":"KK-Auflage"},null,null,null,null,null,{"$f":"Hauptmaske!$H$6","v":"KK-Auflage"},null,null,null,null,null,{"$f":"Hauptmaske!$H$6","v":"KK-Auflage"},null,null,null,null,null,{"$f":"Hauptmaske!$H$6","v":"KK-Auflage"},null,null,null,null,null,{"$f":"Hauptmaske!$H$6","v":"KK-Auflage"},null,null,null,null,null,{"$f":"Hauptmaske!$H$6","v":"KK-Auflage"},null,null,null,null,null,{"$f":"Hauptmaske!$H$6","v":"KK-Auflage"},null,null,null,null,null,{"$f":"Hauptmaske!$H$6","v":"KK-Auflage"},null,null,null,null,null,{"$f":"Hauptmaske!$H$6","v":"KK-Auflage"},null,null,null,null,null,{"$f":"Hauptmaske!$H$6","v":"KK-Auflage"},null,null,null,null,null,{"$f":"Hauptmaske!$H$6","v":"KK-Auflage"},null,null,null,null,null,{"$f":"Hauptmaske!$H$6","v":"KK-Auflage"},null,null,null,null,null,{"$f":"Hauptmaske!$H$6","v":"KK-Auflage"},null,null,null,null,null,{"$f":"Hauptmaske!$H$6","v":"KK-Auflage"},null,null,null,null,null,{"$f":"Hauptmaske!$H$6","v":"KK-Auflage"},null,null,null,null,null,{"$f":"Hauptmaske!$H$6","v":"KK-Auflage"},null,null,null,null,null,{"$f":"Hauptmaske!$H$6","v":"KK-Auflage"},null,null,null,null,null,{"$f":"Hauptmaske!$H$6","v":"KK-Auflage"},null,null,null,null,null,{"$f":"Hauptmaske!$H$6","v":"KK-Auflage"},null,null,null,null,null,{"$f":"Hauptmaske!$H$6","v":"KK-Auflage"},null,null,null,null,null,{"$f":"Hauptmaske!$H$6","v":"KK-Auflage"},null,null,null,null,null,{"$f":"Hauptmaske!$H$6","v":"KK-Auflage"},null,null,null,null,null,{"$f":"Hauptmaske!$H$6","v":"KK-Auflage"},null,null,null,null,null,{"$f":"Hauptmaske!$H$6","v":"KK-Auflage"},null,null,null,null,null,{"$f":"Hauptmaske!$H$6","v":"KK-Auflage"},null,null,null,null,null,{"$f":"Hauptmaske!$H$6","v":"KK-Auflage"},null,null,null,null,null,{"$f":"Hauptmaske!$H$6","v":"KK-Auflage"},null,null,null,null,null,{"$f":"Hauptmaske!$H$6","v":"KK-Auflage"},null,null,null,null,null,{"$f":"Hauptmaske!$H$6","v":"KK-Auflage"},null,null,null,null,null,{"$f":"Hauptmaske!$H$6","v":"KK-Auflage"},null,null,null,null,null,{"$f":"Hauptmaske!$H$6","v":"KK-Auflage"},null,null,null,null,null,{"$f":"Hauptmaske!$H$6","v":"KK-Auflage"},null,null,null,null,null,{"$f":"Hauptmaske!$H$6","v":"KK-Auflage"},null,null,null,null,null,{"$f":"Hauptmaske!$H$6","v":"KK-Auflage"},null,null,null,null,null,{"$f":"Hauptmaske!$H$6","v":"KK-Auflage"},null,null,null,null,null,{"$f":"Hauptmaske!$H$6","v":"KK-Auflage"},null,null,null,null,null,{"$f":"Hauptmaske!$H$6","v":"KK-Auflage"},null,null,null,null,null,{"$f":"Hauptmaske!$H$6","v":"KK-Auflage"}]
["Bestes\nErgebnis",null,"Beste\nEinzelserie","Teilnahmen","Mittelwert\nges. Ergebnis",null,"Bestes\nErgebnis",null,"Beste\nEinzelserie","Teilnahmen","Mittelwert\nges. Ergebnis",null,"Bestes\nErgebnis",null,"Beste\nEinzelserie","Teilnahmen","Mittelwert\nges. Ergebnis",null,"Bestes\nErgebnis",null,"Beste\nEinzelserie","Teilnahmen","Mittelwert\nges. Ergebnis",null,"Bestes\nErgebnis",null,"Beste\nEinzelserie","Teilnahmen","Mittelwert\nges. Ergebnis",null,"Bestes\nErgebnis",null,"Beste\nEinzelserie","Teilnahmen","Mittelwert\nges. Ergebnis",null,"Bestes\nErgebnis",null,"Beste\nEinzelserie","Teilnahmen","Mittelwert\nges. Ergebnis",null,"Bestes\nErgebnis",null,"Beste\nEinzelserie","Teilnahmen","Mittelwert\nges. Ergebnis",null,"Bestes\nErgebnis",null,"Beste\nEinzelserie","Teilnahmen","Mittelwert\nges. Ergebnis",null,"Bestes\nErgebnis",null,"Beste\nEinzelserie","Teilnahmen","Mittelwert\nges. Ergebnis",null,"Bestes\nErgebnis",null,"Beste\nEinzelserie","Teilnahmen","Mittelwert\nges. Ergebnis",null,"Bestes\nErgebnis",null,"Beste\nEinzelserie","Teilnahmen","Mittelwert\nges. Ergebnis",null,"Bestes\nErgebnis",null,"Beste\nEinzelserie","Teilnahmen","Mittelwert\nges. Ergebnis",null,"Bestes\nErgebnis",null,"Beste\nEinzelserie","Teilnahmen","Mittelwert\nges. Ergebnis",null,"Bestes\nErgebnis",null,"Beste\nEinzelserie","Teilnahmen","Mittelwert\nges. Ergebnis",null,"Bestes\nErgebnis",null,"Beste\nEinzelserie","Teilnahmen","Mittelwert\nges. Ergebnis",null,"Bestes\nErgebnis",null,"Beste\nEinzelserie","Teilnahmen","Mittelwert\nges. Ergebnis",null,"Bestes\nErgebnis",null,"Beste\nEinzelserie","Teilnahmen","Mittelwert\nges. Ergebnis",null,"Bestes\nErgebnis",null,"Beste\nEinzelserie","Teilnahmen","Mittelwert\nges. Ergebnis",null,"Bestes\nErgebnis",null,"Beste\nEinzelserie","Teilnahmen","Mittelwert\nges. Ergebnis",null,"Bestes\nErgebnis",null,"Beste\nEinzelserie","Teilnahmen","Mittelwert\nges. Ergebnis",null,"Bestes\nErgebnis",null,"Beste\nEinzelserie","Teilnahmen","Mittelwert\nges. Ergebnis",null,"Bestes\nErgebnis",null,"Beste\nEinzelserie","Teilnahmen","Mittelwert\nges. Ergebnis",null,"Bestes\nErgebnis",null,"Beste\nEinzelserie","Teilnahmen","Mittelwert\nges. Ergebnis",null,"Bestes\nErgebnis",null,"Beste\nEinzelserie","Teilnahmen","Mittelwert\nges. Ergebnis",null,"Bestes\nErgebnis",null,"Beste\nEinzelserie","Teilnahmen","Mittelwert\nges. Ergebnis",null,"Bestes\nErgebnis",null,"Beste\nEinzelserie","Teilnahmen","Mittelwert\nges. Ergebnis",null,"Bestes\nErgebnis",null,"Beste\nEinzelserie","Teilnahmen","Mittelwert\nges. Ergebnis",null,"Bestes\nErgebnis",null,"Beste\nEinzelserie","Teilnahmen","Mittelwert\nges. Ergebnis",null,"Bestes\nErgebnis",null,"Beste\nEinzelserie","Teilnahmen","Mittelwert\nges. Ergebnis",null,"Bestes\nErgebnis",null,"Beste\nEinzelserie","Teilnahmen","Mittelwert\nges. Ergebnis",null,"Bestes\nErgebnis",null,"Beste\nEinzelserie","Teilnahmen","Mittelwert\nges. Ergebnis",null,"Bestes\nErgebnis",null,"Beste\nEinzelserie","Teilnahmen","Mittelwert\nges. Ergebnis",null,"Bestes\nErgebnis",null,"Beste\nEinzelserie","Teilnahmen","Mittelwert\nges. Ergebnis",null,"Bestes\nErgebnis",null,"Beste\nEinzelserie","Teilnahmen","Mittelwert\nges. Ergebnis",null,"Bestes\nErgebnis",null,"Beste\nEinzelserie","Teilnahmen","Mittelwert\nges. Ergebnis",null,"Bestes\nErgebnis",null,"Beste\nEinzelserie","Teilnahmen","Mittelwert\nges. Ergebnis",null,"Bestes\nErgebnis",null,"Beste\nEinzelserie","Teilnahmen","Mittelwert\nges. Ergebnis",null,"Bestes\nErgebnis",null,"Beste\nEinzelserie","Teilnahmen","Mittelwert\nges. Ergebnis",null,"Bestes\nErgebnis",null,"Beste\nEinzelserie","Teilnahmen","Mittelwert\nges. Ergebnis"]
[{"$f":"IF(A9=\"\",\"\",MAX(F9:F117))","v":0},null,{"$f":"IF(A9=\"\",\"\",MAX(B9:E117))","v":0},{"$f":"IF(A9=\"\",\"\",COUNT(A9:A117))","v":1},{"$f":"IF(A9=\"\",\"\",AVERAGE(F9:F117))","v":0},null,{"$f":"IF(G9=\"\",\"\",MAX(L9:L117))","v":""},null,{"$f":"IF(G9=\"\",\"\",MAX(H9:K117))","v":""},{"$f":"IF(G9=\"\",\"\",COUNT(G9:G117))","v":""},{"$f":"IF(G9=\"\",\"\",AVERAGE(L9:L117))","v":""},null,{"$f":"IF(M9=\"\",\"\",MAX(R9:R117))","v":""},null,{"$f":"IF(M9=\"\",\"\",MAX(N9:Q117))","v":""},{"$f":"IF(M9=\"\",\"\",COUNT(M9:M117))","v":""},{"$f":"IF(M9=\"\",\"\",AVERAGE(R9:R117))","v":""},null,{"$f":"IF(S9=\"\",\"\",MAX(X9:X117))","v":""},null,{"$f":"IF(S9=\"\",\"\",MAX(T9:W117))","v":""},{"$f":"IF(S9=\"\",\"\",COUNT(S9:S117))","v":""},{"$f":"IF(S9=\"\",\"\",AVERAGE(X9:X117))","v":""},null,{"$f":"IF(Y9=\"\",\"\",MAX(AD9:AD117))","v":""},null,{"$f":"IF(Y9=\"\",\"\",MAX(Z9:AC117))","v":""},{"$f":"IF(Y9=\"\",\"\",COUNT(Y9:Y117))","v":""},{"$f":"IF(Y9=\"\",\"\",AVERAGE(AD9:AD117))","v":""},null,{"$f":"IF(AE9=\"\",\"\",MAX(AJ9:AJ117))","v":""},null,{"$f":"IF(AE9=\"\",\"\",MAX(AF9:AI117))","v":""},{"$f":"IF(AE9=\"\",\"\",COUNT(AE9:AE117))","v":""},{"$f":"IF(AE9=\"\",\"\",AVERAGE(AJ9:AJ117))","v":""},null,{"$f":"IF(AK9=\"\",\"\",MAX(AP9:AP117))","v":""},null,{"$f":"IF(AK9=\"\",\"\",MAX(AL9:AO117))","v":""},{"$f":"IF(AK9=\"\",\"\",COUNT(AK9:AK117))","v":""},{"$f":"IF(AK9=\"\",\"\",AVERAGE(AP9:AP117))","v":""},null,{"$f":"IF(AQ9=\"\",\"\",MAX(AV9:AV117))","v":""},null,{"$f":"IF(AQ9=\"\",\"\",MAX(AR9:AU117))","v":""},{"$f":"IF(AQ9=\"\",\"\",COUNT(AQ9:AQ117))","v":""},{"$f":"IF(AQ9=\"\",\"\",AVERAGE(AV9:AV117))","v":""},null,{"$f":"IF(AW9=\"\",\"\",MAX(BB9:BB117))","v":""},null,{"$f":"IF(AW9=\"\",\"\",MAX(AX9:BA117))","v":""},{"$f":"IF(AW9=\"\",\"\",COUNT(AW9:AW117))","v":""},{"$f":"IF(AW9=\"\",\"\",AVERAGE(BB9:BB117))","v":""},null,{"$f":"IF(BC9=\"\",\"\",MAX(BH9:BH117))","v":""},null,{"$f":"IF(BC9=\"\",\"\",MAX(BD9:BG117))","v":""},{"$f":"IF(BC9=\"\",\"\",COUNT(BC9:BC117))","v":""},{"$f":"IF(BC9=\"\",\"\",AVERAGE(BH9:BH117))","v":""},null,{"$f":"IF(BI9=\"\",\"\",MAX(BN9:BN117))","v":""},null,{"$f":"IF(BI9=\"\",\"\",MAX(BJ9:BM117))","v":""},{"$f":"IF(BI9=\"\",\"\",COUNT(BI9:BI117))","v":""},{"$f":"IF(BI9=\"\",\"\",AVERAGE(BN9:BN117))","v":""},null,{"$f":"IF(BO9=\"\",\"\",MAX(BT9:BT117))","v":""},null,{"$f":"IF(BO9=\"\",\"\",MAX(BP9:BS117))","v":""},{"$f":"IF(BO9=\"\",\"\",COUNT(BO9:BO117))","v":""},{"$f":"IF(BO9=\"\",\"\",AVERAGE(BT9:BT117))","v":""},null,{"$f":"IF(BU9=\"\",\"\",MAX(BZ9:BZ117))","v":""},null,{"$f":"IF(BU9=\"\",\"\",MAX(BV9:BY117))","v":""},{"$f":"IF(BU9=\"\",\"\",COUNT(BU9:BU117))","v":""},{"$f":"IF(BU9=\"\",\"\",AVERAGE(BZ9:BZ117))","v":""},null,{"$f":"IF(CA9=\"\",\"\",MAX(CF9:CF117))","v":""},null,{"$f":"IF(CA9=\"\",\"\",MAX(CB9:CE117))","v":""},{"$f":"IF(CA9=\"\",\"\",COUNT(CA9:CA117))","v":""},{"$f":"IF(CA9=\"\",\"\",AVERAGE(CF9:CF117))","v":""},null,{"$f":"IF(CG9=\"\",\"\",MAX(CL9:CL117))","v":""},null,{"$f":"IF(CG9=\"\",\"\",MAX(CH9:CK117))","v":""},{"$f":"IF(CG9=\"\",\"\",COUNT(CG9:CG117))","v":""},{"$f":"IF(CG9=\"\",\"\",AVERAGE(CL9:CL117))","v":""},null,{"$f":"IF(CM9=\"\",\"\",MAX(CR9:CR117))","v":""},null,{"$f":"IF(CM9=\"\",\"\",MAX(CN9:CQ117))","v":""},{"$f":"IF(CM9=\"\",\"\",COUNT(CM9:CM117))","v":""},{"$f":"IF(CM9=\"\",\"\",AVERAGE(CR9:CR117))","v":""},null,{"$f":"IF(CS9=\"\",\"\",MAX(CX9:CX117))","v":""},null,{"$f":"IF(CS9=\"\",\"\",MAX(CT9:CW117))","v":""},{"$f":"IF(CS9=\"\",\"\",COUNT(CS9:CS117))","v":""},{"$f":"IF(CS9=\"\",\"\",AVERAGE(CX9:CX117))","v":""},null,{"$f":"IF(CY9=\"\",\"\",MAX(DD9:DD117))","v":""},null,{"$f":"IF(CY9=\"\",\"\",MAX(CZ9:DC117))","v":""},{"$f":"IF(CY9=\"\",\"\",COUNT(CY9:CY117))","v":""},{"$f":"IF(CY9=\"\",\"\",AVERAGE(DD9:DD117))","v":""},null,{"$f":"IF(DE9=\"\",\"\",MAX(DJ9:DJ117))","v":""},null,{"$f":"IF(DE9=\"\",\"\",MAX(DF9:DI117))","v":""},{"$f":"IF(DE9=\"\",\"\",COUNT(DE9:DE117))","v":""},{"$f":"IF(DE9=\"\",\"\",AVERAGE(DJ9:DJ117))","v":""},null,{"$f":"IF(DK9=\"\",\"\",MAX(DP9:DP117))","v":""},null,{"$f":"IF(DK9=\"\",\"\",MAX(DL9:DO117))","v":""},{"$f":"IF(DK9=\"\",\"\",COUNT(DK9:DK117))","v":""},{"$f":"IF(DK9=\"\",\"\",AVERAGE(DP9:DP117))","v":""},null,{"$f":"IF(DQ9=\"\",\"\",MAX(DV9:DV117))","v":""},null,{"$f":"IF(DQ9=\"\",\"\",MAX(DR9:DU117))","v":""},{"$f":"IF(DQ9=\"\",\"\",COUNT(DQ9:DQ117))","v":""},{"$f":"IF(DQ9=\"\",\"\",AVERAGE(DV9:DV117))","v":""},null,{"$f":"IF(DW9=\"\",\"\",MAX(EB9:EB117))","v":""},null,{"$f":"IF(DW9=\"\",\"\",MAX(DX9:EA117))","v":""},{"$f":"IF(DW9=\"\",\"\",COUNT(DW9:DW117))","v":""},{"$f":"IF(DW9=\"\",\"\",AVERAGE(EB9:EB117))","v":""},null,{"$f":"IF(EC9=\"\",\"\",MAX(EH9:EH117))","v":""},null,{"$f":"IF(EC9=\"\",\"\",MAX(ED9:EG117))","v":""},{"$f":"IF(EC9=\"\",\"\",COUNT(EC9:EC117))","v":""},{"$f":"IF(EC9=\"\",\"\",AVERAGE(EH9:EH117))","v":""},null,{"$f":"IF(EI9=\"\",\"\",MAX(EN9:EN117))","v":""},null,{"$f":"IF(EI9=\"\",\"\",MAX(EJ9:EM117))","v":""},{"$f":"IF(EI9=\"\",\"\",COUNT(EI9:EI117))","v":""},{"$f":"IF(EI9=\"\",\"\",AVERAGE(EN9:EN117))","v":""},null,{"$f":"IF(EO9=\"\",\"\",MAX(ET9:ET117))","v":""},null,{"$f":"IF(EO9=\"\",\"\",MAX(EP9:ES117))","v":""},{"$f":"IF(EO9=\"\",\"\",COUNT(EO9:EO117))","v":""},{"$f":"IF(EO9=\"\",\"\",AVERAGE(ET9:ET117))","v":""},null,{"$f":"IF(EU9=\"\",\"\",MAX(EZ9:EZ117))","v":""},null,{"$f":"IF(EU9=\"\",\"\",MAX(EV9:EY117))","v":""},{"$f":"IF(EU9=\"\",\"\",COUNT(EU9:EU117))","v":""},{"$f":"IF(EU9=\"\",\"\",AVERAGE(EZ9:EZ117))","v":""},null,{"$f":"IF(FA9=\"\",\"\",MAX(FF9:FF117))","v":""},null,{"$f":"IF(FA9=\"\",\"\",MAX(FB9:FE117))","v":""},{"$f":"IF(FA9=\"\",\"\",COUNT(FA9:FA117))","v":""},{"$f":"IF(FA9=\"\",\"\",AVERAGE(FF9:FF117))","v":""},null,{"$f":"IF(FG9=\"\",\"\",MAX(FL9:FL117))","v":""},null,{"$f":"IF(FG9=\"\",\"\",MAX(FH9:FK117))","v":""},{"$f":"IF(FG9=\"\",\"\",COUNT(FG9:FG117))","v":""},{"$f":"IF(FG9=\"\",\"\",AVERAGE(FL9:FL117))","v":""},null,{"$f":"IF(FM9=\"\",\"\",MAX(FR9:FR117))","v":""},null,{"$f":"IF(FM9=\"\",\"\",MAX(FN9:FQ117))","v":""},{"$f":"IF(FM9=\"\",\"\",COUNT(FM9:FM117))","v":""},{"$f":"IF(FM9=\"\",\"\",AVERAGE(FR9:FR117))","v":""},null,{"$f":"IF(FS9=\"\",\"\",MAX(FX9:FX117))","v":""},null,{"$f":"IF(FS9=\"\",\"\",MAX(FT9:FW117))","v":""},{"$f":"IF(FS9=\"\",\"\",COUNT(FS9:FS117))","v":""},{"$f":"IF(FS9=\"\",\"\",AVERAGE(FX9:FX117))","v":""},null,{"$f":"IF(FY9=\"\",\"\",MAX(GD9:GD117))","v":""},null,{"$f":"IF(FY9=\"\",\"\",MAX(FZ9:GC117))","v":""},{"$f":"IF(FY9=\"\",\"\",COUNT(FY9:FY117))","v":""},{"$f":"IF(FY9=\"\",\"\",AVERAGE(GD9:GD117))","v":""},null,{"$f":"IF(GE9=\"\",\"\",MAX(GJ9:GJ117))","v":""},null,{"$f":"IF(GE9=\"\",\"\",MAX(GF9:GI117))","v":""},{"$f":"IF(GE9=\"\",\"\",COUNT(GE9:GE117))","v":""},{"$f":"IF(GE9=\"\",\"\",AVERAGE(GJ9:GJ117))","v":""},null,{"$f":"IF(GK9=\"\",\"\",MAX(GP9:GP117))","v":""},null,{"$f":"IF(GK9=\"\",\"\",MAX(GL9:GO117))","v":""},{"$f":"IF(GK9=\"\",\"\",COUNT(GK9:GK117))","v":""},{"$f":"IF(GK9=\"\",\"\",AVERAGE(GP9:GP117))","v":""},null,{"$f":"IF(GQ9=\"\",\"\",MAX(GV9:GV117))","v":""},null,{"$f":"IF(GQ9=\"\",\"\",MAX(GR9:GU117))","v":""},{"$f":"IF(GQ9=\"\",\"\",COUNT(GQ9:GQ117))","v":""},{"$f":"IF(GQ9=\"\",\"\",AVERAGE(GV9:GV117))","v":""},null,{"$f":"IF(GW9=\"\",\"\",MAX(HB9:HB117))","v":""},null,{"$f":"IF(GW9=\"\",\"\",MAX(GX9:HA117))","v":""},{"$f":"IF(GW9=\"\",\"\",COUNT(GW9:GW117))","v":""},{"$f":"IF(GW9=\"\",\"\",AVERAGE(HB9:HB117))","v":""},null,{"$f":"IF(HC9=\"\",\"\",MAX(HH9:HH117))","v":""},null,{"$f":"IF(HC9=\"\",\"\",MAX(HD9:HG117))","v":""},{"$f":"IF(HC9=\"\",\"\",COUNT(HC9:HC117))","v":""},{"$f":"IF(HC9=\"\",\"\",AVERAGE(HH9:HH117))","v":""},null,{"$f":"IF(HI9=\"\",\"\",MAX(HN9:HN117))","v":""},null,{"$f":"IF(HI9=\"\",\"\",MAX(HJ9:HM117))","v":""},{"$f":"IF(HI9=\"\",\"\",COUNT(HI9:HI117))","v":""},{"$f":"IF(HI9=\"\",\"\",AVERAGE(HN9:HN117))","v":""},null,{"$f":"IF(HO9=\"\",\"\",MAX(HT9:HT117))","v":""},null,{"$f":"IF(HO9=\"\",\"\",MAX(HP9:HS117))","v":""},{"$f":"IF(HO9=\"\",\"\",COUNT(HO9:HO117))","v":""},{"$f":"IF(HO9=\"\",\"\",AVERAGE(HT9:HT117))","v":""},null,{"$f":"IF(HU9=\"\",\"\",MAX(HZ9:HZ117))","v":""},null,{"$f":"IF(HU9=\"\",\"\",MAX(HV9:HY117))","v":""},{"$f":"IF(HU9=\"\",\"\",COUNT(HU9:HU117))","v":""},{"$f":"IF(HU9=\"\",\"\",AVERAGE(HZ9:HZ117))","v":""},null,{"$f":"IF(IA9=\"\",\"\",MAX(IF9:IF117))","v":""},null,{"$f":"IF(IA9=\"\",\"\",MAX(IB9:IE117))","v":""},{"$f":"IF(IA9=\"\",\"\",COUNT(IA9:IA117))","v":""},{"$f":"IF(IA9=\"\",\"\",AVERAGE(IF9:IF117))","v":""}]
["Schlechtestes\nErgebnis",null,"Schlechteste\nEinzelserie",null,"Ø Einzelschuss aus \nbester Einzelserie",null,"Schlechtestes\nErgebnis",null,"Schlechteste\nEinzelserie",null,"Ø Einzelschuss aus \nbester Einzelserie",null,"Schlechtestes\nErgebnis",null,"Schlechteste\nEinzelserie",null,"Ø Einzelschuss aus \nbester Einzelserie",null,"Schlechtestes\nErgebnis",null,"Schlechteste\nEinzelserie",null,"Ø Einzelschuss aus \nbester Einzelserie",null,"Schlechtestes\nErgebnis",null,"Schlechteste\nEinzelserie",null,"Ø Einzelschuss aus \nbester Einzelserie",null,"Schlechtestes\nErgebnis",null,"Schlechteste\nEinzelserie",null,"Ø Einzelschuss aus \nbester Einzelserie",null,"Schlechtestes\nErgebnis",null,"Schlechteste\nEinzelserie",null,"Ø Einzelschuss aus \nbester Einzelserie",null,"Schlechtestes\nErgebnis",null,"Schlechteste\nEinzelserie",null,"Ø Einzelschuss aus \nbester Einzelserie",null,"Schlechtestes\nErgebnis",null,"Schlechteste\nEinzelserie",null,"Ø Einzelschuss aus \nbester Einzelserie",null,"Schlechtestes\nErgebnis",null,"Schlechteste\nEinzelserie",null,"Ø Einzelschuss aus \nbester Einzelserie",null,"Schlechtestes\nErgebnis",null,"Schlechteste\nEinzelserie",null,"Ø Einzelschuss aus \nbester Einzelserie",null,"Schlechtestes\nErgebnis",null,"Schlechteste\nEinzelserie",null,"Ø Einzelschuss aus \nbester Einzelserie",null,"Schlechtestes\nErgebnis",null,"Schlechteste\nEinzelserie",null,"Ø Einzelschuss aus \nbester Einzelserie",null,"Schlechtestes\nErgebnis",null,"Schlechteste\nEinzelserie",null,"Ø Einzelschuss aus \nbester Einzelserie",null,"Schlechtestes\nErgebnis",null,"Schlechteste\nEinzelserie",null,"Ø Einzelschuss aus \nbester Einzelserie",null,"Schlechtestes\nErgebnis",null,"Schlechteste\nEinzelserie",null,"Ø Einzelschuss aus \nbester Einzelserie",null,"Schlechtestes\nErgebnis",null,"Schlechteste\nEinzelserie",null,"Ø Einzelschuss aus \nbester Einzelserie",null,"Schlechtestes\nErgebnis",null,"Schlechteste\nEinzelserie",null,"Ø Einzelschuss aus \nbester Einzelserie",null,"Schlechtestes\nErgebnis",null,"Schlechteste\nEinzelserie",null,"Ø Einzelschuss aus \nbester Einzelserie",null,"Schlechtestes\nErgebnis",null,"Schlechteste\nEinzelserie",null,"Ø Einzelschuss aus \nbester Einzelserie",null,"Schlechtestes\nErgebnis",null,"Schlechteste\nEinzelserie",null,"Ø Einzelschuss aus \nbester Einzelserie",null,"Schlechtestes\nErgebnis",null,"Schlechteste\nEinzelserie",null,"Ø Einzelschuss aus \nbester Einzelserie",null,"Schlechtestes\nErgebnis",null,"Schlechteste\nEinzelserie",null,"Ø Einzelschuss aus \nbester Einzelserie",null,"Schlechtestes\nErgebnis",null,"Schlechteste\nEinzelserie",null,"Ø Einzelschuss aus \nbester Einzelserie",null,"Schlechtestes\nErgebnis",null,"Schlechteste\nEinzelserie",null,"Ø Einzelschuss aus \nbester Einzelserie",null,"Schlechtestes\nErgebnis",null,"Schlechteste\nEinzelserie",null,"Ø Einzelschuss aus \nbester Einzelserie",null,"Schlechtestes\nErgebnis",null,"Schlechteste\nEinzelserie",null,"Ø Einzelschuss aus \nbester Einzelserie",null,"Schlechtestes\nErgebnis",null,"Schlechteste\nEinzelserie",null,"Ø Einzelschuss aus \nbester Einzelserie",null,"Schlechtestes\nErgebnis",null,"Schlechteste\nEinzelserie",null,"Ø Einzelschuss aus \nbester Einzelserie",null,"Schlechtestes\nErgebnis",null,"Schlechteste\nEinzelserie",null,"Ø Einzelschuss aus \nbester Einzelserie",null,"Schlechtestes\nErgebnis",null,"Schlechteste\nEinzelserie",null,"Ø Einzelschuss aus \nbester Einzelserie",null,"Schlechtestes\nErgebnis",null,"Schlechteste\nEinzelserie",null,"Ø Einzelschuss aus \nbester Einzelserie",null,"Schlechtestes\nErgebnis",null,"Schlechteste\nEinzelserie",null,"Ø Einzelschuss aus \nbester Einzelserie",null,"Schlechtestes\nErgebnis",null,"Schlechteste\nEinzelserie",null,"Ø Einzelschuss aus \nbester Einzelserie",null,"Schlechtestes\nErgebnis",null,"Schlechteste\nEinzelserie",null,"Ø Einzelschuss aus \nbester Einzelserie",null,"Schlechtestes\nErgebnis",null,"Schlechteste\nEinzelserie",null,"Ø Einzelschuss aus \nbester Einzelserie",null,"Schlechtestes\nErgebnis",null,"Schlechteste\nEinzelserie",null,"Ø Einzelschuss aus \nbester Einzelserie",null,"Schlechtestes\nErgebnis",null,"Schlechteste\nEinzelserie",null,"Ø Einzelschuss aus \nbester Einzelserie",null,"Schlechtestes\nErgebnis",null,"Schlechteste\nEinzelserie",null,"Ø Einzelschuss aus \nbester Einzelserie",null,"Schlechtestes\nErgebnis",null,"Schlechteste\nEinzelserie",null,"Ø Einzelschuss aus \nbester Einzelserie"]
[{"$f":"IF(A9=\"\",\"\",MIN(F9:F117))","v":0},null,{"$f":"IF(A9=\"\",\"\",MIN(B9:E117))","v":0},null,{"$f":"IF(A9=\"\",\"\",MAX(B9:E117)/Hauptmaske!$H$5)","v":0},{"$f":"IF(A9=\"\",\"\",MIN(B9:E117)/Hauptmaske!$H$5)","v":0},{"$f":"IF(G9=\"\",\"\",MIN(L9:L117))","v":""},null,{"$f":"IF(G9=\"\",\"\",MIN(H9:K117))","v":""},null,{"$f":"IF(G9=\"\",\"\",MAX(H9:K117)/Hauptmaske!$H$5)","v":""},{"$f":"IF(G9=\"\",\"\",MIN(H9:K117)/Hauptmaske!$H$5)","v":""},{"$f":"IF(M9=\"\",\"\",MIN(R9:R117))","v":""},null,{"$f":"IF(M9=\"\",\"\",MIN(N9:Q117))","v":""},null,{"$f":"IF(M9=\"\",\"\",MAX(N9:Q117)/Hauptmaske!$H$5)","v":""},{"$f":"IF(M9=\"\",\"\",MIN(N9:Q117)/Hauptmaske!$H$5)","v":""},{"$f":"IF(S9=\"\",\"\",MIN(X9:X117))","v":""},null,{"$f":"IF(S9=\"\",\"\",MIN(T9:W117))","v":""},null,{"$f":"IF(S9=\"\",\"\",MAX(T9:W117)/Hauptmaske!$H$5)","v":""},{"$f":"IF(S9=\"\",\"\",MIN(T9:W117)/Hauptmaske!$H$5)","v":""},{"$f":"IF(Y9=\"\",\"\",MIN(AD9:AD117))","v":""},null,{"$f":"IF(Y9=\"\",\"\",MIN(Z9:AC117))","v":""},null,{"$f":"IF(Y9=\"\",\"\",MAX(Z9:AC117)/Hauptmaske!$H$5)","v":""},{"$f":"IF(Y9=\"\",\"\",MIN(Z9:AC117)/Hauptmaske!$H$5)","v":""},{"$f":"IF(AE9=\"\",\"\",MIN(AJ9:AJ117))","v":""},null,{"$f":"IF(AE9=\"\",\"\",MIN(AF9:AI117))","v":""},null,{"$f":"IF(AE9=\"\",\"\",MAX(AF9:AI117)/Hauptmaske!$H$5)","v":""},{"$f":"IF(AE9=\"\",\"\",MIN(AF9:AI117)/Hauptmaske!$H$5)","v":""},{"$f":"IF(AK9=\"\",\"\",MIN(AP9:AP117))","v":""},null,{"$f":"IF(AK9=\"\",\"\",MIN(AL9:AO117))","v":""},null,{"$f":"IF(AK9=\"\",\"\",MAX(AL9:AO117)/Hauptmaske!$H$5)","v":""},{"$f":"IF(AK9=\"\",\"\",MIN(AL9:AO117)/Hauptmaske!$H$5)","v":""},{"$f":"IF(AQ9=\"\",\"\",MIN(AV9:AV117))","v":""},null,{"$f":"IF(AQ9=\"\",\"\",MIN(AR9:AU117))","v":""},null,{"$f":"IF(AQ9=\"\",\"\",MAX(AR9:AU117)/Hauptmaske!$H$5)","v":""},{"$f":"IF(AQ9=\"\",\"\",MIN(AR9:AU117)/Hauptmaske!$H$5)","v":""},{"$f":"IF(AW9=\"\",\"\",MIN(BB9:BB117))","v":""},null,{"$f":"IF(AW9=\"\",\"\",MIN(AX9:BA117))","v":""},null,{"$f":"IF(AW9=\"\",\"\",MAX(AX9:BA117)/Hauptmaske!$H$5)","v":""},{"$f":"IF(AW9=\"\",\"\",MIN(AX9:BA117)/Hauptmaske!$H$5)","v":""},{"$f":"IF(BC9=\"\",\"\",MIN(BH9:BH117))","v":""},null,{"$f":"IF(BC9=\"\",\"\",MIN(BD9:BG117))","v":""},null,{"$f":"IF(BC9=\"\",\"\",MAX(BD9:BG117)/Hauptmaske!$H$5)","v":""},{"$f":"IF(BC9=\"\",\"\",MIN(BD9:BG117)/Hauptmaske!$H$5)","v":""},{"$f":"IF(BI9=\"\",\"\",MIN(BN9:BN117))","v":""},null,{"$f":"IF(BI9=\"\",\"\",MIN(BJ9:BM117))","v":""},null,{"$f":"IF(BI9=\"\",\"\",MAX(BJ9:BM117)/Hauptmaske!$H$5)","v":""},{"$f":"IF(BI9=\"\",\"\",MIN(BJ9:BM117)/Hauptmaske!$H$5)","v":""},{"$f":"IF(BO9=\"\",\"\",MIN(BT9:BT117))","v":""},null,{"$f":"IF(BO9=\"\",\"\",MIN(BP9:BS117))","v":""},null,{"$f":"IF(BO9=\"\",\"\",MAX(BP9:BS117)/Hauptmaske!$H$5)","v":""},{"$f":"IF(BO9=\"\",\"\",MIN(BP9:BS117)/Hauptmaske!$H$5)","v":""},{"$f":"IF(BU9=\"\",\"\",MIN(BZ9:BZ117))","v":""},null,{"$f":"IF(BU9=\"\",\"\",MIN(BV9:BY117))","v":""},null,{"$f":"IF(BU9=\"\",\"\",MAX(BV9:BY117)/Hauptmaske!$H$5)","v":""},{"$f":"IF(BU9=\"\",\"\",MIN(BV9:BY117)/Hauptmaske!$H$5)","v":""},{"$f":"IF(CA9=\"\",\"\",MIN(CF9:CF117))","v":""},null,{"$f":"IF(CA9=\"\",\"\",MIN(CB9:CE117))","v":""},null,{"$f":"IF(CA9=\"\",\"\",MAX(CB9:CE117)/Hauptmaske!$H$5)","v":""},{"$f":"IF(CA9=\"\",\"\",MIN(CB9:CE117)/Hauptmaske!$H$5)","v":""},{"$f":"IF(CG9=\"\",\"\",MIN(CL9:CL117))","v":""},null,{"$f":"IF(CG9=\"\",\"\",MIN(CH9:CK117))","v":""},null,{"$f":"IF(CG9=\"\",\"\",MAX(CH9:CK117)/Hauptmaske!$H$5)","v":""},{"$f":"IF(CG9=\"\",\"\",MIN(CH9:CK117)/Hauptmaske!$H$5)","v":""},{"$f":"IF(CM9=\"\",\"\",MIN(CR9:CR117))","v":""},null,{"$f":"IF(CM9=\"\",\"\",MIN(CN9:CQ117))","v":""},null,{"$f":"IF(CM9=\"\",\"\",MAX(CN9:CQ117)/Hauptmaske!$H$5)","v":""},{"$f":"IF(CM9=\"\",\"\",MIN(CN9:CQ117)/Hauptmaske!$H$5)","v":""},{"$f":"IF(CS9=\"\",\"\",MIN(CX9:CX117))","v":""},null,{"$f":"IF(CS9=\"\",\"\",MIN(CT9:CW117))","v":""},null,{"$f":"IF(CS9=\"\",\"\",MAX(CT9:CW117)/Hauptmaske!$H$5)","v":""},{"$f":"IF(CS9=\"\",\"\",MIN(CT9:CW117)/Hauptmaske!$H$5)","v":""},{"$f":"IF(CY9=\"\",\"\",MIN(DD9:DD117))","v":""},null,{"$f":"IF(CY9=\"\",\"\",MIN(CZ9:DC117))","v":""},null,{"$f":"IF(CY9=\"\",\"\",MAX(CZ9:DC117)/Hauptmaske!$H$5)","v":""},{"$f":"IF(CY9=\"\",\"\",MIN(CZ9:DC117)/Hauptmaske!$H$5)","v":""},{"$f":"IF(DE9=\"\",\"\",MIN(DJ9:DJ117))","v":""},null,{"$f":"IF(DE9=\"\",\"\",MIN(DF9:DI117))","v":""},null,{"$f":"IF(DE9=\"\",\"\",MAX(DF9:DI117)/Hauptmaske!$H$5)","v":""},{"$f":"IF(DE9=\"\",\"\",MIN(DF9:DI117)/Hauptmaske!$H$5)","v":""},{"$f":"IF(DK9=\"\",\"\",MIN(DP9:DP117))","v":""},null,{"$f":"IF(DK9=\"\",\"\",MIN(DL9:DO117))","v":""},null,{"$f":"IF(DK9=\"\",\"\",MAX(DL9:DO117)/Hauptmaske!$H$5)","v":""},{"$f":"IF(DK9=\"\",\"\",MIN(DL9:DO117)/Hauptmaske!$H$5)","v":""},{"$f":"IF(DQ9=\"\",\"\",MIN(DV9:DV117))","v":""},null,{"$f":"IF(DQ9=\"\",\"\",MIN(DR9:DU117))","v":""},null,{"$f":"IF(DQ9=\"\",\"\",MAX(DR9:DU117)/Hauptmaske!$H$5)","v":""},{"$f":"IF(DQ9=\"\",\"\",MIN(DR9:DU117)/Hauptmaske!$H$5)","v":""},{"$f":"IF(DW9=\"\",\"\",MIN(EB9:EB117))","v":""},null,{"$f":"IF(DW9=\"\",\"\",MIN(DX9:EA117))","v":""},null,{"$f":"IF(DW9=\"\",\"\",MAX(DX9:EA117)/Hauptmaske!$H$5)","v":""},{"$f":"IF(DW9=\"\",\"\",MIN(DX9:EA117)/Hauptmaske!$H$5)","v":""},{"$f":"IF(EC9=\"\",\"\",MIN(EH9:EH117))","v":""},null,{"$f":"IF(EC9=\"\",\"\",MIN(ED9:EG117))","v":""},null,{"$f":"IF(EC9=\"\",\"\",MAX(ED9:EG117)/Hauptmaske!$H$5)","v":""},{"$f":"IF(EC9=\"\",\"\",MIN(ED9:EG117)/Hauptmaske!$H$5)","v":""},{"$f":"IF(EI9=\"\",\"\",MIN(EN9:EN117))","v":""},null,{"$f":"IF(EI9=\"\",\"\",MIN(EJ9:EM117))","v":""},null,{"$f":"IF(EI9=\"\",\"\",MAX(EJ9:EM117)/Hauptmaske!$H$5)","v":""},{"$f":"IF(EI9=\"\",\"\",MIN(EJ9:EM117)/Hauptmaske!$H$5)","v":""},{"$f":"IF(EO9=\"\",\"\",MIN(ET9:ET117))","v":""},null,{"$f":"IF(EO9=\"\",\"\",MIN(EP9:ES117))","v":""},null,{"$f":"IF(EO9=\"\",\"\",MAX(EP9:ES117)/Hauptmaske!$H$5)","v":""},{"$f":"IF(EO9=\"\",\"\",MIN(EP9:ES117)/Hauptmaske!$H$5)","v":""},{"$f":"IF(EU9=\"\",\"\",MIN(EZ9:EZ117))","v":""},null,{"$f":"IF(EU9=\"\",\"\",MIN(EV9:EY117))","v":""},null,{"$f":"IF(EU9=\"\",\"\",MAX(EV9:EY117)/Hauptmaske!$H$5)","v":""},{"$f":"IF(EU9=\"\",\"\",MIN(EV9:EY117)/Hauptmaske!$H$5)","v":""},{"$f":"IF(FA9=\"\",\"\",MIN(FF9:FF117))","v":""},null,{"$f":"IF(FA9=\"\",\"\",MIN(FB9:FE117))","v":""},null,{"$f":"IF(FA9=\"\",\"\",MAX(FB9:FE117)/Hauptmaske!$H$5)","v":""},{"$f":"IF(FA9=\"\",\"\",MIN(FB9:FE117)/Hauptmaske!$H$5)","v":""},{"$f":"IF(FG9=\"\",\"\",MIN(FL9:FL117))","v":""},null,{"$f":"IF(FG9=\"\",\"\",MIN(FH9:FK117))","v":""},null,{"$f":"IF(FG9=\"\",\"\",MAX(FH9:FK117)/Hauptmaske!$H$5)","v":""},{"$f":"IF(FG9=\"\",\"\",MIN(FH9:FK117)/Hauptmaske!$H$5)","v":""},{"$f":"IF(FM9=\"\",\"\",MIN(FR9:FR117))","v":""},null,{"$f":"IF(FM9=\"\",\"\",MIN(FN9:FQ117))","v":""},null,{"$f":"IF(FM9=\"\",\"\",MAX(FN9:FQ117)/Hauptmaske!$H$5)","v":""},{"$f":"IF(FM9=\"\",\"\",MIN(FN9:FQ117)/Hauptmaske!$H$5)","v":""},{"$f":"IF(FS9=\"\",\"\",MIN(FX9:FX117))","v":""},null,{"$f":"IF(FS9=\"\",\"\",MIN(FT9:FW117))","v":""},null,{"$f":"IF(FS9=\"\",\"\",MAX(FT9:FW117)/Hauptmaske!$H$5)","v":""},{"$f":"IF(FS9=\"\",\"\",MIN(FT9:FW117)/Hauptmaske!$H$5)","v":""},{"$f":"IF(FY9=\"\",\"\",MIN(GD9:GD117))","v":""},null,{"$f":"IF(FY9=\"\",\"\",MIN(FZ9:GC117))","v":""},null,{"$f":"IF(FY9=\"\",\"\",MAX(FZ9:GC117)/Hauptmaske!$H$5)","v":""},{"$f":"IF(FY9=\"\",\"\",MIN(FZ9:GC117)/Hauptmaske!$H$5)","v":""},{"$f":"IF(GE9=\"\",\"\",MIN(GJ9:GJ117))","v":""},null,{"$f":"IF(GE9=\"\",\"\",MIN(GF9:GI117))","v":""},null,{"$f":"IF(GE9=\"\",\"\",MAX(GF9:GI117)/Hauptmaske!$H$5)","v":""},{"$f":"IF(GE9=\"\",\"\",MIN(GF9:GI117)/Hauptmaske!$H$5)","v":""},{"$f":"IF(GK9=\"\",\"\",MIN(GP9:GP117))","v":""},null,{"$f":"IF(GK9=\"\",\"\",MIN(GL9:GO117))","v":""},null,{"$f":"IF(GK9=\"\",\"\",MAX(GL9:GO117)/Hauptmaske!$H$5)","v":""},{"$f":"IF(GK9=\"\",\"\",MIN(GL9:GO117)/Hauptmaske!$H$5)","v":""},{"$f":"IF(GQ9=\"\",\"\",MIN(GV9:GV117))","v":""},null,{"$f":"IF(GQ9=\"\",\"\",MIN(GR9:GU117))","v":""},null,{"$f":"IF(GQ9=\"\",\"\",MAX(GR9:GU117)/Hauptmaske!$H$5)","v":""},{"$f":"IF(GQ9=\"\",\"\",MIN(GR9:GU117)/Hauptmaske!$H$5)","v":""},{"$f":"IF(GW9=\"\",\"\",MIN(HB9:HB117))","v":""},null,{"$f":"IF(GW9=\"\",\"\",MIN(GX9:HA117))","v":""},null,{"$f":"IF(GW9=\"\",\"\",MAX(GX9:HA117)/Hauptmaske!$H$5)","v":""},{"$f":"IF(GW9=\"\",\"\",MIN(GX9:HA117)/Hauptmaske!$H$5)","v":""},{"$f":"IF(HC9=\"\",\"\",MIN(HH9:HH117))","v":""},null,{"$f":"IF(HC9=\"\",\"\",MIN(HD9:HG117))","v":""},null,{"$f":"IF(HC9=\"\",\"\",MAX(HD9:HG117)/Hauptmaske!$H$5)","v":""},{"$f":"IF(HC9=\"\",\"\",MIN(HD9:HG117)/Hauptmaske!$H$5)","v":""},{"$f":"IF(HI9=\"\",\"\",MIN(HN9:HN117))","v":""},null,{"$f":"IF(HI9=\"\",\"\",MIN(HJ9:HM117))","v":""},null,{"$f":"IF(HI9=\"\",\"\",MAX(HJ9:HM117)/Hauptmaske!$H$5)","v":""},{"$f":"IF(HI9=\"\",\"\",MIN(HJ9:HM117)/Hauptmaske!$H$5)","v":""},{"$f":"IF(HO9=\"\",\"\",MIN(HT9:HT117))","v":""},null,{"$f":"IF(HO9=\"\",\"\",MIN(HP9:HS117))","v":""},null,{"$f":"IF(HO9=\"\",\"\",MAX(HP9:HS117)/Hauptmaske!$H$5)","v":""},{"$f":"IF(HO9=\"\",\"\",MIN(HP9:HS117)/Hauptmaske!$H$5)","v":""},{"$f":"IF(HU9=\"\",\"\",MIN(HZ9:HZ117))","v":""},null,{"$f":"IF(HU9=\"\",\"\",MIN(HV9:HY117))","v":""},null,{"$f":"IF(HU9=\"\",\"\",MAX(HV9:HY117)/Hauptmaske!$H$5)","v":""},{"$f":"IF(HU9=\"\",\"\",MIN(HV9:HY117)/Hauptmaske!$H$5)","v":""},{"$f":"IF(IA9=\"\",\"\",MIN(IF9:IF117))","v":""},null,{"$f":"IF(IA9=\"\",\"\",MIN(IB9:IE117))","v":""},null,{"$f":"IF(IA9=\"\",\"\",MAX(IB9:IE117)/Hauptmaske!$H$5)","v":""},{"$f":"IF(IA9=\"\",\"\",MIN(IB9:IE117)/Hauptmaske!$H$5)","v":""}]
[{"$f":"IF(Hauptmaske!$I7=\"x\",Hauptmaske!$A7,\"Bitte Namen in Hauptmaske auswählen\")","v":"Testname"},null,null,null,null,null,{"$f":"IF(Hauptmaske!$I8=\"x\",Hauptmaske!$A8,\"Bitte Namen in Hauptmaske auswählen\")","v":"Bitte Namen in Hauptmaske auswählen"},null,null,null,null,null,{"$f":"IF(Hauptmaske!$I9=\"x\",Hauptmaske!$A9,\"Bitte Namen in Hauptmaske auswählen\")","v":"Bitte Namen in Hauptmaske auswählen"},null,null,null,null,null,{"$f":"IF(Hauptmaske!$I10=\"x\",Hauptmaske!$A10,\"Bitte Namen in Hauptmaske auswählen\")","v":"Bitte Namen in Hauptmaske auswählen"},null,null,null,null,null,{"$f":"IF(Hauptmaske!$I11=\"x\",Hauptmaske!$A11,\"Bitte Namen in Hauptmaske auswählen\")","v":"Bitte Namen in Hauptmaske auswählen"},null,null,null,null,null,{"$f":"IF(Hauptmaske!$I12=\"x\",Hauptmaske!$A12,\"Bitte Namen in Hauptmaske auswählen\")","v":"Bitte Namen in Hauptmaske auswählen"},null,null,null,null,null,{"$f":"IF(Hauptmaske!$I13=\"x\",Hauptmaske!$A13,\"Bitte Namen in Hauptmaske auswählen\")","v":"Bitte Namen in Hauptmaske auswählen"},null,null,null,null,null,{"$f":"IF(Hauptmaske!$I14=\"x\",Hauptmaske!$A14,\"Bitte Namen in Hauptmaske auswählen\")","v":"Bitte Namen in Hauptmaske auswählen"},null,null,null,null,null,{"$f":"IF(Hauptmaske!$I15=\"x\",Hauptmaske!$A15,\"Bitte Namen in Hauptmaske auswählen\")","v":"Bitte Namen in Hauptmaske auswählen"},null,null,null,null,null,{"$f":"IF(Hauptmaske!$I16=\"x\",Hauptmaske!$A16,\"Bitte Namen in Hauptmaske auswählen\")","v":"Bitte Namen in Hauptmaske auswählen"},null,null,null,null,null,{"$f":"IF(Hauptmaske!$I17=\"x\",Hauptmaske!$A17,\"Bitte Namen in Hauptmaske auswählen\")","v":"Bitte Namen in Hauptmaske auswählen"},null,null,null,null,null,{"$f":"IF(Hauptmaske!$I18=\"x\",Hauptmaske!$A18,\"Bitte Namen in Hauptmaske auswählen\")","v":"Bitte Namen in Hauptmaske auswählen"},null,null,null,null,null,{"$f":"IF(Hauptmaske!$I19=\"x\",Hauptmaske!$A19,\"Bitte Namen in Hauptmaske auswählen\")","v":"Bitte Namen in Hauptmaske auswählen"},null,null,null,null,null,{"$f":"IF(Hauptmaske!$I20=\"x\",Hauptmaske!$A20,\"Bitte Namen in Hauptmaske auswählen\")","v":"Bitte Namen in Hauptmaske auswählen"},null,null,null,null,null,{"$f":"IF(Hauptmaske!$I21=\"x\",Hauptmaske!$A21,\"Bitte Namen in Hauptmaske auswählen\")","v":"Bitte Namen in Hauptmaske auswählen"},null,null,null,null,null,{"$f":"IF(Hauptmaske!$I22=\"x\",Hauptmaske!$A22,\"Bitte Namen in Hauptmaske auswählen\")","v":"Bitte Namen in Hauptmaske auswählen"},null,null,null,null,null,{"$f":"IF(Hauptmaske!$I23=\"x\",Hauptmaske!$A23,\"Bitte Namen in Hauptmaske auswählen\")","v":"Bitte Namen in Hauptmaske auswählen"},null,null,null,null,null,{"$f":"IF(Hauptmaske!$I24=\"x\",Hauptmaske!$A24,\"Bitte Namen in Hauptmaske auswählen\")","v":"Bitte Namen in Hauptmaske auswählen"},null,null,null,null,null,{"$f":"IF(Hauptmaske!$I25=\"x\",Hauptmaske!$A25,\"Bitte Namen in Hauptmaske auswählen\")","v":"Bitte Namen in Hauptmaske auswählen"},null,null,null,null,null,{"$f":"IF(Hauptmaske!$I26=\"x\",Hauptmaske!$A26,\"Bitte Namen in Hauptmaske auswählen\")","v":"Bitte Namen in Hauptmaske auswählen"},null,null,null,null,null,{"$f":"IF(Hauptmaske!$I27=\"x\",Hauptmaske!$A27,\"Bitte Namen in Hauptmaske auswählen\")","v":"Bitte Namen in Hauptmaske auswählen"},null,null,null,null,null,{"$f":"IF(Hauptmaske!$I28=\"x\",Hauptmaske!$A28,\"Bitte Namen in Hauptmaske auswählen\")","v":"Bitte Namen in Hauptmaske auswählen"},null,null,null,null,null,{"$f":"IF(Hauptmaske!$I29=\"x\",Hauptmaske!$A29,\"Bitte Namen in Hauptmaske auswählen\")","v":"Bitte Namen in Hauptmaske auswählen"},null,null,null,null,null,{"$f":"IF(Hauptmaske!$I30=\"x\",Hauptmaske!$A30,\"Bitte Namen in Hauptmaske auswählen\")","v":"Bitte Namen in Hauptmaske auswählen"},null,null,null,null,null,{"$f":"IF(Hauptmaske!$I31=\"x\",Hauptmaske!$A31,\"Bitte Namen in Hauptmaske auswählen\")","v":"Bitte Namen in Hauptmaske auswählen"},null,null,null,null,null,{"$f":"IF(Hauptmaske!$I32=\"x\",Hauptmaske!$A32,\"Bitte Namen in Hauptmaske auswählen\")","v":"Bitte Namen in Hauptmaske auswählen"},null,null,null,null,null,{"$f":"IF(Hauptmaske!$I33=\"x\",Hauptmaske!$A33,\"Bitte Namen in Hauptmaske auswählen\")","v":"Bitte Namen in Hauptmaske auswählen"},null,null,null,null,null,{"$f":"IF(Hauptmaske!$I34=\"x\",Hauptmaske!$A34,\"Bitte Namen in Hauptmaske auswählen\")","v":"Bitte Namen in Hauptmaske auswählen"},null,null,null,null,null,{"$f":"IF(Hauptmaske!$I35=\"x\",Hauptmaske!$A35,\"Bitte Namen in Hauptmaske auswählen\")","v":"Bitte Namen in Hauptmaske auswählen"},null,null,null,null,null,{"$f":"IF(Hauptmaske!$I36=\"x\",Hauptmaske!$A36,\"Bitte Namen in Hauptmaske auswählen\")","v":"Bitte Namen in Hauptmaske auswählen"},null,null,null,null,null,{"$f":"IF(Hauptmaske!$I37=\"x\",Hauptmaske!$A37,\"Bitte Namen in Hauptmaske auswählen\")","v":"Bitte Namen in Hauptmaske auswählen"},null,null,null,null,null,{"$f":"IF(Hauptmaske!$I38=\"x\",Hauptmaske!$A38,\"Bitte Namen in Hauptmaske auswählen\")","v":"Bitte Namen in Hauptmaske auswählen"},null,null,null,null,null,{"$f":"IF(Hauptmaske!$I39=\"x\",Hauptmaske!$A39,\"Bitte Namen in Hauptmaske auswählen\")","v":"Bitte Namen in Hauptmaske auswählen"},null,null,null,null,null,{"$f":"IF(Hauptmaske!$I40=\"x\",Hauptmaske!$A40,\"Bitte Namen in Hauptmaske auswählen\")","v":"Bitte Namen in Hauptmaske auswählen"},null,null,null,null,null,{"$f":"IF(Hauptmaske!$I41=\"x\",Hauptmaske!$A41,\"Bitte Namen in Hauptmaske auswählen\")","v":"Bitte Namen in Hauptmaske auswählen"},null,null,null,null,null,{"$f":"IF(Hauptmaske!$I42=\"x\",Hauptmaske!$A42,\"Bitte Namen in Hauptmaske auswählen\")","v":"Bitte Namen in Hauptmaske auswählen"},null,null,null,null,null,{"$f":"IF(Hauptmaske!$I43=\"x\",Hauptmaske!$A43,\"Bitte Namen in Hauptmaske auswählen\")","v":"Bitte Namen in Hauptmaske auswählen"},null,null,null,null,null,{"$f":"IF(Hauptmaske!$I44=\"x\",Hauptmaske!$A44,\"Bitte Namen in Hauptmaske auswählen\")","v":"Bitte Namen in Hauptmaske auswählen"},null,null,null,null,null,{"$f":"IF(Hauptmaske!$I45=\"x\",Hauptmaske!$A45,\"Bitte Namen in Hauptmaske auswählen\")","v":"Bitte Namen in Hauptmaske auswählen"},null,null,null,null,null,{"$f":"IF(Hauptmaske!$I46=\"x\",Hauptmaske!$A46,\"Bitte Namen in Hauptmaske auswählen\")","v":"Bitte Namen in Hauptmaske auswählen"}]
["Datum:",{"$f":"CONCATENATE(\"Serie - 01\",\" (\",Hauptmaske!$H$5,\" Schuss)\")","v":"Serie - 01 (10 Schuss)"},null,null,null,"Summe","Datum:",{"$f":"CONCATENATE(\"Serie - 01\",\" (\",Hauptmaske!$H$5,\" Schuss)\")","v":"Serie - 01 (10 Schuss)"},null,null,null,"Summe","Datum:",{"$f":"CONCATENATE(\"Serie - 01\",\" (\",Hauptmaske!$H$5,\" Schuss)\")","v":"Serie - 01 (10 Schuss)"},null,null,null,"Summe","Datum:",{"$f":"CONCATENATE(\"Serie - 01\",\" (\",Hauptmaske!$H$5,\" Schuss)\")","v":"Serie - 01 (10 Schuss)"},null,null,null,"Summe","Datum:",{"$f":"CONCATENATE(\"Serie - 01\",\" (\",Hauptmaske!$H$5,\" Schuss)\")","v":"Serie - 01 (10 Schuss)"},null,null,null,"Summe","Datum:",{"$f":"CONCATENATE(\"Serie - 01\",\" (\",Hauptmaske!$H$5,\" Schuss)\")","v":"Serie - 01 (10 Schuss)"},null,null,null,"Summe","Datum:",{"$f":"CONCATENATE(\"Serie - 01\",\" (\",Hauptmaske!$H$5,\" Schuss)\")","v":"Serie - 01 (10 Schuss)"},null,null,null,"Summe","Datum:",{"$f":"CONCATENATE(\"Serie - 01\",\" (\",Hauptmaske!$H$5,\" Schuss)\")","v":"Serie - 01 (10 Schuss)"},null,null,null,"Summe","Datum:",{"$f":"CONCATENATE(\"Serie - 01\",\" (\",Hauptmaske!$H$5,\" Schuss)\")","v":"Serie - 01 (10 Schuss)"},null,null,null,"Summe","Datum:",{"$f":"CONCATENATE(\"Serie - 01\",\" (\",Hauptmaske!$H$5,\" Schuss)\")","v":"Serie - 01 (10 Schuss)"},null,null,null,"Summe","Datum:",{"$f":"CONCATENATE(\"Serie - 01\",\" (\",Hauptmaske!$H$5,\" Schuss)\")","v":"Serie - 01 (10 Schuss)"},null,null,null,"Summe","Datum:",{"$f":"CONCATENATE(\"Serie - 01\",\" (\",Hauptmaske!$H$5,\" Schuss)\")","v":"Serie - 01 (10 Schuss)"},null,null,null,"Summe","Datum:",{"$f":"CONCATENATE(\"Serie - 01\",\" (\",Hauptmaske!$H$5,\" Schuss)\")","v":"Serie - 01 (10 Schuss)"},null,null,null,"Summe","Datum:",{"$f":"CONCATENATE(\"Serie - 01\",\" (\",Hauptmaske!$H$5,\" Schuss)\")","v":"Serie - 01 (10 Schuss)"},null,null,null,"Summe","Datum:",{"$f":"CONCATENATE(\"Serie - 01\",\" (\",Hauptmaske!$H$5,\" Schuss)\")","v":"Serie - 01 (10 Schuss)"},null,null,null,"Summe","Datum:",{"$f":"CONCATENATE(\"Serie - 01\",\" (\",Hauptmaske!$H$5,\" Schuss)\")","v":"Serie - 01 (10 Schuss)"},null,null,null,"Summe","Datum:",{"$f":"CONCATENATE(\"Serie - 01\",\" (\",Hauptmaske!$H$5,\" Schuss)\")","v":"Serie - 01 (10 Schuss)"},null,null,null,"Summe","Datum:",{"$f":"CONCATENATE(\"Serie - 01\",\" (\",Hauptmaske!$H$5,\" Schuss)\")","v":"Serie - 01 (10 Schuss)"},null,null,null,"Summe","Datum:",{"$f":"CONCATENATE(\"Serie - 01\",\" (\",Hauptmaske!$H$5,\" Schuss)\")","v":"Serie - 01 (10 Schuss)"},null,null,null,"Summe","Datum:",{"$f":"CONCATENATE(\"Serie - 01\",\" (\",Hauptmaske!$H$5,\" Schuss)\")","v":"Serie - 01 (10 Schuss)"},null,null,null,"Summe","Datum:",{"$f":"CONCATENATE(\"Serie - 01\",\" (\",Hauptmaske!$H$5,\" Schuss)\")","v":"Serie - 01 (10 Schuss)"},null,null,null,"Summe","Datum:",{"$f":"CONCATENATE(\"Serie - 01\",\" (\",Hauptmaske!$H$5,\" Schuss)\")","v":"Serie - 01 (10 Schuss)"},null,null,null,"Summe","Datum:",{"$f":"CONCATENATE(\"Serie - 01\",\" (\",Hauptmaske!$H$5,\" Schuss)\")","v":"Serie - 01 (10 Schuss)"},null,null,null,"Summe","Datum:",{"$f":"CONCATENATE(\"Serie - 01\",\" (\",Hauptmaske!$H$5,\" Schuss)\")","v":"Serie - 01 (10 Schuss)"},null,null,null,"Summe","Datum:",{"$f":"CONCATENATE(\"Serie - 01\",\" (\",Hauptmaske!$H$5,\" Schuss)\")","v":"Serie - 01 (10 Schuss)"},null,null,null,"Summe","Datum:",{"$f":"CONCATENATE(\"Serie - 01\",\" (\",Hauptmaske!$H$5,\" Schuss)\")","v":"Serie - 01 (10 Schuss)"},null,null,null,"Summe","Datum:",{"$f":"CONCATENATE(\"Serie - 01\",\" (\",Hauptmaske!$H$5,\" Schuss)\")","v":"Serie - 01 (10 Schuss)"},null,null,null,"Summe","Datum:",{"$f":"CONCATENATE(\"Serie - 01\",\" (\",Hauptmaske!$H$5,\" Schuss)\")","v":"Serie - 01 (10 Schuss)"},null,null,null,"Summe","Datum:",{"$f":"CONCATENATE(\"Serie - 01\",\" (\",Hauptmaske!$H$5,\" Schuss)\")","v":"Serie - 01 (10 Schuss)"},null,null,null,"Summe","Datum:",{"$f":"CONCATENATE(\"Serie - 01\",\" (\",Hauptmaske!$H$5,\" Schuss)\")","v":"Serie - 01 (10 Schuss)"},null,null,null,"Summe","Datum:",{"$f":"CONCATENATE(\"Serie - 01\",\" (\",Hauptmaske!$H$5,\" Schuss)\")","v":"Serie - 01 (10 Schuss)"},null,null,null,"Summe","Datum:",{"$f":"CONCATENATE(\"Serie - 01\",\" (\",Hauptmaske!$H$5,\" Schuss)\")","v":"Serie - 01 (10 Schuss)"},null,null,null,"Summe","Datum:",{"$f":"CONCATENATE(\"Serie - 01\",\" (\",Hauptmaske!$H$5,\" Schuss)\")","v":"Serie - 01 (10 Schuss)"},null,null,null,"Summe","Datum:",{"$f":"CONCATENATE(\"Serie - 01\",\" (\",Hauptmaske!$H$5,\" Schuss)\")","v":"Serie - 01 (10 Schuss)"},null,null,null,"Summe","Datum:",{"$f":"CONCATENATE(\"Serie - 01\",\" (\",Hauptmaske!$H$5,\" Schuss)\")","v":"Serie - 01 (10 Schuss)"},null,null,null,"Summe","Datum:",{"$f":"CONCATENATE(\"Serie - 01\",\" (\",Hauptmaske!$H$5,\" Schuss)\")","v":"Serie - 01 (10 Schuss)"},null,null,null,"Summe","Datum:",{"$f":"CONCATENATE(\"Serie - 01\",\" (\",Hauptmaske!$H$5,\" Schuss)\")","v":"Serie - 01 (10 Schuss)"},null,null,null,"Summe","Datum:",{"$f":"CONCATENATE(\"Serie - 01\",\" (\",Hauptmaske!$H$5,\" Schuss)\")","v":"Serie - 01 (10 Schuss)"},null,null,null,"Summe","Datum:",{"$f":"CONCATENATE(\"Serie - 01\",\" (\",Hauptmaske!$H$5,\" Schuss)\")","v":"Serie - 01 (10 Schuss)"},null,null,null,"Summe","Datum:",{"$f":"CONCATENATE(\"Serie - 01\",\" (\",Hauptmaske!$H$5,\" Schuss)\")","v":"Serie - 01 (10 Schuss)"},null,null,null,"Summe"]
["2016-01-01",null,null,null,null,{"$f":"IF(A9=\"\",\"\",SUM(B9:E9))","v":0},null,null,null,null,null,{"$f":"IF(G9=\"\",\"\",SUM(H9:K9))","v":""},null,null,null,null,null,{"$f":"IF(M9=\"\",\"\",SUM(N9:Q9))","v":""},null,null,null,null,null,{"$f":"IF(S9=\"\",\"\",SUM(T9:W9))","v":""},null,null,null,null,null,{"$f":"IF(Y9=\"\",\"\",SUM(Z9:AC9))","v":""},null,null,null,null,null,{"$f":"IF(AE9=\"\",\"\",SUM(AF9:AI9))","v":""},null,null,null,null,null,{"$f":"IF(AK9=\"\",\"\",SUM(AL9:AO9))","v":""},null,null,null,null,null,{"$f":"IF(AQ9=\"\",\"\",SUM(AR9:AU9))","v":""},null,null,null,null,null,{"$f":"IF(AW9=\"\",\"\",SUM(AX9:BA9))","v":""},null,null,null,null,null,{"$f":"IF(BC9=\"\",\"\",SUM(BD9:BG9))","v":""},null,null,null,null,null,{"$f":"IF(BI9=\"\",\"\",SUM(BJ9:BM9))","v":""},null,null,null,null,null,{"$f":"IF(BO9=\"\",\"\",SUM(BP9:BS9))","v":""},null,null,null,null,null,{"$f":"IF(BU9=\"\",\"\",SUM(BV9:BY9))","v":""},null,null,null,null,null,{"$f":"IF(CA9=\"\",\"\",SUM(CB9:CE9))","v":""},null,null,null,null,null,{"$f":"IF(CG9=\"\",\"\",SUM(CH9:CK9))","v":""},null,null,null,null,null,{"$f":"IF(CM9=\"\",\"\",SUM(CN9:CQ9))","v":""},null,null,null,null,null,{"$f":"IF(CS9=\"\",\"\",SUM(CT9:CW9))","v":""},null,null,null,null,null,{"$f":"IF(CY9=\"\",\"\",SUM(CZ9:DC9))","v":""},null,null,null,null,null,{"$f":"IF(DE9=\"\",\"\",SUM(DF9:DI9))","v":""},null,null,null,null,null,{"$f":"IF(DK9=\"\",\"\",SUM(DL9:DO9))","v":""},null,null,null,null,null,{"$f":"IF(DQ9=\"\",\"\",SUM(DR9:DU9))","v":""},null,null,null,null,null,{"$f":"IF(DW9=\"\",\"\",SUM(DX9:EA9))","v":""},null,null,null,null,null,{"$f":"IF(EC9=\"\",\"\",SUM(ED9:EG9))","v":""},null,null,null,null,null,{"$f":"IF(EI9=\"\",\"\",SUM(EJ9:EM9))","v":""},null,null,null,null,null,{"$f":"IF(EO9=\"\",\"\",SUM(EP9:ES9))","v":""},null,null,null,null,null,{"$f":"IF(EU9=\"\",\"\",SUM(EV9:EY9))","v":""},null,null,null,null,null,{"$f":"IF(FA9=\"\",\"\",SUM(FB9:FE9))","v":""},null,null,null,null,null,{"$f":"IF(FG9=\"\",\"\",SUM(FH9:FK9))","v":""},null,null,null,null,null,{"$f":"IF(FM9=\"\",\"\",SUM(FN9:FQ9))","v":""},null,null,null,null,null,{"$f":"IF(FS9=\"\",\"\",SUM(FT9:FW9))","v":""},null,null,null,null,null,{"$f":"IF(FY9=\"\",\"\",SUM(FZ9:GC9))","v":""},null,null,null,null,null,{"$f":"IF(GE9=\"\",\"\",SUM(GF9:GI9))","v":""},null,null,null,null,null,{"$f":"IF(GK9=\"\",\"\",SUM(GL9:GO9))","v":""},null,null,null,null,null,{"$f":"IF(GQ9=\"\",\"\",SUM(GR9:GU9))","v":""},null,null,null,null,null,{"$f":"IF(GW9=\"\",\"\",SUM(GX9:HA9))","v":""},null,null,null,null,null,{"$f":"IF(HC9=\"\",\"\",SUM(HD9:HG9))","v":""},null,null,null,null,null,{"$f":"IF(HI9=\"\",\"\",SUM(HJ9:HM9))","v":""},null,null,null,null,null,{"$f":"IF(HO9=\"\",\"\",SUM(HP9:HS9))","v":""},null,null,null,null,null,{"$f":"IF(HU9=\"\",\"\",SUM(HV9:HY9))","v":""},null,null,null,null,null,{"$f":"IF(IA9=\"\",\"\",SUM(IB9:IE9))","v":""}]
[null,null,null,null,null,{"$f":"IF(A10=\"\",\"\",SUM(B10:E10))","v":""},null,null,null,null,null,"",null,null,null,null,null,"",null,null,null,null,null,"",null,null,null,null,null,"",null,null,null,null,null,"",null,null,null,null,null,"",null,null,null,null,null,"",null,null,null,null,null,"",null,null,null,null,null,"",null,null,null,null,null,"",null,null,null,null,null,"",null,null,null,null,null,"",null,null,null,null,null,"",null,null,null,null,null,"",null,null,null,null,null,"",null,null,null,null,null,"",null,null,null,null,null,"",null,null,null,null,null,"",null,null,null,null,null,"",null,null,null,null,null,"",null,null,null,null,null,"",null,null,null,null,null,"",null,null,null,null,null,"",null,null,null,null,null,"",null,null,null,null,null,"",null,null,null,null,null,"",null,null,null,null,null,"",null,null,null,null,null,"",null,null,null,null,null,"",null,null,null,null,null,"",null,null,null,null,null,"",null,null,null,null,null,"",null,null,null,null,null,"",null,null,null,null,null,"",null,null,null,null,null,"",null,null,null,null,null,"",null,null,null,null,null,"",null,null,null,null,null,"",null,null,null,null,null,""]
[null,null,null,null,null,"",null,null,null,null,null,"",null,null,null,null,null,"",null,null,null,null,null,"",null,null,null,null,null,"",null,null,null,null,null,"",null,null,null,null,null,"",null,null,null,null,null,"",null,null,null,null,null,"",null,null,null,null,null,"",null,null,null,null,null,"",null,null,null,null,null,"",null,null,null,null,null,"",null,null,null,null,null,"",null,null,null,null,null,"",null,null,null,null,null,"",null,null,null,null,null,"",null,null,null,null,null,"",null,null,null,null,null,"",null,null,null,null,null,"",null,null,null,null,null,"",null,null,null,null,null,"",null,null,null,null,null,"",null,null,null,null,null,"",null,null,null,null,null,"",null,null,null,null,null,"",null,null,null,null,null,"",null,null,null,null,null,"",null,null,null,null,null,"",null,null,null,null,null,"",null,null,null,null,null,"",null,null,null,null,null,"",null,null,null,null,null,"",null,null,null,null,null,"",null,null,null,null,null,"",null,null,null,null,null,"",null,null,null,null,null,"",null,null,null,null,null,"",null,null,null,null,null,"",null,null,null,null,null,""]
[null,null,null,null,null,"",null,null,null,null,null,"",null,null,null,null,null,"",null,null,null,null,null,"",null,null,null,null,null,"",null,null,null,null,null,"",null,null,null,null,null,"",null,null,null,null,null,"",null,null,null,null,null,"",null,null,null,null,null,"",null,null,null,null,null,"",null,null,null,null,null,"",null,null,null,null,null,"",null,null,null,null,null,"",null,null,null,null,null,"",null,null,null,null,null,"",null,null,null,null,null,"",null,null,null,null,null,"",null,null,null,null,null,"",null,null,null,null,null,"",null,null,null,null,null,"",null,null,null,null,null,"",null,null,null,null,null,"",null,null,null,null,null,"",null,null,null,null,null,"",null,null,null,null,null,"",null,null,null,null,null,"",null,null,null,null,null,"",null,null,null,null,null,"",null,null,null,null,null,"",null,null,null,null,null,"",null,null,null,null,null,"",null,null,null,null,null,"",null,null,null,null,null,"",null,null,null,null,null,"",null,null,null,null,null,"",null,null,null,null,null,"",null,null,null,null,null,"",null,null,null,null,null,"",null,null,null,null,null,""]
[null,null,null,null,null,"",null,null,null,null,null,"",null,null,null,null,null,"",null,null,null,null,null,"",null,null,null,null,null,"",null,null,null,null,null,"",null,null,null,null,null,"",null,null,null,null,null,"",null,null,null,null,null,"",null,null,null,null,null,"",null,null,null,null,null,"",null,null,null,null,null,"",null,null,null,null,null,"",null,null,null,null,null,"",null,null,null,null,null,"",null,null,null,null,null,"",null,null,null,null,null,"",null,null,null,null,null,"",null,null,null,null,null,"",null,null,null,null,null,"",null,null,null,null,null,"",null,null,null,null,null,"",null,null,null,null,null,"",null,null,null,null,null,"",null,null,null,null,null,"",null,null,null,null,null,"",null,null,null,null,null,"",null,null,null,null,null,"",null,null,null,null,null,"",null,null,null,null,null,"",null,null,null,null,null,"",null,null,null,null,null,"",null,null,null,null,null,"",null,null,null,null,null,"",null,null,null,null,null,"",null,null,null,null,null,"",null,null,null,null,null,"",null,null,null,null,null,"",null,null,null,null,null,"",null,null,null,null,null,""]
[null,null,null,null,null,"",null,null,null,null,null,"",null,null,null,null,null,"",null,null,null,null,null,"",null,null,null,null,null,"",null,null,null,null,null,"",null,null,null,null,null,"",null,null,null,null,null,"",null,null,null,null,null,"",null,null,null,null,null,"",null,null,null,null,null,"",null,null,null,null,null,"",null,null,null,null,null,"",null,null,null,null,null,"",null,null,null,null,null,"",null,null,null,null,null,"",null,null,null,null,null,"",null,null,null,null,null,"",null,null,null,null,null,"",null,null,null,null,null,"",null,null,null,null,null,"",null,null,null,null,null,"",null,null,null,null,null,"",null,null,null,null,null,"",null,null,null,null,null,"",null,null,null,null,null,"",null,null,null,null,null,"",null,null,null,null,null,"",null,null,null,null,null,"",null,null,null,null,null,"",null,null,null,null,null,"",null,null,null,null,null,"",null,null,null,null,null,"",null,null,null,null,null,"",null,null,null,null,null,"",null,null,null,null,null,"",null,null,null,null,null,"",null,null,null,null,null,"",null,null,null,null,null,"",null,null,null,null,null,""]
[null,null,null,null,null,"",null,null,null,null,null,"",null,null,null,null,null,"",null,null,null,null,null,"",null,null,null,null,null,"",null,null,null,null,null,"",null,null,null,null,null,"",null,null,null,null,null,"",null,null,null,null,null,"",null,null,null,null,null,"",null,null,null,null,null,"",null,null,null,null,null,"",null,null,null,null,null,"",null,null,null,null,null,"",null,null,null,null,null,"",null,null,null,null,null,"",null,null,null,null,null,"",null,null,null,null,null,"",null,null,null,null,null,"",null,null,null,null,null,"",null,null,null,null,null,"",null,null,null,null,null,"",null,null,null,null,null,"",null,null,null,null,null,"",null,null,null,null,null,"",null,null,null,null,null,"",null,null,null,null,null,"",null,null,null,null,null,"",null,null,null,null,null,"",null,null,null,null,null,"",null,null,null,null,null,"",null,null,null,null,null,"",null,null,null,null,null,"",null,null,null,null,null,"",null,null,null,null,null,"",null,null,null,null,null,"",null,null,null,null,null,"",null,null,null,null,null,"",null,null,null,null,null,"",null,null,null,null,null,""]
[null,null,null,null,null,"",null,null,null,null,null,"",null,null,null,null,null,"",null,null,null,null,null,"",null,null,null,null,null,"",null,null,null,null,null,"",null,null,null,null,null,"",null,null,null,null,null,"",null,null,null,null,null,"",null,null,null,null,null,"",null,null,null,null,null,"",null,null,null,null,null,"",null,null,null,null,null,"",null,null,null,null,null,"",null,null,null,null,null,"",null,null,null,null,null,"",null,null,null,null,null,"",null,null,null,null,null,"",null,null,null,null,null,"",null,null,null,null,null,"",null,null,null,null,null,"",null,null,null,null,null,"",null,null,null,null,null,"",null,null,null,null,null,"",null,null,null,null,null,"",null,null,null,null,null,"",null,null,null,null,null,"",null,null,null,null,null,"",null,null,null,null,null,"",null,null,null,null,null,"",null,null,null,null,null,"",null,null,null,null,null,"",null,null,null,null,null,"",null,null,null,null,null,"",null,null,null,null,null,"",null,null,null,null,null,"",null,null,null,null,null,"",null,null,null,null,null,"",null,null,null,null,null,"",null,null,null,null,null,""]
[null,null,null,null,null,"",null,null,null,null,null,"",null,null,null,null,null,"",null,null,null,null,null,"",null,null,null,null,null,"",null,null,null,null,null,"",null,null,null,null,null,"",null,null,null,null,null,"",null,null,null,null,null,"",null,null,null,null,null,"",null,null,null,null,null,"",null,null,null,null,null,"",null,null,null,null,null,"",null,null,null,null,null,"",null,null,null,null,null,"",null,null,null,null,null,"",null,null,null,null,null,"",null,null,null,null,null,"",null,null,null,null,null,"",null,null,null,null,null,"",null,null,null,null,null,"",null,null,null,null,null,"",null,null,null,null,null,"",null,null,null,null,null,"",null,null,null,null,null,"",null,null,null,null,null,"",null,null,null,null,null,"",null,null,null,null,null,"",null,null,null,null,null,"",null,null,null,null,null,"",null,null,null,null,null,"",null,null,null,null,null,"",null,null,null,null,null,"",null,null,null,null,null,"",null,null,null,null,null,"",null,null,null,null,null,"",null,null,null,null,null,"",null,null,null,null,null,"",null,null,null,null,null,"",null,null,null,null,null,""]
[null,null,null,null,null,"",null,null,null,null,null,"",null,null,null,null,null,"",null,null,null,null,null,"",null,null,null,null,null,"",null,null,null,null,null,"",null,null,null,null,null,"",null,null,null,null,null,"",null,null,null,null,null,"",null,null,null,null,null,"",null,null,null,null,null,"",null,null,null,null,null,"",null,null,null,null,null,"",null,null,null,null,null,"",null,null,null,null,null,"",null,null,null,null,null,"",null,null,null,null,null,"",null,null,null,null,null,"",null,null,null,null,null,"",null,null,null,null,null,"",null,null,null,null,null,"",null,null,null,null,null,"",null,null,null,null,null,"",null,null,null,null,null,"",null,null,null,null,null,"",null,null,null,null,null,"",null,null,null,null,null,"",null,null,null,null,null,"",null,null,null,null,null,"",null,null,null,null,null,"",null,null,null,null,null,"",null,null,null,null,null,"",null,null,null,null,null,"",null,null,null,null,null,"",null,null,null,null,null,"",null,null,null,null,null,"",null,null,null,null,null,"",null,null,null,null,null,"",null,null,null,null,null,"",null,null,null,null,null,""]
[null,null,null,null,null,"",null,null,null,null,null,"",null,null,null,null,null,"",null,null,null,null,null,"",null,null,null,null,null,"",null,null,null,null,null,"",null,null,null,null,null,"",null,null,null,null,null,"",null,null,null,null,null,"",null,null,null,null,null,"",null,null,null,null,null,"",null,null,null,null,null,"",null,null,null,null,null,"",null,null,null,null,null,"",null,null,null,null,null,"",null,null,null,null,null,"",null,null,null,null,null,"",null,null,null,null,null,"",null,null,null,null,null,"",null,null,null,null,null,"",null,null,null,null,null,"",null,null,null,null,null,"",null,null,null,null,null,"",null,null,null,null,null,"",null,null,null,null,null,"",null,null,null,null,null,"",null,null,null,null,null,"",null,null,null,null,null,"",null,null,null,null,null,"",null,null,null,null,null,"",null,null,null,null,null,"",null,null,null,null,null,"",null,null,null,null,null,"",null,null,null,null,null,"",null,null,null,null,null,"",null,null,null,null,null,"",null,null,null,null,null,"",null,null,null,null,null,"",null,null,null,null,null,"",null,null,null,null,null,""]
[null,null,null,null,null,"",null,null,null,null,null,"",null,null,null,null,null,"",null,null,null,null,null,"",null,null,null,null,null,"",null,null,null,null,null,"",null,null,null,null,null,"",null,null,null,null,null,"",null,null,null,null,null,"",null,null,null,null,null,"",null,null,null,null,null,"",null,null,null,null,null,"",null,null,null,null,null,"",null,null,null,null,null,"",null,null,null,null,null,"",null,null,null,null,null,"",null,null,null,null,null,"",null,null,null,null,null,"",null,null,null,null,null,"",null,null,null,null,null,"",null,null,null,null,null,"",null,null,null,null,null,"",null,null,null,null,null,"",null,null,null,null,null,"",null,null,null,null,null,"",null,null,null,null,null,"",null,null,null,null,null,"",null,null,null,null,null,"",null,null,null,null,null,"",null,null,null,null,null,"",null,null,null,null,null,"",null,null,null,null,null,"",null,null,null,null,null,"",null,null,null,null,null,"",null,null,null,null,null,"",null,null,null,null,null,"",null,null,null,null,null,"",null,null,null,null,null,"",null,null,null,null,null,"",null,null,null,null,null,""]
[null,null,null,null,null,"",null,null,null,null,null,"",null,null,null,null,null,"",null,null,null,null,null,"",null,null,null,null,null,"",null,null,null,null,null,"",null,null,null,null,null,"",null,null,null,null,null,"",null,null,null,null,null,"",null,null,null,null,null,"",null,null,null,null,null,"",null,null,null,null,null,"",null,null,null,null,null,"",null,null,null,null,null,"",null,null,null,null,null,"",null,null,null,null,null,"",null,null,null,null,null,"",null,null,null,null,null,"",null,null,null,null,null,"",null,null,null,null,null,"",null,null,null,null,null,"",null,null,null,null,null,"",null,null,null,null,null,"",null,null,null,null,null,"",null,null,null,null,null,"",null,null,null,null,null,"",null,null,null,null,null,"",null,null,null,null,null,"",null,null,null,null,null,"",null,null,null,null,null,"",null,null,null,null,null,"",null,null,null,null,null,"",null,null,null,null,null,"",null,null,null,null,null,"",null,null,null,null,null,"",null,null,null,null,null,"",null,null,null,null,null,"",null,null,null,null,null,"",null,null,null,null,null,"",null,null,null,null,null,""]
[null,null,null,null,null,"",null,null,null,null,null,"",null,null,null,null,null,"",null,null,null,null,null,"",null,null,null,null,null,"",null,null,null,null,null,"",null,null,null,null,null,"",null,null,null,null,null,"",null,null,null,null,null,"",null,null,null,null,null,"",null,null,null,null,null,"",null,null,null,null,null,"",null,null,null,null,null,"",null,null,null,null,null,"",null,null,null,null,null,"",null,null,null,null,null,"",null,null,null,null,null,"",null,null,null,null,null,"",null,null,null,null,null,"",null,null,null,null,null,"",null,null,null,null,null,"",null,null,null,null,null,"",null,null,null,null,null,"",null,null,null,null,null,"",null,null,null,null,null,"",null,null,null,null,null,"",null,null,null,null,null,"",null,null,null,null,null,"",null,null,null,null,null,"",null,null,null,null,null,"",null,null,null,null,null,"",null,null,null,null,null,"",null,null,null,null,null,"",null,null,null,null,null,"",null,null,null,null,null,"",null,null,null,null,null,"",null,null,null,null,null,"",null,null,null,null,null,"",null,null,null,null,null,"",null,null,null,null,null,""]
[null,null,null,null,null,"",null,null,null,null,null,"",null,null,null,null,null,"",null,null,null,null,null,"",null,null,null,null,null,"",null,null,null,null,null,"",null,null,null,null,null,"",null,null,null,null,null,"",null,null,null,null,null,"",null,null,null,null,null,"",null,null,null,null,null,"",null,null,null,null,null,"",null,null,null,null,null,"",null,null,null,null,null,"",null,null,null,null,null,"",null,null,null,null,null,"",null,null,null,null,null,"",null,null,null,null,null,"",null,null,null,null,null,"",null,null,null,null,null,"",null,null,null,null,null,"",null,null,null,null,null,"",null,null,null,null,null,"",null,null,null,null,null,"",null,null,null,null,null,"",null,null,null,null,null,"",null,null,null,null,null,"",null,null,null,null,null,"",null,null,null,null,null,"",null,null,null,null,null,"",null,null,null,null,null,"",null,null,null,null,null,"",null,null,null,null,null,"",null,null,null,null,null,"",null,null,null,null,null,"",null,null,null,null,null,"",null,null,null,null,null,"",null,null,null,null,null,"",null,null,null,null,null,"",null,null,null,null,null,""]
[null,null,null,null,null,"",null,null,null,null,null,"",null,null,null,null,null,"",null,null,null,null,null,"",null,null,null,null,null,"",null,null,null,null,null,"",null,null,null,null,null,"",null,null,null,null,null,"",null,null,null,null,null,"",null,null,null,null,null,"",null,null,null,null,null,"",null,null,null,null,null,"",null,null,null,null,null,"",null,null,null,null,null,"",null,null,null,null,null,"",null,null,null,null,null,"",null,null,null,null,null,"",null,null,null,null,null,"",null,null,null,null,null,"",null,null,null,null,null,"",null,null,null,null,null,"",null,null,null,null,null,"",null,null,null,null,null,"",null,null,null,null,null,"",null,null,null,null,null,"",null,null,null,null,null,"",null,null,null,null,null,"",null,null,null,null,null,"",null,null,null,null,null,"",null,null,null,null,null,"",null,null,null,null,null,"",null,null,null,null,null,"",null,null,null,null,null,"",null,null,null,null,null,"",null,null,null,null,null,"",null,null,null,null,null,"",null,null,null,null,null,"",null,null,null,null,null,"",null,null,null,null,null,"",null,null,null,null,null,""]
[null,null,null,null,null,"",null,null,null,null,null,"",null,null,null,null,null,"",null,null,null,null,null,"",null,null,null,null,null,"",null,null,null,null,null,"",null,null,null,null,null,"",null,null,null,null,null,"",null,null,null,null,null,"",null,null,null,null,null,"",null,null,null,null,null,"",null,null,null,null,null,"",null,null,null,null,null,"",null,null,null,null,null,"",null,null,null,null,null,"",null,null,null,null,null,"",null,null,null,null,null,"",null,null,null,null,null,"",null,null,null,null,null,"",null,null,null,null,null,"",null,null,null,null,null,"",null,null,null,null,null,"",null,null,null,null,null,"",null,null,null,null,null,"",null,null,null,null,null,"",null,null,null,null,null,"",null,null,null,null,null,"",null,null,null,null,null,"",null,null,null,null,null,"",null,null,null,null,null,"",null,null,null,null,null,"",null,null,null,null,null,"",null,null,null,null,null,"",null,null,null,null,null,"",null,null,null,null,null,"",null,null,null,null,null,"",null,null,null,null,null,"",null,null,null,null,null,"",null,null,null,null,null,"",null,null,null,null,null,""]
[null,null,null,null,null,"",null,null,null,null,null,"",null,null,null,null,null,"",null,null,null,null,null,"",null,null,null,null,null,"",null,null,null,null,null,"",null,null,null,null,null,"",null,null,null,null,null,"",null,null,null,null,null,"",null,null,null,null,null,"",null,null,null,null,null,"",null,null,null,null,null,"",null,null,null,null,null,"",null,null,null,null,null,"",null,null,null,null,null,"",null,null,null,null,null,"",null,null,null,null,null,"",null,null,null,null,null,"",null,null,null,null,null,"",null,null,null,null,null,"",null,null,null,null,null,"",null,null,null,null,null,"",null,null,null,null,null,"",null,null,null,null,null,"",null,null,null,null,null,"",null,null,null,null,null,"",null,null,null,null,null,"",null,null,null,null,null,"",null,null,null,null,null,"",null,null,null,null,null,"",null,null,null,null,null,"",null,null,null,null,null,"",null,null,null,null,null,"",null,null,null,null,null,"",null,null,null,null,null,"",null,null,null,null,null,"",null,null,null,null,null,"",null,null,null,null,null,"",null,null,null,null,null,"",null,null,null,null,null,""]
[null,null,null,null,null,"",null,null,null,null,null,"",null,null,null,null,null,"",null,null,null,null,null,"",null,null,null,null,null,"",null,null,null,null,null,"",null,null,null,null,null,"",null,null,null,null,null,"",null,null,null,null,null,"",null,null,null,null,null,"",null,null,null,null,null,"",null,null,null,null,null,"",null,null,null,null,null,"",null,null,null,null,null,"",null,null,null,null,null,"",null,null,null,null,null,"",null,null,null,null,null,"",null,null,null,null,null,"",null,null,null,null,null,"",null,null,null,null,null,"",null,null,null,null,null,"",null,null,null,null,null,"",null,null,null,null,null,"",null,null,null,null,null,"",null,null,null,null,null,"",null,null,null,null,null,"",null,null,null,null,null,"",null,null,null,null,null,"",null,null,null,null,null,"",null,null,null,null,null,"",null,null,null,null,null,"",null,null,null,null,null,"",null,null,null,null,null,"",null,null,null,null,null,"",null,null,null,null,null,"",null,null,null,null,null,"",null,null,null,null,null,"",null,null,null,null,null,"",null,null,null,null,null,"",null,null,null,null,null,""]
[null,null,null,null,null,"",null,null,null,null,null,"",null,null,null,null,null,"",null,null,null,null,null,"",null,null,null,null,null,"",null,null,null,null,null,"",null,null,null,null,null,"",null,null,null,null,null,"",null,null,null,null,null,"",null,null,null,null,null,"",null,null,null,null,null,"",null,null,null,null,null,"",null,null,null,null,null,"",null,null,null,null,null,"",null,null,null,null,null,"",null,null,null,null,null,"",null,null,null,null,null,"",null,null,null,null,null,"",null,null,null,null,null,"",null,null,null,null,null,"",null,null,null,null,null,"",null,null,null,null,null,"",null,null,null,null,null,"",null,null,null,null,null,"",null,null,null,null,null,"",null,null,null,null,null,"",null,null,null,null,null,"",null,null,null,null,null,"",null,null,null,null,null,"",null,null,null,null,null,"",null,null,null,null,null,"",null,null,null,null,null,"",null,null,null,null,null,"",null,null,null,null,null,"",null,null,null,null,null,"",null,null,null,null,null,"",null,null,null,null,null,"",null,null,null,null,null,"",null,null,null,null,null,"",null,null,null,null,null,""]
[null,null,null,null,null,"",null,null,null,null,null,"",null,null,null,null,null,"",null,null,null,null,null,"",null,null,null,null,null,"",null,null,null,null,null,"",null,null,null,null,null,"",null,null,null,null,null,"",null,null,null,null,null,"",null,null,null,null,null,"",null,null,null,null,null,"",null,null,null,null,null,"",null,null,null,null,null,"",null,null,null,null,null,"",null,null,null,null,null,"",null,null,null,null,null,"",null,null,null,null,null,"",null,null,null,null,null,"",null,null,null,null,null,"",null,null,null,null,null,"",null,null,null,null,null,"",null,null,null,null,null,"",null,null,null,null,null,"",null,null,null,null,null,"",null,null,null,null,null,"",null,null,null,null,null,"",null,null,null,null,null,"",null,null,null,null,null,"",null,null,null,null,null,"",null,null,null,null,null,"",null,null,null,null,null,"",null,null,null,null,null,"",null,null,null,null,null,"",null,null,null,null,null,"",null,null,null,null,null,"",null,null,null,null,null,"",null,null,null,null,null,"",null,null,null,null,null,"",null,null,null,null,null,"",null,null,null,null,null,""]
[null,null,null,null,null,"",null,null,null,null,null,"",null,null,null,null,null,"",null,null,null,null,null,"",null,null,null,null,null,"",null,null,null,null,null,"",null,null,null,null,null,"",null,null,null,null,null,"",null,null,null,null,null,"",null,null,null,null,null,"",null,null,null,null,null,"",null,null,null,null,null,"",null,null,null,null,null,"",null,null,null,null,null,"",null,null,null,null,null,"",null,null,null,null,null,"",null,null,null,null,null,"",null,null,null,null,null,"",null,null,null,null,null,"",null,null,null,null,null,"",null,null,null,null,null,"",null,null,null,null,null,"",null,null,null,null,null,"",null,null,null,null,null,"",null,null,null,null,null,"",null,null,null,null,null,"",null,null,null,null,null,"",null,null,null,null,null,"",null,null,null,null,null,"",null,null,null,null,null,"",null,null,null,null,null,"",null,null,null,null,null,"",null,null,null,null,null,"",null,null,null,null,null,"",null,null,null,null,null,"",null,null,null,null,null,"",null,null,null,null,null,"",null,null,null,null,null,"",null,null,null,null,null,"",null,null,null,null,null,""]
[null,null,null,null,null,"",null,null,null,null,null,"",null,null,null,null,null,"",null,null,null,null,null,"",null,null,null,null,null,"",null,null,null,null,null,"",null,null,null,null,null,"",null,null,null,null,null,"",null,null,null,null,null,"",null,null,null,null,null,"",null,null,null,null,null,"",null,null,null,null,null,"",null,null,null,null,null,"",null,null,null,null,null,"",null,null,null,null,null,"",null,null,null,null,null,"",null,null,null,null,null,"",null,null,null,null,null,"",null,null,null,null,null,"",null,null,null,null,null,"",null,null,null,null,null,"",null,null,null,null,null,"",null,null,null,null,null,"",null,null,null,null,null,"",null,null,null,null,null,"",null,null,null,null,null,"",null,null,null,null,null,"",null,null,null,null,null,"",null,null,null,null,null,"",null,null,null,null,null,"",null,null,null,null,null,"",null,null,null,null,null,"",null,null,null,null,null,"",null,null,null,null,null,"",null,null,null,null,null,"",null,null,null,null,null,"",null,null,null,null,null,"",null,null,null,null,null,"",null,null,null,null,null,"",null,null,null,null,null,""]
[null,null,null,null,null,"",null,null,null,null,null,"",null,null,null,null,null,"",null,null,null,null,null,"",null,null,null,null,null,"",null,null,null,null,null,"",null,null,null,null,null,"",null,null,null,null,null,"",null,null,null,null,null,"",null,null,null,null,null,"",null,null,null,null,null,"",null,null,null,null,null,"",null,null,null,null,null,"",null,null,null,null,null,"",null,null,null,null,null,"",null,null,null,null,null,"",null,null,null,null,null,"",null,null,null,null,null,"",null,null,null,null,null,"",null,null,null,null,null,"",null,null,null,null,null,"",null,null,null,null,null,"",null,null,null,null,null,"",null,null,null,null,null,"",null,null,null,null,null,"",null,null,null,null,null,"",null,null,null,null,null,"",null,null,null,null,null,"",null,null,null,null,null,"",null,null,null,null,null,"",null,null,null,null,null,"",null,null,null,null,null,"",null,null,null,null,null,"",null,null,null,null,null,"",null,null,null,null,null,"",null,null,null,null,null,"",null,null,null,null,null,"",null,null,null,null,null,"",null,null,null,null,null,"",null,null,null,null,null,""]
[null,null,null,null,null,"",null,null,null,null,null,"",null,null,null,null,null,"",null,null,null,null,null,"",null,null,null,null,null,"",null,null,null,null,null,"",null,null,null,null,null,"",null,null,null,null,null,"",null,null,null,null,null,"",null,null,null,null,null,"",null,null,null,null,null,"",null,null,null,null,null,"",null,null,null,null,null,"",null,null,null,null,null,"",null,null,null,null,null,"",null,null,null,null,null,"",null,null,null,null,null,"",null,null,null,null,null,"",null,null,null,null,null,"",null,null,null,null,null,"",null,null,null,null,null,"",null,null,null,null,null,"",null,null,null,null,null,"",null,null,null,null,null,"",null,null,null,null,null,"",null,null,null,null,null,"",null,null,null,null,null,"",null,null,null,null,null,"",null,null,null,null,null,"",null,null,null,null,null,"",null,null,null,null,null,"",null,null,null,null,null,"",null,null,null,null,null,"",null,null,null,null,null,"",null,null,null,null,null,"",null,null,null,null,null,"",null,null,null,null,null,"",null,null,null,null,null,"",null,null,null,null,null,"",null,null,null,null,null,""]
[null,null,null,null,null,"",null,null,null,null,null,"",null,null,null,null,null,"",null,null,null,null,null,"",null,null,null,null,null,"",null,null,null,null,null,"",null,null,null,null,null,"",null,null,null,null,null,"",null,null,null,null,null,"",null,null,null,null,null,"",null,null,null,null,null,"",null,null,null,null,null,"",null,null,null,null,null,"",null,null,null,null,null,"",null,null,null,null,null,"",null,null,null,null,null,"",null,null,null,null,null,"",null,null,null,null,null,"",null,null,null,null,null,"",null,null,null,null,null,"",null,null,null,null,null,"",null,null,null,null,null,"",null,null,null,null,null,"",null,null,null,null,null,"",null,null,null,null,null,"",null,null,null,null,null,"",null,null,null,null,null,"",null,null,null,null,null,"",null,null,null,null,null,"",null,null,null,null,null,"",null,null,null,null,null,"",null,null,null,null,null,"",null,null,null,null,null,"",null,null,null,null,null,"",null,null,null,null,null,"",null,null,null,null,null,"",null,null,null,null,null,"",null,null,null,null,null,"",null,null,null,null,null,"",null,null,null,null,null,""]
[null,null,null,null,null,"",null,null,null,null,null,"",null,null,null,null,null,"",null,null,null,null,null,"",null,null,null,null,null,"",null,null,null,null,null,"",null,null,null,null,null,"",null,null,null,null,null,"",null,null,null,null,null,"",null,null,null,null,null,"",null,null,null,null,null,"",null,null,null,null,null,"",null,null,null,null,null,"",null,null,null,null,null,"",null,null,null,null,null,"",null,null,null,null,null,"",null,null,null,null,null,"",null,null,null,null,null,"",null,null,null,null,null,"",null,null,null,null,null,"",null,null,null,null,null,"",null,null,null,null,null,"",null,null,null,null,null,"",null,null,null,null,null,"",null,null,null,null,null,"",null,null,null,null,null,"",null,null,null,null,null,"",null,null,null,null,null,"",null,null,null,null,null,"",null,null,null,null,null,"",null,null,null,null,null,"",null,null,null,null,null,"",null,null,null,null,null,"",null,null,null,null,null,"",null,null,null,null,null,"",null,null,null,null,null,"",null,null,null,null,null,"",null,null,null,null,null,"",null,null,null,null,null,"",null,null,null,null,null,""]
[null,null,null,null,null,"",null,null,null,null,null,"",null,null,null,null,null,"",null,null,null,null,null,"",null,null,null,null,null,"",null,null,null,null,null,"",null,null,null,null,null,"",null,null,null,null,null,"",null,null,null,null,null,"",null,null,null,null,null,"",null,null,null,null,null,"",null,null,null,null,null,"",null,null,null,null,null,"",null,null,null,null,null,"",null,null,null,null,null,"",null,null,null,null,null,"",null,null,null,null,null,"",null,null,null,null,null,"",null,null,null,null,null,"",null,null,null,null,null,"",null,null,null,null,null,"",null,null,null,null,null,"",null,null,null,null,null,"",null,null,null,null,null,"",null,null,null,null,null,"",null,null,null,null,null,"",null,null,null,null,null,"",null,null,null,null,null,"",null,null,null,null,null,"",null,null,null,null,null,"",null,null,null,null,null,"",null,null,null,null,null,"",null,null,null,null,null,"",null,null,null,null,null,"",null,null,null,null,null,"",null,null,null,null,null,"",null,null,null,null,null,"",null,null,null,null,null,"",null,null,null,null,null,"",null,null,null,null,null,""]
[null,null,null,null,null,"",null,null,null,null,null,"",null,null,null,null,null,"",null,null,null,null,null,"",null,null,null,null,null,"",null,null,null,null,null,"",null,null,null,null,null,"",null,null,null,null,null,"",null,null,null,null,null,"",null,null,null,null,null,"",null,null,null,null,null,"",null,null,null,null,null,"",null,null,null,null,null,"",null,null,null,null,null,"",null,null,null,null,null,"",null,null,null,null,null,"",null,null,null,null,null,"",null,null,null,null,null,"",null,null,null,null,null,"",null,null,null,null,null,"",null,null,null,null,null,"",null,null,null,null,null,"",null,null,null,null,null,"",null,null,null,null,null,"",null,null,null,null,null,"",null,null,null,null,null,"",null,null,null,null,null,"",null,null,null,null,null,"",null,null,null,null,null,"",null,null,null,null,null,"",null,null,null,null,null,"",null,null,null,null,null,"",null,null,null,null,null,"",null,null,null,null,null,"",null,null,null,null,null,"",null,null,null,null,null,"",null,null,null,null,null,"",null,null,null,null,null,"",null,null,null,null,null,"",null,null,null,null,null,""]
[null,null,null,null,null,"",null,null,null,null,null,"",null,null,null,null,null,"",null,null,null,null,null,"",null,null,null,null,null,"",null,null,null,null,null,"",null,null,null,null,null,"",null,null,null,null,null,"",null,null,null,null,null,"",null,null,null,null,null,"",null,null,null,null,null,"",null,null,null,null,null,"",null,null,null,null,null,"",null,null,null,null,null,"",null,null,null,null,null,"",null,null,null,null,null,"",null,null,null,null,null,"",null,null,null,null,null,"",null,null,null,null,null,"",null,null,null,null,null,"",null,null,null,null,null,"",null,null,null,null,null,"",null,null,null,null,null,"",null,null,null,null,null,"",null,null,null,null,null,"",null,null,null,null,null,"",null,null,null,null,null,"",null,null,null,null,null,"",null,null,null,null,null,"",null,null,null,null,null,"",null,null,null,null,null,"",null,null,null,null,null,"",null,null,null,null,null,"",null,null,null,null,null,"",null,null,null,null,null,"",null,null,null,null,null,"",null,null,null,null,null,"",null,null,null,null,null,"",null,null,null,null,null,"",null,null,null,null,null,""]
[null,null,null,null,null,"",null,null,null,null,null,"",null,null,null,null,null,"",null,null,null,null,null,"",null,null,null,null,null,"",null,null,null,null,null,"",null,null,null,null,null,"",null,null,null,null,null,"",null,null,null,null,null,"",null,null,null,null,null,"",null,null,null,null,null,"",null,null,null,null,null,"",null,null,null,null,null,"",null,null,null,null,null,"",null,null,null,null,null,"",null,null,null,null,null,"",null,null,null,null,null,"",null,null,null,null,null,"",null,null,null,null,null,"",null,null,null,null,null,"",null,null,null,null,null,"",null,null,null,null,null,"",null,null,null,null,null,"",null,null,null,null,null,"",null,null,null,null,null,"",null,null,null,null,null,"",null,null,null,null,null,"",null,null,null,null,null,"",null,null,null,null,null,"",null,null,null,null,null,"",null,null,null,null,null,"",null,null,null,null,null,"",null,null,null,null,null,"",null,null,null,null,null,"",null,null,null,null,null,"",null,null,null,null,null,"",null,null,null,null,null,"",null,null,null,null,null,"",null,null,null,null,null,"",null,null,null,null,null,""]
[null,null,null,null,null,"",null,null,null,null,null,"",null,null,null,null,null,"",null,null,null,null,null,"",null,null,null,null,null,"",null,null,null,null,null,"",null,null,null,null,null,"",null,null,null,null,null,"",null,null,null,null,null,"",null,null,null,null,null,"",null,null,null,null,null,"",null,null,null,null,null,"",null,null,null,null,null,"",null,null,null,null,null,"",null,null,null,null,null,"",null,null,null,null,null,"",null,null,null,null,null,"",null,null,null,null,null,"",null,null,null,null,null,"",null,null,null,null,null,"",null,null,null,null,null,"",null,null,null,null,null,"",null,null,null,null,null,"",null,null,null,null,null,"",null,null,null,null,null,"",null,null,null,null,null,"",null,null,null,null,null,"",null,null,null,null,null,"",null,null,null,null,null,"",null,null,null,null,null,"",null,null,null,null,null,"",null,null,null,null,null,"",null,null,null,null,null,"",null,null,null,null,null,"",null,null,null,null,null,"",null,null,null,null,null,"",null,null,null,null,null,"",null,null,null,null,null,"",null,null,null,null,null,"",null,null,null,null,null,""]
[null,null,null,null,null,"",null,null,null,null,null,"",null,null,null,null,null,"",null,null,null,null,null,"",null,null,null,null,null,"",null,null,null,null,null,"",null,null,null,null,null,"",null,null,null,null,null,"",null,null,null,null,null,"",null,null,null,null,null,"",null,null,null,null,null,"",null,null,null,null,null,"",null,null,null,null,null,"",null,null,null,null,null,"",null,null,null,null,null,"",null,null,null,null,null,"",null,null,null,null,null,"",null,null,null,null,null,"",null,null,null,null,null,"",null,null,null,null,null,"",null,null,null,null,null,"",null,null,null,null,null,"",null,null,null,null,null,"",null,null,null,null,null,"",null,null,null,null,null,"",null,null,null,null,null,"",null,null,null,null,null,"",null,null,null,null,null,"",null,null,null,null,null,"",null,null,null,null,null,"",null,null,null,null,null,"",null,null,null,null,null,"",null,null,null,null,null,"",null,null,null,null,null,"",null,null,null,null,null,"",null,null,null,null,null,"",null,null,null,null,null,"",null,null,null,null,null,"",null,null,null,null,null,"",null,null,null,null,null,""]
[null,null,null,null,null,"",null,null,null,null,null,"",null,null,null,null,null,"",null,null,null,null,null,"",null,null,null,null,null,"",null,null,null,null,null,"",null,null,null,null,null,"",null,null,null,null,null,"",null,null,null,null,null,"",null,null,null,null,null,"",null,null,null,null,null,"",null,null,null,null,null,"",null,null,null,null,null,"",null,null,null,null,null,"",null,null,null,null,null,"",null,null,null,null,null,"",null,null,null,null,null,"",null,null,null,null,null,"",null,null,null,null,null,"",null,null,null,null,null,"",null,null,null,null,null,"",null,null,null,null,null,"",null,null,null,null,null,"",null,null,null,null,null,"",null,null,null,null,null,"",null,null,null,null,null,"",null,null,null,null,null,"",null,null,null,null,null,"",null,null,null,null,null,"",null,null,null,null,null,"",null,null,null,null,null,"",null,null,null,null,null,"",null,null,null,null,null,"",null,null,null,null,null,"",null,null,null,null,null,"",null,null,null,null,null,"",null,null,null,null,null,"",null,null,null,null,null,"",null,null,null,null,null,"",null,null,null,null,null,""]
[null,null,null,null,null,"",null,null,null,null,null,"",null,null,null,null,null,"",null,null,null,null,null,"",null,null,null,null,null,"",null,null,null,null,null,"",null,null,null,null,null,"",null,null,null,null,null,"",null,null,null,null,null,"",null,null,null,null,null,"",null,null,null,null,null,"",null,null,null,null,null,"",null,null,null,null,null,"",null,null,null,null,null,"",null,null,null,null,null,"",null,null,null,null,null,"",null,null,null,null,null,"",null,null,null,null,null,"",null,null,null,null,null,"",null,null,null,null,null,"",null,null,null,null,null,"",null,null,null,null,null,"",null,null,null,null,null,"",null,null,null,null,null,"",null,null,null,null,null,"",null,null,null,null,null,"",null,null,null,null,null,"",null,null,null,null,null,"",null,null,null,null,null,"",null,null,null,null,null,"",null,null,null,null,null,"",null,null,null,null,null,"",null,null,null,null,null,"",null,null,null,null,null,"",null,null,null,null,null,"",null,null,null,null,null,"",null,null,null,null,null,"",null,null,null,null,null,"",null,null,null,null,null,"",null,null,null,null,null,""]
[null,null,null,null,null,"",null,null,null,null,null,"",null,null,null,null,null,"",null,null,null,null,null,"",null,null,null,null,null,"",null,null,null,null,null,"",null,null,null,null,null,"",null,null,null,null,null,"",null,null,null,null,null,"",null,null,null,null,null,"",null,null,null,null,null,"",null,null,null,null,null,"",null,null,null,null,null,"",null,null,null,null,null,"",null,null,null,null,null,"",null,null,null,null,null,"",null,null,null,null,null,"",null,null,null,null,null,"",null,null,null,null,null,"",null,null,null,null,null,"",null,null,null,null,null,"",null,null,null,null,null,"",null,null,null,null,null,"",null,null,null,null,null,"",null,null,null,null,null,"",null,null,null,null,null,"",null,null,null,null,null,"",null,null,null,null,null,"",null,null,null,null,null,"",null,null,null,null,null,"",null,null,null,null,null,"",null,null,null,null,null,"",null,null,null,null,null,"",null,null,null,null,null,"",null,null,null,null,null,"",null,null,null,null,null,"",null,null,null,null,null,"",null,null,null,null,null,"",null,null,null,null,null,"",null,null,null,null,null,""]
[null,null,null,null,null,"",null,null,null,null,null,"",null,null,null,null,null,"",null,null,null,null,null,"",null,null,null,null,null,"",null,null,null,null,null,"",null,null,null,null,null,"",null,null,null,null,null,"",null,null,null,null,null,"",null,null,null,null,null,"",null,null,null,null,null,"",null,null,null,null,null,"",null,null,null,null,null,"",null,null,null,null,null,"",null,null,null,null,null,"",null,null,null,null,null,"",null,null,null,null,null,"",null,null,null,null,null,"",null,null,null,null,null,"",null,null,null,null,null,"",null,null,null,null,null,"",null,null,null,null,null,"",null,null,null,null,null,"",null,null,null,null,null,"",null,null,null,null,null,"",null,null,null,null,null,"",null,null,null,null,null,"",null,null,null,null,null,"",null,null,null,null,null,"",null,null,null,null,null,"",null,null,null,null,null,"",null,null,null,null,null,"",null,null,null,null,null,"",null,null,null,null,null,"",null,null,null,null,null,"",null,null,null,null,null,"",null,null,null,null,null,"",null,null,null,null,null,"",null,null,null,null,null,"",null,null,null,null,null,""]
[null,null,null,null,null,"",null,null,null,null,null,"",null,null,null,null,null,"",null,null,null,null,null,"",null,null,null,null,null,"",null,null,null,null,null,"",null,null,null,null,null,"",null,null,null,null,null,"",null,null,null,null,null,"",null,null,null,null,null,"",null,null,null,null,null,"",null,null,null,null,null,"",null,null,null,null,null,"",null,null,null,null,null,"",null,null,null,null,null,"",null,null,null,null,null,"",null,null,null,null,null,"",null,null,null,null,null,"",null,null,null,null,null,"",null,null,null,null,null,"",null,null,null,null,null,"",null,null,null,null,null,"",null,null,null,null,null,"",null,null,null,null,null,"",null,null,null,null,null,"",null,null,null,null,null,"",null,null,null,null,null,"",null,null,null,null,null,"",null,null,null,null,null,"",null,null,null,null,null,"",null,null,null,null,null,"",null,null,null,null,null,"",null,null,null,null,null,"",null,null,null,null,null,"",null,null,null,null,null,"",null,null,null,null,null,"",null,null,null,null,null,"",null,null,null,null,null,"",null,null,null,null,null,"",null,null,null,null,null,""]
[null,null,null,null,null,"",null,null,null,null,null,"",null,null,null,null,null,"",null,null,null,null,null,"",null,null,null,null,null,"",null,null,null,null,null,"",null,null,null,null,null,"",null,null,null,null,null,"",null,null,null,null,null,"",null,null,null,null,null,"",null,null,null,null,null,"",null,null,null,null,null,"",null,null,null,null,null,"",null,null,null,null,null,"",null,null,null,null,null,"",null,null,null,null,null,"",null,null,null,null,null,"",null,null,null,null,null,"",null,null,null,null,null,"",null,null,null,null,null,"",null,null,null,null,null,"",null,null,null,null,null,"",null,null,null,null,null,"",null,null,null,null,null,"",null,null,null,null,null,"",null,null,null,null,null,"",null,null,null,null,null,"",null,null,null,null,null,"",null,null,null,null,null,"",null,null,null,null,null,"",null,null,null,null,null,"",null,null,null,null,null,"",null,null,null,null,null,"",null,null,null,null,null,"",null,null,null,null,null,"",null,null,null,null,null,"",null,null,null,null,null,"",null,null,null,null,null,"",null,null,null,null,null,"",null,null,null,null,null,""]
[null,null,null,null,null,"",null,null,null,null,null,"",null,null,null,null,null,"",null,null,null,null,null,"",null,null,null,null,null,"",null,null,null,null,null,"",null,null,null,null,null,"",null,null,null,null,null,"",null,null,null,null,null,"",null,null,null,null,null,"",null,null,null,null,null,"",null,null,null,null,null,"",null,null,null,null,null,"",null,null,null,null,null,"",null,null,null,null,null,"",null,null,null,null,null,"",null,null,null,null,null,"",null,null,null,null,null,"",null,null,null,null,null,"",null,null,null,null,null,"",null,null,null,null,null,"",null,null,null,null,null,"",null,null,null,null,null,"",null,null,null,null,null,"",null,null,null,null,null,"",null,null,null,null,null,"",null,null,null,null,null,"",null,null,null,null,null,"",null,null,null,null,null,"",null,null,null,null,null,"",null,null,null,null,null,"",null,null,null,null,null,"",null,null,null,null,null,"",null,null,null,null,null,"",null,null,null,null,null,"",null,null,null,null,null,"",null,null,null,null,null,"",null,null,null,null,null,"",null,null,null,null,null,"",null,null,null,null,null,""]
[null,null,null,null,null,"",null,null,null,null,null,"",null,null,null,null,null,"",null,null,null,null,null,"",null,null,null,null,null,"",null,null,null,null,null,"",null,null,null,null,null,"",null,null,null,null,null,"",null,null,null,null,null,"",null,null,null,null,null,"",null,null,null,null,null,"",null,null,null,null,null,"",null,null,null,null,null,"",null,null,null,null,null,"",null,null,null,null,null,"",null,null,null,null,null,"",null,null,null,null,null,"",null,null,null,null,null,"",null,null,null,null,null,"",null,null,null,null,null,"",null,null,null,null,null,"",null,null,null,null,null,"",null,null,null,null,null,"",null,null,null,null,null,"",null,null,null,null,null,"",null,null,null,null,null,"",null,null,null,null,null,"",null,null,null,null,null,"",null,null,null,null,null,"",null,null,null,null,null,"",null,null,null,null,null,"",null,null,null,null,null,"",null,null,null,null,null,"",null,null,null,null,null,"",null,null,null,null,null,"",null,null,null,null,null,"",null,null,null,null,null,"",null,null,null,null,null,"",null,null,null,null,null,"",null,null,null,null,null,""]
[null,null,null,null,null,"",null,null,null,null,null,"",null,null,null,null,null,"",null,null,null,null,null,"",null,null,null,null,null,"",null,null,null,null,null,"",null,null,null,null,null,"",null,null,null,null,null,"",null,null,null,null,null,"",null,null,null,null,null,"",null,null,null,null,null,"",null,null,null,null,null,"",null,null,null,null,null,"",null,null,null,null,null,"",null,null,null,null,null,"",null,null,null,null,null,"",null,null,null,null,null,"",null,null,null,null,null,"",null,null,null,null,null,"",null,null,null,null,null,"",null,null,null,null,null,"",null,null,null,null,null,"",null,null,null,null,null,"",null,null,null,null,null,"",null,null,null,null,null,"",null,null,null,null,null,"",null,null,null,null,null,"",null,null,null,null,null,"",null,null,null,null,null,"",null,null,null,null,null,"",null,null,null,null,null,"",null,null,null,null,null,"",null,null,null,null,null,"",null,null,null,null,null,"",null,null,null,null,null,"",null,null,null,null,null,"",null,null,null,null,null,"",null,null,null,null,null,"",null,null,null,null,null,"",null,null,null,null,null,""]
[null,null,null,null,null,"",null,null,null,null,null,"",null,null,null,null,null,"",null,null,null,null,null,"",null,null,null,null,null,"",null,null,null,null,null,"",null,null,null,null,null,"",null,null,null,null,null,"",null,null,null,null,null,"",null,null,null,null,null,"",null,null,null,null,null,"",null,null,null,null,null,"",null,null,null,null,null,"",null,null,null,null,null,"",null,null,null,null,null,"",null,null,null,null,null,"",null,null,null,null,null,"",null,null,null,null,null,"",null,null,null,null,null,"",null,null,null,null,null,"",null,null,null,null,null,"",null,null,null,null,null,"",null,null,null,null,null,"",null,null,null,null,null,"",null,null,null,null,null,"",null,null,null,null,null,"",null,null,null,null,null,"",null,null,null,null,null,"",null,null,null,null,null,"",null,null,null,null,null,"",null,null,null,null,null,"",null,null,null,null,null,"",null,null,null,null,null,"",null,null,null,null,null,"",null,null,null,null,null,"",null,null,null,null,null,"",null,null,null,null,null,"",null,null,null,null,null,"",null,null,null,null,null,"",null,null,null,null,null,""]
[null,null,null,null,null,"",null,null,null,null,null,"",null,null,null,null,null,"",null,null,null,null,null,"",null,null,null,null,null,"",null,null,null,null,null,"",null,null,null,null,null,"",null,null,null,null,null,"",null,null,null,null,null,"",null,null,null,null,null,"",null,null,null,null,null,"",null,null,null,null,null,"",null,null,null,null,null,"",null,null,null,null,null,"",null,null,null,null,null,"",null,null,null,null,null,"",null,null,null,null,null,"",null,null,null,null,null,"",null,null,null,null,null,"",null,null,null,null,null,"",null,null,null,null,null,"",null,null,null,null,null,"",null,null,null,null,null,"",null,null,null,null,null,"",null,null,null,null,null,"",null,null,null,null,null,"",null,null,null,null,null,"",null,null,null,null,null,"",null,null,null,null,null,"",null,null,null,null,null,"",null,null,null,null,null,"",null,null,null,null,null,"",null,null,null,null,null,"",null,null,null,null,null,"",null,null,null,null,null,"",null,null,null,null,null,"",null,null,null,null,null,"",null,null,null,null,null,"",null,null,null,null,null,"",null,null,null,null,null,""]
[null,null,null,null,null,"",null,null,null,null,null,"",null,null,null,null,null,"",null,null,null,null,null,"",null,null,null,null,null,"",null,null,null,null,null,"",null,null,null,null,null,"",null,null,null,null,null,"",null,null,null,null,null,"",null,null,null,null,null,"",null,null,null,null,null,"",null,null,null,null,null,"",null,null,null,null,null,"",null,null,null,null,null,"",null,null,null,null,null,"",null,null,null,null,null,"",null,null,null,null,null,"",null,null,null,null,null,"",null,null,null,null,null,"",null,null,null,null,null,"",null,null,null,null,null,"",null,null,null,null,null,"",null,null,null,null,null,"",null,null,null,null,null,"",null,null,null,null,null,"",null,null,null,null,null,"",null,null,null,null,null,"",null,null,null,null,null,"",null,null,null,null,null,"",null,null,null,null,null,"",null,null,null,null,null,"",null,null,null,null,null,"",null,null,null,null,null,"",null,null,null,null,null,"",null,null,null,null,null,"",null,null,null,null,null,"",null,null,null,null,null,"",null,null,null,null,null,"",null,null,null,null,null,"",null,null,null,null,null,""]
[null,null,null,null,null,"",null,null,null,null,null,"",null,null,null,null,null,"",null,null,null,null,null,"",null,null,null,null,null,"",null,null,null,null,null,"",null,null,null,null,null,"",null,null,null,null,null,"",null,null,null,null,null,"",null,null,null,null,null,"",null,null,null,null,null,"",null,null,null,null,null,"",null,null,null,null,null,"",null,null,null,null,null,"",null,null,null,null,null,"",null,null,null,null,null,"",null,null,null,null,null,"",null,null,null,null,null,"",null,null,null,null,null,"",null,null,null,null,null,"",null,null,null,null,null,"",null,null,null,null,null,"",null,null,null,null,null,"",null,null,null,null,null,"",null,null,null,null,null,"",null,null,null,null,null,"",null,null,null,null,null,"",null,null,null,null,null,"",null,null,null,null,null,"",null,null,null,null,null,"",null,null,null,null,null,"",null,null,null,null,null,"",null,null,null,null,null,"",null,null,null,null,null,"",null,null,null,null,null,"",null,null,null,null,null,"",null,null,null,null,null,"",null,null,null,null,null,"",null,null,null,null,null,"",null,null,null,null,null,""]
[null,null,null,null,null,"",null,null,null,null,null,"",null,null,null,null,null,"",null,null,null,null,null,"",null,null,null,null,null,"",null,null,null,null,null,"",null,null,null,null,null,"",null,null,null,null,null,"",null,null,null,null,null,"",null,null,null,null,null,"",null,null,null,null,null,"",null,null,null,null,null,"",null,null,null,null,null,"",null,null,null,null,null,"",null,null,null,null,null,"",null,null,null,null,null,"",null,null,null,null,null,"",null,null,null,null,null,"",null,null,null,null,null,"",null,null,null,null,null,"",null,null,null,null,null,"",null,null,null,null,null,"",null,null,null,null,null,"",null,null,null,null,null,"",null,null,null,null,null,"",null,null,null,null,null,"",null,null,null,null,null,"",null,null,null,null,null,"",null,null,null,null,null,"",null,null,null,null,null,"",null,null,null,null,null,"",null,null,null,null,null,"",null,null,null,null,null,"",null,null,null,null,null,"",null,null,null,null,null,"",null,null,null,null,null,"",null,null,null,null,null,"",null,null,null,null,null,"",null,null,null,null,null,"",null,null,null,null,null,""]
[null,null,null,null,null,"",null,null,null,null,null,"",null,null,null,null,null,"",null,null,null,null,null,"",null,null,null,null,null,"",null,null,null,null,null,"",null,null,null,null,null,"",null,null,null,null,null,"",null,null,null,null,null,"",null,null,null,null,null,"",null,null,null,null,null,"",null,null,null,null,null,"",null,null,null,null,null,"",null,null,null,null,null,"",null,null,null,null,null,"",null,null,null,null,null,"",null,null,null,null,null,"",null,null,null,null,null,"",null,null,null,null,null,"",null,null,null,null,null,"",null,null,null,null,null,"",null,null,null,null,null,"",null,null,null,null,null,"",null,null,null,null,null,"",null,null,null,null,null,"",null,null,null,null,null,"",null,null,null,null,null,"",null,null,null,null,null,"",null,null,null,null,null,"",null,null,null,null,null,"",null,null,null,null,null,"",null,null,null,null,null,"",null,null,null,null,null,"",null,null,null,null,null,"",null,null,null,null,null,"",null,null,null,null,null,"",null,null,null,null,null,"",null,null,null,null,null,"",null,null,null,null,null,"",null,null,null,null,null,""]
[null,null,null,null,null,"",null,null,null,null,null,"",null,null,null,null,null,"",null,null,null,null,null,"",null,null,null,null,null,"",null,null,null,null,null,"",null,null,null,null,null,"",null,null,null,null,null,"",null,null,null,null,null,"",null,null,null,null,null,"",null,null,null,null,null,"",null,null,null,null,null,"",null,null,null,null,null,"",null,null,null,null,null,"",null,null,null,null,null,"",null,null,null,null,null,"",null,null,null,null,null,"",null,null,null,null,null,"",null,null,null,null,null,"",null,null,null,null,null,"",null,null,null,null,null,"",null,null,null,null,null,"",null,null,null,null,null,"",null,null,null,null,null,"",null,null,null,null,null,"",null,null,null,null,null,"",null,null,null,null,null,"",null,null,null,null,null,"",null,null,null,null,null,"",null,null,null,null,null,"",null,null,null,null,null,"",null,null,null,null,null,"",null,null,null,null,null,"",null,null,null,null,null,"",null,null,null,null,null,"",null,null,null,null,null,"",null,null,null,null,null,"",null,null,null,null,null,"",null,null,null,null,null,"",null,null,null,null,null,""]
[null,null,null,null,null,"",null,null,null,null,null,"",null,null,null,null,null,"",null,null,null,null,null,"",null,null,null,null,null,"",null,null,null,null,null,"",null,null,null,null,null,"",null,null,null,null,null,"",null,null,null,null,null,"",null,null,null,null,null,"",null,null,null,null,null,"",null,null,null,null,null,"",null,null,null,null,null,"",null,null,null,null,null,"",null,null,null,null,null,"",null,null,null,null,null,"",null,null,null,null,null,"",null,null,null,null,null,"",null,null,null,null,null,"",null,null,null,null,null,"",null,null,null,null,null,"",null,null,null,null,null,"",null,null,null,null,null,"",null,null,null,null,null,"",null,null,null,null,null,"",null,null,null,null,null,"",null,null,null,null,null,"",null,null,null,null,null,"",null,null,null,null,null,"",null,null,null,null,null,"",null,null,null,null,null,"",null,null,null,null,null,"",null,null,null,null,null,"",null,null,null,null,null,"",null,null,null,null,null,"",null,null,null,null,null,"",null,null,null,null,null,"",null,null,null,null,null,"",null,null,null,null,null,"",null,null,null,null,null,""]
[null,null,null,null,null,"",null,null,null,null,null,"",null,null,null,null,null,"",null,null,null,null,null,"",null,null,null,null,null,"",null,null,null,null,null,"",null,null,null,null,null,"",null,null,null,null,null,"",null,null,null,null,null,"",null,null,null,null,null,"",null,null,null,null,null,"",null,null,null,null,null,"",null,null,null,null,null,"",null,null,null,null,null,"",null,null,null,null,null,"",null,null,null,null,null,"",null,null,null,null,null,"",null,null,null,null,null,"",null,null,null,null,null,"",null,null,null,null,null,"",null,null,null,null,null,"",null,null,null,null,null,"",null,null,null,null,null,"",null,null,null,null,null,"",null,null,null,null,null,"",null,null,null,null,null,"",null,null,null,null,null,"",null,null,null,null,null,"",null,null,null,null,null,"",null,null,null,null,null,"",null,null,null,null,null,"",null,null,null,null,null,"",null,null,null,null,null,"",null,null,null,null,null,"",null,null,null,null,null,"",null,null,null,null,null,"",null,null,null,null,null,"",null,null,null,null,null,"",null,null,null,null,null,"",null,null,null,null,null,""]
[null,null,null,null,null,"",null,null,null,null,null,"",null,null,null,null,null,"",null,null,null,null,null,"",null,null,null,null,null,"",null,null,null,null,null,"",null,null,null,null,null,"",null,null,null,null,null,"",null,null,null,null,null,"",null,null,null,null,null,"",null,null,null,null,null,"",null,null,null,null,null,"",null,null,null,null,null,"",null,null,null,null,null,"",null,null,null,null,null,"",null,null,null,null,null,"",null,null,null,null,null,"",null,null,null,null,null,"",null,null,null,null,null,"",null,null,null,null,null,"",null,null,null,null,null,"",null,null,null,null,null,"",null,null,null,null,null,"",null,null,null,null,null,"",null,null,null,null,null,"",null,null,null,null,null,"",null,null,null,null,null,"",null,null,null,null,null,"",null,null,null,null,null,"",null,null,null,null,null,"",null,null,null,null,null,"",null,null,null,null,null,"",null,null,null,null,null,"",null,null,null,null,null,"",null,null,null,null,null,"",null,null,null,null,null,"",null,null,null,null,null,"",null,null,null,null,null,"",null,null,null,null,null,"",null,null,null,null,null,""]
[null,null,null,null,null,"",null,null,null,null,null,"",null,null,null,null,null,"",null,null,null,null,null,"",null,null,null,null,null,"",null,null,null,null,null,"",null,null,null,null,null,"",null,null,null,null,null,"",null,null,null,null,null,"",null,null,null,null,null,"",null,null,null,null,null,"",null,null,null,null,null,"",null,null,null,null,null,"",null,null,null,null,null,"",null,null,null,null,null,"",null,null,null,null,null,"",null,null,null,null,null,"",null,null,null,null,null,"",null,null,null,null,null,"",null,null,null,null,null,"",null,null,null,null,null,"",null,null,null,null,null,"",null,null,null,null,null,"",null,null,null,null,null,"",null,null,null,null,null,"",null,null,null,null,null,"",null,null,null,null,null,"",null,null,null,null,null,"",null,null,null,null,null,"",null,null,null,null,null,"",null,null,null,null,null,"",null,null,null,null,null,"",null,null,null,null,null,"",null,null,null,null,null,"",null,null,null,null,null,"",null,null,null,null,null,"",null,null,null,null,null,"",null,null,null,null,null,"",null,null,null,null,null,"",null,null,null,null,null,""]
[null,null,null,null,null,"",null,null,null,null,null,"",null,null,null,null,null,"",null,null,null,null,null,"",null,null,null,null,null,"",null,null,null,null,null,"",null,null,null,null,null,"",null,null,null,null,null,"",null,null,null,null,null,"",null,null,null,null,null,"",null,null,null,null,null,"",null,null,null,null,null,"",null,null,null,null,null,"",null,null,null,null,null,"",null,null,null,null,null,"",null,null,null,null,null,"",null,null,null,null,null,"",null,null,null,null,null,"",null,null,null,null,null,"",null,null,null,null,null,"",null,null,null,null,null,"",null,null,null,null,null,"",null,null,null,null,null,"",null,null,null,null,null,"",null,null,null,null,null,"",null,null,null,null,null,"",null,null,null,null,null,"",null,null,null,null,null,"",null,null,null,null,null,"",null,null,null,null,null,"",null,null,null,null,null,"",null,null,null,null,null,"",null,null,null,null,null,"",null,null,null,null,null,"",null,null,null,null,null,"",null,null,null,null,null,"",null,null,null,null,null,"",null,null,null,null,null,"",null,null,null,null,null,"",null,null,null,null,null,""]
[null,null,null,null,null,"",null,null,null,null,null,"",null,null,null,null,null,"",null,null,null,null,null,"",null,null,null,null,null,"",null,null,null,null,null,"",null,null,null,null,null,"",null,null,null,null,null,"",null,null,null,null,null,"",null,null,null,null,null,"",null,null,null,null,null,"",null,null,null,null,null,"",null,null,null,null,null,"",null,null,null,null,null,"",null,null,null,null,null,"",null,null,null,null,null,"",null,null,null,null,null,"",null,null,null,null,null,"",null,null,null,null,null,"",null,null,null,null,null,"",null,null,null,null,null,"",null,null,null,null,null,"",null,null,null,null,null,"",null,null,null,null,null,"",null,null,null,null,null,"",null,null,null,null,null,"",null,null,null,null,null,"",null,null,null,null,null,"",null,null,null,null,null,"",null,null,null,null,null,"",null,null,null,null,null,"",null,null,null,null,null,"",null,null,null,null,null,"",null,null,null,null,null,"",null,null,null,null,null,"",null,null,null,null,null,"",null,null,null,null,null,"",null,null,null,null,null,"",null,null,null,null,null,"",null,null,null,null,null,""]
[null,null,null,null,null,"",null,null,null,null,null,"",null,null,null,null,null,"",null,null,null,null,null,"",null,null,null,null,null,"",null,null,null,null,null,"",null,null,null,null,null,"",null,null,null,null,null,"",null,null,null,null,null,"",null,null,null,null,null,"",null,null,null,null,null,"",null,null,null,null,null,"",null,null,null,null,null,"",null,null,null,null,null,"",null,null,null,null,null,"",null,null,null,null,null,"",null,null,null,null,null,"",null,null,null,null,null,"",null,null,null,null,null,"",null,null,null,null,null,"",null,null,null,null,null,"",null,null,null,null,null,"",null,null,null,null,null,"",null,null,null,null,null,"",null,null,null,null,null,"",null,null,null,null,null,"",null,null,null,null,null,"",null,null,null,null,null,"",null,null,null,null,null,"",null,null,null,null,null,"",null,null,null,null,null,"",null,null,null,null,null,"",null,null,null,null,null,"",null,null,null,null,null,"",null,null,null,null,null,"",null,null,null,null,null,"",null,null,null,null,null,"",null,null,null,null,null,"",null,null,null,null,null,"",null,null,null,null,null,""]
[null,null,null,null,null,"",null,null,null,null,null,"",null,null,null,null,null,"",null,null,null,null,null,"",null,null,null,null,null,"",null,null,null,null,null,"",null,null,null,null,null,"",null,null,null,null,null,"",null,null,null,null,null,"",null,null,null,null,null,"",null,null,null,null,null,"",null,null,null,null,null,"",null,null,null,null,null,"",null,null,null,null,null,"",null,null,null,null,null,"",null,null,null,null,null,"",null,null,null,null,null,"",null,null,null,null,null,"",null,null,null,null,null,"",null,null,null,null,null,"",null,null,null,null,null,"",null,null,null,null,null,"",null,null,null,null,null,"",null,null,null,null,null,"",null,null,null,null,null,"",null,null,null,null,null,"",null,null,null,null,null,"",null,null,null,null,null,"",null,null,null,null,null,"",null,null,null,null,null,"",null,null,null,null,null,"",null,null,null,null,null,"",null,null,null,null,null,"",null,null,null,null,null,"",null,null,null,null,null,"",null,null,null,null,null,"",null,null,null,null,null,"",null,null,null,null,null,"",null,null,null,null,null,"",null,null,null,null,null,""]
[null,null,null,null,null,"",null,null,null,null,null,"",null,null,null,null,null,"",null,null,null,null,null,"",null,null,null,null,null,"",null,null,null,null,null,"",null,null,null,null,null,"",null,null,null,null,null,"",null,null,null,null,null,"",null,null,null,null,null,"",null,null,null,null,null,"",null,null,null,null,null,"",null,null,null,null,null,"",null,null,null,null,null,"",null,null,null,null,null,"",null,null,null,null,null,"",null,null,null,null,null,"",null,null,null,null,null,"",null,null,null,null,null,"",null,null,null,null,null,"",null,null,null,null,null,"",null,null,null,null,null,"",null,null,null,null,null,"",null,null,null,null,null,"",null,null,null,null,null,"",null,null,null,null,null,"",null,null,null,null,null,"",null,null,null,null,null,"",null,null,null,null,null,"",null,null,null,null,null,"",null,null,null,null,null,"",null,null,null,null,null,"",null,null,null,null,null,"",null,null,null,null,null,"",null,null,null,null,null,"",null,null,null,null,null,"",null,null,null,null,null,"",null,null,null,null,null,"",null,null,null,null,null,"",null,null,null,null,null,""]
[null,null,null,null,null,"",null,null,null,null,null,"",null,null,null,null,null,"",null,null,null,null,null,"",null,null,null,null,null,"",null,null,null,null,null,"",null,null,null,null,null,"",null,null,null,null,null,"",null,null,null,null,null,"",null,null,null,null,null,"",null,null,null,null,null,"",null,null,null,null,null,"",null,null,null,null,null,"",null,null,null,null,null,"",null,null,null,null,null,"",null,null,null,null,null,"",null,null,null,null,null,"",null,null,null,null,null,"",null,null,null,null,null,"",null,null,null,null,null,"",null,null,null,null,null,"",null,null,null,null,null,"",null,null,null,null,null,"",null,null,null,null,null,"",null,null,null,null,null,"",null,null,null,null,null,"",null,null,null,null,null,"",null,null,null,null,null,"",null,null,null,null,null,"",null,null,null,null,null,"",null,null,null,null,null,"",null,null,null,null,null,"",null,null,null,null,null,"",null,null,null,null,null,"",null,null,null,null,null,"",null,null,null,null,null,"",null,null,null,null,null,"",null,null,null,null,null,"",null,null,null,null,null,"",null,null,null,null,null,""]
[null,null,null,null,null,"",null,null,null,null,null,"",null,null,null,null,null,"",null,null,null,null,null,"",null,null,null,null,null,"",null,null,null,null,null,"",null,null,null,null,null,"",null,null,null,null,null,"",null,null,null,null,null,"",null,null,null,null,null,"",null,null,null,null,null,"",null,null,null,null,null,"",null,null,null,null,null,"",null,null,null,null,null,"",null,null,null,null,null,"",null,null,null,null,null,"",null,null,null,null,null,"",null,null,null,null,null,"",null,null,null,null,null,"",null,null,null,null,null,"",null,null,null,null,null,"",null,null,null,null,null,"",null,null,null,null,null,"",null,null,null,null,null,"",null,null,null,null,null,"",null,null,null,null,null,"",null,null,null,null,null,"",null,null,null,null,null,"",null,null,null,null,null,"",null,null,null,null,null,"",null,null,null,null,null,"",null,null,null,null,null,"",null,null,null,null,null,"",null,null,null,null,null,"",null,null,null,null,null,"",null,null,null,null,null,"",null,null,null,null,null,"",null,null,null,null,null,"",null,null,null,null,null,"",null,null,null,null,null,""]
[null,null,null,null,null,"",null,null,null,null,null,"",null,null,null,null,null,"",null,null,null,null,null,"",null,null,null,null,null,"",null,null,null,null,null,"",null,null,null,null,null,"",null,null,null,null,null,"",null,null,null,null,null,"",null,null,null,null,null,"",null,null,null,null,null,"",null,null,null,null,null,"",null,null,null,null,null,"",null,null,null,null,null,"",null,null,null,null,null,"",null,null,null,null,null,"",null,null,null,null,null,"",null,null,null,null,null,"",null,null,null,null,null,"",null,null,null,null,null,"",null,null,null,null,null,"",null,null,null,null,null,"",null,null,null,null,null,"",null,null,null,null,null,"",null,null,null,null,null,"",null,null,null,null,null,"",null,null,null,null,null,"",null,null,null,null,null,"",null,null,null,null,null,"",null,null,null,null,null,"",null,null,null,null,null,"",null,null,null,null,null,"",null,null,null,null,null,"",null,null,null,null,null,"",null,null,null,null,null,"",null,null,null,null,null,"",null,null,null,null,null,"",null,null,null,null,null,"",null,null,null,null,null,"",null,null,null,null,null,""]
[null,null,null,null,null,"",null,null,null,null,null,"",null,null,null,null,null,"",null,null,null,null,null,"",null,null,null,null,null,"",null,null,null,null,null,"",null,null,null,null,null,"",null,null,null,null,null,"",null,null,null,null,null,"",null,null,null,null,null,"",null,null,null,null,null,"",null,null,null,null,null,"",null,null,null,null,null,"",null,null,null,null,null,"",null,null,null,null,null,"",null,null,null,null,null,"",null,null,null,null,null,"",null,null,null,null,null,"",null,null,null,null,null,"",null,null,null,null,null,"",null,null,null,null,null,"",null,null,null,null,null,"",null,null,null,null,null,"",null,null,null,null,null,"",null,null,null,null,null,"",null,null,null,null,null,"",null,null,null,null,null,"",null,null,null,null,null,"",null,null,null,null,null,"",null,null,null,null,null,"",null,null,null,null,null,"",null,null,null,null,null,"",null,null,null,null,null,"",null,null,null,null,null,"",null,null,null,null,null,"",null,null,null,null,null,"",null,null,null,null,null,"",null,null,null,null,null,"",null,null,null,null,null,"",null,null,null,null,null,""]
[null,null,null,null,null,"",null,null,null,null,null,"",null,null,null,null,null,"",null,null,null,null,null,"",null,null,null,null,null,"",null,null,null,null,null,"",null,null,null,null,null,"",null,null,null,null,null,"",null,null,null,null,null,"",null,null,null,null,null,"",null,null,null,null,null,"",null,null,null,null,null,"",null,null,null,null,null,"",null,null,null,null,null,"",null,null,null,null,null,"",null,null,null,null,null,"",null,null,null,null,null,"",null,null,null,null,null,"",null,null,null,null,null,"",null,null,null,null,null,"",null,null,null,null,null,"",null,null,null,null,null,"",null,null,null,null,null,"",null,null,null,null,null,"",null,null,null,null,null,"",null,null,null,null,null,"",null,null,null,null,null,"",null,null,null,null,null,"",null,null,null,null,null,"",null,null,null,null,null,"",null,null,null,null,null,"",null,null,null,null,null,"",null,null,null,null,null,"",null,null,null,null,null,"",null,null,null,null,null,"",null,null,null,null,null,"",null,null,null,null,null,"",null,null,null,null,null,"",null,null,null,null,null,"",null,null,null,null,null,""]
[null,null,null,null,null,"",null,null,null,null,null,"",null,null,null,null,null,"",null,null,null,null,null,"",null,null,null,null,null,"",null,null,null,null,null,"",null,null,null,null,null,"",null,null,null,null,null,"",null,null,null,null,null,"",null,null,null,null,null,"",null,null,null,null,null,"",null,null,null,null,null,"",null,null,null,null,null,"",null,null,null,null,null,"",null,null,null,null,null,"",null,null,null,null,null,"",null,null,null,null,null,"",null,null,null,null,null,"",null,null,null,null,null,"",null,null,null,null,null,"",null,null,null,null,null,"",null,null,null,null,null,"",null,null,null,null,null,"",null,null,null,null,null,"",null,null,null,null,null,"",null,null,null,null,null,"",null,null,null,null,null,"",null,null,null,null,null,"",null,null,null,null,null,"",null,null,null,null,null,"",null,null,null,null,null,"",null,null,null,null,null,"",null,null,null,null,null,"",null,null,null,null,null,"",null,null,null,null,null,"",null,null,null,null,null,"",null,null,null,null,null,"",null,null,null,null,null,"",null,null,null,null,null,"",null,null,null,null,null,""]
[null,null,null,null,null,"",null,null,null,null,null,{"$f":"IF(G73=\"\",\"\",SUM(H73:K73))","v":""},null,null,null,null,null,{"$f":"IF(M73=\"\",\"\",SUM(N73:Q73))","v":""},null,null,null,null,null,{"$f":"IF(S73=\"\",\"\",SUM(T73:W73))","v":""},null,null,null,null,null,{"$f":"IF(Y73=\"\",\"\",SUM(Z73:AC73))","v":""},null,null,null,null,null,{"$f":"IF(AE73=\"\",\"\",SUM(AF73:AI73))","v":""},null,null,null,null,null,{"$f":"IF(AK73=\"\",\"\",SUM(AL73:AO73))","v":""},null,null,null,null,null,{"$f":"IF(AQ73=\"\",\"\",SUM(AR73:AU73))","v":""},null,null,null,null,null,{"$f":"IF(AW73=\"\",\"\",SUM(AX73:BA73))","v":""},null,null,null,null,null,{"$f":"IF(BC73=\"\",\"\",SUM(BD73:BG73))","v":""},null,null,null,null,null,{"$f":"IF(BI73=\"\",\"\",SUM(BJ73:BM73))","v":""},null,null,null,null,null,{"$f":"IF(BO73=\"\",\"\",SUM(BP73:BS73))","v":""},null,null,null,null,null,{"$f":"IF(BU73=\"\",\"\",SUM(BV73:BY73))","v":""},null,null,null,null,null,{"$f":"IF(CA73=\"\",\"\",SUM(CB73:CE73))","v":""},null,null,null,null,null,{"$f":"IF(CG73=\"\",\"\",SUM(CH73:CK73))","v":""},null,null,null,null,null,{"$f":"IF(CM73=\"\",\"\",SUM(CN73:CQ73))","v":""},null,null,null,null,null,{"$f":"IF(CS73=\"\",\"\",SUM(CT73:CW73))","v":""},null,null,null,null,null,{"$f":"IF(CY73=\"\",\"\",SUM(CZ73:DC73))","v":""},null,null,null,null,null,{"$f":"IF(DE73=\"\",\"\",SUM(DF73:DI73))","v":""},null,null,null,null,null,{"$f":"IF(DK73=\"\",\"\",SUM(DL73:DO73))","v":""},null,null,null,null,null,{"$f":"IF(DQ73=\"\",\"\",SUM(DR73:DU73))","v":""},null,null,null,null,null,{"$f":"IF(DW73=\"\",\"\",SUM(DX73:EA73))","v":""},null,null,null,null,null,{"$f":"IF(EC73=\"\",\"\",SUM(ED73:EG73))","v":""},null,null,null,null,null,{"$f":"IF(EI73=\"\",\"\",SUM(EJ73:EM73))","v":""},null,null,null,null,null,{"$f":"IF(EO73=\"\",\"\",SUM(EP73:ES73))","v":""},null,null,null,null,null,{"$f":"IF(EU73=\"\",\"\",SUM(EV73:EY73))","v":""},null,null,null,null,null,{"$f":"IF(FA73=\"\",\"\",SUM(FB73:FE73))","v":""},null,null,null,null,null,{"$f":"IF(FG73=\"\",\"\",SUM(FH73:FK73))","v":""},null,null,null,null,null,{"$f":"IF(FM73=\"\",\"\",SUM(FN73:FQ73))","v":""},null,null,null,null,null,{"$f":"IF(FS73=\"\",\"\",SUM(FT73:FW73))","v":""},null,null,null,null,null,{"$f":"IF(FY73=\"\",\"\",SUM(FZ73:GC73))","v":""},null,null,null,null,null,{"$f":"IF(GE73=\"\",\"\",SUM(GF73:GI73))","v":""},null,null,null,null,null,{"$f":"IF(GK73=\"\",\"\",SUM(GL73:GO73))","v":""},null,null,null,null,null,{"$f":"IF(GQ73=\"\",\"\",SUM(GR73:GU73))","v":""},null,null,null,null,null,{"$f":"IF(GW73=\"\",\"\",SUM(GX73:HA73))","v":""},null,null,null,null,null,{"$f":"IF(HC73=\"\",\"\",SUM(HD73:HG73))","v":""},null,null,null,null,null,{"$f":"IF(HI73=\"\",\"\",SUM(HJ73:HM73))","v":""},null,null,null,null,null,{"$f":"IF(HO73=\"\",\"\",SUM(HP73:HS73))","v":""},null,null,null,null,null,{"$f":"IF(HU73=\"\",\"\",SUM(HV73:HY73))","v":""},null,null,null,null,null,{"$f":"IF(IA73=\"\",\"\",SUM(IB73:IE73))","v":""}]
[null,null,null,null,null,{"$f":"IF(A74=\"\",\"\",SUM(B74:E74))","v":""},null,null,null,null,null,"",null,null,null,null,null,"",null,null,null,null,null,"",null,null,null,null,null,"",null,null,null,null,null,"",null,null,null,null,null,"",null,null,null,null,null,"",null,null,null,null,null,"",null,null,null,null,null,"",null,null,null,null,null,"",null,null,null,null,null,"",null,null,null,null,null,"",null,null,null,null,null,"",null,null,null,null,null,"",null,null,null,null,null,"",null,null,null,null,null,"",null,null,null,null,null,"",null,null,null,null,null,"",null,null,null,null,null,"",null,null,null,null,null,"",null,null,null,null,null,"",null,null,null,null,null,"",null,null,null,null,null,"",null,null,null,null,null,"",null,null,null,null,null,"",null,null,null,null,null,"",null,null,null,null,null,"",null,null,null,null,null,"",null,null,null,null,null,"",null,null,null,null,null,"",null,null,null,null,null,"",null,null,null,null,null,"",null,null,null,null,null,"",null,null,null,null,null,"",null,null,null,null,null,"",null,null,null,null,null,"",null,null,null,null,null,"",null,null,null,null,null,"",null,null,null,null,null,""]
[null,null,null,null,null,"",null,null,null,null,null,"",null,null,null,null,null,"",null,null,null,null,null,"",null,null,null,null,null,"",null,null,null,null,null,"",null,null,null,null,null,"",null,null,null,null,null,"",null,null,null,null,null,"",null,null,null,null,null,"",null,null,null,null,null,"",null,null,null,null,null,"",null,null,null,null,null,"",null,null,null,null,null,"",null,null,null,null,null,"",null,null,null,null,null,"",null,null,null,null,null,"",null,null,null,null,null,"",null,null,null,null,null,"",null,null,null,null,null,"",null,null,null,null,null,"",null,null,null,null,null,"",null,null,null,null,null,"",null,null,null,null,null,"",null,null,null,null,null,"",null,null,null,null,null,"",null,null,null,null,null,"",null,null,null,null,null,"",null,null,null,null,null,"",null,null,null,null,null,"",null,null,null,null,null,"",null,null,null,null,null,"",null,null,null,null,null,"",null,null,null,null,null,"",null,null,null,null,null,"",null,null,null,null,null,"",null,null,null,null,null,"",null,null,null,null,null,"",null,null,null,null,null,"",null,null,null,null,null,""]
[null,null,null,null,null,"",null,null,null,null,null,"",null,null,null,null,null,"",null,null,null,null,null,"",null,null,null,null,null,"",null,null,null,null,null,"",null,null,null,null,null,"",null,null,null,null,null,"",null,null,null,null,null,"",null,null,null,null,null,"",null,null,null,null,null,"",null,null,null,null,null,"",null,null,null,null,null,"",null,null,null,null,null,"",null,null,null,null,null,"",null,null,null,null,null,"",null,null,null,null,null,"",null,null,null,null,null,"",null,null,null,null,null,"",null,null,null,null,null,"",null,null,null,null,null,"",null,null,null,null,null,"",null,null,null,null,null,"",null,null,null,null,null,"",null,null,null,null,null,"",null,null,null,null,null,"",null,null,null,null,null,"",null,null,null,null,null,"",null,null,null,null,null,"",null,null,null,null,null,"",null,null,null,null,null,"",null,null,null,null,null,"",null,null,null,null,null,"",null,null,null,null,null,"",null,null,null,null,null,"",null,null,null,null,null,"",null,null,null,null,null,"",null,null,null,null,null,"",null,null,null,null,null,"",null,null,null,null,null,""]
[null,null,null,null,null,"",null,null,null,null,null,"",null,null,null,null,null,"",null,null,null,null,null,"",null,null,null,null,null,"",null,null,null,null,null,"",null,null,null,null,null,"",null,null,null,null,null,"",null,null,null,null,null,"",null,null,null,null,null,"",null,null,null,null,null,"",null,null,null,null,null,"",null,null,null,null,null,"",null,null,null,null,null,"",null,null,null,null,null,"",null,null,null,null,null,"",null,null,null,null,null,"",null,null,null,null,null,"",null,null,null,null,null,"",null,null,null,null,null,"",null,null,null,null,null,"",null,null,null,null,null,"",null,null,null,null,null,"",null,null,null,null,null,"",null,null,null,null,null,"",null,null,null,null,null,"",null,null,null,null,null,"",null,null,null,null,null,"",null,null,null,null,null,"",null,null,null,null,null,"",null,null,null,null,null,"",null,null,null,null,null,"",null,null,null,null,null,"",null,null,null,null,null,"",null,null,null,null,null,"",null,null,null,null,null,"",null,null,null,null,null,"",null,null,null,null,null,"",null,null,null,null,null,"",null,null,null,null,null,""]
[null,null,null,null,null,"",null,null,null,null,null,"",null,null,null,null,null,"",null,null,null,null,null,"",null,null,null,null,null,"",null,null,null,null,null,"",null,null,null,null,null,"",null,null,null,null,null,"",null,null,null,null,null,"",null,null,null,null,null,"",null,null,null,null,null,"",null,null,null,null,null,"",null,null,null,null,null,"",null,null,null,null,null,"",null,null,null,null,null,"",null,null,null,null,null,"",null,null,null,null,null,"",null,null,null,null,null,"",null,null,null,null,null,"",null,null,null,null,null,"",null,null,null,null,null,"",null,null,null,null,null,"",null,null,null,null,null,"",null,null,null,null,null,"",null,null,null,null,null,"",null,null,null,null,null,"",null,null,null,null,null,"",null,null,null,null,null,"",null,null,null,null,null,"",null,null,null,null,null,"",null,null,null,null,null,"",null,null,null,null,null,"",null,null,null,null,null,"",null,null,null,null,null,"",null,null,null,null,null,"",null,null,null,null,null,"",null,null,null,null,null,"",null,null,null,null,null,"",null,null,null,null,null,"",null,null,null,null,null,""]
[null,null,null,null,null,"",null,null,null,null,null,"",null,null,null,null,null,"",null,null,null,null,null,"",null,null,null,null,null,"",null,null,null,null,null,"",null,null,null,null,null,"",null,null,null,null,null,"",null,null,null,null,null,"",null,null,null,null,null,"",null,null,null,null,null,"",null,null,null,null,null,"",null,null,null,null,null,"",null,null,null,null,null,"",null,null,null,null,null,"",null,null,null,null,null,"",null,null,null,null,null,"",null,null,null,null,null,"",null,null,null,null,null,"",null,null,null,null,null,"",null,null,null,null,null,"",null,null,null,null,null,"",null,null,null,null,null,"",null,null,null,null,null,"",null,null,null,null,null,"",null,null,null,null,null,"",null,null,null,null,null,"",null,null,null,null,null,"",null,null,null,null,null,"",null,null,null,null,null,"",null,null,null,null,null,"",null,null,null,null,null,"",null,null,null,null,null,"",null,null,null,null,null,"",null,null,null,null,null,"",null,null,null,null,null,"",null,null,null,null,null,"",null,null,null,null,null,"",null,null,null,null,null,"",null,null,null,null,null,""]
[null,null,null,null,null,"",null,null,null,null,null,"",null,null,null,null,null,"",null,null,null,null,null,"",null,null,null,null,null,"",null,null,null,null,null,"",null,null,null,null,null,"",null,null,null,null,null,"",null,null,null,null,null,"",null,null,null,null,null,"",null,null,null,null,null,"",null,null,null,null,null,"",null,null,null,null,null,"",null,null,null,null,null,"",null,null,null,null,null,"",null,null,null,null,null,"",null,null,null,null,null,"",null,null,null,null,null,"",null,null,null,null,null,"",null,null,null,null,null,"",null,null,null,null,null,"",null,null,null,null,null,"",null,null,null,null,null,"",null,null,null,null,null,"",null,null,null,null,null,"",null,null,null,null,null,"",null,null,null,null,null,"",null,null,null,null,null,"",null,null,null,null,null,"",null,null,null,null,null,"",null,null,null,null,null,"",null,null,null,null,null,"",null,null,null,null,null,"",null,null,null,null,null,"",null,null,null,null,null,"",null,null,null,null,null,"",null,null,null,null,null,"",null,null,null,null,null,"",null,null,null,null,null,"",null,null,null,null,null,""]
[null,null,null,null,null,"",null,null,null,null,null,"",null,null,null,null,null,"",null,null,null,null,null,"",null,null,null,null,null,"",null,null,null,null,null,"",null,null,null,null,null,"",null,null,null,null,null,"",null,null,null,null,null,"",null,null,null,null,null,"",null,null,null,null,null,"",null,null,null,null,null,"",null,null,null,null,null,"",null,null,null,null,null,"",null,null,null,null,null,"",null,null,null,null,null,"",null,null,null,null,null,"",null,null,null,null,null,"",null,null,null,null,null,"",null,null,null,null,null,"",null,null,null,null,null,"",null,null,null,null,null,"",null,null,null,null,null,"",null,null,null,null,null,"",null,null,null,null,null,"",null,null,null,null,null,"",null,null,null,null,null,"",null,null,null,null,null,"",null,null,null,null,null,"",null,null,null,null,null,"",null,null,null,null,null,"",null,null,null,null,null,"",null,null,null,null,null,"",null,null,null,null,null,"",null,null,null,null,null,"",null,null,null,null,null,"",null,null,null,null,null,"",null,null,null,null,null,"",null,null,null,null,null,"",null,null,null,null,null,""]
[null,null,null,null,null,"",null,null,null,null,null,"",null,null,null,null,null,"",null,null,null,null,null,"",null,null,null,null,null,"",null,null,null,null,null,"",null,null,null,null,null,"",null,null,null,null,null,"",null,null,null,null,null,"",null,null,null,null,null,"",null,null,null,null,null,"",null,null,null,null,null,"",null,null,null,null,null,"",null,null,null,null,null,"",null,null,null,null,null,"",null,null,null,null,null,"",null,null,null,null,null,"",null,null,null,null,null,"",null,null,null,null,null,"",null,null,null,null,null,"",null,null,null,null,null,"",null,null,null,null,null,"",null,null,null,null,null,"",null,null,null,null,null,"",null,null,null,null,null,"",null,null,null,null,null,"",null,null,null,null,null,"",null,null,null,null,null,"",null,null,null,null,null,"",null,null,null,null,null,"",null,null,null,null,null,"",null,null,null,null,null,"",null,null,null,null,null,"",null,null,null,null,null,"",null,null,null,null,null,"",null,null,null,null,null,"",null,null,null,null,null,"",null,null,null,null,null,"",null,null,null,null,null,"",null,null,null,null,null,""]
[null,null,null,null,null,"",null,null,null,null,null,"",null,null,null,null,null,"",null,null,null,null,null,"",null,null,null,null,null,"",null,null,null,null,null,"",null,null,null,null,null,"",null,null,null,null,null,"",null,null,null,null,null,"",null,null,null,null,null,"",null,null,null,null,null,"",null,null,null,null,null,"",null,null,null,null,null,"",null,null,null,null,null,"",null,null,null,null,null,"",null,null,null,null,null,"",null,null,null,null,null,"",null,null,null,null,null,"",null,null,null,null,null,"",null,null,null,null,null,"",null,null,null,null,null,"",null,null,null,null,null,"",null,null,null,null,null,"",null,null,null,null,null,"",null,null,null,null,null,"",null,null,null,null,null,"",null,null,null,null,null,"",null,null,null,null,null,"",null,null,null,null,null,"",null,null,null,null,null,"",null,null,null,null,null,"",null,null,null,null,null,"",null,null,null,null,null,"",null,null,null,null,null,"",null,null,null,null,null,"",null,null,null,null,null,"",null,null,null,null,null,"",null,null,null,null,null,"",null,null,null,null,null,"",null,null,null,null,null,""]
[null,null,null,null,null,"",null,null,null,null,null,"",null,null,null,null,null,"",null,null,null,null,null,"",null,null,null,null,null,"",null,null,null,null,null,"",null,null,null,null,null,"",null,null,null,null,null,"",null,null,null,null,null,"",null,null,null,null,null,"",null,null,null,null,null,"",null,null,null,null,null,"",null,null,null,null,null,"",null,null,null,null,null,"",null,null,null,null,null,"",null,null,null,null,null,"",null,null,null,null,null,"",null,null,null,null,null,"",null,null,null,null,null,"",null,null,null,null,null,"",null,null,null,null,null,"",null,null,null,null,null,"",null,null,null,null,null,"",null,null,null,null,null,"",null,null,null,null,null,"",null,null,null,null,null,"",null,null,null,null,null,"",null,null,null,null,null,"",null,null,null,null,null,"",null,null,null,null,null,"",null,null,null,null,null,"",null,null,null,null,null,"",null,null,null,null,null,"",null,null,null,null,null,"",null,null,null,null,null,"",null,null,null,null,null,"",null,null,null,null,null,"",null,null,null,null,null,"",null,null,null,null,null,"",null,null,null,null,null,""]
[null,null,null,null,null,"",null,null,null,null,null,"",null,null,null,null,null,"",null,null,null,null,null,"",null,null,null,null,null,"",null,null,null,null,null,"",null,null,null,null,null,"",null,null,null,null,null,"",null,null,null,null,null,"",null,null,null,null,null,"",null,null,null,null,null,"",null,null,null,null,null,"",null,null,null,null,null,"",null,null,null,null,null,"",null,null,null,null,null,"",null,null,null,null,null,"",null,null,null,null,null,"",null,null,null,null,null,"",null,null,null,null,null,"",null,null,null,null,null,"",null,null,null,null,null,"",null,null,null,null,null,"",null,null,null,null,null,"",null,null,null,null,null,"",null,null,null,null,null,"",null,null,null,null,null,"",null,null,null,null,null,"",null,null,null,null,null,"",null,null,null,null,null,"",null,null,null,null,null,"",null,null,null,null,null,"",null,null,null,null,null,"",null,null,null,null,null,"",null,null,null,null,null,"",null,null,null,null,null,"",null,null,null,null,null,"",null,null,null,null,null,"",null,null,null,null,null,"",null,null,null,null,null,"",null,null,null,null,null,""]
[null,null,null,null,null,"",null,null,null,null,null,"",null,null,null,null,null,"",null,null,null,null,null,"",null,null,null,null,null,"",null,null,null,null,null,"",null,null,null,null,null,"",null,null,null,null,null,"",null,null,null,null,null,"",null,null,null,null,null,"",null,null,null,null,null,"",null,null,null,null,null,"",null,null,null,null,null,"",null,null,null,null,null,"",null,null,null,null,null,"",null,null,null,null,null,"",null,null,null,null,null,"",null,null,null,null,null,"",null,null,null,null,null,"",null,null,null,null,null,"",null,null,null,null,null,"",null,null,null,null,null,"",null,null,null,null,null,"",null,null,null,null,null,"",null,null,null,null,null,"",null,null,null,null,null,"",null,null,null,null,null,"",null,null,null,null,null,"",null,null,null,null,null,"",null,null,null,null,null,"",null,null,null,null,null,"",null,null,null,null,null,"",null,null,null,null,null,"",null,null,null,null,null,"",null,null,null,null,null,"",null,null,null,null,null,"",null,null,null,null,null,"",null,null,null,null,null,"",null,null,null,null,null,"",null,null,null,null,null,""]
[null,null,null,null,null,"",null,null,null,null,null,"",null,null,null,null,null,"",null,null,null,null,null,"",null,null,null,null,null,"",null,null,null,null,null,"",null,null,null,null,null,"",null,null,null,null,null,"",null,null,null,null,null,"",null,null,null,null,null,"",null,null,null,null,null,"",null,null,null,null,null,"",null,null,null,null,null,"",null,null,null,null,null,"",null,null,null,null,null,"",null,null,null,null,null,"",null,null,null,null,null,"",null,null,null,null,null,"",null,null,null,null,null,"",null,null,null,null,null,"",null,null,null,null,null,"",null,null,null,null,null,"",null,null,null,null,null,"",null,null,null,null,null,"",null,null,null,null,null,"",null,null,null,null,null,"",null,null,null,null,null,"",null,null,null,null,null,"",null,null,null,null,null,"",null,null,null,null,null,"",null,null,null,null,null,"",null,null,null,null,null,"",null,null,null,null,null,"",null,null,null,null,null,"",null,null,null,null,null,"",null,null,null,null,null,"",null,null,null,null,null,"",null,null,null,null,null,"",null,null,null,null,null,"",null,null,null,null,null,""]
[null,null,null,null,null,"",null,null,null,null,null,"",null,null,null,null,null,"",null,null,null,null,null,"",null,null,null,null,null,"",null,null,null,null,null,"",null,null,null,null,null,"",null,null,null,null,null,"",null,null,null,null,null,"",null,null,null,null,null,"",null,null,null,null,null,"",null,null,null,null,null,"",null,null,null,null,null,"",null,null,null,null,null,"",null,null,null,null,null,"",null,null,null,null,null,"",null,null,null,null,null,"",null,null,null,null,null,"",null,null,null,null,null,"",null,null,null,null,null,"",null,null,null,null,null,"",null,null,null,null,null,"",null,null,null,null,null,"",null,null,null,null,null,"",null,null,null,null,null,"",null,null,null,null,null,"",null,null,null,null,null,"",null,null,null,null,null,"",null,null,null,null,null,"",null,null,null,null,null,"",null,null,null,null,null,"",null,null,null,null,null,"",null,null,null,null,null,"",null,null,null,null,null,"",null,null,null,null,null,"",null,null,null,null,null,"",null,null,null,null,null,"",null,null,null,null,null,"",null,null,null,null,null,"",null,null,null,null,null,""]
[null,null,null,null,null,"",null,null,null,null,null,"",null,null,null,null,null,"",null,null,null,null,null,"",null,null,null,null,null,"",null,null,null,null,null,"",null,null,null,null,null,"",null,null,null,null,null,"",null,null,null,null,null,"",null,null,null,null,null,"",null,null,null,null,null,"",null,null,null,null,null,"",null,null,null,null,null,"",null,null,null,null,null,"",null,null,null,null,null,"",null,null,null,null,null,"",null,null,null,null,null,"",null,null,null,null,null,"",null,null,null,null,null,"",null,null,null,null,null,"",null,null,null,null,null,"",null,null,null,null,null,"",null,null,null,null,null,"",null,null,null,null,null,"",null,null,null,null,null,"",null,null,null,null,null,"",null,null,null,null,null,"",null,null,null,null,null,"",null,null,null,null,null,"",null,null,null,null,null,"",null,null,null,null,null,"",null,null,null,null,null,"",null,null,null,null,null,"",null,null,null,null,null,"",null,null,null,null,null,"",null,null,null,null,null,"",null,null,null,null,null,"",null,null,null,null,null,"",null,null,null,null,null,"",null,null,null,null,null,""]
[null,null,null,null,null,"",null,null,null,null,null,"",null,null,null,null,null,"",null,null,null,null,null,"",null,null,null,null,null,"",null,null,null,null,null,"",null,null,null,null,null,"",null,null,null,null,null,"",null,null,null,null,null,"",null,null,null,null,null,"",null,null,null,null,null,"",null,null,null,null,null,"",null,null,null,null,null,"",null,null,null,null,null,"",null,null,null,null,null,"",null,null,null,null,null,"",null,null,null,null,null,"",null,null,null,null,null,"",null,null,null,null,null,"",null,null,null,null,null,"",null,null,null,null,null,"",null,null,null,null,null,"",null,null,null,null,null,"",null,null,null,null,null,"",null,null,null,null,null,"",null,null,null,null,null,"",null,null,null,null,null,"",null,null,null,null,null,"",null,null,null,null,null,"",null,null,null,null,null,"",null,null,null,null,null,"",null,null,null,null,null,"",null,null,null,null,null,"",null,null,null,null,null,"",null,null,null,null,null,"",null,null,null,null,null,"",null,null,null,null,null,"",null,null,null,null,null,"",null,null,null,null,null,"",null,null,null,null,null,""]
[null,null,null,null,null,"",null,null,null,null,null,"",null,null,null,null,null,"",null,null,null,null,null,"",null,null,null,null,null,"",null,null,null,null,null,"",null,null,null,null,null,"",null,null,null,null,null,"",null,null,null,null,null,"",null,null,null,null,null,"",null,null,null,null,null,"",null,null,null,null,null,"",null,null,null,null,null,"",null,null,null,null,null,"",null,null,null,null,null,"",null,null,null,null,null,"",null,null,null,null,null,"",null,null,null,null,null,"",null,null,null,null,null,"",null,null,null,null,null,"",null,null,null,null,null,"",null,null,null,null,null,"",null,null,null,null,null,"",null,null,null,null,null,"",null,null,null,null,null,"",null,null,null,null,null,"",null,null,null,null,null,"",null,null,null,null,null,"",null,null,null,null,null,"",null,null,null,null,null,"",null,null,null,null,null,"",null,null,null,null,null,"",null,null,null,null,null,"",null,null,null,null,null,"",null,null,null,null,null,"",null,null,null,null,null,"",null,null,null,null,null,"",null,null,null,null,null,"",null,null,null,null,null,"",null,null,null,null,null,""]
[null,null,null,null,null,"",null,null,null,null,null,"",null,null,null,null,null,"",null,null,null,null,null,"",null,null,null,null,null,"",null,null,null,null,null,"",null,null,null,null,null,"",null,null,null,null,null,"",null,null,null,null,null,"",null,null,null,null,null,"",null,null,null,null,null,"",null,null,null,null,null,"",null,null,null,null,null,"",null,null,null,null,null,"",null,null,null,null,null,"",null,null,null,null,null,"",null,null,null,null,null,"",null,null,null,null,null,"",null,null,null,null,null,"",null,null,null,null,null,"",null,null,null,null,null,"",null,null,null,null,null,"",null,null,null,null,null,"",null,null,null,null,null,"",null,null,null,null,null,"",null,null,null,null,null,"",null,null,null,null,null,"",null,null,null,null,null,"",null,null,null,null,null,"",null,null,null,null,null,"",null,null,null,null,null,"",null,null,null,null,null,"",null,null,null,null,null,"",null,null,null,null,null,"",null,null,null,null,null,"",null,null,null,null,null,"",null,null,null,null,null,"",null,null,null,null,null,"",null,null,null,null,null,"",null,null,null,null,null,""]
[null,null,null,null,null,"",null,null,null,null,null,"",null,null,null,null,null,"",null,null,null,null,null,"",null,null,null,null,null,"",null,null,null,null,null,"",null,null,null,null,null,"",null,null,null,null,null,"",null,null,null,null,null,"",null,null,null,null,null,"",null,null,null,null,null,"",null,null,null,null,null,"",null,null,null,null,null,"",null,null,null,null,null,"",null,null,null,null,null,"",null,null,null,null,null,"",null,null,null,null,null,"",null,null,null,null,null,"",null,null,null,null,null,"",null,null,null,null,null,"",null,null,null,null,null,"",null,null,null,null,null,"",null,null,null,null,null,"",null,null,null,null,null,"",null,null,null,null,null,"",null,null,null,null,null,"",null,null,null,null,null,"",null,null,null,null,null,"",null,null,null,null,null,"",null,null,null,null,null,"",null,null,null,null,null,"",null,null,null,null,null,"",null,null,null,null,null,"",null,null,null,null,null,"",null,null,null,null,null,"",null,null,null,null,null,"",null,null,null,null,null,"",null,null,null,null,null,"",null,null,null,null,null,"",null,null,null,null,null,""]
[null,null,null,null,null,"",null,null,null,null,null,"",null,null,null,null,null,"",null,null,null,null,null,"",null,null,null,null,null,"",null,null,null,null,null,"",null,null,null,null,null,"",null,null,null,null,null,"",null,null,null,null,null,"",null,null,null,null,null,"",null,null,null,null,null,"",null,null,null,null,null,"",null,null,null,null,null,"",null,null,null,null,null,"",null,null,null,null,null,"",null,null,null,null,null,"",null,null,null,null,null,"",null,null,null,null,null,"",null,null,null,null,null,"",null,null,null,null,null,"",null,null,null,null,null,"",null,null,null,null,null,"",null,null,null,null,null,"",null,null,null,null,null,"",null,null,null,null,null,"",null,null,null,null,null,"",null,null,null,null,null,"",null,null,null,null,null,"",null,null,null,null,null,"",null,null,null,null,null,"",null,null,null,null,null,"",null,null,null,null,null,"",null,null,null,null,null,"",null,null,null,null,null,"",null,null,null,null,null,"",null,null,null,null,null,"",null,null,null,null,null,"",null,null,null,null,null,"",null,null,null,null,null,"",null,null,null,null,null,""]
[null,null,null,null,null,"",null,null,null,null,null,"",null,null,null,null,null,"",null,null,null,null,null,"",null,null,null,null,null,"",null,null,null,null,null,"",null,null,null,null,null,"",null,null,null,null,null,"",null,null,null,null,null,"",null,null,null,null,null,"",null,null,null,null,null,"",null,null,null,null,null,"",null,null,null,null,null,"",null,null,null,null,null,"",null,null,null,null,null,"",null,null,null,null,null,"",null,null,null,null,null,"",null,null,null,null,null,"",null,null,null,null,null,"",null,null,null,null,null,"",null,null,null,null,null,"",null,null,null,null,null,"",null,null,null,null,null,"",null,null,null,null,null,"",null,null,null,null,null,"",null,null,null,null,null,"",null,null,null,null,null,"",null,null,null,null,null,"",null,null,null,null,null,"",null,null,null,null,null,"",null,null,null,null,null,"",null,null,null,null,null,"",null,null,null,null,null,"",null,null,null,null,null,"",null,null,null,null,null,"",null,null,null,null,null,"",null,null,null,null,null,"",null,null,null,null,null,"",null,null,null,null,null,"",null,null,null,null,null,""]
[null,null,null,null,null,"",null,null,null,null,null,"",null,null,null,null,null,"",null,null,null,null,null,"",null,null,null,null,null,"",null,null,null,null,null,"",null,null,null,null,null,"",null,null,null,null,null,"",null,null,null,null,null,"",null,null,null,null,null,"",null,null,null,null,null,"",null,null,null,null,null,"",null,null,null,null,null,"",null,null,null,null,null,"",null,null,null,null,null,"",null,null,null,null,null,"",null,null,null,null,null,"",null,null,null,null,null,"",null,null,null,null,null,"",null,null,null,null,null,"",null,null,null,null,null,"",null,null,null,null,null,"",null,null,null,null,null,"",null,null,null,null,null,"",null,null,null,null,null,"",null,null,null,null,null,"",null,null,null,null,null,"",null,null,null,null,null,"",null,null,null,null,null,"",null,null,null,null,null,"",null,null,null,null,null,"",null,null,null,null,null,"",null,null,null,null,null,"",null,null,null,null,null,"",null,null,null,null,null,"",null,null,null,null,null,"",null,null,null,null,null,"",null,null,null,null,null,"",null,null,null,null,null,"",null,null,null,null,null,""]
[null,null,null,null,null,"",null,null,null,null,null,"",null,null,null,null,null,"",null,null,null,null,null,"",null,null,null,null,null,"",null,null,null,null,null,"",null,null,null,null,null,"",null,null,null,null,null,"",null,null,null,null,null,"",null,null,null,null,null,"",null,null,null,null,null,"",null,null,null,null,null,"",null,null,null,null,null,"",null,null,null,null,null,"",null,null,null,null,null,"",null,null,null,null,null,"",null,null,null,null,null,"",null,null,null,null,null,"",null,null,null,null,null,"",null,null,null,null,null,"",null,null,null,null,null,"",null,null,null,null,null,"",null,null,null,null,null,"",null,null,null,null,null,"",null,null,null,null,null,"",null,null,null,null,null,"",null,null,null,null,null,"",null,null,null,null,null,"",null,null,null,null,null,"",null,null,null,null,null,"",null,null,null,null,null,"",null,null,null,null,null,"",null,null,null,null,null,"",null,null,null,null,null,"",null,null,null,null,null,"",null,null,null,null,null,"",null,null,null,null,null,"",null,null,null,null,null,"",null,null,null,null,null,"",null,null,null,null,null,""]
[null,null,null,null,null,"",null,null,null,null,null,"",null,null,null,null,null,"",null,null,null,null,null,"",null,null,null,null,null,"",null,null,null,null,null,"",null,null,null,null,null,"",null,null,null,null,null,"",null,null,null,null,null,"",null,null,null,null,null,"",null,null,null,null,null,"",null,null,null,null,null,"",null,null,null,null,null,"",null,null,null,null,null,"",null,null,null,null,null,"",null,null,null,null,null,"",null,null,null,null,null,"",null,null,null,null,null,"",null,null,null,null,null,"",null,null,null,null,null,"",null,null,null,null,null,"",null,null,null,null,null,"",null,null,null,null,null,"",null,null,null,null,null,"",null,null,null,null,null,"",null,null,null,null,null,"",null,null,null,null,null,"",null,null,null,null,null,"",null,null,null,null,null,"",null,null,null,null,null,"",null,null,null,null,null,"",null,null,null,null,null,"",null,null,null,null,null,"",null,null,null,null,null,"",null,null,null,null,null,"",null,null,null,null,null,"",null,null,null,null,null,"",null,null,null,null,null,"",null,null,null,null,null,"",null,null,null,null,null,""]
[null,null,null,null,null,"",null,null,null,null,null,"",null,null,null,null,null,"",null,null,null,null,null,"",null,null,null,null,null,"",null,null,null,null,null,"",null,null,null,null,null,"",null,null,null,null,null,"",null,null,null,null,null,"",null,null,null,null,null,"",null,null,null,null,null,"",null,null,null,null,null,"",null,null,null,null,null,"",null,null,null,null,null,"",null,null,null,null,null,"",null,null,null,null,null,"",null,null,null,null,null,"",null,null,null,null,null,"",null,null,null,null,null,"",null,null,null,null,null,"",null,null,null,null,null,"",null,null,null,null,null,"",null,null,null,null,null,"",null,null,null,null,null,"",null,null,null,null,null,"",null,null,null,null,null,"",null,null,null,null,null,"",null,null,null,null,null,"",null,null,null,null,null,"",null,null,null,null,null,"",null,null,null,null,null,"",null,null,null,null,null,"",null,null,null,null,null,"",null,null,null,null,null,"",null,null,null,null,null,"",null,null,null,null,null,"",null,null,null,null,null,"",null,null,null,null,null,"",null,null,null,null,null,"",null,null,null,null,null,""]
[null,null,null,null,null,"",null,null,null,null,null,"",null,null,null,null,null,"",null,null,null,null,null,"",null,null,null,null,null,"",null,null,null,null,null,"",null,null,null,null,null,"",null,null,null,null,null,"",null,null,null,null,null,"",null,null,null,null,null,"",null,null,null,null,null,"",null,null,null,null,null,"",null,null,null,null,null,"",null,null,null,null,null,"",null,null,null,null,null,"",null,null,null,null,null,"",null,null,null,null,null,"",null,null,null,null,null,"",null,null,null,null,null,"",null,null,null,null,null,"",null,null,null,null,null,"",null,null,null,null,null,"",null,null,null,null,null,"",null,null,null,null,null,"",null,null,null,null,null,"",null,null,null,null,null,"",null,null,null,null,null,"",null,null,null,null,null,"",null,null,null,null,null,"",null,null,null,null,null,"",null,null,null,null,null,"",null,null,null,null,null,"",null,null,null,null,null,"",null,null,null,null,null,"",null,null,null,null,null,"",null,null,null,null,null,"",null,null,null,null,null,"",null,null,null,null,null,"",null,null,null,null,null,"",null,null,null,null,null,""]
[null,null,null,null,null,"",null,null,null,null,null,"",null,null,null,null,null,"",null,null,null,null,null,"",null,null,null,null,null,"",null,null,null,null,null,"",null,null,null,null,null,"",null,null,null,null,null,"",null,null,null,null,null,"",null,null,null,null,null,"",null,null,null,null,null,"",null,null,null,null,null,"",null,null,null,null,null,"",null,null,null,null,null,"",null,null,null,null,null,"",null,null,null,null,null,"",null,null,null,null,null,"",null,null,null,null,null,"",null,null,null,null,null,"",null,null,null,null,null,"",null,null,null,null,null,"",null,null,null,null,null,"",null,null,null,null,null,"",null,null,null,null,null,"",null,null,null,null,null,"",null,null,null,null,null,"",null,null,null,null,null,"",null,null,null,null,null,"",null,null,null,null,null,"",null,null,null,null,null,"",null,null,null,null,null,"",null,null,null,null,null,"",null,null,null,null,null,"",null,null,null,null,null,"",null,null,null,null,null,"",null,null,null,null,null,"",null,null,null,null,null,"",null,null,null,null,null,"",null,null,null,null,null,"",null,null,null,null,null,""]
[null,null,null,null,null,"",null,null,null,null,null,"",null,null,null,null,null,"",null,null,null,null,null,"",null,null,null,null,null,"",null,null,null,null,null,"",null,null,null,null,null,"",null,null,null,null,null,"",null,null,null,null,null,"",null,null,null,null,null,"",null,null,null,null,null,"",null,null,null,null,null,"",null,null,null,null,null,"",null,null,null,null,null,"",null,null,null,null,null,"",null,null,null,null,null,"",null,null,null,null,null,"",null,null,null,null,null,"",null,null,null,null,null,"",null,null,null,null,null,"",null,null,null,null,null,"",null,null,null,null,null,"",null,null,null,null,null,"",null,null,null,null,null,"",null,null,null,null,null,"",null,null,null,null,null,"",null,null,null,null,null,"",null,null,null,null,null,"",null,null,null,null,null,"",null,null,null,null,null,"",null,null,null,null,null,"",null,null,null,null,null,"",null,null,null,null,null,"",null,null,null,null,null,"",null,null,null,null,null,"",null,null,null,null,null,"",null,null,null,null,null,"",null,null,null,null,null,"",null,null,null,null,null,"",null,null,null,null,null,""]
[null,null,null,null,null,"",null,null,null,null,null,"",null,null,null,null,null,"",null,null,null,null,null,"",null,null,null,null,null,"",null,null,null,null,null,"",null,null,null,null,null,"",null,null,null,null,null,"",null,null,null,null,null,"",null,null,null,null,null,"",null,null,null,null,null,"",null,null,null,null,null,"",null,null,null,null,null,"",null,null,null,null,null,"",null,null,null,null,null,"",null,null,null,null,null,"",null,null,null,null,null,"",null,null,null,null,null,"",null,null,null,null,null,"",null,null,null,null,null,"",null,null,null,null,null,"",null,null,null,null,null,"",null,null,null,null,null,"",null,null,null,null,null,"",null,null,null,null,null,"",null,null,null,null,null,"",null,null,null,null,null,"",null,null,null,null,null,"",null,null,null,null,null,"",null,null,null,null,null,"",null,null,null,null,null,"",null,null,null,null,null,"",null,null,null,null,null,"",null,null,null,null,null,"",null,null,null,null,null,"",null,null,null,null,null,"",null,null,null,null,null,"",null,null,null,null,null,"",null,null,null,null,null,"",null,null,null,null,null,""]
[null,null,null,null,null,"",null,null,null,null,null,"",null,null,null,null,null,"",null,null,null,null,null,"",null,null,null,null,null,"",null,null,null,null,null,"",null,null,null,null,null,"",null,null,null,null,null,"",null,null,null,null,null,"",null,null,null,null,null,"",null,null,null,null,null,"",null,null,null,null,null,"",null,null,null,null,null,"",null,null,null,null,null,"",null,null,null,null,null,"",null,null,null,null,null,"",null,null,null,null,null,"",null,null,null,null,null,"",null,null,null,null,null,"",null,null,null,null,null,"",null,null,null,null,null,"",null,null,null,null,null,"",null,null,null,null,null,"",null,null,null,null,null,"",null,null,null,null,null,"",null,null,null,null,null,"",null,null,null,null,null,"",null,null,null,null,null,"",null,null,null,null,null,"",null,null,null,null,null,"",null,null,null,null,null,"",null,null,null,null,null,"",null,null,null,null,null,"",null,null,null,null,null,"",null,null,null,null,null,"",null,null,null,null,null,"",null,null,null,null,null,"",null,null,null,null,null,"",null,null,null,null,null,"",null,null,null,null,null,""]
[null,null,null,null,null,"",null,null,null,null,null,"",null,null,null,null,null,"",null,null,null,null,null,"",null,null,null,null,null,"",null,null,null,null,null,"",null,null,null,null,null,"",null,null,null,null,null,"",null,null,null,null,null,"",null,null,null,null,null,"",null,null,null,null,null,"",null,null,null,null,null,"",null,null,null,null,null,"",null,null,null,null,null,"",null,null,null,null,null,"",null,null,null,null,null,"",null,null,null,null,null,"",null,null,null,null,null,"",null,null,null,null,null,"",null,null,null,null,null,"",null,null,null,null,null,"",null,null,null,null,null,"",null,null,null,null,null,"",null,null,null,null,null,"",null,null,null,null,null,"",null,null,null,null,null,"",null,null,null,null,null,"",null,null,null,null,null,"",null,null,null,null,null,"",null,null,null,null,null,"",null,null,null,null,null,"",null,null,null,null,null,"",null,null,null,null,null,"",null,null,null,null,null,"",null,null,null,null,null,"",null,null,null,null,null,"",null,null,null,null,null,"",null,null,null,null,null,"",null,null,null,null,null,"",null,null,null,null,null,""]
[null,null,null,null,null,"",null,null,null,null,null,"",null,null,null,null,null,"",null,null,null,null,null,"",null,null,null,null,null,"",null,null,null,null,null,"",null,null,null,null,null,"",null,null,null,null,null,"",null,null,null,null,null,"",null,null,null,null,null,"",null,null,null,null,null,"",null,null,null,null,null,"",null,null,null,null,null,"",null,null,null,null,null,"",null,null,null,null,null,"",null,null,null,null,null,"",null,null,null,null,null,"",null,null,null,null,null,"",null,null,null,null,null,"",null,null,null,null,null,"",null,null,null,null,null,"",null,null,null,null,null,"",null,null,null,null,null,"",null,null,null,null,null,"",null,null,null,null,null,"",null,null,null,null,null,"",null,null,null,null,null,"",null,null,null,null,null,"",null,null,null,null,null,"",null,null,null,null,null,"",null,null,null,null,null,"",null,null,null,null,null,"",null,null,null,null,null,"",null,null,null,null,null,"",null,null,null,null,null,"",null,null,null,null,null,"",null,null,null,null,null,"",null,null,null,null,null,"",null,null,null,null,null,"",null,null,null,null,null,""]
[null,null,null,null,null,"",null,null,null,null,null,"",null,null,null,null,null,"",null,null,null,null,null,"",null,null,null,null,null,"",null,null,null,null,null,"",null,null,null,null,null,"",null,null,null,null,null,"",null,null,null,null,null,"",null,null,null,null,null,"",null,null,null,null,null,"",null,null,null,null,null,"",null,null,null,null,null,"",null,null,null,null,null,"",null,null,null,null,null,"",null,null,null,null,null,"",null,null,null,null,null,"",null,null,null,null,null,"",null,null,null,null,null,"",null,null,null,null,null,"",null,null,null,null,null,"",null,null,null,null,null,"",null,null,null,null,null,"",null,null,null,null,null,"",null,null,null,null,null,"",null,null,null,null,null,"",null,null,null,null,null,"",null,null,null,null,null,"",null,null,null,null,null,"",null,null,null,null,null,"",null,null,null,null,null,"",null,null,null,null,null,"",null,null,null,null,null,"",null,null,null,null,null,"",null,null,null,null,null,"",null,null,null,null,null,"",null,null,null,null,null,"",null,null,null,null,null,"",null,null,null,null,null,"",null,null,null,null,null,""]
[null,null,null,null,null,"",null,null,null,null,null,"",null,null,null,null,null,"",null,null,null,null,null,"",null,null,null,null,null,"",null,null,null,null,null,"",null,null,null,null,null,"",null,null,null,null,null,"",null,null,null,null,null,"",null,null,null,null,null,"",null,null,null,null,null,"",null,null,null,null,null,"",null,null,null,null,null,"",null,null,null,null,null,"",null,null,null,null,null,"",null,null,null,null,null,"",null,null,null,null,null,"",null,null,null,null,null,"",null,null,null,null,null,"",null,null,null,null,null,"",null,null,null,null,null,"",null,null,null,null,null,"",null,null,null,null,null,"",null,null,null,null,null,"",null,null,null,null,null,"",null,null,null,null,null,"",null,null,null,null,null,"",null,null,null,null,null,"",null,null,null,null,null,"",null,null,null,null,null,"",null,null,null,null,null,"",null,null,null,null,null,"",null,null,null,null,null,"",null,null,null,null,null,"",null,null,null,null,null,"",null,null,null,null,null,"",null,null,null,null,null,"",null,null,null,null,null,"",null,null,null,null,null,"",null,null,null,null,null,""]
[null,null,null,null,null,"",null,null,null,null,null,"",null,null,null,null,null,"",null,null,null,null,null,"",null,null,null,null,null,"",null,null,null,null,null,"",null,null,null,null,null,"",null,null,null,null,null,"",null,null,null,null,null,"",null,null,null,null,null,"",null,null,null,null,null,"",null,null,null,null,null,"",null,null,null,null,null,"",null,null,null,null,null,"",null,null,null,null,null,"",null,null,null,null,null,"",null,null,null,null,null,"",null,null,null,null,null,"",null,null,null,null,null,"",null,null,null,null,null,"",null,null,null,null,null,"",null,null,null,null,null,"",null,null,null,null,null,"",null,null,null,null,null,"",null,null,null,null,null,"",null,null,null,null,null,"",null,null,null,null,null,"",null,null,null,null,null,"",null,null,null,null,null,"",null,null,null,null,null,"",null,null,null,null,null,"",null,null,null,null,null,"",null,null,null,null,null,"",null,null,null,null,null,"",null,null,null,null,null,"",null,null,null,null,null,"",null,null,null,null,null,"",null,null,null,null,null,"",null,null,null,null,null,"",null,null,null,null,null,""]
[null,null,null,null,null,"",null,null,null,null,null,"",null,null,null,null,null,"",null,null,null,null,null,"",null,null,null,null,null,"",null,null,null,null,null,"",null,null,null,null,null,"",null,null,null,null,null,"",null,null,null,null,null,"",null,null,null,null,null,"",null,null,null,null,null,"",null,null,null,null,null,"",null,null,null,null,null,"",null,null,null,null,null,"",null,null,null,null,null,"",null,null,null,null,null,"",null,null,null,null,null,"",null,null,null,null,null,"",null,null,null,null,null,"",null,null,null,null,null,"",null,null,null,null,null,"",null,null,null,null,null,"",null,null,null,null,null,"",null,null,null,null,null,"",null,null,null,null,null,"",null,null,null,null,null,"",null,null,null,null,null,"",null,null,null,null,null,"",null,null,null,null,null,"",null,null,null,null,null,"",null,null,null,null,null,"",null,null,null,null,null,"",null,null,null,null,null,"",null,null,null,null,null,"",null,null,null,null,null,"",null,null,null,null,null,"",null,null,null,null,null,"",null,null,null,null,null,"",null,null,null,null,null,"",null,null,null,null,null,""]
[null,null,null,null,null,"",null,null,null,null,null,"",null,null,null,null,null,"",null,null,null,null,null,"",null,null,null,null,null,"",null,null,null,null,null,"",null,null,null,null,null,"",null,null,null,null,null,"",null,null,null,null,null,"",null,null,null,null,null,"",null,null,null,null,null,"",null,null,null,null,null,"",null,null,null,null,null,"",null,null,null,null,null,"",null,null,null,null,null,"",null,null,null,null,null,"",null,null,null,null,null,"",null,null,null,null,null,"",null,null,null,null,null,"",null,null,null,null,null,"",null,null,null,null,null,"",null,null,null,null,null,"",null,null,null,null,null,"",null,null,null,null,null,"",null,null,null,null,null,"",null,null,null,null,null,"",null,null,null,null,null,"",null,null,null,null,null,"",null,null,null,null,null,"",null,null,null,null,null,"",null,null,null,null,null,"",null,null,null,null,null,"",null,null,null,null,null,"",null,null,null,null,null,"",null,null,null,null,null,"",null,null,null,null,null,"",null,null,null,null,null,"",null,null,null,null,null,"",null,null,null,null,null,"",null,null,null,null,null,""]
[null,null,null,null,null,"",null,null,null,null,null,"",null,null,null,null,null,"",null,null,null,null,null,"",null,null,null,null,null,"",null,null,null,null,null,"",null,null,null,null,null,"",null,null,null,null,null,"",null,null,null,null,null,"",null,null,null,null,null,"",null,null,null,null,null,"",null,null,null,null,null,"",null,null,null,null,null,"",null,null,null,null,null,"",null,null,null,null,null,"",null,null,null,null,null,"",null,null,null,null,null,"",null,null,null,null,null,"",null,null,null,null,null,"",null,null,null,null,null,"",null,null,null,null,null,"",null,null,null,null,null,"",null,null,null,null,null,"",null,null,null,null,null,"",null,null,null,null,null,"",null,null,null,null,null,"",null,null,null,null,null,"",null,null,null,null,null,"",null,null,null,null,null,"",null,null,null,null,null,"",null,null,null,null,null,"",null,null,null,null,null,"",null,null,null,null,null,"",null,null,null,null,null,"",null,null,null,null,null,"",null,null,null,null,null,"",null,null,null,null,null,"",null,null,null,null,null,"",null,null,null,null,null,"",null,null,null,null,null,""]
[null,null,null,null,null,"",null,null,null,null,null,"",null,null,null,null,null,"",null,null,null,null,null,"",null,null,null,null,null,"",null,null,null,null,null,"",null,null,null,null,null,"",null,null,null,null,null,"",null,null,null,null,null,"",null,null,null,null,null,"",null,null,null,null,null,"",null,null,null,null,null,"",null,null,null,null,null,"",null,null,null,null,null,"",null,null,null,null,null,"",null,null,null,null,null,"",null,null,null,null,null,"",null,null,null,null,null,"",null,null,null,null,null,"",null,null,null,null,null,"",null,null,null,null,null,"",null,null,null,null,null,"",null,null,null,null,null,"",null,null,null,null,null,"",null,null,null,null,null,"",null,null,null,null,null,"",null,null,null,null,null,"",null,null,null,null,null,"",null,null,null,null,null,"",null,null,null,null,null,"",null,null,null,null,null,"",null,null,null,null,null,"",null,null,null,null,null,"",null,null,null,null,null,"",null,null,null,null,null,"",null,null,null,null,null,"",null,null,null,null,null,"",null,null,null,null,null,"",null,null,null,null,null,"",null,null,null,null,null,""]
[null,null,null,null,null,"",null,null,null,null,null,"",null,null,null,null,null,"",null,null,null,null,null,"",null,null,null,null,null,"",null,null,null,null,null,"",null,null,null,null,null,"",null,null,null,null,null,"",null,null,null,null,null,"",null,null,null,null,null,"",null,null,null,null,null,"",null,null,null,null,null,"",null,null,null,null,null,"",null,null,null,null,null,"",null,null,null,null,null,"",null,null,null,null,null,"",null,null,null,null,null,"",null,null,null,null,null,"",null,null,null,null,null,"",null,null,null,null,null,"",null,null,null,null,null,"",null,null,null,null,null,"",null,null,null,null,null,"",null,null,null,null,null,"",null,null,null,null,null,"",null,null,null,null,null,"",null,null,null,null,null,"",null,null,null,null,null,"",null,null,null,null,null,"",null,null,null,null,null,"",null,null,null,null,null,"",null,null,null,null,null,"",null,null,null,null,null,"",null,null,null,null,null,"",null,null,null,null,null,"",null,null,null,null,null,"",null,null,null,null,null,"",null,null,null,null,null,"",null,null,null,null,null,"",null,null,null,null,null,""]
[null,null,null,null,null,"",null,null,null,null,null,"",null,null,null,null,null,"",null,null,null,null,null,"",null,null,null,null,null,"",null,null,null,null,null,"",null,null,null,null,null,"",null,null,null,null,null,"",null,null,null,null,null,"",null,null,null,null,null,"",null,null,null,null,null,"",null,null,null,null,null,"",null,null,null,null,null,"",null,null,null,null,null,"",null,null,null,null,null,"",null,null,null,null,null,"",null,null,null,null,null,"",null,null,null,null,null,"",null,null,null,null,null,"",null,null,null,null,null,"",null,null,null,null,null,"",null,null,null,null,null,"",null,null,null,null,null,"",null,null,null,null,null,"",null,null,null,null,null,"",null,null,null,null,null,"",null,null,null,null,null,"",null,null,null,null,null,"",null,null,null,null,null,"",null,null,null,null,null,"",null,null,null,null,null,"",null,null,null,null,null,"",null,null,null,null,null,"",null,null,null,null,null,"",null,null,null,null,null,"",null,null,null,null,null,"",null,null,null,null,null,"",null,null,null,null,null,"",null,null,null,null,null,"",null,null,null,null,null,""]
[null,null,null,null,null,"",null,null,null,null,null,"",null,null,null,null,null,"",null,null,null,null,null,"",null,null,null,null,null,"",null,null,null,null,null,"",null,null,null,null,null,"",null,null,null,null,null,"",null,null,null,null,null,"",null,null,null,null,null,"",null,null,null,null,null,"",null,null,null,null,null,"",null,null,null,null,null,"",null,null,null,null,null,"",null,null,null,null,null,"",null,null,null,null,null,"",null,null,null,null,null,"",null,null,null,null,null,"",null,null,null,null,null,"",null,null,null,null,null,"",null,null,null,null,null,"",null,null,null,null,null,"",null,null,null,null,null,"",null,null,null,null,null,"",null,null,null,null,null,"",null,null,null,null,null,"",null,null,null,null,null,"",null,null,null,null,null,"",null,null,null,null,null,"",null,null,null,null,null,"",null,null,null,null,null,"",null,null,null,null,null,"",null,null,null,null,null,"",null,null,null,null,null,"",null,null,null,null,null,"",null,null,null,null,null,"",null,null,null,null,null,"",null,null,null,null,null,"",null,null,null,null,null,"",null,null,null,null,null,{"$f":"IF(IA116=\"\",\"\",SUM(IB116:IE116))","v":""}]
[null,null,null,null,null,"",null,null,null,null,null,"",null,null,null,null,null,"",null,null,null,null,null,"",null,null,null,null,null,"",null,null,null,null,null,"",null,null,null,null,null,"",null,null,null,null,null,"",null,null,null,null,null,"",null,null,null,null,null,"",null,null,null,null,null,"",null,null,null,null,null,"",null,null,null,null,null,"",null,null,null,null,null,"",null,null,null,null,null,"",null,null,null,null,null,"",null,null,null,null,null,"",null,null,null,null,null,"",null,null,null,null,null,"",null,null,null,null,null,"",null,null,null,null,null,"",null,null,null,null,null,"",null,null,null,null,null,"",null,null,null,null,null,"",null,null,null,null,null,"",null,null,null,null,null,"",null,null,null,null,null,"",null,null,null,null,null,"",null,null,null,null,null,"",null,null,null,null,null,"",null,null,null,null,null,"",null,null,null,null,null,"",null,null,null,null,null,"",null,null,null,null,null,"",null,null,null,null,null,"",null,null,null,null,null,"",null,null,null,null,null,"",null,null,null,null,null,"",null,null,null,null,null,"",null,null,null,null,null,""]

{"sheet":"KK-Sammler","index":14,"n_rows":83,"n_cols":15,"rows_kept":83,"cut":false,"hidden":false,"merged":[[2,9,4,11],[6,9,8,11]]}
["Name","Mittelwert","Bestes\nErgebnis","Schlechtestes\nErgebnis","Bester Ø \nEinzelschuss","Schlechtester\nØ Einzelschuss","Anzahl \nTeilnahmen","Summe\nEinzelergebnisse","Rang\n(nach Mittelwert)",null,null,null,"Name","Mittelwert"]
[{"$f":"IF(Hauptmaske!I7=\"x\",Hauptmaske!A7,\"\")","v":"Testname"},{"$f":"KK!E4","v":0},{"$f":"KK!A4","v":0},{"$f":"KK!A6","v":0},{"$f":"KK!E6","v":0},{"$f":"KK!F6","v":0},{"$f":"KK!D4","v":1},{"$f":"IF(KK!B9=\"\",\"\",SUM(KK!F9:F117))","v":""},{"$f":"IF(KK!B9=\"\",\"\",RANK(B2,$B$2:$B$41))","v":""},null,null,null,{"$f":"IF(G2>=$K$6,A2,\"\")","v":"Testname"},{"$f":"IF(G2>=$K$6,B2,\"\")","v":0},{"$f":"IF(N2=\"\",\"\",N2-ROW()/1000000)","v":-1.9999999999999999E-6}]
[{"$f":"IF(Hauptmaske!I10=\"x\",Hauptmaske!A10,\"\")","v":""},{"$f":"KK!W4","v":""},{"$f":"KK!S4","v":""},{"$f":"KK!S6","v":""},{"$f":"KK!W6","v":""},{"$f":"KK!X6","v":""},{"$f":"KK!V4","v":""},{"$f":"IF(KK!T9=\"\",\"\",SUM(KK!X9:X117))","v":""},{"$f":"IF(KK!T9=\"\",\"\",RANK(B3,$B$2:$B$41))","v":""},"Anzahl der Mindestteilnahmen\nfür die Rangliste",null,null,{"$f":"IF(G3>=$K$6,A3,\"\")","v":""},{"$f":"IF(G3>=$K$6,B3,\"\")","v":""},{"$f":"IF(N3=\"\",\"\",N3-ROW()/1000000)","v":""}]
[{"$f":"IF(Hauptmaske!I21=\"x\",Hauptmaske!A21,\"\")","v":""},{"$f":"KK!CK4","v":""},{"$f":"KK!CG4","v":""},{"$f":"KK!CG6","v":""},{"$f":"KK!CK6","v":""},{"$f":"KK!CL6","v":""},{"$f":"KK!CJ4","v":""},{"$f":"IF(KK!CH9=\"\",\"\",SUM(KK!CL9:CL117))","v":""},{"$f":"IF(KK!CH9=\"\",\"\",RANK(B4,$B$2:$B$41))","v":""},null,null,null,"","",""]
[{"$f":"IF(Hauptmaske!I15=\"x\",Hauptmaske!A15,\"\")","v":""},{"$f":"KK!BA4","v":""},{"$f":"KK!AW4","v":""},{"$f":"KK!AW6","v":""},{"$f":"KK!BA6","v":""},{"$f":"KK!BB6","v":""},{"$f":"KK!AZ4","v":""},{"$f":"IF(KK!AX9=\"\",\"\",SUM(KK!BB9:BB117))","v":""},{"$f":"IF(KK!AX9=\"\",\"\",RANK(B5,$B$2:$B$41))","v":""},null,null,null,"","",""]
[{"$f":"IF(Hauptmaske!I17=\"x\",Hauptmaske!A17,\"\")","v":""},{"$f":"KK!BM4","v":""},{"$f":"KK!BI4","v":""},{"$f":"KK!BI6","v":""},{"$f":"KK!BM6","v":""},{"$f":"KK!BN6","v":""},{"$f":"KK!BL4","v":""},{"$f":"IF(KK!BJ9=\"\",\"\",SUM(KK!BN9:BN117))","v":""},{"$f":"IF(KK!BJ9=\"\",\"\",RANK(B6,$B$2:$B$41))","v":""},null,{"$f":"IF(Hauptmaske!N6=\"\",3,Hauptmaske!N6)","v":1},null,"","",""]
[{"$f":"IF(Hauptmaske!I24=\"x\",Hauptmaske!A24,\"\")","v":""},{"$f":"KK!DC4","v":""},{"$f":"KK!CY4","v":""},{"$f":"KK!CY6","v":""},{"$f":"KK!DC6","v":""},{"$f":"KK!DD6","v":""},{"$f":"KK!DB4","v":""},{"$f":"IF(KK!CZ9=\"\",\"\",SUM(KK!DD9:DD117))","v":""},{"$f":"IF(KK!CZ9=\"\",\"\",RANK(B7,$B$2:$B$41))","v":""},"KK-Auflage",null,null,"","",""]
[{"$f":"IF(Hauptmaske!I20=\"x\",Hauptmaske!A20,\"\")","v":""},{"$f":"KK!CE4","v":""},{"$f":"KK!CA4","v":""},{"$f":"KK!CA6","v":""},{"$f":"KK!CE6","v":""},{"$f":"KK!CF6","v":""},{"$f":"KK!CD4","v":""},{"$f":"IF(KK!CB9=\"\",\"\",SUM(KK!CF9:CF117))","v":""},{"$f":"IF(KK!CB9=\"\",\"\",RANK(B8,$B$2:$B$41))","v":""},null,null,null,"","",""]
[{"$f":"IF(Hauptmaske!I9=\"x\",Hauptmaske!A9,\"\")","v":""},{"$f":"KK!Q4","v":""},{"$f":"KK!M4","v":""},{"$f":"KK!M6","v":""},{"$f":"KK!Q6","v":""},{"$f":"KK!R6","v":""},{"$f":"KK!P4","v":""},{"$f":"IF(KK!N9=\"\",\"\",SUM(KK!R9:R117))","v":""},{"$f":"IF(KK!N9=\"\",\"\",RANK(B9,$B$2:$B$41))","v":""},null,null,null,"","",""]
[{"$f":"IF(Hauptmaske!I18=\"x\",Hauptmaske!A18,\"\")","v":""},{"$f":"KK!BS4","v":""},{"$f":"KK!BO4","v":""},{"$f":"KK!BO6","v":""},{"$f":"KK!BS6","v":""},{"$f":"KK!BT6","v":""},{"$f":"KK!BR4","v":""},{"$f":"IF(KK!BP9=\"\",\"\",SUM(KK!BT9:BT117))","v":""},{"$f":"IF(KK!BP9=\"\",\"\",RANK(B10,$B$2:$B$41))","v":""},null,null,null,"","",""]
[{"$f":"IF(Hauptmaske!I19=\"x\",Hauptmaske!A19,\"\")","v":""},{"$f":"KK!BY4","v":""},{"$f":"KK!BU4","v":""},{"$f":"KK!BU6","v":""},{"$f":"KK!BY6","v":""},{"$f":"KK!BZ6","v":""},{"$f":"KK!BX4","v":""},{"$f":"IF(KK!BV9=\"\",\"\",SUM(KK!BZ9:BZ117))","v":""},{"$f":"IF(KK!BV9=\"\",\"\",RANK(B11,$B$2:$B$41))","v":""},null,null,null,"","",""]
[{"$f":"IF(Hauptmaske!I11=\"x\",Hauptmaske!A11,\"\")","v":""},{"$f":"KK!AC4","v":""},{"$f":"KK!Y4","v":""},{"$f":"KK!Y6","v":""},{"$f":"KK!AC6","v":""},{"$f":"KK!AD6","v":""},{"$f":"KK!AB4","v":""},{"$f":"IF(KK!Z9=\"\",\"\",SUM(KK!AD9:AD117))","v":""},{"$f":"IF(KK!Z9=\"\",\"\",RANK(B12,$B$2:$B$41))","v":""},null,null,null,"","",""]
[{"$f":"IF(Hauptmaske!I12=\"x\",Hauptmaske!A12,\"\")","v":""},{"$f":"KK!AI4","v":""},{"$f":"KK!AE4","v":""},{"$f":"KK!AE6","v":""},{"$f":"KK!AI6","v":""},{"$f":"KK!AJ6","v":""},{"$f":"KK!AH4","v":""},{"$f":"IF(KK!AF9=\"\",\"\",SUM(KK!AJ9:AJ117))","v":""},{"$f":"IF(KK!AF9=\"\",\"\",RANK(B13,$B$2:$B$41))","v":""},null,null,null,"","",""]
[{"$f":"IF(Hauptmaske!I13=\"x\",Hauptmaske!A13,\"\")","v":""},{"$f":"KK!AO4","v":""},{"$f":"KK!AK4","v":""},{"$f":"KK!AK6","v":""},{"$f":"KK!AO6","v":""},{"$f":"KK!AP6","v":""},{"$f":"KK!AN4","v":""},{"$f":"IF(KK!AL9=\"\",\"\",SUM(KK!AP9:AP117))","v":""},{"$f":"IF(KK!AL9=\"\",\"\",RANK(B14,$B$2:$B$41))","v":""},null,null,null,"","",""]
[{"$f":"IF(Hauptmaske!I22=\"x\",Hauptmaske!A22,\"\")","v":""},{"$f":"KK!CQ4","v":""},{"$f":"KK!CM4","v":""},{"$f":"KK!CM6","v":""},{"$f":"KK!CQ6","v":""},{"$f":"KK!CR6","v":""},{"$f":"KK!CP4","v":""},{"$f":"IF(KK!CN9=\"\",\"\",SUM(KK!CR9:CR117))","v":""},{"$f":"IF(KK!CN9=\"\",\"\",RANK(B15,$B$2:$B$41))","v":""},null,null,null,"","",""]
[{"$f":"IF(Hauptmaske!I16=\"x\",Hauptmaske!A16,\"\")","v":""},{"$f":"KK!BG4","v":""},{"$f":"KK!BC4","v":""},{"$f":"KK!BC6","v":""},{"$f":"KK!BG6","v":""},{"$f":"KK!BH6","v":""},{"$f":"KK!BF4","v":""},{"$f":"IF(KK!BD9=\"\",\"\",SUM(KK!BH9:BH117))","v":""},{"$f":"IF(KK!BD9=\"\",\"\",RANK(B16,$B$2:$B$41))","v":""},null,null,null,"","",""]
[{"$f":"IF(Hauptmaske!I8=\"x\",Hauptmaske!A8,\"\")","v":""},{"$f":"KK!K4","v":""},{"$f":"KK!G4","v":""},{"$f":"KK!G6","v":""},{"$f":"KK!K6","v":""},{"$f":"KK!L6","v":""},{"$f":"KK!J4","v":""},{"$f":"IF(KK!H9=\"\",\"\",SUM(KK!L9:L117))","v":""},{"$f":"IF(KK!H9=\"\",\"\",RANK(B17,$B$2:$B$41))","v":""},null,null,null,"","",""]
[{"$f":"IF(Hauptmaske!I14=\"x\",Hauptmaske!A14,\"\")","v":""},{"$f":"KK!AU4","v":""},{"$f":"KK!AQ4","v":""},{"$f":"KK!AQ6","v":""},{"$f":"KK!AU6","v":""},{"$f":"KK!AV6","v":""},{"$f":"KK!AT4","v":""},{"$f":"IF(KK!AR9=\"\",\"\",SUM(KK!AV9:AV117))","v":""},{"$f":"IF(KK!AR9=\"\",\"\",RANK(B18,$B$2:$B$41))","v":""},null,null,null,"","",""]
[{"$f":"IF(Hauptmaske!I23=\"x\",Hauptmaske!A23,\"\")","v":""},{"$f":"KK!CW4","v":""},{"$f":"KK!CS4","v":""},{"$f":"KK!CS6","v":""},{"$f":"KK!CW6","v":""},{"$f":"KK!CX6","v":""},{"$f":"KK!CV4","v":""},{"$f":"IF(KK!CT9=\"\",\"\",SUM(KK!CX9:CX117))","v":""},{"$f":"IF(KK!CT9=\"\",\"\",RANK(B19,$B$2:$B$41))","v":""},null,null,null,"","",""]
[{"$f":"IF(Hauptmaske!I25=\"x\",Hauptmaske!A25,\"\")","v":""},{"$f":"KK!DI4","v":""},{"$f":"KK!DE4","v":""},{"$f":"KK!DE6","v":""},{"$f":"KK!DI6","v":""},{"$f":"KK!DJ6","v":""},{"$f":"KK!DH4","v":""},{"$f":"IF(KK!DF9=\"\",\"\",SUM(KK!DJ9:DJ117))","v":""},{"$f":"IF(KK!DF9=\"\",\"\",RANK(B20,$B$2:$B$41))","v":""},null,null,null,"","",""]
[{"$f":"IF(Hauptmaske!I26=\"x\",Hauptmaske!A26,\"\")","v":""},{"$f":"KK!DO4","v":""},{"$f":"KK!DK4","v":""},{"$f":"KK!DK6","v":""},{"$f":"KK!DO6","v":""},{"$f":"KK!DP6","v":""},{"$f":"KK!DN4","v":""},{"$f":"IF(KK!DL9=\"\",\"\",SUM(KK!DP9:DP117))","v":""},{"$f":"IF(KK!DL9=\"\",\"\",RANK(B21,$B$2:$B$41))","v":""},null,null,null,"","",""]
[{"$f":"IF(Hauptmaske!I27=\"x\",Hauptmaske!A27,\"\")","v":""},{"$f":"KK!DU4","v":""},{"$f":"KK!DQ4","v":""},{"$f":"KK!DQ6","v":""},{"$f":"KK!DU6","v":""},{"$f":"KK!DV6","v":""},{"$f":"KK!DT4","v":""},{"$f":"IF(KK!DR9=\"\",\"\",SUM(KK!DV9:DV117))","v":""},{"$f":"IF(KK!DR9=\"\",\"\",RANK(B22,$B$2:$B$41))","v":""},null,null,null,"","",""]
[{"$f":"IF(Hauptmaske!I28=\"x\",Hauptmaske!A28,\"\")","v":""},{"$f":"KK!EA4","v":""},{"$f":"KK!DW4","v":""},{"$f":"KK!DW6","v":""},{"$f":"KK!EA6","v":""},{"$f":"KK!EB6","v":""},{"$f":"KK!DZ4","v":""},{"$f":"IF(KK!DX9=\"\",\"\",SUM(KK!EB9:EB117))","v":""},{"$f":"IF(KK!DX9=\"\",\"\",RANK(B23,$B$2:$B$41))","v":""},null,null,null,"","",""]
[{"$f":"IF(Hauptmaske!I29=\"x\",Hauptmaske!A29,\"\")","v":""},{"$f":"KK!EG4","v":""},{"$f":"KK!EC4","v":""},{"$f":"KK!EC6","v":""},{"$f":"KK!EG6","v":""},{"$f":"KK!EH6","v":""},{"$f":"KK!EF4","v":""},{"$f":"IF(KK!ED9=\"\",\"\",SUM(KK!EH9:EH117))","v":""},{"$f":"IF(KK!ED9=\"\",\"\",RANK(B24,$B$2:$B$41))","v":""},null,null,null,"","",""]
[{"$f":"IF(Hauptmaske!I30=\"x\",Hauptmaske!A30,\"\")","v":""},{"$f":"KK!EM4","v":""},{"$f":"KK!EI4","v":""},{"$f":"KK!EI6","v":""},{"$f":"KK!EM6","v":""},{"$f":"KK!EN6","v":""},{"$f":"KK!EL4","v":""},{"$f":"IF(KK!EJ9=\"\",\"\",SUM(KK!EN9:EN117))","v":""},{"$f":"IF(KK!EJ9=\"\",\"\",RANK(B25,$B$2:$B$41))","v":""},null,null,null,"","",""]
[{"$f":"IF(Hauptmaske!I31=\"x\",Hauptmaske!A31,\"\")","v":""},{"$f":"KK!ES4","v":""},{"$f":"KK!EO4","v":""},{"$f":"KK!EO6","v":""},{"$f":"KK!ES6","v":""},{"$f":"KK!ET6","v":""},{"$f":"KK!ER4","v":""},{"$f":"IF(KK!EP9=\"\",\"\",SUM(KK!ET9:ET117))","v":""},{"$f":"IF(KK!EP9=\"\",\"\",RANK(B26,$B$2:$B$41))","v":""},null,null,null,"","",""]
[{"$f":"IF(Hauptmaske!I32=\"x\",Hauptmaske!A32,\"\")","v":""},{"$f":"KK!EY4","v":""},{"$f":"KK!EU4","v":""},{"$f":"KK!EU6","v":""},{"$f":"KK!EY6","v":""},{"$f":"KK!EZ6","v":""},{"$f":"KK!EX4","v":""},{"$f":"IF(KK!EV9=\"\",\"\",SUM(KK!EZ9:EZ117))","v":""},{"$f":"IF(KK!EV9=\"\",\"\",RANK(B27,$B$2:$B$41))","v":""},null,null,null,"","",""]
[{"$f":"IF(Hauptmaske!I33=\"x\",Hauptmaske!A33,\"\")","v":""},{"$f":"KK!FE4","v":""},{"$f":"KK!FA4","v":""},{"$f":"KK!FA6","v":""},{"$f":"KK!FE6","v":""},{"$f":"KK!FF6","v":""},{"$f":"KK!FD4","v":""},{"$f":"IF(KK!FB9=\"\",\"\",SUM(KK!FF9:FF117))","v":""},{"$f":"IF(KK!FB9=\"\",\"\",RANK(B28,$B$2:$B$41))","v":""},null,null,null,"","",""]
[{"$f":"IF(Hauptmaske!I34=\"x\",Hauptmaske!A34,\"\")","v":""},{"$f":"KK!FK4","v":""},{"$f":"KK!FG4","v":""},{"$f":"KK!FG6","v":""},{"$f":"KK!FK6","v":""},{"$f":"KK!FL6","v":""},{"$f":"KK!FJ4","v":""},{"$f":"IF(KK!FH9=\"\",\"\",SUM(KK!FL9:FL117))","v":""},{"$f":"IF(KK!FH9=\"\",\"\",RANK(B29,$B$2:$B$41))","v":""},null,null,null,"","",""]
[{"$f":"IF(Hauptmaske!I35=\"x\",Hauptmaske!A35,\"\")","v":""},{"$f":"KK!FQ4","v":""},{"$f":"KK!FM4","v":""},{"$f":"KK!FM6","v":""},{"$f":"KK!FQ6","v":""},{"$f":"KK!FR6","v":""},{"$f":"KK!FP4","v":""},{"$f":"IF(KK!FN9=\"\",\"\",SUM(KK!FR9:FR117))","v":""},{"$f":"IF(KK!FN9=\"\",\"\",RANK(B30,$B$2:$B$41))","v":""},null,null,null,"","",""]
[{"$f":"IF(Hauptmaske!I36=\"x\",Hauptmaske!A36,\"\")","v":""},{"$f":"KK!FW4","v":""},{"$f":"KK!FS4","v":""},{"$f":"KK!FS6","v":""},{"$f":"KK!FW6","v":""},{"$f":"KK!FX6","v":""},{"$f":"KK!FV4","v":""},{"$f":"IF(KK!FT9=\"\",\"\",SUM(KK!FX9:FX117))","v":""},{"$f":"IF(KK!FT9=\"\",\"\",RANK(B31,$B$2:$B$41))","v":""},null,null,null,"","",""]
[{"$f":"IF(Hauptmaske!I37=\"x\",Hauptmaske!A37,\"\")","v":""},{"$f":"KK!GC4","v":""},{"$f":"KK!FY4","v":""},{"$f":"KK!FY6","v":""},{"$f":"KK!GC6","v":""},{"$f":"KK!GD6","v":""},{"$f":"KK!GB4","v":""},{"$f":"IF(KK!FZ9=\"\",\"\",SUM(KK!GD9:GD117))","v":""},{"$f":"IF(KK!FZ9=\"\",\"\",RANK(B32,$B$2:$B$41))","v":""},null,null,null,"","",""]
[{"$f":"IF(Hauptmaske!I38=\"x\",Hauptmaske!A38,\"\")","v":""},{"$f":"KK!GI4","v":""},{"$f":"KK!GE4","v":""},{"$f":"KK!GE6","v":""},{"$f":"KK!GI6","v":""},{"$f":"KK!GJ6","v":""},{"$f":"KK!GH4","v":""},{"$f":"IF(KK!GF9=\"\",\"\",SUM(KK!GJ9:GJ117))","v":""},{"$f":"IF(KK!GF9=\"\",\"\",RANK(B33,$B$2:$B$41))","v":""},null,null,null,"","",""]
[{"$f":"IF(Hauptmaske!I39=\"x\",Hauptmaske!A39,\"\")","v":""},{"$f":"KK!GO4","v":""},{"$f":"KK!GK4","v":""},{"$f":"KK!GK6","v":""},{"$f":"KK!GO6","v":""},{"$f":"KK!GP6","v":""},{"$f":"KK!GN4","v":""},{"$f":"IF(KK!GL9=\"\",\"\",SUM(KK!GP9:GP117))","v":""},{"$f":"IF(KK!GL9=\"\",\"\",RANK(B34,$B$2:$B$41))","v":""},null,null,null,"","",""]
[{"$f":"IF(Hauptmaske!I40=\"x\",Hauptmaske!A40,\"\")","v":""},{"$f":"KK!GU4","v":""},{"$f":"KK!GQ4","v":""},{"$f":"KK!GQ6","v":""},{"$f":"KK!GU6","v":""},{"$f":"KK!GV6","v":""},{"$f":"KK!GT4","v":""},{"$f":"IF(KK!GR9=\"\",\"\",SUM(KK!GV9:GV117))","v":""},{"$f":"IF(KK!GR9=\"\",\"\",RANK(B35,$B$2:$B$41))","v":""},null,null,null,"","",""]
[{"$f":"IF(Hauptmaske!I41=\"x\",Hauptmaske!A41,\"\")","v":""},{"$f":"KK!HA4","v":""},{"$f":"KK!GW4","v":""},{"$f":"KK!GW6","v":""},{"$f":"KK!HA6","v":""},{"$f":"KK!HB6","v":""},{"$f":"KK!GZ4","v":""},{"$f":"IF(KK!GX9=\"\",\"\",SUM(KK!HB9:HB117))","v":""},{"$f":"IF(KK!GX9=\"\",\"\",RANK(B36,$B$2:$B$41))","v":""},null,null,null,"","",""]
[{"$f":"IF(Hauptmaske!I42=\"x\",Hauptmaske!A42,\"\")","v":""},{"$f":"KK!HG4","v":""},{"$f":"KK!HC4","v":""},{"$f":"KK!HC6","v":""},{"$f":"KK!HG6","v":""},{"$f":"KK!HH6","v":""},{"$f":"KK!HF4","v":""},{"$f":"IF(KK!HD9=\"\",\"\",SUM(KK!HH9:HH117))","v":""},{"$f":"IF(KK!HD9=\"\",\"\",RANK(B37,$B$2:$B$41))","v":""},null,null,null,"","",""]
[{"$f":"IF(Hauptmaske!I43=\"x\",Hauptmaske!A43,\"\")","v":""},{"$f":"KK!HM4","v":""},{"$f":"KK!HI4","v":""},{"$f":"KK!HI6","v":""},{"$f":"KK!HM6","v":""},{"$f":"KK!HN6","v":""},{"$f":"KK!HL4","v":""},{"$f":"IF(KK!HJ9=\"\",\"\",SUM(KK!HN9:HN117))","v":""},{"$f":"IF(KK!HJ9=\"\",\"\",RANK(B38,$B$2:$B$41))","v":""},null,null,null,"","",""]
[{"$f":"IF(Hauptmaske!I44=\"x\",Hauptmaske!A44,\"\")","v":""},{"$f":"KK!HS4","v":""},{"$f":"KK!HO4","v":""},{"$f":"KK!HO6","v":""},{"$f":"KK!HS6","v":""},{"$f":"KK!HT6","v":""},{"$f":"KK!HR4","v":""},{"$f":"IF(KK!HP9=\"\",\"\",SUM(KK!HT9:HT117))","v":""},{"$f":"IF(KK!HP9=\"\",\"\",RANK(B39,$B$2:$B$41))","v":""},null,null,null,"","",""]
[{"$f":"IF(Hauptmaske!I45=\"x\",Hauptmaske!A45,\"\")","v":""},{"$f":"KK!HY4","v":""},{"$f":"KK!HU4","v":""},{"$f":"KK!HU6","v":""},{"$f":"KK!HY6","v":""},{"$f":"KK!HZ6","v":""},{"$f":"KK!HX4","v":""},{"$f":"IF(KK!HV9=\"\",\"\",SUM(KK!HZ9:HZ117))","v":""},{"$f":"IF(KK!HV9=\"\",\"\",RANK(B40,$B$2:$B$41))","v":""},null,null,null,"","",""]
[{"$f":"IF(Hauptmaske!I46=\"x\",Hauptmaske!A46,\"\")","v":""},{"$f":"KK!IE4","v":""},{"$f":"KK!IA4","v":""},{"$f":"KK!IA6","v":""},{"$f":"KK!IE6","v":""},{"$f":"KK!IF6","v":""},{"$f":"KK!ID4","v":""},{"$f":"IF(KK!IB9=\"\",\"\",SUM(KK!IF9:IF117))","v":""},{"$f":"IF(KK!IB9=\"\",\"\",RANK(B41,$B$2:$B$41))","v":""},null,null,null,"","",""]
[]
[null,null,"Name","Mittelwert"]
[{"$f":"M2","v":"Testname"},{"$f":"O2","v":-1.9999999999999999E-6},{"$f":"INDEX($A$44:$B$83,MATCH(LARGE($B$44:$B$83,ROW()-43),$B$44:$B$83,0),1)","v":"Testname"},{"$f":"INDEX($A$44:$B$83,MATCH(LARGE($B$44:$B$83,ROW()-43),$B$44:$B$83,0),2)","v":-1.9999999999999999E-6}]
[{"$f":"M3","v":""},{"$f":"O3","v":""},{"$f":"INDEX($A$44:$B$83,MATCH(LARGE($B$44:$B$83,ROW()-43),$B$44:$B$83,0),1)","v":{"$error":"#NUM!"}},{"$f":"INDEX($A$44:$B$83,MATCH(LARGE($B$44:$B$83,ROW()-43),$B$44:$B$83,0),2)","v":{"$error":"#NUM!"}}]
["","",{"$error":"#NUM!"},{"$error":"#NUM!"}]
["","",{"$error":"#NUM!"},{"$error":"#NUM!"}]
["","",{"$error":"#NUM!"},{"$error":"#NUM!"}]
["","",{"$error":"#NUM!"},{"$error":"#NUM!"}]
["","",{"$error":"#NUM!"},{"$error":"#NUM!"}]
["","",{"$error":"#NUM!"},{"$error":"#NUM!"}]
["","",{"$error":"#NUM!"},{"$error":"#NUM!"}]
["","",{"$error":"#NUM!"},{"$error":"#NUM!"}]
["","",{"$error":"#NUM!"},{"$error":"#NUM!"}]
["","",{"$error":"#NUM!"},{"$error":"#NUM!"}]
["","",{"$error":"#NUM!"},{"$error":"#NUM!"}]
["","",{"$error":"#NUM!"},{"$error":"#NUM!"}]
["","",{"$error":"#NUM!"},{"$error":"#NUM!"}]
["","",{"$error":"#NUM!"},{"$error":"#NUM!"}]
["","",{"$error":"#NUM!"},{"$error":"#NUM!"}]
["","",{"$error":"#NUM!"},{"$error":"#NUM!"}]
["","",{"$error":"#NUM!"},{"$error":"#NUM!"}]
["","",{"$error":"#NUM!"},{"$error":"#NUM!"}]
["","",{"$error":"#NUM!"},{"$error":"#NUM!"}]
["","",{"$error":"#NUM!"},{"$error":"#NUM!"}]
["","",{"$error":"#NUM!"},{"$error":"#NUM!"}]
["","",{"$error":"#NUM!"},{"$error":"#NUM!"}]
["","",{"$error":"#NUM!"},{"$error":"#NUM!"}]
["","",{"$error":"#NUM!"},{"$error":"#NUM!"}]
["","",{"$error":"#NUM!"},{"$error":"#NUM!"}]
["","",{"$error":"#NUM!"},{"$error":"#NUM!"}]
["","",{"$error":"#NUM!"},{"$error":"#NUM!"}]
["","",{"$error":"#NUM!"},{"$error":"#NUM!"}]
["","",{"$error":"#NUM!"},{"$error":"#NUM!"}]
["","",{"$error":"#NUM!"},{"$error":"#NUM!"}]
["","",{"$error":"#NUM!"},{"$error":"#NUM!"}]
["","",{"$error":"#NUM!"},{"$error":"#NUM!"}]
["","",{"$error":"#NUM!"},{"$error":"#NUM!"}]
["","",{"$error":"#NUM!"},{"$error":"#NUM!"}]
["","",{"$error":"#NUM!"},{"$error":"#NUM!"}]
["","",{"$error":"#NUM!"},{"$error":"#NUM!"}]
["","",{"$error":"#NUM!"},{"$error":"#NUM!"}]
["","",{"$error":"#NUM!"},{"$error":"#NUM!"}]

{"sheet":"Grafik-KK-1","index":15,"n_rows":40,"n_cols":7,"rows_kept":40,"cut":false,"hidden":false,"merged":[[0,0,0,5],[4,6,11,8],[39,6,46,8]]}
[{"$f":"CONCATENATE(\"Ergebnisse vom KK - Auflageschießen\",\" \",Hauptmaske!A4)","v":"Ergebnisse vom KK - Auflageschießen 2016"}]
[]
[]
[]
[null,null,null,null,null,null,"Diese Grafik ist auf\n40 Teilenehmer beschränkt."]
[]
[]
[]
[]
[]
[]
[]
[]
[]
[]
[]
[]
[]
[]
[]
[]
[]
[]
[]
[]
[]
[]
[]
[]
[]
[]
[]
[]
[]
[]
[]
[]
[]
[]
[null,null,null,null,null,null,"Diese Grafik ist auf\n40 Teilenehmer beschränkt."]

{"sheet":"Grafik-KK-2","index":16,"n_rows":39,"n_cols":7,"rows_kept":39,"cut":false,"hidden":false,"merged":[[0,0,0,5],[6,6,13,8],[38,6,45,8]]}
[{"$f":"CONCATENATE(\"Ergebnisse vom KK - Auflageschießen\",\" \",Hauptmaske!A4)","v":"Ergebnisse vom KK - Auflageschießen 2016"}]
[]
[]
[]
[]
[]
[null,null,null,null,null,null,"Diese Grafik ist auf\n40 Teilenehmer beschränkt."]
[]
[]
[]
[]
[]
[]
[]
[]
[]
[]
[]
[]
[]
[]
[]
[]
[]
[]
[]
[]
[]
[]
[]
[]
[]
[]
[]
[]
[]
[]
[]
[null,null,null,null,null,null,"Diese Grafik ist auf\n40 Teilenehmer beschränkt."]

{"sheet":"Hilfe","index":17,"n_rows":0,"n_cols":0,"rows_kept":0,"cut":false,"hidden":false,"merged":[]}