{"text_format":"1","workbook":"xlsx","n_sheets":13,"sheets":["HM","PS","OS","SE","BSP","VS","Ergebnisse","Schnüre","Presse","Sammler","D","Kasse","Info"],"not_rendered":{"charts":0,"images":29,"macros":1,"external_links":0,"defined_names":9,"comments":0,"pivot_tables":0},"unopened":[],"bounds":{"document_bytes":16777216,"sheet_cells":100000,"rows_first":2000,"rows_last":500,"rows_between":2000,"halvings":0,"cell_chars":16384,"cell_head_chars":4096},"cells_cut":0,"cells_raw":0,"read":"whole","date_system":"1900"}

{"sheet":"HM","index":0,"n_rows":249,"n_cols":24,"rows_kept":249,"cut":false,"hidden":false,"merged":[[247,3,247,4],[248,3,248,4],[243,3,243,4],[244,3,244,4],[245,3,245,4],[246,3,246,4],[238,3,238,4],[239,3,239,4],[238,8,238,12],[239,8,239,12],[245,5,245,7],[246,5,246,7],[247,5,247,7],[248,5,248,7],[243,5,243,7],[244,5,244,7],[238,5,238,7],[239,5,239,7],[0,0,0,1],[4,3,6,13],[242,3,242,4],[240,3,240,4],[235,3,235,4],[212,5,212,6],[213,5,213,6],[214,5,214,6],[215,3,215,6],[236,3,236,4],[237,3,237,4],[241,3,241,4],[211,4,211,5],[212,3,212,4],[213,3,213,4],[214,3,214,4],[233,1,233,3],[234,5,234,7],[240,5,240,7],[241,5,241,7],[242,5,242,7],[235,5,235,7],[236,5,236,7],[237,5,237,7],[14,18,14,22],[15,18,15,22],[16,18,16,22],[17,18,17,22],[18,18,18,22],[9,18,9,22],[10,18,10,22],[11,18,11,22],[12,18,12,22],[13,18,13,22],[24,18,24,22],[25,18,25,22],[26,18,26,22],[27,18,27,22],[28,18,28,22],[19,18,19,22],[20,18,20,22],[21,18,21,22],[22,18,22,22],[23,18,23,22],[34,18,34,22],[35,18,35,22],[36,18,36,22],[37,18,37,22],[38,18,38,22],[29,18,29,22],[30,18,30,22],[31,18,31,22],[32,18,32,22],[33,18,33,22],[44,18,44,22],[45,18,45,22],[46,18,46,22],[47,18,47,22],[48,18,48,22],[39,18,39,22],[40,18,40,22],[41,18,41,22],[42,18,42,22],[43,18,43,22],[54,18,54,22],[55,18,55,22],[56,18,56,22],[57,18,57,22],[58,18,58,22],[49,18,49,22],[50,18,50,22],[51,18,51,22],[52,18,52,22],[53,18,53,22],[64,18,64,22],[65,18,65,22],[66,18,66,22],[67,18,67,22],[68,18,68,22],[59,18,59,22],[60,18,60,22],[61,18,61,22],[62,18,62,22],[63,18,63,22],[74,18,74,22],[75,18,75,22],[76,18,76,22],[77,18,77,22],[78,18,78,22],[69,18,69,22],[70,18,70,22],[71,18,71,22],[72,18,72,22],[73,18,73,22],[84,18,84,22],[85,18,85,22],[86,18,86,22],[87,18,87,22],[88,18,88,22],[79,18,79,22],[80,18,80,22],[81,18,81,22],[82,18,82,22],[83,18,83,22],[94,18,94,22],[95,18,95,22],[96,18,96,22],[97,18,97,22],[98,18,98,22],[89,18,89,22],[90,18,90,22],[91,18,91,22],[92,18,92,22],[93,18,93,22],[104,18,104,22],[105,18,105,22],[106,18,106,22],[107,18,107,22],[108,18,108,22],[99,18,99,22],[100,18,100,22],[101,18,101,22],[102,18,102,22],[103,18,103,22],[114,18,114,22],[115,18,115,22],[116,18,116,22],[117,18,117,22],[118,18,118,22],[109,18,109,22],[110,18,110,22],[111,18,111,22],[112,18,112,22],[113,18,113,22],[124,18,124,22],[125,18,125,22],[126,18,126,22],[127,18,127,22],[128,18,128,22],[119,18,119,22],[120,18,120,22],[121,18,121,22],[122,18,122,22],[123,18,123,22],[134,18,134,22],[135,18,135,22],[136,18,136,22],[137,18,137,22],[138,18,138,22],[129,18,129,22],[130,18,130,22],[131,18,131,22],[132,18,132,22],[133,18,133,22],[144,18,144,22],[145,18,145,22],[146,18,146,22],[147,18,147,22],[148,18,148,22],[139,18,139,22],[140,18,140,22],[141,18,141,22],[142,18,142,22],[143,18,143,22],[154,18,154,22],[155,18,155,22],[156,18,156,22],[157,18,157,22],[158,18,158,22],[149,18,149,22],[150,18,150,22],[151,18,151,22],[152,18,152,22],[153,18,153,22],[164,18,164,22],[165,18,165,22],[166,18,166,22],[167,18,167,22],[168,18,168,22],[159,18,159,22],[160,18,160,22],[161,18,161,22],[162,18,162,22],[163,18,163,22],[174,18,174,22],[175,18,175,22],[176,18,176,22],[177,18,177,22],[178,18,178,22],[169,18,169,22],[170,18,170,22],[171,18,171,22],[172,18,172,22],[173,18,173,22],[184,18,184,22],[185,18,185,22],[186,18,186,22],[187,18,187,22],[188,18,188,22],[179,18,179,22],[180,18,180,22],[181,18,181,22],[182,18,182,22],[183,18,183,22],[194,18,194,22],[195,18,195,22],[196,18,196,22],[197,18,197,22],[198,18,198,22],[189,18,189,22],[190,18,190,22],[191,18,191,22],[192,18,192,22],[193,18,193,22],[204,18,204,22],[205,18,205,22],[206,18,206,22],[207,18,207,22],[208,18,208,22],[199,18,199,22],[200,18,200,22],[201,18,201,22],[202,18,202,22],[203,18,203,22]]}
["© 2010 - Rolf Marquardt"]
[]
[]
[]
[null,null,null,{"$f":"CONCATENATE(\"Schützenfest\",\" \",TEXT(TODAY(),\"JJJJ\"))","v":"Schützenfest 2018"}]
[]
[]
[]
["Lfd.\nNr.:","Vor- und Nachname:",null,"Munition \"RWS\"","Preisschießen KK","Preisscheiben KK (nachgelöst)","Preisschießen LG (bis 21 Jahre)","Gästepreisschießen KK","Gästepreisschießen KK (nachgelöst)","Ordenschießen KK (min. 3 Satz)","Ordenschießen LG (bis 21 Jahre)","Bundesorden (5 Scheiben)","Sollepokal (min. 3 Satz)","Schnüre und Eicheln - KK (einmal lösbar)","Schnüre und Eicheln - LG (einmal lösbar)","Volksbankorden (5 Scheiben)","Volkskönigsschießen - KK","    Summe"]
[1,null,null,null,null,null,null,null,null,null,null,null,null,null,null,null,null,{"$f":"IF(B10=\"\",\"\",SUM(D10*$D$236)+SUM(E10*$D$237)+SUM(F10*$D$238)+SUM(G10*$D$241)+SUM(H10*$D$239)+SUM(I10*$D$240)+SUM(J10*$D$242)+SUM(K10*$D$243)+SUM(L10*$D$244)+SUM(M10*$D$245)+SUM(N10*$D$246)+SUM(O10*$D$247)+SUM(P10*$D$248)+SUM(Q10*$D$249))","v":""},null,null,null,null,null,{"$f":"IF(H10,1,IF(Q10,1,\"\"))","v":""}]
[2,null,null,null,null,null,null,null,null,null,null,null,null,null,null,null,null,"",null,null,null,null,null,{"$f":"IF(H11,1,IF(Q11,1,\"\"))","v":""}]
[3,null,null,null,null,null,null,null,null,null,null,null,null,null,null,null,null,"",null,null,null,null,null,""]
[4,null,null,null,null,null,null,null,null,null,null,null,null,null,null,null,null,"",null,null,null,null,null,""]
[5,null,null,null,null,null,null,null,null,null,null,null,null,null,null,null,null,"",null,null,null,null,null,""]
[6,null,null,null,null,null,null,null,null,null,null,null,null,null,null,null,null,"",null,null,null,null,null,""]
[7,null,null,null,null,null,null,null,null,null,null,null,null,null,null,null,null,"",null,null,null,null,null,""]
[8,null,null,null,null,null,null,null,null,null,null,null,null,null,null,null,null,"",null,null,null,null,null,""]
[9,null,null,null,null,null,null,null,null,null,null,null,null,null,null,null,null,"",null,null,null,null,null,""]
[10,null,null,null,null,null,null,null,null,null,null,null,null,null,null,null,null,"",null,null,null,null,null,""]
[11,null,null,null,null,null,null,null,null,null,null,null,null,null,null,null,null,"",null,null,null,null,null,""]
[12,null,null,null,null,null,null,null,null,null,null,null,null,null,null,null,null,"",null,null,null,null,null,""]
[13,null,null,null,null,null,null,null,null,null,null,null,null,null,null,null,null,"",null,null,null,null,null,""]
[14,null,null,null,null,null,null,null,null,null,null,null,null,null,null,null,null,"",null,null,null,null,null,""]
[15,null,null,null,null,null,null,null,null,null,null,null,null,null,null,null,null,"",null,null,null,null,null,""]
[16,null,null,null,null,null,null,null,null,null,null,null,null,null,null,null,null,"",null,null,null,null,null,""]
[17,null,null,null,null,null,null,null,null,null,null,null,null,null,null,null,null,"",null,null,null,null,null,""]
[18,null,null,null,null,null,null,null,null,null,null,null,null,null,null,null,null,"",null,null,null,null,null,""]
[19,null,null,null,null,null,null,null,null,null,null,null,null,null,null,null,null,"",null,null,null,null,null,""]
[20,null,null,null,null,null,null,null,null,null,null,null,null,null,null,null,null,"",null,null,null,null,null,""]
[21,null,null,null,null,null,null,null,null,null,null,null,null,null,null,null,null,"",null,null,null,null,null,""]
[22,null,null,null,null,null,null,null,null,null,null,null,null,null,null,null,null,"",null,null,null,null,null,""]
[23,null,null,null,null,null,null,null,null,null,null,null,null,null,null,null,null,"",null,null,null,null,null,""]
[24,null,null,null,null,null,null,null,null,null,null,null,null,null,null,null,null,"",null,null,null,null,null,""]
[25,null,null,null,null,null,null,null,null,null,null,null,null,null,null,null,null,"",null,null,null,null,null,""]
[26,null,null,null,null,null,null,null,null,null,null,null,null,null,null,null,null,"",null,null,null,null,null,""]
[27,null,null,null,null,null,null,null,null,null,null,null,null,null,null,null,null,"",null,null,null,null,null,""]
[28,null,null,null,null,null,null,null,null,null,null,null,null,null,null,null,null,"",null,null,null,null,null,""]
[29,null,null,null,null,null,null,null,null,null,null,null,null,null,null,null,null,"",null,null,null,null,null,""]
[30,null,null,null,null,null,null,null,null,null,null,null,null,null,null,null,null,"",null,null,null,null,null,""]
[31,null,null,null,null,null,null,null,null,null,null,null,null,null,null,null,null,"",null,null,null,null,null,""]
[32,null,null,null,null,null,null,null,null,null,null,null,null,null,null,null,null,"",null,null,null,null,null,""]
[33,null,null,null,null,null,null,null,null,null,null,null,null,null,null,null,null,"",null,null,null,null,null,""]
[34,null,null,null,null,null,null,null,null,null,null,null,null,null,null,null,null,"",null,null,null,null,null,""]
[35,null,null,null,null,null,null,null,null,null,null,null,null,null,null,null,null,"",null,null,null,null,null,""]
[36,null,null,null,null,null,null,null,null,null,null,null,null,null,null,null,null,"",null,null,null,null,null,""]
[37,null,null,null,null,null,null,null,null,null,null,null,null,null,null,null,null,"",null,null,null,null,null,""]
[38,null,null,null,null,null,null,null,null,null,null,null,null,null,null,null,null,"",null,null,null,null,null,""]
[39,null,null,null,null,null,null,null,null,null,null,null,null,null,null,null,null,"",null,null,null,null,null,""]
[40,null,null,null,null,null,null,null,null,null,null,null,null,null,null,null,null,"",null,null,null,null,null,""]
[41,null,null,null,null,null,null,null,null,null,null,null,null,null,null,null,null,"",null,null,null,null,null,""]
[42,null,null,null,null,null,null,null,null,null,null,null,null,null,null,null,null,"",null,null,null,null,null,""]
[43,null,null,null,null,null,null,null,null,null,null,null,null,null,null,null,null,"",null,null,null,null,null,""]
[44,null,null,null,null,null,null,null,null,null,null,null,null,null,null,null,null,"",null,null,null,null,null,""]
[45,null,null,null,null,null,null,null,null,null,null,null,null,null,null,null,null,"",null,null,null,null,null,""]
[46,null,null,null,null,null,null,null,null,null,null,null,null,null,null,null,null,"",null,null,null,null,null,""]
[47,null,null,null,null,null,null,null,null,null,null,null,null,null,null,null,null,"",null,null,null,null,null,""]
[48,null,null,null,null,null,null,null,null,null,null,null,null,null,null,null,null,"",null,null,null,null,null,""]
[49,null,null,null,null,null,null,null,null,null,null,null,null,null,null,null,null,"",null,null,null,null,null,""]
[50,null,null,null,null,null,null,null,null,null,null,null,null,null,null,null,null,"",null,null,null,null,null,""]
[51,null,null,null,null,null,null,null,null,null,null,null,null,null,null,null,null,"",null,null,null,null,null,""]
[52,null,null,null,null,null,null,null,null,null,null,null,null,null,null,null,null,"",null,null,null,null,null,""]
[53,null,null,null,null,null,null,null,null,null,null,null,null,null,null,null,null,"",null,null,null,null,null,""]
[54,null,null,null,null,null,null,null,null,null,null,null,null,null,null,null,null,"",null,null,null,null,null,""]
[55,null,null,null,null,null,null,null,null,null,null,null,null,null,null,null,null,"",null,null,null,null,null,""]
[56,null,null,null,null,null,null,null,null,null,null,null,null,null,null,null,null,"",null,null,null,null,null,""]
[57,null,null,null,null,null,null,null,null,null,null,null,null,null,null,null,null,"",null,null,null,null,null,""]
[58,null,null,null,null,null,null,null,null,null,null,null,null,null,null,null,null,"",null,null,null,null,null,""]
[59,null,null,null,null,null,null,null,null,null,null,null,null,null,null,null,null,"",null,null,null,null,null,""]
[60,null,null,null,null,null,null,null,null,null,null,null,null,null,null,null,null,"",null,null,null,null,null,""]
[61,null,null,null,null,null,null,null,null,null,null,null,null,null,null,null,null,"",null,null,null,null,null,""]
[62,null,null,null,null,null,null,null,null,null,null,null,null,null,null,null,null,"",null,null,null,null,null,""]
[63,null,null,null,null,null,null,null,null,null,null,null,null,null,null,null,null,"",null,null,null,null,null,""]
[64,null,null,null,null,null,null,null,null,null,null,null,null,null,null,null,null,"",null,null,null,null,null,""]
[65,null,null,null,null,null,null,null,null,null,null,null,null,null,null,null,null,{"$f":"IF(B74=\"\",\"\",SUM(D74*$D$236)+SUM(E74*$D$237)+SUM(F74*$D$238)+SUM(G74*$D$241)+SUM(H74*$D$239)+SUM(I74*$D$240)+SUM(J74*$D$242)+SUM(K74*$D$243)+SUM(L74*$D$244)+SUM(M74*$D$245)+SUM(N74*$D$246)+SUM(O74*$D$247)+SUM(P74*$D$248)+SUM(Q74*$D$249))","v":""},null,null,null,null,null,""]
[66,null,null,null,null,null,null,null,null,null,null,null,null,null,null,null,null,"",null,null,null,null,null,{"$f":"IF(H75,1,IF(Q75,1,\"\"))","v":""}]
[67,null,null,null,null,null,null,null,null,null,null,null,null,null,null,null,null,"",null,null,null,null,null,""]
[68,null,null,null,null,null,null,null,null,null,null,null,null,null,null,null,null,"",null,null,null,null,null,""]
[69,null,null,null,null,null,null,null,null,null,null,null,null,null,null,null,null,"",null,null,null,null,null,""]
[70,null,null,null,null,null,null,null,null,null,null,null,null,null,null,null,null,"",null,null,null,null,null,""]
[71,null,null,null,null,null,null,null,null,null,null,null,null,null,null,null,null,"",null,null,null,null,null,""]
[72,null,null,null,null,null,null,null,null,null,null,null,null,null,null,null,null,"",null,null,null,null,null,""]
[73,null,null,null,null,null,null,null,null,null,null,null,null,null,null,null,null,"",null,null,null,null,null,""]
[74,null,null,null,null,null,null,null,null,null,null,null,null,null,null,null,null,"",null,null,null,null,null,""]
[75,null,null,null,null,null,null,null,null,null,null,null,null,null,null,null,null,"",null,null,null,null,null,""]
[76,null,null,null,null,null,null,null,null,null,null,null,null,null,null,null,null,"",null,null,null,null,null,""]
[77,null,null,null,null,null,null,null,null,null,null,null,null,null,null,null,null,"",null,null,null,null,null,""]
[78,null,null,null,null,null,null,null,null,null,null,null,null,null,null,null,null,"",null,null,null,null,null,""]
[79,null,null,null,null,null,null,null,null,null,null,null,null,null,null,null,null,"",null,null,null,null,null,""]
[80,null,null,null,null,null,null,null,null,null,null,null,null,null,null,null,null,"",null,null,null,null,null,""]
[81,null,null,null,null,null,null,null,null,null,null,null,null,null,null,null,null,"",null,null,null,null,null,""]
[82,null,null,null,null,null,null,null,null,null,null,null,null,null,null,null,null,"",null,null,null,null,null,""]
[83,null,null,null,null,null,null,null,null,null,null,null,null,null,null,null,null,"",null,null,null,null,null,""]
[84,null,null,null,null,null,null,null,null,null,null,null,null,null,null,null,null,"",null,null,null,null,null,""]
[85,null,null,null,null,null,null,null,null,null,null,null,null,null,null,null,null,"",null,null,null,null,null,""]
[86,null,null,null,null,null,null,null,null,null,null,null,null,null,null,null,null,"",null,null,null,null,null,""]
[87,null,null,null,null,null,null,null,null,null,null,null,null,null,null,null,null,"",null,null,null,null,null,""]
[88,null,null,null,null,null,null,null,null,null,null,null,null,null,null,null,null,"",null,null,null,null,null,""]
[89,null,null,null,null,null,null,null,null,null,null,null,null,null,null,null,null,"",null,null,null,null,null,""]
[90,null,null,null,null,null,null,null,null,null,null,null,null,null,null,null,null,"",null,null,null,null,null,""]
[91,null,null,null,null,null,null,null,null,null,null,null,null,null,null,null,null,"",null,null,null,null,null,""]
[92,null,null,null,null,null,null,null,null,null,null,null,null,null,null,null,null,"",null,null,null,null,null,""]
[93,null,null,null,null,null,null,null,null,null,null,null,null,null,null,null,null,"",null,null,null,null,null,""]
[94,null,null,null,null,null,null,null,null,null,null,null,null,null,null,null,null,"",null,null,null,null,null,""]
[95,null,null,null,null,null,null,null,null,null,null,null,null,null,null,null,null,"",null,null,null,null,null,""]
[96,null,null,null,null,null,null,null,null,null,null,null,null,null,null,null,null,"",null,null,null,null,null,""]
[97,null,null,null,null,null,null,null,null,null,null,null,null,null,null,null,null,"",null,null,null,null,null,""]
[98,null,null,null,null,null,null,null,null,null,null,null,null,null,null,null,null,"",null,null,null,null,null,""]
[99,null,null,null,null,null,null,null,null,null,null,null,null,null,null,null,null,"",null,null,null,null,null,""]
[100,null,null,null,null,null,null,null,null,null,null,null,null,null,null,null,null,"",null,null,null,null,null,""]
[101,null,null,null,null,null,null,null,null,null,null,null,null,null,null,null,null,"",null,null,null,null,null,""]
[102,null,null,null,null,null,null,null,null,null,null,null,null,null,null,null,null,"",null,null,null,null,null,""]
[103,null,null,null,null,null,null,null,null,null,null,null,null,null,null,null,null,"",null,null,null,null,null,""]
[104,null,null,null,null,null,null,null,null,null,null,null,null,null,null,null,null,"",null,null,null,null,null,""]
[105,null,null,null,null,null,null,null,null,null,null,null,null,null,null,null,null,"",null,null,null,null,null,""]
[106,null,null,null,null,null,null,null,null,null,null,null,null,null,null,null,null,"",null,null,null,null,null,""]
[107,null,null,null,null,null,null,null,null,null,null,null,null,null,null,null,null,"",null,null,null,null,null,""]
[108,null,null,null,null,null,null,null,null,null,null,null,null,null,null,null,null,"",null,null,null,null,null,""]
[109,null,null,null,null,null,null,null,null,null,null,null,null,null,null,null,null,"",null,null,null,null,null,""]
[110,null,null,null,null,null,null,null,null,null,null,null,null,null,null,null,null,"",null,null,null,null,null,""]
[111,null,null,null,null,null,null,null,null,null,null,null,null,null,null,null,null,"",null,null,null,null,null,""]
[112,null,null,null,null,null,null,null,null,null,null,null,null,null,null,null,null,"",null,null,null,null,null,""]
[113,null,null,null,null,null,null,null,null,null,null,null,null,null,null,null,null,"",null,null,null,null,null,""]
[114,null,null,null,null,null,null,null,null,null,null,null,null,null,null,null,null,"",null,null,null,null,null,""]
[115,null,null,null,null,null,null,null,null,null,null,null,null,null,null,null,null,"",null,null,null,null,null,""]
[116,null,null,null,null,null,null,null,null,null,null,null,null,null,null,null,null,"",null,null,null,null,null,""]
[117,null,null,null,null,null,null,null,null,null,null,null,null,null,null,null,null,"",null,null,null,null,null,""]
[118,null,null,null,null,null,null,null,null,null,null,null,null,null,null,null,null,"",null,null,null,null,null,""]
[119,null,null,null,null,null,null,null,null,null,null,null,null,null,null,null,null,"",null,null,null,null,null,""]
[120,null,null,null,null,null,null,null,null,null,null,null,null,null,null,null,null,"",null,null,null,null,null,""]
[121,null,null,null,null,null,null,null,null,null,null,null,null,null,null,null,null,"",null,null,null,null,null,""]
[122,null,null,null,null,null,null,null,null,null,null,null,null,null,null,null,null,"",null,null,null,null,null,""]
[123,null,null,null,null,null,null,null,null,null,null,null,null,null,null,null,null,"",null,null,null,null,null,""]
[124,null,null,null,null,null,null,null,null,null,null,null,null,null,null,null,null,"",null,null,null,null,null,""]
[125,null,null,null,null,null,null,null,null,null,null,null,null,null,null,null,null,"",null,null,null,null,null,""]
[126,null,null,null,null,null,null,null,null,null,null,null,null,null,null,null,null,"",null,null,null,null,null,""]
[127,null,null,null,null,null,null,null,null,null,null,null,null,null,null,null,null,"",null,null,null,null,null,""]
[128,null,null,null,null,null,null,null,null,null,null,null,null,null,null,null,null,"",null,null,null,null,null,""]
[129,null,null,null,null,null,null,null,null,null,null,null,null,null,null,null,null,{"$f":"IF(B138=\"\",\"\",SUM(D138*$D$236)+SUM(E138*$D$237)+SUM(F138*$D$238)+SUM(G138*$D$241)+SUM(H138*$D$239)+SUM(I138*$D$240)+SUM(J138*$D$242)+SUM(K138*$D$243)+SUM(L138*$D$244)+SUM(M138*$D$245)+SUM(N138*$D$246)+SUM(O138*$D$247)+SUM(P138*$D$248)+SUM(Q138*$D$249))","v":""},null,null,null,null,null,""]
[130,null,null,null,null,null,null,null,null,null,null,null,null,null,null,null,null,"",null,null,null,null,null,{"$f":"IF(H139,1,IF(Q139,1,\"\"))","v":""}]
[131,null,null,null,null,null,null,null,null,null,null,null,null,null,null,null,null,"",null,null,null,null,null,""]
[132,null,null,null,null,null,null,null,null,null,null,null,null,null,null,null,null,"",null,null,null,null,null,""]
[133,null,null,null,null,null,null,null,null,null,null,null,null,null,null,null,null,"",null,null,null,null,null,""]
[134,null,null,null,null,null,null,null,null,null,null,null,null,null,null,null,null,"",null,null,null,null,null,""]
[135,null,null,null,null,null,null,null,null,null,null,null,null,null,null,null,null,"",null,null,null,null,null,""]
[136,null,null,null,null,null,null,null,null,null,null,null,null,null,null,null,null,"",null,null,null,null,null,""]
[137,null,null,null,null,null,null,null,null,null,null,null,null,null,null,null,null,"",null,null,null,null,null,""]
[138,null,null,null,null,null,null,null,null,null,null,null,null,null,null,null,null,"",null,null,null,null,null,""]
[139,null,null,null,null,null,null,null,null,null,null,null,null,null,null,null,null,"",null,null,null,null,null,""]
[140,null,null,null,null,null,null,null,null,null,null,null,null,null,null,null,null,"",null,null,null,null,null,""]
[141,null,null,null,null,null,null,null,null,null,null,null,null,null,null,null,null,"",null,null,null,null,null,""]
[142,null,null,null,null,null,null,null,null,null,null,null,null,null,null,null,null,"",null,null,null,null,null,""]
[143,null,null,null,null,null,null,null,null,null,null,null,null,null,null,null,null,"",null,null,null,null,null,""]
[144,null,null,null,null,null,null,null,null,null,null,null,null,null,null,null,null,"",null,null,null,null,null,""]
[145,null,null,null,null,null,null,null,null,null,null,null,null,null,null,null,null,"",null,null,null,null,null,""]
[146,null,null,null,null,null,null,null,null,null,null,null,null,null,null,null,null,"",null,null,null,null,null,""]
[147,null,null,null,null,null,null,null,null,null,null,null,null,null,null,null,null,"",null,null,null,null,null,""]
[148,null,null,null,null,null,null,null,null,null,null,null,null,null,null,null,null,"",null,null,null,null,null,""]
[149,null,null,null,null,null,null,null,null,null,null,null,null,null,null,null,null,"",null,null,null,null,null,""]
[150,null,null,null,null,null,null,null,null,null,null,null,null,null,null,null,null,"",null,null,null,null,null,""]
[151,null,null,null,null,null,null,null,null,null,null,null,null,null,null,null,null,"",null,null,null,null,null,""]
[152,null,null,null,null,null,null,null,null,null,null,null,null,null,null,null,null,"",null,null,null,null,null,""]
[153,null,null,null,null,null,null,null,null,null,null,null,null,null,null,null,null,"",null,null,null,null,null,""]
[154,null,null,null,null,null,null,null,null,null,null,null,null,null,null,null,null,"",null,null,null,null,null,""]
[155,null,null,null,null,null,null,null,null,null,null,null,null,null,null,null,null,"",null,null,null,null,null,""]
[156,null,null,null,null,null,null,null,null,null,null,null,null,null,null,null,null,"",null,null,null,null,null,""]
[157,null,null,null,null,null,null,null,null,null,null,null,null,null,null,null,null,"",null,null,null,null,null,""]
[158,null,null,null,null,null,null,null,null,null,null,null,null,null,null,null,null,"",null,null,null,null,null,""]
[159,null,null,null,null,null,null,null,null,null,null,null,null,null,null,null,null,"",null,null,null,null,null,""]
[160,null,null,null,null,null,null,null,null,null,null,null,null,null,null,null,null,"",null,null,null,null,null,""]
[161,null,null,null,null,null,null,null,null,null,null,null,null,null,null,null,null,"",null,null,null,null,null,""]
[162,null,null,null,null,null,null,null,null,null,null,null,null,null,null,null,null,"",null,null,null,null,null,""]
[163,null,null,null,null,null,null,null,null,null,null,null,null,null,null,null,null,"",null,null,null,null,null,""]
[164,null,null,null,null,null,null,null,null,null,null,null,null,null,null,null,null,"",null,null,null,null,null,""]
[165,null,null,null,null,null,null,null,null,null,null,null,null,null,null,null,null,"",null,null,null,null,null,""]
[166,null,null,null,null,null,null,null,null,null,null,null,null,null,null,null,null,"",null,null,null,null,null,""]
[167,null,null,null,null,null,null,null,null,null,null,null,null,null,null,null,null,"",null,null,null,null,null,""]
[168,null,null,null,null,null,null,null,null,null,null,null,null,null,null,null,null,"",null,null,null,null,null,""]
[169,null,null,null,null,null,null,null,null,null,null,null,null,null,null,null,null,"",null,null,null,null,null,""]
[170,null,null,null,null,null,null,null,null,null,null,null,null,null,null,null,null,"",null,null,null,null,null,""]
[171,null,null,null,null,null,null,null,null,null,null,null,null,null,null,null,null,"",null,null,null,null,null,""]
[172,null,null,null,null,null,null,null,null,null,null,null,null,null,null,null,null,"",null,null,null,null,null,""]
[173,null,null,null,null,null,null,null,null,null,null,null,null,null,null,null,null,"",null,null,null,null,null,""]
[174,null,null,null,null,null,null,null,null,null,null,null,null,null,null,null,null,"",null,null,null,null,null,""]
[175,null,null,null,null,null,null,null,null,null,null,null,null,null,null,null,null,"",null,null,null,null,null,""]
[176,null,null,null,null,null,null,null,null,null,null,null,null,null,null,null,null,"",null,null,null,null,null,""]
[177,null,null,null,null,null,null,null,null,null,null,null,null,null,null,null,null,"",null,null,null,null,null,""]
[178,null,null,null,null,null,null,null,null,null,null,null,null,null,null,null,null,"",null,null,null,null,null,""]
[179,null,null,null,null,null,null,null,null,null,null,null,null,null,null,null,null,"",null,null,null,null,null,""]
[180,null,null,null,null,null,null,null,null,null,null,null,null,null,null,null,null,"",null,null,null,null,null,""]
[181,null,null,null,null,null,null,null,null,null,null,null,null,null,null,null,null,"",null,null,null,null,null,""]
[182,null,null,null,null,null,null,null,null,null,null,null,null,null,null,null,null,"",null,null,null,null,null,""]
[183,null,null,null,null,null,null,null,null,null,null,null,null,null,null,null,null,"",null,null,null,null,null,""]
[184,null,null,null,null,null,null,null,null,null,null,null,null,null,null,null,null,"",null,null,null,null,null,""]
[185,null,null,null,null,null,null,null,null,null,null,null,null,null,null,null,null,"",null,null,null,null,null,""]
[186,null,null,null,null,null,null,null,null,null,null,null,null,null,null,null,null,"",null,null,null,null,null,""]
[187,null,null,null,null,null,null,null,null,null,null,null,null,null,null,null,null,"",null,null,null,null,null,""]
[188,null,null,null,null,null,null,null,null,null,null,null,null,null,null,null,null,"",null,null,null,null,null,""]
[189,null,null,null,null,null,null,null,null,null,null,null,null,null,null,null,null,"",null,null,null,null,null,""]
[190,null,null,null,null,null,null,null,null,null,null,null,null,null,null,null,null,"",null,null,null,null,null,""]
[191,null,null,null,null,null,null,null,null,null,null,null,null,null,null,null,null,"",null,null,null,null,null,""]
[192,null,null,null,null,null,null,null,null,null,null,null,null,null,null,null,null,"",null,null,null,null,null,""]
[193,null,null,null,null,null,null,null,null,null,null,null,null,null,null,null,null,{"$f":"IF(B202=\"\",\"\",SUM(D202*$D$236)+SUM(E202*$D$237)+SUM(F202*$D$238)+SUM(G202*$D$241)+SUM(H202*$D$239)+SUM(I202*$D$240)+SUM(J202*$D$242)+SUM(K202*$D$243)+SUM(L202*$D$244)+SUM(M202*$D$245)+SUM(N202*$D$246)+SUM(O202*$D$247)+SUM(P202*$D$248)+SUM(Q202*$D$249))","v":""},null,null,null,null,null,""]
[194,null,null,null,null,null,null,null,null,null,null,null,null,null,null,null,null,"",null,null,null,null,null,{"$f":"IF(H203,1,IF(Q203,1,\"\"))","v":""}]
[195,null,null,null,null,null,null,null,null,null,null,null,null,null,null,null,null,"",null,null,null,null,null,""]
[196,null,null,null,null,null,null,null,null,null,null,null,null,null,null,null,null,"",null,null,null,null,null,""]
[197,null,null,null,null,null,null,null,null,null,null,null,null,null,null,null,null,"",null,null,null,null,null,""]
[198,null,null,null,null,null,null,null,null,null,null,null,null,null,null,null,null,"",null,null,null,null,null,""]
[199,null,null,null,null,null,null,null,null,null,null,null,null,null,null,null,null,"",null,null,null,null,null,""]
[200,null,null,null,null,null,null,null,null,null,null,null,null,null,null,null,null,{"$f":"IF(B209=\"\",\"\",SUM(D209*$D$236)+SUM(E209*$D$237)+SUM(F209*$D$238)+SUM(G209*$D$241)+SUM(H209*$D$239)+SUM(I209*$D$240)+SUM(J209*$D$242)+SUM(K209*$D$243)+SUM(L209*$D$244)+SUM(M209*$D$245)+SUM(N209*$D$246)+SUM(O209*$D$247)+SUM(P209*$D$248)+SUM(Q209*$D$249))","v":""},null,null,null,null,null,""]
[]
[null,"Summen:",null,{"$f":"SUM(D10:D209)","v":0},{"$f":"SUM(E10:E209)","v":0},0,0,0,0,0,0,0,0,0,0,0,0]
[]
[null,"Einnahmen Munition",null,{"$f":"SUM(D211*$D$236)","v":0},null,60]
[null,"Einnahmen Preisschießen KK",null,{"$f":"SUM(E211*$D$237)+SUM(F211*$D$238)+SUM(H211*$D$239)+SUM(I211*$D$240)","v":0},null,{"$f":"D214*F213/100","v":0}]
[null,"Einnahmen Preisschießen LG",null,{"$f":"SUM(G211*$D$241)","v":0},null,{"$f":"D215*F213/100","v":0}]
[null,"gesamt Einnahmen",null,{"$f":"SUM(R10:R209)","v":0}]
[]
[]
[]
[]
[]
[]
[]
[]
[]
[]
[]
[]
[]
[]
[]
[]
[]
[null,"Preise"]
[null,null,null,null,null,"Einnahmen:"]
[null,"Munition \"RWS\"",null,6,null,{"$f":"D236*D211","v":0}]
[null,"Preisschießen KK",null,8,null,{"$f":"D237*E211","v":0}]
[null,"Preisscheiben KK (nachgelöst)",null,1,null,{"$f":"D238*F211","v":0}]
[null,"Gästepreisschießen",null,10,null,{"$f":"D239*H211","v":0},null,null,"inklusive Munition !"]
[null,"Gästepreisschießen (nachgelöst)",null,1.3,null,{"$f":"D240*I211","v":0},null,null,"inklusive Munition !"]
[null,"Preisschießen LG (bis 21 Jahre)",null,3,null,{"$f":"D241*G211","v":0}]
[null,"Ordenschießen KK",null,1.5,null,{"$f":"D242*J211","v":0}]
[null,"Ordenschießen LG (bis 21 Jahre)",null,1,null,{"$f":"D243*K211","v":0}]
[null,"Bundesorden",null,8,null,{"$f":"D244*L211","v":0}]
[null,"Sollepokal",null,1.5,null,{"$f":"D245*M211","v":0}]
[null,"Schnüre und Eicheln - KK",null,2,null,{"$f":"D246*N211","v":0}]
[null,"Schnüre und Eicheln - LG",null,1,null,{"$f":"D247*O211","v":0}]
[null,"Volksbankorden",null,2.5,null,{"$f":"D248*P211","v":0}]
[null,"Volkskönigsschießen - KK",null,1,null,{"$f":"D249*Q211","v":0}]

{"sheet":"PS","index":1,"n_rows":204,"n_cols":8,"rows_kept":204,"cut":false,"hidden":false,"merged":[[2,1,2,3],[2,5,2,7]]}
[]
[]
[null,"KK",null,null,null,"LG"]
[null,"Lfd. Nr.:","Vor- und Nachname:","Teiler:",null,"Lfd. Nr.:","Vor- und Nachname:","Teiler:"]
[null,null,{"$f":"IF(B5=\"\",\"\",VLOOKUP(B5,HM!$A$10:$B$209,2))","v":""},null,1,null,{"$f":"IF(F5=\"\",\"\",VLOOKUP(F5,HM!$A$10:$B$209,2))","v":""}]
[null,null,{"$f":"IF(B6=\"\",\"\",VLOOKUP(B6,HM!$A$10:$B$209,2))","v":""},null,2,null,{"$f":"IF(F6=\"\",\"\",VLOOKUP(F6,HM!$A$10:$B$209,2))","v":""}]
[null,null,{"$f":"IF(B7=\"\",\"\",VLOOKUP(B7,HM!$A$10:$B$209,2))","v":""},null,3,null,{"$f":"IF(F7=\"\",\"\",VLOOKUP(F7,HM!$A$10:$B$209,2))","v":""}]
[null,null,{"$f":"IF(B8=\"\",\"\",VLOOKUP(B8,HM!$A$10:$B$209,2))","v":""},null,4,null,{"$f":"IF(F8=\"\",\"\",VLOOKUP(F8,HM!$A$10:$B$209,2))","v":""}]
[null,null,{"$f":"IF(B9=\"\",\"\",VLOOKUP(B9,HM!$A$10:$B$209,2))","v":""},null,5,null,{"$f":"IF(F9=\"\",\"\",VLOOKUP(F9,HM!$A$10:$B$209,2))","v":""}]
[null,null,{"$f":"IF(B10=\"\",\"\",VLOOKUP(B10,HM!$A$10:$B$209,2))","v":""},null,6,null,{"$f":"IF(F10=\"\",\"\",VLOOKUP(F10,HM!$A$10:$B$209,2))","v":""}]
[null,null,{"$f":"IF(B11=\"\",\"\",VLOOKUP(B11,HM!$A$10:$B$209,2))","v":""},null,7,null,{"$f":"IF(F11=\"\",\"\",VLOOKUP(F11,HM!$A$10:$B$209,2))","v":""}]
[null,null,{"$f":"IF(B12=\"\",\"\",VLOOKUP(B12,HM!$A$10:$B$209,2))","v":""},null,8,null,{"$f":"IF(F12=\"\",\"\",VLOOKUP(F12,HM!$A$10:$B$209,2))","v":""}]
[null,null,{"$f":"IF(B13=\"\",\"\",VLOOKUP(B13,HM!$A$10:$B$209,2))","v":""},null,9,null,{"$f":"IF(F13=\"\",\"\",VLOOKUP(F13,HM!$A$10:$B$209,2))","v":""}]
[null,null,{"$f":"IF(B14=\"\",\"\",VLOOKUP(B14,HM!$A$10:$B$209,2))","v":""},null,10,null,{"$f":"IF(F14=\"\",\"\",VLOOKUP(F14,HM!$A$10:$B$209,2))","v":""}]
[null,null,{"$f":"IF(B15=\"\",\"\",VLOOKUP(B15,HM!$A$10:$B$209,2))","v":""},null,11,null,{"$f":"IF(F15=\"\",\"\",VLOOKUP(F15,HM!$A$10:$B$209,2))","v":""}]
[null,null,{"$f":"IF(B16=\"\",\"\",VLOOKUP(B16,HM!$A$10:$B$209,2))","v":""},null,12,null,{"$f":"IF(F16=\"\",\"\",VLOOKUP(F16,HM!$A$10:$B$209,2))","v":""}]
[null,null,{"$f":"IF(B17=\"\",\"\",VLOOKUP(B17,HM!$A$10:$B$209,2))","v":""},null,13,null,{"$f":"IF(F17=\"\",\"\",VLOOKUP(F17,HM!$A$10:$B$209,2))","v":""}]
[null,null,{"$f":"IF(B18=\"\",\"\",VLOOKUP(B18,HM!$A$10:$B$209,2))","v":""},null,14,null,{"$f":"IF(F18=\"\",\"\",VLOOKUP(F18,HM!$A$10:$B$209,2))","v":""}]
[null,null,{"$f":"IF(B19=\"\",\"\",VLOOKUP(B19,HM!$A$10:$B$209,2))","v":""},null,15,null,{"$f":"IF(F19=\"\",\"\",VLOOKUP(F19,HM!$A$10:$B$209,2))","v":""}]
[null,null,{"$f":"IF(B20=\"\",\"\",VLOOKUP(B20,HM!$A$10:$B$209,2))","v":""},null,16,null,{"$f":"IF(F20=\"\",\"\",VLOOKUP(F20,HM!$A$10:$B$209,2))","v":""}]
[null,null,{"$f":"IF(B21=\"\",\"\",VLOOKUP(B21,HM!$A$10:$B$209,2))","v":""},null,17,null,{"$f":"IF(F21=\"\",\"\",VLOOKUP(F21,HM!$A$10:$B$209,2))","v":""}]
[null,null,{"$f":"IF(B22=\"\",\"\",VLOOKUP(B22,HM!$A$10:$B$209,2))","v":""},null,18,null,{"$f":"IF(F22=\"\",\"\",VLOOKUP(F22,HM!$A$10:$B$209,2))","v":""}]
[null,null,{"$f":"IF(B23=\"\",\"\",VLOOKUP(B23,HM!$A$10:$B$209,2))","v":""},null,19,null,{"$f":"IF(F23=\"\",\"\",VLOOKUP(F23,HM!$A$10:$B$209,2))","v":""}]
[null,null,{"$f":"IF(B24=\"\",\"\",VLOOKUP(B24,HM!$A$10:$B$209,2))","v":""},null,20,null,{"$f":"IF(F24=\"\",\"\",VLOOKUP(F24,HM!$A$10:$B$209,2))","v":""}]
[null,null,{"$f":"IF(B25=\"\",\"\",VLOOKUP(B25,HM!$A$10:$B$209,2))","v":""},null,21,null,{"$f":"IF(F25=\"\",\"\",VLOOKUP(F25,HM!$A$10:$B$209,2))","v":""}]
[null,null,{"$f":"IF(B26=\"\",\"\",VLOOKUP(B26,HM!$A$10:$B$209,2))","v":""},null,22,null,{"$f":"IF(F26=\"\",\"\",VLOOKUP(F26,HM!$A$10:$B$209,2))","v":""}]
[null,null,{"$f":"IF(B27=\"\",\"\",VLOOKUP(B27,HM!$A$10:$B$209,2))","v":""},null,23,null,{"$f":"IF(F27=\"\",\"\",VLOOKUP(F27,HM!$A$10:$B$209,2))","v":""}]
[null,null,{"$f":"IF(B28=\"\",\"\",VLOOKUP(B28,HM!$A$10:$B$209,2))","v":""},null,24,null,{"$f":"IF(F28=\"\",\"\",VLOOKUP(F28,HM!$A$10:$B$209,2))","v":""}]
[null,null,{"$f":"IF(B29=\"\",\"\",VLOOKUP(B29,HM!$A$10:$B$209,2))","v":""},null,25,null,{"$f":"IF(F29=\"\",\"\",VLOOKUP(F29,HM!$A$10:$B$209,2))","v":""}]
[null,null,{"$f":"IF(B30=\"\",\"\",VLOOKUP(B30,HM!$A$10:$B$209,2))","v":""},null,26,null,{"$f":"IF(F30=\"\",\"\",VLOOKUP(F30,HM!$A$10:$B$209,2))","v":""}]
[null,null,{"$f":"IF(B31=\"\",\"\",VLOOKUP(B31,HM!$A$10:$B$209,2))","v":""},null,27,null,{"$f":"IF(F31=\"\",\"\",VLOOKUP(F31,HM!$A$10:$B$209,2))","v":""}]
[null,null,{"$f":"IF(B32=\"\",\"\",VLOOKUP(B32,HM!$A$10:$B$209,2))","v":""},null,28,null,{"$f":"IF(F32=\"\",\"\",VLOOKUP(F32,HM!$A$10:$B$209,2))","v":""}]
[null,null,{"$f":"IF(B33=\"\",\"\",VLOOKUP(B33,HM!$A$10:$B$209,2))","v":""},null,29,null,{"$f":"IF(F33=\"\",\"\",VLOOKUP(F33,HM!$A$10:$B$209,2))","v":""}]
[null,null,{"$f":"IF(B34=\"\",\"\",VLOOKUP(B34,HM!$A$10:$B$209,2))","v":""},null,30,null,{"$f":"IF(F34=\"\",\"\",VLOOKUP(F34,HM!$A$10:$B$209,2))","v":""}]
[null,null,{"$f":"IF(B35=\"\",\"\",VLOOKUP(B35,HM!$A$10:$B$209,2))","v":""},null,31,null,{"$f":"IF(F35=\"\",\"\",VLOOKUP(F35,HM!$A$10:$B$209,2))","v":""}]
[null,null,{"$f":"IF(B36=\"\",\"\",VLOOKUP(B36,HM!$A$10:$B$209,2))","v":""},null,32,null,{"$f":"IF(F36=\"\",\"\",VLOOKUP(F36,HM!$A$10:$B$209,2))","v":""}]
[null,null,{"$f":"IF(B37=\"\",\"\",VLOOKUP(B37,HM!$A$10:$B$209,2))","v":""},null,33,null,{"$f":"IF(F37=\"\",\"\",VLOOKUP(F37,HM!$A$10:$B$209,2))","v":""}]
[null,null,{"$f":"IF(B38=\"\",\"\",VLOOKUP(B38,HM!$A$10:$B$209,2))","v":""},null,34,null,{"$f":"IF(F38=\"\",\"\",VLOOKUP(F38,HM!$A$10:$B$209,2))","v":""}]
[null,null,{"$f":"IF(B39=\"\",\"\",VLOOKUP(B39,HM!$A$10:$B$209,2))","v":""},null,35,null,{"$f":"IF(F39=\"\",\"\",VLOOKUP(F39,HM!$A$10:$B$209,2))","v":""}]
[null,null,{"$f":"IF(B40=\"\",\"\",VLOOKUP(B40,HM!$A$10:$B$209,2))","v":""},null,36,null,{"$f":"IF(F40=\"\",\"\",VLOOKUP(F40,HM!$A$10:$B$209,2))","v":""}]
[null,null,{"$f":"IF(B41=\"\",\"\",VLOOKUP(B41,HM!$A$10:$B$209,2))","v":""},null,37,null,{"$f":"IF(F41=\"\",\"\",VLOOKUP(F41,HM!$A$10:$B$209,2))","v":""}]
[null,null,{"$f":"IF(B42=\"\",\"\",VLOOKUP(B42,HM!$A$10:$B$209,2))","v":""},null,38,null,{"$f":"IF(F42=\"\",\"\",VLOOKUP(F42,HM!$A$10:$B$209,2))","v":""}]
[null,null,{"$f":"IF(B43=\"\",\"\",VLOOKUP(B43,HM!$A$10:$B$209,2))","v":""},null,39,null,{"$f":"IF(F43=\"\",\"\",VLOOKUP(F43,HM!$A$10:$B$209,2))","v":""}]
[null,null,{"$f":"IF(B44=\"\",\"\",VLOOKUP(B44,HM!$A$10:$B$209,2))","v":""},null,40,null,{"$f":"IF(F44=\"\",\"\",VLOOKUP(F44,HM!$A$10:$B$209,2))","v":""}]
[null,null,{"$f":"IF(B45=\"\",\"\",VLOOKUP(B45,HM!$A$10:$B$209,2))","v":""},null,41,null,{"$f":"IF(F45=\"\",\"\",VLOOKUP(F45,HM!$A$10:$B$209,2))","v":""}]
[null,null,{"$f":"IF(B46=\"\",\"\",VLOOKUP(B46,HM!$A$10:$B$209,2))","v":""},null,42,null,{"$f":"IF(F46=\"\",\"\",VLOOKUP(F46,HM!$A$10:$B$209,2))","v":""}]
[null,null,{"$f":"IF(B47=\"\",\"\",VLOOKUP(B47,HM!$A$10:$B$209,2))","v":""},null,43,null,{"$f":"IF(F47=\"\",\"\",VLOOKUP(F47,HM!$A$10:$B$209,2))","v":""}]
[null,null,{"$f":"IF(B48=\"\",\"\",VLOOKUP(B48,HM!$A$10:$B$209,2))","v":""},null,44,null,{"$f":"IF(F48=\"\",\"\",VLOOKUP(F48,HM!$A$10:$B$209,2))","v":""}]
[null,null,{"$f":"IF(B49=\"\",\"\",VLOOKUP(B49,HM!$A$10:$B$209,2))","v":""},null,45,null,{"$f":"IF(F49=\"\",\"\",VLOOKUP(F49,HM!$A$10:$B$209,2))","v":""}]
[null,null,{"$f":"IF(B50=\"\",\"\",VLOOKUP(B50,HM!$A$10:$B$209,2))","v":""},null,46,null,{"$f":"IF(F50=\"\",\"\",VLOOKUP(F50,HM!$A$10:$B$209,2))","v":""}]
[null,null,{"$f":"IF(B51=\"\",\"\",VLOOKUP(B51,HM!$A$10:$B$209,2))","v":""},null,47,null,{"$f":"IF(F51=\"\",\"\",VLOOKUP(F51,HM!$A$10:$B$209,2))","v":""}]
[null,null,{"$f":"IF(B52=\"\",\"\",VLOOKUP(B52,HM!$A$10:$B$209,2))","v":""},null,48,null,{"$f":"IF(F52=\"\",\"\",VLOOKUP(F52,HM!$A$10:$B$209,2))","v":""}]
[null,null,{"$f":"IF(B53=\"\",\"\",VLOOKUP(B53,HM!$A$10:$B$209,2))","v":""},null,49,null,{"$f":"IF(F53=\"\",\"\",VLOOKUP(F53,HM!$A$10:$B$209,2))","v":""}]
[null,null,{"$f":"IF(B54=\"\",\"\",VLOOKUP(B54,HM!$A$10:$B$209,2))","v":""},null,50,null,{"$f":"IF(F54=\"\",\"\",VLOOKUP(F54,HM!$A$10:$B$209,2))","v":""}]
[null,null,{"$f":"IF(B55=\"\",\"\",VLOOKUP(B55,HM!$A$10:$B$209,2))","v":""},null,51,null,{"$f":"IF(F55=\"\",\"\",VLOOKUP(F55,HM!$A$10:$B$209,2))","v":""}]
[null,null,{"$f":"IF(B56=\"\",\"\",VLOOKUP(B56,HM!$A$10:$B$209,2))","v":""},null,52,null,{"$f":"IF(F56=\"\",\"\",VLOOKUP(F56,HM!$A$10:$B$209,2))","v":""}]
[null,null,{"$f":"IF(B57=\"\",\"\",VLOOKUP(B57,HM!$A$10:$B$209,2))","v":""},null,53,null,{"$f":"IF(F57=\"\",\"\",VLOOKUP(F57,HM!$A$10:$B$209,2))","v":""}]
[null,null,{"$f":"IF(B58=\"\",\"\",VLOOKUP(B58,HM!$A$10:$B$209,2))","v":""},null,54,null,{"$f":"IF(F58=\"\",\"\",VLOOKUP(F58,HM!$A$10:$B$209,2))","v":""}]
[null,null,{"$f":"IF(B59=\"\",\"\",VLOOKUP(B59,HM!$A$10:$B$209,2))","v":""},null,55,null,{"$f":"IF(F59=\"\",\"\",VLOOKUP(F59,HM!$A$10:$B$209,2))","v":""}]
[null,null,{"$f":"IF(B60=\"\",\"\",VLOOKUP(B60,HM!$A$10:$B$209,2))","v":""},null,56,null,{"$f":"IF(F60=\"\",\"\",VLOOKUP(F60,HM!$A$10:$B$209,2))","v":""}]
[null,null,{"$f":"IF(B61=\"\",\"\",VLOOKUP(B61,HM!$A$10:$B$209,2))","v":""},null,57,null,{"$f":"IF(F61=\"\",\"\",VLOOKUP(F61,HM!$A$10:$B$209,2))","v":""}]
[null,null,{"$f":"IF(B62=\"\",\"\",VLOOKUP(B62,HM!$A$10:$B$209,2))","v":""},null,58,null,{"$f":"IF(F62=\"\",\"\",VLOOKUP(F62,HM!$A$10:$B$209,2))","v":""}]
[null,null,{"$f":"IF(B63=\"\",\"\",VLOOKUP(B63,HM!$A$10:$B$209,2))","v":""},null,59,null,{"$f":"IF(F63=\"\",\"\",VLOOKUP(F63,HM!$A$10:$B$209,2))","v":""}]
[null,null,{"$f":"IF(B64=\"\",\"\",VLOOKUP(B64,HM!$A$10:$B$209,2))","v":""},null,60,null,{"$f":"IF(F64=\"\",\"\",VLOOKUP(F64,HM!$A$10:$B$209,2))","v":""}]
[null,null,{"$f":"IF(B65=\"\",\"\",VLOOKUP(B65,HM!$A$10:$B$209,2))","v":""},null,61,null,{"$f":"IF(F65=\"\",\"\",VLOOKUP(F65,HM!$A$10:$B$209,2))","v":""}]
[null,null,{"$f":"IF(B66=\"\",\"\",VLOOKUP(B66,HM!$A$10:$B$209,2))","v":""},null,62,null,{"$f":"IF(F66=\"\",\"\",VLOOKUP(F66,HM!$A$10:$B$209,2))","v":""}]
[null,null,{"$f":"IF(B67=\"\",\"\",VLOOKUP(B67,HM!$A$10:$B$209,2))","v":""},null,63,null,{"$f":"IF(F67=\"\",\"\",VLOOKUP(F67,HM!$A$10:$B$209,2))","v":""}]
[null,null,{"$f":"IF(B68=\"\",\"\",VLOOKUP(B68,HM!$A$10:$B$209,2))","v":""},null,64,null,{"$f":"IF(F68=\"\",\"\",VLOOKUP(F68,HM!$A$10:$B$209,2))","v":""}]
[null,null,{"$f":"IF(B69=\"\",\"\",VLOOKUP(B69,HM!$A$10:$B$209,2))","v":""},null,65,null,{"$f":"IF(F69=\"\",\"\",VLOOKUP(F69,HM!$A$10:$B$209,2))","v":""}]
[null,null,{"$f":"IF(B70=\"\",\"\",VLOOKUP(B70,HM!$A$10:$B$209,2))","v":""},null,66,null,{"$f":"IF(F70=\"\",\"\",VLOOKUP(F70,HM!$A$10:$B$209,2))","v":""}]
[null,null,{"$f":"IF(B71=\"\",\"\",VLOOKUP(B71,HM!$A$10:$B$209,2))","v":""},null,67,null,{"$f":"IF(F71=\"\",\"\",VLOOKUP(F71,HM!$A$10:$B$209,2))","v":""}]
[null,null,{"$f":"IF(B72=\"\",\"\",VLOOKUP(B72,HM!$A$10:$B$209,2))","v":""},null,68,null,{"$f":"IF(F72=\"\",\"\",VLOOKUP(F72,HM!$A$10:$B$209,2))","v":""}]
[null,null,{"$f":"IF(B73=\"\",\"\",VLOOKUP(B73,HM!$A$10:$B$209,2))","v":""},null,69,null,{"$f":"IF(F73=\"\",\"\",VLOOKUP(F73,HM!$A$10:$B$209,2))","v":""}]
[null,null,{"$f":"IF(B74=\"\",\"\",VLOOKUP(B74,HM!$A$10:$B$209,2))","v":""},null,70,null,{"$f":"IF(F74=\"\",\"\",VLOOKUP(F74,HM!$A$10:$B$209,2))","v":""}]
[null,null,{"$f":"IF(B75=\"\",\"\",VLOOKUP(B75,HM!$A$10:$B$209,2))","v":""},null,71,null,{"$f":"IF(F75=\"\",\"\",VLOOKUP(F75,HM!$A$10:$B$209,2))","v":""}]
[null,null,{"$f":"IF(B76=\"\",\"\",VLOOKUP(B76,HM!$A$10:$B$209,2))","v":""},null,72,null,{"$f":"IF(F76=\"\",\"\",VLOOKUP(F76,HM!$A$10:$B$209,2))","v":""}]
[null,null,{"$f":"IF(B77=\"\",\"\",VLOOKUP(B77,HM!$A$10:$B$209,2))","v":""},null,73,null,{"$f":"IF(F77=\"\",\"\",VLOOKUP(F77,HM!$A$10:$B$209,2))","v":""}]
[null,null,{"$f":"IF(B78=\"\",\"\",VLOOKUP(B78,HM!$A$10:$B$209,2))","v":""},null,74,null,{"$f":"IF(F78=\"\",\"\",VLOOKUP(F78,HM!$A$10:$B$209,2))","v":""}]
[null,null,{"$f":"IF(B79=\"\",\"\",VLOOKUP(B79,HM!$A$10:$B$209,2))","v":""},null,75,null,{"$f":"IF(F79=\"\",\"\",VLOOKUP(F79,HM!$A$10:$B$209,2))","v":""}]
[null,null,{"$f":"IF(B80=\"\",\"\",VLOOKUP(B80,HM!$A$10:$B$209,2))","v":""},null,76,null,{"$f":"IF(F80=\"\",\"\",VLOOKUP(F80,HM!$A$10:$B$209,2))","v":""}]
[null,null,{"$f":"IF(B81=\"\",\"\",VLOOKUP(B81,HM!$A$10:$B$209,2))","v":""},null,77,null,{"$f":"IF(F81=\"\",\"\",VLOOKUP(F81,HM!$A$10:$B$209,2))","v":""}]
[null,null,{"$f":"IF(B82=\"\",\"\",VLOOKUP(B82,HM!$A$10:$B$209,2))","v":""},null,78,null,{"$f":"IF(F82=\"\",\"\",VLOOKUP(F82,HM!$A$10:$B$209,2))","v":""}]
[null,null,{"$f":"IF(B83=\"\",\"\",VLOOKUP(B83,HM!$A$10:$B$209,2))","v":""},null,79,null,{"$f":"IF(F83=\"\",\"\",VLOOKUP(F83,HM!$A$10:$B$209,2))","v":""}]
[null,null,{"$f":"IF(B84=\"\",\"\",VLOOKUP(B84,HM!$A$10:$B$209,2))","v":""},null,80,null,{"$f":"IF(F84=\"\",\"\",VLOOKUP(F84,HM!$A$10:$B$209,2))","v":""}]
[null,null,{"$f":"IF(B85=\"\",\"\",VLOOKUP(B85,HM!$A$10:$B$209,2))","v":""},null,81,null,{"$f":"IF(F85=\"\",\"\",VLOOKUP(F85,HM!$A$10:$B$209,2))","v":""}]
[null,null,{"$f":"IF(B86=\"\",\"\",VLOOKUP(B86,HM!$A$10:$B$209,2))","v":""},null,82,null,{"$f":"IF(F86=\"\",\"\",VLOOKUP(F86,HM!$A$10:$B$209,2))","v":""}]
[null,null,{"$f":"IF(B87=\"\",\"\",VLOOKUP(B87,HM!$A$10:$B$209,2))","v":""},null,83,null,{"$f":"IF(F87=\"\",\"\",VLOOKUP(F87,HM!$A$10:$B$209,2))","v":""}]
[null,null,{"$f":"IF(B88=\"\",\"\",VLOOKUP(B88,HM!$A$10:$B$209,2))","v":""},null,84,null,{"$f":"IF(F88=\"\",\"\",VLOOKUP(F88,HM!$A$10:$B$209,2))","v":""}]
[null,null,{"$f":"IF(B89=\"\",\"\",VLOOKUP(B89,HM!$A$10:$B$209,2))","v":""},null,85,null,{"$f":"IF(F89=\"\",\"\",VLOOKUP(F89,HM!$A$10:$B$209,2))","v":""}]
[null,null,{"$f":"IF(B90=\"\",\"\",VLOOKUP(B90,HM!$A$10:$B$209,2))","v":""},null,86,null,{"$f":"IF(F90=\"\",\"\",VLOOKUP(F90,HM!$A$10:$B$209,2))","v":""}]
[null,null,{"$f":"IF(B91=\"\",\"\",VLOOKUP(B91,HM!$A$10:$B$209,2))","v":""},null,87,null,{"$f":"IF(F91=\"\",\"\",VLOOKUP(F91,HM!$A$10:$B$209,2))","v":""}]
[null,null,{"$f":"IF(B92=\"\",\"\",VLOOKUP(B92,HM!$A$10:$B$209,2))","v":""},null,88,null,{"$f":"IF(F92=\"\",\"\",VLOOKUP(F92,HM!$A$10:$B$209,2))","v":""}]
[null,null,{"$f":"IF(B93=\"\",\"\",VLOOKUP(B93,HM!$A$10:$B$209,2))","v":""},null,89,null,{"$f":"IF(F93=\"\",\"\",VLOOKUP(F93,HM!$A$10:$B$209,2))","v":""}]
[null,null,{"$f":"IF(B94=\"\",\"\",VLOOKUP(B94,HM!$A$10:$B$209,2))","v":""},null,90,null,{"$f":"IF(F94=\"\",\"\",VLOOKUP(F94,HM!$A$10:$B$209,2))","v":""}]
[null,null,{"$f":"IF(B95=\"\",\"\",VLOOKUP(B95,HM!$A$10:$B$209,2))","v":""},null,91,null,{"$f":"IF(F95=\"\",\"\",VLOOKUP(F95,HM!$A$10:$B$209,2))","v":""}]
[null,null,{"$f":"IF(B96=\"\",\"\",VLOOKUP(B96,HM!$A$10:$B$209,2))","v":""},null,92,null,{"$f":"IF(F96=\"\",\"\",VLOOKUP(F96,HM!$A$10:$B$209,2))","v":""}]
[null,null,{"$f":"IF(B97=\"\",\"\",VLOOKUP(B97,HM!$A$10:$B$209,2))","v":""},null,93,null,{"$f":"IF(F97=\"\",\"\",VLOOKUP(F97,HM!$A$10:$B$209,2))","v":""}]
[null,null,{"$f":"IF(B98=\"\",\"\",VLOOKUP(B98,HM!$A$10:$B$209,2))","v":""},null,94,null,{"$f":"IF(F98=\"\",\"\",VLOOKUP(F98,HM!$A$10:$B$209,2))","v":""}]
[null,null,{"$f":"IF(B99=\"\",\"\",VLOOKUP(B99,HM!$A$10:$B$209,2))","v":""},null,95,null,{"$f":"IF(F99=\"\",\"\",VLOOKUP(F99,HM!$A$10:$B$209,2))","v":""}]
[null,null,{"$f":"IF(B100=\"\",\"\",VLOOKUP(B100,HM!$A$10:$B$209,2))","v":""},null,96,null,{"$f":"IF(F100=\"\",\"\",VLOOKUP(F100,HM!$A$10:$B$209,2))","v":""}]
[null,null,{"$f":"IF(B101=\"\",\"\",VLOOKUP(B101,HM!$A$10:$B$209,2))","v":""},null,97,null,{"$f":"IF(F101=\"\",\"\",VLOOKUP(F101,HM!$A$10:$B$209,2))","v":""}]
[null,null,{"$f":"IF(B102=\"\",\"\",VLOOKUP(B102,HM!$A$10:$B$209,2))","v":""},null,98,null,{"$f":"IF(F102=\"\",\"\",VLOOKUP(F102,HM!$A$10:$B$209,2))","v":""}]
[null,null,{"$f":"IF(B103=\"\",\"\",VLOOKUP(B103,HM!$A$10:$B$209,2))","v":""},null,99,null,{"$f":"IF(F103=\"\",\"\",VLOOKUP(F103,HM!$A$10:$B$209,2))","v":""}]
[null,null,{"$f":"IF(B104=\"\",\"\",VLOOKUP(B104,HM!$A$10:$B$209,2))","v":""},null,100,null,{"$f":"IF(F104=\"\",\"\",VLOOKUP(F104,HM!$A$10:$B$209,2))","v":""}]
[null,null,{"$f":"IF(B105=\"\",\"\",VLOOKUP(B105,HM!$A$10:$B$209,2))","v":""},null,101,null,{"$f":"IF(F105=\"\",\"\",VLOOKUP(F105,HM!$A$10:$B$209,2))","v":""}]
[null,null,{"$f":"IF(B106=\"\",\"\",VLOOKUP(B106,HM!$A$10:$B$209,2))","v":""},null,102,null,{"$f":"IF(F106=\"\",\"\",VLOOKUP(F106,HM!$A$10:$B$209,2))","v":""}]
[null,null,{"$f":"IF(B107=\"\",\"\",VLOOKUP(B107,HM!$A$10:$B$209,2))","v":""},null,103,null,{"$f":"IF(F107=\"\",\"\",VLOOKUP(F107,HM!$A$10:$B$209,2))","v":""}]
[null,null,{"$f":"IF(B108=\"\",\"\",VLOOKUP(B108,HM!$A$10:$B$209,2))","v":""},null,104,null,{"$f":"IF(F108=\"\",\"\",VLOOKUP(F108,HM!$A$10:$B$209,2))","v":""}]
[null,null,{"$f":"IF(B109=\"\",\"\",VLOOKUP(B109,HM!$A$10:$B$209,2))","v":""},null,105,null,{"$f":"IF(F109=\"\",\"\",VLOOKUP(F109,HM!$A$10:$B$209,2))","v":""}]
[null,null,{"$f":"IF(B110=\"\",\"\",VLOOKUP(B110,HM!$A$10:$B$209,2))","v":""},null,106,null,{"$f":"IF(F110=\"\",\"\",VLOOKUP(F110,HM!$A$10:$B$209,2))","v":""}]
[null,null,{"$f":"IF(B111=\"\",\"\",VLOOKUP(B111,HM!$A$10:$B$209,2))","v":""},null,107,null,{"$f":"IF(F111=\"\",\"\",VLOOKUP(F111,HM!$A$10:$B$209,2))","v":""}]
[null,null,{"$f":"IF(B112=\"\",\"\",VLOOKUP(B112,HM!$A$10:$B$209,2))","v":""},null,108,null,{"$f":"IF(F112=\"\",\"\",VLOOKUP(F112,HM!$A$10:$B$209,2))","v":""}]
[null,null,{"$f":"IF(B113=\"\",\"\",VLOOKUP(B113,HM!$A$10:$B$209,2))","v":""},null,109,null,{"$f":"IF(F113=\"\",\"\",VLOOKUP(F113,HM!$A$10:$B$209,2))","v":""}]
[null,null,{"$f":"IF(B114=\"\",\"\",VLOOKUP(B114,HM!$A$10:$B$209,2))","v":""},null,110,null,{"$f":"IF(F114=\"\",\"\",VLOOKUP(F114,HM!$A$10:$B$209,2))","v":""}]
[null,null,{"$f":"IF(B115=\"\",\"\",VLOOKUP(B115,HM!$A$10:$B$209,2))","v":""},null,111,null,{"$f":"IF(F115=\"\",\"\",VLOOKUP(F115,HM!$A$10:$B$209,2))","v":""}]
[null,null,{"$f":"IF(B116=\"\",\"\",VLOOKUP(B116,HM!$A$10:$B$209,2))","v":""},null,112,null,{"$f":"IF(F116=\"\",\"\",VLOOKUP(F116,HM!$A$10:$B$209,2))","v":""}]
[null,null,{"$f":"IF(B117=\"\",\"\",VLOOKUP(B117,HM!$A$10:$B$209,2))","v":""},null,113,null,{"$f":"IF(F117=\"\",\"\",VLOOKUP(F117,HM!$A$10:$B$209,2))","v":""}]
[null,null,{"$f":"IF(B118=\"\",\"\",VLOOKUP(B118,HM!$A$10:$B$209,2))","v":""},null,114,null,{"$f":"IF(F118=\"\",\"\",VLOOKUP(F118,HM!$A$10:$B$209,2))","v":""}]
[null,null,{"$f":"IF(B119=\"\",\"\",VLOOKUP(B119,HM!$A$10:$B$209,2))","v":""},null,115,null,{"$f":"IF(F119=\"\",\"\",VLOOKUP(F119,HM!$A$10:$B$209,2))","v":""}]
[null,null,{"$f":"IF(B120=\"\",\"\",VLOOKUP(B120,HM!$A$10:$B$209,2))","v":""},null,116,null,{"$f":"IF(F120=\"\",\"\",VLOOKUP(F120,HM!$A$10:$B$209,2))","v":""}]
[null,null,{"$f":"IF(B121=\"\",\"\",VLOOKUP(B121,HM!$A$10:$B$209,2))","v":""},null,117,null,{"$f":"IF(F121=\"\",\"\",VLOOKUP(F121,HM!$A$10:$B$209,2))","v":""}]
[null,null,{"$f":"IF(B122=\"\",\"\",VLOOKUP(B122,HM!$A$10:$B$209,2))","v":""},null,118,null,{"$f":"IF(F122=\"\",\"\",VLOOKUP(F122,HM!$A$10:$B$209,2))","v":""}]
[null,null,{"$f":"IF(B123=\"\",\"\",VLOOKUP(B123,HM!$A$10:$B$209,2))","v":""},null,119,null,{"$f":"IF(F123=\"\",\"\",VLOOKUP(F123,HM!$A$10:$B$209,2))","v":""}]
[null,null,{"$f":"IF(B124=\"\",\"\",VLOOKUP(B124,HM!$A$10:$B$209,2))","v":""},null,120,null,{"$f":"IF(F124=\"\",\"\",VLOOKUP(F124,HM!$A$10:$B$209,2))","v":""}]
[null,null,{"$f":"IF(B125=\"\",\"\",VLOOKUP(B125,HM!$A$10:$B$209,2))","v":""},null,121,null,{"$f":"IF(F125=\"\",\"\",VLOOKUP(F125,HM!$A$10:$B$209,2))","v":""}]
[null,null,{"$f":"IF(B126=\"\",\"\",VLOOKUP(B126,HM!$A$10:$B$209,2))","v":""},null,122,null,{"$f":"IF(F126=\"\",\"\",VLOOKUP(F126,HM!$A$10:$B$209,2))","v":""}]
[null,null,{"$f":"IF(B127=\"\",\"\",VLOOKUP(B127,HM!$A$10:$B$209,2))","v":""},null,123,null,{"$f":"IF(F127=\"\",\"\",VLOOKUP(F127,HM!$A$10:$B$209,2))","v":""}]
[null,null,{"$f":"IF(B128=\"\",\"\",VLOOKUP(B128,HM!$A$10:$B$209,2))","v":""},null,124,null,{"$f":"IF(F128=\"\",\"\",VLOOKUP(F128,HM!$A$10:$B$209,2))","v":""}]
[null,null,{"$f":"IF(B129=\"\",\"\",VLOOKUP(B129,HM!$A$10:$B$209,2))","v":""},null,125,null,{"$f":"IF(F129=\"\",\"\",VLOOKUP(F129,HM!$A$10:$B$209,2))","v":""}]
[null,null,{"$f":"IF(B130=\"\",\"\",VLOOKUP(B130,HM!$A$10:$B$209,2))","v":""},null,126,null,{"$f":"IF(F130=\"\",\"\",VLOOKUP(F130,HM!$A$10:$B$209,2))","v":""}]
[null,null,{"$f":"IF(B131=\"\",\"\",VLOOKUP(B131,HM!$A$10:$B$209,2))","v":""},null,127,null,{"$f":"IF(F131=\"\",\"\",VLOOKUP(F131,HM!$A$10:$B$209,2))","v":""}]
[null,null,{"$f":"IF(B132=\"\",\"\",VLOOKUP(B132,HM!$A$10:$B$209,2))","v":""},null,128,null,{"$f":"IF(F132=\"\",\"\",VLOOKUP(F132,HM!$A$10:$B$209,2))","v":""}]
[null,null,{"$f":"IF(B133=\"\",\"\",VLOOKUP(B133,HM!$A$10:$B$209,2))","v":""},null,129,null,{"$f":"IF(F133=\"\",\"\",VLOOKUP(F133,HM!$A$10:$B$209,2))","v":""}]
[null,null,{"$f":"IF(B134=\"\",\"\",VLOOKUP(B134,HM!$A$10:$B$209,2))","v":""},null,130,null,{"$f":"IF(F134=\"\",\"\",VLOOKUP(F134,HM!$A$10:$B$209,2))","v":""}]
[null,null,{"$f":"IF(B135=\"\",\"\",VLOOKUP(B135,HM!$A$10:$B$209,2))","v":""},null,131,null,{"$f":"IF(F135=\"\",\"\",VLOOKUP(F135,HM!$A$10:$B$209,2))","v":""}]
[null,null,{"$f":"IF(B136=\"\",\"\",VLOOKUP(B136,HM!$A$10:$B$209,2))","v":""},null,132,null,{"$f":"IF(F136=\"\",\"\",VLOOKUP(F136,HM!$A$10:$B$209,2))","v":""}]
[null,null,{"$f":"IF(B137=\"\",\"\",VLOOKUP(B137,HM!$A$10:$B$209,2))","v":""},null,133,null,{"$f":"IF(F137=\"\",\"\",VLOOKUP(F137,HM!$A$10:$B$209,2))","v":""}]
[null,null,{"$f":"IF(B138=\"\",\"\",VLOOKUP(B138,HM!$A$10:$B$209,2))","v":""},null,134,null,{"$f":"IF(F138=\"\",\"\",VLOOKUP(F138,HM!$A$10:$B$209,2))","v":""}]
[null,null,{"$f":"IF(B139=\"\",\"\",VLOOKUP(B139,HM!$A$10:$B$209,2))","v":""},null,135,null,{"$f":"IF(F139=\"\",\"\",VLOOKUP(F139,HM!$A$10:$B$209,2))","v":""}]
[null,null,{"$f":"IF(B140=\"\",\"\",VLOOKUP(B140,HM!$A$10:$B$209,2))","v":""},null,136,null,{"$f":"IF(F140=\"\",\"\",VLOOKUP(F140,HM!$A$10:$B$209,2))","v":""}]
[null,null,{"$f":"IF(B141=\"\",\"\",VLOOKUP(B141,HM!$A$10:$B$209,2))","v":""},null,137,null,{"$f":"IF(F141=\"\",\"\",VLOOKUP(F141,HM!$A$10:$B$209,2))","v":""}]
[null,null,{"$f":"IF(B142=\"\",\"\",VLOOKUP(B142,HM!$A$10:$B$209,2))","v":""},null,138,null,{"$f":"IF(F142=\"\",\"\",VLOOKUP(F142,HM!$A$10:$B$209,2))","v":""}]
[null,null,{"$f":"IF(B143=\"\",\"\",VLOOKUP(B143,HM!$A$10:$B$209,2))","v":""},null,139,null,{"$f":"IF(F143=\"\",\"\",VLOOKUP(F143,HM!$A$10:$B$209,2))","v":""}]
[null,null,{"$f":"IF(B144=\"\",\"\",VLOOKUP(B144,HM!$A$10:$B$209,2))","v":""},null,140,null,{"$f":"IF(F144=\"\",\"\",VLOOKUP(F144,HM!$A$10:$B$209,2))","v":""}]
[null,null,{"$f":"IF(B145=\"\",\"\",VLOOKUP(B145,HM!$A$10:$B$209,2))","v":""},null,141,null,{"$f":"IF(F145=\"\",\"\",VLOOKUP(F145,HM!$A$10:$B$209,2))","v":""}]
[null,null,{"$f":"IF(B146=\"\",\"\",VLOOKUP(B146,HM!$A$10:$B$209,2))","v":""},null,142,null,{"$f":"IF(F146=\"\",\"\",VLOOKUP(F146,HM!$A$10:$B$209,2))","v":""}]
[null,null,{"$f":"IF(B147=\"\",\"\",VLOOKUP(B147,HM!$A$10:$B$209,2))","v":""},null,143,null,{"$f":"IF(F147=\"\",\"\",VLOOKUP(F147,HM!$A$10:$B$209,2))","v":""}]
[null,null,{"$f":"IF(B148=\"\",\"\",VLOOKUP(B148,HM!$A$10:$B$209,2))","v":""},null,144,null,{"$f":"IF(F148=\"\",\"\",VLOOKUP(F148,HM!$A$10:$B$209,2))","v":""}]
[null,null,{"$f":"IF(B149=\"\",\"\",VLOOKUP(B149,HM!$A$10:$B$209,2))","v":""},null,145,null,{"$f":"IF(F149=\"\",\"\",VLOOKUP(F149,HM!$A$10:$B$209,2))","v":""}]
[null,null,{"$f":"IF(B150=\"\",\"\",VLOOKUP(B150,HM!$A$10:$B$209,2))","v":""},null,146,null,{"$f":"IF(F150=\"\",\"\",VLOOKUP(F150,HM!$A$10:$B$209,2))","v":""}]
[null,null,{"$f":"IF(B151=\"\",\"\",VLOOKUP(B151,HM!$A$10:$B$209,2))","v":""},null,147,null,{"$f":"IF(F151=\"\",\"\",VLOOKUP(F151,HM!$A$10:$B$209,2))","v":""}]
[null,null,{"$f":"IF(B152=\"\",\"\",VLOOKUP(B152,HM!$A$10:$B$209,2))","v":""},null,148,null,{"$f":"IF(F152=\"\",\"\",VLOOKUP(F152,HM!$A$10:$B$209,2))","v":""}]
[null,null,{"$f":"IF(B153=\"\",\"\",VLOOKUP(B153,HM!$A$10:$B$209,2))","v":""},null,149,null,{"$f":"IF(F153=\"\",\"\",VLOOKUP(F153,HM!$A$10:$B$209,2))","v":""}]
[null,null,{"$f":"IF(B154=\"\",\"\",VLOOKUP(B154,HM!$A$10:$B$209,2))","v":""},null,150,null,{"$f":"IF(F154=\"\",\"\",VLOOKUP(F154,HM!$A$10:$B$209,2))","v":""}]
[null,null,{"$f":"IF(B155=\"\",\"\",VLOOKUP(B155,HM!$A$10:$B$209,2))","v":""},null,151,null,{"$f":"IF(F155=\"\",\"\",VLOOKUP(F155,HM!$A$10:$B$209,2))","v":""}]
[null,null,{"$f":"IF(B156=\"\",\"\",VLOOKUP(B156,HM!$A$10:$B$209,2))","v":""},null,152,null,{"$f":"IF(F156=\"\",\"\",VLOOKUP(F156,HM!$A$10:$B$209,2))","v":""}]
[null,null,{"$f":"IF(B157=\"\",\"\",VLOOKUP(B157,HM!$A$10:$B$209,2))","v":""},null,153,null,{"$f":"IF(F157=\"\",\"\",VLOOKUP(F157,HM!$A$10:$B$209,2))","v":""}]
[null,null,{"$f":"IF(B158=\"\",\"\",VLOOKUP(B158,HM!$A$10:$B$209,2))","v":""},null,154,null,{"$f":"IF(F158=\"\",\"\",VLOOKUP(F158,HM!$A$10:$B$209,2))","v":""}]
[null,null,{"$f":"IF(B159=\"\",\"\",VLOOKUP(B159,HM!$A$10:$B$209,2))","v":""},null,155,null,{"$f":"IF(F159=\"\",\"\",VLOOKUP(F159,HM!$A$10:$B$209,2))","v":""}]
[null,null,{"$f":"IF(B160=\"\",\"\",VLOOKUP(B160,HM!$A$10:$B$209,2))","v":""},null,156,null,{"$f":"IF(F160=\"\",\"\",VLOOKUP(F160,HM!$A$10:$B$209,2))","v":""}]
[null,null,{"$f":"IF(B161=\"\",\"\",VLOOKUP(B161,HM!$A$10:$B$209,2))","v":""},null,157,null,{"$f":"IF(F161=\"\",\"\",VLOOKUP(F161,HM!$A$10:$B$209,2))","v":""}]
[null,null,{"$f":"IF(B162=\"\",\"\",VLOOKUP(B162,HM!$A$10:$B$209,2))","v":""},null,158,null,{"$f":"IF(F162=\"\",\"\",VLOOKUP(F162,HM!$A$10:$B$209,2))","v":""}]
[null,null,{"$f":"IF(B163=\"\",\"\",VLOOKUP(B163,HM!$A$10:$B$209,2))","v":""},null,159,null,{"$f":"IF(F163=\"\",\"\",VLOOKUP(F163,HM!$A$10:$B$209,2))","v":""}]
[null,null,{"$f":"IF(B164=\"\",\"\",VLOOKUP(B164,HM!$A$10:$B$209,2))","v":""},null,160,null,{"$f":"IF(F164=\"\",\"\",VLOOKUP(F164,HM!$A$10:$B$209,2))","v":""}]
[null,null,{"$f":"IF(B165=\"\",\"\",VLOOKUP(B165,HM!$A$10:$B$209,2))","v":""},null,161,null,{"$f":"IF(F165=\"\",\"\",VLOOKUP(F165,HM!$A$10:$B$209,2))","v":""}]
[null,null,{"$f":"IF(B166=\"\",\"\",VLOOKUP(B166,HM!$A$10:$B$209,2))","v":""},null,162,null,{"$f":"IF(F166=\"\",\"\",VLOOKUP(F166,HM!$A$10:$B$209,2))","v":""}]
[null,null,{"$f":"IF(B167=\"\",\"\",VLOOKUP(B167,HM!$A$10:$B$209,2))","v":""},null,163,null,{"$f":"IF(F167=\"\",\"\",VLOOKUP(F167,HM!$A$10:$B$209,2))","v":""}]
[null,null,{"$f":"IF(B168=\"\",\"\",VLOOKUP(B168,HM!$A$10:$B$209,2))","v":""},null,164,null,{"$f":"IF(F168=\"\",\"\",VLOOKUP(F168,HM!$A$10:$B$209,2))","v":""}]
[null,null,{"$f":"IF(B169=\"\",\"\",VLOOKUP(B169,HM!$A$10:$B$209,2))","v":""},null,165,null,{"$f":"IF(F169=\"\",\"\",VLOOKUP(F169,HM!$A$10:$B$209,2))","v":""}]
[null,null,{"$f":"IF(B170=\"\",\"\",VLOOKUP(B170,HM!$A$10:$B$209,2))","v":""},null,166,null,{"$f":"IF(F170=\"\",\"\",VLOOKUP(F170,HM!$A$10:$B$209,2))","v":""}]
[null,null,{"$f":"IF(B171=\"\",\"\",VLOOKUP(B171,HM!$A$10:$B$209,2))","v":""},null,167,null,{"$f":"IF(F171=\"\",\"\",VLOOKUP(F171,HM!$A$10:$B$209,2))","v":""}]
[null,null,{"$f":"IF(B172=\"\",\"\",VLOOKUP(B172,HM!$A$10:$B$209,2))","v":""},null,168,null,{"$f":"IF(F172=\"\",\"\",VLOOKUP(F172,HM!$A$10:$B$209,2))","v":""}]
[null,null,{"$f":"IF(B173=\"\",\"\",VLOOKUP(B173,HM!$A$10:$B$209,2))","v":""},null,169,null,{"$f":"IF(F173=\"\",\"\",VLOOKUP(F173,HM!$A$10:$B$209,2))","v":""}]
[null,null,{"$f":"IF(B174=\"\",\"\",VLOOKUP(B174,HM!$A$10:$B$209,2))","v":""},null,170,null,{"$f":"IF(F174=\"\",\"\",VLOOKUP(F174,HM!$A$10:$B$209,2))","v":""}]
[null,null,{"$f":"IF(B175=\"\",\"\",VLOOKUP(B175,HM!$A$10:$B$209,2))","v":""},null,171,null,{"$f":"IF(F175=\"\",\"\",VLOOKUP(F175,HM!$A$10:$B$209,2))","v":""}]
[null,null,{"$f":"IF(B176=\"\",\"\",VLOOKUP(B176,HM!$A$10:$B$209,2))","v":""},null,172,null,{"$f":"IF(F176=\"\",\"\",VLOOKUP(F176,HM!$A$10:$B$209,2))","v":""}]
[null,null,{"$f":"IF(B177=\"\",\"\",VLOOKUP(B177,HM!$A$10:$B$209,2))","v":""},null,173,null,{"$f":"IF(F177=\"\",\"\",VLOOKUP(F177,HM!$A$10:$B$209,2))","v":""}]
[null,null,{"$f":"IF(B178=\"\",\"\",VLOOKUP(B178,HM!$A$10:$B$209,2))","v":""},null,174,null,{"$f":"IF(F178=\"\",\"\",VLOOKUP(F178,HM!$A$10:$B$209,2))","v":""}]
[null,null,{"$f":"IF(B179=\"\",\"\",VLOOKUP(B179,HM!$A$10:$B$209,2))","v":""},null,175,null,{"$f":"IF(F179=\"\",\"\",VLOOKUP(F179,HM!$A$10:$B$209,2))","v":""}]
[null,null,{"$f":"IF(B180=\"\",\"\",VLOOKUP(B180,HM!$A$10:$B$209,2))","v":""},null,176,null,{"$f":"IF(F180=\"\",\"\",VLOOKUP(F180,HM!$A$10:$B$209,2))","v":""}]
[null,null,{"$f":"IF(B181=\"\",\"\",VLOOKUP(B181,HM!$A$10:$B$209,2))","v":""},null,177,null,{"$f":"IF(F181=\"\",\"\",VLOOKUP(F181,HM!$A$10:$B$209,2))","v":""}]
[null,null,{"$f":"IF(B182=\"\",\"\",VLOOKUP(B182,HM!$A$10:$B$209,2))","v":""},null,178,null,{"$f":"IF(F182=\"\",\"\",VLOOKUP(F182,HM!$A$10:$B$209,2))","v":""}]
[null,null,{"$f":"IF(B183=\"\",\"\",VLOOKUP(B183,HM!$A$10:$B$209,2))","v":""},null,179,null,{"$f":"IF(F183=\"\",\"\",VLOOKUP(F183,HM!$A$10:$B$209,2))","v":""}]
[null,null,{"$f":"IF(B184=\"\",\"\",VLOOKUP(B184,HM!$A$10:$B$209,2))","v":""},null,180,null,{"$f":"IF(F184=\"\",\"\",VLOOKUP(F184,HM!$A$10:$B$209,2))","v":""}]
[null,null,{"$f":"IF(B185=\"\",\"\",VLOOKUP(B185,HM!$A$10:$B$209,2))","v":""},null,181,null,{"$f":"IF(F185=\"\",\"\",VLOOKUP(F185,HM!$A$10:$B$209,2))","v":""}]
[null,null,{"$f":"IF(B186=\"\",\"\",VLOOKUP(B186,HM!$A$10:$B$209,2))","v":""},null,182,null,{"$f":"IF(F186=\"\",\"\",VLOOKUP(F186,HM!$A$10:$B$209,2))","v":""}]
[null,null,{"$f":"IF(B187=\"\",\"\",VLOOKUP(B187,HM!$A$10:$B$209,2))","v":""},null,183,null,{"$f":"IF(F187=\"\",\"\",VLOOKUP(F187,HM!$A$10:$B$209,2))","v":""}]
[null,null,{"$f":"IF(B188=\"\",\"\",VLOOKUP(B188,HM!$A$10:$B$209,2))","v":""},null,184,null,{"$f":"IF(F188=\"\",\"\",VLOOKUP(F188,HM!$A$10:$B$209,2))","v":""}]
[null,null,{"$f":"IF(B189=\"\",\"\",VLOOKUP(B189,HM!$A$10:$B$209,2))","v":""},null,185,null,{"$f":"IF(F189=\"\",\"\",VLOOKUP(F189,HM!$A$10:$B$209,2))","v":""}]
[null,null,{"$f":"IF(B190=\"\",\"\",VLOOKUP(B190,HM!$A$10:$B$209,2))","v":""},null,186,null,{"$f":"IF(F190=\"\",\"\",VLOOKUP(F190,HM!$A$10:$B$209,2))","v":""}]
[null,null,{"$f":"IF(B191=\"\",\"\",VLOOKUP(B191,HM!$A$10:$B$209,2))","v":""},null,187,null,{"$f":"IF(F191=\"\",\"\",VLOOKUP(F191,HM!$A$10:$B$209,2))","v":""}]
[null,null,{"$f":"IF(B192=\"\",\"\",VLOOKUP(B192,HM!$A$10:$B$209,2))","v":""},null,188,null,{"$f":"IF(F192=\"\",\"\",VLOOKUP(F192,HM!$A$10:$B$209,2))","v":""}]
[null,null,{"$f":"IF(B193=\"\",\"\",VLOOKUP(B193,HM!$A$10:$B$209,2))","v":""},null,189,null,{"$f":"IF(F193=\"\",\"\",VLOOKUP(F193,HM!$A$10:$B$209,2))","v":""}]
[null,null,{"$f":"IF(B194=\"\",\"\",VLOOKUP(B194,HM!$A$10:$B$209,2))","v":""},null,190,null,{"$f":"IF(F194=\"\",\"\",VLOOKUP(F194,HM!$A$10:$B$209,2))","v":""}]
[null,null,{"$f":"IF(B195=\"\",\"\",VLOOKUP(B195,HM!$A$10:$B$209,2))","v":""},null,191,null,{"$f":"IF(F195=\"\",\"\",VLOOKUP(F195,HM!$A$10:$B$209,2))","v":""}]
[null,null,{"$f":"IF(B196=\"\",\"\",VLOOKUP(B196,HM!$A$10:$B$209,2))","v":""},null,192,null,{"$f":"IF(F196=\"\",\"\",VLOOKUP(F196,HM!$A$10:$B$209,2))","v":""}]
[null,null,{"$f":"IF(B197=\"\",\"\",VLOOKUP(B197,HM!$A$10:$B$209,2))","v":""},null,193,null,{"$f":"IF(F197=\"\",\"\",VLOOKUP(F197,HM!$A$10:$B$209,2))","v":""}]
[null,null,{"$f":"IF(B198=\"\",\"\",VLOOKUP(B198,HM!$A$10:$B$209,2))","v":""},null,194,null,{"$f":"IF(F198=\"\",\"\",VLOOKUP(F198,HM!$A$10:$B$209,2))","v":""}]
[null,null,{"$f":"IF(B199=\"\",\"\",VLOOKUP(B199,HM!$A$10:$B$209,2))","v":""},null,195,null,{"$f":"IF(F199=\"\",\"\",VLOOKUP(F199,HM!$A$10:$B$209,2))","v":""}]
[null,null,{"$f":"IF(B200=\"\",\"\",VLOOKUP(B200,HM!$A$10:$B$209,2))","v":""},null,196,null,{"$f":"IF(F200=\"\",\"\",VLOOKUP(F200,HM!$A$10:$B$209,2))","v":""}]
[null,null,{"$f":"IF(B201=\"\",\"\",VLOOKUP(B201,HM!$A$10:$B$209,2))","v":""},null,197,null,{"$f":"IF(F201=\"\",\"\",VLOOKUP(F201,HM!$A$10:$B$209,2))","v":""}]
[null,null,{"$f":"IF(B202=\"\",\"\",VLOOKUP(B202,HM!$A$10:$B$209,2))","v":""},null,198,null,{"$f":"IF(F202=\"\",\"\",VLOOKUP(F202,HM!$A$10:$B$209,2))","v":""}]
[null,null,{"$f":"IF(B203=\"\",\"\",VLOOKUP(B203,HM!$A$10:$B$209,2))","v":""},null,199,null,{"$f":"IF(F203=\"\",\"\",VLOOKUP(F203,HM!$A$10:$B$209,2))","v":""}]
[null,null,{"$f":"IF(B204=\"\",\"\",VLOOKUP(B204,HM!$A$10:$B$209,2))","v":""},null,200,null,{"$f":"IF(F204=\"\",\"\",VLOOKUP(F204,HM!$A$10:$B$209,2))","v":""}]

{"sheet":"OS","index":2,"n_rows":204,"n_cols":8,"rows_kept":204,"cut":false,"hidden":false,"merged":[[2,1,2,3],[2,5,2,7]]}
[]
[]
[null,"Orden KK",null,null,null,"Orden LG"]
[null,"Lfd. Nr.:","Vor- und Nachname:","Teiler:",null,"Lfd. Nr.:","Vor- und Nachname:","Teiler:"]
[null,null,{"$f":"IF(B5=\"\",\"\",VLOOKUP(B5,HM!$A$10:$B$209,2))","v":""},null,1,null,{"$f":"IF(F5=\"\",\"\",VLOOKUP(F5,HM!$A$10:$B$209,2))","v":""}]
[null,null,{"$f":"IF(B6=\"\",\"\",VLOOKUP(B6,HM!$A$10:$B$209,2))","v":""},null,2,null,{"$f":"IF(F6=\"\",\"\",VLOOKUP(F6,HM!$A$10:$B$209,2))","v":""}]
[null,null,{"$f":"IF(B7=\"\",\"\",VLOOKUP(B7,HM!$A$10:$B$209,2))","v":""},null,3,null,{"$f":"IF(F7=\"\",\"\",VLOOKUP(F7,HM!$A$10:$B$209,2))","v":""}]
[null,null,{"$f":"IF(B8=\"\",\"\",VLOOKUP(B8,HM!$A$10:$B$209,2))","v":""},null,4,null,{"$f":"IF(F8=\"\",\"\",VLOOKUP(F8,HM!$A$10:$B$209,2))","v":""}]
[null,null,{"$f":"IF(B9=\"\",\"\",VLOOKUP(B9,HM!$A$10:$B$209,2))","v":""},null,5,null,{"$f":"IF(F9=\"\",\"\",VLOOKUP(F9,HM!$A$10:$B$209,2))","v":""}]
[null,null,{"$f":"IF(B10=\"\",\"\",VLOOKUP(B10,HM!$A$10:$B$209,2))","v":""},null,6,null,{"$f":"IF(F10=\"\",\"\",VLOOKUP(F10,HM!$A$10:$B$209,2))","v":""}]
[null,null,{"$f":"IF(B11=\"\",\"\",VLOOKUP(B11,HM!$A$10:$B$209,2))","v":""},null,7,null,{"$f":"IF(F11=\"\",\"\",VLOOKUP(F11,HM!$A$10:$B$209,2))","v":""}]
[null,null,{"$f":"IF(B12=\"\",\"\",VLOOKUP(B12,HM!$A$10:$B$209,2))","v":""},null,8,null,{"$f":"IF(F12=\"\",\"\",VLOOKUP(F12,HM!$A$10:$B$209,2))","v":""}]
[null,null,{"$f":"IF(B13=\"\",\"\",VLOOKUP(B13,HM!$A$10:$B$209,2))","v":""},null,9,null,{"$f":"IF(F13=\"\",\"\",VLOOKUP(F13,HM!$A$10:$B$209,2))","v":""}]
[null,null,{"$f":"IF(B14=\"\",\"\",VLOOKUP(B14,HM!$A$10:$B$209,2))","v":""},null,10,null,{"$f":"IF(F14=\"\",\"\",VLOOKUP(F14,HM!$A$10:$B$209,2))","v":""}]
[null,null,{"$f":"IF(B15=\"\",\"\",VLOOKUP(B15,HM!$A$10:$B$209,2))","v":""},null,11,null,{"$f":"IF(F15=\"\",\"\",VLOOKUP(F15,HM!$A$10:$B$209,2))","v":""}]
[null,null,{"$f":"IF(B16=\"\",\"\",VLOOKUP(B16,HM!$A$10:$B$209,2))","v":""},null,12,null,{"$f":"IF(F16=\"\",\"\",VLOOKUP(F16,HM!$A$10:$B$209,2))","v":""}]
[null,null,{"$f":"IF(B17=\"\",\"\",VLOOKUP(B17,HM!$A$10:$B$209,2))","v":""},null,13,null,{"$f":"IF(F17=\"\",\"\",VLOOKUP(F17,HM!$A$10:$B$209,2))","v":""}]
[null,null,{"$f":"IF(B18=\"\",\"\",VLOOKUP(B18,HM!$A$10:$B$209,2))","v":""},null,14,null,{"$f":"IF(F18=\"\",\"\",VLOOKUP(F18,HM!$A$10:$B$209,2))","v":""}]
[null,null,{"$f":"IF(B19=\"\",\"\",VLOOKUP(B19,HM!$A$10:$B$209,2))","v":""},null,15,null,{"$f":"IF(F19=\"\",\"\",VLOOKUP(F19,HM!$A$10:$B$209,2))","v":""}]
[null,null,{"$f":"IF(B20=\"\",\"\",VLOOKUP(B20,HM!$A$10:$B$209,2))","v":""},null,16,null,{"$f":"IF(F20=\"\",\"\",VLOOKUP(F20,HM!$A$10:$B$209,2))","v":""}]
[null,null,{"$f":"IF(B21=\"\",\"\",VLOOKUP(B21,HM!$A$10:$B$209,2))","v":""},null,17,null,{"$f":"IF(F21=\"\",\"\",VLOOKUP(F21,HM!$A$10:$B$209,2))","v":""}]
[null,null,{"$f":"IF(B22=\"\",\"\",VLOOKUP(B22,HM!$A$10:$B$209,2))","v":""},null,18,null,{"$f":"IF(F22=\"\",\"\",VLOOKUP(F22,HM!$A$10:$B$209,2))","v":""}]
[null,null,{"$f":"IF(B23=\"\",\"\",VLOOKUP(B23,HM!$A$10:$B$209,2))","v":""},null,19,null,{"$f":"IF(F23=\"\",\"\",VLOOKUP(F23,HM!$A$10:$B$209,2))","v":""}]
[null,null,{"$f":"IF(B24=\"\",\"\",VLOOKUP(B24,HM!$A$10:$B$209,2))","v":""},null,20,null,{"$f":"IF(F24=\"\",\"\",VLOOKUP(F24,HM!$A$10:$B$209,2))","v":""}]
[null,null,{"$f":"IF(B25=\"\",\"\",VLOOKUP(B25,HM!$A$10:$B$209,2))","v":""},null,21,null,{"$f":"IF(F25=\"\",\"\",VLOOKUP(F25,HM!$A$10:$B$209,2))","v":""}]
[null,null,{"$f":"IF(B26=\"\",\"\",VLOOKUP(B26,HM!$A$10:$B$209,2))","v":""},null,22,null,{"$f":"IF(F26=\"\",\"\",VLOOKUP(F26,HM!$A$10:$B$209,2))","v":""}]
[null,null,{"$f":"IF(B27=\"\",\"\",VLOOKUP(B27,HM!$A$10:$B$209,2))","v":""},null,23,null,{"$f":"IF(F27=\"\",\"\",VLOOKUP(F27,HM!$A$10:$B$209,2))","v":""}]
[null,null,{"$f":"IF(B28=\"\",\"\",VLOOKUP(B28,HM!$A$10:$B$209,2))","v":""},null,24,null,{"$f":"IF(F28=\"\",\"\",VLOOKUP(F28,HM!$A$10:$B$209,2))","v":""}]
[null,null,{"$f":"IF(B29=\"\",\"\",VLOOKUP(B29,HM!$A$10:$B$209,2))","v":""},null,25,null,{"$f":"IF(F29=\"\",\"\",VLOOKUP(F29,HM!$A$10:$B$209,2))","v":""}]
[null,null,{"$f":"IF(B30=\"\",\"\",VLOOKUP(B30,HM!$A$10:$B$209,2))","v":""},null,26,null,{"$f":"IF(F30=\"\",\"\",VLOOKUP(F30,HM!$A$10:$B$209,2))","v":""}]
[null,null,{"$f":"IF(B31=\"\",\"\",VLOOKUP(B31,HM!$A$10:$B$209,2))","v":""},null,27,null,{"$f":"IF(F31=\"\",\"\",VLOOKUP(F31,HM!$A$10:$B$209,2))","v":""}]
[null,null,{"$f":"IF(B32=\"\",\"\",VLOOKUP(B32,HM!$A$10:$B$209,2))","v":""},null,28,null,{"$f":"IF(F32=\"\",\"\",VLOOKUP(F32,HM!$A$10:$B$209,2))","v":""}]
[null,null,{"$f":"IF(B33=\"\",\"\",VLOOKUP(B33,HM!$A$10:$B$209,2))","v":""},null,29,null,{"$f":"IF(F33=\"\",\"\",VLOOKUP(F33,HM!$A$10:$B$209,2))","v":""}]
[null,null,{"$f":"IF(B34=\"\",\"\",VLOOKUP(B34,HM!$A$10:$B$209,2))","v":""},null,30,null,{"$f":"IF(F34=\"\",\"\",VLOOKUP(F34,HM!$A$10:$B$209,2))","v":""}]
[null,null,{"$f":"IF(B35=\"\",\"\",VLOOKUP(B35,HM!$A$10:$B$209,2))","v":""},null,31,null,{"$f":"IF(F35=\"\",\"\",VLOOKUP(F35,HM!$A$10:$B$209,2))","v":""}]
[null,null,{"$f":"IF(B36=\"\",\"\",VLOOKUP(B36,HM!$A$10:$B$209,2))","v":""},null,32,null,{"$f":"IF(F36=\"\",\"\",VLOOKUP(F36,HM!$A$10:$B$209,2))","v":""}]
[null,null,{"$f":"IF(B37=\"\",\"\",VLOOKUP(B37,HM!$A$10:$B$209,2))","v":""},null,33,null,{"$f":"IF(F37=\"\",\"\",VLOOKUP(F37,HM!$A$10:$B$209,2))","v":""}]
[null,null,{"$f":"IF(B38=\"\",\"\",VLOOKUP(B38,HM!$A$10:$B$209,2))","v":""},null,34,null,{"$f":"IF(F38=\"\",\"\",VLOOKUP(F38,HM!$A$10:$B$209,2))","v":""}]
[null,null,{"$f":"IF(B39=\"\",\"\",VLOOKUP(B39,HM!$A$10:$B$209,2))","v":""},null,35,null,{"$f":"IF(F39=\"\",\"\",VLOOKUP(F39,HM!$A$10:$B$209,2))","v":""}]
[null,null,{"$f":"IF(B40=\"\",\"\",VLOOKUP(B40,HM!$A$10:$B$209,2))","v":""},null,36,null,{"$f":"IF(F40=\"\",\"\",VLOOKUP(F40,HM!$A$10:$B$209,2))","v":""}]
[null,null,{"$f":"IF(B41=\"\",\"\",VLOOKUP(B41,HM!$A$10:$B$209,2))","v":""},null,37,null,{"$f":"IF(F41=\"\",\"\",VLOOKUP(F41,HM!$A$10:$B$209,2))","v":""}]
[null,null,{"$f":"IF(B42=\"\",\"\",VLOOKUP(B42,HM!$A$10:$B$209,2))","v":""},null,38,null,{"$f":"IF(F42=\"\",\"\",VLOOKUP(F42,HM!$A$10:$B$209,2))","v":""}]
[null,null,{"$f":"IF(B43=\"\",\"\",VLOOKUP(B43,HM!$A$10:$B$209,2))","v":""},null,39,null,{"$f":"IF(F43=\"\",\"\",VLOOKUP(F43,HM!$A$10:$B$209,2))","v":""}]
[null,null,{"$f":"IF(B44=\"\",\"\",VLOOKUP(B44,HM!$A$10:$B$209,2))","v":""},null,40,null,{"$f":"IF(F44=\"\",\"\",VLOOKUP(F44,HM!$A$10:$B$209,2))","v":""}]
[null,null,{"$f":"IF(B45=\"\",\"\",VLOOKUP(B45,HM!$A$10:$B$209,2))","v":""},null,41,null,{"$f":"IF(F45=\"\",\"\",VLOOKUP(F45,HM!$A$10:$B$209,2))","v":""}]
[null,null,{"$f":"IF(B46=\"\",\"\",VLOOKUP(B46,HM!$A$10:$B$209,2))","v":""},null,42,null,{"$f":"IF(F46=\"\",\"\",VLOOKUP(F46,HM!$A$10:$B$209,2))","v":""}]
[null,null,{"$f":"IF(B47=\"\",\"\",VLOOKUP(B47,HM!$A$10:$B$209,2))","v":""},null,43,null,{"$f":"IF(F47=\"\",\"\",VLOOKUP(F47,HM!$A$10:$B$209,2))","v":""}]
[null,null,{"$f":"IF(B48=\"\",\"\",VLOOKUP(B48,HM!$A$10:$B$209,2))","v":""},null,44,null,{"$f":"IF(F48=\"\",\"\",VLOOKUP(F48,HM!$A$10:$B$209,2))","v":""}]
[null,null,{"$f":"IF(B49=\"\",\"\",VLOOKUP(B49,HM!$A$10:$B$209,2))","v":""},null,45,null,{"$f":"IF(F49=\"\",\"\",VLOOKUP(F49,HM!$A$10:$B$209,2))","v":""}]
[null,null,{"$f":"IF(B50=\"\",\"\",VLOOKUP(B50,HM!$A$10:$B$209,2))","v":""},null,46,null,{"$f":"IF(F50=\"\",\"\",VLOOKUP(F50,HM!$A$10:$B$209,2))","v":""}]
[null,null,{"$f":"IF(B51=\"\",\"\",VLOOKUP(B51,HM!$A$10:$B$209,2))","v":""},null,47,null,{"$f":"IF(F51=\"\",\"\",VLOOKUP(F51,HM!$A$10:$B$209,2))","v":""}]
[null,null,{"$f":"IF(B52=\"\",\"\",VLOOKUP(B52,HM!$A$10:$B$209,2))","v":""},null,48,null,{"$f":"IF(F52=\"\",\"\",VLOOKUP(F52,HM!$A$10:$B$209,2))","v":""}]
[null,null,{"$f":"IF(B53=\"\",\"\",VLOOKUP(B53,HM!$A$10:$B$209,2))","v":""},null,49,null,{"$f":"IF(F53=\"\",\"\",VLOOKUP(F53,HM!$A$10:$B$209,2))","v":""}]
[null,null,{"$f":"IF(B54=\"\",\"\",VLOOKUP(B54,HM!$A$10:$B$209,2))","v":""},null,50,null,{"$f":"IF(F54=\"\",\"\",VLOOKUP(F54,HM!$A$10:$B$209,2))","v":""}]
[null,null,{"$f":"IF(B55=\"\",\"\",VLOOKUP(B55,HM!$A$10:$B$209,2))","v":""},null,51,null,{"$f":"IF(F55=\"\",\"\",VLOOKUP(F55,HM!$A$10:$B$209,2))","v":""}]
[null,null,{"$f":"IF(B56=\"\",\"\",VLOOKUP(B56,HM!$A$10:$B$209,2))","v":""},null,52,null,{"$f":"IF(F56=\"\",\"\",VLOOKUP(F56,HM!$A$10:$B$209,2))","v":""}]
[null,null,{"$f":"IF(B57=\"\",\"\",VLOOKUP(B57,HM!$A$10:$B$209,2))","v":""},null,53,null,{"$f":"IF(F57=\"\",\"\",VLOOKUP(F57,HM!$A$10:$B$209,2))","v":""}]
[null,null,{"$f":"IF(B58=\"\",\"\",VLOOKUP(B58,HM!$A$10:$B$209,2))","v":""},null,54,null,{"$f":"IF(F58=\"\",\"\",VLOOKUP(F58,HM!$A$10:$B$209,2))","v":""}]
[null,null,{"$f":"IF(B59=\"\",\"\",VLOOKUP(B59,HM!$A$10:$B$209,2))","v":""},null,55,null,{"$f":"IF(F59=\"\",\"\",VLOOKUP(F59,HM!$A$10:$B$209,2))","v":""}]
[null,null,{"$f":"IF(B60=\"\",\"\",VLOOKUP(B60,HM!$A$10:$B$209,2))","v":""},null,56,null,{"$f":"IF(F60=\"\",\"\",VLOOKUP(F60,HM!$A$10:$B$209,2))","v":""}]
[null,null,{"$f":"IF(B61=\"\",\"\",VLOOKUP(B61,HM!$A$10:$B$209,2))","v":""},null,57,null,{"$f":"IF(F61=\"\",\"\",VLOOKUP(F61,HM!$A$10:$B$209,2))","v":""}]
[null,null,{"$f":"IF(B62=\"\",\"\",VLOOKUP(B62,HM!$A$10:$B$209,2))","v":""},null,58,null,{"$f":"IF(F62=\"\",\"\",VLOOKUP(F62,HM!$A$10:$B$209,2))","v":""}]
[null,null,{"$f":"IF(B63=\"\",\"\",VLOOKUP(B63,HM!$A$10:$B$209,2))","v":""},null,59,null,{"$f":"IF(F63=\"\",\"\",VLOOKUP(F63,HM!$A$10:$B$209,2))","v":""}]
[null,null,{"$f":"IF(B64=\"\",\"\",VLOOKUP(B64,HM!$A$10:$B$209,2))","v":""},null,60,null,{"$f":"IF(F64=\"\",\"\",VLOOKUP(F64,HM!$A$10:$B$209,2))","v":""}]
[null,null,{"$f":"IF(B65=\"\",\"\",VLOOKUP(B65,HM!$A$10:$B$209,2))","v":""},null,61,null,{"$f":"IF(F65=\"\",\"\",VLOOKUP(F65,HM!$A$10:$B$209,2))","v":""}]
[null,null,{"$f":"IF(B66=\"\",\"\",VLOOKUP(B66,HM!$A$10:$B$209,2))","v":""},null,62,null,{"$f":"IF(F66=\"\",\"\",VLOOKUP(F66,HM!$A$10:$B$209,2))","v":""}]
[null,null,{"$f":"IF(B67=\"\",\"\",VLOOKUP(B67,HM!$A$10:$B$209,2))","v":""},null,63,null,{"$f":"IF(F67=\"\",\"\",VLOOKUP(F67,HM!$A$10:$B$209,2))","v":""}]
[null,null,{"$f":"IF(B68=\"\",\"\",VLOOKUP(B68,HM!$A$10:$B$209,2))","v":""},null,64,null,{"$f":"IF(F68=\"\",\"\",VLOOKUP(F68,HM!$A$10:$B$209,2))","v":""}]
[null,null,{"$f":"IF(B69=\"\",\"\",VLOOKUP(B69,HM!$A$10:$B$209,2))","v":""},null,65,null,{"$f":"IF(F69=\"\",\"\",VLOOKUP(F69,HM!$A$10:$B$209,2))","v":""}]
[null,null,{"$f":"IF(B70=\"\",\"\",VLOOKUP(B70,HM!$A$10:$B$209,2))","v":""},null,66,null,{"$f":"IF(F70=\"\",\"\",VLOOKUP(F70,HM!$A$10:$B$209,2))","v":""}]
[null,null,{"$f":"IF(B71=\"\",\"\",VLOOKUP(B71,HM!$A$10:$B$209,2))","v":""},null,67,null,{"$f":"IF(F71=\"\",\"\",VLOOKUP(F71,HM!$A$10:$B$209,2))","v":""}]
[null,null,{"$f":"IF(B72=\"\",\"\",VLOOKUP(B72,HM!$A$10:$B$209,2))","v":""},null,68,null,{"$f":"IF(F72=\"\",\"\",VLOOKUP(F72,HM!$A$10:$B$209,2))","v":""}]
[null,null,{"$f":"IF(B73=\"\",\"\",VLOOKUP(B73,HM!$A$10:$B$209,2))","v":""},null,69,null,{"$f":"IF(F73=\"\",\"\",VLOOKUP(F73,HM!$A$10:$B$209,2))","v":""}]
[null,null,{"$f":"IF(B74=\"\",\"\",VLOOKUP(B74,HM!$A$10:$B$209,2))","v":""},null,70,null,{"$f":"IF(F74=\"\",\"\",VLOOKUP(F74,HM!$A$10:$B$209,2))","v":""}]
[null,null,{"$f":"IF(B75=\"\",\"\",VLOOKUP(B75,HM!$A$10:$B$209,2))","v":""},null,71,null,{"$f":"IF(F75=\"\",\"\",VLOOKUP(F75,HM!$A$10:$B$209,2))","v":""}]
[null,null,{"$f":"IF(B76=\"\",\"\",VLOOKUP(B76,HM!$A$10:$B$209,2))","v":""},null,72,null,{"$f":"IF(F76=\"\",\"\",VLOOKUP(F76,HM!$A$10:$B$209,2))","v":""}]
[null,null,{"$f":"IF(B77=\"\",\"\",VLOOKUP(B77,HM!$A$10:$B$209,2))","v":""},null,73,null,{"$f":"IF(F77=\"\",\"\",VLOOKUP(F77,HM!$A$10:$B$209,2))","v":""}]
[null,null,{"$f":"IF(B78=\"\",\"\",VLOOKUP(B78,HM!$A$10:$B$209,2))","v":""},null,74,null,{"$f":"IF(F78=\"\",\"\",VLOOKUP(F78,HM!$A$10:$B$209,2))","v":""}]
[null,null,{"$f":"IF(B79=\"\",\"\",VLOOKUP(B79,HM!$A$10:$B$209,2))","v":""},null,75,null,{"$f":"IF(F79=\"\",\"\",VLOOKUP(F79,HM!$A$10:$B$209,2))","v":""}]
[null,null,{"$f":"IF(B80=\"\",\"\",VLOOKUP(B80,HM!$A$10:$B$209,2))","v":""},null,76,null,{"$f":"IF(F80=\"\",\"\",VLOOKUP(F80,HM!$A$10:$B$209,2))","v":""}]
[null,null,{"$f":"IF(B81=\"\",\"\",VLOOKUP(B81,HM!$A$10:$B$209,2))","v":""},null,77,null,{"$f":"IF(F81=\"\",\"\",VLOOKUP(F81,HM!$A$10:$B$209,2))","v":""}]
[null,null,{"$f":"IF(B82=\"\",\"\",VLOOKUP(B82,HM!$A$10:$B$209,2))","v":""},null,78,null,{"$f":"IF(F82=\"\",\"\",VLOOKUP(F82,HM!$A$10:$B$209,2))","v":""}]
[null,null,{"$f":"IF(B83=\"\",\"\",VLOOKUP(B83,HM!$A$10:$B$209,2))","v":""},null,79,null,{"$f":"IF(F83=\"\",\"\",VLOOKUP(F83,HM!$A$10:$B$209,2))","v":""}]
[null,null,{"$f":"IF(B84=\"\",\"\",VLOOKUP(B84,HM!$A$10:$B$209,2))","v":""},null,80,null,{"$f":"IF(F84=\"\",\"\",VLOOKUP(F84,HM!$A$10:$B$209,2))","v":""}]
[null,null,{"$f":"IF(B85=\"\",\"\",VLOOKUP(B85,HM!$A$10:$B$209,2))","v":""},null,81,null,{"$f":"IF(F85=\"\",\"\",VLOOKUP(F85,HM!$A$10:$B$209,2))","v":""}]
[null,null,{"$f":"IF(B86=\"\",\"\",VLOOKUP(B86,HM!$A$10:$B$209,2))","v":""},null,82,null,{"$f":"IF(F86=\"\",\"\",VLOOKUP(F86,HM!$A$10:$B$209,2))","v":""}]
[null,null,{"$f":"IF(B87=\"\",\"\",VLOOKUP(B87,HM!$A$10:$B$209,2))","v":""},null,83,null,{"$f":"IF(F87=\"\",\"\",VLOOKUP(F87,HM!$A$10:$B$209,2))","v":""}]
[null,null,{"$f":"IF(B88=\"\",\"\",VLOOKUP(B88,HM!$A$10:$B$209,2))","v":""},null,84,null,{"$f":"IF(F88=\"\",\"\",VLOOKUP(F88,HM!$A$10:$B$209,2))","v":""}]
[null,null,{"$f":"IF(B89=\"\",\"\",VLOOKUP(B89,HM!$A$10:$B$209,2))","v":""},null,85,null,{"$f":"IF(F89=\"\",\"\",VLOOKUP(F89,HM!$A$10:$B$209,2))","v":""}]
[null,null,{"$f":"IF(B90=\"\",\"\",VLOOKUP(B90,HM!$A$10:$B$209,2))","v":""},null,86,null,{"$f":"IF(F90=\"\",\"\",VLOOKUP(F90,HM!$A$10:$B$209,2))","v":""}]
[null,null,{"$f":"IF(B91=\"\",\"\",VLOOKUP(B91,HM!$A$10:$B$209,2))","v":""},null,87,null,{"$f":"IF(F91=\"\",\"\",VLOOKUP(F91,HM!$A$10:$B$209,2))","v":""}]
[null,null,{"$f":"IF(B92=\"\",\"\",VLOOKUP(B92,HM!$A$10:$B$209,2))","v":""},null,88,null,{"$f":"IF(F92=\"\",\"\",VLOOKUP(F92,HM!$A$10:$B$209,2))","v":""}]
[null,null,{"$f":"IF(B93=\"\",\"\",VLOOKUP(B93,HM!$A$10:$B$209,2))","v":""},null,89,null,{"$f":"IF(F93=\"\",\"\",VLOOKUP(F93,HM!$A$10:$B$209,2))","v":""}]
[null,null,{"$f":"IF(B94=\"\",\"\",VLOOKUP(B94,HM!$A$10:$B$209,2))","v":""},null,90,null,{"$f":"IF(F94=\"\",\"\",VLOOKUP(F94,HM!$A$10:$B$209,2))","v":""}]
[null,null,{"$f":"IF(B95=\"\",\"\",VLOOKUP(B95,HM!$A$10:$B$209,2))","v":""},null,91,null,{"$f":"IF(F95=\"\",\"\",VLOOKUP(F95,HM!$A$10:$B$209,2))","v":""}]
[null,null,{"$f":"IF(B96=\"\",\"\",VLOOKUP(B96,HM!$A$10:$B$209,2))","v":""},null,92,null,{"$f":"IF(F96=\"\",\"\",VLOOKUP(F96,HM!$A$10:$B$209,2))","v":""}]
[null,null,{"$f":"IF(B97=\"\",\"\",VLOOKUP(B97,HM!$A$10:$B$209,2))","v":""},null,93,null,{"$f":"IF(F97=\"\",\"\",VLOOKUP(F97,HM!$A$10:$B$209,2))","v":""}]
[null,null,{"$f":"IF(B98=\"\",\"\",VLOOKUP(B98,HM!$A$10:$B$209,2))","v":""},null,94,null,{"$f":"IF(F98=\"\",\"\",VLOOKUP(F98,HM!$A$10:$B$209,2))","v":""}]
[null,null,{"$f":"IF(B99=\"\",\"\",VLOOKUP(B99,HM!$A$10:$B$209,2))","v":""},null,95,null,{"$f":"IF(F99=\"\",\"\",VLOOKUP(F99,HM!$A$10:$B$209,2))","v":""}]
[null,null,{"$f":"IF(B100=\"\",\"\",VLOOKUP(B100,HM!$A$10:$B$209,2))","v":""},null,96,null,{"$f":"IF(F100=\"\",\"\",VLOOKUP(F100,HM!$A$10:$B$209,2))","v":""}]
[null,null,{"$f":"IF(B101=\"\",\"\",VLOOKUP(B101,HM!$A$10:$B$209,2))","v":""},null,97,null,{"$f":"IF(F101=\"\",\"\",VLOOKUP(F101,HM!$A$10:$B$209,2))","v":""}]
[null,null,{"$f":"IF(B102=\"\",\"\",VLOOKUP(B102,HM!$A$10:$B$209,2))","v":""},null,98,null,{"$f":"IF(F102=\"\",\"\",VLOOKUP(F102,HM!$A$10:$B$209,2))","v":""}]
[null,null,{"$f":"IF(B103=\"\",\"\",VLOOKUP(B103,HM!$A$10:$B$209,2))","v":""},null,99,null,{"$f":"IF(F103=\"\",\"\",VLOOKUP(F103,HM!$A$10:$B$209,2))","v":""}]
[null,null,{"$f":"IF(B104=\"\",\"\",VLOOKUP(B104,HM!$A$10:$B$209,2))","v":""},null,100,null,{"$f":"IF(F104=\"\",\"\",VLOOKUP(F104,HM!$A$10:$B$209,2))","v":""}]
[null,null,{"$f":"IF(B105=\"\",\"\",VLOOKUP(B105,HM!$A$10:$B$209,2))","v":""},null,101,null,{"$f":"IF(F105=\"\",\"\",VLOOKUP(F105,HM!$A$10:$B$209,2))","v":""}]
[null,null,{"$f":"IF(B106=\"\",\"\",VLOOKUP(B106,HM!$A$10:$B$209,2))","v":""},null,102,null,{"$f":"IF(F106=\"\",\"\",VLOOKUP(F106,HM!$A$10:$B$209,2))","v":""}]
[null,null,{"$f":"IF(B107=\"\",\"\",VLOOKUP(B107,HM!$A$10:$B$209,2))","v":""},null,103,null,{"$f":"IF(F107=\"\",\"\",VLOOKUP(F107,HM!$A$10:$B$209,2))","v":""}]
[null,null,{"$f":"IF(B108=\"\",\"\",VLOOKUP(B108,HM!$A$10:$B$209,2))","v":""},null,104,null,{"$f":"IF(F108=\"\",\"\",VLOOKUP(F108,HM!$A$10:$B$209,2))","v":""}]
[null,null,{"$f":"IF(B109=\"\",\"\",VLOOKUP(B109,HM!$A$10:$B$209,2))","v":""},null,105,null,{"$f":"IF(F109=\"\",\"\",VLOOKUP(F109,HM!$A$10:$B$209,2))","v":""}]
[null,null,{"$f":"IF(B110=\"\",\"\",VLOOKUP(B110,HM!$A$10:$B$209,2))","v":""},null,106,null,{"$f":"IF(F110=\"\",\"\",VLOOKUP(F110,HM!$A$10:$B$209,2))","v":""}]
[null,null,{"$f":"IF(B111=\"\",\"\",VLOOKUP(B111,HM!$A$10:$B$209,2))","v":""},null,107,null,{"$f":"IF(F111=\"\",\"\",VLOOKUP(F111,HM!$A$10:$B$209,2))","v":""}]
[null,null,{"$f":"IF(B112=\"\",\"\",VLOOKUP(B112,HM!$A$10:$B$209,2))","v":""},null,108,null,{"$f":"IF(F112=\"\",\"\",VLOOKUP(F112,HM!$A$10:$B$209,2))","v":""}]
[null,null,{"$f":"IF(B113=\"\",\"\",VLOOKUP(B113,HM!$A$10:$B$209,2))","v":""},null,109,null,{"$f":"IF(F113=\"\",\"\",VLOOKUP(F113,HM!$A$10:$B$209,2))","v":""}]
[null,null,{"$f":"IF(B114=\"\",\"\",VLOOKUP(B114,HM!$A$10:$B$209,2))","v":""},null,110,null,{"$f":"IF(F114=\"\",\"\",VLOOKUP(F114,HM!$A$10:$B$209,2))","v":""}]
[null,null,{"$f":"IF(B115=\"\",\"\",VLOOKUP(B115,HM!$A$10:$B$209,2))","v":""},null,111,null,{"$f":"IF(F115=\"\",\"\",VLOOKUP(F115,HM!$A$10:$B$209,2))","v":""}]
[null,null,{"$f":"IF(B116=\"\",\"\",VLOOKUP(B116,HM!$A$10:$B$209,2))","v":""},null,112,null,{"$f":"IF(F116=\"\",\"\",VLOOKUP(F116,HM!$A$10:$B$209,2))","v":""}]
[null,null,{"$f":"IF(B117=\"\",\"\",VLOOKUP(B117,HM!$A$10:$B$209,2))","v":""},null,113,null,{"$f":"IF(F117=\"\",\"\",VLOOKUP(F117,HM!$A$10:$B$209,2))","v":""}]
[null,null,{"$f":"IF(B118=\"\",\"\",VLOOKUP(B118,HM!$A$10:$B$209,2))","v":""},null,114,null,{"$f":"IF(F118=\"\",\"\",VLOOKUP(F118,HM!$A$10:$B$209,2))","v":""}]
[null,null,{"$f":"IF(B119=\"\",\"\",VLOOKUP(B119,HM!$A$10:$B$209,2))","v":""},null,115,null,{"$f":"IF(F119=\"\",\"\",VLOOKUP(F119,HM!$A$10:$B$209,2))","v":""}]
[null,null,{"$f":"IF(B120=\"\",\"\",VLOOKUP(B120,HM!$A$10:$B$209,2))","v":""},null,116,null,{"$f":"IF(F120=\"\",\"\",VLOOKUP(F120,HM!$A$10:$B$209,2))","v":""}]
[null,null,{"$f":"IF(B121=\"\",\"\",VLOOKUP(B121,HM!$A$10:$B$209,2))","v":""},null,117,null,{"$f":"IF(F121=\"\",\"\",VLOOKUP(F121,HM!$A$10:$B$209,2))","v":""}]
[null,null,{"$f":"IF(B122=\"\",\"\",VLOOKUP(B122,HM!$A$10:$B$209,2))","v":""},null,118,null,{"$f":"IF(F122=\"\",\"\",VLOOKUP(F122,HM!$A$10:$B$209,2))","v":""}]
[null,null,{"$f":"IF(B123=\"\",\"\",VLOOKUP(B123,HM!$A$10:$B$209,2))","v":""},null,119,null,{"$f":"IF(F123=\"\",\"\",VLOOKUP(F123,HM!$A$10:$B$209,2))","v":""}]
[null,null,{"$f":"IF(B124=\"\",\"\",VLOOKUP(B124,HM!$A$10:$B$209,2))","v":""},null,120,null,{"$f":"IF(F124=\"\",\"\",VLOOKUP(F124,HM!$A$10:$B$209,2))","v":""}]
[null,null,{"$f":"IF(B125=\"\",\"\",VLOOKUP(B125,HM!$A$10:$B$209,2))","v":""},null,121,null,{"$f":"IF(F125=\"\",\"\",VLOOKUP(F125,HM!$A$10:$B$209,2))","v":""}]
[null,null,{"$f":"IF(B126=\"\",\"\",VLOOKUP(B126,HM!$A$10:$B$209,2))","v":""},null,122,null,{"$f":"IF(F126=\"\",\"\",VLOOKUP(F126,HM!$A$10:$B$209,2))","v":""}]
[null,null,{"$f":"IF(B127=\"\",\"\",VLOOKUP(B127,HM!$A$10:$B$209,2))","v":""},null,123,null,{"$f":"IF(F127=\"\",\"\",VLOOKUP(F127,HM!$A$10:$B$209,2))","v":""}]
[null,null,{"$f":"IF(B128=\"\",\"\",VLOOKUP(B128,HM!$A$10:$B$209,2))","v":""},null,124,null,{"$f":"IF(F128=\"\",\"\",VLOOKUP(F128,HM!$A$10:$B$209,2))","v":""}]
[null,null,{"$f":"IF(B129=\"\",\"\",VLOOKUP(B129,HM!$A$10:$B$209,2))","v":""},null,125,null,{"$f":"IF(F129=\"\",\"\",VLOOKUP(F129,HM!$A$10:$B$209,2))","v":""}]
[null,null,{"$f":"IF(B130=\"\",\"\",VLOOKUP(B130,HM!$A$10:$B$209,2))","v":""},null,126,null,{"$f":"IF(F130=\"\",\"\",VLOOKUP(F130,HM!$A$10:$B$209,2))","v":""}]
[null,null,{"$f":"IF(B131=\"\",\"\",VLOOKUP(B131,HM!$A$10:$B$209,2))","v":""},null,127,null,{"$f":"IF(F131=\"\",\"\",VLOOKUP(F131,HM!$A$10:$B$209,2))","v":""}]
[null,null,{"$f":"IF(B132=\"\",\"\",VLOOKUP(B132,HM!$A$10:$B$209,2))","v":""},null,128,null,{"$f":"IF(F132=\"\",\"\",VLOOKUP(F132,HM!$A$10:$B$209,2))","v":""}]
[null,null,{"$f":"IF(B133=\"\",\"\",VLOOKUP(B133,HM!$A$10:$B$209,2))","v":""},null,129,null,{"$f":"IF(F133=\"\",\"\",VLOOKUP(F133,HM!$A$10:$B$209,2))","v":""}]
[null,null,{"$f":"IF(B134=\"\",\"\",VLOOKUP(B134,HM!$A$10:$B$209,2))","v":""},null,130,null,{"$f":"IF(F134=\"\",\"\",VLOOKUP(F134,HM!$A$10:$B$209,2))","v":""}]
[null,null,{"$f":"IF(B135=\"\",\"\",VLOOKUP(B135,HM!$A$10:$B$209,2))","v":""},null,131,null,{"$f":"IF(F135=\"\",\"\",VLOOKUP(F135,HM!$A$10:$B$209,2))","v":""}]
[null,null,{"$f":"IF(B136=\"\",\"\",VLOOKUP(B136,HM!$A$10:$B$209,2))","v":""},null,132,null,{"$f":"IF(F136=\"\",\"\",VLOOKUP(F136,HM!$A$10:$B$209,2))","v":""}]
[null,null,{"$f":"IF(B137=\"\",\"\",VLOOKUP(B137,HM!$A$10:$B$209,2))","v":""},null,133,null,{"$f":"IF(F137=\"\",\"\",VLOOKUP(F137,HM!$A$10:$B$209,2))","v":""}]
[null,null,{"$f":"IF(B138=\"\",\"\",VLOOKUP(B138,HM!$A$10:$B$209,2))","v":""},null,134,null,{"$f":"IF(F138=\"\",\"\",VLOOKUP(F138,HM!$A$10:$B$209,2))","v":""}]
[null,null,{"$f":"IF(B139=\"\",\"\",VLOOKUP(B139,HM!$A$10:$B$209,2))","v":""},null,135,null,{"$f":"IF(F139=\"\",\"\",VLOOKUP(F139,HM!$A$10:$B$209,2))","v":""}]
[null,null,{"$f":"IF(B140=\"\",\"\",VLOOKUP(B140,HM!$A$10:$B$209,2))","v":""},null,136,null,{"$f":"IF(F140=\"\",\"\",VLOOKUP(F140,HM!$A$10:$B$209,2))","v":""}]
[null,null,{"$f":"IF(B141=\"\",\"\",VLOOKUP(B141,HM!$A$10:$B$209,2))","v":""},null,137,null,{"$f":"IF(F141=\"\",\"\",VLOOKUP(F141,HM!$A$10:$B$209,2))","v":""}]
[null,null,{"$f":"IF(B142=\"\",\"\",VLOOKUP(B142,HM!$A$10:$B$209,2))","v":""},null,138,null,{"$f":"IF(F142=\"\",\"\",VLOOKUP(F142,HM!$A$10:$B$209,2))","v":""}]
[null,null,{"$f":"IF(B143=\"\",\"\",VLOOKUP(B143,HM!$A$10:$B$209,2))","v":""},null,139,null,{"$f":"IF(F143=\"\",\"\",VLOOKUP(F143,HM!$A$10:$B$209,2))","v":""}]
[null,null,{"$f":"IF(B144=\"\",\"\",VLOOKUP(B144,HM!$A$10:$B$209,2))","v":""},null,140,null,{"$f":"IF(F144=\"\",\"\",VLOOKUP(F144,HM!$A$10:$B$209,2))","v":""}]
[null,null,{"$f":"IF(B145=\"\",\"\",VLOOKUP(B145,HM!$A$10:$B$209,2))","v":""},null,141,null,{"$f":"IF(F145=\"\",\"\",VLOOKUP(F145,HM!$A$10:$B$209,2))","v":""}]
[null,null,{"$f":"IF(B146=\"\",\"\",VLOOKUP(B146,HM!$A$10:$B$209,2))","v":""},null,142,null,{"$f":"IF(F146=\"\",\"\",VLOOKUP(F146,HM!$A$10:$B$209,2))","v":""}]
[null,null,{"$f":"IF(B147=\"\",\"\",VLOOKUP(B147,HM!$A$10:$B$209,2))","v":""},null,143,null,{"$f":"IF(F147=\"\",\"\",VLOOKUP(F147,HM!$A$10:$B$209,2))","v":""}]
[null,null,{"$f":"IF(B148=\"\",\"\",VLOOKUP(B148,HM!$A$10:$B$209,2))","v":""},null,144,null,{"$f":"IF(F148=\"\",\"\",VLOOKUP(F148,HM!$A$10:$B$209,2))","v":""}]
[null,null,{"$f":"IF(B149=\"\",\"\",VLOOKUP(B149,HM!$A$10:$B$209,2))","v":""},null,145,null,{"$f":"IF(F149=\"\",\"\",VLOOKUP(F149,HM!$A$10:$B$209,2))","v":""}]
[null,null,{"$f":"IF(B150=\"\",\"\",VLOOKUP(B150,HM!$A$10:$B$209,2))","v":""},null,146,null,{"$f":"IF(F150=\"\",\"\",VLOOKUP(F150,HM!$A$10:$B$209,2))","v":""}]
[null,null,{"$f":"IF(B151=\"\",\"\",VLOOKUP(B151,HM!$A$10:$B$209,2))","v":""},null,147,null,{"$f":"IF(F151=\"\",\"\",VLOOKUP(F151,HM!$A$10:$B$209,2))","v":""}]
[null,null,{"$f":"IF(B152=\"\",\"\",VLOOKUP(B152,HM!$A$10:$B$209,2))","v":""},null,148,null,{"$f":"IF(F152=\"\",\"\",VLOOKUP(F152,HM!$A$10:$B$209,2))","v":""}]
[null,null,{"$f":"IF(B153=\"\",\"\",VLOOKUP(B153,HM!$A$10:$B$209,2))","v":""},null,149,null,{"$f":"IF(F153=\"\",\"\",VLOOKUP(F153,HM!$A$10:$B$209,2))","v":""}]
[null,null,{"$f":"IF(B154=\"\",\"\",VLOOKUP(B154,HM!$A$10:$B$209,2))","v":""},null,150,null,{"$f":"IF(F154=\"\",\"\",VLOOKUP(F154,HM!$A$10:$B$209,2))","v":""}]
[null,null,{"$f":"IF(B155=\"\",\"\",VLOOKUP(B155,HM!$A$10:$B$209,2))","v":""},null,151,null,{"$f":"IF(F155=\"\",\"\",VLOOKUP(F155,HM!$A$10:$B$209,2))","v":""}]
[null,null,{"$f":"IF(B156=\"\",\"\",VLOOKUP(B156,HM!$A$10:$B$209,2))","v":""},null,152,null,{"$f":"IF(F156=\"\",\"\",VLOOKUP(F156,HM!$A$10:$B$209,2))","v":""}]
[null,null,{"$f":"IF(B157=\"\",\"\",VLOOKUP(B157,HM!$A$10:$B$209,2))","v":""},null,153,null,{"$f":"IF(F157=\"\",\"\",VLOOKUP(F157,HM!$A$10:$B$209,2))","v":""}]
[null,null,{"$f":"IF(B158=\"\",\"\",VLOOKUP(B158,HM!$A$10:$B$209,2))","v":""},null,154,null,{"$f":"IF(F158=\"\",\"\",VLOOKUP(F158,HM!$A$10:$B$209,2))","v":""}]
[null,null,{"$f":"IF(B159=\"\",\"\",VLOOKUP(B159,HM!$A$10:$B$209,2))","v":""},null,155,null,{"$f":"IF(F159=\"\",\"\",VLOOKUP(F159,HM!$A$10:$B$209,2))","v":""}]
[null,null,{"$f":"IF(B160=\"\",\"\",VLOOKUP(B160,HM!$A$10:$B$209,2))","v":""},null,156,null,{"$f":"IF(F160=\"\",\"\",VLOOKUP(F160,HM!$A$10:$B$209,2))","v":""}]
[null,null,{"$f":"IF(B161=\"\",\"\",VLOOKUP(B161,HM!$A$10:$B$209,2))","v":""},null,157,null,{"$f":"IF(F161=\"\",\"\",VLOOKUP(F161,HM!$A$10:$B$209,2))","v":""}]
[null,null,{"$f":"IF(B162=\"\",\"\",VLOOKUP(B162,HM!$A$10:$B$209,2))","v":""},null,158,null,{"$f":"IF(F162=\"\",\"\",VLOOKUP(F162,HM!$A$10:$B$209,2))","v":""}]
[null,null,{"$f":"IF(B163=\"\",\"\",VLOOKUP(B163,HM!$A$10:$B$209,2))","v":""},null,159,null,{"$f":"IF(F163=\"\",\"\",VLOOKUP(F163,HM!$A$10:$B$209,2))","v":""}]
[null,null,{"$f":"IF(B164=\"\",\"\",VLOOKUP(B164,HM!$A$10:$B$209,2))","v":""},null,160,null,{"$f":"IF(F164=\"\",\"\",VLOOKUP(F164,HM!$A$10:$B$209,2))","v":""}]
[null,null,{"$f":"IF(B165=\"\",\"\",VLOOKUP(B165,HM!$A$10:$B$209,2))","v":""},null,161,null,{"$f":"IF(F165=\"\",\"\",VLOOKUP(F165,HM!$A$10:$B$209,2))","v":""}]
[null,null,{"$f":"IF(B166=\"\",\"\",VLOOKUP(B166,HM!$A$10:$B$209,2))","v":""},null,162,null,{"$f":"IF(F166=\"\",\"\",VLOOKUP(F166,HM!$A$10:$B$209,2))","v":""}]
[null,null,{"$f":"IF(B167=\"\",\"\",VLOOKUP(B167,HM!$A$10:$B$209,2))","v":""},null,163,null,{"$f":"IF(F167=\"\",\"\",VLOOKUP(F167,HM!$A$10:$B$209,2))","v":""}]
[null,null,{"$f":"IF(B168=\"\",\"\",VLOOKUP(B168,HM!$A$10:$B$209,2))","v":""},null,164,null,{"$f":"IF(F168=\"\",\"\",VLOOKUP(F168,HM!$A$10:$B$209,2))","v":""}]
[null,null,{"$f":"IF(B169=\"\",\"\",VLOOKUP(B169,HM!$A$10:$B$209,2))","v":""},null,165,null,{"$f":"IF(F169=\"\",\"\",VLOOKUP(F169,HM!$A$10:$B$209,2))","v":""}]
[null,null,{"$f":"IF(B170=\"\",\"\",VLOOKUP(B170,HM!$A$10:$B$209,2))","v":""},null,166,null,{"$f":"IF(F170=\"\",\"\",VLOOKUP(F170,HM!$A$10:$B$209,2))","v":""}]
[null,null,{"$f":"IF(B171=\"\",\"\",VLOOKUP(B171,HM!$A$10:$B$209,2))","v":""},null,167,null,{"$f":"IF(F171=\"\",\"\",VLOOKUP(F171,HM!$A$10:$B$209,2))","v":""}]
[null,null,{"$f":"IF(B172=\"\",\"\",VLOOKUP(B172,HM!$A$10:$B$209,2))","v":""},null,168,null,{"$f":"IF(F172=\"\",\"\",VLOOKUP(F172,HM!$A$10:$B$209,2))","v":""}]
[null,null,{"$f":"IF(B173=\"\",\"\",VLOOKUP(B173,HM!$A$10:$B$209,2))","v":""},null,169,null,{"$f":"IF(F173=\"\",\"\",VLOOKUP(F173,HM!$A$10:$B$209,2))","v":""}]
[null,null,{"$f":"IF(B174=\"\",\"\",VLOOKUP(B174,HM!$A$10:$B$209,2))","v":""},null,170,null,{"$f":"IF(F174=\"\",\"\",VLOOKUP(F174,HM!$A$10:$B$209,2))","v":""}]
[null,null,{"$f":"IF(B175=\"\",\"\",VLOOKUP(B175,HM!$A$10:$B$209,2))","v":""},null,171,null,{"$f":"IF(F175=\"\",\"\",VLOOKUP(F175,HM!$A$10:$B$209,2))","v":""}]
[null,null,{"$f":"IF(B176=\"\",\"\",VLOOKUP(B176,HM!$A$10:$B$209,2))","v":""},null,172,null,{"$f":"IF(F176=\"\",\"\",VLOOKUP(F176,HM!$A$10:$B$209,2))","v":""}]
[null,null,{"$f":"IF(B177=\"\",\"\",VLOOKUP(B177,HM!$A$10:$B$209,2))","v":""},null,173,null,{"$f":"IF(F177=\"\",\"\",VLOOKUP(F177,HM!$A$10:$B$209,2))","v":""}]
[null,null,{"$f":"IF(B178=\"\",\"\",VLOOKUP(B178,HM!$A$10:$B$209,2))","v":""},null,174,null,{"$f":"IF(F178=\"\",\"\",VLOOKUP(F178,HM!$A$10:$B$209,2))","v":""}]
[null,null,{"$f":"IF(B179=\"\",\"\",VLOOKUP(B179,HM!$A$10:$B$209,2))","v":""},null,175,null,{"$f":"IF(F179=\"\",\"\",VLOOKUP(F179,HM!$A$10:$B$209,2))","v":""}]
[null,null,{"$f":"IF(B180=\"\",\"\",VLOOKUP(B180,HM!$A$10:$B$209,2))","v":""},null,176,null,{"$f":"IF(F180=\"\",\"\",VLOOKUP(F180,HM!$A$10:$B$209,2))","v":""}]
[null,null,{"$f":"IF(B181=\"\",\"\",VLOOKUP(B181,HM!$A$10:$B$209,2))","v":""},null,177,null,{"$f":"IF(F181=\"\",\"\",VLOOKUP(F181,HM!$A$10:$B$209,2))","v":""}]
[null,null,{"$f":"IF(B182=\"\",\"\",VLOOKUP(B182,HM!$A$10:$B$209,2))","v":""},null,178,null,{"$f":"IF(F182=\"\",\"\",VLOOKUP(F182,HM!$A$10:$B$209,2))","v":""}]
[null,null,{"$f":"IF(B183=\"\",\"\",VLOOKUP(B183,HM!$A$10:$B$209,2))","v":""},null,179,null,{"$f":"IF(F183=\"\",\"\",VLOOKUP(F183,HM!$A$10:$B$209,2))","v":""}]
[null,null,{"$f":"IF(B184=\"\",\"\",VLOOKUP(B184,HM!$A$10:$B$209,2))","v":""},null,180,null,{"$f":"IF(F184=\"\",\"\",VLOOKUP(F184,HM!$A$10:$B$209,2))","v":""}]
[null,null,{"$f":"IF(B185=\"\",\"\",VLOOKUP(B185,HM!$A$10:$B$209,2))","v":""},null,181,null,{"$f":"IF(F185=\"\",\"\",VLOOKUP(F185,HM!$A$10:$B$209,2))","v":""}]
[null,null,{"$f":"IF(B186=\"\",\"\",VLOOKUP(B186,HM!$A$10:$B$209,2))","v":""},null,182,null,{"$f":"IF(F186=\"\",\"\",VLOOKUP(F186,HM!$A$10:$B$209,2))","v":""}]
[null,null,{"$f":"IF(B187=\"\",\"\",VLOOKUP(B187,HM!$A$10:$B$209,2))","v":""},null,183,null,{"$f":"IF(F187=\"\",\"\",VLOOKUP(F187,HM!$A$10:$B$209,2))","v":""}]
[null,null,{"$f":"IF(B188=\"\",\"\",VLOOKUP(B188,HM!$A$10:$B$209,2))","v":""},null,184,null,{"$f":"IF(F188=\"\",\"\",VLOOKUP(F188,HM!$A$10:$B$209,2))","v":""}]
[null,null,{"$f":"IF(B189=\"\",\"\",VLOOKUP(B189,HM!$A$10:$B$209,2))","v":""},null,185,null,{"$f":"IF(F189=\"\",\"\",VLOOKUP(F189,HM!$A$10:$B$209,2))","v":""}]
[null,null,{"$f":"IF(B190=\"\",\"\",VLOOKUP(B190,HM!$A$10:$B$209,2))","v":""},null,186,null,{"$f":"IF(F190=\"\",\"\",VLOOKUP(F190,HM!$A$10:$B$209,2))","v":""}]
[null,null,{"$f":"IF(B191=\"\",\"\",VLOOKUP(B191,HM!$A$10:$B$209,2))","v":""},null,187,null,{"$f":"IF(F191=\"\",\"\",VLOOKUP(F191,HM!$A$10:$B$209,2))","v":""}]
[null,null,{"$f":"IF(B192=\"\",\"\",VLOOKUP(B192,HM!$A$10:$B$209,2))","v":""},null,188,null,{"$f":"IF(F192=\"\",\"\",VLOOKUP(F192,HM!$A$10:$B$209,2))","v":""}]
[null,null,{"$f":"IF(B193=\"\",\"\",VLOOKUP(B193,HM!$A$10:$B$209,2))","v":""},null,189,null,{"$f":"IF(F193=\"\",\"\",VLOOKUP(F193,HM!$A$10:$B$209,2))","v":""}]
[null,null,{"$f":"IF(B194=\"\",\"\",VLOOKUP(B194,HM!$A$10:$B$209,2))","v":""},null,190,null,{"$f":"IF(F194=\"\",\"\",VLOOKUP(F194,HM!$A$10:$B$209,2))","v":""}]
[null,null,{"$f":"IF(B195=\"\",\"\",VLOOKUP(B195,HM!$A$10:$B$209,2))","v":""},null,191,null,{"$f":"IF(F195=\"\",\"\",VLOOKUP(F195,HM!$A$10:$B$209,2))","v":""}]
[null,null,{"$f":"IF(B196=\"\",\"\",VLOOKUP(B196,HM!$A$10:$B$209,2))","v":""},null,192,null,{"$f":"IF(F196=\"\",\"\",VLOOKUP(F196,HM!$A$10:$B$209,2))","v":""}]
[null,null,{"$f":"IF(B197=\"\",\"\",VLOOKUP(B197,HM!$A$10:$B$209,2))","v":""},null,193,null,{"$f":"IF(F197=\"\",\"\",VLOOKUP(F197,HM!$A$10:$B$209,2))","v":""}]
[null,null,{"$f":"IF(B198=\"\",\"\",VLOOKUP(B198,HM!$A$10:$B$209,2))","v":""},null,194,null,{"$f":"IF(F198=\"\",\"\",VLOOKUP(F198,HM!$A$10:$B$209,2))","v":""}]
[null,null,{"$f":"IF(B199=\"\",\"\",VLOOKUP(B199,HM!$A$10:$B$209,2))","v":""},null,195,null,{"$f":"IF(F199=\"\",\"\",VLOOKUP(F199,HM!$A$10:$B$209,2))","v":""}]
[null,null,{"$f":"IF(B200=\"\",\"\",VLOOKUP(B200,HM!$A$10:$B$209,2))","v":""},null,196,null,{"$f":"IF(F200=\"\",\"\",VLOOKUP(F200,HM!$A$10:$B$209,2))","v":""}]
[null,null,{"$f":"IF(B201=\"\",\"\",VLOOKUP(B201,HM!$A$10:$B$209,2))","v":""},null,197,null,{"$f":"IF(F201=\"\",\"\",VLOOKUP(F201,HM!$A$10:$B$209,2))","v":""}]
[null,null,{"$f":"IF(B202=\"\",\"\",VLOOKUP(B202,HM!$A$10:$B$209,2))","v":""},null,198,null,{"$f":"IF(F202=\"\",\"\",VLOOKUP(F202,HM!$A$10:$B$209,2))","v":""}]
[null,null,{"$f":"IF(B203=\"\",\"\",VLOOKUP(B203,HM!$A$10:$B$209,2))","v":""},null,199,null,{"$f":"IF(F203=\"\",\"\",VLOOKUP(F203,HM!$A$10:$B$209,2))","v":""}]
[null,null,{"$f":"IF(B204=\"\",\"\",VLOOKUP(B204,HM!$A$10:$B$209,2))","v":""},null,200,null,{"$f":"IF(F204=\"\",\"\",VLOOKUP(F204,HM!$A$10:$B$209,2))","v":""}]

{"sheet":"SE","index":3,"n_rows":204,"n_cols":10,"rows_kept":204,"cut":false,"hidden":false,"merged":[[2,1,2,4],[2,6,2,9]]}
[]
[]
[null,"KK",null,null,null,null,"LG"]
[null,"Lfd.\nNr.:","Vor- und Nachname:","Ringe:","schlechtester\nEinzelschuss",null,"Lfd.\nNr.:","Vor- und Nachname:","Ringe:","schlechtester\nEinzelschuss"]
[null,null,{"$f":"IF(B5=\"\",\"\",VLOOKUP(B5,HM!$A$10:$B$209,2))","v":""},null,null,1,null,{"$f":"IF(G5=\"\",\"\",VLOOKUP(G5,HM!$A$10:$B$209,2))","v":""}]
[null,null,{"$f":"IF(B6=\"\",\"\",VLOOKUP(B6,HM!$A$10:$B$209,2))","v":""},null,null,2,null,{"$f":"IF(G6=\"\",\"\",VLOOKUP(G6,HM!$A$10:$B$209,2))","v":""}]
[null,null,{"$f":"IF(B7=\"\",\"\",VLOOKUP(B7,HM!$A$10:$B$209,2))","v":""},null,null,3,null,{"$f":"IF(G7=\"\",\"\",VLOOKUP(G7,HM!$A$10:$B$209,2))","v":""}]
[null,null,{"$f":"IF(B8=\"\",\"\",VLOOKUP(B8,HM!$A$10:$B$209,2))","v":""},null,null,4,null,{"$f":"IF(G8=\"\",\"\",VLOOKUP(G8,HM!$A$10:$B$209,2))","v":""}]
[null,null,{"$f":"IF(B9=\"\",\"\",VLOOKUP(B9,HM!$A$10:$B$209,2))","v":""},null,null,5,null,{"$f":"IF(G9=\"\",\"\",VLOOKUP(G9,HM!$A$10:$B$209,2))","v":""}]
[null,null,{"$f":"IF(B10=\"\",\"\",VLOOKUP(B10,HM!$A$10:$B$209,2))","v":""},null,null,6,null,{"$f":"IF(G10=\"\",\"\",VLOOKUP(G10,HM!$A$10:$B$209,2))","v":""}]
[null,null,{"$f":"IF(B11=\"\",\"\",VLOOKUP(B11,HM!$A$10:$B$209,2))","v":""},null,null,7,null,{"$f":"IF(G11=\"\",\"\",VLOOKUP(G11,HM!$A$10:$B$209,2))","v":""}]
[null,null,{"$f":"IF(B12=\"\",\"\",VLOOKUP(B12,HM!$A$10:$B$209,2))","v":""},null,null,8,null,{"$f":"IF(G12=\"\",\"\",VLOOKUP(G12,HM!$A$10:$B$209,2))","v":""}]
[null,null,{"$f":"IF(B13=\"\",\"\",VLOOKUP(B13,HM!$A$10:$B$209,2))","v":""},null,null,9,null,{"$f":"IF(G13=\"\",\"\",VLOOKUP(G13,HM!$A$10:$B$209,2))","v":""}]
[null,null,{"$f":"IF(B14=\"\",\"\",VLOOKUP(B14,HM!$A$10:$B$209,2))","v":""},null,null,10,null,{"$f":"IF(G14=\"\",\"\",VLOOKUP(G14,HM!$A$10:$B$209,2))","v":""}]
[null,null,{"$f":"IF(B15=\"\",\"\",VLOOKUP(B15,HM!$A$10:$B$209,2))","v":""},null,null,11,null,{"$f":"IF(G15=\"\",\"\",VLOOKUP(G15,HM!$A$10:$B$209,2))","v":""}]
[null,null,{"$f":"IF(B16=\"\",\"\",VLOOKUP(B16,HM!$A$10:$B$209,2))","v":""},null,null,12,null,{"$f":"IF(G16=\"\",\"\",VLOOKUP(G16,HM!$A$10:$B$209,2))","v":""}]
[null,null,{"$f":"IF(B17=\"\",\"\",VLOOKUP(B17,HM!$A$10:$B$209,2))","v":""},null,null,13,null,{"$f":"IF(G17=\"\",\"\",VLOOKUP(G17,HM!$A$10:$B$209,2))","v":""}]
[null,null,{"$f":"IF(B18=\"\",\"\",VLOOKUP(B18,HM!$A$10:$B$209,2))","v":""},null,null,14,null,{"$f":"IF(G18=\"\",\"\",VLOOKUP(G18,HM!$A$10:$B$209,2))","v":""}]
[null,null,{"$f":"IF(B19=\"\",\"\",VLOOKUP(B19,HM!$A$10:$B$209,2))","v":""},null,null,15,null,{"$f":"IF(G19=\"\",\"\",VLOOKUP(G19,HM!$A$10:$B$209,2))","v":""}]
[null,null,{"$f":"IF(B20=\"\",\"\",VLOOKUP(B20,HM!$A$10:$B$209,2))","v":""},null,null,16,null,{"$f":"IF(G20=\"\",\"\",VLOOKUP(G20,HM!$A$10:$B$209,2))","v":""}]
[null,null,{"$f":"IF(B21=\"\",\"\",VLOOKUP(B21,HM!$A$10:$B$209,2))","v":""},null,null,17,null,{"$f":"IF(G21=\"\",\"\",VLOOKUP(G21,HM!$A$10:$B$209,2))","v":""}]
[null,null,{"$f":"IF(B22=\"\",\"\",VLOOKUP(B22,HM!$A$10:$B$209,2))","v":""},null,null,18,null,{"$f":"IF(G22=\"\",\"\",VLOOKUP(G22,HM!$A$10:$B$209,2))","v":""}]
[null,null,{"$f":"IF(B23=\"\",\"\",VLOOKUP(B23,HM!$A$10:$B$209,2))","v":""},null,null,19,null,{"$f":"IF(G23=\"\",\"\",VLOOKUP(G23,HM!$A$10:$B$209,2))","v":""}]
[null,null,{"$f":"IF(B24=\"\",\"\",VLOOKUP(B24,HM!$A$10:$B$209,2))","v":""},null,null,20,null,{"$f":"IF(G24=\"\",\"\",VLOOKUP(G24,HM!$A$10:$B$209,2))","v":""}]
[null,null,{"$f":"IF(B25=\"\",\"\",VLOOKUP(B25,HM!$A$10:$B$209,2))","v":""},null,null,21,null,{"$f":"IF(G25=\"\",\"\",VLOOKUP(G25,HM!$A$10:$B$209,2))","v":""}]
[null,null,{"$f":"IF(B26=\"\",\"\",VLOOKUP(B26,HM!$A$10:$B$209,2))","v":""},null,null,22,null,{"$f":"IF(G26=\"\",\"\",VLOOKUP(G26,HM!$A$10:$B$209,2))","v":""}]
[null,null,{"$f":"IF(B27=\"\",\"\",VLOOKUP(B27,HM!$A$10:$B$209,2))","v":""},null,null,23,null,{"$f":"IF(G27=\"\",\"\",VLOOKUP(G27,HM!$A$10:$B$209,2))","v":""}]
[null,null,{"$f":"IF(B28=\"\",\"\",VLOOKUP(B28,HM!$A$10:$B$209,2))","v":""},null,null,24,null,{"$f":"IF(G28=\"\",\"\",VLOOKUP(G28,HM!$A$10:$B$209,2))","v":""}]
[null,null,{"$f":"IF(B29=\"\",\"\",VLOOKUP(B29,HM!$A$10:$B$209,2))","v":""},null,null,25,null,{"$f":"IF(G29=\"\",\"\",VLOOKUP(G29,HM!$A$10:$B$209,2))","v":""}]
[null,null,{"$f":"IF(B30=\"\",\"\",VLOOKUP(B30,HM!$A$10:$B$209,2))","v":""},null,null,26,null,{"$f":"IF(G30=\"\",\"\",VLOOKUP(G30,HM!$A$10:$B$209,2))","v":""}]
[null,null,{"$f":"IF(B31=\"\",\"\",VLOOKUP(B31,HM!$A$10:$B$209,2))","v":""},null,null,27,null,{"$f":"IF(G31=\"\",\"\",VLOOKUP(G31,HM!$A$10:$B$209,2))","v":""}]
[null,null,{"$f":"IF(B32=\"\",\"\",VLOOKUP(B32,HM!$A$10:$B$209,2))","v":""},null,null,28,null,{"$f":"IF(G32=\"\",\"\",VLOOKUP(G32,HM!$A$10:$B$209,2))","v":""}]
[null,null,{"$f":"IF(B33=\"\",\"\",VLOOKUP(B33,HM!$A$10:$B$209,2))","v":""},null,null,29,null,{"$f":"IF(G33=\"\",\"\",VLOOKUP(G33,HM!$A$10:$B$209,2))","v":""}]
[null,null,{"$f":"IF(B34=\"\",\"\",VLOOKUP(B34,HM!$A$10:$B$209,2))","v":""},null,null,30,null,{"$f":"IF(G34=\"\",\"\",VLOOKUP(G34,HM!$A$10:$B$209,2))","v":""}]
[null,null,{"$f":"IF(B35=\"\",\"\",VLOOKUP(B35,HM!$A$10:$B$209,2))","v":""},null,null,31,null,{"$f":"IF(G35=\"\",\"\",VLOOKUP(G35,HM!$A$10:$B$209,2))","v":""}]
[null,null,{"$f":"IF(B36=\"\",\"\",VLOOKUP(B36,HM!$A$10:$B$209,2))","v":""},null,null,32,null,{"$f":"IF(G36=\"\",\"\",VLOOKUP(G36,HM!$A$10:$B$209,2))","v":""}]
[null,null,{"$f":"IF(B37=\"\",\"\",VLOOKUP(B37,HM!$A$10:$B$209,2))","v":""},null,null,33,null,{"$f":"IF(G37=\"\",\"\",VLOOKUP(G37,HM!$A$10:$B$209,2))","v":""}]
[null,null,{"$f":"IF(B38=\"\",\"\",VLOOKUP(B38,HM!$A$10:$B$209,2))","v":""},null,null,34,null,{"$f":"IF(G38=\"\",\"\",VLOOKUP(G38,HM!$A$10:$B$209,2))","v":""}]
[null,null,{"$f":"IF(B39=\"\",\"\",VLOOKUP(B39,HM!$A$10:$B$209,2))","v":""},null,null,35,null,{"$f":"IF(G39=\"\",\"\",VLOOKUP(G39,HM!$A$10:$B$209,2))","v":""}]
[null,null,{"$f":"IF(B40=\"\",\"\",VLOOKUP(B40,HM!$A$10:$B$209,2))","v":""},null,null,36,null,{"$f":"IF(G40=\"\",\"\",VLOOKUP(G40,HM!$A$10:$B$209,2))","v":""}]
[null,null,{"$f":"IF(B41=\"\",\"\",VLOOKUP(B41,HM!$A$10:$B$209,2))","v":""},null,null,37,null,{"$f":"IF(G41=\"\",\"\",VLOOKUP(G41,HM!$A$10:$B$209,2))","v":""}]
[null,null,{"$f":"IF(B42=\"\",\"\",VLOOKUP(B42,HM!$A$10:$B$209,2))","v":""},null,null,38,null,{"$f":"IF(G42=\"\",\"\",VLOOKUP(G42,HM!$A$10:$B$209,2))","v":""}]
[null,null,{"$f":"IF(B43=\"\",\"\",VLOOKUP(B43,HM!$A$10:$B$209,2))","v":""},null,null,39,null,{"$f":"IF(G43=\"\",\"\",VLOOKUP(G43,HM!$A$10:$B$209,2))","v":""}]
[null,null,{"$f":"IF(B44=\"\",\"\",VLOOKUP(B44,HM!$A$10:$B$209,2))","v":""},null,null,40,null,{"$f":"IF(G44=\"\",\"\",VLOOKUP(G44,HM!$A$10:$B$209,2))","v":""}]
[null,null,{"$f":"IF(B45=\"\",\"\",VLOOKUP(B45,HM!$A$10:$B$209,2))","v":""},null,null,41,null,{"$f":"IF(G45=\"\",\"\",VLOOKUP(G45,HM!$A$10:$B$209,2))","v":""}]
[null,null,{"$f":"IF(B46=\"\",\"\",VLOOKUP(B46,HM!$A$10:$B$209,2))","v":""},null,null,42,null,{"$f":"IF(G46=\"\",\"\",VLOOKUP(G46,HM!$A$10:$B$209,2))","v":""}]
[null,null,{"$f":"IF(B47=\"\",\"\",VLOOKUP(B47,HM!$A$10:$B$209,2))","v":""},null,null,43,null,{"$f":"IF(G47=\"\",\"\",VLOOKUP(G47,HM!$A$10:$B$209,2))","v":""}]
[null,null,{"$f":"IF(B48=\"\",\"\",VLOOKUP(B48,HM!$A$10:$B$209,2))","v":""},null,null,44,null,{"$f":"IF(G48=\"\",\"\",VLOOKUP(G48,HM!$A$10:$B$209,2))","v":""}]
[null,null,{"$f":"IF(B49=\"\",\"\",VLOOKUP(B49,HM!$A$10:$B$209,2))","v":""},null,null,45,null,{"$f":"IF(G49=\"\",\"\",VLOOKUP(G49,HM!$A$10:$B$209,2))","v":""}]
[null,null,{"$f":"IF(B50=\"\",\"\",VLOOKUP(B50,HM!$A$10:$B$209,2))","v":""},null,null,46,null,{"$f":"IF(G50=\"\",\"\",VLOOKUP(G50,HM!$A$10:$B$209,2))","v":""}]
[null,null,{"$f":"IF(B51=\"\",\"\",VLOOKUP(B51,HM!$A$10:$B$209,2))","v":""},null,null,47,null,{"$f":"IF(G51=\"\",\"\",VLOOKUP(G51,HM!$A$10:$B$209,2))","v":""}]
[null,null,{"$f":"IF(B52=\"\",\"\",VLOOKUP(B52,HM!$A$10:$B$209,2))","v":""},null,null,48,null,{"$f":"IF(G52=\"\",\"\",VLOOKUP(G52,HM!$A$10:$B$209,2))","v":""}]
[null,null,{"$f":"IF(B53=\"\",\"\",VLOOKUP(B53,HM!$A$10:$B$209,2))","v":""},null,null,49,null,{"$f":"IF(G53=\"\",\"\",VLOOKUP(G53,HM!$A$10:$B$209,2))","v":""}]
[null,null,{"$f":"IF(B54=\"\",\"\",VLOOKUP(B54,HM!$A$10:$B$209,2))","v":""},null,null,50,null,{"$f":"IF(G54=\"\",\"\",VLOOKUP(G54,HM!$A$10:$B$209,2))","v":""}]
[null,null,{"$f":"IF(B55=\"\",\"\",VLOOKUP(B55,HM!$A$10:$B$209,2))","v":""},null,null,51,null,{"$f":"IF(G55=\"\",\"\",VLOOKUP(G55,HM!$A$10:$B$209,2))","v":""}]
[null,null,{"$f":"IF(B56=\"\",\"\",VLOOKUP(B56,HM!$A$10:$B$209,2))","v":""},null,null,52,null,{"$f":"IF(G56=\"\",\"\",VLOOKUP(G56,HM!$A$10:$B$209,2))","v":""}]
[null,null,{"$f":"IF(B57=\"\",\"\",VLOOKUP(B57,HM!$A$10:$B$209,2))","v":""},null,null,53,null,{"$f":"IF(G57=\"\",\"\",VLOOKUP(G57,HM!$A$10:$B$209,2))","v":""}]
[null,null,{"$f":"IF(B58=\"\",\"\",VLOOKUP(B58,HM!$A$10:$B$209,2))","v":""},null,null,54,null,{"$f":"IF(G58=\"\",\"\",VLOOKUP(G58,HM!$A$10:$B$209,2))","v":""}]
[null,null,{"$f":"IF(B59=\"\",\"\",VLOOKUP(B59,HM!$A$10:$B$209,2))","v":""},null,null,55,null,{"$f":"IF(G59=\"\",\"\",VLOOKUP(G59,HM!$A$10:$B$209,2))","v":""}]
[null,null,{"$f":"IF(B60=\"\",\"\",VLOOKUP(B60,HM!$A$10:$B$209,2))","v":""},null,null,56,null,{"$f":"IF(G60=\"\",\"\",VLOOKUP(G60,HM!$A$10:$B$209,2))","v":""}]
[null,null,{"$f":"IF(B61=\"\",\"\",VLOOKUP(B61,HM!$A$10:$B$209,2))","v":""},null,null,57,null,{"$f":"IF(G61=\"\",\"\",VLOOKUP(G61,HM!$A$10:$B$209,2))","v":""}]
[null,null,{"$f":"IF(B62=\"\",\"\",VLOOKUP(B62,HM!$A$10:$B$209,2))","v":""},null,null,58,null,{"$f":"IF(G62=\"\",\"\",VLOOKUP(G62,HM!$A$10:$B$209,2))","v":""}]
[null,null,{"$f":"IF(B63=\"\",\"\",VLOOKUP(B63,HM!$A$10:$B$209,2))","v":""},null,null,59,null,{"$f":"IF(G63=\"\",\"\",VLOOKUP(G63,HM!$A$10:$B$209,2))","v":""}]
[null,null,{"$f":"IF(B64=\"\",\"\",VLOOKUP(B64,HM!$A$10:$B$209,2))","v":""},null,null,60,null,{"$f":"IF(G64=\"\",\"\",VLOOKUP(G64,HM!$A$10:$B$209,2))","v":""}]
[null,null,{"$f":"IF(B65=\"\",\"\",VLOOKUP(B65,HM!$A$10:$B$209,2))","v":""},null,null,61,null,{"$f":"IF(G65=\"\",\"\",VLOOKUP(G65,HM!$A$10:$B$209,2))","v":""}]
[null,null,{"$f":"IF(B66=\"\",\"\",VLOOKUP(B66,HM!$A$10:$B$209,2))","v":""},null,null,62,null,{"$f":"IF(G66=\"\",\"\",VLOOKUP(G66,HM!$A$10:$B$209,2))","v":""}]
[null,null,{"$f":"IF(B67=\"\",\"\",VLOOKUP(B67,HM!$A$10:$B$209,2))","v":""},null,null,63,null,{"$f":"IF(G67=\"\",\"\",VLOOKUP(G67,HM!$A$10:$B$209,2))","v":""}]
[null,null,{"$f":"IF(B68=\"\",\"\",VLOOKUP(B68,HM!$A$10:$B$209,2))","v":""},null,null,64,null,{"$f":"IF(G68=\"\",\"\",VLOOKUP(G68,HM!$A$10:$B$209,2))","v":""}]
[null,null,{"$f":"IF(B69=\"\",\"\",VLOOKUP(B69,HM!$A$10:$B$209,2))","v":""},null,null,65,null,{"$f":"IF(G69=\"\",\"\",VLOOKUP(G69,HM!$A$10:$B$209,2))","v":""}]
[null,null,{"$f":"IF(B70=\"\",\"\",VLOOKUP(B70,HM!$A$10:$B$209,2))","v":""},null,null,66,null,{"$f":"IF(G70=\"\",\"\",VLOOKUP(G70,HM!$A$10:$B$209,2))","v":""}]
[null,null,{"$f":"IF(B71=\"\",\"\",VLOOKUP(B71,HM!$A$10:$B$209,2))","v":""},null,null,67,null,{"$f":"IF(G71=\"\",\"\",VLOOKUP(G71,HM!$A$10:$B$209,2))","v":""}]
[null,null,{"$f":"IF(B72=\"\",\"\",VLOOKUP(B72,HM!$A$10:$B$209,2))","v":""},null,null,68,null,{"$f":"IF(G72=\"\",\"\",VLOOKUP(G72,HM!$A$10:$B$209,2))","v":""}]
[null,null,{"$f":"IF(B73=\"\",\"\",VLOOKUP(B73,HM!$A$10:$B$209,2))","v":""},null,null,69,null,{"$f":"IF(G73=\"\",\"\",VLOOKUP(G73,HM!$A$10:$B$209,2))","v":""}]
[null,null,{"$f":"IF(B74=\"\",\"\",VLOOKUP(B74,HM!$A$10:$B$209,2))","v":""},null,null,70,null,{"$f":"IF(G74=\"\",\"\",VLOOKUP(G74,HM!$A$10:$B$209,2))","v":""}]
[null,null,{"$f":"IF(B75=\"\",\"\",VLOOKUP(B75,HM!$A$10:$B$209,2))","v":""},null,null,71,null,{"$f":"IF(G75=\"\",\"\",VLOOKUP(G75,HM!$A$10:$B$209,2))","v":""}]
[null,null,{"$f":"IF(B76=\"\",\"\",VLOOKUP(B76,HM!$A$10:$B$209,2))","v":""},null,null,72,null,{"$f":"IF(G76=\"\",\"\",VLOOKUP(G76,HM!$A$10:$B$209,2))","v":""}]
[null,null,{"$f":"IF(B77=\"\",\"\",VLOOKUP(B77,HM!$A$10:$B$209,2))","v":""},null,null,73,null,{"$f":"IF(G77=\"\",\"\",VLOOKUP(G77,HM!$A$10:$B$209,2))","v":""}]
[null,null,{"$f":"IF(B78=\"\",\"\",VLOOKUP(B78,HM!$A$10:$B$209,2))","v":""},null,null,74,null,{"$f":"IF(G78=\"\",\"\",VLOOKUP(G78,HM!$A$10:$B$209,2))","v":""}]
[null,null,{"$f":"IF(B79=\"\",\"\",VLOOKUP(B79,HM!$A$10:$B$209,2))","v":""},null,null,75,null,{"$f":"IF(G79=\"\",\"\",VLOOKUP(G79,HM!$A$10:$B$209,2))","v":""}]
[null,null,{"$f":"IF(B80=\"\",\"\",VLOOKUP(B80,HM!$A$10:$B$209,2))","v":""},null,null,76,null,{"$f":"IF(G80=\"\",\"\",VLOOKUP(G80,HM!$A$10:$B$209,2))","v":""}]
[null,null,{"$f":"IF(B81=\"\",\"\",VLOOKUP(B81,HM!$A$10:$B$209,2))","v":""},null,null,77,null,{"$f":"IF(G81=\"\",\"\",VLOOKUP(G81,HM!$A$10:$B$209,2))","v":""}]
[null,null,{"$f":"IF(B82=\"\",\"\",VLOOKUP(B82,HM!$A$10:$B$209,2))","v":""},null,null,78,null,{"$f":"IF(G82=\"\",\"\",VLOOKUP(G82,HM!$A$10:$B$209,2))","v":""}]
[null,null,{"$f":"IF(B83=\"\",\"\",VLOOKUP(B83,HM!$A$10:$B$209,2))","v":""},null,null,79,null,{"$f":"IF(G83=\"\",\"\",VLOOKUP(G83,HM!$A$10:$B$209,2))","v":""}]
[null,null,{"$f":"IF(B84=\"\",\"\",VLOOKUP(B84,HM!$A$10:$B$209,2))","v":""},null,null,80,null,{"$f":"IF(G84=\"\",\"\",VLOOKUP(G84,HM!$A$10:$B$209,2))","v":""}]
[null,null,{"$f":"IF(B85=\"\",\"\",VLOOKUP(B85,HM!$A$10:$B$209,2))","v":""},null,null,81,null,{"$f":"IF(G85=\"\",\"\",VLOOKUP(G85,HM!$A$10:$B$209,2))","v":""}]
[null,null,{"$f":"IF(B86=\"\",\"\",VLOOKUP(B86,HM!$A$10:$B$209,2))","v":""},null,null,82,null,{"$f":"IF(G86=\"\",\"\",VLOOKUP(G86,HM!$A$10:$B$209,2))","v":""}]
[null,null,{"$f":"IF(B87=\"\",\"\",VLOOKUP(B87,HM!$A$10:$B$209,2))","v":""},null,null,83,null,{"$f":"IF(G87=\"\",\"\",VLOOKUP(G87,HM!$A$10:$B$209,2))","v":""}]
[null,null,{"$f":"IF(B88=\"\",\"\",VLOOKUP(B88,HM!$A$10:$B$209,2))","v":""},null,null,84,null,{"$f":"IF(G88=\"\",\"\",VLOOKUP(G88,HM!$A$10:$B$209,2))","v":""}]
[null,null,{"$f":"IF(B89=\"\",\"\",VLOOKUP(B89,HM!$A$10:$B$209,2))","v":""},null,null,85,null,{"$f":"IF(G89=\"\",\"\",VLOOKUP(G89,HM!$A$10:$B$209,2))","v":""}]
[null,null,{"$f":"IF(B90=\"\",\"\",VLOOKUP(B90,HM!$A$10:$B$209,2))","v":""},null,null,86,null,{"$f":"IF(G90=\"\",\"\",VLOOKUP(G90,HM!$A$10:$B$209,2))","v":""}]
[null,null,{"$f":"IF(B91=\"\",\"\",VLOOKUP(B91,HM!$A$10:$B$209,2))","v":""},null,null,87,null,{"$f":"IF(G91=\"\",\"\",VLOOKUP(G91,HM!$A$10:$B$209,2))","v":""}]
[null,null,{"$f":"IF(B92=\"\",\"\",VLOOKUP(B92,HM!$A$10:$B$209,2))","v":""},null,null,88,null,{"$f":"IF(G92=\"\",\"\",VLOOKUP(G92,HM!$A$10:$B$209,2))","v":""}]
[null,null,{"$f":"IF(B93=\"\",\"\",VLOOKUP(B93,HM!$A$10:$B$209,2))","v":""},null,null,89,null,{"$f":"IF(G93=\"\",\"\",VLOOKUP(G93,HM!$A$10:$B$209,2))","v":""}]
[null,null,{"$f":"IF(B94=\"\",\"\",VLOOKUP(B94,HM!$A$10:$B$209,2))","v":""},null,null,90,null,{"$f":"IF(G94=\"\",\"\",VLOOKUP(G94,HM!$A$10:$B$209,2))","v":""}]
[null,null,{"$f":"IF(B95=\"\",\"\",VLOOKUP(B95,HM!$A$10:$B$209,2))","v":""},null,null,91,null,{"$f":"IF(G95=\"\",\"\",VLOOKUP(G95,HM!$A$10:$B$209,2))","v":""}]
[null,null,{"$f":"IF(B96=\"\",\"\",VLOOKUP(B96,HM!$A$10:$B$209,2))","v":""},null,null,92,null,{"$f":"IF(G96=\"\",\"\",VLOOKUP(G96,HM!$A$10:$B$209,2))","v":""}]
[null,null,{"$f":"IF(B97=\"\",\"\",VLOOKUP(B97,HM!$A$10:$B$209,2))","v":""},null,null,93,null,{"$f":"IF(G97=\"\",\"\",VLOOKUP(G97,HM!$A$10:$B$209,2))","v":""}]
[null,null,{"$f":"IF(B98=\"\",\"\",VLOOKUP(B98,HM!$A$10:$B$209,2))","v":""},null,null,94,null,{"$f":"IF(G98=\"\",\"\",VLOOKUP(G98,HM!$A$10:$B$209,2))","v":""}]
[null,null,{"$f":"IF(B99=\"\",\"\",VLOOKUP(B99,HM!$A$10:$B$209,2))","v":""},null,null,95,null,{"$f":"IF(G99=\"\",\"\",VLOOKUP(G99,HM!$A$10:$B$209,2))","v":""}]
[null,null,{"$f":"IF(B100=\"\",\"\",VLOOKUP(B100,HM!$A$10:$B$209,2))","v":""},null,null,96,null,{"$f":"IF(G100=\"\",\"\",VLOOKUP(G100,HM!$A$10:$B$209,2))","v":""}]
[null,null,{"$f":"IF(B101=\"\",\"\",VLOOKUP(B101,HM!$A$10:$B$209,2))","v":""},null,null,97,null,{"$f":"IF(G101=\"\",\"\",VLOOKUP(G101,HM!$A$10:$B$209,2))","v":""}]
[null,null,{"$f":"IF(B102=\"\",\"\",VLOOKUP(B102,HM!$A$10:$B$209,2))","v":""},null,null,98,null,{"$f":"IF(G102=\"\",\"\",VLOOKUP(G102,HM!$A$10:$B$209,2))","v":""}]
[null,null,{"$f":"IF(B103=\"\",\"\",VLOOKUP(B103,HM!$A$10:$B$209,2))","v":""},null,null,99,null,{"$f":"IF(G103=\"\",\"\",VLOOKUP(G103,HM!$A$10:$B$209,2))","v":""}]
[null,null,{"$f":"IF(B104=\"\",\"\",VLOOKUP(B104,HM!$A$10:$B$209,2))","v":""},null,null,100,null,{"$f":"IF(G104=\"\",\"\",VLOOKUP(G104,HM!$A$10:$B$209,2))","v":""}]
[null,null,{"$f":"IF(B105=\"\",\"\",VLOOKUP(B105,HM!$A$10:$B$209,2))","v":""},null,null,101,null,{"$f":"IF(G105=\"\",\"\",VLOOKUP(G105,HM!$A$10:$B$209,2))","v":""}]
[null,null,{"$f":"IF(B106=\"\",\"\",VLOOKUP(B106,HM!$A$10:$B$209,2))","v":""},null,null,102,null,{"$f":"IF(G106=\"\",\"\",VLOOKUP(G106,HM!$A$10:$B$209,2))","v":""}]
[null,null,{"$f":"IF(B107=\"\",\"\",VLOOKUP(B107,HM!$A$10:$B$209,2))","v":""},null,null,103,null,{"$f":"IF(G107=\"\",\"\",VLOOKUP(G107,HM!$A$10:$B$209,2))","v":""}]
[null,null,{"$f":"IF(B108=\"\",\"\",VLOOKUP(B108,HM!$A$10:$B$209,2))","v":""},null,null,104,null,{"$f":"IF(G108=\"\",\"\",VLOOKUP(G108,HM!$A$10:$B$209,2))","v":""}]
[null,null,{"$f":"IF(B109=\"\",\"\",VLOOKUP(B109,HM!$A$10:$B$209,2))","v":""},null,null,105,null,{"$f":"IF(G109=\"\",\"\",VLOOKUP(G109,HM!$A$10:$B$209,2))","v":""}]
[null,null,{"$f":"IF(B110=\"\",\"\",VLOOKUP(B110,HM!$A$10:$B$209,2))","v":""},null,null,106,null,{"$f":"IF(G110=\"\",\"\",VLOOKUP(G110,HM!$A$10:$B$209,2))","v":""}]
[null,null,{"$f":"IF(B111=\"\",\"\",VLOOKUP(B111,HM!$A$10:$B$209,2))","v":""},null,null,107,null,{"$f":"IF(G111=\"\",\"\",VLOOKUP(G111,HM!$A$10:$B$209,2))","v":""}]
[null,null,{"$f":"IF(B112=\"\",\"\",VLOOKUP(B112,HM!$A$10:$B$209,2))","v":""},null,null,108,null,{"$f":"IF(G112=\"\",\"\",VLOOKUP(G112,HM!$A$10:$B$209,2))","v":""}]
[null,null,{"$f":"IF(B113=\"\",\"\",VLOOKUP(B113,HM!$A$10:$B$209,2))","v":""},null,null,109,null,{"$f":"IF(G113=\"\",\"\",VLOOKUP(G113,HM!$A$10:$B$209,2))","v":""}]
[null,null,{"$f":"IF(B114=\"\",\"\",VLOOKUP(B114,HM!$A$10:$B$209,2))","v":""},null,null,110,null,{"$f":"IF(G114=\"\",\"\",VLOOKUP(G114,HM!$A$10:$B$209,2))","v":""}]
[null,null,{"$f":"IF(B115=\"\",\"\",VLOOKUP(B115,HM!$A$10:$B$209,2))","v":""},null,null,111,null,{"$f":"IF(G115=\"\",\"\",VLOOKUP(G115,HM!$A$10:$B$209,2))","v":""}]
[null,null,{"$f":"IF(B116=\"\",\"\",VLOOKUP(B116,HM!$A$10:$B$209,2))","v":""},null,null,112,null,{"$f":"IF(G116=\"\",\"\",VLOOKUP(G116,HM!$A$10:$B$209,2))","v":""}]
[null,null,{"$f":"IF(B117=\"\",\"\",VLOOKUP(B117,HM!$A$10:$B$209,2))","v":""},null,null,113,null,{"$f":"IF(G117=\"\",\"\",VLOOKUP(G117,HM!$A$10:$B$209,2))","v":""}]
[null,null,{"$f":"IF(B118=\"\",\"\",VLOOKUP(B118,HM!$A$10:$B$209,2))","v":""},null,null,114,null,{"$f":"IF(G118=\"\",\"\",VLOOKUP(G118,HM!$A$10:$B$209,2))","v":""}]
[null,null,{"$f":"IF(B119=\"\",\"\",VLOOKUP(B119,HM!$A$10:$B$209,2))","v":""},null,null,115,null,{"$f":"IF(G119=\"\",\"\",VLOOKUP(G119,HM!$A$10:$B$209,2))","v":""}]
[null,null,{"$f":"IF(B120=\"\",\"\",VLOOKUP(B120,HM!$A$10:$B$209,2))","v":""},null,null,116,null,{"$f":"IF(G120=\"\",\"\",VLOOKUP(G120,HM!$A$10:$B$209,2))","v":""}]
[null,null,{"$f":"IF(B121=\"\",\"\",VLOOKUP(B121,HM!$A$10:$B$209,2))","v":""},null,null,117,null,{"$f":"IF(G121=\"\",\"\",VLOOKUP(G121,HM!$A$10:$B$209,2))","v":""}]
[null,null,{"$f":"IF(B122=\"\",\"\",VLOOKUP(B122,HM!$A$10:$B$209,2))","v":""},null,null,118,null,{"$f":"IF(G122=\"\",\"\",VLOOKUP(G122,HM!$A$10:$B$209,2))","v":""}]
[null,null,{"$f":"IF(B123=\"\",\"\",VLOOKUP(B123,HM!$A$10:$B$209,2))","v":""},null,null,119,null,{"$f":"IF(G123=\"\",\"\",VLOOKUP(G123,HM!$A$10:$B$209,2))","v":""}]
[null,null,{"$f":"IF(B124=\"\",\"\",VLOOKUP(B124,HM!$A$10:$B$209,2))","v":""},null,null,120,null,{"$f":"IF(G124=\"\",\"\",VLOOKUP(G124,HM!$A$10:$B$209,2))","v":""}]
[null,null,{"$f":"IF(B125=\"\",\"\",VLOOKUP(B125,HM!$A$10:$B$209,2))","v":""},null,null,121,null,{"$f":"IF(G125=\"\",\"\",VLOOKUP(G125,HM!$A$10:$B$209,2))","v":""}]
[null,null,{"$f":"IF(B126=\"\",\"\",VLOOKUP(B126,HM!$A$10:$B$209,2))","v":""},null,null,122,null,{"$f":"IF(G126=\"\",\"\",VLOOKUP(G126,HM!$A$10:$B$209,2))","v":""}]
[null,null,{"$f":"IF(B127=\"\",\"\",VLOOKUP(B127,HM!$A$10:$B$209,2))","v":""},null,null,123,null,{"$f":"IF(G127=\"\",\"\",VLOOKUP(G127,HM!$A$10:$B$209,2))","v":""}]
[null,null,{"$f":"IF(B128=\"\",\"\",VLOOKUP(B128,HM!$A$10:$B$209,2))","v":""},null,null,124,null,{"$f":"IF(G128=\"\",\"\",VLOOKUP(G128,HM!$A$10:$B$209,2))","v":""}]
[null,null,{"$f":"IF(B129=\"\",\"\",VLOOKUP(B129,HM!$A$10:$B$209,2))","v":""},null,null,125,null,{"$f":"IF(G129=\"\",\"\",VLOOKUP(G129,HM!$A$10:$B$209,2))","v":""}]
[null,null,{"$f":"IF(B130=\"\",\"\",VLOOKUP(B130,HM!$A$10:$B$209,2))","v":""},null,null,126,null,{"$f":"IF(G130=\"\",\"\",VLOOKUP(G130,HM!$A$10:$B$209,2))","v":""}]
[null,null,{"$f":"IF(B131=\"\",\"\",VLOOKUP(B131,HM!$A$10:$B$209,2))","v":""},null,null,127,null,{"$f":"IF(G131=\"\",\"\",VLOOKUP(G131,HM!$A$10:$B$209,2))","v":""}]
[null,null,{"$f":"IF(B132=\"\",\"\",VLOOKUP(B132,HM!$A$10:$B$209,2))","v":""},null,null,128,null,{"$f":"IF(G132=\"\",\"\",VLOOKUP(G132,HM!$A$10:$B$209,2))","v":""}]
[null,null,{"$f":"IF(B133=\"\",\"\",VLOOKUP(B133,HM!$A$10:$B$209,2))","v":""},null,null,129,null,{"$f":"IF(G133=\"\",\"\",VLOOKUP(G133,HM!$A$10:$B$209,2))","v":""}]
[null,null,{"$f":"IF(B134=\"\",\"\",VLOOKUP(B134,HM!$A$10:$B$209,2))","v":""},null,null,130,null,{"$f":"IF(G134=\"\",\"\",VLOOKUP(G134,HM!$A$10:$B$209,2))","v":""}]
[null,null,{"$f":"IF(B135=\"\",\"\",VLOOKUP(B135,HM!$A$10:$B$209,2))","v":""},null,null,131,null,{"$f":"IF(G135=\"\",\"\",VLOOKUP(G135,HM!$A$10:$B$209,2))","v":""}]
[null,null,{"$f":"IF(B136=\"\",\"\",VLOOKUP(B136,HM!$A$10:$B$209,2))","v":""},null,null,132,null,{"$f":"IF(G136=\"\",\"\",VLOOKUP(G136,HM!$A$10:$B$209,2))","v":""}]
[null,null,{"$f":"IF(B137=\"\",\"\",VLOOKUP(B137,HM!$A$10:$B$209,2))","v":""},null,null,133,null,{"$f":"IF(G137=\"\",\"\",VLOOKUP(G137,HM!$A$10:$B$209,2))","v":""}]
[null,null,{"$f":"IF(B138=\"\",\"\",VLOOKUP(B138,HM!$A$10:$B$209,2))","v":""},null,null,134,null,{"$f":"IF(G138=\"\",\"\",VLOOKUP(G138,HM!$A$10:$B$209,2))","v":""}]
[null,null,{"$f":"IF(B139=\"\",\"\",VLOOKUP(B139,HM!$A$10:$B$209,2))","v":""},null,null,135,null,{"$f":"IF(G139=\"\",\"\",VLOOKUP(G139,HM!$A$10:$B$209,2))","v":""}]
[null,null,{"$f":"IF(B140=\"\",\"\",VLOOKUP(B140,HM!$A$10:$B$209,2))","v":""},null,null,136,null,{"$f":"IF(G140=\"\",\"\",VLOOKUP(G140,HM!$A$10:$B$209,2))","v":""}]
[null,null,{"$f":"IF(B141=\"\",\"\",VLOOKUP(B141,HM!$A$10:$B$209,2))","v":""},null,null,137,null,{"$f":"IF(G141=\"\",\"\",VLOOKUP(G141,HM!$A$10:$B$209,2))","v":""}]
[null,null,{"$f":"IF(B142=\"\",\"\",VLOOKUP(B142,HM!$A$10:$B$209,2))","v":""},null,null,138,null,{"$f":"IF(G142=\"\",\"\",VLOOKUP(G142,HM!$A$10:$B$209,2))","v":""}]
[null,null,{"$f":"IF(B143=\"\",\"\",VLOOKUP(B143,HM!$A$10:$B$209,2))","v":""},null,null,139,null,{"$f":"IF(G143=\"\",\"\",VLOOKUP(G143,HM!$A$10:$B$209,2))","v":""}]
[null,null,{"$f":"IF(B144=\"\",\"\",VLOOKUP(B144,HM!$A$10:$B$209,2))","v":""},null,null,140,null,{"$f":"IF(G144=\"\",\"\",VLOOKUP(G144,HM!$A$10:$B$209,2))","v":""}]
[null,null,{"$f":"IF(B145=\"\",\"\",VLOOKUP(B145,HM!$A$10:$B$209,2))","v":""},null,null,141,null,{"$f":"IF(G145=\"\",\"\",VLOOKUP(G145,HM!$A$10:$B$209,2))","v":""}]
[null,null,{"$f":"IF(B146=\"\",\"\",VLOOKUP(B146,HM!$A$10:$B$209,2))","v":""},null,null,142,null,{"$f":"IF(G146=\"\",\"\",VLOOKUP(G146,HM!$A$10:$B$209,2))","v":""}]
[null,null,{"$f":"IF(B147=\"\",\"\",VLOOKUP(B147,HM!$A$10:$B$209,2))","v":""},null,null,143,null,{"$f":"IF(G147=\"\",\"\",VLOOKUP(G147,HM!$A$10:$B$209,2))","v":""}]
[null,null,{"$f":"IF(B148=\"\",\"\",VLOOKUP(B148,HM!$A$10:$B$209,2))","v":""},null,null,144,null,{"$f":"IF(G148=\"\",\"\",VLOOKUP(G148,HM!$A$10:$B$209,2))","v":""}]
[null,null,{"$f":"IF(B149=\"\",\"\",VLOOKUP(B149,HM!$A$10:$B$209,2))","v":""},null,null,145,null,{"$f":"IF(G149=\"\",\"\",VLOOKUP(G149,HM!$A$10:$B$209,2))","v":""}]
[null,null,{"$f":"IF(B150=\"\",\"\",VLOOKUP(B150,HM!$A$10:$B$209,2))","v":""},null,null,146,null,{"$f":"IF(G150=\"\",\"\",VLOOKUP(G150,HM!$A$10:$B$209,2))","v":""}]
[null,null,{"$f":"IF(B151=\"\",\"\",VLOOKUP(B151,HM!$A$10:$B$209,2))","v":""},null,null,147,null,{"$f":"IF(G151=\"\",\"\",VLOOKUP(G151,HM!$A$10:$B$209,2))","v":""}]
[null,null,{"$f":"IF(B152=\"\",\"\",VLOOKUP(B152,HM!$A$10:$B$209,2))","v":""},null,null,148,null,{"$f":"IF(G152=\"\",\"\",VLOOKUP(G152,HM!$A$10:$B$209,2))","v":""}]
[null,null,{"$f":"IF(B153=\"\",\"\",VLOOKUP(B153,HM!$A$10:$B$209,2))","v":""},null,null,149,null,{"$f":"IF(G153=\"\",\"\",VLOOKUP(G153,HM!$A$10:$B$209,2))","v":""}]
[null,null,{"$f":"IF(B154=\"\",\"\",VLOOKUP(B154,HM!$A$10:$B$209,2))","v":""},null,null,150,null,{"$f":"IF(G154=\"\",\"\",VLOOKUP(G154,HM!$A$10:$B$209,2))","v":""}]
[null,null,{"$f":"IF(B155=\"\",\"\",VLOOKUP(B155,HM!$A$10:$B$209,2))","v":""},null,null,151,null,{"$f":"IF(G155=\"\",\"\",VLOOKUP(G155,HM!$A$10:$B$209,2))","v":""}]
[null,null,{"$f":"IF(B156=\"\",\"\",VLOOKUP(B156,HM!$A$10:$B$209,2))","v":""},null,null,152,null,{"$f":"IF(G156=\"\",\"\",VLOOKUP(G156,HM!$A$10:$B$209,2))","v":""}]
[null,null,{"$f":"IF(B157=\"\",\"\",VLOOKUP(B157,HM!$A$10:$B$209,2))","v":""},null,null,153,null,{"$f":"IF(G157=\"\",\"\",VLOOKUP(G157,HM!$A$10:$B$209,2))","v":""}]
[null,null,{"$f":"IF(B158=\"\",\"\",VLOOKUP(B158,HM!$A$10:$B$209,2))","v":""},null,null,154,null,{"$f":"IF(G158=\"\",\"\",VLOOKUP(G158,HM!$A$10:$B$209,2))","v":""}]
[null,null,{"$f":"IF(B159=\"\",\"\",VLOOKUP(B159,HM!$A$10:$B$209,2))","v":""},null,null,155,null,{"$f":"IF(G159=\"\",\"\",VLOOKUP(G159,HM!$A$10:$B$209,2))","v":""}]
[null,null,{"$f":"IF(B160=\"\",\"\",VLOOKUP(B160,HM!$A$10:$B$209,2))","v":""},null,null,156,null,{"$f":"IF(G160=\"\",\"\",VLOOKUP(G160,HM!$A$10:$B$209,2))","v":""}]
[null,null,{"$f":"IF(B161=\"\",\"\",VLOOKUP(B161,HM!$A$10:$B$209,2))","v":""},null,null,157,null,{"$f":"IF(G161=\"\",\"\",VLOOKUP(G161,HM!$A$10:$B$209,2))","v":""}]
[null,null,{"$f":"IF(B162=\"\",\"\",VLOOKUP(B162,HM!$A$10:$B$209,2))","v":""},null,null,158,null,{"$f":"IF(G162=\"\",\"\",VLOOKUP(G162,HM!$A$10:$B$209,2))","v":""}]
[null,null,{"$f":"IF(B163=\"\",\"\",VLOOKUP(B163,HM!$A$10:$B$209,2))","v":""},null,null,159,null,{"$f":"IF(G163=\"\",\"\",VLOOKUP(G163,HM!$A$10:$B$209,2))","v":""}]
[null,null,{"$f":"IF(B164=\"\",\"\",VLOOKUP(B164,HM!$A$10:$B$209,2))","v":""},null,null,160,null,{"$f":"IF(G164=\"\",\"\",VLOOKUP(G164,HM!$A$10:$B$209,2))","v":""}]
[null,null,{"$f":"IF(B165=\"\",\"\",VLOOKUP(B165,HM!$A$10:$B$209,2))","v":""},null,null,161,null,{"$f":"IF(G165=\"\",\"\",VLOOKUP(G165,HM!$A$10:$B$209,2))","v":""}]
[null,null,{"$f":"IF(B166=\"\",\"\",VLOOKUP(B166,HM!$A$10:$B$209,2))","v":""},null,null,162,null,{"$f":"IF(G166=\"\",\"\",VLOOKUP(G166,HM!$A$10:$B$209,2))","v":""}]
[null,null,{"$f":"IF(B167=\"\",\"\",VLOOKUP(B167,HM!$A$10:$B$209,2))","v":""},null,null,163,null,{"$f":"IF(G167=\"\",\"\",VLOOKUP(G167,HM!$A$10:$B$209,2))","v":""}]
[null,null,{"$f":"IF(B168=\"\",\"\",VLOOKUP(B168,HM!$A$10:$B$209,2))","v":""},null,null,164,null,{"$f":"IF(G168=\"\",\"\",VLOOKUP(G168,HM!$A$10:$B$209,2))","v":""}]
[null,null,{"$f":"IF(B169=\"\",\"\",VLOOKUP(B169,HM!$A$10:$B$209,2))","v":""},null,null,165,null,{"$f":"IF(G169=\"\",\"\",VLOOKUP(G169,HM!$A$10:$B$209,2))","v":""}]
[null,null,{"$f":"IF(B170=\"\",\"\",VLOOKUP(B170,HM!$A$10:$B$209,2))","v":""},null,null,166,null,{"$f":"IF(G170=\"\",\"\",VLOOKUP(G170,HM!$A$10:$B$209,2))","v":""}]
[null,null,{"$f":"IF(B171=\"\",\"\",VLOOKUP(B171,HM!$A$10:$B$209,2))","v":""},null,null,167,null,{"$f":"IF(G171=\"\",\"\",VLOOKUP(G171,HM!$A$10:$B$209,2))","v":""}]
[null,null,{"$f":"IF(B172=\"\",\"\",VLOOKUP(B172,HM!$A$10:$B$209,2))","v":""},null,null,168,null,{"$f":"IF(G172=\"\",\"\",VLOOKUP(G172,HM!$A$10:$B$209,2))","v":""}]
[null,null,{"$f":"IF(B173=\"\",\"\",VLOOKUP(B173,HM!$A$10:$B$209,2))","v":""},null,null,169,null,{"$f":"IF(G173=\"\",\"\",VLOOKUP(G173,HM!$A$10:$B$209,2))","v":""}]
[null,null,{"$f":"IF(B174=\"\",\"\",VLOOKUP(B174,HM!$A$10:$B$209,2))","v":""},null,null,170,null,{"$f":"IF(G174=\"\",\"\",VLOOKUP(G174,HM!$A$10:$B$209,2))","v":""}]
[null,null,{"$f":"IF(B175=\"\",\"\",VLOOKUP(B175,HM!$A$10:$B$209,2))","v":""},null,null,171,null,{"$f":"IF(G175=\"\",\"\",VLOOKUP(G175,HM!$A$10:$B$209,2))","v":""}]
[null,null,{"$f":"IF(B176=\"\",\"\",VLOOKUP(B176,HM!$A$10:$B$209,2))","v":""},null,null,172,null,{"$f":"IF(G176=\"\",\"\",VLOOKUP(G176,HM!$A$10:$B$209,2))","v":""}]
[null,null,{"$f":"IF(B177=\"\",\"\",VLOOKUP(B177,HM!$A$10:$B$209,2))","v":""},null,null,173,null,{"$f":"IF(G177=\"\",\"\",VLOOKUP(G177,HM!$A$10:$B$209,2))","v":""}]
[null,null,{"$f":"IF(B178=\"\",\"\",VLOOKUP(B178,HM!$A$10:$B$209,2))","v":""},null,null,174,null,{"$f":"IF(G178=\"\",\"\",VLOOKUP(G178,HM!$A$10:$B$209,2))","v":""}]
[null,null,{"$f":"IF(B179=\"\",\"\",VLOOKUP(B179,HM!$A$10:$B$209,2))","v":""},null,null,175,null,{"$f":"IF(G179=\"\",\"\",VLOOKUP(G179,HM!$A$10:$B$209,2))","v":""}]
[null,null,{"$f":"IF(B180=\"\",\"\",VLOOKUP(B180,HM!$A$10:$B$209,2))","v":""},null,null,176,null,{"$f":"IF(G180=\"\",\"\",VLOOKUP(G180,HM!$A$10:$B$209,2))","v":""}]
[null,null,{"$f":"IF(B181=\"\",\"\",VLOOKUP(B181,HM!$A$10:$B$209,2))","v":""},null,null,177,null,{"$f":"IF(G181=\"\",\"\",VLOOKUP(G181,HM!$A$10:$B$209,2))","v":""}]
[null,null,{"$f":"IF(B182=\"\",\"\",VLOOKUP(B182,HM!$A$10:$B$209,2))","v":""},null,null,178,null,{"$f":"IF(G182=\"\",\"\",VLOOKUP(G182,HM!$A$10:$B$209,2))","v":""}]
[null,null,{"$f":"IF(B183=\"\",\"\",VLOOKUP(B183,HM!$A$10:$B$209,2))","v":""},null,null,179,null,{"$f":"IF(G183=\"\",\"\",VLOOKUP(G183,HM!$A$10:$B$209,2))","v":""}]
[null,null,{"$f":"IF(B184=\"\",\"\",VLOOKUP(B184,HM!$A$10:$B$209,2))","v":""},null,null,180,null,{"$f":"IF(G184=\"\",\"\",VLOOKUP(G184,HM!$A$10:$B$209,2))","v":""}]
[null,null,{"$f":"IF(B185=\"\",\"\",VLOOKUP(B185,HM!$A$10:$B$209,2))","v":""},null,null,181,null,{"$f":"IF(G185=\"\",\"\",VLOOKUP(G185,HM!$A$10:$B$209,2))","v":""}]
[null,null,{"$f":"IF(B186=\"\",\"\",VLOOKUP(B186,HM!$A$10:$B$209,2))","v":""},null,null,182,null,{"$f":"IF(G186=\"\",\"\",VLOOKUP(G186,HM!$A$10:$B$209,2))","v":""}]
[null,null,{"$f":"IF(B187=\"\",\"\",VLOOKUP(B187,HM!$A$10:$B$209,2))","v":""},null,null,183,null,{"$f":"IF(G187=\"\",\"\",VLOOKUP(G187,HM!$A$10:$B$209,2))","v":""}]
[null,null,{"$f":"IF(B188=\"\",\"\",VLOOKUP(B188,HM!$A$10:$B$209,2))","v":""},null,null,184,null,{"$f":"IF(G188=\"\",\"\",VLOOKUP(G188,HM!$A$10:$B$209,2))","v":""}]
[null,null,{"$f":"IF(B189=\"\",\"\",VLOOKUP(B189,HM!$A$10:$B$209,2))","v":""},null,null,185,null,{"$f":"IF(G189=\"\",\"\",VLOOKUP(G189,HM!$A$10:$B$209,2))","v":""}]
[null,null,{"$f":"IF(B190=\"\",\"\",VLOOKUP(B190,HM!$A$10:$B$209,2))","v":""},null,null,186,null,{"$f":"IF(G190=\"\",\"\",VLOOKUP(G190,HM!$A$10:$B$209,2))","v":""}]
[null,null,{"$f":"IF(B191=\"\",\"\",VLOOKUP(B191,HM!$A$10:$B$209,2))","v":""},null,null,187,null,{"$f":"IF(G191=\"\",\"\",VLOOKUP(G191,HM!$A$10:$B$209,2))","v":""}]
[null,null,{"$f":"IF(B192=\"\",\"\",VLOOKUP(B192,HM!$A$10:$B$209,2))","v":""},null,null,188,null,{"$f":"IF(G192=\"\",\"\",VLOOKUP(G192,HM!$A$10:$B$209,2))","v":""}]
[null,null,{"$f":"IF(B193=\"\",\"\",VLOOKUP(B193,HM!$A$10:$B$209,2))","v":""},null,null,189,null,{"$f":"IF(G193=\"\",\"\",VLOOKUP(G193,HM!$A$10:$B$209,2))","v":""}]
[null,null,{"$f":"IF(B194=\"\",\"\",VLOOKUP(B194,HM!$A$10:$B$209,2))","v":""},null,null,190,null,{"$f":"IF(G194=\"\",\"\",VLOOKUP(G194,HM!$A$10:$B$209,2))","v":""}]
[null,null,{"$f":"IF(B195=\"\",\"\",VLOOKUP(B195,HM!$A$10:$B$209,2))","v":""},null,null,191,null,{"$f":"IF(G195=\"\",\"\",VLOOKUP(G195,HM!$A$10:$B$209,2))","v":""}]
[null,null,{"$f":"IF(B196=\"\",\"\",VLOOKUP(B196,HM!$A$10:$B$209,2))","v":""},null,null,192,null,{"$f":"IF(G196=\"\",\"\",VLOOKUP(G196,HM!$A$10:$B$209,2))","v":""}]
[null,null,{"$f":"IF(B197=\"\",\"\",VLOOKUP(B197,HM!$A$10:$B$209,2))","v":""},null,null,193,null,{"$f":"IF(G197=\"\",\"\",VLOOKUP(G197,HM!$A$10:$B$209,2))","v":""}]
[null,null,{"$f":"IF(B198=\"\",\"\",VLOOKUP(B198,HM!$A$10:$B$209,2))","v":""},null,null,194,null,{"$f":"IF(G198=\"\",\"\",VLOOKUP(G198,HM!$A$10:$B$209,2))","v":""}]
[null,null,{"$f":"IF(B199=\"\",\"\",VLOOKUP(B199,HM!$A$10:$B$209,2))","v":""},null,null,195,null,{"$f":"IF(G199=\"\",\"\",VLOOKUP(G199,HM!$A$10:$B$209,2))","v":""}]
[null,null,{"$f":"IF(B200=\"\",\"\",VLOOKUP(B200,HM!$A$10:$B$209,2))","v":""},null,null,196,null,{"$f":"IF(G200=\"\",\"\",VLOOKUP(G200,HM!$A$10:$B$209,2))","v":""}]
[null,null,{"$f":"IF(B201=\"\",\"\",VLOOKUP(B201,HM!$A$10:$B$209,2))","v":""},null,null,197,null,{"$f":"IF(G201=\"\",\"\",VLOOKUP(G201,HM!$A$10:$B$209,2))","v":""}]
[null,null,{"$f":"IF(B202=\"\",\"\",VLOOKUP(B202,HM!$A$10:$B$209,2))","v":""},null,null,198,null,{"$f":"IF(G202=\"\",\"\",VLOOKUP(G202,HM!$A$10:$B$209,2))","v":""}]
[null,null,{"$f":"IF(B203=\"\",\"\",VLOOKUP(B203,HM!$A$10:$B$209,2))","v":""},null,null,199,null,{"$f":"IF(G203=\"\",\"\",VLOOKUP(G203,HM!$A$10:$B$209,2))","v":""}]
[null,null,{"$f":"IF(B204=\"\",\"\",VLOOKUP(B204,HM!$A$10:$B$209,2))","v":""},null,null,200,null,{"$f":"IF(G204=\"\",\"\",VLOOKUP(G204,HM!$A$10:$B$209,2))","v":""}]

{"sheet":"BSP","index":4,"n_rows":204,"n_cols":8,"rows_kept":204,"cut":false,"hidden":false,"merged":[[2,1,2,3],[2,5,2,7]]}
[]
[]
[null,"Bundesorden",null,null,null,"Sollepokal"]
[null,"Lfd. Nr.:","Vor- und Nachname:","Teiler:",null,"Lfd. Nr.:","Vor- und Nachname:","Teiler"]
[null,null,{"$f":"IF(B5=\"\",\"\",VLOOKUP(B5,HM!$A$10:$B$209,2))","v":""},null,1,null,{"$f":"IF(F5=\"\",\"\",VLOOKUP(F5,HM!$A$10:$B$209,2))","v":""}]
[null,null,{"$f":"IF(B6=\"\",\"\",VLOOKUP(B6,HM!$A$10:$B$209,2))","v":""},null,2,null,{"$f":"IF(F6=\"\",\"\",VLOOKUP(F6,HM!$A$10:$B$209,2))","v":""}]
[null,null,{"$f":"IF(B7=\"\",\"\",VLOOKUP(B7,HM!$A$10:$B$209,2))","v":""},null,3,null,{"$f":"IF(F7=\"\",\"\",VLOOKUP(F7,HM!$A$10:$B$209,2))","v":""}]
[null,null,{"$f":"IF(B8=\"\",\"\",VLOOKUP(B8,HM!$A$10:$B$209,2))","v":""},null,4,null,{"$f":"IF(F8=\"\",\"\",VLOOKUP(F8,HM!$A$10:$B$209,2))","v":""}]
[null,null,{"$f":"IF(B9=\"\",\"\",VLOOKUP(B9,HM!$A$10:$B$209,2))","v":""},null,5,null,{"$f":"IF(F9=\"\",\"\",VLOOKUP(F9,HM!$A$10:$B$209,2))","v":""}]
[null,null,{"$f":"IF(B10=\"\",\"\",VLOOKUP(B10,HM!$A$10:$B$209,2))","v":""},null,6,null,{"$f":"IF(F10=\"\",\"\",VLOOKUP(F10,HM!$A$10:$B$209,2))","v":""}]
[null,null,{"$f":"IF(B11=\"\",\"\",VLOOKUP(B11,HM!$A$10:$B$209,2))","v":""},null,7,null,{"$f":"IF(F11=\"\",\"\",VLOOKUP(F11,HM!$A$10:$B$209,2))","v":""}]
[null,null,{"$f":"IF(B12=\"\",\"\",VLOOKUP(B12,HM!$A$10:$B$209,2))","v":""},null,8,null,{"$f":"IF(F12=\"\",\"\",VLOOKUP(F12,HM!$A$10:$B$209,2))","v":""}]
[null,null,{"$f":"IF(B13=\"\",\"\",VLOOKUP(B13,HM!$A$10:$B$209,2))","v":""},null,9,null,{"$f":"IF(F13=\"\",\"\",VLOOKUP(F13,HM!$A$10:$B$209,2))","v":""}]
[null,null,{"$f":"IF(B14=\"\",\"\",VLOOKUP(B14,HM!$A$10:$B$209,2))","v":""},null,10,null,{"$f":"IF(F14=\"\",\"\",VLOOKUP(F14,HM!$A$10:$B$209,2))","v":""}]
[null,null,{"$f":"IF(B15=\"\",\"\",VLOOKUP(B15,HM!$A$10:$B$209,2))","v":""},null,11,null,{"$f":"IF(F15=\"\",\"\",VLOOKUP(F15,HM!$A$10:$B$209,2))","v":""}]
[null,null,{"$f":"IF(B16=\"\",\"\",VLOOKUP(B16,HM!$A$10:$B$209,2))","v":""},null,12,null,{"$f":"IF(F16=\"\",\"\",VLOOKUP(F16,HM!$A$10:$B$209,2))","v":""}]
[null,null,{"$f":"IF(B17=\"\",\"\",VLOOKUP(B17,HM!$A$10:$B$209,2))","v":""},null,13,null,{"$f":"IF(F17=\"\",\"\",VLOOKUP(F17,HM!$A$10:$B$209,2))","v":""}]
[null,null,{"$f":"IF(B18=\"\",\"\",VLOOKUP(B18,HM!$A$10:$B$209,2))","v":""},null,14,null,{"$f":"IF(F18=\"\",\"\",VLOOKUP(F18,HM!$A$10:$B$209,2))","v":""}]
[null,null,{"$f":"IF(B19=\"\",\"\",VLOOKUP(B19,HM!$A$10:$B$209,2))","v":""},null,15,null,{"$f":"IF(F19=\"\",\"\",VLOOKUP(F19,HM!$A$10:$B$209,2))","v":""}]
[null,null,{"$f":"IF(B20=\"\",\"\",VLOOKUP(B20,HM!$A$10:$B$209,2))","v":""},null,16,null,{"$f":"IF(F20=\"\",\"\",VLOOKUP(F20,HM!$A$10:$B$209,2))","v":""}]
[null,null,{"$f":"IF(B21=\"\",\"\",VLOOKUP(B21,HM!$A$10:$B$209,2))","v":""},null,17,null,{"$f":"IF(F21=\"\",\"\",VLOOKUP(F21,HM!$A$10:$B$209,2))","v":""}]
[null,null,{"$f":"IF(B22=\"\",\"\",VLOOKUP(B22,HM!$A$10:$B$209,2))","v":""},null,18,null,{"$f":"IF(F22=\"\",\"\",VLOOKUP(F22,HM!$A$10:$B$209,2))","v":""}]
[null,null,{"$f":"IF(B23=\"\",\"\",VLOOKUP(B23,HM!$A$10:$B$209,2))","v":""},null,19,null,{"$f":"IF(F23=\"\",\"\",VLOOKUP(F23,HM!$A$10:$B$209,2))","v":""}]
[null,null,{"$f":"IF(B24=\"\",\"\",VLOOKUP(B24,HM!$A$10:$B$209,2))","v":""},null,20,null,{"$f":"IF(F24=\"\",\"\",VLOOKUP(F24,HM!$A$10:$B$209,2))","v":""}]
[null,null,{"$f":"IF(B25=\"\",\"\",VLOOKUP(B25,HM!$A$10:$B$209,2))","v":""},null,21,null,{"$f":"IF(F25=\"\",\"\",VLOOKUP(F25,HM!$A$10:$B$209,2))","v":""}]
[null,null,{"$f":"IF(B26=\"\",\"\",VLOOKUP(B26,HM!$A$10:$B$209,2))","v":""},null,22,null,{"$f":"IF(F26=\"\",\"\",VLOOKUP(F26,HM!$A$10:$B$209,2))","v":""}]
[null,null,{"$f":"IF(B27=\"\",\"\",VLOOKUP(B27,HM!$A$10:$B$209,2))","v":""},null,23,null,{"$f":"IF(F27=\"\",\"\",VLOOKUP(F27,HM!$A$10:$B$209,2))","v":""}]
[null,null,{"$f":"IF(B28=\"\",\"\",VLOOKUP(B28,HM!$A$10:$B$209,2))","v":""},null,24,null,{"$f":"IF(F28=\"\",\"\",VLOOKUP(F28,HM!$A$10:$B$209,2))","v":""}]
[null,null,{"$f":"IF(B29=\"\",\"\",VLOOKUP(B29,HM!$A$10:$B$209,2))","v":""},null,25,null,{"$f":"IF(F29=\"\",\"\",VLOOKUP(F29,HM!$A$10:$B$209,2))","v":""}]
[null,null,{"$f":"IF(B30=\"\",\"\",VLOOKUP(B30,HM!$A$10:$B$209,2))","v":""},null,26,null,{"$f":"IF(F30=\"\",\"\",VLOOKUP(F30,HM!$A$10:$B$209,2))","v":""}]
[null,null,{"$f":"IF(B31=\"\",\"\",VLOOKUP(B31,HM!$A$10:$B$209,2))","v":""},null,27,null,{"$f":"IF(F31=\"\",\"\",VLOOKUP(F31,HM!$A$10:$B$209,2))","v":""}]
[null,null,{"$f":"IF(B32=\"\",\"\",VLOOKUP(B32,HM!$A$10:$B$209,2))","v":""},null,28,null,{"$f":"IF(F32=\"\",\"\",VLOOKUP(F32,HM!$A$10:$B$209,2))","v":""}]
[null,null,{"$f":"IF(B33=\"\",\"\",VLOOKUP(B33,HM!$A$10:$B$209,2))","v":""},null,29,null,{"$f":"IF(F33=\"\",\"\",VLOOKUP(F33,HM!$A$10:$B$209,2))","v":""}]
[null,null,{"$f":"IF(B34=\"\",\"\",VLOOKUP(B34,HM!$A$10:$B$209,2))","v":""},null,30,null,{"$f":"IF(F34=\"\",\"\",VLOOKUP(F34,HM!$A$10:$B$209,2))","v":""}]
[null,null,{"$f":"IF(B35=\"\",\"\",VLOOKUP(B35,HM!$A$10:$B$209,2))","v":""},null,31,null,{"$f":"IF(F35=\"\",\"\",VLOOKUP(F35,HM!$A$10:$B$209,2))","v":""}]
[null,null,{"$f":"IF(B36=\"\",\"\",VLOOKUP(B36,HM!$A$10:$B$209,2))","v":""},null,32,null,{"$f":"IF(F36=\"\",\"\",VLOOKUP(F36,HM!$A$10:$B$209,2))","v":""}]
[null,null,{"$f":"IF(B37=\"\",\"\",VLOOKUP(B37,HM!$A$10:$B$209,2))","v":""},null,33,null,{"$f":"IF(F37=\"\",\"\",VLOOKUP(F37,HM!$A$10:$B$209,2))","v":""}]
[null,null,{"$f":"IF(B38=\"\",\"\",VLOOKUP(B38,HM!$A$10:$B$209,2))","v":""},null,34,null,{"$f":"IF(F38=\"\",\"\",VLOOKUP(F38,HM!$A$10:$B$209,2))","v":""}]
[null,null,{"$f":"IF(B39=\"\",\"\",VLOOKUP(B39,HM!$A$10:$B$209,2))","v":""},null,35,null,{"$f":"IF(F39=\"\",\"\",VLOOKUP(F39,HM!$A$10:$B$209,2))","v":""}]
[null,null,{"$f":"IF(B40=\"\",\"\",VLOOKUP(B40,HM!$A$10:$B$209,2))","v":""},null,36,null,{"$f":"IF(F40=\"\",\"\",VLOOKUP(F40,HM!$A$10:$B$209,2))","v":""}]
[null,null,{"$f":"IF(B41=\"\",\"\",VLOOKUP(B41,HM!$A$10:$B$209,2))","v":""},null,37,null,{"$f":"IF(F41=\"\",\"\",VLOOKUP(F41,HM!$A$10:$B$209,2))","v":""}]
[null,null,{"$f":"IF(B42=\"\",\"\",VLOOKUP(B42,HM!$A$10:$B$209,2))","v":""},null,38,null,{"$f":"IF(F42=\"\",\"\",VLOOKUP(F42,HM!$A$10:$B$209,2))","v":""}]
[null,null,{"$f":"IF(B43=\"\",\"\",VLOOKUP(B43,HM!$A$10:$B$209,2))","v":""},null,39,null,{"$f":"IF(F43=\"\",\"\",VLOOKUP(F43,HM!$A$10:$B$209,2))","v":""}]
[null,null,{"$f":"IF(B44=\"\",\"\",VLOOKUP(B44,HM!$A$10:$B$209,2))","v":""},null,40,null,{"$f":"IF(F44=\"\",\"\",VLOOKUP(F44,HM!$A$10:$B$209,2))","v":""}]
[null,null,{"$f":"IF(B45=\"\",\"\",VLOOKUP(B45,HM!$A$10:$B$209,2))","v":""},null,41,null,{"$f":"IF(F45=\"\",\"\",VLOOKUP(F45,HM!$A$10:$B$209,2))","v":""}]
[null,null,{"$f":"IF(B46=\"\",\"\",VLOOKUP(B46,HM!$A$10:$B$209,2))","v":""},null,42,null,{"$f":"IF(F46=\"\",\"\",VLOOKUP(F46,HM!$A$10:$B$209,2))","v":""}]
[null,null,{"$f":"IF(B47=\"\",\"\",VLOOKUP(B47,HM!$A$10:$B$209,2))","v":""},null,43,null,{"$f":"IF(F47=\"\",\"\",VLOOKUP(F47,HM!$A$10:$B$209,2))","v":""}]
[null,null,{"$f":"IF(B48=\"\",\"\",VLOOKUP(B48,HM!$A$10:$B$209,2))","v":""},null,44,null,{"$f":"IF(F48=\"\",\"\",VLOOKUP(F48,HM!$A$10:$B$209,2))","v":""}]
[null,null,{"$f":"IF(B49=\"\",\"\",VLOOKUP(B49,HM!$A$10:$B$209,2))","v":""},null,45,null,{"$f":"IF(F49=\"\",\"\",VLOOKUP(F49,HM!$A$10:$B$209,2))","v":""}]
[null,null,{"$f":"IF(B50=\"\",\"\",VLOOKUP(B50,HM!$A$10:$B$209,2))","v":""},null,46,null,{"$f":"IF(F50=\"\",\"\",VLOOKUP(F50,HM!$A$10:$B$209,2))","v":""}]
[null,null,{"$f":"IF(B51=\"\",\"\",VLOOKUP(B51,HM!$A$10:$B$209,2))","v":""},null,47,null,{"$f":"IF(F51=\"\",\"\",VLOOKUP(F51,HM!$A$10:$B$209,2))","v":""}]
[null,null,{"$f":"IF(B52=\"\",\"\",VLOOKUP(B52,HM!$A$10:$B$209,2))","v":""},null,48,null,{"$f":"IF(F52=\"\",\"\",VLOOKUP(F52,HM!$A$10:$B$209,2))","v":""}]
[null,null,{"$f":"IF(B53=\"\",\"\",VLOOKUP(B53,HM!$A$10:$B$209,2))","v":""},null,49,null,{"$f":"IF(F53=\"\",\"\",VLOOKUP(F53,HM!$A$10:$B$209,2))","v":""}]
[null,null,{"$f":"IF(B54=\"\",\"\",VLOOKUP(B54,HM!$A$10:$B$209,2))","v":""},null,50,null,{"$f":"IF(F54=\"\",\"\",VLOOKUP(F54,HM!$A$10:$B$209,2))","v":""}]
[null,null,{"$f":"IF(B55=\"\",\"\",VLOOKUP(B55,HM!$A$10:$B$209,2))","v":""},null,51,null,{"$f":"IF(F55=\"\",\"\",VLOOKUP(F55,HM!$A$10:$B$209,2))","v":""}]
[null,null,{"$f":"IF(B56=\"\",\"\",VLOOKUP(B56,HM!$A$10:$B$209,2))","v":""},null,52,null,{"$f":"IF(F56=\"\",\"\",VLOOKUP(F56,HM!$A$10:$B$209,2))","v":""}]
[null,null,{"$f":"IF(B57=\"\",\"\",VLOOKUP(B57,HM!$A$10:$B$209,2))","v":""},null,53,null,{"$f":"IF(F57=\"\",\"\",VLOOKUP(F57,HM!$A$10:$B$209,2))","v":""}]
[null,null,{"$f":"IF(B58=\"\",\"\",VLOOKUP(B58,HM!$A$10:$B$209,2))","v":""},null,54,null,{"$f":"IF(F58=\"\",\"\",VLOOKUP(F58,HM!$A$10:$B$209,2))","v":""}]
[null,null,{"$f":"IF(B59=\"\",\"\",VLOOKUP(B59,HM!$A$10:$B$209,2))","v":""},null,55,null,{"$f":"IF(F59=\"\",\"\",VLOOKUP(F59,HM!$A$10:$B$209,2))","v":""}]
[null,null,{"$f":"IF(B60=\"\",\"\",VLOOKUP(B60,HM!$A$10:$B$209,2))","v":""},null,56,null,{"$f":"IF(F60=\"\",\"\",VLOOKUP(F60,HM!$A$10:$B$209,2))","v":""}]
[null,null,{"$f":"IF(B61=\"\",\"\",VLOOKUP(B61,HM!$A$10:$B$209,2))","v":""},null,57,null,{"$f":"IF(F61=\"\",\"\",VLOOKUP(F61,HM!$A$10:$B$209,2))","v":""}]
[null,null,{"$f":"IF(B62=\"\",\"\",VLOOKUP(B62,HM!$A$10:$B$209,2))","v":""},null,58,null,{"$f":"IF(F62=\"\",\"\",VLOOKUP(F62,HM!$A$10:$B$209,2))","v":""}]
[null,null,{"$f":"IF(B63=\"\",\"\",VLOOKUP(B63,HM!$A$10:$B$209,2))","v":""},null,59,null,{"$f":"IF(F63=\"\",\"\",VLOOKUP(F63,HM!$A$10:$B$209,2))","v":""}]
[null,null,{"$f":"IF(B64=\"\",\"\",VLOOKUP(B64,HM!$A$10:$B$209,2))","v":""},null,60,null,{"$f":"IF(F64=\"\",\"\",VLOOKUP(F64,HM!$A$10:$B$209,2))","v":""}]
[null,null,{"$f":"IF(B65=\"\",\"\",VLOOKUP(B65,HM!$A$10:$B$209,2))","v":""},null,61,null,{"$f":"IF(F65=\"\",\"\",VLOOKUP(F65,HM!$A$10:$B$209,2))","v":""}]
[null,null,{"$f":"IF(B66=\"\",\"\",VLOOKUP(B66,HM!$A$10:$B$209,2))","v":""},null,62,null,{"$f":"IF(F66=\"\",\"\",VLOOKUP(F66,HM!$A$10:$B$209,2))","v":""}]
[null,null,{"$f":"IF(B67=\"\",\"\",VLOOKUP(B67,HM!$A$10:$B$209,2))","v":""},null,63,null,{"$f":"IF(F67=\"\",\"\",VLOOKUP(F67,HM!$A$10:$B$209,2))","v":""}]
[null,null,{"$f":"IF(B68=\"\",\"\",VLOOKUP(B68,HM!$A$10:$B$209,2))","v":""},null,64,null,{"$f":"IF(F68=\"\",\"\",VLOOKUP(F68,HM!$A$10:$B$209,2))","v":""}]
[null,null,{"$f":"IF(B69=\"\",\"\",VLOOKUP(B69,HM!$A$10:$B$209,2))","v":""},null,65,null,{"$f":"IF(F69=\"\",\"\",VLOOKUP(F69,HM!$A$10:$B$209,2))","v":""}]
[null,null,{"$f":"IF(B70=\"\",\"\",VLOOKUP(B70,HM!$A$10:$B$209,2))","v":""},null,66,null,{"$f":"IF(F70=\"\",\"\",VLOOKUP(F70,HM!$A$10:$B$209,2))","v":""}]
[null,null,{"$f":"IF(B71=\"\",\"\",VLOOKUP(B71,HM!$A$10:$B$209,2))","v":""},null,67,null,{"$f":"IF(F71=\"\",\"\",VLOOKUP(F71,HM!$A$10:$B$209,2))","v":""}]
[null,null,{"$f":"IF(B72=\"\",\"\",VLOOKUP(B72,HM!$A$10:$B$209,2))","v":""},null,68,null,{"$f":"IF(F72=\"\",\"\",VLOOKUP(F72,HM!$A$10:$B$209,2))","v":""}]
[null,null,{"$f":"IF(B73=\"\",\"\",VLOOKUP(B73,HM!$A$10:$B$209,2))","v":""},null,69,null,{"$f":"IF(F73=\"\",\"\",VLOOKUP(F73,HM!$A$10:$B$209,2))","v":""}]
[null,null,{"$f":"IF(B74=\"\",\"\",VLOOKUP(B74,HM!$A$10:$B$209,2))","v":""},null,70,null,{"$f":"IF(F74=\"\",\"\",VLOOKUP(F74,HM!$A$10:$B$209,2))","v":""}]
[null,null,{"$f":"IF(B75=\"\",\"\",VLOOKUP(B75,HM!$A$10:$B$209,2))","v":""},null,71,null,{"$f":"IF(F75=\"\",\"\",VLOOKUP(F75,HM!$A$10:$B$209,2))","v":""}]
[null,null,{"$f":"IF(B76=\"\",\"\",VLOOKUP(B76,HM!$A$10:$B$209,2))","v":""},null,72,null,{"$f":"IF(F76=\"\",\"\",VLOOKUP(F76,HM!$A$10:$B$209,2))","v":""}]
[null,null,{"$f":"IF(B77=\"\",\"\",VLOOKUP(B77,HM!$A$10:$B$209,2))","v":""},null,73,null,{"$f":"IF(F77=\"\",\"\",VLOOKUP(F77,HM!$A$10:$B$209,2))","v":""}]
[null,null,{"$f":"IF(B78=\"\",\"\",VLOOKUP(B78,HM!$A$10:$B$209,2))","v":""},null,74,null,{"$f":"IF(F78=\"\",\"\",VLOOKUP(F78,HM!$A$10:$B$209,2))","v":""}]
[null,null,{"$f":"IF(B79=\"\",\"\",VLOOKUP(B79,HM!$A$10:$B$209,2))","v":""},null,75,null,{"$f":"IF(F79=\"\",\"\",VLOOKUP(F79,HM!$A$10:$B$209,2))","v":""}]
[null,null,{"$f":"IF(B80=\"\",\"\",VLOOKUP(B80,HM!$A$10:$B$209,2))","v":""},null,76,null,{"$f":"IF(F80=\"\",\"\",VLOOKUP(F80,HM!$A$10:$B$209,2))","v":""}]
[null,null,{"$f":"IF(B81=\"\",\"\",VLOOKUP(B81,HM!$A$10:$B$209,2))","v":""},null,77,null,{"$f":"IF(F81=\"\",\"\",VLOOKUP(F81,HM!$A$10:$B$209,2))","v":""}]
[null,null,{"$f":"IF(B82=\"\",\"\",VLOOKUP(B82,HM!$A$10:$B$209,2))","v":""},null,78,null,{"$f":"IF(F82=\"\",\"\",VLOOKUP(F82,HM!$A$10:$B$209,2))","v":""}]
[null,null,{"$f":"IF(B83=\"\",\"\",VLOOKUP(B83,HM!$A$10:$B$209,2))","v":""},null,79,null,{"$f":"IF(F83=\"\",\"\",VLOOKUP(F83,HM!$A$10:$B$209,2))","v":""}]
[null,null,{"$f":"IF(B84=\"\",\"\",VLOOKUP(B84,HM!$A$10:$B$209,2))","v":""},null,80,null,{"$f":"IF(F84=\"\",\"\",VLOOKUP(F84,HM!$A$10:$B$209,2))","v":""}]
[null,null,{"$f":"IF(B85=\"\",\"\",VLOOKUP(B85,HM!$A$10:$B$209,2))","v":""},null,81,null,{"$f":"IF(F85=\"\",\"\",VLOOKUP(F85,HM!$A$10:$B$209,2))","v":""}]
[null,null,{"$f":"IF(B86=\"\",\"\",VLOOKUP(B86,HM!$A$10:$B$209,2))","v":""},null,82,null,{"$f":"IF(F86=\"\",\"\",VLOOKUP(F86,HM!$A$10:$B$209,2))","v":""}]
[null,null,{"$f":"IF(B87=\"\",\"\",VLOOKUP(B87,HM!$A$10:$B$209,2))","v":""},null,83,null,{"$f":"IF(F87=\"\",\"\",VLOOKUP(F87,HM!$A$10:$B$209,2))","v":""}]
[null,null,{"$f":"IF(B88=\"\",\"\",VLOOKUP(B88,HM!$A$10:$B$209,2))","v":""},null,84,null,{"$f":"IF(F88=\"\",\"\",VLOOKUP(F88,HM!$A$10:$B$209,2))","v":""}]
[null,null,{"$f":"IF(B89=\"\",\"\",VLOOKUP(B89,HM!$A$10:$B$209,2))","v":""},null,85,null,{"$f":"IF(F89=\"\",\"\",VLOOKUP(F89,HM!$A$10:$B$209,2))","v":""}]
[null,null,{"$f":"IF(B90=\"\",\"\",VLOOKUP(B90,HM!$A$10:$B$209,2))","v":""},null,86,null,{"$f":"IF(F90=\"\",\"\",VLOOKUP(F90,HM!$A$10:$B$209,2))","v":""}]
[null,null,{"$f":"IF(B91=\"\",\"\",VLOOKUP(B91,HM!$A$10:$B$209,2))","v":""},null,87,null,{"$f":"IF(F91=\"\",\"\",VLOOKUP(F91,HM!$A$10:$B$209,2))","v":""}]
[null,null,{"$f":"IF(B92=\"\",\"\",VLOOKUP(B92,HM!$A$10:$B$209,2))","v":""},null,88,null,{"$f":"IF(F92=\"\",\"\",VLOOKUP(F92,HM!$A$10:$B$209,2))","v":""}]
[null,null,{"$f":"IF(B93=\"\",\"\",VLOOKUP(B93,HM!$A$10:$B$209,2))","v":""},null,89,null,{"$f":"IF(F93=\"\",\"\",VLOOKUP(F93,HM!$A$10:$B$209,2))","v":""}]
[null,null,{"$f":"IF(B94=\"\",\"\",VLOOKUP(B94,HM!$A$10:$B$209,2))","v":""},null,90,null,{"$f":"IF(F94=\"\",\"\",VLOOKUP(F94,HM!$A$10:$B$209,2))","v":""}]
[null,null,{"$f":"IF(B95=\"\",\"\",VLOOKUP(B95,HM!$A$10:$B$209,2))","v":""},null,91,null,{"$f":"IF(F95=\"\",\"\",VLOOKUP(F95,HM!$A$10:$B$209,2))","v":""}]
[null,null,{"$f":"IF(B96=\"\",\"\",VLOOKUP(B96,HM!$A$10:$B$209,2))","v":""},null,92,null,{"$f":"IF(F96=\"\",\"\",VLOOKUP(F96,HM!$A$10:$B$209,2))","v":""}]
[null,null,{"$f":"IF(B97=\"\",\"\",VLOOKUP(B97,HM!$A$10:$B$209,2))","v":""},null,93,null,{"$f":"IF(F97=\"\",\"\",VLOOKUP(F97,HM!$A$10:$B$209,2))","v":""}]
[null,null,{"$f":"IF(B98=\"\",\"\",VLOOKUP(B98,HM!$A$10:$B$209,2))","v":""},null,94,null,{"$f":"IF(F98=\"\",\"\",VLOOKUP(F98,HM!$A$10:$B$209,2))","v":""}]
[null,null,{"$f":"IF(B99=\"\",\"\",VLOOKUP(B99,HM!$A$10:$B$209,2))","v":""},null,95,null,{"$f":"IF(F99=\"\",\"\",VLOOKUP(F99,HM!$A$10:$B$209,2))","v":""}]
[null,null,{"$f":"IF(B100=\"\",\"\",VLOOKUP(B100,HM!$A$10:$B$209,2))","v":""},null,96,null,{"$f":"IF(F100=\"\",\"\",VLOOKUP(F100,HM!$A$10:$B$209,2))","v":""}]
[null,null,{"$f":"IF(B101=\"\",\"\",VLOOKUP(B101,HM!$A$10:$B$209,2))","v":""},null,97,null,{"$f":"IF(F101=\"\",\"\",VLOOKUP(F101,HM!$A$10:$B$209,2))","v":""}]
[null,null,{"$f":"IF(B102=\"\",\"\",VLOOKUP(B102,HM!$A$10:$B$209,2))","v":""},null,98,null,{"$f":"IF(F102=\"\",\"\",VLOOKUP(F102,HM!$A$10:$B$209,2))","v":""}]
[null,null,{"$f":"IF(B103=\"\",\"\",VLOOKUP(B103,HM!$A$10:$B$209,2))","v":""},null,99,null,{"$f":"IF(F103=\"\",\"\",VLOOKUP(F103,HM!$A$10:$B$209,2))","v":""}]
[null,null,{"$f":"IF(B104=\"\",\"\",VLOOKUP(B104,HM!$A$10:$B$209,2))","v":""},null,100,null,{"$f":"IF(F104=\"\",\"\",VLOOKUP(F104,HM!$A$10:$B$209,2))","v":""}]
[null,null,{"$f":"IF(B105=\"\",\"\",VLOOKUP(B105,HM!$A$10:$B$209,2))","v":""},null,101,null,{"$f":"IF(F105=\"\",\"\",VLOOKUP(F105,HM!$A$10:$B$209,2))","v":""}]
[null,null,{"$f":"IF(B106=\"\",\"\",VLOOKUP(B106,HM!$A$10:$B$209,2))","v":""},null,102,null,{"$f":"IF(F106=\"\",\"\",VLOOKUP(F106,HM!$A$10:$B$209,2))","v":""}]
[null,null,{"$f":"IF(B107=\"\",\"\",VLOOKUP(B107,HM!$A$10:$B$209,2))","v":""},null,103,null,{"$f":"IF(F107=\"\",\"\",VLOOKUP(F107,HM!$A$10:$B$209,2))","v":""}]
[null,null,{"$f":"IF(B108=\"\",\"\",VLOOKUP(B108,HM!$A$10:$B$209,2))","v":""},null,104,null,{"$f":"IF(F108=\"\",\"\",VLOOKUP(F108,HM!$A$10:$B$209,2))","v":""}]
[null,null,{"$f":"IF(B109=\"\",\"\",VLOOKUP(B109,HM!$A$10:$B$209,2))","v":""},null,105,null,{"$f":"IF(F109=\"\",\"\",VLOOKUP(F109,HM!$A$10:$B$209,2))","v":""}]
[null,null,{"$f":"IF(B110=\"\",\"\",VLOOKUP(B110,HM!$A$10:$B$209,2))","v":""},null,106,null,{"$f":"IF(F110=\"\",\"\",VLOOKUP(F110,HM!$A$10:$B$209,2))","v":""}]
[null,null,{"$f":"IF(B111=\"\",\"\",VLOOKUP(B111,HM!$A$10:$B$209,2))","v":""},null,107,null,{"$f":"IF(F111=\"\",\"\",VLOOKUP(F111,HM!$A$10:$B$209,2))","v":""}]
[null,null,{"$f":"IF(B112=\"\",\"\",VLOOKUP(B112,HM!$A$10:$B$209,2))","v":""},null,108,null,{"$f":"IF(F112=\"\",\"\",VLOOKUP(F112,HM!$A$10:$B$209,2))","v":""}]
[null,null,{"$f":"IF(B113=\"\",\"\",VLOOKUP(B113,HM!$A$10:$B$209,2))","v":""},null,109,null,{"$f":"IF(F113=\"\",\"\",VLOOKUP(F113,HM!$A$10:$B$209,2))","v":""}]
[null,null,{"$f":"IF(B114=\"\",\"\",VLOOKUP(B114,HM!$A$10:$B$209,2))","v":""},null,110,null,{"$f":"IF(F114=\"\",\"\",VLOOKUP(F114,HM!$A$10:$B$209,2))","v":""}]
[null,null,{"$f":"IF(B115=\"\",\"\",VLOOKUP(B115,HM!$A$10:$B$209,2))","v":""},null,111,null,{"$f":"IF(F115=\"\",\"\",VLOOKUP(F115,HM!$A$10:$B$209,2))","v":""}]
[null,null,{"$f":"IF(B116=\"\",\"\",VLOOKUP(B116,HM!$A$10:$B$209,2))","v":""},null,112,null,{"$f":"IF(F116=\"\",\"\",VLOOKUP(F116,HM!$A$10:$B$209,2))","v":""}]
[null,null,{"$f":"IF(B117=\"\",\"\",VLOOKUP(B117,HM!$A$10:$B$209,2))","v":""},null,113,null,{"$f":"IF(F117=\"\",\"\",VLOOKUP(F117,HM!$A$10:$B$209,2))","v":""}]
[null,null,{"$f":"IF(B118=\"\",\"\",VLOOKUP(B118,HM!$A$10:$B$209,2))","v":""},null,114,null,{"$f":"IF(F118=\"\",\"\",VLOOKUP(F118,HM!$A$10:$B$209,2))","v":""}]
[null,null,{"$f":"IF(B119=\"\",\"\",VLOOKUP(B119,HM!$A$10:$B$209,2))","v":""},null,115,null,{"$f":"IF(F119=\"\",\"\",VLOOKUP(F119,HM!$A$10:$B$209,2))","v":""}]
[null,null,{"$f":"IF(B120=\"\",\"\",VLOOKUP(B120,HM!$A$10:$B$209,2))","v":""},null,116,null,{"$f":"IF(F120=\"\",\"\",VLOOKUP(F120,HM!$A$10:$B$209,2))","v":""}]
[null,null,{"$f":"IF(B121=\"\",\"\",VLOOKUP(B121,HM!$A$10:$B$209,2))","v":""},null,117,null,{"$f":"IF(F121=\"\",\"\",VLOOKUP(F121,HM!$A$10:$B$209,2))","v":""}]
[null,null,{"$f":"IF(B122=\"\",\"\",VLOOKUP(B122,HM!$A$10:$B$209,2))","v":""},null,118,null,{"$f":"IF(F122=\"\",\"\",VLOOKUP(F122,HM!$A$10:$B$209,2))","v":""}]
[null,null,{"$f":"IF(B123=\"\",\"\",VLOOKUP(B123,HM!$A$10:$B$209,2))","v":""},null,119,null,{"$f":"IF(F123=\"\",\"\",VLOOKUP(F123,HM!$A$10:$B$209,2))","v":""}]
[null,null,{"$f":"IF(B124=\"\",\"\",VLOOKUP(B124,HM!$A$10:$B$209,2))","v":""},null,120,null,{"$f":"IF(F124=\"\",\"\",VLOOKUP(F124,HM!$A$10:$B$209,2))","v":""}]
[null,null,{"$f":"IF(B125=\"\",\"\",VLOOKUP(B125,HM!$A$10:$B$209,2))","v":""},null,121,null,{"$f":"IF(F125=\"\",\"\",VLOOKUP(F125,HM!$A$10:$B$209,2))","v":""}]
[null,null,{"$f":"IF(B126=\"\",\"\",VLOOKUP(B126,HM!$A$10:$B$209,2))","v":""},null,122,null,{"$f":"IF(F126=\"\",\"\",VLOOKUP(F126,HM!$A$10:$B$209,2))","v":""}]
[null,null,{"$f":"IF(B127=\"\",\"\",VLOOKUP(B127,HM!$A$10:$B$209,2))","v":""},null,123,null,{"$f":"IF(F127=\"\",\"\",VLOOKUP(F127,HM!$A$10:$B$209,2))","v":""}]
[null,null,{"$f":"IF(B128=\"\",\"\",VLOOKUP(B128,HM!$A$10:$B$209,2))","v":""},null,124,null,{"$f":"IF(F128=\"\",\"\",VLOOKUP(F128,HM!$A$10:$B$209,2))","v":""}]
[null,null,{"$f":"IF(B129=\"\",\"\",VLOOKUP(B129,HM!$A$10:$B$209,2))","v":""},null,125,null,{"$f":"IF(F129=\"\",\"\",VLOOKUP(F129,HM!$A$10:$B$209,2))","v":""}]
[null,null,{"$f":"IF(B130=\"\",\"\",VLOOKUP(B130,HM!$A$10:$B$209,2))","v":""},null,126,null,{"$f":"IF(F130=\"\",\"\",VLOOKUP(F130,HM!$A$10:$B$209,2))","v":""}]
[null,null,{"$f":"IF(B131=\"\",\"\",VLOOKUP(B131,HM!$A$10:$B$209,2))","v":""},null,127,null,{"$f":"IF(F131=\"\",\"\",VLOOKUP(F131,HM!$A$10:$B$209,2))","v":""}]
[null,null,{"$f":"IF(B132=\"\",\"\",VLOOKUP(B132,HM!$A$10:$B$209,2))","v":""},null,128,null,{"$f":"IF(F132=\"\",\"\",VLOOKUP(F132,HM!$A$10:$B$209,2))","v":""}]
[null,null,{"$f":"IF(B133=\"\",\"\",VLOOKUP(B133,HM!$A$10:$B$209,2))","v":""},null,129,null,{"$f":"IF(F133=\"\",\"\",VLOOKUP(F133,HM!$A$10:$B$209,2))","v":""}]
[null,null,{"$f":"IF(B134=\"\",\"\",VLOOKUP(B134,HM!$A$10:$B$209,2))","v":""},null,130,null,{"$f":"IF(F134=\"\",\"\",VLOOKUP(F134,HM!$A$10:$B$209,2))","v":""}]
[null,null,{"$f":"IF(B135=\"\",\"\",VLOOKUP(B135,HM!$A$10:$B$209,2))","v":""},null,131,null,{"$f":"IF(F135=\"\",\"\",VLOOKUP(F135,HM!$A$10:$B$209,2))","v":""}]
[null,null,{"$f":"IF(B136=\"\",\"\",VLOOKUP(B136,HM!$A$10:$B$209,2))","v":""},null,132,null,{"$f":"IF(F136=\"\",\"\",VLOOKUP(F136,HM!$A$10:$B$209,2))","v":""}]
[null,null,{"$f":"IF(B137=\"\",\"\",VLOOKUP(B137,HM!$A$10:$B$209,2))","v":""},null,133,null,{"$f":"IF(F137=\"\",\"\",VLOOKUP(F137,HM!$A$10:$B$209,2))","v":""}]
[null,null,{"$f":"IF(B138=\"\",\"\",VLOOKUP(B138,HM!$A$10:$B$209,2))","v":""},null,134,null,{"$f":"IF(F138=\"\",\"\",VLOOKUP(F138,HM!$A$10:$B$209,2))","v":""}]
[null,null,{"$f":"IF(B139=\"\",\"\",VLOOKUP(B139,HM!$A$10:$B$209,2))","v":""},null,135,null,{"$f":"IF(F139=\"\",\"\",VLOOKUP(F139,HM!$A$10:$B$209,2))","v":""}]
[null,null,{"$f":"IF(B140=\"\",\"\",VLOOKUP(B140,HM!$A$10:$B$209,2))","v":""},null,136,null,{"$f":"IF(F140=\"\",\"\",VLOOKUP(F140,HM!$A$10:$B$209,2))","v":""}]
[null,null,{"$f":"IF(B141=\"\",\"\",VLOOKUP(B141,HM!$A$10:$B$209,2))","v":""},null,137,null,{"$f":"IF(F141=\"\",\"\",VLOOKUP(F141,HM!$A$10:$B$209,2))","v":""}]
[null,null,{"$f":"IF(B142=\"\",\"\",VLOOKUP(B142,HM!$A$10:$B$209,2))","v":""},null,138,null,{"$f":"IF(F142=\"\",\"\",VLOOKUP(F142,HM!$A$10:$B$209,2))","v":""}]
[null,null,{"$f":"IF(B143=\"\",\"\",VLOOKUP(B143,HM!$A$10:$B$209,2))","v":""},null,139,null,{"$f":"IF(F143=\"\",\"\",VLOOKUP(F143,HM!$A$10:$B$209,2))","v":""}]
[null,null,{"$f":"IF(B144=\"\",\"\",VLOOKUP(B144,HM!$A$10:$B$209,2))","v":""},null,140,null,{"$f":"IF(F144=\"\",\"\",VLOOKUP(F144,HM!$A$10:$B$209,2))","v":""}]
[null,null,{"$f":"IF(B145=\"\",\"\",VLOOKUP(B145,HM!$A$10:$B$209,2))","v":""},null,141,null,{"$f":"IF(F145=\"\",\"\",VLOOKUP(F145,HM!$A$10:$B$209,2))","v":""}]
[null,null,{"$f":"IF(B146=\"\",\"\",VLOOKUP(B146,HM!$A$10:$B$209,2))","v":""},null,142,null,{"$f":"IF(F146=\"\",\"\",VLOOKUP(F146,HM!$A$10:$B$209,2))","v":""}]
[null,null,{"$f":"IF(B147=\"\",\"\",VLOOKUP(B147,HM!$A$10:$B$209,2))","v":""},null,143,null,{"$f":"IF(F147=\"\",\"\",VLOOKUP(F147,HM!$A$10:$B$209,2))","v":""}]
[null,null,{"$f":"IF(B148=\"\",\"\",VLOOKUP(B148,HM!$A$10:$B$209,2))","v":""},null,144,null,{"$f":"IF(F148=\"\",\"\",VLOOKUP(F148,HM!$A$10:$B$209,2))","v":""}]
[null,null,{"$f":"IF(B149=\"\",\"\",VLOOKUP(B149,HM!$A$10:$B$209,2))","v":""},null,145,null,{"$f":"IF(F149=\"\",\"\",VLOOKUP(F149,HM!$A$10:$B$209,2))","v":""}]
[null,null,{"$f":"IF(B150=\"\",\"\",VLOOKUP(B150,HM!$A$10:$B$209,2))","v":""},null,146,null,{"$f":"IF(F150=\"\",\"\",VLOOKUP(F150,HM!$A$10:$B$209,2))","v":""}]
[null,null,{"$f":"IF(B151=\"\",\"\",VLOOKUP(B151,HM!$A$10:$B$209,2))","v":""},null,147,null,{"$f":"IF(F151=\"\",\"\",VLOOKUP(F151,HM!$A$10:$B$209,2))","v":""}]
[null,null,{"$f":"IF(B152=\"\",\"\",VLOOKUP(B152,HM!$A$10:$B$209,2))","v":""},null,148,null,{"$f":"IF(F152=\"\",\"\",VLOOKUP(F152,HM!$A$10:$B$209,2))","v":""}]
[null,null,{"$f":"IF(B153=\"\",\"\",VLOOKUP(B153,HM!$A$10:$B$209,2))","v":""},null,149,null,{"$f":"IF(F153=\"\",\"\",VLOOKUP(F153,HM!$A$10:$B$209,2))","v":""}]
[null,null,{"$f":"IF(B154=\"\",\"\",VLOOKUP(B154,HM!$A$10:$B$209,2))","v":""},null,150,null,{"$f":"IF(F154=\"\",\"\",VLOOKUP(F154,HM!$A$10:$B$209,2))","v":""}]
[null,null,{"$f":"IF(B155=\"\",\"\",VLOOKUP(B155,HM!$A$10:$B$209,2))","v":""},null,151,null,{"$f":"IF(F155=\"\",\"\",VLOOKUP(F155,HM!$A$10:$B$209,2))","v":""}]
[null,null,{"$f":"IF(B156=\"\",\"\",VLOOKUP(B156,HM!$A$10:$B$209,2))","v":""},null,152,null,{"$f":"IF(F156=\"\",\"\",VLOOKUP(F156,HM!$A$10:$B$209,2))","v":""}]
[null,null,{"$f":"IF(B157=\"\",\"\",VLOOKUP(B157,HM!$A$10:$B$209,2))","v":""},null,153,null,{"$f":"IF(F157=\"\",\"\",VLOOKUP(F157,HM!$A$10:$B$209,2))","v":""}]
[null,null,{"$f":"IF(B158=\"\",\"\",VLOOKUP(B158,HM!$A$10:$B$209,2))","v":""},null,154,null,{"$f":"IF(F158=\"\",\"\",VLOOKUP(F158,HM!$A$10:$B$209,2))","v":""}]
[null,null,{"$f":"IF(B159=\"\",\"\",VLOOKUP(B159,HM!$A$10:$B$209,2))","v":""},null,155,null,{"$f":"IF(F159=\"\",\"\",VLOOKUP(F159,HM!$A$10:$B$209,2))","v":""}]
[null,null,{"$f":"IF(B160=\"\",\"\",VLOOKUP(B160,HM!$A$10:$B$209,2))","v":""},null,156,null,{"$f":"IF(F160=\"\",\"\",VLOOKUP(F160,HM!$A$10:$B$209,2))","v":""}]
[null,null,{"$f":"IF(B161=\"\",\"\",VLOOKUP(B161,HM!$A$10:$B$209,2))","v":""},null,157,null,{"$f":"IF(F161=\"\",\"\",VLOOKUP(F161,HM!$A$10:$B$209,2))","v":""}]
[null,null,{"$f":"IF(B162=\"\",\"\",VLOOKUP(B162,HM!$A$10:$B$209,2))","v":""},null,158,null,{"$f":"IF(F162=\"\",\"\",VLOOKUP(F162,HM!$A$10:$B$209,2))","v":""}]
[null,null,{"$f":"IF(B163=\"\",\"\",VLOOKUP(B163,HM!$A$10:$B$209,2))","v":""},null,159,null,{"$f":"IF(F163=\"\",\"\",VLOOKUP(F163,HM!$A$10:$B$209,2))","v":""}]
[null,null,{"$f":"IF(B164=\"\",\"\",VLOOKUP(B164,HM!$A$10:$B$209,2))","v":""},null,160,null,{"$f":"IF(F164=\"\",\"\",VLOOKUP(F164,HM!$A$10:$B$209,2))","v":""}]
[null,null,{"$f":"IF(B165=\"\",\"\",VLOOKUP(B165,HM!$A$10:$B$209,2))","v":""},null,161,null,{"$f":"IF(F165=\"\",\"\",VLOOKUP(F165,HM!$A$10:$B$209,2))","v":""}]
[null,null,{"$f":"IF(B166=\"\",\"\",VLOOKUP(B166,HM!$A$10:$B$209,2))","v":""},null,162,null,{"$f":"IF(F166=\"\",\"\",VLOOKUP(F166,HM!$A$10:$B$209,2))","v":""}]
[null,null,{"$f":"IF(B167=\"\",\"\",VLOOKUP(B167,HM!$A$10:$B$209,2))","v":""},null,163,null,{"$f":"IF(F167=\"\",\"\",VLOOKUP(F167,HM!$A$10:$B$209,2))","v":""}]
[null,null,{"$f":"IF(B168=\"\",\"\",VLOOKUP(B168,HM!$A$10:$B$209,2))","v":""},null,164,null,{"$f":"IF(F168=\"\",\"\",VLOOKUP(F168,HM!$A$10:$B$209,2))","v":""}]
[null,null,{"$f":"IF(B169=\"\",\"\",VLOOKUP(B169,HM!$A$10:$B$209,2))","v":""},null,165,null,{"$f":"IF(F169=\"\",\"\",VLOOKUP(F169,HM!$A$10:$B$209,2))","v":""}]
[null,null,{"$f":"IF(B170=\"\",\"\",VLOOKUP(B170,HM!$A$10:$B$209,2))","v":""},null,166,null,{"$f":"IF(F170=\"\",\"\",VLOOKUP(F170,HM!$A$10:$B$209,2))","v":""}]
[null,null,{"$f":"IF(B171=\"\",\"\",VLOOKUP(B171,HM!$A$10:$B$209,2))","v":""},null,167,null,{"$f":"IF(F171=\"\",\"\",VLOOKUP(F171,HM!$A$10:$B$209,2))","v":""}]
[null,null,{"$f":"IF(B172=\"\",\"\",VLOOKUP(B172,HM!$A$10:$B$209,2))","v":""},null,168,null,{"$f":"IF(F172=\"\",\"\",VLOOKUP(F172,HM!$A$10:$B$209,2))","v":""}]
[null,null,{"$f":"IF(B173=\"\",\"\",VLOOKUP(B173,HM!$A$10:$B$209,2))","v":""},null,169,null,{"$f":"IF(F173=\"\",\"\",VLOOKUP(F173,HM!$A$10:$B$209,2))","v":""}]
[null,null,{"$f":"IF(B174=\"\",\"\",VLOOKUP(B174,HM!$A$10:$B$209,2))","v":""},null,170,null,{"$f":"IF(F174=\"\",\"\",VLOOKUP(F174,HM!$A$10:$B$209,2))","v":""}]
[null,null,{"$f":"IF(B175=\"\",\"\",VLOOKUP(B175,HM!$A$10:$B$209,2))","v":""},null,171,null,{"$f":"IF(F175=\"\",\"\",VLOOKUP(F175,HM!$A$10:$B$209,2))","v":""}]
[null,null,{"$f":"IF(B176=\"\",\"\",VLOOKUP(B176,HM!$A$10:$B$209,2))","v":""},null,172,null,{"$f":"IF(F176=\"\",\"\",VLOOKUP(F176,HM!$A$10:$B$209,2))","v":""}]
[null,null,{"$f":"IF(B177=\"\",\"\",VLOOKUP(B177,HM!$A$10:$B$209,2))","v":""},null,173,null,{"$f":"IF(F177=\"\",\"\",VLOOKUP(F177,HM!$A$10:$B$209,2))","v":""}]
[null,null,{"$f":"IF(B178=\"\",\"\",VLOOKUP(B178,HM!$A$10:$B$209,2))","v":""},null,174,null,{"$f":"IF(F178=\"\",\"\",VLOOKUP(F178,HM!$A$10:$B$209,2))","v":""}]
[null,null,{"$f":"IF(B179=\"\",\"\",VLOOKUP(B179,HM!$A$10:$B$209,2))","v":""},null,175,null,{"$f":"IF(F179=\"\",\"\",VLOOKUP(F179,HM!$A$10:$B$209,2))","v":""}]
[null,null,{"$f":"IF(B180=\"\",\"\",VLOOKUP(B180,HM!$A$10:$B$209,2))","v":""},null,176,null,{"$f":"IF(F180=\"\",\"\",VLOOKUP(F180,HM!$A$10:$B$209,2))","v":""}]
[null,null,{"$f":"IF(B181=\"\",\"\",VLOOKUP(B181,HM!$A$10:$B$209,2))","v":""},null,177,null,{"$f":"IF(F181=\"\",\"\",VLOOKUP(F181,HM!$A$10:$B$209,2))","v":""}]
[null,null,{"$f":"IF(B182=\"\",\"\",VLOOKUP(B182,HM!$A$10:$B$209,2))","v":""},null,178,null,{"$f":"IF(F182=\"\",\"\",VLOOKUP(F182,HM!$A$10:$B$209,2))","v":""}]
[null,null,{"$f":"IF(B183=\"\",\"\",VLOOKUP(B183,HM!$A$10:$B$209,2))","v":""},null,179,null,{"$f":"IF(F183=\"\",\"\",VLOOKUP(F183,HM!$A$10:$B$209,2))","v":""}]
[null,null,{"$f":"IF(B184=\"\",\"\",VLOOKUP(B184,HM!$A$10:$B$209,2))","v":""},null,180,null,{"$f":"IF(F184=\"\",\"\",VLOOKUP(F184,HM!$A$10:$B$209,2))","v":""}]
[null,null,{"$f":"IF(B185=\"\",\"\",VLOOKUP(B185,HM!$A$10:$B$209,2))","v":""},null,181,null,{"$f":"IF(F185=\"\",\"\",VLOOKUP(F185,HM!$A$10:$B$209,2))","v":""}]
[null,null,{"$f":"IF(B186=\"\",\"\",VLOOKUP(B186,HM!$A$10:$B$209,2))","v":""},null,182,null,{"$f":"IF(F186=\"\",\"\",VLOOKUP(F186,HM!$A$10:$B$209,2))","v":""}]
[null,null,{"$f":"IF(B187=\"\",\"\",VLOOKUP(B187,HM!$A$10:$B$209,2))","v":""},null,183,null,{"$f":"IF(F187=\"\",\"\",VLOOKUP(F187,HM!$A$10:$B$209,2))","v":""}]
[null,null,{"$f":"IF(B188=\"\",\"\",VLOOKUP(B188,HM!$A$10:$B$209,2))","v":""},null,184,null,{"$f":"IF(F188=\"\",\"\",VLOOKUP(F188,HM!$A$10:$B$209,2))","v":""}]
[null,null,{"$f":"IF(B189=\"\",\"\",VLOOKUP(B189,HM!$A$10:$B$209,2))","v":""},null,185,null,{"$f":"IF(F189=\"\",\"\",VLOOKUP(F189,HM!$A$10:$B$209,2))","v":""}]
[null,null,{"$f":"IF(B190=\"\",\"\",VLOOKUP(B190,HM!$A$10:$B$209,2))","v":""},null,186,null,{"$f":"IF(F190=\"\",\"\",VLOOKUP(F190,HM!$A$10:$B$209,2))","v":""}]
[null,null,{"$f":"IF(B191=\"\",\"\",VLOOKUP(B191,HM!$A$10:$B$209,2))","v":""},null,187,null,{"$f":"IF(F191=\"\",\"\",VLOOKUP(F191,HM!$A$10:$B$209,2))","v":""}]
[null,null,{"$f":"IF(B192=\"\",\"\",VLOOKUP(B192,HM!$A$10:$B$209,2))","v":""},null,188,null,{"$f":"IF(F192=\"\",\"\",VLOOKUP(F192,HM!$A$10:$B$209,2))","v":""}]
[null,null,{"$f":"IF(B193=\"\",\"\",VLOOKUP(B193,HM!$A$10:$B$209,2))","v":""},null,189,null,{"$f":"IF(F193=\"\",\"\",VLOOKUP(F193,HM!$A$10:$B$209,2))","v":""}]
[null,null,{"$f":"IF(B194=\"\",\"\",VLOOKUP(B194,HM!$A$10:$B$209,2))","v":""},null,190,null,{"$f":"IF(F194=\"\",\"\",VLOOKUP(F194,HM!$A$10:$B$209,2))","v":""}]
[null,null,{"$f":"IF(B195=\"\",\"\",VLOOKUP(B195,HM!$A$10:$B$209,2))","v":""},null,191,null,{"$f":"IF(F195=\"\",\"\",VLOOKUP(F195,HM!$A$10:$B$209,2))","v":""}]
[null,null,{"$f":"IF(B196=\"\",\"\",VLOOKUP(B196,HM!$A$10:$B$209,2))","v":""},null,192,null,{"$f":"IF(F196=\"\",\"\",VLOOKUP(F196,HM!$A$10:$B$209,2))","v":""}]
[null,null,{"$f":"IF(B197=\"\",\"\",VLOOKUP(B197,HM!$A$10:$B$209,2))","v":""},null,193,null,{"$f":"IF(F197=\"\",\"\",VLOOKUP(F197,HM!$A$10:$B$209,2))","v":""}]
[null,null,{"$f":"IF(B198=\"\",\"\",VLOOKUP(B198,HM!$A$10:$B$209,2))","v":""},null,194,null,{"$f":"IF(F198=\"\",\"\",VLOOKUP(F198,HM!$A$10:$B$209,2))","v":""}]
[null,null,{"$f":"IF(B199=\"\",\"\",VLOOKUP(B199,HM!$A$10:$B$209,2))","v":""},null,195,null,{"$f":"IF(F199=\"\",\"\",VLOOKUP(F199,HM!$A$10:$B$209,2))","v":""}]
[null,null,{"$f":"IF(B200=\"\",\"\",VLOOKUP(B200,HM!$A$10:$B$209,2))","v":""},null,196,null,{"$f":"IF(F200=\"\",\"\",VLOOKUP(F200,HM!$A$10:$B$209,2))","v":""}]
[null,null,{"$f":"IF(B201=\"\",\"\",VLOOKUP(B201,HM!$A$10:$B$209,2))","v":""},null,197,null,{"$f":"IF(F201=\"\",\"\",VLOOKUP(F201,HM!$A$10:$B$209,2))","v":""}]
[null,null,{"$f":"IF(B202=\"\",\"\",VLOOKUP(B202,HM!$A$10:$B$209,2))","v":""},null,198,null,{"$f":"IF(F202=\"\",\"\",VLOOKUP(F202,HM!$A$10:$B$209,2))","v":""}]
[null,null,{"$f":"IF(B203=\"\",\"\",VLOOKUP(B203,HM!$A$10:$B$209,2))","v":""},null,199,null,{"$f":"IF(F203=\"\",\"\",VLOOKUP(F203,HM!$A$10:$B$209,2))","v":""}]
[null,null,{"$f":"IF(B204=\"\",\"\",VLOOKUP(B204,HM!$A$10:$B$209,2))","v":""},null,200,null,{"$f":"IF(F204=\"\",\"\",VLOOKUP(F204,HM!$A$10:$B$209,2))","v":""}]

{"sheet":"VS","index":5,"n_rows":204,"n_cols":8,"rows_kept":204,"cut":false,"hidden":false,"merged":[[2,1,2,3],[2,5,2,7]]}
[]
[]
[null,"Volksbankorden",null,null,null,"Schinkenschießen"]
[null,"Lfd. Nr.:","Vor- und Nachname:","Teiler:",null,"Lfd. Nr.:","Vor- und Nachname:","Teiler"]
[null,null,{"$f":"IF(B5=\"\",\"\",VLOOKUP(B5,HM!$A$10:$B$209,2))","v":""},null,1,null,{"$f":"IF(F5=\"\",\"\",VLOOKUP(F5,HM!$A$10:$B$209,2))","v":""}]
[null,null,{"$f":"IF(B6=\"\",\"\",VLOOKUP(B6,HM!$A$10:$B$209,2))","v":""},null,2,null,{"$f":"IF(F6=\"\",\"\",VLOOKUP(F6,HM!$A$10:$B$209,2))","v":""}]
[null,null,{"$f":"IF(B7=\"\",\"\",VLOOKUP(B7,HM!$A$10:$B$209,2))","v":""},null,3,null,{"$f":"IF(F7=\"\",\"\",VLOOKUP(F7,HM!$A$10:$B$209,2))","v":""}]
[null,null,{"$f":"IF(B8=\"\",\"\",VLOOKUP(B8,HM!$A$10:$B$209,2))","v":""},null,4,null,{"$f":"IF(F8=\"\",\"\",VLOOKUP(F8,HM!$A$10:$B$209,2))","v":""}]
[null,null,{"$f":"IF(B9=\"\",\"\",VLOOKUP(B9,HM!$A$10:$B$209,2))","v":""},null,5,null,{"$f":"IF(F9=\"\",\"\",VLOOKUP(F9,HM!$A$10:$B$209,2))","v":""}]
[null,null,{"$f":"IF(B10=\"\",\"\",VLOOKUP(B10,HM!$A$10:$B$209,2))","v":""},null,6,null,{"$f":"IF(F10=\"\",\"\",VLOOKUP(F10,HM!$A$10:$B$209,2))","v":""}]
[null,null,{"$f":"IF(B11=\"\",\"\",VLOOKUP(B11,HM!$A$10:$B$209,2))","v":""},null,7,null,{"$f":"IF(F11=\"\",\"\",VLOOKUP(F11,HM!$A$10:$B$209,2))","v":""}]
[null,null,{"$f":"IF(B12=\"\",\"\",VLOOKUP(B12,HM!$A$10:$B$209,2))","v":""},null,8,null,{"$f":"IF(F12=\"\",\"\",VLOOKUP(F12,HM!$A$10:$B$209,2))","v":""}]
[null,null,{"$f":"IF(B13=\"\",\"\",VLOOKUP(B13,HM!$A$10:$B$209,2))","v":""},null,9,null,{"$f":"IF(F13=\"\",\"\",VLOOKUP(F13,HM!$A$10:$B$209,2))","v":""}]
[null,null,{"$f":"IF(B14=\"\",\"\",VLOOKUP(B14,HM!$A$10:$B$209,2))","v":""},null,10,null,{"$f":"IF(F14=\"\",\"\",VLOOKUP(F14,HM!$A$10:$B$209,2))","v":""}]
[null,null,{"$f":"IF(B15=\"\",\"\",VLOOKUP(B15,HM!$A$10:$B$209,2))","v":""},null,11,null,{"$f":"IF(F15=\"\",\"\",VLOOKUP(F15,HM!$A$10:$B$209,2))","v":""}]
[null,null,{"$f":"IF(B16=\"\",\"\",VLOOKUP(B16,HM!$A$10:$B$209,2))","v":""},null,12,null,{"$f":"IF(F16=\"\",\"\",VLOOKUP(F16,HM!$A$10:$B$209,2))","v":""}]
[null,null,{"$f":"IF(B17=\"\",\"\",VLOOKUP(B17,HM!$A$10:$B$209,2))","v":""},null,13,null,{"$f":"IF(F17=\"\",\"\",VLOOKUP(F17,HM!$A$10:$B$209,2))","v":""}]
[null,null,{"$f":"IF(B18=\"\",\"\",VLOOKUP(B18,HM!$A$10:$B$209,2))","v":""},null,14,null,{"$f":"IF(F18=\"\",\"\",VLOOKUP(F18,HM!$A$10:$B$209,2))","v":""}]
[null,null,{"$f":"IF(B19=\"\",\"\",VLOOKUP(B19,HM!$A$10:$B$209,2))","v":""},null,15,null,{"$f":"IF(F19=\"\",\"\",VLOOKUP(F19,HM!$A$10:$B$209,2))","v":""}]
[null,null,{"$f":"IF(B20=\"\",\"\",VLOOKUP(B20,HM!$A$10:$B$209,2))","v":""},null,16,null,{"$f":"IF(F20=\"\",\"\",VLOOKUP(F20,HM!$A$10:$B$209,2))","v":""}]
[null,null,{"$f":"IF(B21=\"\",\"\",VLOOKUP(B21,HM!$A$10:$B$209,2))","v":""},null,17,null,{"$f":"IF(F21=\"\",\"\",VLOOKUP(F21,HM!$A$10:$B$209,2))","v":""}]
[null,null,{"$f":"IF(B22=\"\",\"\",VLOOKUP(B22,HM!$A$10:$B$209,2))","v":""},null,18,null,{"$f":"IF(F22=\"\",\"\",VLOOKUP(F22,HM!$A$10:$B$209,2))","v":""}]
[null,null,{"$f":"IF(B23=\"\",\"\",VLOOKUP(B23,HM!$A$10:$B$209,2))","v":""},null,19,null,{"$f":"IF(F23=\"\",\"\",VLOOKUP(F23,HM!$A$10:$B$209,2))","v":""}]
[null,null,{"$f":"IF(B24=\"\",\"\",VLOOKUP(B24,HM!$A$10:$B$209,2))","v":""},null,20,null,{"$f":"IF(F24=\"\",\"\",VLOOKUP(F24,HM!$A$10:$B$209,2))","v":""}]
[null,null,{"$f":"IF(B25=\"\",\"\",VLOOKUP(B25,HM!$A$10:$B$209,2))","v":""},null,21,null,{"$f":"IF(F25=\"\",\"\",VLOOKUP(F25,HM!$A$10:$B$209,2))","v":""}]
[null,null,{"$f":"IF(B26=\"\",\"\",VLOOKUP(B26,HM!$A$10:$B$209,2))","v":""},null,22,null,{"$f":"IF(F26=\"\",\"\",VLOOKUP(F26,HM!$A$10:$B$209,2))","v":""}]
[null,null,{"$f":"IF(B27=\"\",\"\",VLOOKUP(B27,HM!$A$10:$B$209,2))","v":""},null,23,null,{"$f":"IF(F27=\"\",\"\",VLOOKUP(F27,HM!$A$10:$B$209,2))","v":""}]
[null,null,{"$f":"IF(B28=\"\",\"\",VLOOKUP(B28,HM!$A$10:$B$209,2))","v":""},null,24,null,{"$f":"IF(F28=\"\",\"\",VLOOKUP(F28,HM!$A$10:$B$209,2))","v":""}]
[null,null,{"$f":"IF(B29=\"\",\"\",VLOOKUP(B29,HM!$A$10:$B$209,2))","v":""},null,25,null,{"$f":"IF(F29=\"\",\"\",VLOOKUP(F29,HM!$A$10:$B$209,2))","v":""}]
[null,null,{"$f":"IF(B30=\"\",\"\",VLOOKUP(B30,HM!$A$10:$B$209,2))","v":""},null,26,null,{"$f":"IF(F30=\"\",\"\",VLOOKUP(F30,HM!$A$10:$B$209,2))","v":""}]
[null,null,{"$f":"IF(B31=\"\",\"\",VLOOKUP(B31,HM!$A$10:$B$209,2))","v":""},null,27,null,{"$f":"IF(F31=\"\",\"\",VLOOKUP(F31,HM!$A$10:$B$209,2))","v":""}]
[null,null,{"$f":"IF(B32=\"\",\"\",VLOOKUP(B32,HM!$A$10:$B$209,2))","v":""},null,28,null,{"$f":"IF(F32=\"\",\"\",VLOOKUP(F32,HM!$A$10:$B$209,2))","v":""}]
[null,null,{"$f":"IF(B33=\"\",\"\",VLOOKUP(B33,HM!$A$10:$B$209,2))","v":""},null,29,null,{"$f":"IF(F33=\"\",\"\",VLOOKUP(F33,HM!$A$10:$B$209,2))","v":""}]
[null,null,{"$f":"IF(B34=\"\",\"\",VLOOKUP(B34,HM!$A$10:$B$209,2))","v":""},null,30,null,{"$f":"IF(F34=\"\",\"\",VLOOKUP(F34,HM!$A$10:$B$209,2))","v":""}]
[null,null,{"$f":"IF(B35=\"\",\"\",VLOOKUP(B35,HM!$A$10:$B$209,2))","v":""},null,31,null,{"$f":"IF(F35=\"\",\"\",VLOOKUP(F35,HM!$A$10:$B$209,2))","v":""}]
[null,null,{"$f":"IF(B36=\"\",\"\",VLOOKUP(B36,HM!$A$10:$B$209,2))","v":""},null,32,null,{"$f":"IF(F36=\"\",\"\",VLOOKUP(F36,HM!$A$10:$B$209,2))","v":""}]
[null,null,{"$f":"IF(B37=\"\",\"\",VLOOKUP(B37,HM!$A$10:$B$209,2))","v":""},null,33,null,{"$f":"IF(F37=\"\",\"\",VLOOKUP(F37,HM!$A$10:$B$209,2))","v":""}]
[null,null,{"$f":"IF(B38=\"\",\"\",VLOOKUP(B38,HM!$A$10:$B$209,2))","v":""},null,34,null,{"$f":"IF(F38=\"\",\"\",VLOOKUP(F38,HM!$A$10:$B$209,2))","v":""}]
[null,null,{"$f":"IF(B39=\"\",\"\",VLOOKUP(B39,HM!$A$10:$B$209,2))","v":""},null,35,null,{"$f":"IF(F39=\"\",\"\",VLOOKUP(F39,HM!$A$10:$B$209,2))","v":""}]
[null,null,{"$f":"IF(B40=\"\",\"\",VLOOKUP(B40,HM!$A$10:$B$209,2))","v":""},null,36,null,{"$f":"IF(F40=\"\",\"\",VLOOKUP(F40,HM!$A$10:$B$209,2))","v":""}]
[null,null,{"$f":"IF(B41=\"\",\"\",VLOOKUP(B41,HM!$A$10:$B$209,2))","v":""},null,37,null,{"$f":"IF(F41=\"\",\"\",VLOOKUP(F41,HM!$A$10:$B$209,2))","v":""}]
[null,null,{"$f":"IF(B42=\"\",\"\",VLOOKUP(B42,HM!$A$10:$B$209,2))","v":""},null,38,null,{"$f":"IF(F42=\"\",\"\",VLOOKUP(F42,HM!$A$10:$B$209,2))","v":""}]
[null,null,{"$f":"IF(B43=\"\",\"\",VLOOKUP(B43,HM!$A$10:$B$209,2))","v":""},null,39,null,{"$f":"IF(F43=\"\",\"\",VLOOKUP(F43,HM!$A$10:$B$209,2))","v":""}]
[null,null,{"$f":"IF(B44=\"\",\"\",VLOOKUP(B44,HM!$A$10:$B$209,2))","v":""},null,40,null,{"$f":"IF(F44=\"\",\"\",VLOOKUP(F44,HM!$A$10:$B$209,2))","v":""}]
[null,null,{"$f":"IF(B45=\"\",\"\",VLOOKUP(B45,HM!$A$10:$B$209,2))","v":""},null,41,null,{"$f":"IF(F45=\"\",\"\",VLOOKUP(F45,HM!$A$10:$B$209,2))","v":""}]
[null,null,{"$f":"IF(B46=\"\",\"\",VLOOKUP(B46,HM!$A$10:$B$209,2))","v":""},null,42,null,{"$f":"IF(F46=\"\",\"\",VLOOKUP(F46,HM!$A$10:$B$209,2))","v":""}]
[null,null,{"$f":"IF(B47=\"\",\"\",VLOOKUP(B47,HM!$A$10:$B$209,2))","v":""},null,43,null,{"$f":"IF(F47=\"\",\"\",VLOOKUP(F47,HM!$A$10:$B$209,2))","v":""}]
[null,null,{"$f":"IF(B48=\"\",\"\",VLOOKUP(B48,HM!$A$10:$B$209,2))","v":""},null,44,null,{"$f":"IF(F48=\"\",\"\",VLOOKUP(F48,HM!$A$10:$B$209,2))","v":""}]
[null,null,{"$f":"IF(B49=\"\",\"\",VLOOKUP(B49,HM!$A$10:$B$209,2))","v":""},null,45,null,{"$f":"IF(F49=\"\",\"\",VLOOKUP(F49,HM!$A$10:$B$209,2))","v":""}]
[null,null,{"$f":"IF(B50=\"\",\"\",VLOOKUP(B50,HM!$A$10:$B$209,2))","v":""},null,46,null,{"$f":"IF(F50=\"\",\"\",VLOOKUP(F50,HM!$A$10:$B$209,2))","v":""}]
[null,null,{"$f":"IF(B51=\"\",\"\",VLOOKUP(B51,HM!$A$10:$B$209,2))","v":""},null,47,null,{"$f":"IF(F51=\"\",\"\",VLOOKUP(F51,HM!$A$10:$B$209,2))","v":""}]
[null,null,{"$f":"IF(B52=\"\",\"\",VLOOKUP(B52,HM!$A$10:$B$209,2))","v":""},null,48,null,{"$f":"IF(F52=\"\",\"\",VLOOKUP(F52,HM!$A$10:$B$209,2))","v":""}]
[null,null,{"$f":"IF(B53=\"\",\"\",VLOOKUP(B53,HM!$A$10:$B$209,2))","v":""},null,49,null,{"$f":"IF(F53=\"\",\"\",VLOOKUP(F53,HM!$A$10:$B$209,2))","v":""}]
[null,null,{"$f":"IF(B54=\"\",\"\",VLOOKUP(B54,HM!$A$10:$B$209,2))","v":""},null,50,null,{"$f":"IF(F54=\"\",\"\",VLOOKUP(F54,HM!$A$10:$B$209,2))","v":""}]
[null,null,{"$f":"IF(B55=\"\",\"\",VLOOKUP(B55,HM!$A$10:$B$209,2))","v":""},null,51,null,{"$f":"IF(F55=\"\",\"\",VLOOKUP(F55,HM!$A$10:$B$209,2))","v":""}]
[null,null,{"$f":"IF(B56=\"\",\"\",VLOOKUP(B56,HM!$A$10:$B$209,2))","v":""},null,52,null,{"$f":"IF(F56=\"\",\"\",VLOOKUP(F56,HM!$A$10:$B$209,2))","v":""}]
[null,null,{"$f":"IF(B57=\"\",\"\",VLOOKUP(B57,HM!$A$10:$B$209,2))","v":""},null,53,null,{"$f":"IF(F57=\"\",\"\",VLOOKUP(F57,HM!$A$10:$B$209,2))","v":""}]
[null,null,{"$f":"IF(B58=\"\",\"\",VLOOKUP(B58,HM!$A$10:$B$209,2))","v":""},null,54,null,{"$f":"IF(F58=\"\",\"\",VLOOKUP(F58,HM!$A$10:$B$209,2))","v":""}]
[null,null,{"$f":"IF(B59=\"\",\"\",VLOOKUP(B59,HM!$A$10:$B$209,2))","v":""},null,55,null,{"$f":"IF(F59=\"\",\"\",VLOOKUP(F59,HM!$A$10:$B$209,2))","v":""}]
[null,null,{"$f":"IF(B60=\"\",\"\",VLOOKUP(B60,HM!$A$10:$B$209,2))","v":""},null,56,null,{"$f":"IF(F60=\"\",\"\",VLOOKUP(F60,HM!$A$10:$B$209,2))","v":""}]
[null,null,{"$f":"IF(B61=\"\",\"\",VLOOKUP(B61,HM!$A$10:$B$209,2))","v":""},null,57,null,{"$f":"IF(F61=\"\",\"\",VLOOKUP(F61,HM!$A$10:$B$209,2))","v":""}]
[null,null,{"$f":"IF(B62=\"\",\"\",VLOOKUP(B62,HM!$A$10:$B$209,2))","v":""},null,58,null,{"$f":"IF(F62=\"\",\"\",VLOOKUP(F62,HM!$A$10:$B$209,2))","v":""}]
[null,null,{"$f":"IF(B63=\"\",\"\",VLOOKUP(B63,HM!$A$10:$B$209,2))","v":""},null,59,null,{"$f":"IF(F63=\"\",\"\",VLOOKUP(F63,HM!$A$10:$B$209,2))","v":""}]
[null,null,{"$f":"IF(B64=\"\",\"\",VLOOKUP(B64,HM!$A$10:$B$209,2))","v":""},null,60,null,{"$f":"IF(F64=\"\",\"\",VLOOKUP(F64,HM!$A$10:$B$209,2))","v":""}]
[null,null,{"$f":"IF(B65=\"\",\"\",VLOOKUP(B65,HM!$A$10:$B$209,2))","v":""},null,61,null,{"$f":"IF(F65=\"\",\"\",VLOOKUP(F65,HM!$A$10:$B$209,2))","v":""}]
[null,null,{"$f":"IF(B66=\"\",\"\",VLOOKUP(B66,HM!$A$10:$B$209,2))","v":""},null,62,null,{"$f":"IF(F66=\"\",\"\",VLOOKUP(F66,HM!$A$10:$B$209,2))","v":""}]
[null,null,{"$f":"IF(B67=\"\",\"\",VLOOKUP(B67,HM!$A$10:$B$209,2))","v":""},null,63,null,{"$f":"IF(F67=\"\",\"\",VLOOKUP(F67,HM!$A$10:$B$209,2))","v":""}]
[null,null,{"$f":"IF(B68=\"\",\"\",VLOOKUP(B68,HM!$A$10:$B$209,2))","v":""},null,64,null,{"$f":"IF(F68=\"\",\"\",VLOOKUP(F68,HM!$A$10:$B$209,2))","v":""}]
[null,null,{"$f":"IF(B69=\"\",\"\",VLOOKUP(B69,HM!$A$10:$B$209,2))","v":""},null,65,null,{"$f":"IF(F69=\"\",\"\",VLOOKUP(F69,HM!$A$10:$B$209,2))","v":""}]
[null,null,{"$f":"IF(B70=\"\",\"\",VLOOKUP(B70,HM!$A$10:$B$209,2))","v":""},null,66,null,{"$f":"IF(F70=\"\",\"\",VLOOKUP(F70,HM!$A$10:$B$209,2))","v":""}]
[null,null,{"$f":"IF(B71=\"\",\"\",VLOOKUP(B71,HM!$A$10:$B$209,2))","v":""},null,67,null,{"$f":"IF(F71=\"\",\"\",VLOOKUP(F71,HM!$A$10:$B$209,2))","v":""}]
[null,null,{"$f":"IF(B72=\"\",\"\",VLOOKUP(B72,HM!$A$10:$B$209,2))","v":""},null,68,null,{"$f":"IF(F72=\"\",\"\",VLOOKUP(F72,HM!$A$10:$B$209,2))","v":""}]
[null,null,{"$f":"IF(B73=\"\",\"\",VLOOKUP(B73,HM!$A$10:$B$209,2))","v":""},null,69,null,{"$f":"IF(F73=\"\",\"\",VLOOKUP(F73,HM!$A$10:$B$209,2))","v":""}]
[null,null,{"$f":"IF(B74=\"\",\"\",VLOOKUP(B74,HM!$A$10:$B$209,2))","v":""},null,70,null,{"$f":"IF(F74=\"\",\"\",VLOOKUP(F74,HM!$A$10:$B$209,2))","v":""}]
[null,null,{"$f":"IF(B75=\"\",\"\",VLOOKUP(B75,HM!$A$10:$B$209,2))","v":""},null,71,null,{"$f":"IF(F75=\"\",\"\",VLOOKUP(F75,HM!$A$10:$B$209,2))","v":""}]
[null,null,{"$f":"IF(B76=\"\",\"\",VLOOKUP(B76,HM!$A$10:$B$209,2))","v":""},null,72,null,{"$f":"IF(F76=\"\",\"\",VLOOKUP(F76,HM!$A$10:$B$209,2))","v":""}]
[null,null,{"$f":"IF(B77=\"\",\"\",VLOOKUP(B77,HM!$A$10:$B$209,2))","v":""},null,73,null,{"$f":"IF(F77=\"\",\"\",VLOOKUP(F77,HM!$A$10:$B$209,2))","v":""}]
[null,null,{"$f":"IF(B78=\"\",\"\",VLOOKUP(B78,HM!$A$10:$B$209,2))","v":""},null,74,null,{"$f":"IF(F78=\"\",\"\",VLOOKUP(F78,HM!$A$10:$B$209,2))","v":""}]
[null,null,{"$f":"IF(B79=\"\",\"\",VLOOKUP(B79,HM!$A$10:$B$209,2))","v":""},null,75,null,{"$f":"IF(F79=\"\",\"\",VLOOKUP(F79,HM!$A$10:$B$209,2))","v":""}]
[null,null,{"$f":"IF(B80=\"\",\"\",VLOOKUP(B80,HM!$A$10:$B$209,2))","v":""},null,76,null,{"$f":"IF(F80=\"\",\"\",VLOOKUP(F80,HM!$A$10:$B$209,2))","v":""}]
[null,null,{"$f":"IF(B81=\"\",\"\",VLOOKUP(B81,HM!$A$10:$B$209,2))","v":""},null,77,null,{"$f":"IF(F81=\"\",\"\",VLOOKUP(F81,HM!$A$10:$B$209,2))","v":""}]
[null,null,{"$f":"IF(B82=\"\",\"\",VLOOKUP(B82,HM!$A$10:$B$209,2))","v":""},null,78,null,{"$f":"IF(F82=\"\",\"\",VLOOKUP(F82,HM!$A$10:$B$209,2))","v":""}]
[null,null,{"$f":"IF(B83=\"\",\"\",VLOOKUP(B83,HM!$A$10:$B$209,2))","v":""},null,79,null,{"$f":"IF(F83=\"\",\"\",VLOOKUP(F83,HM!$A$10:$B$209,2))","v":""}]
[null,null,{"$f":"IF(B84=\"\",\"\",VLOOKUP(B84,HM!$A$10:$B$209,2))","v":""},null,80,null,{"$f":"IF(F84=\"\",\"\",VLOOKUP(F84,HM!$A$10:$B$209,2))","v":""}]
[null,null,{"$f":"IF(B85=\"\",\"\",VLOOKUP(B85,HM!$A$10:$B$209,2))","v":""},null,81,null,{"$f":"IF(F85=\"\",\"\",VLOOKUP(F85,HM!$A$10:$B$209,2))","v":""}]
[null,null,{"$f":"IF(B86=\"\",\"\",VLOOKUP(B86,HM!$A$10:$B$209,2))","v":""},null,82,null,{"$f":"IF(F86=\"\",\"\",VLOOKUP(F86,HM!$A$10:$B$209,2))","v":""}]
[null,null,{"$f":"IF(B87=\"\",\"\",VLOOKUP(B87,HM!$A$10:$B$209,2))","v":""},null,83,null,{"$f":"IF(F87=\"\",\"\",VLOOKUP(F87,HM!$A$10:$B$209,2))","v":""}]
[null,null,{"$f":"IF(B88=\"\",\"\",VLOOKUP(B88,HM!$A$10:$B$209,2))","v":""},null,84,null,{"$f":"IF(F88=\"\",\"\",VLOOKUP(F88,HM!$A$10:$B$209,2))","v":""}]
[null,null,{"$f":"IF(B89=\"\",\"\",VLOOKUP(B89,HM!$A$10:$B$209,2))","v":""},null,85,null,{"$f":"IF(F89=\"\",\"\",VLOOKUP(F89,HM!$A$10:$B$209,2))","v":""}]
[null,null,{"$f":"IF(B90=\"\",\"\",VLOOKUP(B90,HM!$A$10:$B$209,2))","v":""},null,86,null,{"$f":"IF(F90=\"\",\"\",VLOOKUP(F90,HM!$A$10:$B$209,2))","v":""}]
[null,null,{"$f":"IF(B91=\"\",\"\",VLOOKUP(B91,HM!$A$10:$B$209,2))","v":""},null,87,null,{"$f":"IF(F91=\"\",\"\",VLOOKUP(F91,HM!$A$10:$B$209,2))","v":""}]
[null,null,{"$f":"IF(B92=\"\",\"\",VLOOKUP(B92,HM!$A$10:$B$209,2))","v":""},null,88,null,{"$f":"IF(F92=\"\",\"\",VLOOKUP(F92,HM!$A$10:$B$209,2))","v":""}]
[null,null,{"$f":"IF(B93=\"\",\"\",VLOOKUP(B93,HM!$A$10:$B$209,2))","v":""},null,89,null,{"$f":"IF(F93=\"\",\"\",VLOOKUP(F93,HM!$A$10:$B$209,2))","v":""}]
[null,null,{"$f":"IF(B94=\"\",\"\",VLOOKUP(B94,HM!$A$10:$B$209,2))","v":""},null,90,null,{"$f":"IF(F94=\"\",\"\",VLOOKUP(F94,HM!$A$10:$B$209,2))","v":""}]
[null,null,{"$f":"IF(B95=\"\",\"\",VLOOKUP(B95,HM!$A$10:$B$209,2))","v":""},null,91,null,{"$f":"IF(F95=\"\",\"\",VLOOKUP(F95,HM!$A$10:$B$209,2))","v":""}]
[null,null,{"$f":"IF(B96=\"\",\"\",VLOOKUP(B96,HM!$A$10:$B$209,2))","v":""},null,92,null,{"$f":"IF(F96=\"\",\"\",VLOOKUP(F96,HM!$A$10:$B$209,2))","v":""}]
[null,null,{"$f":"IF(B97=\"\",\"\",VLOOKUP(B97,HM!$A$10:$B$209,2))","v":""},null,93,null,{"$f":"IF(F97=\"\",\"\",VLOOKUP(F97,HM!$A$10:$B$209,2))","v":""}]
[null,null,{"$f":"IF(B98=\"\",\"\",VLOOKUP(B98,HM!$A$10:$B$209,2))","v":""},null,94,null,{"$f":"IF(F98=\"\",\"\",VLOOKUP(F98,HM!$A$10:$B$209,2))","v":""}]
[null,null,{"$f":"IF(B99=\"\",\"\",VLOOKUP(B99,HM!$A$10:$B$209,2))","v":""},null,95,null,{"$f":"IF(F99=\"\",\"\",VLOOKUP(F99,HM!$A$10:$B$209,2))","v":""}]
[null,null,{"$f":"IF(B100=\"\",\"\",VLOOKUP(B100,HM!$A$10:$B$209,2))","v":""},null,96,null,{"$f":"IF(F100=\"\",\"\",VLOOKUP(F100,HM!$A$10:$B$209,2))","v":""}]
[null,null,{"$f":"IF(B101=\"\",\"\",VLOOKUP(B101,HM!$A$10:$B$209,2))","v":""},null,97,null,{"$f":"IF(F101=\"\",\"\",VLOOKUP(F101,HM!$A$10:$B$209,2))","v":""}]
[null,null,{"$f":"IF(B102=\"\",\"\",VLOOKUP(B102,HM!$A$10:$B$209,2))","v":""},null,98,null,{"$f":"IF(F102=\"\",\"\",VLOOKUP(F102,HM!$A$10:$B$209,2))","v":""}]
[null,null,{"$f":"IF(B103=\"\",\"\",VLOOKUP(B103,HM!$A$10:$B$209,2))","v":""},null,99,null,{"$f":"IF(F103=\"\",\"\",VLOOKUP(F103,HM!$A$10:$B$209,2))","v":""}]
[null,null,{"$f":"IF(B104=\"\",\"\",VLOOKUP(B104,HM!$A$10:$B$209,2))","v":""},null,100,null,{"$f":"IF(F104=\"\",\"\",VLOOKUP(F104,HM!$A$10:$B$209,2))","v":""}]
[null,null,{"$f":"IF(B105=\"\",\"\",VLOOKUP(B105,HM!$A$10:$B$209,2))","v":""},null,101,null,{"$f":"IF(F105=\"\",\"\",VLOOKUP(F105,HM!$A$10:$B$209,2))","v":""}]
[null,null,{"$f":"IF(B106=\"\",\"\",VLOOKUP(B106,HM!$A$10:$B$209,2))","v":""},null,102,null,{"$f":"IF(F106=\"\",\"\",VLOOKUP(F106,HM!$A$10:$B$209,2))","v":""}]
[null,null,{"$f":"IF(B107=\"\",\"\",VLOOKUP(B107,HM!$A$10:$B$209,2))","v":""},null,103,null,{"$f":"IF(F107=\"\",\"\",VLOOKUP(F107,HM!$A$10:$B$209,2))","v":""}]
[null,null,{"$f":"IF(B108=\"\",\"\",VLOOKUP(B108,HM!$A$10:$B$209,2))","v":""},null,104,null,{"$f":"IF(F108=\"\",\"\",VLOOKUP(F108,HM!$A$10:$B$209,2))","v":""}]
[null,null,{"$f":"IF(B109=\"\",\"\",VLOOKUP(B109,HM!$A$10:$B$209,2))","v":""},null,105,null,{"$f":"IF(F109=\"\",\"\",VLOOKUP(F109,HM!$A$10:$B$209,2))","v":""}]
[null,null,{"$f":"IF(B110=\"\",\"\",VLOOKUP(B110,HM!$A$10:$B$209,2))","v":""},null,106,null,{"$f":"IF(F110=\"\",\"\",VLOOKUP(F110,HM!$A$10:$B$209,2))","v":""}]
[null,null,{"$f":"IF(B111=\"\",\"\",VLOOKUP(B111,HM!$A$10:$B$209,2))","v":""},null,107,null,{"$f":"IF(F111=\"\",\"\",VLOOKUP(F111,HM!$A$10:$B$209,2))","v":""}]
[null,null,{"$f":"IF(B112=\"\",\"\",VLOOKUP(B112,HM!$A$10:$B$209,2))","v":""},null,108,null,{"$f":"IF(F112=\"\",\"\",VLOOKUP(F112,HM!$A$10:$B$209,2))","v":""}]
[null,null,{"$f":"IF(B113=\"\",\"\",VLOOKUP(B113,HM!$A$10:$B$209,2))","v":""},null,109,null,{"$f":"IF(F113=\"\",\"\",VLOOKUP(F113,HM!$A$10:$B$209,2))","v":""}]
[null,null,{"$f":"IF(B114=\"\",\"\",VLOOKUP(B114,HM!$A$10:$B$209,2))","v":""},null,110,null,{"$f":"IF(F114=\"\",\"\",VLOOKUP(F114,HM!$A$10:$B$209,2))","v":""}]
[null,null,{"$f":"IF(B115=\"\",\"\",VLOOKUP(B115,HM!$A$10:$B$209,2))","v":""},null,111,null,{"$f":"IF(F115=\"\",\"\",VLOOKUP(F115,HM!$A$10:$B$209,2))","v":""}]
[null,null,{"$f":"IF(B116=\"\",\"\",VLOOKUP(B116,HM!$A$10:$B$209,2))","v":""},null,112,null,{"$f":"IF(F116=\"\",\"\",VLOOKUP(F116,HM!$A$10:$B$209,2))","v":""}]
[null,null,{"$f":"IF(B117=\"\",\"\",VLOOKUP(B117,HM!$A$10:$B$209,2))","v":""},null,113,null,{"$f":"IF(F117=\"\",\"\",VLOOKUP(F117,HM!$A$10:$B$209,2))","v":""}]
[null,null,{"$f":"IF(B118=\"\",\"\",VLOOKUP(B118,HM!$A$10:$B$209,2))","v":""},null,114,null,{"$f":"IF(F118=\"\",\"\",VLOOKUP(F118,HM!$A$10:$B$209,2))","v":""}]
[null,null,{"$f":"IF(B119=\"\",\"\",VLOOKUP(B119,HM!$A$10:$B$209,2))","v":""},null,115,null,{"$f":"IF(F119=\"\",\"\",VLOOKUP(F119,HM!$A$10:$B$209,2))","v":""}]
[null,null,{"$f":"IF(B120=\"\",\"\",VLOOKUP(B120,HM!$A$10:$B$209,2))","v":""},null,116,null,{"$f":"IF(F120=\"\",\"\",VLOOKUP(F120,HM!$A$10:$B$209,2))","v":""}]
[null,null,{"$f":"IF(B121=\"\",\"\",VLOOKUP(B121,HM!$A$10:$B$209,2))","v":""},null,117,null,{"$f":"IF(F121=\"\",\"\",VLOOKUP(F121,HM!$A$10:$B$209,2))","v":""}]
[null,null,{"$f":"IF(B122=\"\",\"\",VLOOKUP(B122,HM!$A$10:$B$209,2))","v":""},null,118,null,{"$f":"IF(F122=\"\",\"\",VLOOKUP(F122,HM!$A$10:$B$209,2))","v":""}]
[null,null,{"$f":"IF(B123=\"\",\"\",VLOOKUP(B123,HM!$A$10:$B$209,2))","v":""},null,119,null,{"$f":"IF(F123=\"\",\"\",VLOOKUP(F123,HM!$A$10:$B$209,2))","v":""}]
[null,null,{"$f":"IF(B124=\"\",\"\",VLOOKUP(B124,HM!$A$10:$B$209,2))","v":""},null,120,null,{"$f":"IF(F124=\"\",\"\",VLOOKUP(F124,HM!$A$10:$B$209,2))","v":""}]
[null,null,{"$f":"IF(B125=\"\",\"\",VLOOKUP(B125,HM!$A$10:$B$209,2))","v":""},null,121,null,{"$f":"IF(F125=\"\",\"\",VLOOKUP(F125,HM!$A$10:$B$209,2))","v":""}]
[null,null,{"$f":"IF(B126=\"\",\"\",VLOOKUP(B126,HM!$A$10:$B$209,2))","v":""},null,122,null,{"$f":"IF(F126=\"\",\"\",VLOOKUP(F126,HM!$A$10:$B$209,2))","v":""}]
[null,null,{"$f":"IF(B127=\"\",\"\",VLOOKUP(B127,HM!$A$10:$B$209,2))","v":""},null,123,null,{"$f":"IF(F127=\"\",\"\",VLOOKUP(F127,HM!$A$10:$B$209,2))","v":""}]
[null,null,{"$f":"IF(B128=\"\",\"\",VLOOKUP(B128,HM!$A$10:$B$209,2))","v":""},null,124,null,{"$f":"IF(F128=\"\",\"\",VLOOKUP(F128,HM!$A$10:$B$209,2))","v":""}]
[null,null,{"$f":"IF(B129=\"\",\"\",VLOOKUP(B129,HM!$A$10:$B$209,2))","v":""},null,125,null,{"$f":"IF(F129=\"\",\"\",VLOOKUP(F129,HM!$A$10:$B$209,2))","v":""}]
[null,null,{"$f":"IF(B130=\"\",\"\",VLOOKUP(B130,HM!$A$10:$B$209,2))","v":""},null,126,null,{"$f":"IF(F130=\"\",\"\",VLOOKUP(F130,HM!$A$10:$B$209,2))","v":""}]
[null,null,{"$f":"IF(B131=\"\",\"\",VLOOKUP(B131,HM!$A$10:$B$209,2))","v":""},null,127,null,{"$f":"IF(F131=\"\",\"\",VLOOKUP(F131,HM!$A$10:$B$209,2))","v":""}]
[null,null,{"$f":"IF(B132=\"\",\"\",VLOOKUP(B132,HM!$A$10:$B$209,2))","v":""},null,128,null,{"$f":"IF(F132=\"\",\"\",VLOOKUP(F132,HM!$A$10:$B$209,2))","v":""}]
[null,null,{"$f":"IF(B133=\"\",\"\",VLOOKUP(B133,HM!$A$10:$B$209,2))","v":""},null,129,null,{"$f":"IF(F133=\"\",\"\",VLOOKUP(F133,HM!$A$10:$B$209,2))","v":""}]
[null,null,{"$f":"IF(B134=\"\",\"\",VLOOKUP(B134,HM!$A$10:$B$209,2))","v":""},null,130,null,{"$f":"IF(F134=\"\",\"\",VLOOKUP(F134,HM!$A$10:$B$209,2))","v":""}]
[null,null,{"$f":"IF(B135=\"\",\"\",VLOOKUP(B135,HM!$A$10:$B$209,2))","v":""},null,131,null,{"$f":"IF(F135=\"\",\"\",VLOOKUP(F135,HM!$A$10:$B$209,2))","v":""}]
[null,null,{"$f":"IF(B136=\"\",\"\",VLOOKUP(B136,HM!$A$10:$B$209,2))","v":""},null,132,null,{"$f":"IF(F136=\"\",\"\",VLOOKUP(F136,HM!$A$10:$B$209,2))","v":""}]
[null,null,{"$f":"IF(B137=\"\",\"\",VLOOKUP(B137,HM!$A$10:$B$209,2))","v":""},null,133,null,{"$f":"IF(F137=\"\",\"\",VLOOKUP(F137,HM!$A$10:$B$209,2))","v":""}]
[null,null,{"$f":"IF(B138=\"\",\"\",VLOOKUP(B138,HM!$A$10:$B$209,2))","v":""},null,134,null,{"$f":"IF(F138=\"\",\"\",VLOOKUP(F138,HM!$A$10:$B$209,2))","v":""}]
[null,null,{"$f":"IF(B139=\"\",\"\",VLOOKUP(B139,HM!$A$10:$B$209,2))","v":""},null,135,null,{"$f":"IF(F139=\"\",\"\",VLOOKUP(F139,HM!$A$10:$B$209,2))","v":""}]
[null,null,{"$f":"IF(B140=\"\",\"\",VLOOKUP(B140,HM!$A$10:$B$209,2))","v":""},null,136,null,{"$f":"IF(F140=\"\",\"\",VLOOKUP(F140,HM!$A$10:$B$209,2))","v":""}]
[null,null,{"$f":"IF(B141=\"\",\"\",VLOOKUP(B141,HM!$A$10:$B$209,2))","v":""},null,137,null,{"$f":"IF(F141=\"\",\"\",VLOOKUP(F141,HM!$A$10:$B$209,2))","v":""}]
[null,null,{"$f":"IF(B142=\"\",\"\",VLOOKUP(B142,HM!$A$10:$B$209,2))","v":""},null,138,null,{"$f":"IF(F142=\"\",\"\",VLOOKUP(F142,HM!$A$10:$B$209,2))","v":""}]
[null,null,{"$f":"IF(B143=\"\",\"\",VLOOKUP(B143,HM!$A$10:$B$209,2))","v":""},null,139,null,{"$f":"IF(F143=\"\",\"\",VLOOKUP(F143,HM!$A$10:$B$209,2))","v":""}]
[null,null,{"$f":"IF(B144=\"\",\"\",VLOOKUP(B144,HM!$A$10:$B$209,2))","v":""},null,140,null,{"$f":"IF(F144=\"\",\"\",VLOOKUP(F144,HM!$A$10:$B$209,2))","v":""}]
[null,null,{"$f":"IF(B145=\"\",\"\",VLOOKUP(B145,HM!$A$10:$B$209,2))","v":""},null,141,null,{"$f":"IF(F145=\"\",\"\",VLOOKUP(F145,HM!$A$10:$B$209,2))","v":""}]
[null,null,{"$f":"IF(B146=\"\",\"\",VLOOKUP(B146,HM!$A$10:$B$209,2))","v":""},null,142,null,{"$f":"IF(F146=\"\",\"\",VLOOKUP(F146,HM!$A$10:$B$209,2))","v":""}]
[null,null,{"$f":"IF(B147=\"\",\"\",VLOOKUP(B147,HM!$A$10:$B$209,2))","v":""},null,143,null,{"$f":"IF(F147=\"\",\"\",VLOOKUP(F147,HM!$A$10:$B$209,2))","v":""}]
[null,null,{"$f":"IF(B148=\"\",\"\",VLOOKUP(B148,HM!$A$10:$B$209,2))","v":""},null,144,null,{"$f":"IF(F148=\"\",\"\",VLOOKUP(F148,HM!$A$10:$B$209,2))","v":""}]
[null,null,{"$f":"IF(B149=\"\",\"\",VLOOKUP(B149,HM!$A$10:$B$209,2))","v":""},null,145,null,{"$f":"IF(F149=\"\",\"\",VLOOKUP(F149,HM!$A$10:$B$209,2))","v":""}]
[null,null,{"$f":"IF(B150=\"\",\"\",VLOOKUP(B150,HM!$A$10:$B$209,2))","v":""},null,146,null,{"$f":"IF(F150=\"\",\"\",VLOOKUP(F150,HM!$A$10:$B$209,2))","v":""}]
[null,null,{"$f":"IF(B151=\"\",\"\",VLOOKUP(B151,HM!$A$10:$B$209,2))","v":""},null,147,null,{"$f":"IF(F151=\"\",\"\",VLOOKUP(F151,HM!$A$10:$B$209,2))","v":""}]
[null,null,{"$f":"IF(B152=\"\",\"\",VLOOKUP(B152,HM!$A$10:$B$209,2))","v":""},null,148,null,{"$f":"IF(F152=\"\",\"\",VLOOKUP(F152,HM!$A$10:$B$209,2))","v":""}]
[null,null,{"$f":"IF(B153=\"\",\"\",VLOOKUP(B153,HM!$A$10:$B$209,2))","v":""},null,149,null,{"$f":"IF(F153=\"\",\"\",VLOOKUP(F153,HM!$A$10:$B$209,2))","v":""}]
[null,null,{"$f":"IF(B154=\"\",\"\",VLOOKUP(B154,HM!$A$10:$B$209,2))","v":""},null,150,null,{"$f":"IF(F154=\"\",\"\",VLOOKUP(F154,HM!$A$10:$B$209,2))","v":""}]
[null,null,{"$f":"IF(B155=\"\",\"\",VLOOKUP(B155,HM!$A$10:$B$209,2))","v":""},null,151,null,{"$f":"IF(F155=\"\",\"\",VLOOKUP(F155,HM!$A$10:$B$209,2))","v":""}]
[null,null,{"$f":"IF(B156=\"\",\"\",VLOOKUP(B156,HM!$A$10:$B$209,2))","v":""},null,152,null,{"$f":"IF(F156=\"\",\"\",VLOOKUP(F156,HM!$A$10:$B$209,2))","v":""}]
[null,null,{"$f":"IF(B157=\"\",\"\",VLOOKUP(B157,HM!$A$10:$B$209,2))","v":""},null,153,null,{"$f":"IF(F157=\"\",\"\",VLOOKUP(F157,HM!$A$10:$B$209,2))","v":""}]
[null,null,{"$f":"IF(B158=\"\",\"\",VLOOKUP(B158,HM!$A$10:$B$209,2))","v":""},null,154,null,{"$f":"IF(F158=\"\",\"\",VLOOKUP(F158,HM!$A$10:$B$209,2))","v":""}]
[null,null,{"$f":"IF(B159=\"\",\"\",VLOOKUP(B159,HM!$A$10:$B$209,2))","v":""},null,155,null,{"$f":"IF(F159=\"\",\"\",VLOOKUP(F159,HM!$A$10:$B$209,2))","v":""}]
[null,null,{"$f":"IF(B160=\"\",\"\",VLOOKUP(B160,HM!$A$10:$B$209,2))","v":""},null,156,null,{"$f":"IF(F160=\"\",\"\",VLOOKUP(F160,HM!$A$10:$B$209,2))","v":""}]
[null,null,{"$f":"IF(B161=\"\",\"\",VLOOKUP(B161,HM!$A$10:$B$209,2))","v":""},null,157,null,{"$f":"IF(F161=\"\",\"\",VLOOKUP(F161,HM!$A$10:$B$209,2))","v":""}]
[null,null,{"$f":"IF(B162=\"\",\"\",VLOOKUP(B162,HM!$A$10:$B$209,2))","v":""},null,158,null,{"$f":"IF(F162=\"\",\"\",VLOOKUP(F162,HM!$A$10:$B$209,2))","v":""}]
[null,null,{"$f":"IF(B163=\"\",\"\",VLOOKUP(B163,HM!$A$10:$B$209,2))","v":""},null,159,null,{"$f":"IF(F163=\"\",\"\",VLOOKUP(F163,HM!$A$10:$B$209,2))","v":""}]
[null,null,{"$f":"IF(B164=\"\",\"\",VLOOKUP(B164,HM!$A$10:$B$209,2))","v":""},null,160,null,{"$f":"IF(F164=\"\",\"\",VLOOKUP(F164,HM!$A$10:$B$209,2))","v":""}]
[null,null,{"$f":"IF(B165=\"\",\"\",VLOOKUP(B165,HM!$A$10:$B$209,2))","v":""},null,161,null,{"$f":"IF(F165=\"\",\"\",VLOOKUP(F165,HM!$A$10:$B$209,2))","v":""}]
[null,null,{"$f":"IF(B166=\"\",\"\",VLOOKUP(B166,HM!$A$10:$B$209,2))","v":""},null,162,null,{"$f":"IF(F166=\"\",\"\",VLOOKUP(F166,HM!$A$10:$B$209,2))","v":""}]
[null,null,{"$f":"IF(B167=\"\",\"\",VLOOKUP(B167,HM!$A$10:$B$209,2))","v":""},null,163,null,{"$f":"IF(F167=\"\",\"\",VLOOKUP(F167,HM!$A$10:$B$209,2))","v":""}]
[null,null,{"$f":"IF(B168=\"\",\"\",VLOOKUP(B168,HM!$A$10:$B$209,2))","v":""},null,164,null,{"$f":"IF(F168=\"\",\"\",VLOOKUP(F168,HM!$A$10:$B$209,2))","v":""}]
[null,null,{"$f":"IF(B169=\"\",\"\",VLOOKUP(B169,HM!$A$10:$B$209,2))","v":""},null,165,null,{"$f":"IF(F169=\"\",\"\",VLOOKUP(F169,HM!$A$10:$B$209,2))","v":""}]
[null,null,{"$f":"IF(B170=\"\",\"\",VLOOKUP(B170,HM!$A$10:$B$209,2))","v":""},null,166,null,{"$f":"IF(F170=\"\",\"\",VLOOKUP(F170,HM!$A$10:$B$209,2))","v":""}]
[null,null,{"$f":"IF(B171=\"\",\"\",VLOOKUP(B171,HM!$A$10:$B$209,2))","v":""},null,167,null,{"$f":"IF(F171=\"\",\"\",VLOOKUP(F171,HM!$A$10:$B$209,2))","v":""}]
[null,null,{"$f":"IF(B172=\"\",\"\",VLOOKUP(B172,HM!$A$10:$B$209,2))","v":""},null,168,null,{"$f":"IF(F172=\"\",\"\",VLOOKUP(F172,HM!$A$10:$B$209,2))","v":""}]
[null,null,{"$f":"IF(B173=\"\",\"\",VLOOKUP(B173,HM!$A$10:$B$209,2))","v":""},null,169,null,{"$f":"IF(F173=\"\",\"\",VLOOKUP(F173,HM!$A$10:$B$209,2))","v":""}]
[null,null,{"$f":"IF(B174=\"\",\"\",VLOOKUP(B174,HM!$A$10:$B$209,2))","v":""},null,170,null,{"$f":"IF(F174=\"\",\"\",VLOOKUP(F174,HM!$A$10:$B$209,2))","v":""}]
[null,null,{"$f":"IF(B175=\"\",\"\",VLOOKUP(B175,HM!$A$10:$B$209,2))","v":""},null,171,null,{"$f":"IF(F175=\"\",\"\",VLOOKUP(F175,HM!$A$10:$B$209,2))","v":""}]
[null,null,{"$f":"IF(B176=\"\",\"\",VLOOKUP(B176,HM!$A$10:$B$209,2))","v":""},null,172,null,{"$f":"IF(F176=\"\",\"\",VLOOKUP(F176,HM!$A$10:$B$209,2))","v":""}]
[null,null,{"$f":"IF(B177=\"\",\"\",VLOOKUP(B177,HM!$A$10:$B$209,2))","v":""},null,173,null,{"$f":"IF(F177=\"\",\"\",VLOOKUP(F177,HM!$A$10:$B$209,2))","v":""}]
[null,null,{"$f":"IF(B178=\"\",\"\",VLOOKUP(B178,HM!$A$10:$B$209,2))","v":""},null,174,null,{"$f":"IF(F178=\"\",\"\",VLOOKUP(F178,HM!$A$10:$B$209,2))","v":""}]
[null,null,{"$f":"IF(B179=\"\",\"\",VLOOKUP(B179,HM!$A$10:$B$209,2))","v":""},null,175,null,{"$f":"IF(F179=\"\",\"\",VLOOKUP(F179,HM!$A$10:$B$209,2))","v":""}]
[null,null,{"$f":"IF(B180=\"\",\"\",VLOOKUP(B180,HM!$A$10:$B$209,2))","v":""},null,176,null,{"$f":"IF(F180=\"\",\"\",VLOOKUP(F180,HM!$A$10:$B$209,2))","v":""}]
[null,null,{"$f":"IF(B181=\"\",\"\",VLOOKUP(B181,HM!$A$10:$B$209,2))","v":""},null,177,null,{"$f":"IF(F181=\"\",\"\",VLOOKUP(F181,HM!$A$10:$B$209,2))","v":""}]
[null,null,{"$f":"IF(B182=\"\",\"\",VLOOKUP(B182,HM!$A$10:$B$209,2))","v":""},null,178,null,{"$f":"IF(F182=\"\",\"\",VLOOKUP(F182,HM!$A$10:$B$209,2))","v":""}]
[null,null,{"$f":"IF(B183=\"\",\"\",VLOOKUP(B183,HM!$A$10:$B$209,2))","v":""},null,179,null,{"$f":"IF(F183=\"\",\"\",VLOOKUP(F183,HM!$A$10:$B$209,2))","v":""}]
[null,null,{"$f":"IF(B184=\"\",\"\",VLOOKUP(B184,HM!$A$10:$B$209,2))","v":""},null,180,null,{"$f":"IF(F184=\"\",\"\",VLOOKUP(F184,HM!$A$10:$B$209,2))","v":""}]
[null,null,{"$f":"IF(B185=\"\",\"\",VLOOKUP(B185,HM!$A$10:$B$209,2))","v":""},null,181,null,{"$f":"IF(F185=\"\",\"\",VLOOKUP(F185,HM!$A$10:$B$209,2))","v":""}]
[null,null,{"$f":"IF(B186=\"\",\"\",VLOOKUP(B186,HM!$A$10:$B$209,2))","v":""},null,182,null,{"$f":"IF(F186=\"\",\"\",VLOOKUP(F186,HM!$A$10:$B$209,2))","v":""}]
[null,null,{"$f":"IF(B187=\"\",\"\",VLOOKUP(B187,HM!$A$10:$B$209,2))","v":""},null,183,null,{"$f":"IF(F187=\"\",\"\",VLOOKUP(F187,HM!$A$10:$B$209,2))","v":""}]
[null,null,{"$f":"IF(B188=\"\",\"\",VLOOKUP(B188,HM!$A$10:$B$209,2))","v":""},null,184,null,{"$f":"IF(F188=\"\",\"\",VLOOKUP(F188,HM!$A$10:$B$209,2))","v":""}]
[null,null,{"$f":"IF(B189=\"\",\"\",VLOOKUP(B189,HM!$A$10:$B$209,2))","v":""},null,185,null,{"$f":"IF(F189=\"\",\"\",VLOOKUP(F189,HM!$A$10:$B$209,2))","v":""}]
[null,null,{"$f":"IF(B190=\"\",\"\",VLOOKUP(B190,HM!$A$10:$B$209,2))","v":""},null,186,null,{"$f":"IF(F190=\"\",\"\",VLOOKUP(F190,HM!$A$10:$B$209,2))","v":""}]
[null,null,{"$f":"IF(B191=\"\",\"\",VLOOKUP(B191,HM!$A$10:$B$209,2))","v":""},null,187,null,{"$f":"IF(F191=\"\",\"\",VLOOKUP(F191,HM!$A$10:$B$209,2))","v":""}]
[null,null,{"$f":"IF(B192=\"\",\"\",VLOOKUP(B192,HM!$A$10:$B$209,2))","v":""},null,188,null,{"$f":"IF(F192=\"\",\"\",VLOOKUP(F192,HM!$A$10:$B$209,2))","v":""}]
[null,null,{"$f":"IF(B193=\"\",\"\",VLOOKUP(B193,HM!$A$10:$B$209,2))","v":""},null,189,null,{"$f":"IF(F193=\"\",\"\",VLOOKUP(F193,HM!$A$10:$B$209,2))","v":""}]
[null,null,{"$f":"IF(B194=\"\",\"\",VLOOKUP(B194,HM!$A$10:$B$209,2))","v":""},null,190,null,{"$f":"IF(F194=\"\",\"\",VLOOKUP(F194,HM!$A$10:$B$209,2))","v":""}]
[null,null,{"$f":"IF(B195=\"\",\"\",VLOOKUP(B195,HM!$A$10:$B$209,2))","v":""},null,191,null,{"$f":"IF(F195=\"\",\"\",VLOOKUP(F195,HM!$A$10:$B$209,2))","v":""}]
[null,null,{"$f":"IF(B196=\"\",\"\",VLOOKUP(B196,HM!$A$10:$B$209,2))","v":""},null,192,null,{"$f":"IF(F196=\"\",\"\",VLOOKUP(F196,HM!$A$10:$B$209,2))","v":""}]
[null,null,{"$f":"IF(B197=\"\",\"\",VLOOKUP(B197,HM!$A$10:$B$209,2))","v":""},null,193,null,{"$f":"IF(F197=\"\",\"\",VLOOKUP(F197,HM!$A$10:$B$209,2))","v":""}]
[null,null,{"$f":"IF(B198=\"\",\"\",VLOOKUP(B198,HM!$A$10:$B$209,2))","v":""},null,194,null,{"$f":"IF(F198=\"\",\"\",VLOOKUP(F198,HM!$A$10:$B$209,2))","v":""}]
[null,null,{"$f":"IF(B199=\"\",\"\",VLOOKUP(B199,HM!$A$10:$B$209,2))","v":""},null,195,null,{"$f":"IF(F199=\"\",\"\",VLOOKUP(F199,HM!$A$10:$B$209,2))","v":""}]
[null,null,{"$f":"IF(B200=\"\",\"\",VLOOKUP(B200,HM!$A$10:$B$209,2))","v":""},null,196,null,{"$f":"IF(F200=\"\",\"\",VLOOKUP(F200,HM!$A$10:$B$209,2))","v":""}]
[null,null,{"$f":"IF(B201=\"\",\"\",VLOOKUP(B201,HM!$A$10:$B$209,2))","v":""},null,197,null,{"$f":"IF(F201=\"\",\"\",VLOOKUP(F201,HM!$A$10:$B$209,2))","v":""}]
[null,null,{"$f":"IF(B202=\"\",\"\",VLOOKUP(B202,HM!$A$10:$B$209,2))","v":""},null,198,null,{"$f":"IF(F202=\"\",\"\",VLOOKUP(F202,HM!$A$10:$B$209,2))","v":""}]
[null,null,{"$f":"IF(B203=\"\",\"\",VLOOKUP(B203,HM!$A$10:$B$209,2))","v":""},null,199,null,{"$f":"IF(F203=\"\",\"\",VLOOKUP(F203,HM!$A$10:$B$209,2))","v":""}]
[null,null,{"$f":"IF(B204=\"\",\"\",VLOOKUP(B204,HM!$A$10:$B$209,2))","v":""},null,200,null,{"$f":"IF(F204=\"\",\"\",VLOOKUP(F204,HM!$A$10:$B$209,2))","v":""}]

{"sheet":"Ergebnisse","index":6,"n_rows":36,"n_cols":8,"rows_kept":36,"cut":false,"hidden":false,"merged":[[27,0,28,1],[0,0,0,5],[1,3,1,5],[18,3,19,5],[15,0,18,0],[19,0,22,0]]}
[{"$f":"HM!D5","v":"Schützenfest 2018"}]
[{"$f":"TODAY()","v":"2018-10-23"},null,null,"Preisschießen - KK"]
[null,"Name:",null,"Platz","Name:","Teiler:"]
["König :",null,null,1,{"$f":"IF(D!A3=\"\",\"\",D!A3)","v":""},{"$f":"IF(D!B3=\"\",\"\",D!B3)","v":""},null,"<== Preisbegrenzung mit \"x\" festlegen"]
["Adjudant :",null,null,2,{"$f":"IF(D!A4=\"\",\"\",D!A4)","v":""},{"$f":"IF(D!B4=\"\",\"\",D!B4)","v":""},null,"<== Preisbegrenzung mit \"x\" festlegen"]
["Königin :",null,null,3,{"$f":"IF(D!A5=\"\",\"\",D!A5)","v":""},{"$f":"IF(D!B5=\"\",\"\",D!B5)","v":""},null,"<== Preisbegrenzung mit \"x\" festlegen"]
["Adjudantin :",null,null,4,{"$f":"IF(D!A6=\"\",\"\",D!A6)","v":""},{"$f":"IF(D!B6=\"\",\"\",D!B6)","v":""},null,"<== Preisbegrenzung mit \"x\" festlegen"]
["Jugendkönig :",null,null,5,{"$f":"IF(D!A7=\"\",\"\",D!A7)","v":""},{"$f":"IF(D!B7=\"\",\"\",D!B7)","v":""},null,"<== Preisbegrenzung mit \"x\" festlegen"]
["Adjudant :",null,null,6,{"$f":"IF(D!A8=\"\",\"\",D!A8)","v":""},{"$f":"IF(D!B8=\"\",\"\",D!B8)","v":""},null,"<== Preisbegrenzung mit \"x\" festlegen"]
["Schülerkönig :",null,null,7,{"$f":"IF(D!A9=\"\",\"\",D!A9)","v":""},{"$f":"IF(D!B9=\"\",\"\",D!B9)","v":""},null,"<== Preisbegrenzung mit \"x\" festlegen"]
["Adjudant :",null,null,8,{"$f":"IF(D!A10=\"\",\"\",D!A10)","v":""},{"$f":"IF(D!B10=\"\",\"\",D!B10)","v":""},null,"<== Preisbegrenzung mit \"x\" festlegen"]
["Bundesorden :",{"$f":"IF(D!U3=\"\",\"\",D!U3)","v":""},null,9,{"$f":"IF(D!A11=\"\",\"\",D!A11)","v":""},{"$f":"IF(D!B11=\"\",\"\",D!B11)","v":""},"x","<== Preisbegrenzung mit \"x\" festlegen"]
["Volksbankorden :",{"$f":"IF(D!AA3=\"\",\"\",D!AA3)","v":""},null,10,{"$f":"IF(D!A12=\"\",\"\",D!A12)","v":""},{"$f":"IF(D!B12=\"\",\"\",D!B12)","v":""},"x","<== Preisbegrenzung mit \"x\" festlegen"]
["Ausmarschscheibe :",null,null,11,{"$f":"IF(D!A13=\"\",\"\",D!A13)","v":""},{"$f":"IF(D!B13=\"\",\"\",D!B13)","v":""},"x","<== Preisbegrenzung mit \"x\" festlegen"]
["Bürgermeisterscheibe :",null,null,12,{"$f":"IF(D!A14=\"\",\"\",D!A14)","v":""},{"$f":"IF(D!B14=\"\",\"\",D!B14)","v":""},"x","<== Preisbegrenzung mit \"x\" festlegen"]
["Orden Kleinkaliber\n(KK)",{"$f":"IF(D!G3=\"\",\"\",D!G3)","v":""},null,13,{"$f":"IF(D!A15=\"\",\"\",D!A15)","v":""},{"$f":"IF(D!B15=\"\",\"\",D!B15)","v":""},"x","<== Preisbegrenzung mit \"x\" festlegen"]
[null,{"$f":"IF(D!G4=\"\",\"\",D!G4)","v":""},null,14,{"$f":"IF(D!A16=\"\",\"\",D!A16)","v":""},{"$f":"IF(D!B16=\"\",\"\",D!B16)","v":""},"x","<== Preisbegrenzung mit \"x\" festlegen"]
[null,{"$f":"IF(D!G5=\"\",\"\",D!G5)","v":""},null,15,{"$f":"IF(D!A17=\"\",\"\",D!A17)","v":""},{"$f":"IF(D!B17=\"\",\"\",D!B17)","v":""},"x","<== Preisbegrenzung mit \"x\" festlegen"]
[null,{"$f":"IF(D!G6=\"\",\"\",D!G6)","v":""},null,"Preisschießen LG"]
["Orden Luftgewehr\n(LG)",{"$f":"IF(D!J3=\"\",\"\",D!J3)","v":""}]
[null,{"$f":"IF(D!J4=\"\",\"\",D!J4)","v":""},null,"Platz","Name:","Teiler:"]
[null,{"$f":"IF(D!J5=\"\",\"\",D!J5)","v":""},null,1,{"$f":"IF(D!D3=\"\",\"\",D!D3)","v":""},{"$f":"IF(D!E3=\"\",\"\",D!E3)","v":""},null,"<== Preisbegrenzung mit \"x\" festlegen"]
[null,{"$f":"IF(D!J6=\"\",\"\",D!J6)","v":""},null,2,{"$f":"IF(D!D4=\"\",\"\",D!D4)","v":""},{"$f":"IF(D!E4=\"\",\"\",D!E4)","v":""},null,"<== Preisbegrenzung mit \"x\" festlegen"]
["Sollepokal :",{"$f":"IF(D!X3=\"\",\"\",D!X3)","v":""},null,3,{"$f":"IF(D!D5=\"\",\"\",D!D5)","v":""},{"$f":"IF(D!E5=\"\",\"\",D!E5)","v":""},null,"<== Preisbegrenzung mit \"x\" festlegen"]
["Luhemarschpokal :",null,null,4,{"$f":"IF(D!D6=\"\",\"\",D!D6)","v":""},{"$f":"IF(D!E6=\"\",\"\",D!E6)","v":""},"x","<== Preisbegrenzung mit \"x\" festlegen"]
["Volkskönig-/in KK :",null,null,5,{"$f":"IF(D!D7=\"\",\"\",D!D7)","v":""},{"$f":"IF(D!E7=\"\",\"\",D!E7)","v":""},"x","<== Preisbegrenzung mit \"x\" festlegen"]
["Lichtpunktschießen :",null,null,6,{"$f":"IF(D!D8=\"\",\"\",D!D8)","v":""},{"$f":"IF(D!E8=\"\",\"\",D!E8)","v":""},"x","<== Preisbegrenzung mit \"x\" festlegen"]
["Spielmannszug :",null,null,7,{"$f":"IF(D!D9=\"\",\"\",D!D9)","v":""},{"$f":"IF(D!E9=\"\",\"\",D!E9)","v":""},"x","<== Preisbegrenzung mit \"x\" festlegen"]
[null,null,null,8,{"$f":"IF(D!D10=\"\",\"\",D!D10)","v":""},{"$f":"IF(D!E10=\"\",\"\",D!E10)","v":""},"x","<== Preisbegrenzung mit \"x\" festlegen"]
["Orden bis 12-18 Jahre :",null,null,9,{"$f":"IF(D!D11=\"\",\"\",D!D11)","v":""},{"$f":"IF(D!E11=\"\",\"\",D!E11)","v":""},"x","<== Preisbegrenzung mit \"x\" festlegen"]
["Orden von19 bis 30 Jahre :",null,null,10,{"$f":"IF(D!D12=\"\",\"\",D!D12)","v":""},{"$f":"IF(D!E12=\"\",\"\",D!E12)","v":""},"x","<== Preisbegrenzung mit \"x\" festlegen"]
["Orden ab 31 Jahre :",null,null,11,{"$f":"IF(D!D13=\"\",\"\",D!D13)","v":""},{"$f":"IF(D!E13=\"\",\"\",D!E13)","v":""},"x","<== Preisbegrenzung mit \"x\" festlegen"]
[null,null,null,12,{"$f":"IF(D!D14=\"\",\"\",D!D14)","v":""},{"$f":"IF(D!E14=\"\",\"\",D!E14)","v":""},"x","<== Preisbegrenzung mit \"x\" festlegen"]
[null,null,null,13,{"$f":"IF(D!D15=\"\",\"\",D!D15)","v":""},{"$f":"IF(D!E15=\"\",\"\",D!E15)","v":""},"x","<== Preisbegrenzung mit \"x\" festlegen"]
[null,null,null,14,{"$f":"IF(D!D16=\"\",\"\",D!D16)","v":""},{"$f":"IF(D!E16=\"\",\"\",D!E16)","v":""},"x","<== Preisbegrenzung mit \"x\" festlegen"]
[null,null,null,15,{"$f":"IF(D!D17=\"\",\"\",D!D17)","v":""},{"$f":"IF(D!E17=\"\",\"\",D!E17)","v":""},"x","<== Preisbegrenzung mit \"x\" festlegen"]

{"sheet":"Schnüre","index":7,"n_rows":38,"n_cols":9,"rows_kept":38,"cut":false,"hidden":false,"merged":[[1,0,1,3],[1,5,1,8],[0,0,0,8]]}
[{"$f":"HM!D5","v":"Schützenfest 2018"}]
["Schnüre und Eicheln\nKK",null,null,null,null,"Schnüre und Eicheln\nLG"]
["Vor- und Nachname:","Ringe:","schlechtester\nEinzelschuss","Würde bekommen:",null,"Vor- und Nachname:","Ringe:","schlechtester\nEinzelschuss","Würde bekommen:"]
[{"$f":"IF(D!M3=\"\",\"\",D!M3)","v":""},{"$f":"IF(D!N3=0,\"\",D!N3)","v":""},{"$f":"IF(D!O3=\"\",\"\",D!O3)","v":""},{"$f":"IF(AND(B4=\"\",C4=\"\"),\"\",IF(AND(B4>=97,C4>=9),\"Halsbandorden\",IF(AND(B4>=95,C4>=9),\"Plakette\",IF(AND(B4>=93,C4>=8),\"2. Goldene Eichel\",IF(AND(B4>=91,C4>=8),\"1. Goldene Eichel\",IF(AND(B4>=89,C4>=8),\"Goldene Schnur\",IF(AND(B4>=87,C4>=7),\"2. Silberne Eichel\",IF(AND(B4>=84,C4>=7),\"1. Silberne Eichel\",IF(AND(B4>=81,C4>=7),\"Silberne Schnur\",IF(AND(B4>=78,C4>=6),\"2. Grüne Eichel\",IF(AND(B4>=75,C4>=6),\"1. Grüne Eichel\",IF(AND(B4>=72,C4>=6),\"Grüne Schnur\",\"gibt NIX :-(\"))))))))))))","v":""},null,{"$f":"IF(D!Q3=\"\",\"\",D!Q3)","v":""},{"$f":"IF(D!R3=0,\"\",D!R3)","v":""},{"$f":"IF(D!S3=\"\",\"\",D!S3)","v":""},{"$f":"IF(G4=\"\",\"\",IF(G4>=88,\"Halsbandorden\",IF(G4>=85,\"Plakette\",IF(G4>=82,\"2. Goldene Eichel\",IF(G4>=81,\"1. Goldene Eichel\",IF(G4>=80,\"Goldene Schnur\",IF(G4>=75,\"2. Silberne Eichel\",IF(G4>=73,\"1. Silberne Eichel\",IF(G4>=71,\"Silberne Schnur\",IF(G4>=68,\"2. Grüne Eichel\",IF(G4>=65,\"1. Grüne Eichel\",IF(G4>=63,\"Grüne Schnur\",\"gibt NIX :-(\"))))))))))))","v":""}]
[{"$f":"IF(D!M4=\"\",\"\",D!M4)","v":""},{"$f":"IF(D!N4=0,\"\",D!N4)","v":""},{"$f":"IF(D!O4=\"\",\"\",D!O4)","v":""},{"$f":"IF(AND(B5=\"\",C5=\"\"),\"\",IF(AND(B5>=97,C5>=9),\"Halsbandorden\",IF(AND(B5>=95,C5>=9),\"Plakette\",IF(AND(B5>=93,C5>=8),\"2. Goldene Eichel\",IF(AND(B5>=91,C5>=8),\"1. Goldene Eichel\",IF(AND(B5>=89,C5>=8),\"Goldene Schnur\",IF(AND(B5>=87,C5>=7),\"2. Silberne Eichel\",IF(AND(B5>=84,C5>=7),\"1. Silberne Eichel\",IF(AND(B5>=81,C5>=7),\"Silberne Schnur\",IF(AND(B5>=78,C5>=6),\"2. Grüne Eichel\",IF(AND(B5>=75,C5>=6),\"1. Grüne Eichel\",IF(AND(B5>=72,C5>=6),\"Grüne Schnur\",\"gibt NIX :-(\"))))))))))))","v":""},null,{"$f":"IF(D!Q4=\"\",\"\",D!Q4)","v":""},{"$f":"IF(D!R4=0,\"\",D!R4)","v":""},{"$f":"IF(D!S4=\"\",\"\",D!S4)","v":""},{"$f":"IF(G5=\"\",\"\",IF(G5>=88,\"Halsbandorden\",IF(G5>=85,\"Plakette\",IF(G5>=82,\"2. Goldene Eichel\",IF(G5>=81,\"1. Goldene Eichel\",IF(G5>=80,\"Goldene Schnur\",IF(G5>=75,\"2. Silberne Eichel\",IF(G5>=73,\"1. Silberne Eichel\",IF(G5>=71,\"Silberne Schnur\",IF(G5>=68,\"2. Grüne Eichel\",IF(G5>=65,\"1. Grüne Eichel\",IF(G5>=63,\"Grüne Schnur\",\"gibt NIX :-(\"))))))))))))","v":""}]
[{"$f":"IF(D!M5=\"\",\"\",D!M5)","v":""},{"$f":"IF(D!N5=0,\"\",D!N5)","v":""},{"$f":"IF(D!O5=\"\",\"\",D!O5)","v":""},"",null,{"$f":"IF(D!Q5=\"\",\"\",D!Q5)","v":""},{"$f":"IF(D!R5=0,\"\",D!R5)","v":""},{"$f":"IF(D!S5=\"\",\"\",D!S5)","v":""},""]
[{"$f":"IF(D!M6=\"\",\"\",D!M6)","v":""},{"$f":"IF(D!N6=0,\"\",D!N6)","v":""},{"$f":"IF(D!O6=\"\",\"\",D!O6)","v":""},"",null,{"$f":"IF(D!Q6=\"\",\"\",D!Q6)","v":""},{"$f":"IF(D!R6=0,\"\",D!R6)","v":""},{"$f":"IF(D!S6=\"\",\"\",D!S6)","v":""},""]
[{"$f":"IF(D!M7=\"\",\"\",D!M7)","v":""},{"$f":"IF(D!N7=0,\"\",D!N7)","v":""},{"$f":"IF(D!O7=\"\",\"\",D!O7)","v":""},"",null,{"$f":"IF(D!Q7=\"\",\"\",D!Q7)","v":""},{"$f":"IF(D!R7=0,\"\",D!R7)","v":""},{"$f":"IF(D!S7=\"\",\"\",D!S7)","v":""},""]
[{"$f":"IF(D!M8=\"\",\"\",D!M8)","v":""},{"$f":"IF(D!N8=0,\"\",D!N8)","v":""},{"$f":"IF(D!O8=\"\",\"\",D!O8)","v":""},"",null,{"$f":"IF(D!Q8=\"\",\"\",D!Q8)","v":""},{"$f":"IF(D!R8=0,\"\",D!R8)","v":""},{"$f":"IF(D!S8=\"\",\"\",D!S8)","v":""},""]
[{"$f":"IF(D!M9=\"\",\"\",D!M9)","v":""},{"$f":"IF(D!N9=0,\"\",D!N9)","v":""},{"$f":"IF(D!O9=\"\",\"\",D!O9)","v":""},"",null,{"$f":"IF(D!Q9=\"\",\"\",D!Q9)","v":""},{"$f":"IF(D!R9=0,\"\",D!R9)","v":""},{"$f":"IF(D!S9=\"\",\"\",D!S9)","v":""},""]
[{"$f":"IF(D!M10=\"\",\"\",D!M10)","v":""},{"$f":"IF(D!N10=0,\"\",D!N10)","v":""},{"$f":"IF(D!O10=\"\",\"\",D!O10)","v":""},"",null,{"$f":"IF(D!Q10=\"\",\"\",D!Q10)","v":""},{"$f":"IF(D!R10=0,\"\",D!R10)","v":""},{"$f":"IF(D!S10=\"\",\"\",D!S10)","v":""},""]
[{"$f":"IF(D!M11=\"\",\"\",D!M11)","v":""},{"$f":"IF(D!N11=0,\"\",D!N11)","v":""},{"$f":"IF(D!O11=\"\",\"\",D!O11)","v":""},"",null,{"$f":"IF(D!Q11=\"\",\"\",D!Q11)","v":""},{"$f":"IF(D!R11=0,\"\",D!R11)","v":""},{"$f":"IF(D!S11=\"\",\"\",D!S11)","v":""},""]
[{"$f":"IF(D!M12=\"\",\"\",D!M12)","v":""},{"$f":"IF(D!N12=0,\"\",D!N12)","v":""},{"$f":"IF(D!O12=\"\",\"\",D!O12)","v":""},"",null,{"$f":"IF(D!Q12=\"\",\"\",D!Q12)","v":""},{"$f":"IF(D!R12=0,\"\",D!R12)","v":""},{"$f":"IF(D!S12=\"\",\"\",D!S12)","v":""},""]
[{"$f":"IF(D!M13=\"\",\"\",D!M13)","v":""},{"$f":"IF(D!N13=0,\"\",D!N13)","v":""},{"$f":"IF(D!O13=\"\",\"\",D!O13)","v":""},"",null,{"$f":"IF(D!Q13=\"\",\"\",D!Q13)","v":""},{"$f":"IF(D!R13=0,\"\",D!R13)","v":""},{"$f":"IF(D!S13=\"\",\"\",D!S13)","v":""},""]
[{"$f":"IF(D!M14=\"\",\"\",D!M14)","v":""},{"$f":"IF(D!N14=0,\"\",D!N14)","v":""},{"$f":"IF(D!O14=\"\",\"\",D!O14)","v":""},"",null,{"$f":"IF(D!Q14=\"\",\"\",D!Q14)","v":""},{"$f":"IF(D!R14=0,\"\",D!R14)","v":""},{"$f":"IF(D!S14=\"\",\"\",D!S14)","v":""},""]
[{"$f":"IF(D!M15=\"\",\"\",D!M15)","v":""},{"$f":"IF(D!N15=0,\"\",D!N15)","v":""},{"$f":"IF(D!O15=\"\",\"\",D!O15)","v":""},"",null,{"$f":"IF(D!Q15=\"\",\"\",D!Q15)","v":""},{"$f":"IF(D!R15=0,\"\",D!R15)","v":""},{"$f":"IF(D!S15=\"\",\"\",D!S15)","v":""},""]
[{"$f":"IF(D!M16=\"\",\"\",D!M16)","v":""},{"$f":"IF(D!N16=0,\"\",D!N16)","v":""},{"$f":"IF(D!O16=\"\",\"\",D!O16)","v":""},"",null,{"$f":"IF(D!Q16=\"\",\"\",D!Q16)","v":""},{"$f":"IF(D!R16=0,\"\",D!R16)","v":""},{"$f":"IF(D!S16=\"\",\"\",D!S16)","v":""},""]
[{"$f":"IF(D!M17=\"\",\"\",D!M17)","v":""},{"$f":"IF(D!N17=0,\"\",D!N17)","v":""},{"$f":"IF(D!O17=\"\",\"\",D!O17)","v":""},"",null,{"$f":"IF(D!Q17=\"\",\"\",D!Q17)","v":""},{"$f":"IF(D!R17=0,\"\",D!R17)","v":""},{"$f":"IF(D!S17=\"\",\"\",D!S17)","v":""},""]
[{"$f":"IF(D!M18=\"\",\"\",D!M18)","v":""},{"$f":"IF(D!N18=0,\"\",D!N18)","v":""},{"$f":"IF(D!O18=\"\",\"\",D!O18)","v":""},"",null,{"$f":"IF(D!Q18=\"\",\"\",D!Q18)","v":""},{"$f":"IF(D!R18=0,\"\",D!R18)","v":""},{"$f":"IF(D!S18=\"\",\"\",D!S18)","v":""},""]
[{"$f":"IF(D!M19=\"\",\"\",D!M19)","v":""},{"$f":"IF(D!N19=0,\"\",D!N19)","v":""},{"$f":"IF(D!O19=\"\",\"\",D!O19)","v":""},"",null,{"$f":"IF(D!Q19=\"\",\"\",D!Q19)","v":""},{"$f":"IF(D!R19=0,\"\",D!R19)","v":""},{"$f":"IF(D!S19=\"\",\"\",D!S19)","v":""},""]
[{"$f":"IF(D!M20=\"\",\"\",D!M20)","v":""},{"$f":"IF(D!N20=0,\"\",D!N20)","v":""},{"$f":"IF(D!O20=\"\",\"\",D!O20)","v":""},"",null,{"$f":"IF(D!Q20=\"\",\"\",D!Q20)","v":""},{"$f":"IF(D!R20=0,\"\",D!R20)","v":""},{"$f":"IF(D!S20=\"\",\"\",D!S20)","v":""},""]
[{"$f":"IF(D!M21=\"\",\"\",D!M21)","v":""},{"$f":"IF(D!N21=0,\"\",D!N21)","v":""},{"$f":"IF(D!O21=\"\",\"\",D!O21)","v":""},"",null,{"$f":"IF(D!Q21=\"\",\"\",D!Q21)","v":""},{"$f":"IF(D!R21=0,\"\",D!R21)","v":""},{"$f":"IF(D!S21=\"\",\"\",D!S21)","v":""},""]
[{"$f":"IF(D!M22=\"\",\"\",D!M22)","v":""},{"$f":"IF(D!N22=0,\"\",D!N22)","v":""},{"$f":"IF(D!O22=\"\",\"\",D!O22)","v":""},"",null,{"$f":"IF(D!Q22=\"\",\"\",D!Q22)","v":""},{"$f":"IF(D!R22=0,\"\",D!R22)","v":""},{"$f":"IF(D!S22=\"\",\"\",D!S22)","v":""},""]
[{"$f":"IF(D!M23=\"\",\"\",D!M23)","v":""},{"$f":"IF(D!N23=0,\"\",D!N23)","v":""},{"$f":"IF(D!O23=\"\",\"\",D!O23)","v":""},"",null,{"$f":"IF(D!Q23=\"\",\"\",D!Q23)","v":""},{"$f":"IF(D!R23=0,\"\",D!R23)","v":""},{"$f":"IF(D!S23=\"\",\"\",D!S23)","v":""},""]
[{"$f":"IF(D!M24=\"\",\"\",D!M24)","v":""},{"$f":"IF(D!N24=0,\"\",D!N24)","v":""},{"$f":"IF(D!O24=\"\",\"\",D!O24)","v":""},"",null,{"$f":"IF(D!Q24=\"\",\"\",D!Q24)","v":""},{"$f":"IF(D!R24=0,\"\",D!R24)","v":""},{"$f":"IF(D!S24=\"\",\"\",D!S24)","v":""},""]
[{"$f":"IF(D!M25=\"\",\"\",D!M25)","v":""},{"$f":"IF(D!N25=0,\"\",D!N25)","v":""},{"$f":"IF(D!O25=\"\",\"\",D!O25)","v":""},"",null,{"$f":"IF(D!Q25=\"\",\"\",D!Q25)","v":""},{"$f":"IF(D!R25=0,\"\",D!R25)","v":""},{"$f":"IF(D!S25=\"\",\"\",D!S25)","v":""},""]
[{"$f":"IF(D!M26=\"\",\"\",D!M26)","v":""},{"$f":"IF(D!N26=0,\"\",D!N26)","v":""},{"$f":"IF(D!O26=\"\",\"\",D!O26)","v":""},"",null,{"$f":"IF(D!Q26=\"\",\"\",D!Q26)","v":""},{"$f":"IF(D!R26=0,\"\",D!R26)","v":""},{"$f":"IF(D!S26=\"\",\"\",D!S26)","v":""},""]
[{"$f":"IF(D!M27=\"\",\"\",D!M27)","v":""},{"$f":"IF(D!N27=0,\"\",D!N27)","v":""},{"$f":"IF(D!O27=\"\",\"\",D!O27)","v":""},"",null,{"$f":"IF(D!Q27=\"\",\"\",D!Q27)","v":""},{"$f":"IF(D!R27=0,\"\",D!R27)","v":""},{"$f":"IF(D!S27=\"\",\"\",D!S27)","v":""},""]
[{"$f":"IF(D!M28=\"\",\"\",D!M28)","v":""},{"$f":"IF(D!N28=0,\"\",D!N28)","v":""},{"$f":"IF(D!O28=\"\",\"\",D!O28)","v":""},"",null,{"$f":"IF(D!Q28=\"\",\"\",D!Q28)","v":""},{"$f":"IF(D!R28=0,\"\",D!R28)","v":""},{"$f":"IF(D!S28=\"\",\"\",D!S28)","v":""},""]
[{"$f":"IF(D!M29=\"\",\"\",D!M29)","v":""},{"$f":"IF(D!N29=0,\"\",D!N29)","v":""},{"$f":"IF(D!O29=\"\",\"\",D!O29)","v":""},"",null,{"$f":"IF(D!Q29=\"\",\"\",D!Q29)","v":""},{"$f":"IF(D!R29=0,\"\",D!R29)","v":""},{"$f":"IF(D!S29=\"\",\"\",D!S29)","v":""},""]
[{"$f":"IF(D!M30=\"\",\"\",D!M30)","v":""},{"$f":"IF(D!N30=0,\"\",D!N30)","v":""},{"$f":"IF(D!O30=\"\",\"\",D!O30)","v":""},"",null,{"$f":"IF(D!Q30=\"\",\"\",D!Q30)","v":""},{"$f":"IF(D!R30=0,\"\",D!R30)","v":""},{"$f":"IF(D!S30=\"\",\"\",D!S30)","v":""},""]
[{"$f":"IF(D!M31=\"\",\"\",D!M31)","v":""},{"$f":"IF(D!N31=0,\"\",D!N31)","v":""},{"$f":"IF(D!O31=\"\",\"\",D!O31)","v":""},"",null,{"$f":"IF(D!Q31=\"\",\"\",D!Q31)","v":""},{"$f":"IF(D!R31=0,\"\",D!R31)","v":""},{"$f":"IF(D!S31=\"\",\"\",D!S31)","v":""},""]
[{"$f":"IF(D!M32=\"\",\"\",D!M32)","v":""},{"$f":"IF(D!N32=0,\"\",D!N32)","v":""},{"$f":"IF(D!O32=\"\",\"\",D!O32)","v":""},"",null,{"$f":"IF(D!Q32=\"\",\"\",D!Q32)","v":""},{"$f":"IF(D!R32=0,\"\",D!R32)","v":""},{"$f":"IF(D!S32=\"\",\"\",D!S32)","v":""},""]
[{"$f":"IF(D!M33=\"\",\"\",D!M33)","v":""},{"$f":"IF(D!N33=0,\"\",D!N33)","v":""},{"$f":"IF(D!O33=\"\",\"\",D!O33)","v":""},"",null,{"$f":"IF(D!Q33=\"\",\"\",D!Q33)","v":""},{"$f":"IF(D!R33=0,\"\",D!R33)","v":""},{"$f":"IF(D!S33=\"\",\"\",D!S33)","v":""},""]
[{"$f":"IF(D!M34=\"\",\"\",D!M34)","v":""},{"$f":"IF(D!N34=0,\"\",D!N34)","v":""},{"$f":"IF(D!O34=\"\",\"\",D!O34)","v":""},"",null,{"$f":"IF(D!Q34=\"\",\"\",D!Q34)","v":""},{"$f":"IF(D!R34=0,\"\",D!R34)","v":""},{"$f":"IF(D!S34=\"\",\"\",D!S34)","v":""},""]
[{"$f":"IF(D!M35=\"\",\"\",D!M35)","v":""},{"$f":"IF(D!N35=0,\"\",D!N35)","v":""},{"$f":"IF(D!O35=\"\",\"\",D!O35)","v":""},"",null,{"$f":"IF(D!Q35=\"\",\"\",D!Q35)","v":""},{"$f":"IF(D!R35=0,\"\",D!R35)","v":""},{"$f":"IF(D!S35=\"\",\"\",D!S35)","v":""},""]
[{"$f":"IF(D!M36=\"\",\"\",D!M36)","v":""},{"$f":"IF(D!N36=0,\"\",D!N36)","v":""},{"$f":"IF(D!O36=\"\",\"\",D!O36)","v":""},"",null,{"$f":"IF(D!Q36=\"\",\"\",D!Q36)","v":""},{"$f":"IF(D!R36=0,\"\",D!R36)","v":""},{"$f":"IF(D!S36=\"\",\"\",D!S36)","v":""},""]
[{"$f":"IF(D!M37=\"\",\"\",D!M37)","v":""},{"$f":"IF(D!N37=0,\"\",D!N37)","v":""},{"$f":"IF(D!O37=\"\",\"\",D!O37)","v":""},"",null,{"$f":"IF(D!Q37=\"\",\"\",D!Q37)","v":""},{"$f":"IF(D!R37=0,\"\",D!R37)","v":""},{"$f":"IF(D!S37=\"\",\"\",D!S37)","v":""},""]

{"sheet":"Presse","index":8,"n_rows":16,"n_cols":2,"rows_kept":16,"cut":false,"hidden":false,"merged":[[0,0,0,2]]}
[{"$f":"HM!D5","v":"Schützenfest 2018"}]
[]
[null,"Name:"]
["König :",{"$f":"IF(Ergebnisse!B4=0,\"\",Ergebnisse!B4)","v":""}]
["Adjudant :",{"$f":"IF(Ergebnisse!B5=0,\"\",Ergebnisse!B5)","v":""}]
["Königin :",{"$f":"IF(Ergebnisse!B6=0,\"\",Ergebnisse!B6)","v":""}]
["Adjudantin :",{"$f":"IF(Ergebnisse!B7=0,\"\",Ergebnisse!B7)","v":""}]
["Jugendkönig :",{"$f":"IF(Ergebnisse!B8=0,\"\",Ergebnisse!B8)","v":""}]
["Adjudant :",{"$f":"IF(Ergebnisse!B9=0,\"\",Ergebnisse!B9)","v":""}]
["Schülerkönig :",{"$f":"IF(Ergebnisse!B10=0,\"\",Ergebnisse!B10)","v":""}]
["Adjudant :",{"$f":"IF(Ergebnisse!B11=0,\"\",Ergebnisse!B11)","v":""}]
["Bundesorden :",{"$f":"IF(Ergebnisse!B12=0,\"\",Ergebnisse!B12)","v":""}]
["Volksbankorden :",{"$f":"IF(Ergebnisse!B13=0,\"\",Ergebnisse!B13)","v":""}]
["Ausmarschscheibe :",{"$f":"IF(Ergebnisse!B14=0,\"\",Ergebnisse!B14)","v":""}]
["Bürgermeisterscheibe :",{"$f":"IF(Ergebnisse!B15=0,\"\",Ergebnisse!B15)","v":""}]
["Lichtpunktschießen :",{"$f":"IF(Ergebnisse!B27=0,\"\",Ergebnisse!B27)","v":""}]

{"sheet":"Sammler","index":9,"n_rows":202,"n_cols":31,"rows_kept":202,"cut":false,"hidden":false,"merged":[[0,0,0,1],[0,3,0,4],[0,6,0,7],[0,9,0,10],[0,20,0,21],[0,23,0,24],[0,26,0,27],[0,29,0,30],[0,12,0,14],[0,16,0,18]]}
["Preisschießen KK",null,null,"Preisschießen LG",null,null,"Ordenschießen KK",null,null,"Ordenschießen LG",null,null,"Schnüre + Eichel schießen KK",null,null,null,"Schnüre + Eichel schießen LG",null,null,null,"Bundesorden",null,null,"Sollepokal",null,null,"Volksbankorden",null,null,"Schinkenschießen"]
["Name:","Teiler:",null,"Name:","Teiler:",null,"Name:","Teiler:",null,"Name:","Teiler:",null,"Name:","Ringe:","schl. Schuss",null,"Name:","Ringe:","schl. Schuss",null,"Name:","Teiler:",null,"Name:","Teiler:",null,"Name:","Teiler:",null,"Name:","Teiler:"]
[{"$f":"PS!C5","v":""},{"$f":"IF(PS!D5=\"\",\"\",PS!D5)","v":""},null,{"$f":"PS!G5","v":""},{"$f":"IF(PS!H5=\"\",\"\",PS!H5)","v":""},null,{"$f":"OS!C5","v":""},{"$f":"IF(OS!D5=\"\",\"\",OS!D5)","v":""},null,{"$f":"OS!G5","v":""},{"$f":"IF(OS!H5=\"\",\"\",OS!H5)","v":""},null,{"$f":"SE!C6","v":""},{"$f":"IF(SE!D6=\"\",0,SE!D6)","v":0},{"$f":"IF(SE!E6=\"\",\"\",SE!E6)","v":""},null,{"$f":"SE!H5","v":""},{"$f":"IF(SE!I5=\"\",0,SE!I5)","v":0},{"$f":"IF(SE!J5=\"\",\"\",SE!J5)","v":""},null,{"$f":"BSP!C5","v":""},{"$f":"IF(BSP!D5=\"\",\"\",BSP!D5)","v":""},null,{"$f":"BSP!G5","v":""},{"$f":"IF(BSP!H5=\"\",\"\",BSP!H5)","v":""},null,{"$f":"VS!C5","v":""},{"$f":"IF(VS!D5=\"\",\"\",VS!D5)","v":""},null,{"$f":"VS!G5","v":""},{"$f":"IF(VS!H5=\"\",\"\",VS!H5)","v":""}]
[{"$f":"PS!C6","v":""},{"$f":"IF(PS!D6=\"\",\"\",PS!D6)","v":""},null,{"$f":"PS!G6","v":""},{"$f":"IF(PS!H6=\"\",\"\",PS!H6)","v":""},null,{"$f":"OS!C6","v":""},{"$f":"IF(OS!D6=\"\",\"\",OS!D6)","v":""},null,{"$f":"OS!G6","v":""},{"$f":"IF(OS!H6=\"\",\"\",OS!H6)","v":""},null,{"$f":"SE!C5","v":""},{"$f":"IF(SE!D5=\"\",0,SE!D5)","v":0},{"$f":"IF(SE!E5=\"\",\"\",SE!E5)","v":""},null,{"$f":"SE!H6","v":""},{"$f":"IF(SE!I6=\"\",0,SE!I6)","v":0},{"$f":"IF(SE!J6=\"\",\"\",SE!J6)","v":""},null,{"$f":"BSP!C6","v":""},{"$f":"IF(BSP!D6=\"\",\"\",BSP!D6)","v":""},null,{"$f":"BSP!G6","v":""},{"$f":"IF(BSP!H6=\"\",\"\",BSP!H6)","v":""},null,{"$f":"VS!C6","v":""},{"$f":"IF(VS!D6=\"\",\"\",VS!D6)","v":""},null,{"$f":"VS!G6","v":""},{"$f":"IF(VS!H6=\"\",\"\",VS!H6)","v":""}]
[{"$f":"PS!C7","v":""},{"$f":"IF(PS!D7=\"\",\"\",PS!D7)","v":""},null,{"$f":"PS!G7","v":""},{"$f":"IF(PS!H7=\"\",\"\",PS!H7)","v":""},null,{"$f":"OS!C7","v":""},{"$f":"IF(OS!D7=\"\",\"\",OS!D7)","v":""},null,{"$f":"OS!G7","v":""},{"$f":"IF(OS!H7=\"\",\"\",OS!H7)","v":""},null,{"$f":"SE!C7","v":""},{"$f":"IF(SE!D7=\"\",0,SE!D7)","v":0},{"$f":"IF(SE!E7=\"\",\"\",SE!E7)","v":""},null,{"$f":"SE!H7","v":""},{"$f":"IF(SE!I7=\"\",0,SE!I7)","v":0},{"$f":"IF(SE!J7=\"\",\"\",SE!J7)","v":""},null,{"$f":"BSP!C7","v":""},{"$f":"IF(BSP!D7=\"\",\"\",BSP!D7)","v":""},null,{"$f":"BSP!G7","v":""},{"$f":"IF(BSP!H7=\"\",\"\",BSP!H7)","v":""},null,{"$f":"VS!C7","v":""},{"$f":"IF(VS!D7=\"\",\"\",VS!D7)","v":""},null,{"$f":"VS!G7","v":""},{"$f":"IF(VS!H7=\"\",\"\",VS!H7)","v":""}]
[{"$f":"PS!C8","v":""},{"$f":"IF(PS!D8=\"\",\"\",PS!D8)","v":""},null,{"$f":"PS!G8","v":""},{"$f":"IF(PS!H8=\"\",\"\",PS!H8)","v":""},null,{"$f":"OS!C8","v":""},{"$f":"IF(OS!D8=\"\",\"\",OS!D8)","v":""},null,{"$f":"OS!G8","v":""},{"$f":"IF(OS!H8=\"\",\"\",OS!H8)","v":""},null,{"$f":"SE!C8","v":""},{"$f":"IF(SE!D8=\"\",0,SE!D8)","v":0},{"$f":"IF(SE!E8=\"\",\"\",SE!E8)","v":""},null,{"$f":"SE!H8","v":""},{"$f":"IF(SE!I8=\"\",0,SE!I8)","v":0},{"$f":"IF(SE!J8=\"\",\"\",SE!J8)","v":""},null,{"$f":"BSP!C8","v":""},{"$f":"IF(BSP!D8=\"\",\"\",BSP!D8)","v":""},null,{"$f":"BSP!G8","v":""},{"$f":"IF(BSP!H8=\"\",\"\",BSP!H8)","v":""},null,{"$f":"VS!C8","v":""},{"$f":"IF(VS!D8=\"\",\"\",VS!D8)","v":""},null,{"$f":"VS!G8","v":""},{"$f":"IF(VS!H8=\"\",\"\",VS!H8)","v":""}]
[{"$f":"PS!C9","v":""},{"$f":"IF(PS!D9=\"\",\"\",PS!D9)","v":""},null,{"$f":"PS!G9","v":""},{"$f":"IF(PS!H9=\"\",\"\",PS!H9)","v":""},null,{"$f":"OS!C9","v":""},{"$f":"IF(OS!D9=\"\",\"\",OS!D9)","v":""},null,{"$f":"OS!G9","v":""},{"$f":"IF(OS!H9=\"\",\"\",OS!H9)","v":""},null,{"$f":"SE!C9","v":""},{"$f":"IF(SE!D9=\"\",0,SE!D9)","v":0},{"$f":"IF(SE!E9=\"\",\"\",SE!E9)","v":""},null,{"$f":"SE!H9","v":""},{"$f":"IF(SE!I9=\"\",0,SE!I9)","v":0},{"$f":"IF(SE!J9=\"\",\"\",SE!J9)","v":""},null,{"$f":"BSP!C9","v":""},{"$f":"IF(BSP!D9=\"\",\"\",BSP!D9)","v":""},null,{"$f":"BSP!G9","v":""},{"$f":"IF(BSP!H9=\"\",\"\",BSP!H9)","v":""},null,{"$f":"VS!C9","v":""},{"$f":"IF(VS!D9=\"\",\"\",VS!D9)","v":""},null,{"$f":"VS!G9","v":""},{"$f":"IF(VS!H9=\"\",\"\",VS!H9)","v":""}]
[{"$f":"PS!C10","v":""},{"$f":"IF(PS!D10=\"\",\"\",PS!D10)","v":""},null,{"$f":"PS!G10","v":""},{"$f":"IF(PS!H10=\"\",\"\",PS!H10)","v":""},null,{"$f":"OS!C10","v":""},{"$f":"IF(OS!D10=\"\",\"\",OS!D10)","v":""},null,{"$f":"OS!G10","v":""},{"$f":"IF(OS!H10=\"\",\"\",OS!H10)","v":""},null,{"$f":"SE!C10","v":""},{"$f":"IF(SE!D10=\"\",0,SE!D10)","v":0},{"$f":"IF(SE!E10=\"\",\"\",SE!E10)","v":""},null,{"$f":"SE!H10","v":""},{"$f":"IF(SE!I10=\"\",0,SE!I10)","v":0},{"$f":"IF(SE!J10=\"\",\"\",SE!J10)","v":""},null,{"$f":"BSP!C10","v":""},{"$f":"IF(BSP!D10=\"\",\"\",BSP!D10)","v":""},null,{"$f":"BSP!G10","v":""},{"$f":"IF(BSP!H10=\"\",\"\",BSP!H10)","v":""},null,{"$f":"VS!C10","v":""},{"$f":"IF(VS!D10=\"\",\"\",VS!D10)","v":""},null,{"$f":"VS!G10","v":""},{"$f":"IF(VS!H10=\"\",\"\",VS!H10)","v":""}]
[{"$f":"PS!C11","v":""},{"$f":"IF(PS!D11=\"\",\"\",PS!D11)","v":""},null,{"$f":"PS!G11","v":""},{"$f":"IF(PS!H11=\"\",\"\",PS!H11)","v":""},null,{"$f":"OS!C11","v":""},{"$f":"IF(OS!D11=\"\",\"\",OS!D11)","v":""},null,{"$f":"OS!G11","v":""},{"$f":"IF(OS!H11=\"\",\"\",OS!H11)","v":""},null,{"$f":"SE!C11","v":""},{"$f":"IF(SE!D11=\"\",0,SE!D11)","v":0},{"$f":"IF(SE!E11=\"\",\"\",SE!E11)","v":""},null,{"$f":"SE!H11","v":""},{"$f":"IF(SE!I11=\"\",0,SE!I11)","v":0},{"$f":"IF(SE!J11=\"\",\"\",SE!J11)","v":""},null,{"$f":"BSP!C11","v":""},{"$f":"IF(BSP!D11=\"\",\"\",BSP!D11)","v":""},null,{"$f":"BSP!G11","v":""},{"$f":"IF(BSP!H11=\"\",\"\",BSP!H11)","v":""},null,{"$f":"VS!C11","v":""},{"$f":"IF(VS!D11=\"\",\"\",VS!D11)","v":""},null,{"$f":"VS!G11","v":""},{"$f":"IF(VS!H11=\"\",\"\",VS!H11)","v":""}]
[{"$f":"PS!C12","v":""},{"$f":"IF(PS!D12=\"\",\"\",PS!D12)","v":""},null,{"$f":"PS!G12","v":""},{"$f":"IF(PS!H12=\"\",\"\",PS!H12)","v":""},null,{"$f":"OS!C12","v":""},{"$f":"IF(OS!D12=\"\",\"\",OS!D12)","v":""},null,{"$f":"OS!G12","v":""},{"$f":"IF(OS!H12=\"\",\"\",OS!H12)","v":""},null,{"$f":"SE!C12","v":""},{"$f":"IF(SE!D12=\"\",0,SE!D12)","v":0},{"$f":"IF(SE!E12=\"\",\"\",SE!E12)","v":""},null,{"$f":"SE!H12","v":""},{"$f":"IF(SE!I12=\"\",0,SE!I12)","v":0},{"$f":"IF(SE!J12=\"\",\"\",SE!J12)","v":""},null,{"$f":"BSP!C12","v":""},{"$f":"IF(BSP!D12=\"\",\"\",BSP!D12)","v":""},null,{"$f":"BSP!G12","v":""},{"$f":"IF(BSP!H12=\"\",\"\",BSP!H12)","v":""},null,{"$f":"VS!C12","v":""},{"$f":"IF(VS!D12=\"\",\"\",VS!D12)","v":""},null,{"$f":"VS!G12","v":""},{"$f":"IF(VS!H12=\"\",\"\",VS!H12)","v":""}]
[{"$f":"PS!C13","v":""},{"$f":"IF(PS!D13=\"\",\"\",PS!D13)","v":""},null,{"$f":"PS!G13","v":""},{"$f":"IF(PS!H13=\"\",\"\",PS!H13)","v":""},null,{"$f":"OS!C13","v":""},{"$f":"IF(OS!D13=\"\",\"\",OS!D13)","v":""},null,{"$f":"OS!G13","v":""},{"$f":"IF(OS!H13=\"\",\"\",OS!H13)","v":""},null,{"$f":"SE!C13","v":""},{"$f":"IF(SE!D13=\"\",0,SE!D13)","v":0},{"$f":"IF(SE!E13=\"\",\"\",SE!E13)","v":""},null,{"$f":"SE!H13","v":""},{"$f":"IF(SE!I13=\"\",0,SE!I13)","v":0},{"$f":"IF(SE!J13=\"\",\"\",SE!J13)","v":""},null,{"$f":"BSP!C13","v":""},{"$f":"IF(BSP!D13=\"\",\"\",BSP!D13)","v":""},null,{"$f":"BSP!G13","v":""},{"$f":"IF(BSP!H13=\"\",\"\",BSP!H13)","v":""},null,{"$f":"VS!C13","v":""},{"$f":"IF(VS!D13=\"\",\"\",VS!D13)","v":""},null,{"$f":"VS!G13","v":""},{"$f":"IF(VS!H13=\"\",\"\",VS!H13)","v":""}]
[{"$f":"PS!C14","v":""},{"$f":"IF(PS!D14=\"\",\"\",PS!D14)","v":""},null,{"$f":"PS!G14","v":""},{"$f":"IF(PS!H14=\"\",\"\",PS!H14)","v":""},null,{"$f":"OS!C14","v":""},{"$f":"IF(OS!D14=\"\",\"\",OS!D14)","v":""},null,{"$f":"OS!G14","v":""},{"$f":"IF(OS!H14=\"\",\"\",OS!H14)","v":""},null,{"$f":"SE!C14","v":""},{"$f":"IF(SE!D14=\"\",0,SE!D14)","v":0},{"$f":"IF(SE!E14=\"\",\"\",SE!E14)","v":""},null,{"$f":"SE!H14","v":""},{"$f":"IF(SE!I14=\"\",0,SE!I14)","v":0},{"$f":"IF(SE!J14=\"\",\"\",SE!J14)","v":""},null,{"$f":"BSP!C14","v":""},{"$f":"IF(BSP!D14=\"\",\"\",BSP!D14)","v":""},null,{"$f":"BSP!G14","v":""},{"$f":"IF(BSP!H14=\"\",\"\",BSP!H14)","v":""},null,{"$f":"VS!C14","v":""},{"$f":"IF(VS!D14=\"\",\"\",VS!D14)","v":""},null,{"$f":"VS!G14","v":""},{"$f":"IF(VS!H14=\"\",\"\",VS!H14)","v":""}]
[{"$f":"PS!C15","v":""},{"$f":"IF(PS!D15=\"\",\"\",PS!D15)","v":""},null,{"$f":"PS!G15","v":""},{"$f":"IF(PS!H15=\"\",\"\",PS!H15)","v":""},null,{"$f":"OS!C15","v":""},{"$f":"IF(OS!D15=\"\",\"\",OS!D15)","v":""},null,{"$f":"OS!G15","v":""},{"$f":"IF(OS!H15=\"\",\"\",OS!H15)","v":""},null,{"$f":"SE!C15","v":""},{"$f":"IF(SE!D15=\"\",0,SE!D15)","v":0},{"$f":"IF(SE!E15=\"\",\"\",SE!E15)","v":""},null,{"$f":"SE!H15","v":""},{"$f":"IF(SE!I15=\"\",0,SE!I15)","v":0},{"$f":"IF(SE!J15=\"\",\"\",SE!J15)","v":""},null,{"$f":"BSP!C15","v":""},{"$f":"IF(BSP!D15=\"\",\"\",BSP!D15)","v":""},null,{"$f":"BSP!G15","v":""},{"$f":"IF(BSP!H15=\"\",\"\",BSP!H15)","v":""},null,{"$f":"VS!C15","v":""},{"$f":"IF(VS!D15=\"\",\"\",VS!D15)","v":""},null,{"$f":"VS!G15","v":""},{"$f":"IF(VS!H15=\"\",\"\",VS!H15)","v":""}]
[{"$f":"PS!C16","v":""},{"$f":"IF(PS!D16=\"\",\"\",PS!D16)","v":""},null,{"$f":"PS!G16","v":""},{"$f":"IF(PS!H16=\"\",\"\",PS!H16)","v":""},null,{"$f":"OS!C16","v":""},{"$f":"IF(OS!D16=\"\",\"\",OS!D16)","v":""},null,{"$f":"OS!G16","v":""},{"$f":"IF(OS!H16=\"\",\"\",OS!H16)","v":""},null,{"$f":"SE!C16","v":""},{"$f":"IF(SE!D16=\"\",0,SE!D16)","v":0},{"$f":"IF(SE!E16=\"\",\"\",SE!E16)","v":""},null,{"$f":"SE!H16","v":""},{"$f":"IF(SE!I16=\"\",0,SE!I16)","v":0},{"$f":"IF(SE!J16=\"\",\"\",SE!J16)","v":""},null,{"$f":"BSP!C16","v":""},{"$f":"IF(BSP!D16=\"\",\"\",BSP!D16)","v":""},null,{"$f":"BSP!G16","v":""},{"$f":"IF(BSP!H16=\"\",\"\",BSP!H16)","v":""},null,{"$f":"VS!C16","v":""},{"$f":"IF(VS!D16=\"\",\"\",VS!D16)","v":""},null,{"$f":"VS!G16","v":""},{"$f":"IF(VS!H16=\"\",\"\",VS!H16)","v":""}]
[{"$f":"PS!C17","v":""},{"$f":"IF(PS!D17=\"\",\"\",PS!D17)","v":""},null,{"$f":"PS!G17","v":""},{"$f":"IF(PS!H17=\"\",\"\",PS!H17)","v":""},null,{"$f":"OS!C17","v":""},{"$f":"IF(OS!D17=\"\",\"\",OS!D17)","v":""},null,{"$f":"OS!G17","v":""},{"$f":"IF(OS!H17=\"\",\"\",OS!H17)","v":""},null,{"$f":"SE!C17","v":""},{"$f":"IF(SE!D17=\"\",0,SE!D17)","v":0},{"$f":"IF(SE!E17=\"\",\"\",SE!E17)","v":""},null,{"$f":"SE!H17","v":""},{"$f":"IF(SE!I17=\"\",0,SE!I17)","v":0},{"$f":"IF(SE!J17=\"\",\"\",SE!J17)","v":""},null,{"$f":"BSP!C17","v":""},{"$f":"IF(BSP!D17=\"\",\"\",BSP!D17)","v":""},null,{"$f":"BSP!G17","v":""},{"$f":"IF(BSP!H17=\"\",\"\",BSP!H17)","v":""},null,{"$f":"VS!C17","v":""},{"$f":"IF(VS!D17=\"\",\"\",VS!D17)","v":""},null,{"$f":"VS!G17","v":""},{"$f":"IF(VS!H17=\"\",\"\",VS!H17)","v":""}]
[{"$f":"PS!C18","v":""},{"$f":"IF(PS!D18=\"\",\"\",PS!D18)","v":""},null,{"$f":"PS!G18","v":""},{"$f":"IF(PS!H18=\"\",\"\",PS!H18)","v":""},null,{"$f":"OS!C18","v":""},{"$f":"IF(OS!D18=\"\",\"\",OS!D18)","v":""},null,{"$f":"OS!G18","v":""},{"$f":"IF(OS!H18=\"\",\"\",OS!H18)","v":""},null,{"$f":"SE!C18","v":""},{"$f":"IF(SE!D18=\"\",0,SE!D18)","v":0},{"$f":"IF(SE!E18=\"\",\"\",SE!E18)","v":""},null,{"$f":"SE!H18","v":""},{"$f":"IF(SE!I18=\"\",0,SE!I18)","v":0},{"$f":"IF(SE!J18=\"\",\"\",SE!J18)","v":""},null,{"$f":"BSP!C18","v":""},{"$f":"IF(BSP!D18=\"\",\"\",BSP!D18)","v":""},null,{"$f":"BSP!G18","v":""},{"$f":"IF(BSP!H18=\"\",\"\",BSP!H18)","v":""},null,{"$f":"VS!C18","v":""},{"$f":"IF(VS!D18=\"\",\"\",VS!D18)","v":""},null,{"$f":"VS!G18","v":""},{"$f":"IF(VS!H18=\"\",\"\",VS!H18)","v":""}]
[{"$f":"PS!C19","v":""},{"$f":"IF(PS!D19=\"\",\"\",PS!D19)","v":""},null,{"$f":"PS!G19","v":""},{"$f":"IF(PS!H19=\"\",\"\",PS!H19)","v":""},null,{"$f":"OS!C19","v":""},{"$f":"IF(OS!D19=\"\",\"\",OS!D19)","v":""},null,{"$f":"OS!G19","v":""},{"$f":"IF(OS!H19=\"\",\"\",OS!H19)","v":""},null,{"$f":"SE!C19","v":""},{"$f":"IF(SE!D19=\"\",0,SE!D19)","v":0},{"$f":"IF(SE!E19=\"\",\"\",SE!E19)","v":""},null,{"$f":"SE!H19","v":""},{"$f":"IF(SE!I19=\"\",0,SE!I19)","v":0},{"$f":"IF(SE!J19=\"\",\"\",SE!J19)","v":""},null,{"$f":"BSP!C19","v":""},{"$f":"IF(BSP!D19=\"\",\"\",BSP!D19)","v":""},null,{"$f":"BSP!G19","v":""},{"$f":"IF(BSP!H19=\"\",\"\",BSP!H19)","v":""},null,{"$f":"VS!C19","v":""},{"$f":"IF(VS!D19=\"\",\"\",VS!D19)","v":""},null,{"$f":"VS!G19","v":""},{"$f":"IF(VS!H19=\"\",\"\",VS!H19)","v":""}]
[{"$f":"PS!C20","v":""},{"$f":"IF(PS!D20=\"\",\"\",PS!D20)","v":""},null,{"$f":"PS!G20","v":""},{"$f":"IF(PS!H20=\"\",\"\",PS!H20)","v":""},null,{"$f":"OS!C20","v":""},{"$f":"IF(OS!D20=\"\",\"\",OS!D20)","v":""},null,{"$f":"OS!G20","v":""},{"$f":"IF(OS!H20=\"\",\"\",OS!H20)","v":""},null,{"$f":"SE!C20","v":""},{"$f":"IF(SE!D20=\"\",0,SE!D20)","v":0},{"$f":"IF(SE!E20=\"\",\"\",SE!E20)","v":""},null,{"$f":"SE!H20","v":""},{"$f":"IF(SE!I20=\"\",0,SE!I20)","v":0},{"$f":"IF(SE!J20=\"\",\"\",SE!J20)","v":""},null,{"$f":"BSP!C20","v":""},{"$f":"IF(BSP!D20=\"\",\"\",BSP!D20)","v":""},null,{"$f":"BSP!G20","v":""},{"$f":"IF(BSP!H20=\"\",\"\",BSP!H20)","v":""},null,{"$f":"VS!C20","v":""},{"$f":"IF(VS!D20=\"\",\"\",VS!D20)","v":""},null,{"$f":"VS!G20","v":""},{"$f":"IF(VS!H20=\"\",\"\",VS!H20)","v":""}]
[{"$f":"PS!C21","v":""},{"$f":"IF(PS!D21=\"\",\"\",PS!D21)","v":""},null,{"$f":"PS!G21","v":""},{"$f":"IF(PS!H21=\"\",\"\",PS!H21)","v":""},null,{"$f":"OS!C21","v":""},{"$f":"IF(OS!D21=\"\",\"\",OS!D21)","v":""},null,{"$f":"OS!G21","v":""},{"$f":"IF(OS!H21=\"\",\"\",OS!H21)","v":""},null,{"$f":"SE!C21","v":""},{"$f":"IF(SE!D21=\"\",0,SE!D21)","v":0},{"$f":"IF(SE!E21=\"\",\"\",SE!E21)","v":""},null,{"$f":"SE!H21","v":""},{"$f":"IF(SE!I21=\"\",0,SE!I21)","v":0},{"$f":"IF(SE!J21=\"\",\"\",SE!J21)","v":""},null,{"$f":"BSP!C21","v":""},{"$f":"IF(BSP!D21=\"\",\"\",BSP!D21)","v":""},null,{"$f":"BSP!G21","v":""},{"$f":"IF(BSP!H21=\"\",\"\",BSP!H21)","v":""},null,{"$f":"VS!C21","v":""},{"$f":"IF(VS!D21=\"\",\"\",VS!D21)","v":""},null,{"$f":"VS!G21","v":""},{"$f":"IF(VS!H21=\"\",\"\",VS!H21)","v":""}]
[{"$f":"PS!C22","v":""},{"$f":"IF(PS!D22=\"\",\"\",PS!D22)","v":""},null,{"$f":"PS!G22","v":""},{"$f":"IF(PS!H22=\"\",\"\",PS!H22)","v":""},null,{"$f":"OS!C22","v":""},{"$f":"IF(OS!D22=\"\",\"\",OS!D22)","v":""},null,{"$f":"OS!G22","v":""},{"$f":"IF(OS!H22=\"\",\"\",OS!H22)","v":""},null,{"$f":"SE!C22","v":""},{"$f":"IF(SE!D22=\"\",0,SE!D22)","v":0},{"$f":"IF(SE!E22=\"\",\"\",SE!E22)","v":""},null,{"$f":"SE!H22","v":""},{"$f":"IF(SE!I22=\"\",0,SE!I22)","v":0},{"$f":"IF(SE!J22=\"\",\"\",SE!J22)","v":""},null,{"$f":"BSP!C22","v":""},{"$f":"IF(BSP!D22=\"\",\"\",BSP!D22)","v":""},null,{"$f":"BSP!G22","v":""},{"$f":"IF(BSP!H22=\"\",\"\",BSP!H22)","v":""},null,{"$f":"VS!C22","v":""},{"$f":"IF(VS!D22=\"\",\"\",VS!D22)","v":""},null,{"$f":"VS!G22","v":""},{"$f":"IF(VS!H22=\"\",\"\",VS!H22)","v":""}]
[{"$f":"PS!C23","v":""},{"$f":"IF(PS!D23=\"\",\"\",PS!D23)","v":""},null,{"$f":"PS!G23","v":""},{"$f":"IF(PS!H23=\"\",\"\",PS!H23)","v":""},null,{"$f":"OS!C23","v":""},{"$f":"IF(OS!D23=\"\",\"\",OS!D23)","v":""},null,{"$f":"OS!G23","v":""},{"$f":"IF(OS!H23=\"\",\"\",OS!H23)","v":""},null,{"$f":"SE!C23","v":""},{"$f":"IF(SE!D23=\"\",0,SE!D23)","v":0},{"$f":"IF(SE!E23=\"\",\"\",SE!E23)","v":""},null,{"$f":"SE!H23","v":""},{"$f":"IF(SE!I23=\"\",0,SE!I23)","v":0},{"$f":"IF(SE!J23=\"\",\"\",SE!J23)","v":""},null,{"$f":"BSP!C23","v":""},{"$f":"IF(BSP!D23=\"\",\"\",BSP!D23)","v":""},null,{"$f":"BSP!G23","v":""},{"$f":"IF(BSP!H23=\"\",\"\",BSP!H23)","v":""},null,{"$f":"VS!C23","v":""},{"$f":"IF(VS!D23=\"\",\"\",VS!D23)","v":""},null,{"$f":"VS!G23","v":""},{"$f":"IF(VS!H23=\"\",\"\",VS!H23)","v":""}]
[{"$f":"PS!C24","v":""},{"$f":"IF(PS!D24=\"\",\"\",PS!D24)","v":""},null,{"$f":"PS!G24","v":""},{"$f":"IF(PS!H24=\"\",\"\",PS!H24)","v":""},null,{"$f":"OS!C24","v":""},{"$f":"IF(OS!D24=\"\",\"\",OS!D24)","v":""},null,{"$f":"OS!G24","v":""},{"$f":"IF(OS!H24=\"\",\"\",OS!H24)","v":""},null,{"$f":"SE!C24","v":""},{"$f":"IF(SE!D24=\"\",0,SE!D24)","v":0},{"$f":"IF(SE!E24=\"\",\"\",SE!E24)","v":""},null,{"$f":"SE!H24","v":""},{"$f":"IF(SE!I24=\"\",0,SE!I24)","v":0},{"$f":"IF(SE!J24=\"\",\"\",SE!J24)","v":""},null,{"$f":"BSP!C24","v":""},{"$f":"IF(BSP!D24=\"\",\"\",BSP!D24)","v":""},null,{"$f":"BSP!G24","v":""},{"$f":"IF(BSP!H24=\"\",\"\",BSP!H24)","v":""},null,{"$f":"VS!C24","v":""},{"$f":"IF(VS!D24=\"\",\"\",VS!D24)","v":""},null,{"$f":"VS!G24","v":""},{"$f":"IF(VS!H24=\"\",\"\",VS!H24)","v":""}]
[{"$f":"PS!C25","v":""},{"$f":"IF(PS!D25=\"\",\"\",PS!D25)","v":""},null,{"$f":"PS!G25","v":""},{"$f":"IF(PS!H25=\"\",\"\",PS!H25)","v":""},null,{"$f":"OS!C25","v":""},{"$f":"IF(OS!D25=\"\",\"\",OS!D25)","v":""},null,{"$f":"OS!G25","v":""},{"$f":"IF(OS!H25=\"\",\"\",OS!H25)","v":""},null,{"$f":"SE!C25","v":""},{"$f":"IF(SE!D25=\"\",0,SE!D25)","v":0},{"$f":"IF(SE!E25=\"\",\"\",SE!E25)","v":""},null,{"$f":"SE!H25","v":""},{"$f":"IF(SE!I25=\"\",0,SE!I25)","v":0},{"$f":"IF(SE!J25=\"\",\"\",SE!J25)","v":""},null,{"$f":"BSP!C25","v":""},{"$f":"IF(BSP!D25=\"\",\"\",BSP!D25)","v":""},null,{"$f":"BSP!G25","v":""},{"$f":"IF(BSP!H25=\"\",\"\",BSP!H25)","v":""},null,{"$f":"VS!C25","v":""},{"$f":"IF(VS!D25=\"\",\"\",VS!D25)","v":""},null,{"$f":"VS!G25","v":""},{"$f":"IF(VS!H25=\"\",\"\",VS!H25)","v":""}]
[{"$f":"PS!C26","v":""},{"$f":"IF(PS!D26=\"\",\"\",PS!D26)","v":""},null,{"$f":"PS!G26","v":""},{"$f":"IF(PS!H26=\"\",\"\",PS!H26)","v":""},null,{"$f":"OS!C26","v":""},{"$f":"IF(OS!D26=\"\",\"\",OS!D26)","v":""},null,{"$f":"OS!G26","v":""},{"$f":"IF(OS!H26=\"\",\"\",OS!H26)","v":""},null,{"$f":"SE!C26","v":""},{"$f":"IF(SE!D26=\"\",0,SE!D26)","v":0},{"$f":"IF(SE!E26=\"\",\"\",SE!E26)","v":""},null,{"$f":"SE!H26","v":""},{"$f":"IF(SE!I26=\"\",0,SE!I26)","v":0},{"$f":"IF(SE!J26=\"\",\"\",SE!J26)","v":""},null,{"$f":"BSP!C26","v":""},{"$f":"IF(BSP!D26=\"\",\"\",BSP!D26)","v":""},null,{"$f":"BSP!G26","v":""},{"$f":"IF(BSP!H26=\"\",\"\",BSP!H26)","v":""},null,{"$f":"VS!C26","v":""},{"$f":"IF(VS!D26=\"\",\"\",VS!D26)","v":""},null,{"$f":"VS!G26","v":""},{"$f":"IF(VS!H26=\"\",\"\",VS!H26)","v":""}]
[{"$f":"PS!C27","v":""},{"$f":"IF(PS!D27=\"\",\"\",PS!D27)","v":""},null,{"$f":"PS!G27","v":""},{"$f":"IF(PS!H27=\"\",\"\",PS!H27)","v":""},null,{"$f":"OS!C27","v":""},{"$f":"IF(OS!D27=\"\",\"\",OS!D27)","v":""},null,{"$f":"OS!G27","v":""},{"$f":"IF(OS!H27=\"\",\"\",OS!H27)","v":""},null,{"$f":"SE!C27","v":""},{"$f":"IF(SE!D27=\"\",0,SE!D27)","v":0},{"$f":"IF(SE!E27=\"\",\"\",SE!E27)","v":""},null,{"$f":"SE!H27","v":""},{"$f":"IF(SE!I27=\"\",0,SE!I27)","v":0},{"$f":"IF(SE!J27=\"\",\"\",SE!J27)","v":""},null,{"$f":"BSP!C27","v":""},{"$f":"IF(BSP!D27=\"\",\"\",BSP!D27)","v":""},null,{"$f":"BSP!G27","v":""},{"$f":"IF(BSP!H27=\"\",\"\",BSP!H27)","v":""},null,{"$f":"VS!C27","v":""},{"$f":"IF(VS!D27=\"\",\"\",VS!D27)","v":""},null,{"$f":"VS!G27","v":""},{"$f":"IF(VS!H27=\"\",\"\",VS!H27)","v":""}]
[{"$f":"PS!C28","v":""},{"$f":"IF(PS!D28=\"\",\"\",PS!D28)","v":""},null,{"$f":"PS!G28","v":""},{"$f":"IF(PS!H28=\"\",\"\",PS!H28)","v":""},null,{"$f":"OS!C28","v":""},{"$f":"IF(OS!D28=\"\",\"\",OS!D28)","v":""},null,{"$f":"OS!G28","v":""},{"$f":"IF(OS!H28=\"\",\"\",OS!H28)","v":""},null,{"$f":"SE!C28","v":""},{"$f":"IF(SE!D28=\"\",0,SE!D28)","v":0},{"$f":"IF(SE!E28=\"\",\"\",SE!E28)","v":""},null,{"$f":"SE!H28","v":""},{"$f":"IF(SE!I28=\"\",0,SE!I28)","v":0},{"$f":"IF(SE!J28=\"\",\"\",SE!J28)","v":""},null,{"$f":"BSP!C28","v":""},{"$f":"IF(BSP!D28=\"\",\"\",BSP!D28)","v":""},null,{"$f":"BSP!G28","v":""},{"$f":"IF(BSP!H28=\"\",\"\",BSP!H28)","v":""},null,{"$f":"VS!C28","v":""},{"$f":"IF(VS!D28=\"\",\"\",VS!D28)","v":""},null,{"$f":"VS!G28","v":""},{"$f":"IF(VS!H28=\"\",\"\",VS!H28)","v":""}]
[{"$f":"PS!C29","v":""},{"$f":"IF(PS!D29=\"\",\"\",PS!D29)","v":""},null,{"$f":"PS!G29","v":""},{"$f":"IF(PS!H29=\"\",\"\",PS!H29)","v":""},null,{"$f":"OS!C29","v":""},{"$f":"IF(OS!D29=\"\",\"\",OS!D29)","v":""},null,{"$f":"OS!G29","v":""},{"$f":"IF(OS!H29=\"\",\"\",OS!H29)","v":""},null,{"$f":"SE!C29","v":""},{"$f":"IF(SE!D29=\"\",0,SE!D29)","v":0},{"$f":"IF(SE!E29=\"\",\"\",SE!E29)","v":""},null,{"$f":"SE!H29","v":""},{"$f":"IF(SE!I29=\"\",0,SE!I29)","v":0},{"$f":"IF(SE!J29=\"\",\"\",SE!J29)","v":""},null,{"$f":"BSP!C29","v":""},{"$f":"IF(BSP!D29=\"\",\"\",BSP!D29)","v":""},null,{"$f":"BSP!G29","v":""},{"$f":"IF(BSP!H29=\"\",\"\",BSP!H29)","v":""},null,{"$f":"VS!C29","v":""},{"$f":"IF(VS!D29=\"\",\"\",VS!D29)","v":""},null,{"$f":"VS!G29","v":""},{"$f":"IF(VS!H29=\"\",\"\",VS!H29)","v":""}]
[{"$f":"PS!C30","v":""},{"$f":"IF(PS!D30=\"\",\"\",PS!D30)","v":""},null,{"$f":"PS!G30","v":""},{"$f":"IF(PS!H30=\"\",\"\",PS!H30)","v":""},null,{"$f":"OS!C30","v":""},{"$f":"IF(OS!D30=\"\",\"\",OS!D30)","v":""},null,{"$f":"OS!G30","v":""},{"$f":"IF(OS!H30=\"\",\"\",OS!H30)","v":""},null,{"$f":"SE!C30","v":""},{"$f":"IF(SE!D30=\"\",0,SE!D30)","v":0},{"$f":"IF(SE!E30=\"\",\"\",SE!E30)","v":""},null,{"$f":"SE!H30","v":""},{"$f":"IF(SE!I30=\"\",0,SE!I30)","v":0},{"$f":"IF(SE!J30=\"\",\"\",SE!J30)","v":""},null,{"$f":"BSP!C30","v":""},{"$f":"IF(BSP!D30=\"\",\"\",BSP!D30)","v":""},null,{"$f":"BSP!G30","v":""},{"$f":"IF(BSP!H30=\"\",\"\",BSP!H30)","v":""},null,{"$f":"VS!C30","v":""},{"$f":"IF(VS!D30=\"\",\"\",VS!D30)","v":""},null,{"$f":"VS!G30","v":""},{"$f":"IF(VS!H30=\"\",\"\",VS!H30)","v":""}]
[{"$f":"PS!C31","v":""},{"$f":"IF(PS!D31=\"\",\"\",PS!D31)","v":""},null,{"$f":"PS!G31","v":""},{"$f":"IF(PS!H31=\"\",\"\",PS!H31)","v":""},null,{"$f":"OS!C31","v":""},{"$f":"IF(OS!D31=\"\",\"\",OS!D31)","v":""},null,{"$f":"OS!G31","v":""},{"$f":"IF(OS!H31=\"\",\"\",OS!H31)","v":""},null,{"$f":"SE!C31","v":""},{"$f":"IF(SE!D31=\"\",0,SE!D31)","v":0},{"$f":"IF(SE!E31=\"\",\"\",SE!E31)","v":""},null,{"$f":"SE!H31","v":""},{"$f":"IF(SE!I31=\"\",0,SE!I31)","v":0},{"$f":"IF(SE!J31=\"\",\"\",SE!J31)","v":""},null,{"$f":"BSP!C31","v":""},{"$f":"IF(BSP!D31=\"\",\"\",BSP!D31)","v":""},null,{"$f":"BSP!G31","v":""},{"$f":"IF(BSP!H31=\"\",\"\",BSP!H31)","v":""},null,{"$f":"VS!C31","v":""},{"$f":"IF(VS!D31=\"\",\"\",VS!D31)","v":""},null,{"$f":"VS!G31","v":""},{"$f":"IF(VS!H31=\"\",\"\",VS!H31)","v":""}]
[{"$f":"PS!C32","v":""},{"$f":"IF(PS!D32=\"\",\"\",PS!D32)","v":""},null,{"$f":"PS!G32","v":""},{"$f":"IF(PS!H32=\"\",\"\",PS!H32)","v":""},null,{"$f":"OS!C32","v":""},{"$f":"IF(OS!D32=\"\",\"\",OS!D32)","v":""},null,{"$f":"OS!G32","v":""},{"$f":"IF(OS!H32=\"\",\"\",OS!H32)","v":""},null,{"$f":"SE!C32","v":""},{"$f":"IF(SE!D32=\"\",0,SE!D32)","v":0},{"$f":"IF(SE!E32=\"\",\"\",SE!E32)","v":""},null,{"$f":"SE!H32","v":""},{"$f":"IF(SE!I32=\"\",0,SE!I32)","v":0},{"$f":"IF(SE!J32=\"\",\"\",SE!J32)","v":""},null,{"$f":"BSP!C32","v":""},{"$f":"IF(BSP!D32=\"\",\"\",BSP!D32)","v":""},null,{"$f":"BSP!G32","v":""},{"$f":"IF(BSP!H32=\"\",\"\",BSP!H32)","v":""},null,{"$f":"VS!C32","v":""},{"$f":"IF(VS!D32=\"\",\"\",VS!D32)","v":""},null,{"$f":"VS!G32","v":""},{"$f":"IF(VS!H32=\"\",\"\",VS!H32)","v":""}]
[{"$f":"PS!C33","v":""},{"$f":"IF(PS!D33=\"\",\"\",PS!D33)","v":""},null,{"$f":"PS!G33","v":""},{"$f":"IF(PS!H33=\"\",\"\",PS!H33)","v":""},null,{"$f":"OS!C33","v":""},{"$f":"IF(OS!D33=\"\",\"\",OS!D33)","v":""},null,{"$f":"OS!G33","v":""},{"$f":"IF(OS!H33=\"\",\"\",OS!H33)","v":""},null,{"$f":"SE!C33","v":""},{"$f":"IF(SE!D33=\"\",0,SE!D33)","v":0},{"$f":"IF(SE!E33=\"\",\"\",SE!E33)","v":""},null,{"$f":"SE!H33","v":""},{"$f":"IF(SE!I33=\"\",0,SE!I33)","v":0},{"$f":"IF(SE!J33=\"\",\"\",SE!J33)","v":""},null,{"$f":"BSP!C33","v":""},{"$f":"IF(BSP!D33=\"\",\"\",BSP!D33)","v":""},null,{"$f":"BSP!G33","v":""},{"$f":"IF(BSP!H33=\"\",\"\",BSP!H33)","v":""},null,{"$f":"VS!C33","v":""},{"$f":"IF(VS!D33=\"\",\"\",VS!D33)","v":""},null,{"$f":"VS!G33","v":""},{"$f":"IF(VS!H33=\"\",\"\",VS!H33)","v":""}]
[{"$f":"PS!C34","v":""},{"$f":"IF(PS!D34=\"\",\"\",PS!D34)","v":""},null,{"$f":"PS!G34","v":""},{"$f":"IF(PS!H34=\"\",\"\",PS!H34)","v":""},null,{"$f":"OS!C34","v":""},{"$f":"IF(OS!D34=\"\",\"\",OS!D34)","v":""},null,{"$f":"OS!G34","v":""},{"$f":"IF(OS!H34=\"\",\"\",OS!H34)","v":""},null,{"$f":"SE!C34","v":""},{"$f":"IF(SE!D34=\"\",0,SE!D34)","v":0},{"$f":"IF(SE!E34=\"\",\"\",SE!E34)","v":""},null,{"$f":"SE!H34","v":""},{"$f":"IF(SE!I34=\"\",0,SE!I34)","v":0},{"$f":"IF(SE!J34=\"\",\"\",SE!J34)","v":""},null,{"$f":"BSP!C34","v":""},{"$f":"IF(BSP!D34=\"\",\"\",BSP!D34)","v":""},null,{"$f":"BSP!G34","v":""},{"$f":"IF(BSP!H34=\"\",\"\",BSP!H34)","v":""},null,{"$f":"VS!C34","v":""},{"$f":"IF(VS!D34=\"\",\"\",VS!D34)","v":""},null,{"$f":"VS!G34","v":""},{"$f":"IF(VS!H34=\"\",\"\",VS!H34)","v":""}]
[{"$f":"PS!C35","v":""},{"$f":"IF(PS!D35=\"\",\"\",PS!D35)","v":""},null,{"$f":"PS!G35","v":""},{"$f":"IF(PS!H35=\"\",\"\",PS!H35)","v":""},null,{"$f":"OS!C35","v":""},{"$f":"IF(OS!D35=\"\",\"\",OS!D35)","v":""},null,{"$f":"OS!G35","v":""},{"$f":"IF(OS!H35=\"\",\"\",OS!H35)","v":""},null,{"$f":"SE!C35","v":""},{"$f":"IF(SE!D35=\"\",0,SE!D35)","v":0},{"$f":"IF(SE!E35=\"\",\"\",SE!E35)","v":""},null,{"$f":"SE!H35","v":""},{"$f":"IF(SE!I35=\"\",0,SE!I35)","v":0},{"$f":"IF(SE!J35=\"\",\"\",SE!J35)","v":""},null,{"$f":"BSP!C35","v":""},{"$f":"IF(BSP!D35=\"\",\"\",BSP!D35)","v":""},null,{"$f":"BSP!G35","v":""},{"$f":"IF(BSP!H35=\"\",\"\",BSP!H35)","v":""},null,{"$f":"VS!C35","v":""},{"$f":"IF(VS!D35=\"\",\"\",VS!D35)","v":""},null,{"$f":"VS!G35","v":""},{"$f":"IF(VS!H35=\"\",\"\",VS!H35)","v":""}]
[{"$f":"PS!C36","v":""},{"$f":"IF(PS!D36=\"\",\"\",PS!D36)","v":""},null,{"$f":"PS!G36","v":""},{"$f":"IF(PS!H36=\"\",\"\",PS!H36)","v":""},null,{"$f":"OS!C36","v":""},{"$f":"IF(OS!D36=\"\",\"\",OS!D36)","v":""},null,{"$f":"OS!G36","v":""},{"$f":"IF(OS!H36=\"\",\"\",OS!H36)","v":""},null,{"$f":"SE!C36","v":""},{"$f":"IF(SE!D36=\"\",0,SE!D36)","v":0},{"$f":"IF(SE!E36=\"\",\"\",SE!E36)","v":""},null,{"$f":"SE!H36","v":""},{"$f":"IF(SE!I36=\"\",0,SE!I36)","v":0},{"$f":"IF(SE!J36=\"\",\"\",SE!J36)","v":""},null,{"$f":"BSP!C36","v":""},{"$f":"IF(BSP!D36=\"\",\"\",BSP!D36)","v":""},null,{"$f":"BSP!G36","v":""},{"$f":"IF(BSP!H36=\"\",\"\",BSP!H36)","v":""},null,{"$f":"VS!C36","v":""},{"$f":"IF(VS!D36=\"\",\"\",VS!D36)","v":""},null,{"$f":"VS!G36","v":""},{"$f":"IF(VS!H36=\"\",\"\",VS!H36)","v":""}]
[{"$f":"PS!C37","v":""},{"$f":"IF(PS!D37=\"\",\"\",PS!D37)","v":""},null,{"$f":"PS!G37","v":""},{"$f":"IF(PS!H37=\"\",\"\",PS!H37)","v":""},null,{"$f":"OS!C37","v":""},{"$f":"IF(OS!D37=\"\",\"\",OS!D37)","v":""},null,{"$f":"OS!G37","v":""},{"$f":"IF(OS!H37=\"\",\"\",OS!H37)","v":""},null,{"$f":"SE!C37","v":""},{"$f":"IF(SE!D37=\"\",0,SE!D37)","v":0},{"$f":"IF(SE!E37=\"\",\"\",SE!E37)","v":""},null,{"$f":"SE!H37","v":""},{"$f":"IF(SE!I37=\"\",0,SE!I37)","v":0},{"$f":"IF(SE!J37=\"\",\"\",SE!J37)","v":""},null,{"$f":"BSP!C37","v":""},{"$f":"IF(BSP!D37=\"\",\"\",BSP!D37)","v":""},null,{"$f":"BSP!G37","v":""},{"$f":"IF(BSP!H37=\"\",\"\",BSP!H37)","v":""},null,{"$f":"VS!C37","v":""},{"$f":"IF(VS!D37=\"\",\"\",VS!D37)","v":""},null,{"$f":"VS!G37","v":""},{"$f":"IF(VS!H37=\"\",\"\",VS!H37)","v":""}]
[{"$f":"PS!C38","v":""},{"$f":"IF(PS!D38=\"\",\"\",PS!D38)","v":""},null,{"$f":"PS!G38","v":""},{"$f":"IF(PS!H38=\"\",\"\",PS!H38)","v":""},null,{"$f":"OS!C38","v":""},{"$f":"IF(OS!D38=\"\",\"\",OS!D38)","v":""},null,{"$f":"OS!G38","v":""},{"$f":"IF(OS!H38=\"\",\"\",OS!H38)","v":""},null,{"$f":"SE!C38","v":""},{"$f":"IF(SE!D38=\"\",0,SE!D38)","v":0},{"$f":"IF(SE!E38=\"\",\"\",SE!E38)","v":""},null,{"$f":"SE!H38","v":""},{"$f":"IF(SE!I38=\"\",0,SE!I38)","v":0},{"$f":"IF(SE!J38=\"\",\"\",SE!J38)","v":""},null,{"$f":"BSP!C38","v":""},{"$f":"IF(BSP!D38=\"\",\"\",BSP!D38)","v":""},null,{"$f":"BSP!G38","v":""},{"$f":"IF(BSP!H38=\"\",\"\",BSP!H38)","v":""},null,{"$f":"VS!C38","v":""},{"$f":"IF(VS!D38=\"\",\"\",VS!D38)","v":""},null,{"$f":"VS!G38","v":""},{"$f":"IF(VS!H38=\"\",\"\",VS!H38)","v":""}]
[{"$f":"PS!C39","v":""},{"$f":"IF(PS!D39=\"\",\"\",PS!D39)","v":""},null,{"$f":"PS!G39","v":""},{"$f":"IF(PS!H39=\"\",\"\",PS!H39)","v":""},null,{"$f":"OS!C39","v":""},{"$f":"IF(OS!D39=\"\",\"\",OS!D39)","v":""},null,{"$f":"OS!G39","v":""},{"$f":"IF(OS!H39=\"\",\"\",OS!H39)","v":""},null,{"$f":"SE!C39","v":""},{"$f":"IF(SE!D39=\"\",0,SE!D39)","v":0},{"$f":"IF(SE!E39=\"\",\"\",SE!E39)","v":""},null,{"$f":"SE!H39","v":""},{"$f":"IF(SE!I39=\"\",0,SE!I39)","v":0},{"$f":"IF(SE!J39=\"\",\"\",SE!J39)","v":""},null,{"$f":"BSP!C39","v":""},{"$f":"IF(BSP!D39=\"\",\"\",BSP!D39)","v":""},null,{"$f":"BSP!G39","v":""},{"$f":"IF(BSP!H39=\"\",\"\",BSP!H39)","v":""},null,{"$f":"VS!C39","v":""},{"$f":"IF(VS!D39=\"\",\"\",VS!D39)","v":""},null,{"$f":"VS!G39","v":""},{"$f":"IF(VS!H39=\"\",\"\",VS!H39)","v":""}]
[{"$f":"PS!C40","v":""},{"$f":"IF(PS!D40=\"\",\"\",PS!D40)","v":""},null,{"$f":"PS!G40","v":""},{"$f":"IF(PS!H40=\"\",\"\",PS!H40)","v":""},null,{"$f":"OS!C40","v":""},{"$f":"IF(OS!D40=\"\",\"\",OS!D40)","v":""},null,{"$f":"OS!G40","v":""},{"$f":"IF(OS!H40=\"\",\"\",OS!H40)","v":""},null,{"$f":"SE!C40","v":""},{"$f":"IF(SE!D40=\"\",0,SE!D40)","v":0},{"$f":"IF(SE!E40=\"\",\"\",SE!E40)","v":""},null,{"$f":"SE!H40","v":""},{"$f":"IF(SE!I40=\"\",0,SE!I40)","v":0},{"$f":"IF(SE!J40=\"\",\"\",SE!J40)","v":""},null,{"$f":"BSP!C40","v":""},{"$f":"IF(BSP!D40=\"\",\"\",BSP!D40)","v":""},null,{"$f":"BSP!G40","v":""},{"$f":"IF(BSP!H40=\"\",\"\",BSP!H40)","v":""},null,{"$f":"VS!C40","v":""},{"$f":"IF(VS!D40=\"\",\"\",VS!D40)","v":""},null,{"$f":"VS!G40","v":""},{"$f":"IF(VS!H40=\"\",\"\",VS!H40)","v":""}]
[{"$f":"PS!C41","v":""},{"$f":"IF(PS!D41=\"\",\"\",PS!D41)","v":""},null,{"$f":"PS!G41","v":""},{"$f":"IF(PS!H41=\"\",\"\",PS!H41)","v":""},null,{"$f":"OS!C41","v":""},{"$f":"IF(OS!D41=\"\",\"\",OS!D41)","v":""},null,{"$f":"OS!G41","v":""},{"$f":"IF(OS!H41=\"\",\"\",OS!H41)","v":""},null,{"$f":"SE!C41","v":""},{"$f":"IF(SE!D41=\"\",0,SE!D41)","v":0},{"$f":"IF(SE!E41=\"\",\"\",SE!E41)","v":""},null,{"$f":"SE!H41","v":""},{"$f":"IF(SE!I41=\"\",0,SE!I41)","v":0},{"$f":"IF(SE!J41=\"\",\"\",SE!J41)","v":""},null,{"$f":"BSP!C41","v":""},{"$f":"IF(BSP!D41=\"\",\"\",BSP!D41)","v":""},null,{"$f":"BSP!G41","v":""},{"$f":"IF(BSP!H41=\"\",\"\",BSP!H41)","v":""},null,{"$f":"VS!C41","v":""},{"$f":"IF(VS!D41=\"\",\"\",VS!D41)","v":""},null,{"$f":"VS!G41","v":""},{"$f":"IF(VS!H41=\"\",\"\",VS!H41)","v":""}]
[{"$f":"PS!C42","v":""},{"$f":"IF(PS!D42=\"\",\"\",PS!D42)","v":""},null,{"$f":"PS!G42","v":""},{"$f":"IF(PS!H42=\"\",\"\",PS!H42)","v":""},null,{"$f":"OS!C42","v":""},{"$f":"IF(OS!D42=\"\",\"\",OS!D42)","v":""},null,{"$f":"OS!G42","v":""},{"$f":"IF(OS!H42=\"\",\"\",OS!H42)","v":""},null,{"$f":"SE!C42","v":""},{"$f":"IF(SE!D42=\"\",0,SE!D42)","v":0},{"$f":"IF(SE!E42=\"\",\"\",SE!E42)","v":""},null,{"$f":"SE!H42","v":""},{"$f":"IF(SE!I42=\"\",0,SE!I42)","v":0},{"$f":"IF(SE!J42=\"\",\"\",SE!J42)","v":""},null,{"$f":"BSP!C42","v":""},{"$f":"IF(BSP!D42=\"\",\"\",BSP!D42)","v":""},null,{"$f":"BSP!G42","v":""},{"$f":"IF(BSP!H42=\"\",\"\",BSP!H42)","v":""},null,{"$f":"VS!C42","v":""},{"$f":"IF(VS!D42=\"\",\"\",VS!D42)","v":""},null,{"$f":"VS!G42","v":""},{"$f":"IF(VS!H42=\"\",\"\",VS!H42)","v":""}]
[{"$f":"PS!C43","v":""},{"$f":"IF(PS!D43=\"\",\"\",PS!D43)","v":""},null,{"$f":"PS!G43","v":""},{"$f":"IF(PS!H43=\"\",\"\",PS!H43)","v":""},null,{"$f":"OS!C43","v":""},{"$f":"IF(OS!D43=\"\",\"\",OS!D43)","v":""},null,{"$f":"OS!G43","v":""},{"$f":"IF(OS!H43=\"\",\"\",OS!H43)","v":""},null,{"$f":"SE!C43","v":""},{"$f":"IF(SE!D43=\"\",0,SE!D43)","v":0},{"$f":"IF(SE!E43=\"\",\"\",SE!E43)","v":""},null,{"$f":"SE!H43","v":""},{"$f":"IF(SE!I43=\"\",0,SE!I43)","v":0},{"$f":"IF(SE!J43=\"\",\"\",SE!J43)","v":""},null,{"$f":"BSP!C43","v":""},{"$f":"IF(BSP!D43=\"\",\"\",BSP!D43)","v":""},null,{"$f":"BSP!G43","v":""},{"$f":"IF(BSP!H43=\"\",\"\",BSP!H43)","v":""},null,{"$f":"VS!C43","v":""},{"$f":"IF(VS!D43=\"\",\"\",VS!D43)","v":""},null,{"$f":"VS!G43","v":""},{"$f":"IF(VS!H43=\"\",\"\",VS!H43)","v":""}]
[{"$f":"PS!C44","v":""},{"$f":"IF(PS!D44=\"\",\"\",PS!D44)","v":""},null,{"$f":"PS!G44","v":""},{"$f":"IF(PS!H44=\"\",\"\",PS!H44)","v":""},null,{"$f":"OS!C44","v":""},{"$f":"IF(OS!D44=\"\",\"\",OS!D44)","v":""},null,{"$f":"OS!G44","v":""},{"$f":"IF(OS!H44=\"\",\"\",OS!H44)","v":""},null,{"$f":"SE!C44","v":""},{"$f":"IF(SE!D44=\"\",0,SE!D44)","v":0},{"$f":"IF(SE!E44=\"\",\"\",SE!E44)","v":""},null,{"$f":"SE!H44","v":""},{"$f":"IF(SE!I44=\"\",0,SE!I44)","v":0},{"$f":"IF(SE!J44=\"\",\"\",SE!J44)","v":""},null,{"$f":"BSP!C44","v":""},{"$f":"IF(BSP!D44=\"\",\"\",BSP!D44)","v":""},null,{"$f":"BSP!G44","v":""},{"$f":"IF(BSP!H44=\"\",\"\",BSP!H44)","v":""},null,{"$f":"VS!C44","v":""},{"$f":"IF(VS!D44=\"\",\"\",VS!D44)","v":""},null,{"$f":"VS!G44","v":""},{"$f":"IF(VS!H44=\"\",\"\",VS!H44)","v":""}]
[{"$f":"PS!C45","v":""},{"$f":"IF(PS!D45=\"\",\"\",PS!D45)","v":""},null,{"$f":"PS!G45","v":""},{"$f":"IF(PS!H45=\"\",\"\",PS!H45)","v":""},null,{"$f":"OS!C45","v":""},{"$f":"IF(OS!D45=\"\",\"\",OS!D45)","v":""},null,{"$f":"OS!G45","v":""},{"$f":"IF(OS!H45=\"\",\"\",OS!H45)","v":""},null,{"$f":"SE!C45","v":""},{"$f":"IF(SE!D45=\"\",0,SE!D45)","v":0},{"$f":"IF(SE!E45=\"\",\"\",SE!E45)","v":""},null,{"$f":"SE!H45","v":""},{"$f":"IF(SE!I45=\"\",0,SE!I45)","v":0},{"$f":"IF(SE!J45=\"\",\"\",SE!J45)","v":""},null,{"$f":"BSP!C45","v":""},{"$f":"IF(BSP!D45=\"\",\"\",BSP!D45)","v":""},null,{"$f":"BSP!G45","v":""},{"$f":"IF(BSP!H45=\"\",\"\",BSP!H45)","v":""},null,{"$f":"VS!C45","v":""},{"$f":"IF(VS!D45=\"\",\"\",VS!D45)","v":""},null,{"$f":"VS!G45","v":""},{"$f":"IF(VS!H45=\"\",\"\",VS!H45)","v":""}]
[{"$f":"PS!C46","v":""},{"$f":"IF(PS!D46=\"\",\"\",PS!D46)","v":""},null,{"$f":"PS!G46","v":""},{"$f":"IF(PS!H46=\"\",\"\",PS!H46)","v":""},null,{"$f":"OS!C46","v":""},{"$f":"IF(OS!D46=\"\",\"\",OS!D46)","v":""},null,{"$f":"OS!G46","v":""},{"$f":"IF(OS!H46=\"\",\"\",OS!H46)","v":""},null,{"$f":"SE!C46","v":""},{"$f":"IF(SE!D46=\"\",0,SE!D46)","v":0},{"$f":"IF(SE!E46=\"\",\"\",SE!E46)","v":""},null,{"$f":"SE!H46","v":""},{"$f":"IF(SE!I46=\"\",0,SE!I46)","v":0},{"$f":"IF(SE!J46=\"\",\"\",SE!J46)","v":""},null,{"$f":"BSP!C46","v":""},{"$f":"IF(BSP!D46=\"\",\"\",BSP!D46)","v":""},null,{"$f":"BSP!G46","v":""},{"$f":"IF(BSP!H46=\"\",\"\",BSP!H46)","v":""},null,{"$f":"VS!C46","v":""},{"$f":"IF(VS!D46=\"\",\"\",VS!D46)","v":""},null,{"$f":"VS!G46","v":""},{"$f":"IF(VS!H46=\"\",\"\",VS!H46)","v":""}]
[{"$f":"PS!C47","v":""},{"$f":"IF(PS!D47=\"\",\"\",PS!D47)","v":""},null,{"$f":"PS!G47","v":""},{"$f":"IF(PS!H47=\"\",\"\",PS!H47)","v":""},null,{"$f":"OS!C47","v":""},{"$f":"IF(OS!D47=\"\",\"\",OS!D47)","v":""},null,{"$f":"OS!G47","v":""},{"$f":"IF(OS!H47=\"\",\"\",OS!H47)","v":""},null,{"$f":"SE!C47","v":""},{"$f":"IF(SE!D47=\"\",0,SE!D47)","v":0},{"$f":"IF(SE!E47=\"\",\"\",SE!E47)","v":""},null,{"$f":"SE!H47","v":""},{"$f":"IF(SE!I47=\"\",0,SE!I47)","v":0},{"$f":"IF(SE!J47=\"\",\"\",SE!J47)","v":""},null,{"$f":"BSP!C47","v":""},{"$f":"IF(BSP!D47=\"\",\"\",BSP!D47)","v":""},null,{"$f":"BSP!G47","v":""},{"$f":"IF(BSP!H47=\"\",\"\",BSP!H47)","v":""},null,{"$f":"VS!C47","v":""},{"$f":"IF(VS!D47=\"\",\"\",VS!D47)","v":""},null,{"$f":"VS!G47","v":""},{"$f":"IF(VS!H47=\"\",\"\",VS!H47)","v":""}]
[{"$f":"PS!C48","v":""},{"$f":"IF(PS!D48=\"\",\"\",PS!D48)","v":""},null,{"$f":"PS!G48","v":""},{"$f":"IF(PS!H48=\"\",\"\",PS!H48)","v":""},null,{"$f":"OS!C48","v":""},{"$f":"IF(OS!D48=\"\",\"\",OS!D48)","v":""},null,{"$f":"OS!G48","v":""},{"$f":"IF(OS!H48=\"\",\"\",OS!H48)","v":""},null,{"$f":"SE!C48","v":""},{"$f":"IF(SE!D48=\"\",0,SE!D48)","v":0},{"$f":"IF(SE!E48=\"\",\"\",SE!E48)","v":""},null,{"$f":"SE!H48","v":""},{"$f":"IF(SE!I48=\"\",0,SE!I48)","v":0},{"$f":"IF(SE!J48=\"\",\"\",SE!J48)","v":""},null,{"$f":"BSP!C48","v":""},{"$f":"IF(BSP!D48=\"\",\"\",BSP!D48)","v":""},null,{"$f":"BSP!G48","v":""},{"$f":"IF(BSP!H48=\"\",\"\",BSP!H48)","v":""},null,{"$f":"VS!C48","v":""},{"$f":"IF(VS!D48=\"\",\"\",VS!D48)","v":""},null,{"$f":"VS!G48","v":""},{"$f":"IF(VS!H48=\"\",\"\",VS!H48)","v":""}]
[{"$f":"PS!C49","v":""},{"$f":"IF(PS!D49=\"\",\"\",PS!D49)","v":""},null,{"$f":"PS!G49","v":""},{"$f":"IF(PS!H49=\"\",\"\",PS!H49)","v":""},null,{"$f":"OS!C49","v":""},{"$f":"IF(OS!D49=\"\",\"\",OS!D49)","v":""},null,{"$f":"OS!G49","v":""},{"$f":"IF(OS!H49=\"\",\"\",OS!H49)","v":""},null,{"$f":"SE!C49","v":""},{"$f":"IF(SE!D49=\"\",0,SE!D49)","v":0},{"$f":"IF(SE!E49=\"\",\"\",SE!E49)","v":""},null,{"$f":"SE!H49","v":""},{"$f":"IF(SE!I49=\"\",0,SE!I49)","v":0},{"$f":"IF(SE!J49=\"\",\"\",SE!J49)","v":""},null,{"$f":"BSP!C49","v":""},{"$f":"IF(BSP!D49=\"\",\"\",BSP!D49)","v":""},null,{"$f":"BSP!G49","v":""},{"$f":"IF(BSP!H49=\"\",\"\",BSP!H49)","v":""},null,{"$f":"VS!C49","v":""},{"$f":"IF(VS!D49=\"\",\"\",VS!D49)","v":""},null,{"$f":"VS!G49","v":""},{"$f":"IF(VS!H49=\"\",\"\",VS!H49)","v":""}]
[{"$f":"PS!C50","v":""},{"$f":"IF(PS!D50=\"\",\"\",PS!D50)","v":""},null,{"$f":"PS!G50","v":""},{"$f":"IF(PS!H50=\"\",\"\",PS!H50)","v":""},null,{"$f":"OS!C50","v":""},{"$f":"IF(OS!D50=\"\",\"\",OS!D50)","v":""},null,{"$f":"OS!G50","v":""},{"$f":"IF(OS!H50=\"\",\"\",OS!H50)","v":""},null,{"$f":"SE!C50","v":""},{"$f":"IF(SE!D50=\"\",0,SE!D50)","v":0},{"$f":"IF(SE!E50=\"\",\"\",SE!E50)","v":""},null,{"$f":"SE!H50","v":""},{"$f":"IF(SE!I50=\"\",0,SE!I50)","v":0},{"$f":"IF(SE!J50=\"\",\"\",SE!J50)","v":""},null,{"$f":"BSP!C50","v":""},{"$f":"IF(BSP!D50=\"\",\"\",BSP!D50)","v":""},null,{"$f":"BSP!G50","v":""},{"$f":"IF(BSP!H50=\"\",\"\",BSP!H50)","v":""},null,{"$f":"VS!C50","v":""},{"$f":"IF(VS!D50=\"\",\"\",VS!D50)","v":""},null,{"$f":"VS!G50","v":""},{"$f":"IF(VS!H50=\"\",\"\",VS!H50)","v":""}]
[{"$f":"PS!C51","v":""},{"$f":"IF(PS!D51=\"\",\"\",PS!D51)","v":""},null,{"$f":"PS!G51","v":""},{"$f":"IF(PS!H51=\"\",\"\",PS!H51)","v":""},null,{"$f":"OS!C51","v":""},{"$f":"IF(OS!D51=\"\",\"\",OS!D51)","v":""},null,{"$f":"OS!G51","v":""},{"$f":"IF(OS!H51=\"\",\"\",OS!H51)","v":""},null,{"$f":"SE!C51","v":""},{"$f":"IF(SE!D51=\"\",0,SE!D51)","v":0},{"$f":"IF(SE!E51=\"\",\"\",SE!E51)","v":""},null,{"$f":"SE!H51","v":""},{"$f":"IF(SE!I51=\"\",0,SE!I51)","v":0},{"$f":"IF(SE!J51=\"\",\"\",SE!J51)","v":""},null,{"$f":"BSP!C51","v":""},{"$f":"IF(BSP!D51=\"\",\"\",BSP!D51)","v":""},null,{"$f":"BSP!G51","v":""},{"$f":"IF(BSP!H51=\"\",\"\",BSP!H51)","v":""},null,{"$f":"VS!C51","v":""},{"$f":"IF(VS!D51=\"\",\"\",VS!D51)","v":""},null,{"$f":"VS!G51","v":""},{"$f":"IF(VS!H51=\"\",\"\",VS!H51)","v":""}]
[{"$f":"PS!C52","v":""},{"$f":"IF(PS!D52=\"\",\"\",PS!D52)","v":""},null,{"$f":"PS!G52","v":""},{"$f":"IF(PS!H52=\"\",\"\",PS!H52)","v":""},null,{"$f":"OS!C52","v":""},{"$f":"IF(OS!D52=\"\",\"\",OS!D52)","v":""},null,{"$f":"OS!G52","v":""},{"$f":"IF(OS!H52=\"\",\"\",OS!H52)","v":""},null,{"$f":"SE!C52","v":""},{"$f":"IF(SE!D52=\"\",0,SE!D52)","v":0},{"$f":"IF(SE!E52=\"\",\"\",SE!E52)","v":""},null,{"$f":"SE!H52","v":""},{"$f":"IF(SE!I52=\"\",0,SE!I52)","v":0},{"$f":"IF(SE!J52=\"\",\"\",SE!J52)","v":""},null,{"$f":"BSP!C52","v":""},{"$f":"IF(BSP!D52=\"\",\"\",BSP!D52)","v":""},null,{"$f":"BSP!G52","v":""},{"$f":"IF(BSP!H52=\"\",\"\",BSP!H52)","v":""},null,{"$f":"VS!C52","v":""},{"$f":"IF(VS!D52=\"\",\"\",VS!D52)","v":""},null,{"$f":"VS!G52","v":""},{"$f":"IF(VS!H52=\"\",\"\",VS!H52)","v":""}]
[{"$f":"PS!C53","v":""},{"$f":"IF(PS!D53=\"\",\"\",PS!D53)","v":""},null,{"$f":"PS!G53","v":""},{"$f":"IF(PS!H53=\"\",\"\",PS!H53)","v":""},null,{"$f":"OS!C53","v":""},{"$f":"IF(OS!D53=\"\",\"\",OS!D53)","v":""},null,{"$f":"OS!G53","v":""},{"$f":"IF(OS!H53=\"\",\"\",OS!H53)","v":""},null,{"$f":"SE!C53","v":""},{"$f":"IF(SE!D53=\"\",0,SE!D53)","v":0},{"$f":"IF(SE!E53=\"\",\"\",SE!E53)","v":""},null,{"$f":"SE!H53","v":""},{"$f":"IF(SE!I53=\"\",0,SE!I53)","v":0},{"$f":"IF(SE!J53=\"\",\"\",SE!J53)","v":""},null,{"$f":"BSP!C53","v":""},{"$f":"IF(BSP!D53=\"\",\"\",BSP!D53)","v":""},null,{"$f":"BSP!G53","v":""},{"$f":"IF(BSP!H53=\"\",\"\",BSP!H53)","v":""},null,{"$f":"VS!C53","v":""},{"$f":"IF(VS!D53=\"\",\"\",VS!D53)","v":""},null,{"$f":"VS!G53","v":""},{"$f":"IF(VS!H53=\"\",\"\",VS!H53)","v":""}]
[{"$f":"PS!C54","v":""},{"$f":"IF(PS!D54=\"\",\"\",PS!D54)","v":""},null,{"$f":"PS!G54","v":""},{"$f":"IF(PS!H54=\"\",\"\",PS!H54)","v":""},null,{"$f":"OS!C54","v":""},{"$f":"IF(OS!D54=\"\",\"\",OS!D54)","v":""},null,{"$f":"OS!G54","v":""},{"$f":"IF(OS!H54=\"\",\"\",OS!H54)","v":""},null,{"$f":"SE!C54","v":""},{"$f":"IF(SE!D54=\"\",0,SE!D54)","v":0},{"$f":"IF(SE!E54=\"\",\"\",SE!E54)","v":""},null,{"$f":"SE!H54","v":""},{"$f":"IF(SE!I54=\"\",0,SE!I54)","v":0},{"$f":"IF(SE!J54=\"\",\"\",SE!J54)","v":""},null,{"$f":"BSP!C54","v":""},{"$f":"IF(BSP!D54=\"\",\"\",BSP!D54)","v":""},null,{"$f":"BSP!G54","v":""},{"$f":"IF(BSP!H54=\"\",\"\",BSP!H54)","v":""},null,{"$f":"VS!C54","v":""},{"$f":"IF(VS!D54=\"\",\"\",VS!D54)","v":""},null,{"$f":"VS!G54","v":""},{"$f":"IF(VS!H54=\"\",\"\",VS!H54)","v":""}]
[{"$f":"PS!C55","v":""},{"$f":"IF(PS!D55=\"\",\"\",PS!D55)","v":""},null,{"$f":"PS!G55","v":""},{"$f":"IF(PS!H55=\"\",\"\",PS!H55)","v":""},null,{"$f":"OS!C55","v":""},{"$f":"IF(OS!D55=\"\",\"\",OS!D55)","v":""},null,{"$f":"OS!G55","v":""},{"$f":"IF(OS!H55=\"\",\"\",OS!H55)","v":""},null,{"$f":"SE!C55","v":""},{"$f":"IF(SE!D55=\"\",0,SE!D55)","v":0},{"$f":"IF(SE!E55=\"\",\"\",SE!E55)","v":""},null,{"$f":"SE!H55","v":""},{"$f":"IF(SE!I55=\"\",0,SE!I55)","v":0},{"$f":"IF(SE!J55=\"\",\"\",SE!J55)","v":""},null,{"$f":"BSP!C55","v":""},{"$f":"IF(BSP!D55=\"\",\"\",BSP!D55)","v":""},null,{"$f":"BSP!G55","v":""},{"$f":"IF(BSP!H55=\"\",\"\",BSP!H55)","v":""},null,{"$f":"VS!C55","v":""},{"$f":"IF(VS!D55=\"\",\"\",VS!D55)","v":""},null,{"$f":"VS!G55","v":""},{"$f":"IF(VS!H55=\"\",\"\",VS!H55)","v":""}]
[{"$f":"PS!C56","v":""},{"$f":"IF(PS!D56=\"\",\"\",PS!D56)","v":""},null,{"$f":"PS!G56","v":""},{"$f":"IF(PS!H56=\"\",\"\",PS!H56)","v":""},null,{"$f":"OS!C56","v":""},{"$f":"IF(OS!D56=\"\",\"\",OS!D56)","v":""},null,{"$f":"OS!G56","v":""},{"$f":"IF(OS!H56=\"\",\"\",OS!H56)","v":""},null,{"$f":"SE!C56","v":""},{"$f":"IF(SE!D56=\"\",0,SE!D56)","v":0},{"$f":"IF(SE!E56=\"\",\"\",SE!E56)","v":""},null,{"$f":"SE!H56","v":""},{"$f":"IF(SE!I56=\"\",0,SE!I56)","v":0},{"$f":"IF(SE!J56=\"\",\"\",SE!J56)","v":""},null,{"$f":"BSP!C56","v":""},{"$f":"IF(BSP!D56=\"\",\"\",BSP!D56)","v":""},null,{"$f":"BSP!G56","v":""},{"$f":"IF(BSP!H56=\"\",\"\",BSP!H56)","v":""},null,{"$f":"VS!C56","v":""},{"$f":"IF(VS!D56=\"\",\"\",VS!D56)","v":""},null,{"$f":"VS!G56","v":""},{"$f":"IF(VS!H56=\"\",\"\",VS!H56)","v":""}]
[{"$f":"PS!C57","v":""},{"$f":"IF(PS!D57=\"\",\"\",PS!D57)","v":""},null,{"$f":"PS!G57","v":""},{"$f":"IF(PS!H57=\"\",\"\",PS!H57)","v":""},null,{"$f":"OS!C57","v":""},{"$f":"IF(OS!D57=\"\",\"\",OS!D57)","v":""},null,{"$f":"OS!G57","v":""},{"$f":"IF(OS!H57=\"\",\"\",OS!H57)","v":""},null,{"$f":"SE!C57","v":""},{"$f":"IF(SE!D57=\"\",0,SE!D57)","v":0},{"$f":"IF(SE!E57=\"\",\"\",SE!E57)","v":""},null,{"$f":"SE!H57","v":""},{"$f":"IF(SE!I57=\"\",0,SE!I57)","v":0},{"$f":"IF(SE!J57=\"\",\"\",SE!J57)","v":""},null,{"$f":"BSP!C57","v":""},{"$f":"IF(BSP!D57=\"\",\"\",BSP!D57)","v":""},null,{"$f":"BSP!G57","v":""},{"$f":"IF(BSP!H57=\"\",\"\",BSP!H57)","v":""},null,{"$f":"VS!C57","v":""},{"$f":"IF(VS!D57=\"\",\"\",VS!D57)","v":""},null,{"$f":"VS!G57","v":""},{"$f":"IF(VS!H57=\"\",\"\",VS!H57)","v":""}]
[{"$f":"PS!C58","v":""},{"$f":"IF(PS!D58=\"\",\"\",PS!D58)","v":""},null,{"$f":"PS!G58","v":""},{"$f":"IF(PS!H58=\"\",\"\",PS!H58)","v":""},null,{"$f":"OS!C58","v":""},{"$f":"IF(OS!D58=\"\",\"\",OS!D58)","v":""},null,{"$f":"OS!G58","v":""},{"$f":"IF(OS!H58=\"\",\"\",OS!H58)","v":""},null,{"$f":"SE!C58","v":""},{"$f":"IF(SE!D58=\"\",0,SE!D58)","v":0},{"$f":"IF(SE!E58=\"\",\"\",SE!E58)","v":""},null,{"$f":"SE!H58","v":""},{"$f":"IF(SE!I58=\"\",0,SE!I58)","v":0},{"$f":"IF(SE!J58=\"\",\"\",SE!J58)","v":""},null,{"$f":"BSP!C58","v":""},{"$f":"IF(BSP!D58=\"\",\"\",BSP!D58)","v":""},null,{"$f":"BSP!G58","v":""},{"$f":"IF(BSP!H58=\"\",\"\",BSP!H58)","v":""},null,{"$f":"VS!C58","v":""},{"$f":"IF(VS!D58=\"\",\"\",VS!D58)","v":""},null,{"$f":"VS!G58","v":""},{"$f":"IF(VS!H58=\"\",\"\",VS!H58)","v":""}]
[{"$f":"PS!C59","v":""},{"$f":"IF(PS!D59=\"\",\"\",PS!D59)","v":""},null,{"$f":"PS!G59","v":""},{"$f":"IF(PS!H59=\"\",\"\",PS!H59)","v":""},null,{"$f":"OS!C59","v":""},{"$f":"IF(OS!D59=\"\",\"\",OS!D59)","v":""},null,{"$f":"OS!G59","v":""},{"$f":"IF(OS!H59=\"\",\"\",OS!H59)","v":""},null,{"$f":"SE!C59","v":""},{"$f":"IF(SE!D59=\"\",0,SE!D59)","v":0},{"$f":"IF(SE!E59=\"\",\"\",SE!E59)","v":""},null,{"$f":"SE!H59","v":""},{"$f":"IF(SE!I59=\"\",0,SE!I59)","v":0},{"$f":"IF(SE!J59=\"\",\"\",SE!J59)","v":""},null,{"$f":"BSP!C59","v":""},{"$f":"IF(BSP!D59=\"\",\"\",BSP!D59)","v":""},null,{"$f":"BSP!G59","v":""},{"$f":"IF(BSP!H59=\"\",\"\",BSP!H59)","v":""},null,{"$f":"VS!C59","v":""},{"$f":"IF(VS!D59=\"\",\"\",VS!D59)","v":""},null,{"$f":"VS!G59","v":""},{"$f":"IF(VS!H59=\"\",\"\",VS!H59)","v":""}]
[{"$f":"PS!C60","v":""},{"$f":"IF(PS!D60=\"\",\"\",PS!D60)","v":""},null,{"$f":"PS!G60","v":""},{"$f":"IF(PS!H60=\"\",\"\",PS!H60)","v":""},null,{"$f":"OS!C60","v":""},{"$f":"IF(OS!D60=\"\",\"\",OS!D60)","v":""},null,{"$f":"OS!G60","v":""},{"$f":"IF(OS!H60=\"\",\"\",OS!H60)","v":""},null,{"$f":"SE!C60","v":""},{"$f":"IF(SE!D60=\"\",0,SE!D60)","v":0},{"$f":"IF(SE!E60=\"\",\"\",SE!E60)","v":""},null,{"$f":"SE!H60","v":""},{"$f":"IF(SE!I60=\"\",0,SE!I60)","v":0},{"$f":"IF(SE!J60=\"\",\"\",SE!J60)","v":""},null,{"$f":"BSP!C60","v":""},{"$f":"IF(BSP!D60=\"\",\"\",BSP!D60)","v":""},null,{"$f":"BSP!G60","v":""},{"$f":"IF(BSP!H60=\"\",\"\",BSP!H60)","v":""},null,{"$f":"VS!C60","v":""},{"$f":"IF(VS!D60=\"\",\"\",VS!D60)","v":""},null,{"$f":"VS!G60","v":""},{"$f":"IF(VS!H60=\"\",\"\",VS!H60)","v":""}]
[{"$f":"PS!C61","v":""},{"$f":"IF(PS!D61=\"\",\"\",PS!D61)","v":""},null,{"$f":"PS!G61","v":""},{"$f":"IF(PS!H61=\"\",\"\",PS!H61)","v":""},null,{"$f":"OS!C61","v":""},{"$f":"IF(OS!D61=\"\",\"\",OS!D61)","v":""},null,{"$f":"OS!G61","v":""},{"$f":"IF(OS!H61=\"\",\"\",OS!H61)","v":""},null,{"$f":"SE!C61","v":""},{"$f":"IF(SE!D61=\"\",0,SE!D61)","v":0},{"$f":"IF(SE!E61=\"\",\"\",SE!E61)","v":""},null,{"$f":"SE!H61","v":""},{"$f":"IF(SE!I61=\"\",0,SE!I61)","v":0},{"$f":"IF(SE!J61=\"\",\"\",SE!J61)","v":""},null,{"$f":"BSP!C61","v":""},{"$f":"IF(BSP!D61=\"\",\"\",BSP!D61)","v":""},null,{"$f":"BSP!G61","v":""},{"$f":"IF(BSP!H61=\"\",\"\",BSP!H61)","v":""},null,{"$f":"VS!C61","v":""},{"$f":"IF(VS!D61=\"\",\"\",VS!D61)","v":""},null,{"$f":"VS!G61","v":""},{"$f":"IF(VS!H61=\"\",\"\",VS!H61)","v":""}]
[{"$f":"PS!C62","v":""},{"$f":"IF(PS!D62=\"\",\"\",PS!D62)","v":""},null,{"$f":"PS!G62","v":""},{"$f":"IF(PS!H62=\"\",\"\",PS!H62)","v":""},null,{"$f":"OS!C62","v":""},{"$f":"IF(OS!D62=\"\",\"\",OS!D62)","v":""},null,{"$f":"OS!G62","v":""},{"$f":"IF(OS!H62=\"\",\"\",OS!H62)","v":""},null,{"$f":"SE!C62","v":""},{"$f":"IF(SE!D62=\"\",0,SE!D62)","v":0},{"$f":"IF(SE!E62=\"\",\"\",SE!E62)","v":""},null,{"$f":"SE!H62","v":""},{"$f":"IF(SE!I62=\"\",0,SE!I62)","v":0},{"$f":"IF(SE!J62=\"\",\"\",SE!J62)","v":""},null,{"$f":"BSP!C62","v":""},{"$f":"IF(BSP!D62=\"\",\"\",BSP!D62)","v":""},null,{"$f":"BSP!G62","v":""},{"$f":"IF(BSP!H62=\"\",\"\",BSP!H62)","v":""},null,{"$f":"VS!C62","v":""},{"$f":"IF(VS!D62=\"\",\"\",VS!D62)","v":""},null,{"$f":"VS!G62","v":""},{"$f":"IF(VS!H62=\"\",\"\",VS!H62)","v":""}]
[{"$f":"PS!C63","v":""},{"$f":"IF(PS!D63=\"\",\"\",PS!D63)","v":""},null,{"$f":"PS!G63","v":""},{"$f":"IF(PS!H63=\"\",\"\",PS!H63)","v":""},null,{"$f":"OS!C63","v":""},{"$f":"IF(OS!D63=\"\",\"\",OS!D63)","v":""},null,{"$f":"OS!G63","v":""},{"$f":"IF(OS!H63=\"\",\"\",OS!H63)","v":""},null,{"$f":"SE!C63","v":""},{"$f":"IF(SE!D63=\"\",0,SE!D63)","v":0},{"$f":"IF(SE!E63=\"\",\"\",SE!E63)","v":""},null,{"$f":"SE!H63","v":""},{"$f":"IF(SE!I63=\"\",0,SE!I63)","v":0},{"$f":"IF(SE!J63=\"\",\"\",SE!J63)","v":""},null,{"$f":"BSP!C63","v":""},{"$f":"IF(BSP!D63=\"\",\"\",BSP!D63)","v":""},null,{"$f":"BSP!G63","v":""},{"$f":"IF(BSP!H63=\"\",\"\",BSP!H63)","v":""},null,{"$f":"VS!C63","v":""},{"$f":"IF(VS!D63=\"\",\"\",VS!D63)","v":""},null,{"$f":"VS!G63","v":""},{"$f":"IF(VS!H63=\"\",\"\",VS!H63)","v":""}]
[{"$f":"PS!C64","v":""},{"$f":"IF(PS!D64=\"\",\"\",PS!D64)","v":""},null,{"$f":"PS!G64","v":""},{"$f":"IF(PS!H64=\"\",\"\",PS!H64)","v":""},null,{"$f":"OS!C64","v":""},{"$f":"IF(OS!D64=\"\",\"\",OS!D64)","v":""},null,{"$f":"OS!G64","v":""},{"$f":"IF(OS!H64=\"\",\"\",OS!H64)","v":""},null,{"$f":"SE!C64","v":""},{"$f":"IF(SE!D64=\"\",0,SE!D64)","v":0},{"$f":"IF(SE!E64=\"\",\"\",SE!E64)","v":""},null,{"$f":"SE!H64","v":""},{"$f":"IF(SE!I64=\"\",0,SE!I64)","v":0},{"$f":"IF(SE!J64=\"\",\"\",SE!J64)","v":""},null,{"$f":"BSP!C64","v":""},{"$f":"IF(BSP!D64=\"\",\"\",BSP!D64)","v":""},null,{"$f":"BSP!G64","v":""},{"$f":"IF(BSP!H64=\"\",\"\",BSP!H64)","v":""},null,{"$f":"VS!C64","v":""},{"$f":"IF(VS!D64=\"\",\"\",VS!D64)","v":""},null,{"$f":"VS!G64","v":""},{"$f":"IF(VS!H64=\"\",\"\",VS!H64)","v":""}]
[{"$f":"PS!C65","v":""},{"$f":"IF(PS!D65=\"\",\"\",PS!D65)","v":""},null,{"$f":"PS!G65","v":""},{"$f":"IF(PS!H65=\"\",\"\",PS!H65)","v":""},null,{"$f":"OS!C65","v":""},{"$f":"IF(OS!D65=\"\",\"\",OS!D65)","v":""},null,{"$f":"OS!G65","v":""},{"$f":"IF(OS!H65=\"\",\"\",OS!H65)","v":""},null,{"$f":"SE!C65","v":""},{"$f":"IF(SE!D65=\"\",0,SE!D65)","v":0},{"$f":"IF(SE!E65=\"\",\"\",SE!E65)","v":""},null,{"$f":"SE!H65","v":""},{"$f":"IF(SE!I65=\"\",0,SE!I65)","v":0},{"$f":"IF(SE!J65=\"\",\"\",SE!J65)","v":""},null,{"$f":"BSP!C65","v":""},{"$f":"IF(BSP!D65=\"\",\"\",BSP!D65)","v":""},null,{"$f":"BSP!G65","v":""},{"$f":"IF(BSP!H65=\"\",\"\",BSP!H65)","v":""},null,{"$f":"VS!C65","v":""},{"$f":"IF(VS!D65=\"\",\"\",VS!D65)","v":""},null,{"$f":"VS!G65","v":""},{"$f":"IF(VS!H65=\"\",\"\",VS!H65)","v":""}]
[{"$f":"PS!C66","v":""},{"$f":"IF(PS!D66=\"\",\"\",PS!D66)","v":""},null,{"$f":"PS!G66","v":""},{"$f":"IF(PS!H66=\"\",\"\",PS!H66)","v":""},null,{"$f":"OS!C66","v":""},{"$f":"IF(OS!D66=\"\",\"\",OS!D66)","v":""},null,{"$f":"OS!G66","v":""},{"$f":"IF(OS!H66=\"\",\"\",OS!H66)","v":""},null,{"$f":"SE!C66","v":""},{"$f":"IF(SE!D66=\"\",0,SE!D66)","v":0},{"$f":"IF(SE!E66=\"\",\"\",SE!E66)","v":""},null,{"$f":"SE!H66","v":""},{"$f":"IF(SE!I66=\"\",0,SE!I66)","v":0},{"$f":"IF(SE!J66=\"\",\"\",SE!J66)","v":""},null,{"$f":"BSP!C66","v":""},{"$f":"IF(BSP!D66=\"\",\"\",BSP!D66)","v":""},null,{"$f":"BSP!G66","v":""},{"$f":"IF(BSP!H66=\"\",\"\",BSP!H66)","v":""},null,{"$f":"VS!C66","v":""},{"$f":"IF(VS!D66=\"\",\"\",VS!D66)","v":""},null,{"$f":"VS!G66","v":""},{"$f":"IF(VS!H66=\"\",\"\",VS!H66)","v":""}]
[{"$f":"PS!C67","v":""},{"$f":"IF(PS!D67=\"\",\"\",PS!D67)","v":""},null,{"$f":"PS!G67","v":""},{"$f":"IF(PS!H67=\"\",\"\",PS!H67)","v":""},null,{"$f":"OS!C67","v":""},{"$f":"IF(OS!D67=\"\",\"\",OS!D67)","v":""},null,{"$f":"OS!G67","v":""},{"$f":"IF(OS!H67=\"\",\"\",OS!H67)","v":""},null,{"$f":"SE!C67","v":""},{"$f":"IF(SE!D67=\"\",0,SE!D67)","v":0},{"$f":"IF(SE!E67=\"\",\"\",SE!E67)","v":""},null,{"$f":"SE!H67","v":""},{"$f":"IF(SE!I67=\"\",0,SE!I67)","v":0},{"$f":"IF(SE!J67=\"\",\"\",SE!J67)","v":""},null,{"$f":"BSP!C67","v":""},{"$f":"IF(BSP!D67=\"\",\"\",BSP!D67)","v":""},null,{"$f":"BSP!G67","v":""},{"$f":"IF(BSP!H67=\"\",\"\",BSP!H67)","v":""},null,{"$f":"VS!C67","v":""},{"$f":"IF(VS!D67=\"\",\"\",VS!D67)","v":""},null,{"$f":"VS!G67","v":""},{"$f":"IF(VS!H67=\"\",\"\",VS!H67)","v":""}]
[{"$f":"PS!C68","v":""},{"$f":"IF(PS!D68=\"\",\"\",PS!D68)","v":""},null,{"$f":"PS!G68","v":""},{"$f":"IF(PS!H68=\"\",\"\",PS!H68)","v":""},null,{"$f":"OS!C68","v":""},{"$f":"IF(OS!D68=\"\",\"\",OS!D68)","v":""},null,{"$f":"OS!G68","v":""},{"$f":"IF(OS!H68=\"\",\"\",OS!H68)","v":""},null,{"$f":"SE!C68","v":""},{"$f":"IF(SE!D68=\"\",0,SE!D68)","v":0},{"$f":"IF(SE!E68=\"\",\"\",SE!E68)","v":""},null,{"$f":"SE!H68","v":""},{"$f":"IF(SE!I68=\"\",0,SE!I68)","v":0},{"$f":"IF(SE!J68=\"\",\"\",SE!J68)","v":""},null,{"$f":"BSP!C68","v":""},{"$f":"IF(BSP!D68=\"\",\"\",BSP!D68)","v":""},null,{"$f":"BSP!G68","v":""},{"$f":"IF(BSP!H68=\"\",\"\",BSP!H68)","v":""},null,{"$f":"VS!C68","v":""},{"$f":"IF(VS!D68=\"\",\"\",VS!D68)","v":""},null,{"$f":"VS!G68","v":""},{"$f":"IF(VS!H68=\"\",\"\",VS!H68)","v":""}]
[{"$f":"PS!C69","v":""},{"$f":"IF(PS!D69=\"\",\"\",PS!D69)","v":""},null,{"$f":"PS!G69","v":""},{"$f":"IF(PS!H69=\"\",\"\",PS!H69)","v":""},null,{"$f":"OS!C69","v":""},{"$f":"IF(OS!D69=\"\",\"\",OS!D69)","v":""},null,{"$f":"OS!G69","v":""},{"$f":"IF(OS!H69=\"\",\"\",OS!H69)","v":""},null,{"$f":"SE!C69","v":""},{"$f":"IF(SE!D69=\"\",0,SE!D69)","v":0},{"$f":"IF(SE!E69=\"\",\"\",SE!E69)","v":""},null,{"$f":"SE!H69","v":""},{"$f":"IF(SE!I69=\"\",0,SE!I69)","v":0},{"$f":"IF(SE!J69=\"\",\"\",SE!J69)","v":""},null,{"$f":"BSP!C69","v":""},{"$f":"IF(BSP!D69=\"\",\"\",BSP!D69)","v":""},null,{"$f":"BSP!G69","v":""},{"$f":"IF(BSP!H69=\"\",\"\",BSP!H69)","v":""},null,{"$f":"VS!C69","v":""},{"$f":"IF(VS!D69=\"\",\"\",VS!D69)","v":""},null,{"$f":"VS!G69","v":""},{"$f":"IF(VS!H69=\"\",\"\",VS!H69)","v":""}]
[{"$f":"PS!C70","v":""},{"$f":"IF(PS!D70=\"\",\"\",PS!D70)","v":""},null,{"$f":"PS!G70","v":""},{"$f":"IF(PS!H70=\"\",\"\",PS!H70)","v":""},null,{"$f":"OS!C70","v":""},{"$f":"IF(OS!D70=\"\",\"\",OS!D70)","v":""},null,{"$f":"OS!G70","v":""},{"$f":"IF(OS!H70=\"\",\"\",OS!H70)","v":""},null,{"$f":"SE!C70","v":""},{"$f":"IF(SE!D70=\"\",0,SE!D70)","v":0},{"$f":"IF(SE!E70=\"\",\"\",SE!E70)","v":""},null,{"$f":"SE!H70","v":""},{"$f":"IF(SE!I70=\"\",0,SE!I70)","v":0},{"$f":"IF(SE!J70=\"\",\"\",SE!J70)","v":""},null,{"$f":"BSP!C70","v":""},{"$f":"IF(BSP!D70=\"\",\"\",BSP!D70)","v":""},null,{"$f":"BSP!G70","v":""},{"$f":"IF(BSP!H70=\"\",\"\",BSP!H70)","v":""},null,{"$f":"VS!C70","v":""},{"$f":"IF(VS!D70=\"\",\"\",VS!D70)","v":""},null,{"$f":"VS!G70","v":""},{"$f":"IF(VS!H70=\"\",\"\",VS!H70)","v":""}]
[{"$f":"PS!C71","v":""},{"$f":"IF(PS!D71=\"\",\"\",PS!D71)","v":""},null,{"$f":"PS!G71","v":""},{"$f":"IF(PS!H71=\"\",\"\",PS!H71)","v":""},null,{"$f":"OS!C71","v":""},{"$f":"IF(OS!D71=\"\",\"\",OS!D71)","v":""},null,{"$f":"OS!G71","v":""},{"$f":"IF(OS!H71=\"\",\"\",OS!H71)","v":""},null,{"$f":"SE!C71","v":""},{"$f":"IF(SE!D71=\"\",0,SE!D71)","v":0},{"$f":"IF(SE!E71=\"\",\"\",SE!E71)","v":""},null,{"$f":"SE!H71","v":""},{"$f":"IF(SE!I71=\"\",0,SE!I71)","v":0},{"$f":"IF(SE!J71=\"\",\"\",SE!J71)","v":""},null,{"$f":"BSP!C71","v":""},{"$f":"IF(BSP!D71=\"\",\"\",BSP!D71)","v":""},null,{"$f":"BSP!G71","v":""},{"$f":"IF(BSP!H71=\"\",\"\",BSP!H71)","v":""},null,{"$f":"VS!C71","v":""},{"$f":"IF(VS!D71=\"\",\"\",VS!D71)","v":""},null,{"$f":"VS!G71","v":""},{"$f":"IF(VS!H71=\"\",\"\",VS!H71)","v":""}]
[{"$f":"PS!C72","v":""},{"$f":"IF(PS!D72=\"\",\"\",PS!D72)","v":""},null,{"$f":"PS!G72","v":""},{"$f":"IF(PS!H72=\"\",\"\",PS!H72)","v":""},null,{"$f":"OS!C72","v":""},{"$f":"IF(OS!D72=\"\",\"\",OS!D72)","v":""},null,{"$f":"OS!G72","v":""},{"$f":"IF(OS!H72=\"\",\"\",OS!H72)","v":""},null,{"$f":"SE!C72","v":""},{"$f":"IF(SE!D72=\"\",0,SE!D72)","v":0},{"$f":"IF(SE!E72=\"\",\"\",SE!E72)","v":""},null,{"$f":"SE!H72","v":""},{"$f":"IF(SE!I72=\"\",0,SE!I72)","v":0},{"$f":"IF(SE!J72=\"\",\"\",SE!J72)","v":""},null,{"$f":"BSP!C72","v":""},{"$f":"IF(BSP!D72=\"\",\"\",BSP!D72)","v":""},null,{"$f":"BSP!G72","v":""},{"$f":"IF(BSP!H72=\"\",\"\",BSP!H72)","v":""},null,{"$f":"VS!C72","v":""},{"$f":"IF(VS!D72=\"\",\"\",VS!D72)","v":""},null,{"$f":"VS!G72","v":""},{"$f":"IF(VS!H72=\"\",\"\",VS!H72)","v":""}]
[{"$f":"PS!C73","v":""},{"$f":"IF(PS!D73=\"\",\"\",PS!D73)","v":""},null,{"$f":"PS!G73","v":""},{"$f":"IF(PS!H73=\"\",\"\",PS!H73)","v":""},null,{"$f":"OS!C73","v":""},{"$f":"IF(OS!D73=\"\",\"\",OS!D73)","v":""},null,{"$f":"OS!G73","v":""},{"$f":"IF(OS!H73=\"\",\"\",OS!H73)","v":""},null,{"$f":"SE!C73","v":""},{"$f":"IF(SE!D73=\"\",0,SE!D73)","v":0},{"$f":"IF(SE!E73=\"\",\"\",SE!E73)","v":""},null,{"$f":"SE!H73","v":""},{"$f":"IF(SE!I73=\"\",0,SE!I73)","v":0},{"$f":"IF(SE!J73=\"\",\"\",SE!J73)","v":""},null,{"$f":"BSP!C73","v":""},{"$f":"IF(BSP!D73=\"\",\"\",BSP!D73)","v":""},null,{"$f":"BSP!G73","v":""},{"$f":"IF(BSP!H73=\"\",\"\",BSP!H73)","v":""},null,{"$f":"VS!C73","v":""},{"$f":"IF(VS!D73=\"\",\"\",VS!D73)","v":""},null,{"$f":"VS!G73","v":""},{"$f":"IF(VS!H73=\"\",\"\",VS!H73)","v":""}]
[{"$f":"PS!C74","v":""},{"$f":"IF(PS!D74=\"\",\"\",PS!D74)","v":""},null,{"$f":"PS!G74","v":""},{"$f":"IF(PS!H74=\"\",\"\",PS!H74)","v":""},null,{"$f":"OS!C74","v":""},{"$f":"IF(OS!D74=\"\",\"\",OS!D74)","v":""},null,{"$f":"OS!G74","v":""},{"$f":"IF(OS!H74=\"\",\"\",OS!H74)","v":""},null,{"$f":"SE!C74","v":""},{"$f":"IF(SE!D74=\"\",0,SE!D74)","v":0},{"$f":"IF(SE!E74=\"\",\"\",SE!E74)","v":""},null,{"$f":"SE!H74","v":""},{"$f":"IF(SE!I74=\"\",0,SE!I74)","v":0},{"$f":"IF(SE!J74=\"\",\"\",SE!J74)","v":""},null,{"$f":"BSP!C74","v":""},{"$f":"IF(BSP!D74=\"\",\"\",BSP!D74)","v":""},null,{"$f":"BSP!G74","v":""},{"$f":"IF(BSP!H74=\"\",\"\",BSP!H74)","v":""},null,{"$f":"VS!C74","v":""},{"$f":"IF(VS!D74=\"\",\"\",VS!D74)","v":""},null,{"$f":"VS!G74","v":""},{"$f":"IF(VS!H74=\"\",\"\",VS!H74)","v":""}]
[{"$f":"PS!C75","v":""},{"$f":"IF(PS!D75=\"\",\"\",PS!D75)","v":""},null,{"$f":"PS!G75","v":""},{"$f":"IF(PS!H75=\"\",\"\",PS!H75)","v":""},null,{"$f":"OS!C75","v":""},{"$f":"IF(OS!D75=\"\",\"\",OS!D75)","v":""},null,{"$f":"OS!G75","v":""},{"$f":"IF(OS!H75=\"\",\"\",OS!H75)","v":""},null,{"$f":"SE!C75","v":""},{"$f":"IF(SE!D75=\"\",0,SE!D75)","v":0},{"$f":"IF(SE!E75=\"\",\"\",SE!E75)","v":""},null,{"$f":"SE!H75","v":""},{"$f":"IF(SE!I75=\"\",0,SE!I75)","v":0},{"$f":"IF(SE!J75=\"\",\"\",SE!J75)","v":""},null,{"$f":"BSP!C75","v":""},{"$f":"IF(BSP!D75=\"\",\"\",BSP!D75)","v":""},null,{"$f":"BSP!G75","v":""},{"$f":"IF(BSP!H75=\"\",\"\",BSP!H75)","v":""},null,{"$f":"VS!C75","v":""},{"$f":"IF(VS!D75=\"\",\"\",VS!D75)","v":""},null,{"$f":"VS!G75","v":""},{"$f":"IF(VS!H75=\"\",\"\",VS!H75)","v":""}]
[{"$f":"PS!C76","v":""},{"$f":"IF(PS!D76=\"\",\"\",PS!D76)","v":""},null,{"$f":"PS!G76","v":""},{"$f":"IF(PS!H76=\"\",\"\",PS!H76)","v":""},null,{"$f":"OS!C76","v":""},{"$f":"IF(OS!D76=\"\",\"\",OS!D76)","v":""},null,{"$f":"OS!G76","v":""},{"$f":"IF(OS!H76=\"\",\"\",OS!H76)","v":""},null,{"$f":"SE!C76","v":""},{"$f":"IF(SE!D76=\"\",0,SE!D76)","v":0},{"$f":"IF(SE!E76=\"\",\"\",SE!E76)","v":""},null,{"$f":"SE!H76","v":""},{"$f":"IF(SE!I76=\"\",0,SE!I76)","v":0},{"$f":"IF(SE!J76=\"\",\"\",SE!J76)","v":""},null,{"$f":"BSP!C76","v":""},{"$f":"IF(BSP!D76=\"\",\"\",BSP!D76)","v":""},null,{"$f":"BSP!G76","v":""},{"$f":"IF(BSP!H76=\"\",\"\",BSP!H76)","v":""},null,{"$f":"VS!C76","v":""},{"$f":"IF(VS!D76=\"\",\"\",VS!D76)","v":""},null,{"$f":"VS!G76","v":""},{"$f":"IF(VS!H76=\"\",\"\",VS!H76)","v":""}]
[{"$f":"PS!C77","v":""},{"$f":"IF(PS!D77=\"\",\"\",PS!D77)","v":""},null,{"$f":"PS!G77","v":""},{"$f":"IF(PS!H77=\"\",\"\",PS!H77)","v":""},null,{"$f":"OS!C77","v":""},{"$f":"IF(OS!D77=\"\",\"\",OS!D77)","v":""},null,{"$f":"OS!G77","v":""},{"$f":"IF(OS!H77=\"\",\"\",OS!H77)","v":""},null,{"$f":"SE!C77","v":""},{"$f":"IF(SE!D77=\"\",0,SE!D77)","v":0},{"$f":"IF(SE!E77=\"\",\"\",SE!E77)","v":""},null,{"$f":"SE!H77","v":""},{"$f":"IF(SE!I77=\"\",0,SE!I77)","v":0},{"$f":"IF(SE!J77=\"\",\"\",SE!J77)","v":""},null,{"$f":"BSP!C77","v":""},{"$f":"IF(BSP!D77=\"\",\"\",BSP!D77)","v":""},null,{"$f":"BSP!G77","v":""},{"$f":"IF(BSP!H77=\"\",\"\",BSP!H77)","v":""},null,{"$f":"VS!C77","v":""},{"$f":"IF(VS!D77=\"\",\"\",VS!D77)","v":""},null,{"$f":"VS!G77","v":""},{"$f":"IF(VS!H77=\"\",\"\",VS!H77)","v":""}]
[{"$f":"PS!C78","v":""},{"$f":"IF(PS!D78=\"\",\"\",PS!D78)","v":""},null,{"$f":"PS!G78","v":""},{"$f":"IF(PS!H78=\"\",\"\",PS!H78)","v":""},null,{"$f":"OS!C78","v":""},{"$f":"IF(OS!D78=\"\",\"\",OS!D78)","v":""},null,{"$f":"OS!G78","v":""},{"$f":"IF(OS!H78=\"\",\"\",OS!H78)","v":""},null,{"$f":"SE!C78","v":""},{"$f":"IF(SE!D78=\"\",0,SE!D78)","v":0},{"$f":"IF(SE!E78=\"\",\"\",SE!E78)","v":""},null,{"$f":"SE!H78","v":""},{"$f":"IF(SE!I78=\"\",0,SE!I78)","v":0},{"$f":"IF(SE!J78=\"\",\"\",SE!J78)","v":""},null,{"$f":"BSP!C78","v":""},{"$f":"IF(BSP!D78=\"\",\"\",BSP!D78)","v":""},null,{"$f":"BSP!G78","v":""},{"$f":"IF(BSP!H78=\"\",\"\",BSP!H78)","v":""},null,{"$f":"VS!C78","v":""},{"$f":"IF(VS!D78=\"\",\"\",VS!D78)","v":""},null,{"$f":"VS!G78","v":""},{"$f":"IF(VS!H78=\"\",\"\",VS!H78)","v":""}]
[{"$f":"PS!C79","v":""},{"$f":"IF(PS!D79=\"\",\"\",PS!D79)","v":""},null,{"$f":"PS!G79","v":""},{"$f":"IF(PS!H79=\"\",\"\",PS!H79)","v":""},null,{"$f":"OS!C79","v":""},{"$f":"IF(OS!D79=\"\",\"\",OS!D79)","v":""},null,{"$f":"OS!G79","v":""},{"$f":"IF(OS!H79=\"\",\"\",OS!H79)","v":""},null,{"$f":"SE!C79","v":""},{"$f":"IF(SE!D79=\"\",0,SE!D79)","v":0},{"$f":"IF(SE!E79=\"\",\"\",SE!E79)","v":""},null,{"$f":"SE!H79","v":""},{"$f":"IF(SE!I79=\"\",0,SE!I79)","v":0},{"$f":"IF(SE!J79=\"\",\"\",SE!J79)","v":""},null,{"$f":"BSP!C79","v":""},{"$f":"IF(BSP!D79=\"\",\"\",BSP!D79)","v":""},null,{"$f":"BSP!G79","v":""},{"$f":"IF(BSP!H79=\"\",\"\",BSP!H79)","v":""},null,{"$f":"VS!C79","v":""},{"$f":"IF(VS!D79=\"\",\"\",VS!D79)","v":""},null,{"$f":"VS!G79","v":""},{"$f":"IF(VS!H79=\"\",\"\",VS!H79)","v":""}]
[{"$f":"PS!C80","v":""},{"$f":"IF(PS!D80=\"\",\"\",PS!D80)","v":""},null,{"$f":"PS!G80","v":""},{"$f":"IF(PS!H80=\"\",\"\",PS!H80)","v":""},null,{"$f":"OS!C80","v":""},{"$f":"IF(OS!D80=\"\",\"\",OS!D80)","v":""},null,{"$f":"OS!G80","v":""},{"$f":"IF(OS!H80=\"\",\"\",OS!H80)","v":""},null,{"$f":"SE!C80","v":""},{"$f":"IF(SE!D80=\"\",0,SE!D80)","v":0},{"$f":"IF(SE!E80=\"\",\"\",SE!E80)","v":""},null,{"$f":"SE!H80","v":""},{"$f":"IF(SE!I80=\"\",0,SE!I80)","v":0},{"$f":"IF(SE!J80=\"\",\"\",SE!J80)","v":""},null,{"$f":"BSP!C80","v":""},{"$f":"IF(BSP!D80=\"\",\"\",BSP!D80)","v":""},null,{"$f":"BSP!G80","v":""},{"$f":"IF(BSP!H80=\"\",\"\",BSP!H80)","v":""},null,{"$f":"VS!C80","v":""},{"$f":"IF(VS!D80=\"\",\"\",VS!D80)","v":""},null,{"$f":"VS!G80","v":""},{"$f":"IF(VS!H80=\"\",\"\",VS!H80)","v":""}]
[{"$f":"PS!C81","v":""},{"$f":"IF(PS!D81=\"\",\"\",PS!D81)","v":""},null,{"$f":"PS!G81","v":""},{"$f":"IF(PS!H81=\"\",\"\",PS!H81)","v":""},null,{"$f":"OS!C81","v":""},{"$f":"IF(OS!D81=\"\",\"\",OS!D81)","v":""},null,{"$f":"OS!G81","v":""},{"$f":"IF(OS!H81=\"\",\"\",OS!H81)","v":""},null,{"$f":"SE!C81","v":""},{"$f":"IF(SE!D81=\"\",0,SE!D81)","v":0},{"$f":"IF(SE!E81=\"\",\"\",SE!E81)","v":""},null,{"$f":"SE!H81","v":""},{"$f":"IF(SE!I81=\"\",0,SE!I81)","v":0},{"$f":"IF(SE!J81=\"\",\"\",SE!J81)","v":""},null,{"$f":"BSP!C81","v":""},{"$f":"IF(BSP!D81=\"\",\"\",BSP!D81)","v":""},null,{"$f":"BSP!G81","v":""},{"$f":"IF(BSP!H81=\"\",\"\",BSP!H81)","v":""},null,{"$f":"VS!C81","v":""},{"$f":"IF(VS!D81=\"\",\"\",VS!D81)","v":""},null,{"$f":"VS!G81","v":""},{"$f":"IF(VS!H81=\"\",\"\",VS!H81)","v":""}]
[{"$f":"PS!C82","v":""},{"$f":"IF(PS!D82=\"\",\"\",PS!D82)","v":""},null,{"$f":"PS!G82","v":""},{"$f":"IF(PS!H82=\"\",\"\",PS!H82)","v":""},null,{"$f":"OS!C82","v":""},{"$f":"IF(OS!D82=\"\",\"\",OS!D82)","v":""},null,{"$f":"OS!G82","v":""},{"$f":"IF(OS!H82=\"\",\"\",OS!H82)","v":""},null,{"$f":"SE!C82","v":""},{"$f":"IF(SE!D82=\"\",0,SE!D82)","v":0},{"$f":"IF(SE!E82=\"\",\"\",SE!E82)","v":""},null,{"$f":"SE!H82","v":""},{"$f":"IF(SE!I82=\"\",0,SE!I82)","v":0},{"$f":"IF(SE!J82=\"\",\"\",SE!J82)","v":""},null,{"$f":"BSP!C82","v":""},{"$f":"IF(BSP!D82=\"\",\"\",BSP!D82)","v":""},null,{"$f":"BSP!G82","v":""},{"$f":"IF(BSP!H82=\"\",\"\",BSP!H82)","v":""},null,{"$f":"VS!C82","v":""},{"$f":"IF(VS!D82=\"\",\"\",VS!D82)","v":""},null,{"$f":"VS!G82","v":""},{"$f":"IF(VS!H82=\"\",\"\",VS!H82)","v":""}]
[{"$f":"PS!C83","v":""},{"$f":"IF(PS!D83=\"\",\"\",PS!D83)","v":""},null,{"$f":"PS!G83","v":""},{"$f":"IF(PS!H83=\"\",\"\",PS!H83)","v":""},null,{"$f":"OS!C83","v":""},{"$f":"IF(OS!D83=\"\",\"\",OS!D83)","v":""},null,{"$f":"OS!G83","v":""},{"$f":"IF(OS!H83=\"\",\"\",OS!H83)","v":""},null,{"$f":"SE!C83","v":""},{"$f":"IF(SE!D83=\"\",0,SE!D83)","v":0},{"$f":"IF(SE!E83=\"\",\"\",SE!E83)","v":""},null,{"$f":"SE!H83","v":""},{"$f":"IF(SE!I83=\"\",0,SE!I83)","v":0},{"$f":"IF(SE!J83=\"\",\"\",SE!J83)","v":""},null,{"$f":"BSP!C83","v":""},{"$f":"IF(BSP!D83=\"\",\"\",BSP!D83)","v":""},null,{"$f":"BSP!G83","v":""},{"$f":"IF(BSP!H83=\"\",\"\",BSP!H83)","v":""},null,{"$f":"VS!C83","v":""},{"$f":"IF(VS!D83=\"\",\"\",VS!D83)","v":""},null,{"$f":"VS!G83","v":""},{"$f":"IF(VS!H83=\"\",\"\",VS!H83)","v":""}]
[{"$f":"PS!C84","v":""},{"$f":"IF(PS!D84=\"\",\"\",PS!D84)","v":""},null,{"$f":"PS!G84","v":""},{"$f":"IF(PS!H84=\"\",\"\",PS!H84)","v":""},null,{"$f":"OS!C84","v":""},{"$f":"IF(OS!D84=\"\",\"\",OS!D84)","v":""},null,{"$f":"OS!G84","v":""},{"$f":"IF(OS!H84=\"\",\"\",OS!H84)","v":""},null,{"$f":"SE!C84","v":""},{"$f":"IF(SE!D84=\"\",0,SE!D84)","v":0},{"$f":"IF(SE!E84=\"\",\"\",SE!E84)","v":""},null,{"$f":"SE!H84","v":""},{"$f":"IF(SE!I84=\"\",0,SE!I84)","v":0},{"$f":"IF(SE!J84=\"\",\"\",SE!J84)","v":""},null,{"$f":"BSP!C84","v":""},{"$f":"IF(BSP!D84=\"\",\"\",BSP!D84)","v":""},null,{"$f":"BSP!G84","v":""},{"$f":"IF(BSP!H84=\"\",\"\",BSP!H84)","v":""},null,{"$f":"VS!C84","v":""},{"$f":"IF(VS!D84=\"\",\"\",VS!D84)","v":""},null,{"$f":"VS!G84","v":""},{"$f":"IF(VS!H84=\"\",\"\",VS!H84)","v":""}]
[{"$f":"PS!C85","v":""},{"$f":"IF(PS!D85=\"\",\"\",PS!D85)","v":""},null,{"$f":"PS!G85","v":""},{"$f":"IF(PS!H85=\"\",\"\",PS!H85)","v":""},null,{"$f":"OS!C85","v":""},{"$f":"IF(OS!D85=\"\",\"\",OS!D85)","v":""},null,{"$f":"OS!G85","v":""},{"$f":"IF(OS!H85=\"\",\"\",OS!H85)","v":""},null,{"$f":"SE!C85","v":""},{"$f":"IF(SE!D85=\"\",0,SE!D85)","v":0},{"$f":"IF(SE!E85=\"\",\"\",SE!E85)","v":""},null,{"$f":"SE!H85","v":""},{"$f":"IF(SE!I85=\"\",0,SE!I85)","v":0},{"$f":"IF(SE!J85=\"\",\"\",SE!J85)","v":""},null,{"$f":"BSP!C85","v":""},{"$f":"IF(BSP!D85=\"\",\"\",BSP!D85)","v":""},null,{"$f":"BSP!G85","v":""},{"$f":"IF(BSP!H85=\"\",\"\",BSP!H85)","v":""},null,{"$f":"VS!C85","v":""},{"$f":"IF(VS!D85=\"\",\"\",VS!D85)","v":""},null,{"$f":"VS!G85","v":""},{"$f":"IF(VS!H85=\"\",\"\",VS!H85)","v":""}]
[{"$f":"PS!C86","v":""},{"$f":"IF(PS!D86=\"\",\"\",PS!D86)","v":""},null,{"$f":"PS!G86","v":""},{"$f":"IF(PS!H86=\"\",\"\",PS!H86)","v":""},null,{"$f":"OS!C86","v":""},{"$f":"IF(OS!D86=\"\",\"\",OS!D86)","v":""},null,{"$f":"OS!G86","v":""},{"$f":"IF(OS!H86=\"\",\"\",OS!H86)","v":""},null,{"$f":"SE!C86","v":""},{"$f":"IF(SE!D86=\"\",0,SE!D86)","v":0},{"$f":"IF(SE!E86=\"\",\"\",SE!E86)","v":""},null,{"$f":"SE!H86","v":""},{"$f":"IF(SE!I86=\"\",0,SE!I86)","v":0},{"$f":"IF(SE!J86=\"\",\"\",SE!J86)","v":""},null,{"$f":"BSP!C86","v":""},{"$f":"IF(BSP!D86=\"\",\"\",BSP!D86)","v":""},null,{"$f":"BSP!G86","v":""},{"$f":"IF(BSP!H86=\"\",\"\",BSP!H86)","v":""},null,{"$f":"VS!C86","v":""},{"$f":"IF(VS!D86=\"\",\"\",VS!D86)","v":""},null,{"$f":"VS!G86","v":""},{"$f":"IF(VS!H86=\"\",\"\",VS!H86)","v":""}]
[{"$f":"PS!C87","v":""},{"$f":"IF(PS!D87=\"\",\"\",PS!D87)","v":""},null,{"$f":"PS!G87","v":""},{"$f":"IF(PS!H87=\"\",\"\",PS!H87)","v":""},null,{"$f":"OS!C87","v":""},{"$f":"IF(OS!D87=\"\",\"\",OS!D87)","v":""},null,{"$f":"OS!G87","v":""},{"$f":"IF(OS!H87=\"\",\"\",OS!H87)","v":""},null,{"$f":"SE!C87","v":""},{"$f":"IF(SE!D87=\"\",0,SE!D87)","v":0},{"$f":"IF(SE!E87=\"\",\"\",SE!E87)","v":""},null,{"$f":"SE!H87","v":""},{"$f":"IF(SE!I87=\"\",0,SE!I87)","v":0},{"$f":"IF(SE!J87=\"\",\"\",SE!J87)","v":""},null,{"$f":"BSP!C87","v":""},{"$f":"IF(BSP!D87=\"\",\"\",BSP!D87)","v":""},null,{"$f":"BSP!G87","v":""},{"$f":"IF(BSP!H87=\"\",\"\",BSP!H87)","v":""},null,{"$f":"VS!C87","v":""},{"$f":"IF(VS!D87=\"\",\"\",VS!D87)","v":""},null,{"$f":"VS!G87","v":""},{"$f":"IF(VS!H87=\"\",\"\",VS!H87)","v":""}]
[{"$f":"PS!C88","v":""},{"$f":"IF(PS!D88=\"\",\"\",PS!D88)","v":""},null,{"$f":"PS!G88","v":""},{"$f":"IF(PS!H88=\"\",\"\",PS!H88)","v":""},null,{"$f":"OS!C88","v":""},{"$f":"IF(OS!D88=\"\",\"\",OS!D88)","v":""},null,{"$f":"OS!G88","v":""},{"$f":"IF(OS!H88=\"\",\"\",OS!H88)","v":""},null,{"$f":"SE!C88","v":""},{"$f":"IF(SE!D88=\"\",0,SE!D88)","v":0},{"$f":"IF(SE!E88=\"\",\"\",SE!E88)","v":""},null,{"$f":"SE!H88","v":""},{"$f":"IF(SE!I88=\"\",0,SE!I88)","v":0},{"$f":"IF(SE!J88=\"\",\"\",SE!J88)","v":""},null,{"$f":"BSP!C88","v":""},{"$f":"IF(BSP!D88=\"\",\"\",BSP!D88)","v":""},null,{"$f":"BSP!G88","v":""},{"$f":"IF(BSP!H88=\"\",\"\",BSP!H88)","v":""},null,{"$f":"VS!C88","v":""},{"$f":"IF(VS!D88=\"\",\"\",VS!D88)","v":""},null,{"$f":"VS!G88","v":""},{"$f":"IF(VS!H88=\"\",\"\",VS!H88)","v":""}]
[{"$f":"PS!C89","v":""},{"$f":"IF(PS!D89=\"\",\"\",PS!D89)","v":""},null,{"$f":"PS!G89","v":""},{"$f":"IF(PS!H89=\"\",\"\",PS!H89)","v":""},null,{"$f":"OS!C89","v":""},{"$f":"IF(OS!D89=\"\",\"\",OS!D89)","v":""},null,{"$f":"OS!G89","v":""},{"$f":"IF(OS!H89=\"\",\"\",OS!H89)","v":""},null,{"$f":"SE!C89","v":""},{"$f":"IF(SE!D89=\"\",0,SE!D89)","v":0},{"$f":"IF(SE!E89=\"\",\"\",SE!E89)","v":""},null,{"$f":"SE!H89","v":""},{"$f":"IF(SE!I89=\"\",0,SE!I89)","v":0},{"$f":"IF(SE!J89=\"\",\"\",SE!J89)","v":""},null,{"$f":"BSP!C89","v":""},{"$f":"IF(BSP!D89=\"\",\"\",BSP!D89)","v":""},null,{"$f":"BSP!G89","v":""},{"$f":"IF(BSP!H89=\"\",\"\",BSP!H89)","v":""},null,{"$f":"VS!C89","v":""},{"$f":"IF(VS!D89=\"\",\"\",VS!D89)","v":""},null,{"$f":"VS!G89","v":""},{"$f":"IF(VS!H89=\"\",\"\",VS!H89)","v":""}]
[{"$f":"PS!C90","v":""},{"$f":"IF(PS!D90=\"\",\"\",PS!D90)","v":""},null,{"$f":"PS!G90","v":""},{"$f":"IF(PS!H90=\"\",\"\",PS!H90)","v":""},null,{"$f":"OS!C90","v":""},{"$f":"IF(OS!D90=\"\",\"\",OS!D90)","v":""},null,{"$f":"OS!G90","v":""},{"$f":"IF(OS!H90=\"\",\"\",OS!H90)","v":""},null,{"$f":"SE!C90","v":""},{"$f":"IF(SE!D90=\"\",0,SE!D90)","v":0},{"$f":"IF(SE!E90=\"\",\"\",SE!E90)","v":""},null,{"$f":"SE!H90","v":""},{"$f":"IF(SE!I90=\"\",0,SE!I90)","v":0},{"$f":"IF(SE!J90=\"\",\"\",SE!J90)","v":""},null,{"$f":"BSP!C90","v":""},{"$f":"IF(BSP!D90=\"\",\"\",BSP!D90)","v":""},null,{"$f":"BSP!G90","v":""},{"$f":"IF(BSP!H90=\"\",\"\",BSP!H90)","v":""},null,{"$f":"VS!C90","v":""},{"$f":"IF(VS!D90=\"\",\"\",VS!D90)","v":""},null,{"$f":"VS!G90","v":""},{"$f":"IF(VS!H90=\"\",\"\",VS!H90)","v":""}]
[{"$f":"PS!C91","v":""},{"$f":"IF(PS!D91=\"\",\"\",PS!D91)","v":""},null,{"$f":"PS!G91","v":""},{"$f":"IF(PS!H91=\"\",\"\",PS!H91)","v":""},null,{"$f":"OS!C91","v":""},{"$f":"IF(OS!D91=\"\",\"\",OS!D91)","v":""},null,{"$f":"OS!G91","v":""},{"$f":"IF(OS!H91=\"\",\"\",OS!H91)","v":""},null,{"$f":"SE!C91","v":""},{"$f":"IF(SE!D91=\"\",0,SE!D91)","v":0},{"$f":"IF(SE!E91=\"\",\"\",SE!E91)","v":""},null,{"$f":"SE!H91","v":""},{"$f":"IF(SE!I91=\"\",0,SE!I91)","v":0},{"$f":"IF(SE!J91=\"\",\"\",SE!J91)","v":""},null,{"$f":"BSP!C91","v":""},{"$f":"IF(BSP!D91=\"\",\"\",BSP!D91)","v":""},null,{"$f":"BSP!G91","v":""},{"$f":"IF(BSP!H91=\"\",\"\",BSP!H91)","v":""},null,{"$f":"VS!C91","v":""},{"$f":"IF(VS!D91=\"\",\"\",VS!D91)","v":""},null,{"$f":"VS!G91","v":""},{"$f":"IF(VS!H91=\"\",\"\",VS!H91)","v":""}]
[{"$f":"PS!C92","v":""},{"$f":"IF(PS!D92=\"\",\"\",PS!D92)","v":""},null,{"$f":"PS!G92","v":""},{"$f":"IF(PS!H92=\"\",\"\",PS!H92)","v":""},null,{"$f":"OS!C92","v":""},{"$f":"IF(OS!D92=\"\",\"\",OS!D92)","v":""},null,{"$f":"OS!G92","v":""},{"$f":"IF(OS!H92=\"\",\"\",OS!H92)","v":""},null,{"$f":"SE!C92","v":""},{"$f":"IF(SE!D92=\"\",0,SE!D92)","v":0},{"$f":"IF(SE!E92=\"\",\"\",SE!E92)","v":""},null,{"$f":"SE!H92","v":""},{"$f":"IF(SE!I92=\"\",0,SE!I92)","v":0},{"$f":"IF(SE!J92=\"\",\"\",SE!J92)","v":""},null,{"$f":"BSP!C92","v":""},{"$f":"IF(BSP!D92=\"\",\"\",BSP!D92)","v":""},null,{"$f":"BSP!G92","v":""},{"$f":"IF(BSP!H92=\"\",\"\",BSP!H92)","v":""},null,{"$f":"VS!C92","v":""},{"$f":"IF(VS!D92=\"\",\"\",VS!D92)","v":""},null,{"$f":"VS!G92","v":""},{"$f":"IF(VS!H92=\"\",\"\",VS!H92)","v":""}]
[{"$f":"PS!C93","v":""},{"$f":"IF(PS!D93=\"\",\"\",PS!D93)","v":""},null,{"$f":"PS!G93","v":""},{"$f":"IF(PS!H93=\"\",\"\",PS!H93)","v":""},null,{"$f":"OS!C93","v":""},{"$f":"IF(OS!D93=\"\",\"\",OS!D93)","v":""},null,{"$f":"OS!G93","v":""},{"$f":"IF(OS!H93=\"\",\"\",OS!H93)","v":""},null,{"$f":"SE!C93","v":""},{"$f":"IF(SE!D93=\"\",0,SE!D93)","v":0},{"$f":"IF(SE!E93=\"\",\"\",SE!E93)","v":""},null,{"$f":"SE!H93","v":""},{"$f":"IF(SE!I93=\"\",0,SE!I93)","v":0},{"$f":"IF(SE!J93=\"\",\"\",SE!J93)","v":""},null,{"$f":"BSP!C93","v":""},{"$f":"IF(BSP!D93=\"\",\"\",BSP!D93)","v":""},null,{"$f":"BSP!G93","v":""},{"$f":"IF(BSP!H93=\"\",\"\",BSP!H93)","v":""},null,{"$f":"VS!C93","v":""},{"$f":"IF(VS!D93=\"\",\"\",VS!D93)","v":""},null,{"$f":"VS!G93","v":""},{"$f":"IF(VS!H93=\"\",\"\",VS!H93)","v":""}]
[{"$f":"PS!C94","v":""},{"$f":"IF(PS!D94=\"\",\"\",PS!D94)","v":""},null,{"$f":"PS!G94","v":""},{"$f":"IF(PS!H94=\"\",\"\",PS!H94)","v":""},null,{"$f":"OS!C94","v":""},{"$f":"IF(OS!D94=\"\",\"\",OS!D94)","v":""},null,{"$f":"OS!G94","v":""},{"$f":"IF(OS!H94=\"\",\"\",OS!H94)","v":""},null,{"$f":"SE!C94","v":""},{"$f":"IF(SE!D94=\"\",0,SE!D94)","v":0},{"$f":"IF(SE!E94=\"\",\"\",SE!E94)","v":""},null,{"$f":"SE!H94","v":""},{"$f":"IF(SE!I94=\"\",0,SE!I94)","v":0},{"$f":"IF(SE!J94=\"\",\"\",SE!J94)","v":""},null,{"$f":"BSP!C94","v":""},{"$f":"IF(BSP!D94=\"\",\"\",BSP!D94)","v":""},null,{"$f":"BSP!G94","v":""},{"$f":"IF(BSP!H94=\"\",\"\",BSP!H94)","v":""},null,{"$f":"VS!C94","v":""},{"$f":"IF(VS!D94=\"\",\"\",VS!D94)","v":""},null,{"$f":"VS!G94","v":""},{"$f":"IF(VS!H94=\"\",\"\",VS!H94)","v":""}]
[{"$f":"PS!C95","v":""},{"$f":"IF(PS!D95=\"\",\"\",PS!D95)","v":""},null,{"$f":"PS!G95","v":""},{"$f":"IF(PS!H95=\"\",\"\",PS!H95)","v":""},null,{"$f":"OS!C95","v":""},{"$f":"IF(OS!D95=\"\",\"\",OS!D95)","v":""},null,{"$f":"OS!G95","v":""},{"$f":"IF(OS!H95=\"\",\"\",OS!H95)","v":""},null,{"$f":"SE!C95","v":""},{"$f":"IF(SE!D95=\"\",0,SE!D95)","v":0},{"$f":"IF(SE!E95=\"\",\"\",SE!E95)","v":""},null,{"$f":"SE!H95","v":""},{"$f":"IF(SE!I95=\"\",0,SE!I95)","v":0},{"$f":"IF(SE!J95=\"\",\"\",SE!J95)","v":""},null,{"$f":"BSP!C95","v":""},{"$f":"IF(BSP!D95=\"\",\"\",BSP!D95)","v":""},null,{"$f":"BSP!G95","v":""},{"$f":"IF(BSP!H95=\"\",\"\",BSP!H95)","v":""},null,{"$f":"VS!C95","v":""},{"$f":"IF(VS!D95=\"\",\"\",VS!D95)","v":""},null,{"$f":"VS!G95","v":""},{"$f":"IF(VS!H95=\"\",\"\",VS!H95)","v":""}]
[{"$f":"PS!C96","v":""},{"$f":"IF(PS!D96=\"\",\"\",PS!D96)","v":""},null,{"$f":"PS!G96","v":""},{"$f":"IF(PS!H96=\"\",\"\",PS!H96)","v":""},null,{"$f":"OS!C96","v":""},{"$f":"IF(OS!D96=\"\",\"\",OS!D96)","v":""},null,{"$f":"OS!G96","v":""},{"$f":"IF(OS!H96=\"\",\"\",OS!H96)","v":""},null,{"$f":"SE!C96","v":""},{"$f":"IF(SE!D96=\"\",0,SE!D96)","v":0},{"$f":"IF(SE!E96=\"\",\"\",SE!E96)","v":""},null,{"$f":"SE!H96","v":""},{"$f":"IF(SE!I96=\"\",0,SE!I96)","v":0},{"$f":"IF(SE!J96=\"\",\"\",SE!J96)","v":""},null,{"$f":"BSP!C96","v":""},{"$f":"IF(BSP!D96=\"\",\"\",BSP!D96)","v":""},null,{"$f":"BSP!G96","v":""},{"$f":"IF(BSP!H96=\"\",\"\",BSP!H96)","v":""},null,{"$f":"VS!C96","v":""},{"$f":"IF(VS!D96=\"\",\"\",VS!D96)","v":""},null,{"$f":"VS!G96","v":""},{"$f":"IF(VS!H96=\"\",\"\",VS!H96)","v":""}]
[{"$f":"PS!C97","v":""},{"$f":"IF(PS!D97=\"\",\"\",PS!D97)","v":""},null,{"$f":"PS!G97","v":""},{"$f":"IF(PS!H97=\"\",\"\",PS!H97)","v":""},null,{"$f":"OS!C97","v":""},{"$f":"IF(OS!D97=\"\",\"\",OS!D97)","v":""},null,{"$f":"OS!G97","v":""},{"$f":"IF(OS!H97=\"\",\"\",OS!H97)","v":""},null,{"$f":"SE!C97","v":""},{"$f":"IF(SE!D97=\"\",0,SE!D97)","v":0},{"$f":"IF(SE!E97=\"\",\"\",SE!E97)","v":""},null,{"$f":"SE!H97","v":""},{"$f":"IF(SE!I97=\"\",0,SE!I97)","v":0},{"$f":"IF(SE!J97=\"\",\"\",SE!J97)","v":""},null,{"$f":"BSP!C97","v":""},{"$f":"IF(BSP!D97=\"\",\"\",BSP!D97)","v":""},null,{"$f":"BSP!G97","v":""},{"$f":"IF(BSP!H97=\"\",\"\",BSP!H97)","v":""},null,{"$f":"VS!C97","v":""},{"$f":"IF(VS!D97=\"\",\"\",VS!D97)","v":""},null,{"$f":"VS!G97","v":""},{"$f":"IF(VS!H97=\"\",\"\",VS!H97)","v":""}]
[{"$f":"PS!C98","v":""},{"$f":"IF(PS!D98=\"\",\"\",PS!D98)","v":""},null,{"$f":"PS!G98","v":""},{"$f":"IF(PS!H98=\"\",\"\",PS!H98)","v":""},null,{"$f":"OS!C98","v":""},{"$f":"IF(OS!D98=\"\",\"\",OS!D98)","v":""},null,{"$f":"OS!G98","v":""},{"$f":"IF(OS!H98=\"\",\"\",OS!H98)","v":""},null,{"$f":"SE!C98","v":""},{"$f":"IF(SE!D98=\"\",0,SE!D98)","v":0},{"$f":"IF(SE!E98=\"\",\"\",SE!E98)","v":""},null,{"$f":"SE!H98","v":""},{"$f":"IF(SE!I98=\"\",0,SE!I98)","v":0},{"$f":"IF(SE!J98=\"\",\"\",SE!J98)","v":""},null,{"$f":"BSP!C98","v":""},{"$f":"IF(BSP!D98=\"\",\"\",BSP!D98)","v":""},null,{"$f":"BSP!G98","v":""},{"$f":"IF(BSP!H98=\"\",\"\",BSP!H98)","v":""},null,{"$f":"VS!C98","v":""},{"$f":"IF(VS!D98=\"\",\"\",VS!D98)","v":""},null,{"$f":"VS!G98","v":""},{"$f":"IF(VS!H98=\"\",\"\",VS!H98)","v":""}]
[{"$f":"PS!C99","v":""},{"$f":"IF(PS!D99=\"\",\"\",PS!D99)","v":""},null,{"$f":"PS!G99","v":""},{"$f":"IF(PS!H99=\"\",\"\",PS!H99)","v":""},null,{"$f":"OS!C99","v":""},{"$f":"IF(OS!D99=\"\",\"\",OS!D99)","v":""},null,{"$f":"OS!G99","v":""},{"$f":"IF(OS!H99=\"\",\"\",OS!H99)","v":""},null,{"$f":"SE!C99","v":""},{"$f":"IF(SE!D99=\"\",0,SE!D99)","v":0},{"$f":"IF(SE!E99=\"\",\"\",SE!E99)","v":""},null,{"$f":"SE!H99","v":""},{"$f":"IF(SE!I99=\"\",0,SE!I99)","v":0},{"$f":"IF(SE!J99=\"\",\"\",SE!J99)","v":""},null,{"$f":"BSP!C99","v":""},{"$f":"IF(BSP!D99=\"\",\"\",BSP!D99)","v":""},null,{"$f":"BSP!G99","v":""},{"$f":"IF(BSP!H99=\"\",\"\",BSP!H99)","v":""},null,{"$f":"VS!C99","v":""},{"$f":"IF(VS!D99=\"\",\"\",VS!D99)","v":""},null,{"$f":"VS!G99","v":""},{"$f":"IF(VS!H99=\"\",\"\",VS!H99)","v":""}]
[{"$f":"PS!C100","v":""},{"$f":"IF(PS!D100=\"\",\"\",PS!D100)","v":""},null,{"$f":"PS!G100","v":""},{"$f":"IF(PS!H100=\"\",\"\",PS!H100)","v":""},null,{"$f":"OS!C100","v":""},{"$f":"IF(OS!D100=\"\",\"\",OS!D100)","v":""},null,{"$f":"OS!G100","v":""},{"$f":"IF(OS!H100=\"\",\"\",OS!H100)","v":""},null,{"$f":"SE!C100","v":""},{"$f":"IF(SE!D100=\"\",0,SE!D100)","v":0},{"$f":"IF(SE!E100=\"\",\"\",SE!E100)","v":""},null,{"$f":"SE!H100","v":""},{"$f":"IF(SE!I100=\"\",0,SE!I100)","v":0},{"$f":"IF(SE!J100=\"\",\"\",SE!J100)","v":""},null,{"$f":"BSP!C100","v":""},{"$f":"IF(BSP!D100=\"\",\"\",BSP!D100)","v":""},null,{"$f":"BSP!G100","v":""},{"$f":"IF(BSP!H100=\"\",\"\",BSP!H100)","v":""},null,{"$f":"VS!C100","v":""},{"$f":"IF(VS!D100=\"\",\"\",VS!D100)","v":""},null,{"$f":"VS!G100","v":""},{"$f":"IF(VS!H100=\"\",\"\",VS!H100)","v":""}]
[{"$f":"PS!C101","v":""},{"$f":"IF(PS!D101=\"\",\"\",PS!D101)","v":""},null,{"$f":"PS!G101","v":""},{"$f":"IF(PS!H101=\"\",\"\",PS!H101)","v":""},null,{"$f":"OS!C101","v":""},{"$f":"IF(OS!D101=\"\",\"\",OS!D101)","v":""},null,{"$f":"OS!G101","v":""},{"$f":"IF(OS!H101=\"\",\"\",OS!H101)","v":""},null,{"$f":"SE!C101","v":""},{"$f":"IF(SE!D101=\"\",0,SE!D101)","v":0},{"$f":"IF(SE!E101=\"\",\"\",SE!E101)","v":""},null,{"$f":"SE!H101","v":""},{"$f":"IF(SE!I101=\"\",0,SE!I101)","v":0},{"$f":"IF(SE!J101=\"\",\"\",SE!J101)","v":""},null,{"$f":"BSP!C101","v":""},{"$f":"IF(BSP!D101=\"\",\"\",BSP!D101)","v":""},null,{"$f":"BSP!G101","v":""},{"$f":"IF(BSP!H101=\"\",\"\",BSP!H101)","v":""},null,{"$f":"VS!C101","v":""},{"$f":"IF(VS!D101=\"\",\"\",VS!D101)","v":""},null,{"$f":"VS!G101","v":""},{"$f":"IF(VS!H101=\"\",\"\",VS!H101)","v":""}]
[{"$f":"PS!C102","v":""},{"$f":"IF(PS!D102=\"\",\"\",PS!D102)","v":""},null,{"$f":"PS!G102","v":""},{"$f":"IF(PS!H102=\"\",\"\",PS!H102)","v":""},null,{"$f":"OS!C102","v":""},{"$f":"IF(OS!D102=\"\",\"\",OS!D102)","v":""},null,{"$f":"OS!G102","v":""},{"$f":"IF(OS!H102=\"\",\"\",OS!H102)","v":""},null,{"$f":"SE!C102","v":""},{"$f":"IF(SE!D102=\"\",0,SE!D102)","v":0},{"$f":"IF(SE!E102=\"\",\"\",SE!E102)","v":""},null,{"$f":"SE!H102","v":""},{"$f":"IF(SE!I102=\"\",0,SE!I102)","v":0},{"$f":"IF(SE!J102=\"\",\"\",SE!J102)","v":""},null,{"$f":"BSP!C102","v":""},{"$f":"IF(BSP!D102=\"\",\"\",BSP!D102)","v":""},null,{"$f":"BSP!G102","v":""},{"$f":"IF(BSP!H102=\"\",\"\",BSP!H102)","v":""},null,{"$f":"VS!C102","v":""},{"$f":"IF(VS!D102=\"\",\"\",VS!D102)","v":""},null,{"$f":"VS!G102","v":""},{"$f":"IF(VS!H102=\"\",\"\",VS!H102)","v":""}]
[{"$f":"PS!C103","v":""},{"$f":"IF(PS!D103=\"\",\"\",PS!D103)","v":""},null,{"$f":"PS!G103","v":""},{"$f":"IF(PS!H103=\"\",\"\",PS!H103)","v":""},null,{"$f":"OS!C103","v":""},{"$f":"IF(OS!D103=\"\",\"\",OS!D103)","v":""},null,{"$f":"OS!G103","v":""},{"$f":"IF(OS!H103=\"\",\"\",OS!H103)","v":""},null,{"$f":"SE!C103","v":""},{"$f":"IF(SE!D103=\"\",0,SE!D103)","v":0},{"$f":"IF(SE!E103=\"\",\"\",SE!E103)","v":""},null,{"$f":"SE!H103","v":""},{"$f":"IF(SE!I103=\"\",0,SE!I103)","v":0},{"$f":"IF(SE!J103=\"\",\"\",SE!J103)","v":""},null,{"$f":"BSP!C103","v":""},{"$f":"IF(BSP!D103=\"\",\"\",BSP!D103)","v":""},null,{"$f":"BSP!G103","v":""},{"$f":"IF(BSP!H103=\"\",\"\",BSP!H103)","v":""},null,{"$f":"VS!C103","v":""},{"$f":"IF(VS!D103=\"\",\"\",VS!D103)","v":""},null,{"$f":"VS!G103","v":""},{"$f":"IF(VS!H103=\"\",\"\",VS!H103)","v":""}]
[{"$f":"PS!C104","v":""},{"$f":"IF(PS!D104=\"\",\"\",PS!D104)","v":""},null,{"$f":"PS!G104","v":""},{"$f":"IF(PS!H104=\"\",\"\",PS!H104)","v":""},null,{"$f":"OS!C104","v":""},{"$f":"IF(OS!D104=\"\",\"\",OS!D104)","v":""},null,{"$f":"OS!G104","v":""},{"$f":"IF(OS!H104=\"\",\"\",OS!H104)","v":""},null,{"$f":"SE!C104","v":""},{"$f":"IF(SE!D104=\"\",0,SE!D104)","v":0},{"$f":"IF(SE!E104=\"\",\"\",SE!E104)","v":""},null,{"$f":"SE!H104","v":""},{"$f":"IF(SE!I104=\"\",0,SE!I104)","v":0},{"$f":"IF(SE!J104=\"\",\"\",SE!J104)","v":""},null,{"$f":"BSP!C104","v":""},{"$f":"IF(BSP!D104=\"\",\"\",BSP!D104)","v":""},null,{"$f":"BSP!G104","v":""},{"$f":"IF(BSP!H104=\"\",\"\",BSP!H104)","v":""},null,{"$f":"VS!C104","v":""},{"$f":"IF(VS!D104=\"\",\"\",VS!D104)","v":""},null,{"$f":"VS!G104","v":""},{"$f":"IF(VS!H104=\"\",\"\",VS!H104)","v":""}]
[{"$f":"PS!C105","v":""},{"$f":"IF(PS!D105=\"\",\"\",PS!D105)","v":""},null,{"$f":"PS!G105","v":""},{"$f":"IF(PS!H105=\"\",\"\",PS!H105)","v":""},null,{"$f":"OS!C105","v":""},{"$f":"IF(OS!D105=\"\",\"\",OS!D105)","v":""},null,{"$f":"OS!G105","v":""},{"$f":"IF(OS!H105=\"\",\"\",OS!H105)","v":""},null,{"$f":"SE!C105","v":""},{"$f":"IF(SE!D105=\"\",0,SE!D105)","v":0},{"$f":"IF(SE!E105=\"\",\"\",SE!E105)","v":""},null,{"$f":"SE!H105","v":""},{"$f":"IF(SE!I105=\"\",0,SE!I105)","v":0},{"$f":"IF(SE!J105=\"\",\"\",SE!J105)","v":""},null,{"$f":"BSP!C105","v":""},{"$f":"IF(BSP!D105=\"\",\"\",BSP!D105)","v":""},null,{"$f":"BSP!G105","v":""},{"$f":"IF(BSP!H105=\"\",\"\",BSP!H105)","v":""},null,{"$f":"VS!C105","v":""},{"$f":"IF(VS!D105=\"\",\"\",VS!D105)","v":""},null,{"$f":"VS!G105","v":""},{"$f":"IF(VS!H105=\"\",\"\",VS!H105)","v":""}]
[{"$f":"PS!C106","v":""},{"$f":"IF(PS!D106=\"\",\"\",PS!D106)","v":""},null,{"$f":"PS!G106","v":""},{"$f":"IF(PS!H106=\"\",\"\",PS!H106)","v":""},null,{"$f":"OS!C106","v":""},{"$f":"IF(OS!D106=\"\",\"\",OS!D106)","v":""},null,{"$f":"OS!G106","v":""},{"$f":"IF(OS!H106=\"\",\"\",OS!H106)","v":""},null,{"$f":"SE!C106","v":""},{"$f":"IF(SE!D106=\"\",0,SE!D106)","v":0},{"$f":"IF(SE!E106=\"\",\"\",SE!E106)","v":""},null,{"$f":"SE!H106","v":""},{"$f":"IF(SE!I106=\"\",0,SE!I106)","v":0},{"$f":"IF(SE!J106=\"\",\"\",SE!J106)","v":""},null,{"$f":"BSP!C106","v":""},{"$f":"IF(BSP!D106=\"\",\"\",BSP!D106)","v":""},null,{"$f":"BSP!G106","v":""},{"$f":"IF(BSP!H106=\"\",\"\",BSP!H106)","v":""},null,{"$f":"VS!C106","v":""},{"$f":"IF(VS!D106=\"\",\"\",VS!D106)","v":""},null,{"$f":"VS!G106","v":""},{"$f":"IF(VS!H106=\"\",\"\",VS!H106)","v":""}]
[{"$f":"PS!C107","v":""},{"$f":"IF(PS!D107=\"\",\"\",PS!D107)","v":""},null,{"$f":"PS!G107","v":""},{"$f":"IF(PS!H107=\"\",\"\",PS!H107)","v":""},null,{"$f":"OS!C107","v":""},{"$f":"IF(OS!D107=\"\",\"\",OS!D107)","v":""},null,{"$f":"OS!G107","v":""},{"$f":"IF(OS!H107=\"\",\"\",OS!H107)","v":""},null,{"$f":"SE!C107","v":""},{"$f":"IF(SE!D107=\"\",0,SE!D107)","v":0},{"$f":"IF(SE!E107=\"\",\"\",SE!E107)","v":""},null,{"$f":"SE!H107","v":""},{"$f":"IF(SE!I107=\"\",0,SE!I107)","v":0},{"$f":"IF(SE!J107=\"\",\"\",SE!J107)","v":""},null,{"$f":"BSP!C107","v":""},{"$f":"IF(BSP!D107=\"\",\"\",BSP!D107)","v":""},null,{"$f":"BSP!G107","v":""},{"$f":"IF(BSP!H107=\"\",\"\",BSP!H107)","v":""},null,{"$f":"VS!C107","v":""},{"$f":"IF(VS!D107=\"\",\"\",VS!D107)","v":""},null,{"$f":"VS!G107","v":""},{"$f":"IF(VS!H107=\"\",\"\",VS!H107)","v":""}]
[{"$f":"PS!C108","v":""},{"$f":"IF(PS!D108=\"\",\"\",PS!D108)","v":""},null,{"$f":"PS!G108","v":""},{"$f":"IF(PS!H108=\"\",\"\",PS!H108)","v":""},null,{"$f":"OS!C108","v":""},{"$f":"IF(OS!D108=\"\",\"\",OS!D108)","v":""},null,{"$f":"OS!G108","v":""},{"$f":"IF(OS!H108=\"\",\"\",OS!H108)","v":""},null,{"$f":"SE!C108","v":""},{"$f":"IF(SE!D108=\"\",0,SE!D108)","v":0},{"$f":"IF(SE!E108=\"\",\"\",SE!E108)","v":""},null,{"$f":"SE!H108","v":""},{"$f":"IF(SE!I108=\"\",0,SE!I108)","v":0},{"$f":"IF(SE!J108=\"\",\"\",SE!J108)","v":""},null,{"$f":"BSP!C108","v":""},{"$f":"IF(BSP!D108=\"\",\"\",BSP!D108)","v":""},null,{"$f":"BSP!G108","v":""},{"$f":"IF(BSP!H108=\"\",\"\",BSP!H108)","v":""},null,{"$f":"VS!C108","v":""},{"$f":"IF(VS!D108=\"\",\"\",VS!D108)","v":""},null,{"$f":"VS!G108","v":""},{"$f":"IF(VS!H108=\"\",\"\",VS!H108)","v":""}]
[{"$f":"PS!C109","v":""},{"$f":"IF(PS!D109=\"\",\"\",PS!D109)","v":""},null,{"$f":"PS!G109","v":""},{"$f":"IF(PS!H109=\"\",\"\",PS!H109)","v":""},null,{"$f":"OS!C109","v":""},{"$f":"IF(OS!D109=\"\",\"\",OS!D109)","v":""},null,{"$f":"OS!G109","v":""},{"$f":"IF(OS!H109=\"\",\"\",OS!H109)","v":""},null,{"$f":"SE!C109","v":""},{"$f":"IF(SE!D109=\"\",0,SE!D109)","v":0},{"$f":"IF(SE!E109=\"\",\"\",SE!E109)","v":""},null,{"$f":"SE!H109","v":""},{"$f":"IF(SE!I109=\"\",0,SE!I109)","v":0},{"$f":"IF(SE!J109=\"\",\"\",SE!J109)","v":""},null,{"$f":"BSP!C109","v":""},{"$f":"IF(BSP!D109=\"\",\"\",BSP!D109)","v":""},null,{"$f":"BSP!G109","v":""},{"$f":"IF(BSP!H109=\"\",\"\",BSP!H109)","v":""},null,{"$f":"VS!C109","v":""},{"$f":"IF(VS!D109=\"\",\"\",VS!D109)","v":""},null,{"$f":"VS!G109","v":""},{"$f":"IF(VS!H109=\"\",\"\",VS!H109)","v":""}]
[{"$f":"PS!C110","v":""},{"$f":"IF(PS!D110=\"\",\"\",PS!D110)","v":""},null,{"$f":"PS!G110","v":""},{"$f":"IF(PS!H110=\"\",\"\",PS!H110)","v":""},null,{"$f":"OS!C110","v":""},{"$f":"IF(OS!D110=\"\",\"\",OS!D110)","v":""},null,{"$f":"OS!G110","v":""},{"$f":"IF(OS!H110=\"\",\"\",OS!H110)","v":""},null,{"$f":"SE!C110","v":""},{"$f":"IF(SE!D110=\"\",0,SE!D110)","v":0},{"$f":"IF(SE!E110=\"\",\"\",SE!E110)","v":""},null,{"$f":"SE!H110","v":""},{"$f":"IF(SE!I110=\"\",0,SE!I110)","v":0},{"$f":"IF(SE!J110=\"\",\"\",SE!J110)","v":""},null,{"$f":"BSP!C110","v":""},{"$f":"IF(BSP!D110=\"\",\"\",BSP!D110)","v":""},null,{"$f":"BSP!G110","v":""},{"$f":"IF(BSP!H110=\"\",\"\",BSP!H110)","v":""},null,{"$f":"VS!C110","v":""},{"$f":"IF(VS!D110=\"\",\"\",VS!D110)","v":""},null,{"$f":"VS!G110","v":""},{"$f":"IF(VS!H110=\"\",\"\",VS!H110)","v":""}]
[{"$f":"PS!C111","v":""},{"$f":"IF(PS!D111=\"\",\"\",PS!D111)","v":""},null,{"$f":"PS!G111","v":""},{"$f":"IF(PS!H111=\"\",\"\",PS!H111)","v":""},null,{"$f":"OS!C111","v":""},{"$f":"IF(OS!D111=\"\",\"\",OS!D111)","v":""},null,{"$f":"OS!G111","v":""},{"$f":"IF(OS!H111=\"\",\"\",OS!H111)","v":""},null,{"$f":"SE!C111","v":""},{"$f":"IF(SE!D111=\"\",0,SE!D111)","v":0},{"$f":"IF(SE!E111=\"\",\"\",SE!E111)","v":""},null,{"$f":"SE!H111","v":""},{"$f":"IF(SE!I111=\"\",0,SE!I111)","v":0},{"$f":"IF(SE!J111=\"\",\"\",SE!J111)","v":""},null,{"$f":"BSP!C111","v":""},{"$f":"IF(BSP!D111=\"\",\"\",BSP!D111)","v":""},null,{"$f":"BSP!G111","v":""},{"$f":"IF(BSP!H111=\"\",\"\",BSP!H111)","v":""},null,{"$f":"VS!C111","v":""},{"$f":"IF(VS!D111=\"\",\"\",VS!D111)","v":""},null,{"$f":"VS!G111","v":""},{"$f":"IF(VS!H111=\"\",\"\",VS!H111)","v":""}]
[{"$f":"PS!C112","v":""},{"$f":"IF(PS!D112=\"\",\"\",PS!D112)","v":""},null,{"$f":"PS!G112","v":""},{"$f":"IF(PS!H112=\"\",\"\",PS!H112)","v":""},null,{"$f":"OS!C112","v":""},{"$f":"IF(OS!D112=\"\",\"\",OS!D112)","v":""},null,{"$f":"OS!G112","v":""},{"$f":"IF(OS!H112=\"\",\"\",OS!H112)","v":""},null,{"$f":"SE!C112","v":""},{"$f":"IF(SE!D112=\"\",0,SE!D112)","v":0},{"$f":"IF(SE!E112=\"\",\"\",SE!E112)","v":""},null,{"$f":"SE!H112","v":""},{"$f":"IF(SE!I112=\"\",0,SE!I112)","v":0},{"$f":"IF(SE!J112=\"\",\"\",SE!J112)","v":""},null,{"$f":"BSP!C112","v":""},{"$f":"IF(BSP!D112=\"\",\"\",BSP!D112)","v":""},null,{"$f":"BSP!G112","v":""},{"$f":"IF(BSP!H112=\"\",\"\",BSP!H112)","v":""},null,{"$f":"VS!C112","v":""},{"$f":"IF(VS!D112=\"\",\"\",VS!D112)","v":""},null,{"$f":"VS!G112","v":""},{"$f":"IF(VS!H112=\"\",\"\",VS!H112)","v":""}]
[{"$f":"PS!C113","v":""},{"$f":"IF(PS!D113=\"\",\"\",PS!D113)","v":""},null,{"$f":"PS!G113","v":""},{"$f":"IF(PS!H113=\"\",\"\",PS!H113)","v":""},null,{"$f":"OS!C113","v":""},{"$f":"IF(OS!D113=\"\",\"\",OS!D113)","v":""},null,{"$f":"OS!G113","v":""},{"$f":"IF(OS!H113=\"\",\"\",OS!H113)","v":""},null,{"$f":"SE!C113","v":""},{"$f":"IF(SE!D113=\"\",0,SE!D113)","v":0},{"$f":"IF(SE!E113=\"\",\"\",SE!E113)","v":""},null,{"$f":"SE!H113","v":""},{"$f":"IF(SE!I113=\"\",0,SE!I113)","v":0},{"$f":"IF(SE!J113=\"\",\"\",SE!J113)","v":""},null,{"$f":"BSP!C113","v":""},{"$f":"IF(BSP!D113=\"\",\"\",BSP!D113)","v":""},null,{"$f":"BSP!G113","v":""},{"$f":"IF(BSP!H113=\"\",\"\",BSP!H113)","v":""},null,{"$f":"VS!C113","v":""},{"$f":"IF(VS!D113=\"\",\"\",VS!D113)","v":""},null,{"$f":"VS!G113","v":""},{"$f":"IF(VS!H113=\"\",\"\",VS!H113)","v":""}]
[{"$f":"PS!C114","v":""},{"$f":"IF(PS!D114=\"\",\"\",PS!D114)","v":""},null,{"$f":"PS!G114","v":""},{"$f":"IF(PS!H114=\"\",\"\",PS!H114)","v":""},null,{"$f":"OS!C114","v":""},{"$f":"IF(OS!D114=\"\",\"\",OS!D114)","v":""},null,{"$f":"OS!G114","v":""},{"$f":"IF(OS!H114=\"\",\"\",OS!H114)","v":""},null,{"$f":"SE!C114","v":""},{"$f":"IF(SE!D114=\"\",0,SE!D114)","v":0},{"$f":"IF(SE!E114=\"\",\"\",SE!E114)","v":""},null,{"$f":"SE!H114","v":""},{"$f":"IF(SE!I114=\"\",0,SE!I114)","v":0},{"$f":"IF(SE!J114=\"\",\"\",SE!J114)","v":""},null,{"$f":"BSP!C114","v":""},{"$f":"IF(BSP!D114=\"\",\"\",BSP!D114)","v":""},null,{"$f":"BSP!G114","v":""},{"$f":"IF(BSP!H114=\"\",\"\",BSP!H114)","v":""},null,{"$f":"VS!C114","v":""},{"$f":"IF(VS!D114=\"\",\"\",VS!D114)","v":""},null,{"$f":"VS!G114","v":""},{"$f":"IF(VS!H114=\"\",\"\",VS!H114)","v":""}]
[{"$f":"PS!C115","v":""},{"$f":"IF(PS!D115=\"\",\"\",PS!D115)","v":""},null,{"$f":"PS!G115","v":""},{"$f":"IF(PS!H115=\"\",\"\",PS!H115)","v":""},null,{"$f":"OS!C115","v":""},{"$f":"IF(OS!D115=\"\",\"\",OS!D115)","v":""},null,{"$f":"OS!G115","v":""},{"$f":"IF(OS!H115=\"\",\"\",OS!H115)","v":""},null,{"$f":"SE!C115","v":""},{"$f":"IF(SE!D115=\"\",0,SE!D115)","v":0},{"$f":"IF(SE!E115=\"\",\"\",SE!E115)","v":""},null,{"$f":"SE!H115","v":""},{"$f":"IF(SE!I115=\"\",0,SE!I115)","v":0},{"$f":"IF(SE!J115=\"\",\"\",SE!J115)","v":""},null,{"$f":"BSP!C115","v":""},{"$f":"IF(BSP!D115=\"\",\"\",BSP!D115)","v":""},null,{"$f":"BSP!G115","v":""},{"$f":"IF(BSP!H115=\"\",\"\",BSP!H115)","v":""},null,{"$f":"VS!C115","v":""},{"$f":"IF(VS!D115=\"\",\"\",VS!D115)","v":""},null,{"$f":"VS!G115","v":""},{"$f":"IF(VS!H115=\"\",\"\",VS!H115)","v":""}]
[{"$f":"PS!C116","v":""},{"$f":"IF(PS!D116=\"\",\"\",PS!D116)","v":""},null,{"$f":"PS!G116","v":""},{"$f":"IF(PS!H116=\"\",\"\",PS!H116)","v":""},null,{"$f":"OS!C116","v":""},{"$f":"IF(OS!D116=\"\",\"\",OS!D116)","v":""},null,{"$f":"OS!G116","v":""},{"$f":"IF(OS!H116=\"\",\"\",OS!H116)","v":""},null,{"$f":"SE!C116","v":""},{"$f":"IF(SE!D116=\"\",0,SE!D116)","v":0},{"$f":"IF(SE!E116=\"\",\"\",SE!E116)","v":""},null,{"$f":"SE!H116","v":""},{"$f":"IF(SE!I116=\"\",0,SE!I116)","v":0},{"$f":"IF(SE!J116=\"\",\"\",SE!J116)","v":""},null,{"$f":"BSP!C116","v":""},{"$f":"IF(BSP!D116=\"\",\"\",BSP!D116)","v":""},null,{"$f":"BSP!G116","v":""},{"$f":"IF(BSP!H116=\"\",\"\",BSP!H116)","v":""},null,{"$f":"VS!C116","v":""},{"$f":"IF(VS!D116=\"\",\"\",VS!D116)","v":""},null,{"$f":"VS!G116","v":""},{"$f":"IF(VS!H116=\"\",\"\",VS!H116)","v":""}]
[{"$f":"PS!C117","v":""},{"$f":"IF(PS!D117=\"\",\"\",PS!D117)","v":""},null,{"$f":"PS!G117","v":""},{"$f":"IF(PS!H117=\"\",\"\",PS!H117)","v":""},null,{"$f":"OS!C117","v":""},{"$f":"IF(OS!D117=\"\",\"\",OS!D117)","v":""},null,{"$f":"OS!G117","v":""},{"$f":"IF(OS!H117=\"\",\"\",OS!H117)","v":""},null,{"$f":"SE!C117","v":""},{"$f":"IF(SE!D117=\"\",0,SE!D117)","v":0},{"$f":"IF(SE!E117=\"\",\"\",SE!E117)","v":""},null,{"$f":"SE!H117","v":""},{"$f":"IF(SE!I117=\"\",0,SE!I117)","v":0},{"$f":"IF(SE!J117=\"\",\"\",SE!J117)","v":""},null,{"$f":"BSP!C117","v":""},{"$f":"IF(BSP!D117=\"\",\"\",BSP!D117)","v":""},null,{"$f":"BSP!G117","v":""},{"$f":"IF(BSP!H117=\"\",\"\",BSP!H117)","v":""},null,{"$f":"VS!C117","v":""},{"$f":"IF(VS!D117=\"\",\"\",VS!D117)","v":""},null,{"$f":"VS!G117","v":""},{"$f":"IF(VS!H117=\"\",\"\",VS!H117)","v":""}]
[{"$f":"PS!C118","v":""},{"$f":"IF(PS!D118=\"\",\"\",PS!D118)","v":""},null,{"$f":"PS!G118","v":""},{"$f":"IF(PS!H118=\"\",\"\",PS!H118)","v":""},null,{"$f":"OS!C118","v":""},{"$f":"IF(OS!D118=\"\",\"\",OS!D118)","v":""},null,{"$f":"OS!G118","v":""},{"$f":"IF(OS!H118=\"\",\"\",OS!H118)","v":""},null,{"$f":"SE!C118","v":""},{"$f":"IF(SE!D118=\"\",0,SE!D118)","v":0},{"$f":"IF(SE!E118=\"\",\"\",SE!E118)","v":""},null,{"$f":"SE!H118","v":""},{"$f":"IF(SE!I118=\"\",0,SE!I118)","v":0},{"$f":"IF(SE!J118=\"\",\"\",SE!J118)","v":""},null,{"$f":"BSP!C118","v":""},{"$f":"IF(BSP!D118=\"\",\"\",BSP!D118)","v":""},null,{"$f":"BSP!G118","v":""},{"$f":"IF(BSP!H118=\"\",\"\",BSP!H118)","v":""},null,{"$f":"VS!C118","v":""},{"$f":"IF(VS!D118=\"\",\"\",VS!D118)","v":""},null,{"$f":"VS!G118","v":""},{"$f":"IF(VS!H118=\"\",\"\",VS!H118)","v":""}]
[{"$f":"PS!C119","v":""},{"$f":"IF(PS!D119=\"\",\"\",PS!D119)","v":""},null,{"$f":"PS!G119","v":""},{"$f":"IF(PS!H119=\"\",\"\",PS!H119)","v":""},null,{"$f":"OS!C119","v":""},{"$f":"IF(OS!D119=\"\",\"\",OS!D119)","v":""},null,{"$f":"OS!G119","v":""},{"$f":"IF(OS!H119=\"\",\"\",OS!H119)","v":""},null,{"$f":"SE!C119","v":""},{"$f":"IF(SE!D119=\"\",0,SE!D119)","v":0},{"$f":"IF(SE!E119=\"\",\"\",SE!E119)","v":""},null,{"$f":"SE!H119","v":""},{"$f":"IF(SE!I119=\"\",0,SE!I119)","v":0},{"$f":"IF(SE!J119=\"\",\"\",SE!J119)","v":""},null,{"$f":"BSP!C119","v":""},{"$f":"IF(BSP!D119=\"\",\"\",BSP!D119)","v":""},null,{"$f":"BSP!G119","v":""},{"$f":"IF(BSP!H119=\"\",\"\",BSP!H119)","v":""},null,{"$f":"VS!C119","v":""},{"$f":"IF(VS!D119=\"\",\"\",VS!D119)","v":""},null,{"$f":"VS!G119","v":""},{"$f":"IF(VS!H119=\"\",\"\",VS!H119)","v":""}]
[{"$f":"PS!C120","v":""},{"$f":"IF(PS!D120=\"\",\"\",PS!D120)","v":""},null,{"$f":"PS!G120","v":""},{"$f":"IF(PS!H120=\"\",\"\",PS!H120)","v":""},null,{"$f":"OS!C120","v":""},{"$f":"IF(OS!D120=\"\",\"\",OS!D120)","v":""},null,{"$f":"OS!G120","v":""},{"$f":"IF(OS!H120=\"\",\"\",OS!H120)","v":""},null,{"$f":"SE!C120","v":""},{"$f":"IF(SE!D120=\"\",0,SE!D120)","v":0},{"$f":"IF(SE!E120=\"\",\"\",SE!E120)","v":""},null,{"$f":"SE!H120","v":""},{"$f":"IF(SE!I120=\"\",0,SE!I120)","v":0},{"$f":"IF(SE!J120=\"\",\"\",SE!J120)","v":""},null,{"$f":"BSP!C120","v":""},{"$f":"IF(BSP!D120=\"\",\"\",BSP!D120)","v":""},null,{"$f":"BSP!G120","v":""},{"$f":"IF(BSP!H120=\"\",\"\",BSP!H120)","v":""},null,{"$f":"VS!C120","v":""},{"$f":"IF(VS!D120=\"\",\"\",VS!D120)","v":""},null,{"$f":"VS!G120","v":""},{"$f":"IF(VS!H120=\"\",\"\",VS!H120)","v":""}]
[{"$f":"PS!C121","v":""},{"$f":"IF(PS!D121=\"\",\"\",PS!D121)","v":""},null,{"$f":"PS!G121","v":""},{"$f":"IF(PS!H121=\"\",\"\",PS!H121)","v":""},null,{"$f":"OS!C121","v":""},{"$f":"IF(OS!D121=\"\",\"\",OS!D121)","v":""},null,{"$f":"OS!G121","v":""},{"$f":"IF(OS!H121=\"\",\"\",OS!H121)","v":""},null,{"$f":"SE!C121","v":""},{"$f":"IF(SE!D121=\"\",0,SE!D121)","v":0},{"$f":"IF(SE!E121=\"\",\"\",SE!E121)","v":""},null,{"$f":"SE!H121","v":""},{"$f":"IF(SE!I121=\"\",0,SE!I121)","v":0},{"$f":"IF(SE!J121=\"\",\"\",SE!J121)","v":""},null,{"$f":"BSP!C121","v":""},{"$f":"IF(BSP!D121=\"\",\"\",BSP!D121)","v":""},null,{"$f":"BSP!G121","v":""},{"$f":"IF(BSP!H121=\"\",\"\",BSP!H121)","v":""},null,{"$f":"VS!C121","v":""},{"$f":"IF(VS!D121=\"\",\"\",VS!D121)","v":""},null,{"$f":"VS!G121","v":""},{"$f":"IF(VS!H121=\"\",\"\",VS!H121)","v":""}]
[{"$f":"PS!C122","v":""},{"$f":"IF(PS!D122=\"\",\"\",PS!D122)","v":""},null,{"$f":"PS!G122","v":""},{"$f":"IF(PS!H122=\"\",\"\",PS!H122)","v":""},null,{"$f":"OS!C122","v":""},{"$f":"IF(OS!D122=\"\",\"\",OS!D122)","v":""},null,{"$f":"OS!G122","v":""},{"$f":"IF(OS!H122=\"\",\"\",OS!H122)","v":""},null,{"$f":"SE!C122","v":""},{"$f":"IF(SE!D122=\"\",0,SE!D122)","v":0},{"$f":"IF(SE!E122=\"\",\"\",SE!E122)","v":""},null,{"$f":"SE!H122","v":""},{"$f":"IF(SE!I122=\"\",0,SE!I122)","v":0},{"$f":"IF(SE!J122=\"\",\"\",SE!J122)","v":""},null,{"$f":"BSP!C122","v":""},{"$f":"IF(BSP!D122=\"\",\"\",BSP!D122)","v":""},null,{"$f":"BSP!G122","v":""},{"$f":"IF(BSP!H122=\"\",\"\",BSP!H122)","v":""},null,{"$f":"VS!C122","v":""},{"$f":"IF(VS!D122=\"\",\"\",VS!D122)","v":""},null,{"$f":"VS!G122","v":""},{"$f":"IF(VS!H122=\"\",\"\",VS!H122)","v":""}]
[{"$f":"PS!C123","v":""},{"$f":"IF(PS!D123=\"\",\"\",PS!D123)","v":""},null,{"$f":"PS!G123","v":""},{"$f":"IF(PS!H123=\"\",\"\",PS!H123)","v":""},null,{"$f":"OS!C123","v":""},{"$f":"IF(OS!D123=\"\",\"\",OS!D123)","v":""},null,{"$f":"OS!G123","v":""},{"$f":"IF(OS!H123=\"\",\"\",OS!H123)","v":""},null,{"$f":"SE!C123","v":""},{"$f":"IF(SE!D123=\"\",0,SE!D123)","v":0},{"$f":"IF(SE!E123=\"\",\"\",SE!E123)","v":""},null,{"$f":"SE!H123","v":""},{"$f":"IF(SE!I123=\"\",0,SE!I123)","v":0},{"$f":"IF(SE!J123=\"\",\"\",SE!J123)","v":""},null,{"$f":"BSP!C123","v":""},{"$f":"IF(BSP!D123=\"\",\"\",BSP!D123)","v":""},null,{"$f":"BSP!G123","v":""},{"$f":"IF(BSP!H123=\"\",\"\",BSP!H123)","v":""},null,{"$f":"VS!C123","v":""},{"$f":"IF(VS!D123=\"\",\"\",VS!D123)","v":""},null,{"$f":"VS!G123","v":""},{"$f":"IF(VS!H123=\"\",\"\",VS!H123)","v":""}]
[{"$f":"PS!C124","v":""},{"$f":"IF(PS!D124=\"\",\"\",PS!D124)","v":""},null,{"$f":"PS!G124","v":""},{"$f":"IF(PS!H124=\"\",\"\",PS!H124)","v":""},null,{"$f":"OS!C124","v":""},{"$f":"IF(OS!D124=\"\",\"\",OS!D124)","v":""},null,{"$f":"OS!G124","v":""},{"$f":"IF(OS!H124=\"\",\"\",OS!H124)","v":""},null,{"$f":"SE!C124","v":""},{"$f":"IF(SE!D124=\"\",0,SE!D124)","v":0},{"$f":"IF(SE!E124=\"\",\"\",SE!E124)","v":""},null,{"$f":"SE!H124","v":""},{"$f":"IF(SE!I124=\"\",0,SE!I124)","v":0},{"$f":"IF(SE!J124=\"\",\"\",SE!J124)","v":""},null,{"$f":"BSP!C124","v":""},{"$f":"IF(BSP!D124=\"\",\"\",BSP!D124)","v":""},null,{"$f":"BSP!G124","v":""},{"$f":"IF(BSP!H124=\"\",\"\",BSP!H124)","v":""},null,{"$f":"VS!C124","v":""},{"$f":"IF(VS!D124=\"\",\"\",VS!D124)","v":""},null,{"$f":"VS!G124","v":""},{"$f":"IF(VS!H124=\"\",\"\",VS!H124)","v":""}]
[{"$f":"PS!C125","v":""},{"$f":"IF(PS!D125=\"\",\"\",PS!D125)","v":""},null,{"$f":"PS!G125","v":""},{"$f":"IF(PS!H125=\"\",\"\",PS!H125)","v":""},null,{"$f":"OS!C125","v":""},{"$f":"IF(OS!D125=\"\",\"\",OS!D125)","v":""},null,{"$f":"OS!G125","v":""},{"$f":"IF(OS!H125=\"\",\"\",OS!H125)","v":""},null,{"$f":"SE!C125","v":""},{"$f":"IF(SE!D125=\"\",0,SE!D125)","v":0},{"$f":"IF(SE!E125=\"\",\"\",SE!E125)","v":""},null,{"$f":"SE!H125","v":""},{"$f":"IF(SE!I125=\"\",0,SE!I125)","v":0},{"$f":"IF(SE!J125=\"\",\"\",SE!J125)","v":""},null,{"$f":"BSP!C125","v":""},{"$f":"IF(BSP!D125=\"\",\"\",BSP!D125)","v":""},null,{"$f":"BSP!G125","v":""},{"$f":"IF(BSP!H125=\"\",\"\",BSP!H125)","v":""},null,{"$f":"VS!C125","v":""},{"$f":"IF(VS!D125=\"\",\"\",VS!D125)","v":""},null,{"$f":"VS!G125","v":""},{"$f":"IF(VS!H125=\"\",\"\",VS!H125)","v":""}]
[{"$f":"PS!C126","v":""},{"$f":"IF(PS!D126=\"\",\"\",PS!D126)","v":""},null,{"$f":"PS!G126","v":""},{"$f":"IF(PS!H126=\"\",\"\",PS!H126)","v":""},null,{"$f":"OS!C126","v":""},{"$f":"IF(OS!D126=\"\",\"\",OS!D126)","v":""},null,{"$f":"OS!G126","v":""},{"$f":"IF(OS!H126=\"\",\"\",OS!H126)","v":""},null,{"$f":"SE!C126","v":""},{"$f":"IF(SE!D126=\"\",0,SE!D126)","v":0},{"$f":"IF(SE!E126=\"\",\"\",SE!E126)","v":""},null,{"$f":"SE!H126","v":""},{"$f":"IF(SE!I126=\"\",0,SE!I126)","v":0},{"$f":"IF(SE!J126=\"\",\"\",SE!J126)","v":""},null,{"$f":"BSP!C126","v":""},{"$f":"IF(BSP!D126=\"\",\"\",BSP!D126)","v":""},null,{"$f":"BSP!G126","v":""},{"$f":"IF(BSP!H126=\"\",\"\",BSP!H126)","v":""},null,{"$f":"VS!C126","v":""},{"$f":"IF(VS!D126=\"\",\"\",VS!D126)","v":""},null,{"$f":"VS!G126","v":""},{"$f":"IF(VS!H126=\"\",\"\",VS!H126)","v":""}]
[{"$f":"PS!C127","v":""},{"$f":"IF(PS!D127=\"\",\"\",PS!D127)","v":""},null,{"$f":"PS!G127","v":""},{"$f":"IF(PS!H127=\"\",\"\",PS!H127)","v":""},null,{"$f":"OS!C127","v":""},{"$f":"IF(OS!D127=\"\",\"\",OS!D127)","v":""},null,{"$f":"OS!G127","v":""},{"$f":"IF(OS!H127=\"\",\"\",OS!H127)","v":""},null,{"$f":"SE!C127","v":""},{"$f":"IF(SE!D127=\"\",0,SE!D127)","v":0},{"$f":"IF(SE!E127=\"\",\"\",SE!E127)","v":""},null,{"$f":"SE!H127","v":""},{"$f":"IF(SE!I127=\"\",0,SE!I127)","v":0},{"$f":"IF(SE!J127=\"\",\"\",SE!J127)","v":""},null,{"$f":"BSP!C127","v":""},{"$f":"IF(BSP!D127=\"\",\"\",BSP!D127)","v":""},null,{"$f":"BSP!G127","v":""},{"$f":"IF(BSP!H127=\"\",\"\",BSP!H127)","v":""},null,{"$f":"VS!C127","v":""},{"$f":"IF(VS!D127=\"\",\"\",VS!D127)","v":""},null,{"$f":"VS!G127","v":""},{"$f":"IF(VS!H127=\"\",\"\",VS!H127)","v":""}]
[{"$f":"PS!C128","v":""},{"$f":"IF(PS!D128=\"\",\"\",PS!D128)","v":""},null,{"$f":"PS!G128","v":""},{"$f":"IF(PS!H128=\"\",\"\",PS!H128)","v":""},null,{"$f":"OS!C128","v":""},{"$f":"IF(OS!D128=\"\",\"\",OS!D128)","v":""},null,{"$f":"OS!G128","v":""},{"$f":"IF(OS!H128=\"\",\"\",OS!H128)","v":""},null,{"$f":"SE!C128","v":""},{"$f":"IF(SE!D128=\"\",0,SE!D128)","v":0},{"$f":"IF(SE!E128=\"\",\"\",SE!E128)","v":""},null,{"$f":"SE!H128","v":""},{"$f":"IF(SE!I128=\"\",0,SE!I128)","v":0},{"$f":"IF(SE!J128=\"\",\"\",SE!J128)","v":""},null,{"$f":"BSP!C128","v":""},{"$f":"IF(BSP!D128=\"\",\"\",BSP!D128)","v":""},null,{"$f":"BSP!G128","v":""},{"$f":"IF(BSP!H128=\"\",\"\",BSP!H128)","v":""},null,{"$f":"VS!C128","v":""},{"$f":"IF(VS!D128=\"\",\"\",VS!D128)","v":""},null,{"$f":"VS!G128","v":""},{"$f":"IF(VS!H128=\"\",\"\",VS!H128)","v":""}]
[{"$f":"PS!C129","v":""},{"$f":"IF(PS!D129=\"\",\"\",PS!D129)","v":""},null,{"$f":"PS!G129","v":""},{"$f":"IF(PS!H129=\"\",\"\",PS!H129)","v":""},null,{"$f":"OS!C129","v":""},{"$f":"IF(OS!D129=\"\",\"\",OS!D129)","v":""},null,{"$f":"OS!G129","v":""},{"$f":"IF(OS!H129=\"\",\"\",OS!H129)","v":""},null,{"$f":"SE!C129","v":""},{"$f":"IF(SE!D129=\"\",0,SE!D129)","v":0},{"$f":"IF(SE!E129=\"\",\"\",SE!E129)","v":""},null,{"$f":"SE!H129","v":""},{"$f":"IF(SE!I129=\"\",0,SE!I129)","v":0},{"$f":"IF(SE!J129=\"\",\"\",SE!J129)","v":""},null,{"$f":"BSP!C129","v":""},{"$f":"IF(BSP!D129=\"\",\"\",BSP!D129)","v":""},null,{"$f":"BSP!G129","v":""},{"$f":"IF(BSP!H129=\"\",\"\",BSP!H129)","v":""},null,{"$f":"VS!C129","v":""},{"$f":"IF(VS!D129=\"\",\"\",VS!D129)","v":""},null,{"$f":"VS!G129","v":""},{"$f":"IF(VS!H129=\"\",\"\",VS!H129)","v":""}]
[{"$f":"PS!C130","v":""},{"$f":"IF(PS!D130=\"\",\"\",PS!D130)","v":""},null,{"$f":"PS!G130","v":""},{"$f":"IF(PS!H130=\"\",\"\",PS!H130)","v":""},null,{"$f":"OS!C130","v":""},{"$f":"IF(OS!D130=\"\",\"\",OS!D130)","v":""},null,{"$f":"OS!G130","v":""},{"$f":"IF(OS!H130=\"\",\"\",OS!H130)","v":""},null,{"$f":"SE!C130","v":""},{"$f":"IF(SE!D130=\"\",0,SE!D130)","v":0},{"$f":"IF(SE!E130=\"\",\"\",SE!E130)","v":""},null,{"$f":"SE!H130","v":""},{"$f":"IF(SE!I130=\"\",0,SE!I130)","v":0},{"$f":"IF(SE!J130=\"\",\"\",SE!J130)","v":""},null,{"$f":"BSP!C130","v":""},{"$f":"IF(BSP!D130=\"\",\"\",BSP!D130)","v":""},null,{"$f":"BSP!G130","v":""},{"$f":"IF(BSP!H130=\"\",\"\",BSP!H130)","v":""},null,{"$f":"VS!C130","v":""},{"$f":"IF(VS!D130=\"\",\"\",VS!D130)","v":""},null,{"$f":"VS!G130","v":""},{"$f":"IF(VS!H130=\"\",\"\",VS!H130)","v":""}]
[{"$f":"PS!C131","v":""},{"$f":"IF(PS!D131=\"\",\"\",PS!D131)","v":""},null,{"$f":"PS!G131","v":""},{"$f":"IF(PS!H131=\"\",\"\",PS!H131)","v":""},null,{"$f":"OS!C131","v":""},{"$f":"IF(OS!D131=\"\",\"\",OS!D131)","v":""},null,{"$f":"OS!G131","v":""},{"$f":"IF(OS!H131=\"\",\"\",OS!H131)","v":""},null,{"$f":"SE!C131","v":""},{"$f":"IF(SE!D131=\"\",0,SE!D131)","v":0},{"$f":"IF(SE!E131=\"\",\"\",SE!E131)","v":""},null,{"$f":"SE!H131","v":""},{"$f":"IF(SE!I131=\"\",0,SE!I131)","v":0},{"$f":"IF(SE!J131=\"\",\"\",SE!J131)","v":""},null,{"$f":"BSP!C131","v":""},{"$f":"IF(BSP!D131=\"\",\"\",BSP!D131)","v":""},null,{"$f":"BSP!G131","v":""},{"$f":"IF(BSP!H131=\"\",\"\",BSP!H131)","v":""},null,{"$f":"VS!C131","v":""},{"$f":"IF(VS!D131=\"\",\"\",VS!D131)","v":""},null,{"$f":"VS!G131","v":""},{"$f":"IF(VS!H131=\"\",\"\",VS!H131)","v":""}]
[{"$f":"PS!C132","v":""},{"$f":"IF(PS!D132=\"\",\"\",PS!D132)","v":""},null,{"$f":"PS!G132","v":""},{"$f":"IF(PS!H132=\"\",\"\",PS!H132)","v":""},null,{"$f":"OS!C132","v":""},{"$f":"IF(OS!D132=\"\",\"\",OS!D132)","v":""},null,{"$f":"OS!G132","v":""},{"$f":"IF(OS!H132=\"\",\"\",OS!H132)","v":""},null,{"$f":"SE!C132","v":""},{"$f":"IF(SE!D132=\"\",0,SE!D132)","v":0},{"$f":"IF(SE!E132=\"\",\"\",SE!E132)","v":""},null,{"$f":"SE!H132","v":""},{"$f":"IF(SE!I132=\"\",0,SE!I132)","v":0},{"$f":"IF(SE!J132=\"\",\"\",SE!J132)","v":""},null,{"$f":"BSP!C132","v":""},{"$f":"IF(BSP!D132=\"\",\"\",BSP!D132)","v":""},null,{"$f":"BSP!G132","v":""},{"$f":"IF(BSP!H132=\"\",\"\",BSP!H132)","v":""},null,{"$f":"VS!C132","v":""},{"$f":"IF(VS!D132=\"\",\"\",VS!D132)","v":""},null,{"$f":"VS!G132","v":""},{"$f":"IF(VS!H132=\"\",\"\",VS!H132)","v":""}]
[{"$f":"PS!C133","v":""},{"$f":"IF(PS!D133=\"\",\"\",PS!D133)","v":""},null,{"$f":"PS!G133","v":""},{"$f":"IF(PS!H133=\"\",\"\",PS!H133)","v":""},null,{"$f":"OS!C133","v":""},{"$f":"IF(OS!D133=\"\",\"\",OS!D133)","v":""},null,{"$f":"OS!G133","v":""},{"$f":"IF(OS!H133=\"\",\"\",OS!H133)","v":""},null,{"$f":"SE!C133","v":""},{"$f":"IF(SE!D133=\"\",0,SE!D133)","v":0},{"$f":"IF(SE!E133=\"\",\"\",SE!E133)","v":""},null,{"$f":"SE!H133","v":""},{"$f":"IF(SE!I133=\"\",0,SE!I133)","v":0},{"$f":"IF(SE!J133=\"\",\"\",SE!J133)","v":""},null,{"$f":"BSP!C133","v":""},{"$f":"IF(BSP!D133=\"\",\"\",BSP!D133)","v":""},null,{"$f":"BSP!G133","v":""},{"$f":"IF(BSP!H133=\"\",\"\",BSP!H133)","v":""},null,{"$f":"VS!C133","v":""},{"$f":"IF(VS!D133=\"\",\"\",VS!D133)","v":""},null,{"$f":"VS!G133","v":""},{"$f":"IF(VS!H133=\"\",\"\",VS!H133)","v":""}]
[{"$f":"PS!C134","v":""},{"$f":"IF(PS!D134=\"\",\"\",PS!D134)","v":""},null,{"$f":"PS!G134","v":""},{"$f":"IF(PS!H134=\"\",\"\",PS!H134)","v":""},null,{"$f":"OS!C134","v":""},{"$f":"IF(OS!D134=\"\",\"\",OS!D134)","v":""},null,{"$f":"OS!G134","v":""},{"$f":"IF(OS!H134=\"\",\"\",OS!H134)","v":""},null,{"$f":"SE!C134","v":""},{"$f":"IF(SE!D134=\"\",0,SE!D134)","v":0},{"$f":"IF(SE!E134=\"\",\"\",SE!E134)","v":""},null,{"$f":"SE!H134","v":""},{"$f":"IF(SE!I134=\"\",0,SE!I134)","v":0},{"$f":"IF(SE!J134=\"\",\"\",SE!J134)","v":""},null,{"$f":"BSP!C134","v":""},{"$f":"IF(BSP!D134=\"\",\"\",BSP!D134)","v":""},null,{"$f":"BSP!G134","v":""},{"$f":"IF(BSP!H134=\"\",\"\",BSP!H134)","v":""},null,{"$f":"VS!C134","v":""},{"$f":"IF(VS!D134=\"\",\"\",VS!D134)","v":""},null,{"$f":"VS!G134","v":""},{"$f":"IF(VS!H134=\"\",\"\",VS!H134)","v":""}]
[{"$f":"PS!C135","v":""},{"$f":"IF(PS!D135=\"\",\"\",PS!D135)","v":""},null,{"$f":"PS!G135","v":""},{"$f":"IF(PS!H135=\"\",\"\",PS!H135)","v":""},null,{"$f":"OS!C135","v":""},{"$f":"IF(OS!D135=\"\",\"\",OS!D135)","v":""},null,{"$f":"OS!G135","v":""},{"$f":"IF(OS!H135=\"\",\"\",OS!H135)","v":""},null,{"$f":"SE!C135","v":""},{"$f":"IF(SE!D135=\"\",0,SE!D135)","v":0},{"$f":"IF(SE!E135=\"\",\"\",SE!E135)","v":""},null,{"$f":"SE!H135","v":""},{"$f":"IF(SE!I135=\"\",0,SE!I135)","v":0},{"$f":"IF(SE!J135=\"\",\"\",SE!J135)","v":""},null,{"$f":"BSP!C135","v":""},{"$f":"IF(BSP!D135=\"\",\"\",BSP!D135)","v":""},null,{"$f":"BSP!G135","v":""},{"$f":"IF(BSP!H135=\"\",\"\",BSP!H135)","v":""},null,{"$f":"VS!C135","v":""},{"$f":"IF(VS!D135=\"\",\"\",VS!D135)","v":""},null,{"$f":"VS!G135","v":""},{"$f":"IF(VS!H135=\"\",\"\",VS!H135)","v":""}]
[{"$f":"PS!C136","v":""},{"$f":"IF(PS!D136=\"\",\"\",PS!D136)","v":""},null,{"$f":"PS!G136","v":""},{"$f":"IF(PS!H136=\"\",\"\",PS!H136)","v":""},null,{"$f":"OS!C136","v":""},{"$f":"IF(OS!D136=\"\",\"\",OS!D136)","v":""},null,{"$f":"OS!G136","v":""},{"$f":"IF(OS!H136=\"\",\"\",OS!H136)","v":""},null,{"$f":"SE!C136","v":""},{"$f":"IF(SE!D136=\"\",0,SE!D136)","v":0},{"$f":"IF(SE!E136=\"\",\"\",SE!E136)","v":""},null,{"$f":"SE!H136","v":""},{"$f":"IF(SE!I136=\"\",0,SE!I136)","v":0},{"$f":"IF(SE!J136=\"\",\"\",SE!J136)","v":""},null,{"$f":"BSP!C136","v":""},{"$f":"IF(BSP!D136=\"\",\"\",BSP!D136)","v":""},null,{"$f":"BSP!G136","v":""},{"$f":"IF(BSP!H136=\"\",\"\",BSP!H136)","v":""},null,{"$f":"VS!C136","v":""},{"$f":"IF(VS!D136=\"\",\"\",VS!D136)","v":""},null,{"$f":"VS!G136","v":""},{"$f":"IF(VS!H136=\"\",\"\",VS!H136)","v":""}]
[{"$f":"PS!C137","v":""},{"$f":"IF(PS!D137=\"\",\"\",PS!D137)","v":""},null,{"$f":"PS!G137","v":""},{"$f":"IF(PS!H137=\"\",\"\",PS!H137)","v":""},null,{"$f":"OS!C137","v":""},{"$f":"IF(OS!D137=\"\",\"\",OS!D137)","v":""},null,{"$f":"OS!G137","v":""},{"$f":"IF(OS!H137=\"\",\"\",OS!H137)","v":""},null,{"$f":"SE!C137","v":""},{"$f":"IF(SE!D137=\"\",0,SE!D137)","v":0},{"$f":"IF(SE!E137=\"\",\"\",SE!E137)","v":""},null,{"$f":"SE!H137","v":""},{"$f":"IF(SE!I137=\"\",0,SE!I137)","v":0},{"$f":"IF(SE!J137=\"\",\"\",SE!J137)","v":""},null,{"$f":"BSP!C137","v":""},{"$f":"IF(BSP!D137=\"\",\"\",BSP!D137)","v":""},null,{"$f":"BSP!G137","v":""},{"$f":"IF(BSP!H137=\"\",\"\",BSP!H137)","v":""},null,{"$f":"VS!C137","v":""},{"$f":"IF(VS!D137=\"\",\"\",VS!D137)","v":""},null,{"$f":"VS!G137","v":""},{"$f":"IF(VS!H137=\"\",\"\",VS!H137)","v":""}]
[{"$f":"PS!C138","v":""},{"$f":"IF(PS!D138=\"\",\"\",PS!D138)","v":""},null,{"$f":"PS!G138","v":""},{"$f":"IF(PS!H138=\"\",\"\",PS!H138)","v":""},null,{"$f":"OS!C138","v":""},{"$f":"IF(OS!D138=\"\",\"\",OS!D138)","v":""},null,{"$f":"OS!G138","v":""},{"$f":"IF(OS!H138=\"\",\"\",OS!H138)","v":""},null,{"$f":"SE!C138","v":""},{"$f":"IF(SE!D138=\"\",0,SE!D138)","v":0},{"$f":"IF(SE!E138=\"\",\"\",SE!E138)","v":""},null,{"$f":"SE!H138","v":""},{"$f":"IF(SE!I138=\"\",0,SE!I138)","v":0},{"$f":"IF(SE!J138=\"\",\"\",SE!J138)","v":""},null,{"$f":"BSP!C138","v":""},{"$f":"IF(BSP!D138=\"\",\"\",BSP!D138)","v":""},null,{"$f":"BSP!G138","v":""},{"$f":"IF(BSP!H138=\"\",\"\",BSP!H138)","v":""},null,{"$f":"VS!C138","v":""},{"$f":"IF(VS!D138=\"\",\"\",VS!D138)","v":""},null,{"$f":"VS!G138","v":""},{"$f":"IF(VS!H138=\"\",\"\",VS!H138)","v":""}]
[{"$f":"PS!C139","v":""},{"$f":"IF(PS!D139=\"\",\"\",PS!D139)","v":""},null,{"$f":"PS!G139","v":""},{"$f":"IF(PS!H139=\"\",\"\",PS!H139)","v":""},null,{"$f":"OS!C139","v":""},{"$f":"IF(OS!D139=\"\",\"\",OS!D139)","v":""},null,{"$f":"OS!G139","v":""},{"$f":"IF(OS!H139=\"\",\"\",OS!H139)","v":""},null,{"$f":"SE!C139","v":""},{"$f":"IF(SE!D139=\"\",0,SE!D139)","v":0},{"$f":"IF(SE!E139=\"\",\"\",SE!E139)","v":""},null,{"$f":"SE!H139","v":""},{"$f":"IF(SE!I139=\"\",0,SE!I139)","v":0},{"$f":"IF(SE!J139=\"\",\"\",SE!J139)","v":""},null,{"$f":"BSP!C139","v":""},{"$f":"IF(BSP!D139=\"\",\"\",BSP!D139)","v":""},null,{"$f":"BSP!G139","v":""},{"$f":"IF(BSP!H139=\"\",\"\",BSP!H139)","v":""},null,{"$f":"VS!C139","v":""},{"$f":"IF(VS!D139=\"\",\"\",VS!D139)","v":""},null,{"$f":"VS!G139","v":""},{"$f":"IF(VS!H139=\"\",\"\",VS!H139)","v":""}]
[{"$f":"PS!C140","v":""},{"$f":"IF(PS!D140=\"\",\"\",PS!D140)","v":""},null,{"$f":"PS!G140","v":""},{"$f":"IF(PS!H140=\"\",\"\",PS!H140)","v":""},null,{"$f":"OS!C140","v":""},{"$f":"IF(OS!D140=\"\",\"\",OS!D140)","v":""},null,{"$f":"OS!G140","v":""},{"$f":"IF(OS!H140=\"\",\"\",OS!H140)","v":""},null,{"$f":"SE!C140","v":""},{"$f":"IF(SE!D140=\"\",0,SE!D140)","v":0},{"$f":"IF(SE!E140=\"\",\"\",SE!E140)","v":""},null,{"$f":"SE!H140","v":""},{"$f":"IF(SE!I140=\"\",0,SE!I140)","v":0},{"$f":"IF(SE!J140=\"\",\"\",SE!J140)","v":""},null,{"$f":"BSP!C140","v":""},{"$f":"IF(BSP!D140=\"\",\"\",BSP!D140)","v":""},null,{"$f":"BSP!G140","v":""},{"$f":"IF(BSP!H140=\"\",\"\",BSP!H140)","v":""},null,{"$f":"VS!C140","v":""},{"$f":"IF(VS!D140=\"\",\"\",VS!D140)","v":""},null,{"$f":"VS!G140","v":""},{"$f":"IF(VS!H140=\"\",\"\",VS!H140)","v":""}]
[{"$f":"PS!C141","v":""},{"$f":"IF(PS!D141=\"\",\"\",PS!D141)","v":""},null,{"$f":"PS!G141","v":""},{"$f":"IF(PS!H141=\"\",\"\",PS!H141)","v":""},null,{"$f":"OS!C141","v":""},{"$f":"IF(OS!D141=\"\",\"\",OS!D141)","v":""},null,{"$f":"OS!G141","v":""},{"$f":"IF(OS!H141=\"\",\"\",OS!H141)","v":""},null,{"$f":"SE!C141","v":""},{"$f":"IF(SE!D141=\"\",0,SE!D141)","v":0},{"$f":"IF(SE!E141=\"\",\"\",SE!E141)","v":""},null,{"$f":"SE!H141","v":""},{"$f":"IF(SE!I141=\"\",0,SE!I141)","v":0},{"$f":"IF(SE!J141=\"\",\"\",SE!J141)","v":""},null,{"$f":"BSP!C141","v":""},{"$f":"IF(BSP!D141=\"\",\"\",BSP!D141)","v":""},null,{"$f":"BSP!G141","v":""},{"$f":"IF(BSP!H141=\"\",\"\",BSP!H141)","v":""},null,{"$f":"VS!C141","v":""},{"$f":"IF(VS!D141=\"\",\"\",VS!D141)","v":""},null,{"$f":"VS!G141","v":""},{"$f":"IF(VS!H141=\"\",\"\",VS!H141)","v":""}]
[{"$f":"PS!C142","v":""},{"$f":"IF(PS!D142=\"\",\"\",PS!D142)","v":""},null,{"$f":"PS!G142","v":""},{"$f":"IF(PS!H142=\"\",\"\",PS!H142)","v":""},null,{"$f":"OS!C142","v":""},{"$f":"IF(OS!D142=\"\",\"\",OS!D142)","v":""},null,{"$f":"OS!G142","v":""},{"$f":"IF(OS!H142=\"\",\"\",OS!H142)","v":""},null,{"$f":"SE!C142","v":""},{"$f":"IF(SE!D142=\"\",0,SE!D142)","v":0},{"$f":"IF(SE!E142=\"\",\"\",SE!E142)","v":""},null,{"$f":"SE!H142","v":""},{"$f":"IF(SE!I142=\"\",0,SE!I142)","v":0},{"$f":"IF(SE!J142=\"\",\"\",SE!J142)","v":""},null,{"$f":"BSP!C142","v":""},{"$f":"IF(BSP!D142=\"\",\"\",BSP!D142)","v":""},null,{"$f":"BSP!G142","v":""},{"$f":"IF(BSP!H142=\"\",\"\",BSP!H142)","v":""},null,{"$f":"VS!C142","v":""},{"$f":"IF(VS!D142=\"\",\"\",VS!D142)","v":""},null,{"$f":"VS!G142","v":""},{"$f":"IF(VS!H142=\"\",\"\",VS!H142)","v":""}]
[{"$f":"PS!C143","v":""},{"$f":"IF(PS!D143=\"\",\"\",PS!D143)","v":""},null,{"$f":"PS!G143","v":""},{"$f":"IF(PS!H143=\"\",\"\",PS!H143)","v":""},null,{"$f":"OS!C143","v":""},{"$f":"IF(OS!D143=\"\",\"\",OS!D143)","v":""},null,{"$f":"OS!G143","v":""},{"$f":"IF(OS!H143=\"\",\"\",OS!H143)","v":""},null,{"$f":"SE!C143","v":""},{"$f":"IF(SE!D143=\"\",0,SE!D143)","v":0},{"$f":"IF(SE!E143=\"\",\"\",SE!E143)","v":""},null,{"$f":"SE!H143","v":""},{"$f":"IF(SE!I143=\"\",0,SE!I143)","v":0},{"$f":"IF(SE!J143=\"\",\"\",SE!J143)","v":""},null,{"$f":"BSP!C143","v":""},{"$f":"IF(BSP!D143=\"\",\"\",BSP!D143)","v":""},null,{"$f":"BSP!G143","v":""},{"$f":"IF(BSP!H143=\"\",\"\",BSP!H143)","v":""},null,{"$f":"VS!C143","v":""},{"$f":"IF(VS!D143=\"\",\"\",VS!D143)","v":""},null,{"$f":"VS!G143","v":""},{"$f":"IF(VS!H143=\"\",\"\",VS!H143)","v":""}]
[{"$f":"PS!C144","v":""},{"$f":"IF(PS!D144=\"\",\"\",PS!D144)","v":""},null,{"$f":"PS!G144","v":""},{"$f":"IF(PS!H144=\"\",\"\",PS!H144)","v":""},null,{"$f":"OS!C144","v":""},{"$f":"IF(OS!D144=\"\",\"\",OS!D144)","v":""},null,{"$f":"OS!G144","v":""},{"$f":"IF(OS!H144=\"\",\"\",OS!H144)","v":""},null,{"$f":"SE!C144","v":""},{"$f":"IF(SE!D144=\"\",0,SE!D144)","v":0},{"$f":"IF(SE!E144=\"\",\"\",SE!E144)","v":""},null,{"$f":"SE!H144","v":""},{"$f":"IF(SE!I144=\"\",0,SE!I144)","v":0},{"$f":"IF(SE!J144=\"\",\"\",SE!J144)","v":""},null,{"$f":"BSP!C144","v":""},{"$f":"IF(BSP!D144=\"\",\"\",BSP!D144)","v":""},null,{"$f":"BSP!G144","v":""},{"$f":"IF(BSP!H144=\"\",\"\",BSP!H144)","v":""},null,{"$f":"VS!C144","v":""},{"$f":"IF(VS!D144=\"\",\"\",VS!D144)","v":""},null,{"$f":"VS!G144","v":""},{"$f":"IF(VS!H144=\"\",\"\",VS!H144)","v":""}]
[{"$f":"PS!C145","v":""},{"$f":"IF(PS!D145=\"\",\"\",PS!D145)","v":""},null,{"$f":"PS!G145","v":""},{"$f":"IF(PS!H145=\"\",\"\",PS!H145)","v":""},null,{"$f":"OS!C145","v":""},{"$f":"IF(OS!D145=\"\",\"\",OS!D145)","v":""},null,{"$f":"OS!G145","v":""},{"$f":"IF(OS!H145=\"\",\"\",OS!H145)","v":""},null,{"$f":"SE!C145","v":""},{"$f":"IF(SE!D145=\"\",0,SE!D145)","v":0},{"$f":"IF(SE!E145=\"\",\"\",SE!E145)","v":""},null,{"$f":"SE!H145","v":""},{"$f":"IF(SE!I145=\"\",0,SE!I145)","v":0},{"$f":"IF(SE!J145=\"\",\"\",SE!J145)","v":""},null,{"$f":"BSP!C145","v":""},{"$f":"IF(BSP!D145=\"\",\"\",BSP!D145)","v":""},null,{"$f":"BSP!G145","v":""},{"$f":"IF(BSP!H145=\"\",\"\",BSP!H145)","v":""},null,{"$f":"VS!C145","v":""},{"$f":"IF(VS!D145=\"\",\"\",VS!D145)","v":""},null,{"$f":"VS!G145","v":""},{"$f":"IF(VS!H145=\"\",\"\",VS!H145)","v":""}]
[{"$f":"PS!C146","v":""},{"$f":"IF(PS!D146=\"\",\"\",PS!D146)","v":""},null,{"$f":"PS!G146","v":""},{"$f":"IF(PS!H146=\"\",\"\",PS!H146)","v":""},null,{"$f":"OS!C146","v":""},{"$f":"IF(OS!D146=\"\",\"\",OS!D146)","v":""},null,{"$f":"OS!G146","v":""},{"$f":"IF(OS!H146=\"\",\"\",OS!H146)","v":""},null,{"$f":"SE!C146","v":""},{"$f":"IF(SE!D146=\"\",0,SE!D146)","v":0},{"$f":"IF(SE!E146=\"\",\"\",SE!E146)","v":""},null,{"$f":"SE!H146","v":""},{"$f":"IF(SE!I146=\"\",0,SE!I146)","v":0},{"$f":"IF(SE!J146=\"\",\"\",SE!J146)","v":""},null,{"$f":"BSP!C146","v":""},{"$f":"IF(BSP!D146=\"\",\"\",BSP!D146)","v":""},null,{"$f":"BSP!G146","v":""},{"$f":"IF(BSP!H146=\"\",\"\",BSP!H146)","v":""},null,{"$f":"VS!C146","v":""},{"$f":"IF(VS!D146=\"\",\"\",VS!D146)","v":""},null,{"$f":"VS!G146","v":""},{"$f":"IF(VS!H146=\"\",\"\",VS!H146)","v":""}]
[{"$f":"PS!C147","v":""},{"$f":"IF(PS!D147=\"\",\"\",PS!D147)","v":""},null,{"$f":"PS!G147","v":""},{"$f":"IF(PS!H147=\"\",\"\",PS!H147)","v":""},null,{"$f":"OS!C147","v":""},{"$f":"IF(OS!D147=\"\",\"\",OS!D147)","v":""},null,{"$f":"OS!G147","v":""},{"$f":"IF(OS!H147=\"\",\"\",OS!H147)","v":""},null,{"$f":"SE!C147","v":""},{"$f":"IF(SE!D147=\"\",0,SE!D147)","v":0},{"$f":"IF(SE!E147=\"\",\"\",SE!E147)","v":""},null,{"$f":"SE!H147","v":""},{"$f":"IF(SE!I147=\"\",0,SE!I147)","v":0},{"$f":"IF(SE!J147=\"\",\"\",SE!J147)","v":""},null,{"$f":"BSP!C147","v":""},{"$f":"IF(BSP!D147=\"\",\"\",BSP!D147)","v":""},null,{"$f":"BSP!G147","v":""},{"$f":"IF(BSP!H147=\"\",\"\",BSP!H147)","v":""},null,{"$f":"VS!C147","v":""},{"$f":"IF(VS!D147=\"\",\"\",VS!D147)","v":""},null,{"$f":"VS!G147","v":""},{"$f":"IF(VS!H147=\"\",\"\",VS!H147)","v":""}]
[{"$f":"PS!C148","v":""},{"$f":"IF(PS!D148=\"\",\"\",PS!D148)","v":""},null,{"$f":"PS!G148","v":""},{"$f":"IF(PS!H148=\"\",\"\",PS!H148)","v":""},null,{"$f":"OS!C148","v":""},{"$f":"IF(OS!D148=\"\",\"\",OS!D148)","v":""},null,{"$f":"OS!G148","v":""},{"$f":"IF(OS!H148=\"\",\"\",OS!H148)","v":""},null,{"$f":"SE!C148","v":""},{"$f":"IF(SE!D148=\"\",0,SE!D148)","v":0},{"$f":"IF(SE!E148=\"\",\"\",SE!E148)","v":""},null,{"$f":"SE!H148","v":""},{"$f":"IF(SE!I148=\"\",0,SE!I148)","v":0},{"$f":"IF(SE!J148=\"\",\"\",SE!J148)","v":""},null,{"$f":"BSP!C148","v":""},{"$f":"IF(BSP!D148=\"\",\"\",BSP!D148)","v":""},null,{"$f":"BSP!G148","v":""},{"$f":"IF(BSP!H148=\"\",\"\",BSP!H148)","v":""},null,{"$f":"VS!C148","v":""},{"$f":"IF(VS!D148=\"\",\"\",VS!D148)","v":""},null,{"$f":"VS!G148","v":""},{"$f":"IF(VS!H148=\"\",\"\",VS!H148)","v":""}]
[{"$f":"PS!C149","v":""},{"$f":"IF(PS!D149=\"\",\"\",PS!D149)","v":""},null,{"$f":"PS!G149","v":""},{"$f":"IF(PS!H149=\"\",\"\",PS!H149)","v":""},null,{"$f":"OS!C149","v":""},{"$f":"IF(OS!D149=\"\",\"\",OS!D149)","v":""},null,{"$f":"OS!G149","v":""},{"$f":"IF(OS!H149=\"\",\"\",OS!H149)","v":""},null,{"$f":"SE!C149","v":""},{"$f":"IF(SE!D149=\"\",0,SE!D149)","v":0},{"$f":"IF(SE!E149=\"\",\"\",SE!E149)","v":""},null,{"$f":"SE!H149","v":""},{"$f":"IF(SE!I149=\"\",0,SE!I149)","v":0},{"$f":"IF(SE!J149=\"\",\"\",SE!J149)","v":""},null,{"$f":"BSP!C149","v":""},{"$f":"IF(BSP!D149=\"\",\"\",BSP!D149)","v":""},null,{"$f":"BSP!G149","v":""},{"$f":"IF(BSP!H149=\"\",\"\",BSP!H149)","v":""},null,{"$f":"VS!C149","v":""},{"$f":"IF(VS!D149=\"\",\"\",VS!D149)","v":""},null,{"$f":"VS!G149","v":""},{"$f":"IF(VS!H149=\"\",\"\",VS!H149)","v":""}]
[{"$f":"PS!C150","v":""},{"$f":"IF(PS!D150=\"\",\"\",PS!D150)","v":""},null,{"$f":"PS!G150","v":""},{"$f":"IF(PS!H150=\"\",\"\",PS!H150)","v":""},null,{"$f":"OS!C150","v":""},{"$f":"IF(OS!D150=\"\",\"\",OS!D150)","v":""},null,{"$f":"OS!G150","v":""},{"$f":"IF(OS!H150=\"\",\"\",OS!H150)","v":""},null,{"$f":"SE!C150","v":""},{"$f":"IF(SE!D150=\"\",0,SE!D150)","v":0},{"$f":"IF(SE!E150=\"\",\"\",SE!E150)","v":""},null,{"$f":"SE!H150","v":""},{"$f":"IF(SE!I150=\"\",0,SE!I150)","v":0},{"$f":"IF(SE!J150=\"\",\"\",SE!J150)","v":""},null,{"$f":"BSP!C150","v":""},{"$f":"IF(BSP!D150=\"\",\"\",BSP!D150)","v":""},null,{"$f":"BSP!G150","v":""},{"$f":"IF(BSP!H150=\"\",\"\",BSP!H150)","v":""},null,{"$f":"VS!C150","v":""},{"$f":"IF(VS!D150=\"\",\"\",VS!D150)","v":""},null,{"$f":"VS!G150","v":""},{"$f":"IF(VS!H150=\"\",\"\",VS!H150)","v":""}]
[{"$f":"PS!C151","v":""},{"$f":"IF(PS!D151=\"\",\"\",PS!D151)","v":""},null,{"$f":"PS!G151","v":""},{"$f":"IF(PS!H151=\"\",\"\",PS!H151)","v":""},null,{"$f":"OS!C151","v":""},{"$f":"IF(OS!D151=\"\",\"\",OS!D151)","v":""},null,{"$f":"OS!G151","v":""},{"$f":"IF(OS!H151=\"\",\"\",OS!H151)","v":""},null,{"$f":"SE!C151","v":""},{"$f":"IF(SE!D151=\"\",0,SE!D151)","v":0},{"$f":"IF(SE!E151=\"\",\"\",SE!E151)","v":""},null,{"$f":"SE!H151","v":""},{"$f":"IF(SE!I151=\"\",0,SE!I151)","v":0},{"$f":"IF(SE!J151=\"\",\"\",SE!J151)","v":""},null,{"$f":"BSP!C151","v":""},{"$f":"IF(BSP!D151=\"\",\"\",BSP!D151)","v":""},null,{"$f":"BSP!G151","v":""},{"$f":"IF(BSP!H151=\"\",\"\",BSP!H151)","v":""},null,{"$f":"VS!C151","v":""},{"$f":"IF(VS!D151=\"\",\"\",VS!D151)","v":""},null,{"$f":"VS!G151","v":""},{"$f":"IF(VS!H151=\"\",\"\",VS!H151)","v":""}]
[{"$f":"PS!C152","v":""},{"$f":"IF(PS!D152=\"\",\"\",PS!D152)","v":""},null,{"$f":"PS!G152","v":""},{"$f":"IF(PS!H152=\"\",\"\",PS!H152)","v":""},null,{"$f":"OS!C152","v":""},{"$f":"IF(OS!D152=\"\",\"\",OS!D152)","v":""},null,{"$f":"OS!G152","v":""},{"$f":"IF(OS!H152=\"\",\"\",OS!H152)","v":""},null,{"$f":"SE!C152","v":""},{"$f":"IF(SE!D152=\"\",0,SE!D152)","v":0},{"$f":"IF(SE!E152=\"\",\"\",SE!E152)","v":""},null,{"$f":"SE!H152","v":""},{"$f":"IF(SE!I152=\"\",0,SE!I152)","v":0},{"$f":"IF(SE!J152=\"\",\"\",SE!J152)","v":""},null,{"$f":"BSP!C152","v":""},{"$f":"IF(BSP!D152=\"\",\"\",BSP!D152)","v":""},null,{"$f":"BSP!G152","v":""},{"$f":"IF(BSP!H152=\"\",\"\",BSP!H152)","v":""},null,{"$f":"VS!C152","v":""},{"$f":"IF(VS!D152=\"\",\"\",VS!D152)","v":""},null,{"$f":"VS!G152","v":""},{"$f":"IF(VS!H152=\"\",\"\",VS!H152)","v":""}]
[{"$f":"PS!C153","v":""},{"$f":"IF(PS!D153=\"\",\"\",PS!D153)","v":""},null,{"$f":"PS!G153","v":""},{"$f":"IF(PS!H153=\"\",\"\",PS!H153)","v":""},null,{"$f":"OS!C153","v":""},{"$f":"IF(OS!D153=\"\",\"\",OS!D153)","v":""},null,{"$f":"OS!G153","v":""},{"$f":"IF(OS!H153=\"\",\"\",OS!H153)","v":""},null,{"$f":"SE!C153","v":""},{"$f":"IF(SE!D153=\"\",0,SE!D153)","v":0},{"$f":"IF(SE!E153=\"\",\"\",SE!E153)","v":""},null,{"$f":"SE!H153","v":""},{"$f":"IF(SE!I153=\"\",0,SE!I153)","v":0},{"$f":"IF(SE!J153=\"\",\"\",SE!J153)","v":""},null,{"$f":"BSP!C153","v":""},{"$f":"IF(BSP!D153=\"\",\"\",BSP!D153)","v":""},null,{"$f":"BSP!G153","v":""},{"$f":"IF(BSP!H153=\"\",\"\",BSP!H153)","v":""},null,{"$f":"VS!C153","v":""},{"$f":"IF(VS!D153=\"\",\"\",VS!D153)","v":""},null,{"$f":"VS!G153","v":""},{"$f":"IF(VS!H153=\"\",\"\",VS!H153)","v":""}]
[{"$f":"PS!C154","v":""},{"$f":"IF(PS!D154=\"\",\"\",PS!D154)","v":""},null,{"$f":"PS!G154","v":""},{"$f":"IF(PS!H154=\"\",\"\",PS!H154)","v":""},null,{"$f":"OS!C154","v":""},{"$f":"IF(OS!D154=\"\",\"\",OS!D154)","v":""},null,{"$f":"OS!G154","v":""},{"$f":"IF(OS!H154=\"\",\"\",OS!H154)","v":""},null,{"$f":"SE!C154","v":""},{"$f":"IF(SE!D154=\"\",0,SE!D154)","v":0},{"$f":"IF(SE!E154=\"\",\"\",SE!E154)","v":""},null,{"$f":"SE!H154","v":""},{"$f":"IF(SE!I154=\"\",0,SE!I154)","v":0},{"$f":"IF(SE!J154=\"\",\"\",SE!J154)","v":""},null,{"$f":"BSP!C154","v":""},{"$f":"IF(BSP!D154=\"\",\"\",BSP!D154)","v":""},null,{"$f":"BSP!G154","v":""},{"$f":"IF(BSP!H154=\"\",\"\",BSP!H154)","v":""},null,{"$f":"VS!C154","v":""},{"$f":"IF(VS!D154=\"\",\"\",VS!D154)","v":""},null,{"$f":"VS!G154","v":""},{"$f":"IF(VS!H154=\"\",\"\",VS!H154)","v":""}]
[{"$f":"PS!C155","v":""},{"$f":"IF(PS!D155=\"\",\"\",PS!D155)","v":""},null,{"$f":"PS!G155","v":""},{"$f":"IF(PS!H155=\"\",\"\",PS!H155)","v":""},null,{"$f":"OS!C155","v":""},{"$f":"IF(OS!D155=\"\",\"\",OS!D155)","v":""},null,{"$f":"OS!G155","v":""},{"$f":"IF(OS!H155=\"\",\"\",OS!H155)","v":""},null,{"$f":"SE!C155","v":""},{"$f":"IF(SE!D155=\"\",0,SE!D155)","v":0},{"$f":"IF(SE!E155=\"\",\"\",SE!E155)","v":""},null,{"$f":"SE!H155","v":""},{"$f":"IF(SE!I155=\"\",0,SE!I155)","v":0},{"$f":"IF(SE!J155=\"\",\"\",SE!J155)","v":""},null,{"$f":"BSP!C155","v":""},{"$f":"IF(BSP!D155=\"\",\"\",BSP!D155)","v":""},null,{"$f":"BSP!G155","v":""},{"$f":"IF(BSP!H155=\"\",\"\",BSP!H155)","v":""},null,{"$f":"VS!C155","v":""},{"$f":"IF(VS!D155=\"\",\"\",VS!D155)","v":""},null,{"$f":"VS!G155","v":""},{"$f":"IF(VS!H155=\"\",\"\",VS!H155)","v":""}]
[{"$f":"PS!C156","v":""},{"$f":"IF(PS!D156=\"\",\"\",PS!D156)","v":""},null,{"$f":"PS!G156","v":""},{"$f":"IF(PS!H156=\"\",\"\",PS!H156)","v":""},null,{"$f":"OS!C156","v":""},{"$f":"IF(OS!D156=\"\",\"\",OS!D156)","v":""},null,{"$f":"OS!G156","v":""},{"$f":"IF(OS!H156=\"\",\"\",OS!H156)","v":""},null,{"$f":"SE!C156","v":""},{"$f":"IF(SE!D156=\"\",0,SE!D156)","v":0},{"$f":"IF(SE!E156=\"\",\"\",SE!E156)","v":""},null,{"$f":"SE!H156","v":""},{"$f":"IF(SE!I156=\"\",0,SE!I156)","v":0},{"$f":"IF(SE!J156=\"\",\"\",SE!J156)","v":""},null,{"$f":"BSP!C156","v":""},{"$f":"IF(BSP!D156=\"\",\"\",BSP!D156)","v":""},null,{"$f":"BSP!G156","v":""},{"$f":"IF(BSP!H156=\"\",\"\",BSP!H156)","v":""},null,{"$f":"VS!C156","v":""},{"$f":"IF(VS!D156=\"\",\"\",VS!D156)","v":""},null,{"$f":"VS!G156","v":""},{"$f":"IF(VS!H156=\"\",\"\",VS!H156)","v":""}]
[{"$f":"PS!C157","v":""},{"$f":"IF(PS!D157=\"\",\"\",PS!D157)","v":""},null,{"$f":"PS!G157","v":""},{"$f":"IF(PS!H157=\"\",\"\",PS!H157)","v":""},null,{"$f":"OS!C157","v":""},{"$f":"IF(OS!D157=\"\",\"\",OS!D157)","v":""},null,{"$f":"OS!G157","v":""},{"$f":"IF(OS!H157=\"\",\"\",OS!H157)","v":""},null,{"$f":"SE!C157","v":""},{"$f":"IF(SE!D157=\"\",0,SE!D157)","v":0},{"$f":"IF(SE!E157=\"\",\"\",SE!E157)","v":""},null,{"$f":"SE!H157","v":""},{"$f":"IF(SE!I157=\"\",0,SE!I157)","v":0},{"$f":"IF(SE!J157=\"\",\"\",SE!J157)","v":""},null,{"$f":"BSP!C157","v":""},{"$f":"IF(BSP!D157=\"\",\"\",BSP!D157)","v":""},null,{"$f":"BSP!G157","v":""},{"$f":"IF(BSP!H157=\"\",\"\",BSP!H157)","v":""},null,{"$f":"VS!C157","v":""},{"$f":"IF(VS!D157=\"\",\"\",VS!D157)","v":""},null,{"$f":"VS!G157","v":""},{"$f":"IF(VS!H157=\"\",\"\",VS!H157)","v":""}]
[{"$f":"PS!C158","v":""},{"$f":"IF(PS!D158=\"\",\"\",PS!D158)","v":""},null,{"$f":"PS!G158","v":""},{"$f":"IF(PS!H158=\"\",\"\",PS!H158)","v":""},null,{"$f":"OS!C158","v":""},{"$f":"IF(OS!D158=\"\",\"\",OS!D158)","v":""},null,{"$f":"OS!G158","v":""},{"$f":"IF(OS!H158=\"\",\"\",OS!H158)","v":""},null,{"$f":"SE!C158","v":""},{"$f":"IF(SE!D158=\"\",0,SE!D158)","v":0},{"$f":"IF(SE!E158=\"\",\"\",SE!E158)","v":""},null,{"$f":"SE!H158","v":""},{"$f":"IF(SE!I158=\"\",0,SE!I158)","v":0},{"$f":"IF(SE!J158=\"\",\"\",SE!J158)","v":""},null,{"$f":"BSP!C158","v":""},{"$f":"IF(BSP!D158=\"\",\"\",BSP!D158)","v":""},null,{"$f":"BSP!G158","v":""},{"$f":"IF(BSP!H158=\"\",\"\",BSP!H158)","v":""},null,{"$f":"VS!C158","v":""},{"$f":"IF(VS!D158=\"\",\"\",VS!D158)","v":""},null,{"$f":"VS!G158","v":""},{"$f":"IF(VS!H158=\"\",\"\",VS!H158)","v":""}]
[{"$f":"PS!C159","v":""},{"$f":"IF(PS!D159=\"\",\"\",PS!D159)","v":""},null,{"$f":"PS!G159","v":""},{"$f":"IF(PS!H159=\"\",\"\",PS!H159)","v":""},null,{"$f":"OS!C159","v":""},{"$f":"IF(OS!D159=\"\",\"\",OS!D159)","v":""},null,{"$f":"OS!G159","v":""},{"$f":"IF(OS!H159=\"\",\"\",OS!H159)","v":""},null,{"$f":"SE!C159","v":""},{"$f":"IF(SE!D159=\"\",0,SE!D159)","v":0},{"$f":"IF(SE!E159=\"\",\"\",SE!E159)","v":""},null,{"$f":"SE!H159","v":""},{"$f":"IF(SE!I159=\"\",0,SE!I159)","v":0},{"$f":"IF(SE!J159=\"\",\"\",SE!J159)","v":""},null,{"$f":"BSP!C159","v":""},{"$f":"IF(BSP!D159=\"\",\"\",BSP!D159)","v":""},null,{"$f":"BSP!G159","v":""},{"$f":"IF(BSP!H159=\"\",\"\",BSP!H159)","v":""},null,{"$f":"VS!C159","v":""},{"$f":"IF(VS!D159=\"\",\"\",VS!D159)","v":""},null,{"$f":"VS!G159","v":""},{"$f":"IF(VS!H159=\"\",\"\",VS!H159)","v":""}]
[{"$f":"PS!C160","v":""},{"$f":"IF(PS!D160=\"\",\"\",PS!D160)","v":""},null,{"$f":"PS!G160","v":""},{"$f":"IF(PS!H160=\"\",\"\",PS!H160)","v":""},null,{"$f":"OS!C160","v":""},{"$f":"IF(OS!D160=\"\",\"\",OS!D160)","v":""},null,{"$f":"OS!G160","v":""},{"$f":"IF(OS!H160=\"\",\"\",OS!H160)","v":""},null,{"$f":"SE!C160","v":""},{"$f":"IF(SE!D160=\"\",0,SE!D160)","v":0},{"$f":"IF(SE!E160=\"\",\"\",SE!E160)","v":""},null,{"$f":"SE!H160","v":""},{"$f":"IF(SE!I160=\"\",0,SE!I160)","v":0},{"$f":"IF(SE!J160=\"\",\"\",SE!J160)","v":""},null,{"$f":"BSP!C160","v":""},{"$f":"IF(BSP!D160=\"\",\"\",BSP!D160)","v":""},null,{"$f":"BSP!G160","v":""},{"$f":"IF(BSP!H160=\"\",\"\",BSP!H160)","v":""},null,{"$f":"VS!C160","v":""},{"$f":"IF(VS!D160=\"\",\"\",VS!D160)","v":""},null,{"$f":"VS!G160","v":""},{"$f":"IF(VS!H160=\"\",\"\",VS!H160)","v":""}]
[{"$f":"PS!C161","v":""},{"$f":"IF(PS!D161=\"\",\"\",PS!D161)","v":""},null,{"$f":"PS!G161","v":""},{"$f":"IF(PS!H161=\"\",\"\",PS!H161)","v":""},null,{"$f":"OS!C161","v":""},{"$f":"IF(OS!D161=\"\",\"\",OS!D161)","v":""},null,{"$f":"OS!G161","v":""},{"$f":"IF(OS!H161=\"\",\"\",OS!H161)","v":""},null,{"$f":"SE!C161","v":""},{"$f":"IF(SE!D161=\"\",0,SE!D161)","v":0},{"$f":"IF(SE!E161=\"\",\"\",SE!E161)","v":""},null,{"$f":"SE!H161","v":""},{"$f":"IF(SE!I161=\"\",0,SE!I161)","v":0},{"$f":"IF(SE!J161=\"\",\"\",SE!J161)","v":""},null,{"$f":"BSP!C161","v":""},{"$f":"IF(BSP!D161=\"\",\"\",BSP!D161)","v":""},null,{"$f":"BSP!G161","v":""},{"$f":"IF(BSP!H161=\"\",\"\",BSP!H161)","v":""},null,{"$f":"VS!C161","v":""},{"$f":"IF(VS!D161=\"\",\"\",VS!D161)","v":""},null,{"$f":"VS!G161","v":""},{"$f":"IF(VS!H161=\"\",\"\",VS!H161)","v":""}]
[{"$f":"PS!C162","v":""},{"$f":"IF(PS!D162=\"\",\"\",PS!D162)","v":""},null,{"$f":"PS!G162","v":""},{"$f":"IF(PS!H162=\"\",\"\",PS!H162)","v":""},null,{"$f":"OS!C162","v":""},{"$f":"IF(OS!D162=\"\",\"\",OS!D162)","v":""},null,{"$f":"OS!G162","v":""},{"$f":"IF(OS!H162=\"\",\"\",OS!H162)","v":""},null,{"$f":"SE!C162","v":""},{"$f":"IF(SE!D162=\"\",0,SE!D162)","v":0},{"$f":"IF(SE!E162=\"\",\"\",SE!E162)","v":""},null,{"$f":"SE!H162","v":""},{"$f":"IF(SE!I162=\"\",0,SE!I162)","v":0},{"$f":"IF(SE!J162=\"\",\"\",SE!J162)","v":""},null,{"$f":"BSP!C162","v":""},{"$f":"IF(BSP!D162=\"\",\"\",BSP!D162)","v":""},null,{"$f":"BSP!G162","v":""},{"$f":"IF(BSP!H162=\"\",\"\",BSP!H162)","v":""},null,{"$f":"VS!C162","v":""},{"$f":"IF(VS!D162=\"\",\"\",VS!D162)","v":""},null,{"$f":"VS!G162","v":""},{"$f":"IF(VS!H162=\"\",\"\",VS!H162)","v":""}]
[{"$f":"PS!C163","v":""},{"$f":"IF(PS!D163=\"\",\"\",PS!D163)","v":""},null,{"$f":"PS!G163","v":""},{"$f":"IF(PS!H163=\"\",\"\",PS!H163)","v":""},null,{"$f":"OS!C163","v":""},{"$f":"IF(OS!D163=\"\",\"\",OS!D163)","v":""},null,{"$f":"OS!G163","v":""},{"$f":"IF(OS!H163=\"\",\"\",OS!H163)","v":""},null,{"$f":"SE!C163","v":""},{"$f":"IF(SE!D163=\"\",0,SE!D163)","v":0},{"$f":"IF(SE!E163=\"\",\"\",SE!E163)","v":""},null,{"$f":"SE!H163","v":""},{"$f":"IF(SE!I163=\"\",0,SE!I163)","v":0},{"$f":"IF(SE!J163=\"\",\"\",SE!J163)","v":""},null,{"$f":"BSP!C163","v":""},{"$f":"IF(BSP!D163=\"\",\"\",BSP!D163)","v":""},null,{"$f":"BSP!G163","v":""},{"$f":"IF(BSP!H163=\"\",\"\",BSP!H163)","v":""},null,{"$f":"VS!C163","v":""},{"$f":"IF(VS!D163=\"\",\"\",VS!D163)","v":""},null,{"$f":"VS!G163","v":""},{"$f":"IF(VS!H163=\"\",\"\",VS!H163)","v":""}]
[{"$f":"PS!C164","v":""},{"$f":"IF(PS!D164=\"\",\"\",PS!D164)","v":""},null,{"$f":"PS!G164","v":""},{"$f":"IF(PS!H164=\"\",\"\",PS!H164)","v":""},null,{"$f":"OS!C164","v":""},{"$f":"IF(OS!D164=\"\",\"\",OS!D164)","v":""},null,{"$f":"OS!G164","v":""},{"$f":"IF(OS!H164=\"\",\"\",OS!H164)","v":""},null,{"$f":"SE!C164","v":""},{"$f":"IF(SE!D164=\"\",0,SE!D164)","v":0},{"$f":"IF(SE!E164=\"\",\"\",SE!E164)","v":""},null,{"$f":"SE!H164","v":""},{"$f":"IF(SE!I164=\"\",0,SE!I164)","v":0},{"$f":"IF(SE!J164=\"\",\"\",SE!J164)","v":""},null,{"$f":"BSP!C164","v":""},{"$f":"IF(BSP!D164=\"\",\"\",BSP!D164)","v":""},null,{"$f":"BSP!G164","v":""},{"$f":"IF(BSP!H164=\"\",\"\",BSP!H164)","v":""},null,{"$f":"VS!C164","v":""},{"$f":"IF(VS!D164=\"\",\"\",VS!D164)","v":""},null,{"$f":"VS!G164","v":""},{"$f":"IF(VS!H164=\"\",\"\",VS!H164)","v":""}]
[{"$f":"PS!C165","v":""},{"$f":"IF(PS!D165=\"\",\"\",PS!D165)","v":""},null,{"$f":"PS!G165","v":""},{"$f":"IF(PS!H165=\"\",\"\",PS!H165)","v":""},null,{"$f":"OS!C165","v":""},{"$f":"IF(OS!D165=\"\",\"\",OS!D165)","v":""},null,{"$f":"OS!G165","v":""},{"$f":"IF(OS!H165=\"\",\"\",OS!H165)","v":""},null,{"$f":"SE!C165","v":""},{"$f":"IF(SE!D165=\"\",0,SE!D165)","v":0},{"$f":"IF(SE!E165=\"\",\"\",SE!E165)","v":""},null,{"$f":"SE!H165","v":""},{"$f":"IF(SE!I165=\"\",0,SE!I165)","v":0},{"$f":"IF(SE!J165=\"\",\"\",SE!J165)","v":""},null,{"$f":"BSP!C165","v":""},{"$f":"IF(BSP!D165=\"\",\"\",BSP!D165)","v":""},null,{"$f":"BSP!G165","v":""},{"$f":"IF(BSP!H165=\"\",\"\",BSP!H165)","v":""},null,{"$f":"VS!C165","v":""},{"$f":"IF(VS!D165=\"\",\"\",VS!D165)","v":""},null,{"$f":"VS!G165","v":""},{"$f":"IF(VS!H165=\"\",\"\",VS!H165)","v":""}]
[{"$f":"PS!C166","v":""},{"$f":"IF(PS!D166=\"\",\"\",PS!D166)","v":""},null,{"$f":"PS!G166","v":""},{"$f":"IF(PS!H166=\"\",\"\",PS!H166)","v":""},null,{"$f":"OS!C166","v":""},{"$f":"IF(OS!D166=\"\",\"\",OS!D166)","v":""},null,{"$f":"OS!G166","v":""},{"$f":"IF(OS!H166=\"\",\"\",OS!H166)","v":""},null,{"$f":"SE!C166","v":""},{"$f":"IF(SE!D166=\"\",0,SE!D166)","v":0},{"$f":"IF(SE!E166=\"\",\"\",SE!E166)","v":""},null,{"$f":"SE!H166","v":""},{"$f":"IF(SE!I166=\"\",0,SE!I166)","v":0},{"$f":"IF(SE!J166=\"\",\"\",SE!J166)","v":""},null,{"$f":"BSP!C166","v":""},{"$f":"IF(BSP!D166=\"\",\"\",BSP!D166)","v":""},null,{"$f":"BSP!G166","v":""},{"$f":"IF(BSP!H166=\"\",\"\",BSP!H166)","v":""},null,{"$f":"VS!C166","v":""},{"$f":"IF(VS!D166=\"\",\"\",VS!D166)","v":""},null,{"$f":"VS!G166","v":""},{"$f":"IF(VS!H166=\"\",\"\",VS!H166)","v":""}]
[{"$f":"PS!C167","v":""},{"$f":"IF(PS!D167=\"\",\"\",PS!D167)","v":""},null,{"$f":"PS!G167","v":""},{"$f":"IF(PS!H167=\"\",\"\",PS!H167)","v":""},null,{"$f":"OS!C167","v":""},{"$f":"IF(OS!D167=\"\",\"\",OS!D167)","v":""},null,{"$f":"OS!G167","v":""},{"$f":"IF(OS!H167=\"\",\"\",OS!H167)","v":""},null,{"$f":"SE!C167","v":""},{"$f":"IF(SE!D167=\"\",0,SE!D167)","v":0},{"$f":"IF(SE!E167=\"\",\"\",SE!E167)","v":""},null,{"$f":"SE!H167","v":""},{"$f":"IF(SE!I167=\"\",0,SE!I167)","v":0},{"$f":"IF(SE!J167=\"\",\"\",SE!J167)","v":""},null,{"$f":"BSP!C167","v":""},{"$f":"IF(BSP!D167=\"\",\"\",BSP!D167)","v":""},null,{"$f":"BSP!G167","v":""},{"$f":"IF(BSP!H167=\"\",\"\",BSP!H167)","v":""},null,{"$f":"VS!C167","v":""},{"$f":"IF(VS!D167=\"\",\"\",VS!D167)","v":""},null,{"$f":"VS!G167","v":""},{"$f":"IF(VS!H167=\"\",\"\",VS!H167)","v":""}]
[{"$f":"PS!C168","v":""},{"$f":"IF(PS!D168=\"\",\"\",PS!D168)","v":""},null,{"$f":"PS!G168","v":""},{"$f":"IF(PS!H168=\"\",\"\",PS!H168)","v":""},null,{"$f":"OS!C168","v":""},{"$f":"IF(OS!D168=\"\",\"\",OS!D168)","v":""},null,{"$f":"OS!G168","v":""},{"$f":"IF(OS!H168=\"\",\"\",OS!H168)","v":""},null,{"$f":"SE!C168","v":""},{"$f":"IF(SE!D168=\"\",0,SE!D168)","v":0},{"$f":"IF(SE!E168=\"\",\"\",SE!E168)","v":""},null,{"$f":"SE!H168","v":""},{"$f":"IF(SE!I168=\"\",0,SE!I168)","v":0},{"$f":"IF(SE!J168=\"\",\"\",SE!J168)","v":""},null,{"$f":"BSP!C168","v":""},{"$f":"IF(BSP!D168=\"\",\"\",BSP!D168)","v":""},null,{"$f":"BSP!G168","v":""},{"$f":"IF(BSP!H168=\"\",\"\",BSP!H168)","v":""},null,{"$f":"VS!C168","v":""},{"$f":"IF(VS!D168=\"\",\"\",VS!D168)","v":""},null,{"$f":"VS!G168","v":""},{"$f":"IF(VS!H168=\"\",\"\",VS!H168)","v":""}]
[{"$f":"PS!C169","v":""},{"$f":"IF(PS!D169=\"\",\"\",PS!D169)","v":""},null,{"$f":"PS!G169","v":""},{"$f":"IF(PS!H169=\"\",\"\",PS!H169)","v":""},null,{"$f":"OS!C169","v":""},{"$f":"IF(OS!D169=\"\",\"\",OS!D169)","v":""},null,{"$f":"OS!G169","v":""},{"$f":"IF(OS!H169=\"\",\"\",OS!H169)","v":""},null,{"$f":"SE!C169","v":""},{"$f":"IF(SE!D169=\"\",0,SE!D169)","v":0},{"$f":"IF(SE!E169=\"\",\"\",SE!E169)","v":""},null,{"$f":"SE!H169","v":""},{"$f":"IF(SE!I169=\"\",0,SE!I169)","v":0},{"$f":"IF(SE!J169=\"\",\"\",SE!J169)","v":""},null,{"$f":"BSP!C169","v":""},{"$f":"IF(BSP!D169=\"\",\"\",BSP!D169)","v":""},null,{"$f":"BSP!G169","v":""},{"$f":"IF(BSP!H169=\"\",\"\",BSP!H169)","v":""},null,{"$f":"VS!C169","v":""},{"$f":"IF(VS!D169=\"\",\"\",VS!D169)","v":""},null,{"$f":"VS!G169","v":""},{"$f":"IF(VS!H169=\"\",\"\",VS!H169)","v":""}]
[{"$f":"PS!C170","v":""},{"$f":"IF(PS!D170=\"\",\"\",PS!D170)","v":""},null,{"$f":"PS!G170","v":""},{"$f":"IF(PS!H170=\"\",\"\",PS!H170)","v":""},null,{"$f":"OS!C170","v":""},{"$f":"IF(OS!D170=\"\",\"\",OS!D170)","v":""},null,{"$f":"OS!G170","v":""},{"$f":"IF(OS!H170=\"\",\"\",OS!H170)","v":""},null,{"$f":"SE!C170","v":""},{"$f":"IF(SE!D170=\"\",0,SE!D170)","v":0},{"$f":"IF(SE!E170=\"\",\"\",SE!E170)","v":""},null,{"$f":"SE!H170","v":""},{"$f":"IF(SE!I170=\"\",0,SE!I170)","v":0},{"$f":"IF(SE!J170=\"\",\"\",SE!J170)","v":""},null,{"$f":"BSP!C170","v":""},{"$f":"IF(BSP!D170=\"\",\"\",BSP!D170)","v":""},null,{"$f":"BSP!G170","v":""},{"$f":"IF(BSP!H170=\"\",\"\",BSP!H170)","v":""},null,{"$f":"VS!C170","v":""},{"$f":"IF(VS!D170=\"\",\"\",VS!D170)","v":""},null,{"$f":"VS!G170","v":""},{"$f":"IF(VS!H170=\"\",\"\",VS!H170)","v":""}]
[{"$f":"PS!C171","v":""},{"$f":"IF(PS!D171=\"\",\"\",PS!D171)","v":""},null,{"$f":"PS!G171","v":""},{"$f":"IF(PS!H171=\"\",\"\",PS!H171)","v":""},null,{"$f":"OS!C171","v":""},{"$f":"IF(OS!D171=\"\",\"\",OS!D171)","v":""},null,{"$f":"OS!G171","v":""},{"$f":"IF(OS!H171=\"\",\"\",OS!H171)","v":""},null,{"$f":"SE!C171","v":""},{"$f":"IF(SE!D171=\"\",0,SE!D171)","v":0},{"$f":"IF(SE!E171=\"\",\"\",SE!E171)","v":""},null,{"$f":"SE!H171","v":""},{"$f":"IF(SE!I171=\"\",0,SE!I171)","v":0},{"$f":"IF(SE!J171=\"\",\"\",SE!J171)","v":""},null,{"$f":"BSP!C171","v":""},{"$f":"IF(BSP!D171=\"\",\"\",BSP!D171)","v":""},null,{"$f":"BSP!G171","v":""},{"$f":"IF(BSP!H171=\"\",\"\",BSP!H171)","v":""},null,{"$f":"VS!C171","v":""},{"$f":"IF(VS!D171=\"\",\"\",VS!D171)","v":""},null,{"$f":"VS!G171","v":""},{"$f":"IF(VS!H171=\"\",\"\",VS!H171)","v":""}]
[{"$f":"PS!C172","v":""},{"$f":"IF(PS!D172=\"\",\"\",PS!D172)","v":""},null,{"$f":"PS!G172","v":""},{"$f":"IF(PS!H172=\"\",\"\",PS!H172)","v":""},null,{"$f":"OS!C172","v":""},{"$f":"IF(OS!D172=\"\",\"\",OS!D172)","v":""},null,{"$f":"OS!G172","v":""},{"$f":"IF(OS!H172=\"\",\"\",OS!H172)","v":""},null,{"$f":"SE!C172","v":""},{"$f":"IF(SE!D172=\"\",0,SE!D172)","v":0},{"$f":"IF(SE!E172=\"\",\"\",SE!E172)","v":""},null,{"$f":"SE!H172","v":""},{"$f":"IF(SE!I172=\"\",0,SE!I172)","v":0},{"$f":"IF(SE!J172=\"\",\"\",SE!J172)","v":""},null,{"$f":"BSP!C172","v":""},{"$f":"IF(BSP!D172=\"\",\"\",BSP!D172)","v":""},null,{"$f":"BSP!G172","v":""},{"$f":"IF(BSP!H172=\"\",\"\",BSP!H172)","v":""},null,{"$f":"VS!C172","v":""},{"$f":"IF(VS!D172=\"\",\"\",VS!D172)","v":""},null,{"$f":"VS!G172","v":""},{"$f":"IF(VS!H172=\"\",\"\",VS!H172)","v":""}]
[{"$f":"PS!C173","v":""},{"$f":"IF(PS!D173=\"\",\"\",PS!D173)","v":""},null,{"$f":"PS!G173","v":""},{"$f":"IF(PS!H173=\"\",\"\",PS!H173)","v":""},null,{"$f":"OS!C173","v":""},{"$f":"IF(OS!D173=\"\",\"\",OS!D173)","v":""},null,{"$f":"OS!G173","v":""},{"$f":"IF(OS!H173=\"\",\"\",OS!H173)","v":""},null,{"$f":"SE!C173","v":""},{"$f":"IF(SE!D173=\"\",0,SE!D173)","v":0},{"$f":"IF(SE!E173=\"\",\"\",SE!E173)","v":""},null,{"$f":"SE!H173","v":""},{"$f":"IF(SE!I173=\"\",0,SE!I173)","v":0},{"$f":"IF(SE!J173=\"\",\"\",SE!J173)","v":""},null,{"$f":"BSP!C173","v":""},{"$f":"IF(BSP!D173=\"\",\"\",BSP!D173)","v":""},null,{"$f":"BSP!G173","v":""},{"$f":"IF(BSP!H173=\"\",\"\",BSP!H173)","v":""},null,{"$f":"VS!C173","v":""},{"$f":"IF(VS!D173=\"\",\"\",VS!D173)","v":""},null,{"$f":"VS!G173","v":""},{"$f":"IF(VS!H173=\"\",\"\",VS!H173)","v":""}]
[{"$f":"PS!C174","v":""},{"$f":"IF(PS!D174=\"\",\"\",PS!D174)","v":""},null,{"$f":"PS!G174","v":""},{"$f":"IF(PS!H174=\"\",\"\",PS!H174)","v":""},null,{"$f":"OS!C174","v":""},{"$f":"IF(OS!D174=\"\",\"\",OS!D174)","v":""},null,{"$f":"OS!G174","v":""},{"$f":"IF(OS!H174=\"\",\"\",OS!H174)","v":""},null,{"$f":"SE!C174","v":""},{"$f":"IF(SE!D174=\"\",0,SE!D174)","v":0},{"$f":"IF(SE!E174=\"\",\"\",SE!E174)","v":""},null,{"$f":"SE!H174","v":""},{"$f":"IF(SE!I174=\"\",0,SE!I174)","v":0},{"$f":"IF(SE!J174=\"\",\"\",SE!J174)","v":""},null,{"$f":"BSP!C174","v":""},{"$f":"IF(BSP!D174=\"\",\"\",BSP!D174)","v":""},null,{"$f":"BSP!G174","v":""},{"$f":"IF(BSP!H174=\"\",\"\",BSP!H174)","v":""},null,{"$f":"VS!C174","v":""},{"$f":"IF(VS!D174=\"\",\"\",VS!D174)","v":""},null,{"$f":"VS!G174","v":""},{"$f":"IF(VS!H174=\"\",\"\",VS!H174)","v":""}]
[{"$f":"PS!C175","v":""},{"$f":"IF(PS!D175=\"\",\"\",PS!D175)","v":""},null,{"$f":"PS!G175","v":""},{"$f":"IF(PS!H175=\"\",\"\",PS!H175)","v":""},null,{"$f":"OS!C175","v":""},{"$f":"IF(OS!D175=\"\",\"\",OS!D175)","v":""},null,{"$f":"OS!G175","v":""},{"$f":"IF(OS!H175=\"\",\"\",OS!H175)","v":""},null,{"$f":"SE!C175","v":""},{"$f":"IF(SE!D175=\"\",0,SE!D175)","v":0},{"$f":"IF(SE!E175=\"\",\"\",SE!E175)","v":""},null,{"$f":"SE!H175","v":""},{"$f":"IF(SE!I175=\"\",0,SE!I175)","v":0},{"$f":"IF(SE!J175=\"\",\"\",SE!J175)","v":""},null,{"$f":"BSP!C175","v":""},{"$f":"IF(BSP!D175=\"\",\"\",BSP!D175)","v":""},null,{"$f":"BSP!G175","v":""},{"$f":"IF(BSP!H175=\"\",\"\",BSP!H175)","v":""},null,{"$f":"VS!C175","v":""},{"$f":"IF(VS!D175=\"\",\"\",VS!D175)","v":""},null,{"$f":"VS!G175","v":""},{"$f":"IF(VS!H175=\"\",\"\",VS!H175)","v":""}]
[{"$f":"PS!C176","v":""},{"$f":"IF(PS!D176=\"\",\"\",PS!D176)","v":""},null,{"$f":"PS!G176","v":""},{"$f":"IF(PS!H176=\"\",\"\",PS!H176)","v":""},null,{"$f":"OS!C176","v":""},{"$f":"IF(OS!D176=\"\",\"\",OS!D176)","v":""},null,{"$f":"OS!G176","v":""},{"$f":"IF(OS!H176=\"\",\"\",OS!H176)","v":""},null,{"$f":"SE!C176","v":""},{"$f":"IF(SE!D176=\"\",0,SE!D176)","v":0},{"$f":"IF(SE!E176=\"\",\"\",SE!E176)","v":""},null,{"$f":"SE!H176","v":""},{"$f":"IF(SE!I176=\"\",0,SE!I176)","v":0},{"$f":"IF(SE!J176=\"\",\"\",SE!J176)","v":""},null,{"$f":"BSP!C176","v":""},{"$f":"IF(BSP!D176=\"\",\"\",BSP!D176)","v":""},null,{"$f":"BSP!G176","v":""},{"$f":"IF(BSP!H176=\"\",\"\",BSP!H176)","v":""},null,{"$f":"VS!C176","v":""},{"$f":"IF(VS!D176=\"\",\"\",VS!D176)","v":""},null,{"$f":"VS!G176","v":""},{"$f":"IF(VS!H176=\"\",\"\",VS!H176)","v":""}]
[{"$f":"PS!C177","v":""},{"$f":"IF(PS!D177=\"\",\"\",PS!D177)","v":""},null,{"$f":"PS!G177","v":""},{"$f":"IF(PS!H177=\"\",\"\",PS!H177)","v":""},null,{"$f":"OS!C177","v":""},{"$f":"IF(OS!D177=\"\",\"\",OS!D177)","v":""},null,{"$f":"OS!G177","v":""},{"$f":"IF(OS!H177=\"\",\"\",OS!H177)","v":""},null,{"$f":"SE!C177","v":""},{"$f":"IF(SE!D177=\"\",0,SE!D177)","v":0},{"$f":"IF(SE!E177=\"\",\"\",SE!E177)","v":""},null,{"$f":"SE!H177","v":""},{"$f":"IF(SE!I177=\"\",0,SE!I177)","v":0},{"$f":"IF(SE!J177=\"\",\"\",SE!J177)","v":""},null,{"$f":"BSP!C177","v":""},{"$f":"IF(BSP!D177=\"\",\"\",BSP!D177)","v":""},null,{"$f":"BSP!G177","v":""},{"$f":"IF(BSP!H177=\"\",\"\",BSP!H177)","v":""},null,{"$f":"VS!C177","v":""},{"$f":"IF(VS!D177=\"\",\"\",VS!D177)","v":""},null,{"$f":"VS!G177","v":""},{"$f":"IF(VS!H177=\"\",\"\",VS!H177)","v":""}]
[{"$f":"PS!C178","v":""},{"$f":"IF(PS!D178=\"\",\"\",PS!D178)","v":""},null,{"$f":"PS!G178","v":""},{"$f":"IF(PS!H178=\"\",\"\",PS!H178)","v":""},null,{"$f":"OS!C178","v":""},{"$f":"IF(OS!D178=\"\",\"\",OS!D178)","v":""},null,{"$f":"OS!G178","v":""},{"$f":"IF(OS!H178=\"\",\"\",OS!H178)","v":""},null,{"$f":"SE!C178","v":""},{"$f":"IF(SE!D178=\"\",0,SE!D178)","v":0},{"$f":"IF(SE!E178=\"\",\"\",SE!E178)","v":""},null,{"$f":"SE!H178","v":""},{"$f":"IF(SE!I178=\"\",0,SE!I178)","v":0},{"$f":"IF(SE!J178=\"\",\"\",SE!J178)","v":""},null,{"$f":"BSP!C178","v":""},{"$f":"IF(BSP!D178=\"\",\"\",BSP!D178)","v":""},null,{"$f":"BSP!G178","v":""},{"$f":"IF(BSP!H178=\"\",\"\",BSP!H178)","v":""},null,{"$f":"VS!C178","v":""},{"$f":"IF(VS!D178=\"\",\"\",VS!D178)","v":""},null,{"$f":"VS!G178","v":""},{"$f":"IF(VS!H178=\"\",\"\",VS!H178)","v":""}]
[{"$f":"PS!C179","v":""},{"$f":"IF(PS!D179=\"\",\"\",PS!D179)","v":""},null,{"$f":"PS!G179","v":""},{"$f":"IF(PS!H179=\"\",\"\",PS!H179)","v":""},null,{"$f":"OS!C179","v":""},{"$f":"IF(OS!D179=\"\",\"\",OS!D179)","v":""},null,{"$f":"OS!G179","v":""},{"$f":"IF(OS!H179=\"\",\"\",OS!H179)","v":""},null,{"$f":"SE!C179","v":""},{"$f":"IF(SE!D179=\"\",0,SE!D179)","v":0},{"$f":"IF(SE!E179=\"\",\"\",SE!E179)","v":""},null,{"$f":"SE!H179","v":""},{"$f":"IF(SE!I179=\"\",0,SE!I179)","v":0},{"$f":"IF(SE!J179=\"\",\"\",SE!J179)","v":""},null,{"$f":"BSP!C179","v":""},{"$f":"IF(BSP!D179=\"\",\"\",BSP!D179)","v":""},null,{"$f":"BSP!G179","v":""},{"$f":"IF(BSP!H179=\"\",\"\",BSP!H179)","v":""},null,{"$f":"VS!C179","v":""},{"$f":"IF(VS!D179=\"\",\"\",VS!D179)","v":""},null,{"$f":"VS!G179","v":""},{"$f":"IF(VS!H179=\"\",\"\",VS!H179)","v":""}]
[{"$f":"PS!C180","v":""},{"$f":"IF(PS!D180=\"\",\"\",PS!D180)","v":""},null,{"$f":"PS!G180","v":""},{"$f":"IF(PS!H180=\"\",\"\",PS!H180)","v":""},null,{"$f":"OS!C180","v":""},{"$f":"IF(OS!D180=\"\",\"\",OS!D180)","v":""},null,{"$f":"OS!G180","v":""},{"$f":"IF(OS!H180=\"\",\"\",OS!H180)","v":""},null,{"$f":"SE!C180","v":""},{"$f":"IF(SE!D180=\"\",0,SE!D180)","v":0},{"$f":"IF(SE!E180=\"\",\"\",SE!E180)","v":""},null,{"$f":"SE!H180","v":""},{"$f":"IF(SE!I180=\"\",0,SE!I180)","v":0},{"$f":"IF(SE!J180=\"\",\"\",SE!J180)","v":""},null,{"$f":"BSP!C180","v":""},{"$f":"IF(BSP!D180=\"\",\"\",BSP!D180)","v":""},null,{"$f":"BSP!G180","v":""},{"$f":"IF(BSP!H180=\"\",\"\",BSP!H180)","v":""},null,{"$f":"VS!C180","v":""},{"$f":"IF(VS!D180=\"\",\"\",VS!D180)","v":""},null,{"$f":"VS!G180","v":""},{"$f":"IF(VS!H180=\"\",\"\",VS!H180)","v":""}]
[{"$f":"PS!C181","v":""},{"$f":"IF(PS!D181=\"\",\"\",PS!D181)","v":""},null,{"$f":"PS!G181","v":""},{"$f":"IF(PS!H181=\"\",\"\",PS!H181)","v":""},null,{"$f":"OS!C181","v":""},{"$f":"IF(OS!D181=\"\",\"\",OS!D181)","v":""},null,{"$f":"OS!G181","v":""},{"$f":"IF(OS!H181=\"\",\"\",OS!H181)","v":""},null,{"$f":"SE!C181","v":""},{"$f":"IF(SE!D181=\"\",0,SE!D181)","v":0},{"$f":"IF(SE!E181=\"\",\"\",SE!E181)","v":""},null,{"$f":"SE!H181","v":""},{"$f":"IF(SE!I181=\"\",0,SE!I181)","v":0},{"$f":"IF(SE!J181=\"\",\"\",SE!J181)","v":""},null,{"$f":"BSP!C181","v":""},{"$f":"IF(BSP!D181=\"\",\"\",BSP!D181)","v":""},null,{"$f":"BSP!G181","v":""},{"$f":"IF(BSP!H181=\"\",\"\",BSP!H181)","v":""},null,{"$f":"VS!C181","v":""},{"$f":"IF(VS!D181=\"\",\"\",VS!D181)","v":""},null,{"$f":"VS!G181","v":""},{"$f":"IF(VS!H181=\"\",\"\",VS!H181)","v":""}]
[{"$f":"PS!C182","v":""},{"$f":"IF(PS!D182=\"\",\"\",PS!D182)","v":""},null,{"$f":"PS!G182","v":""},{"$f":"IF(PS!H182=\"\",\"\",PS!H182)","v":""},null,{"$f":"OS!C182","v":""},{"$f":"IF(OS!D182=\"\",\"\",OS!D182)","v":""},null,{"$f":"OS!G182","v":""},{"$f":"IF(OS!H182=\"\",\"\",OS!H182)","v":""},null,{"$f":"SE!C182","v":""},{"$f":"IF(SE!D182=\"\",0,SE!D182)","v":0},{"$f":"IF(SE!E182=\"\",\"\",SE!E182)","v":""},null,{"$f":"SE!H182","v":""},{"$f":"IF(SE!I182=\"\",0,SE!I182)","v":0},{"$f":"IF(SE!J182=\"\",\"\",SE!J182)","v":""},null,{"$f":"BSP!C182","v":""},{"$f":"IF(BSP!D182=\"\",\"\",BSP!D182)","v":""},null,{"$f":"BSP!G182","v":""},{"$f":"IF(BSP!H182=\"\",\"\",BSP!H182)","v":""},null,{"$f":"VS!C182","v":""},{"$f":"IF(VS!D182=\"\",\"\",VS!D182)","v":""},null,{"$f":"VS!G182","v":""},{"$f":"IF(VS!H182=\"\",\"\",VS!H182)","v":""}]
[{"$f":"PS!C183","v":""},{"$f":"IF(PS!D183=\"\",\"\",PS!D183)","v":""},null,{"$f":"PS!G183","v":""},{"$f":"IF(PS!H183=\"\",\"\",PS!H183)","v":""},null,{"$f":"OS!C183","v":""},{"$f":"IF(OS!D183=\"\",\"\",OS!D183)","v":""},null,{"$f":"OS!G183","v":""},{"$f":"IF(OS!H183=\"\",\"\",OS!H183)","v":""},null,{"$f":"SE!C183","v":""},{"$f":"IF(SE!D183=\"\",0,SE!D183)","v":0},{"$f":"IF(SE!E183=\"\",\"\",SE!E183)","v":""},null,{"$f":"SE!H183","v":""},{"$f":"IF(SE!I183=\"\",0,SE!I183)","v":0},{"$f":"IF(SE!J183=\"\",\"\",SE!J183)","v":""},null,{"$f":"BSP!C183","v":""},{"$f":"IF(BSP!D183=\"\",\"\",BSP!D183)","v":""},null,{"$f":"BSP!G183","v":""},{"$f":"IF(BSP!H183=\"\",\"\",BSP!H183)","v":""},null,{"$f":"VS!C183","v":""},{"$f":"IF(VS!D183=\"\",\"\",VS!D183)","v":""},null,{"$f":"VS!G183","v":""},{"$f":"IF(VS!H183=\"\",\"\",VS!H183)","v":""}]
[{"$f":"PS!C184","v":""},{"$f":"IF(PS!D184=\"\",\"\",PS!D184)","v":""},null,{"$f":"PS!G184","v":""},{"$f":"IF(PS!H184=\"\",\"\",PS!H184)","v":""},null,{"$f":"OS!C184","v":""},{"$f":"IF(OS!D184=\"\",\"\",OS!D184)","v":""},null,{"$f":"OS!G184","v":""},{"$f":"IF(OS!H184=\"\",\"\",OS!H184)","v":""},null,{"$f":"SE!C184","v":""},{"$f":"IF(SE!D184=\"\",0,SE!D184)","v":0},{"$f":"IF(SE!E184=\"\",\"\",SE!E184)","v":""},null,{"$f":"SE!H184","v":""},{"$f":"IF(SE!I184=\"\",0,SE!I184)","v":0},{"$f":"IF(SE!J184=\"\",\"\",SE!J184)","v":""},null,{"$f":"BSP!C184","v":""},{"$f":"IF(BSP!D184=\"\",\"\",BSP!D184)","v":""},null,{"$f":"BSP!G184","v":""},{"$f":"IF(BSP!H184=\"\",\"\",BSP!H184)","v":""},null,{"$f":"VS!C184","v":""},{"$f":"IF(VS!D184=\"\",\"\",VS!D184)","v":""},null,{"$f":"VS!G184","v":""},{"$f":"IF(VS!H184=\"\",\"\",VS!H184)","v":""}]
[{"$f":"PS!C185","v":""},{"$f":"IF(PS!D185=\"\",\"\",PS!D185)","v":""},null,{"$f":"PS!G185","v":""},{"$f":"IF(PS!H185=\"\",\"\",PS!H185)","v":""},null,{"$f":"OS!C185","v":""},{"$f":"IF(OS!D185=\"\",\"\",OS!D185)","v":""},null,{"$f":"OS!G185","v":""},{"$f":"IF(OS!H185=\"\",\"\",OS!H185)","v":""},null,{"$f":"SE!C185","v":""},{"$f":"IF(SE!D185=\"\",0,SE!D185)","v":0},{"$f":"IF(SE!E185=\"\",\"\",SE!E185)","v":""},null,{"$f":"SE!H185","v":""},{"$f":"IF(SE!I185=\"\",0,SE!I185)","v":0},{"$f":"IF(SE!J185=\"\",\"\",SE!J185)","v":""},null,{"$f":"BSP!C185","v":""},{"$f":"IF(BSP!D185=\"\",\"\",BSP!D185)","v":""},null,{"$f":"BSP!G185","v":""},{"$f":"IF(BSP!H185=\"\",\"\",BSP!H185)","v":""},null,{"$f":"VS!C185","v":""},{"$f":"IF(VS!D185=\"\",\"\",VS!D185)","v":""},null,{"$f":"VS!G185","v":""},{"$f":"IF(VS!H185=\"\",\"\",VS!H185)","v":""}]
[{"$f":"PS!C186","v":""},{"$f":"IF(PS!D186=\"\",\"\",PS!D186)","v":""},null,{"$f":"PS!G186","v":""},{"$f":"IF(PS!H186=\"\",\"\",PS!H186)","v":""},null,{"$f":"OS!C186","v":""},{"$f":"IF(OS!D186=\"\",\"\",OS!D186)","v":""},null,{"$f":"OS!G186","v":""},{"$f":"IF(OS!H186=\"\",\"\",OS!H186)","v":""},null,{"$f":"SE!C186","v":""},{"$f":"IF(SE!D186=\"\",0,SE!D186)","v":0},{"$f":"IF(SE!E186=\"\",\"\",SE!E186)","v":""},null,{"$f":"SE!H186","v":""},{"$f":"IF(SE!I186=\"\",0,SE!I186)","v":0},{"$f":"IF(SE!J186=\"\",\"\",SE!J186)","v":""},null,{"$f":"BSP!C186","v":""},{"$f":"IF(BSP!D186=\"\",\"\",BSP!D186)","v":""},null,{"$f":"BSP!G186","v":""},{"$f":"IF(BSP!H186=\"\",\"\",BSP!H186)","v":""},null,{"$f":"VS!C186","v":""},{"$f":"IF(VS!D186=\"\",\"\",VS!D186)","v":""},null,{"$f":"VS!G186","v":""},{"$f":"IF(VS!H186=\"\",\"\",VS!H186)","v":""}]
[{"$f":"PS!C187","v":""},{"$f":"IF(PS!D187=\"\",\"\",PS!D187)","v":""},null,{"$f":"PS!G187","v":""},{"$f":"IF(PS!H187=\"\",\"\",PS!H187)","v":""},null,{"$f":"OS!C187","v":""},{"$f":"IF(OS!D187=\"\",\"\",OS!D187)","v":""},null,{"$f":"OS!G187","v":""},{"$f":"IF(OS!H187=\"\",\"\",OS!H187)","v":""},null,{"$f":"SE!C187","v":""},{"$f":"IF(SE!D187=\"\",0,SE!D187)","v":0},{"$f":"IF(SE!E187=\"\",\"\",SE!E187)","v":""},null,{"$f":"SE!H187","v":""},{"$f":"IF(SE!I187=\"\",0,SE!I187)","v":0},{"$f":"IF(SE!J187=\"\",\"\",SE!J187)","v":""},null,{"$f":"BSP!C187","v":""},{"$f":"IF(BSP!D187=\"\",\"\",BSP!D187)","v":""},null,{"$f":"BSP!G187","v":""},{"$f":"IF(BSP!H187=\"\",\"\",BSP!H187)","v":""},null,{"$f":"VS!C187","v":""},{"$f":"IF(VS!D187=\"\",\"\",VS!D187)","v":""},null,{"$f":"VS!G187","v":""},{"$f":"IF(VS!H187=\"\",\"\",VS!H187)","v":""}]
[{"$f":"PS!C188","v":""},{"$f":"IF(PS!D188=\"\",\"\",PS!D188)","v":""},null,{"$f":"PS!G188","v":""},{"$f":"IF(PS!H188=\"\",\"\",PS!H188)","v":""},null,{"$f":"OS!C188","v":""},{"$f":"IF(OS!D188=\"\",\"\",OS!D188)","v":""},null,{"$f":"OS!G188","v":""},{"$f":"IF(OS!H188=\"\",\"\",OS!H188)","v":""},null,{"$f":"SE!C188","v":""},{"$f":"IF(SE!D188=\"\",0,SE!D188)","v":0},{"$f":"IF(SE!E188=\"\",\"\",SE!E188)","v":""},null,{"$f":"SE!H188","v":""},{"$f":"IF(SE!I188=\"\",0,SE!I188)","v":0},{"$f":"IF(SE!J188=\"\",\"\",SE!J188)","v":""},null,{"$f":"BSP!C188","v":""},{"$f":"IF(BSP!D188=\"\",\"\",BSP!D188)","v":""},null,{"$f":"BSP!G188","v":""},{"$f":"IF(BSP!H188=\"\",\"\",BSP!H188)","v":""},null,{"$f":"VS!C188","v":""},{"$f":"IF(VS!D188=\"\",\"\",VS!D188)","v":""},null,{"$f":"VS!G188","v":""},{"$f":"IF(VS!H188=\"\",\"\",VS!H188)","v":""}]
[{"$f":"PS!C189","v":""},{"$f":"IF(PS!D189=\"\",\"\",PS!D189)","v":""},null,{"$f":"PS!G189","v":""},{"$f":"IF(PS!H189=\"\",\"\",PS!H189)","v":""},null,{"$f":"OS!C189","v":""},{"$f":"IF(OS!D189=\"\",\"\",OS!D189)","v":""},null,{"$f":"OS!G189","v":""},{"$f":"IF(OS!H189=\"\",\"\",OS!H189)","v":""},null,{"$f":"SE!C189","v":""},{"$f":"IF(SE!D189=\"\",0,SE!D189)","v":0},{"$f":"IF(SE!E189=\"\",\"\",SE!E189)","v":""},null,{"$f":"SE!H189","v":""},{"$f":"IF(SE!I189=\"\",0,SE!I189)","v":0},{"$f":"IF(SE!J189=\"\",\"\",SE!J189)","v":""},null,{"$f":"BSP!C189","v":""},{"$f":"IF(BSP!D189=\"\",\"\",BSP!D189)","v":""},null,{"$f":"BSP!G189","v":""},{"$f":"IF(BSP!H189=\"\",\"\",BSP!H189)","v":""},null,{"$f":"VS!C189","v":""},{"$f":"IF(VS!D189=\"\",\"\",VS!D189)","v":""},null,{"$f":"VS!G189","v":""},{"$f":"IF(VS!H189=\"\",\"\",VS!H189)","v":""}]
[{"$f":"PS!C190","v":""},{"$f":"IF(PS!D190=\"\",\"\",PS!D190)","v":""},null,{"$f":"PS!G190","v":""},{"$f":"IF(PS!H190=\"\",\"\",PS!H190)","v":""},null,{"$f":"OS!C190","v":""},{"$f":"IF(OS!D190=\"\",\"\",OS!D190)","v":""},null,{"$f":"OS!G190","v":""},{"$f":"IF(OS!H190=\"\",\"\",OS!H190)","v":""},null,{"$f":"SE!C190","v":""},{"$f":"IF(SE!D190=\"\",0,SE!D190)","v":0},{"$f":"IF(SE!E190=\"\",\"\",SE!E190)","v":""},null,{"$f":"SE!H190","v":""},{"$f":"IF(SE!I190=\"\",0,SE!I190)","v":0},{"$f":"IF(SE!J190=\"\",\"\",SE!J190)","v":""},null,{"$f":"BSP!C190","v":""},{"$f":"IF(BSP!D190=\"\",\"\",BSP!D190)","v":""},null,{"$f":"BSP!G190","v":""},{"$f":"IF(BSP!H190=\"\",\"\",BSP!H190)","v":""},null,{"$f":"VS!C190","v":""},{"$f":"IF(VS!D190=\"\",\"\",VS!D190)","v":""},null,{"$f":"VS!G190","v":""},{"$f":"IF(VS!H190=\"\",\"\",VS!H190)","v":""}]
[{"$f":"PS!C191","v":""},{"$f":"IF(PS!D191=\"\",\"\",PS!D191)","v":""},null,{"$f":"PS!G191","v":""},{"$f":"IF(PS!H191=\"\",\"\",PS!H191)","v":""},null,{"$f":"OS!C191","v":""},{"$f":"IF(OS!D191=\"\",\"\",OS!D191)","v":""},null,{"$f":"OS!G191","v":""},{"$f":"IF(OS!H191=\"\",\"\",OS!H191)","v":""},null,{"$f":"SE!C191","v":""},{"$f":"IF(SE!D191=\"\",0,SE!D191)","v":0},{"$f":"IF(SE!E191=\"\",\"\",SE!E191)","v":""},null,{"$f":"SE!H191","v":""},{"$f":"IF(SE!I191=\"\",0,SE!I191)","v":0},{"$f":"IF(SE!J191=\"\",\"\",SE!J191)","v":""},null,{"$f":"BSP!C191","v":""},{"$f":"IF(BSP!D191=\"\",\"\",BSP!D191)","v":""},null,{"$f":"BSP!G191","v":""},{"$f":"IF(BSP!H191=\"\",\"\",BSP!H191)","v":""},null,{"$f":"VS!C191","v":""},{"$f":"IF(VS!D191=\"\",\"\",VS!D191)","v":""},null,{"$f":"VS!G191","v":""},{"$f":"IF(VS!H191=\"\",\"\",VS!H191)","v":""}]
[{"$f":"PS!C192","v":""},{"$f":"IF(PS!D192=\"\",\"\",PS!D192)","v":""},null,{"$f":"PS!G192","v":""},{"$f":"IF(PS!H192=\"\",\"\",PS!H192)","v":""},null,{"$f":"OS!C192","v":""},{"$f":"IF(OS!D192=\"\",\"\",OS!D192)","v":""},null,{"$f":"OS!G192","v":""},{"$f":"IF(OS!H192=\"\",\"\",OS!H192)","v":""},null,{"$f":"SE!C192","v":""},{"$f":"IF(SE!D192=\"\",0,SE!D192)","v":0},{"$f":"IF(SE!E192=\"\",\"\",SE!E192)","v":""},null,{"$f":"SE!H192","v":""},{"$f":"IF(SE!I192=\"\",0,SE!I192)","v":0},{"$f":"IF(SE!J192=\"\",\"\",SE!J192)","v":""},null,{"$f":"BSP!C192","v":""},{"$f":"IF(BSP!D192=\"\",\"\",BSP!D192)","v":""},null,{"$f":"BSP!G192","v":""},{"$f":"IF(BSP!H192=\"\",\"\",BSP!H192)","v":""},null,{"$f":"VS!C192","v":""},{"$f":"IF(VS!D192=\"\",\"\",VS!D192)","v":""},null,{"$f":"VS!G192","v":""},{"$f":"IF(VS!H192=\"\",\"\",VS!H192)","v":""}]
[{"$f":"PS!C193","v":""},{"$f":"IF(PS!D193=\"\",\"\",PS!D193)","v":""},null,{"$f":"PS!G193","v":""},{"$f":"IF(PS!H193=\"\",\"\",PS!H193)","v":""},null,{"$f":"OS!C193","v":""},{"$f":"IF(OS!D193=\"\",\"\",OS!D193)","v":""},null,{"$f":"OS!G193","v":""},{"$f":"IF(OS!H193=\"\",\"\",OS!H193)","v":""},null,{"$f":"SE!C193","v":""},{"$f":"IF(SE!D193=\"\",0,SE!D193)","v":0},{"$f":"IF(SE!E193=\"\",\"\",SE!E193)","v":""},null,{"$f":"SE!H193","v":""},{"$f":"IF(SE!I193=\"\",0,SE!I193)","v":0},{"$f":"IF(SE!J193=\"\",\"\",SE!J193)","v":""},null,{"$f":"BSP!C193","v":""},{"$f":"IF(BSP!D193=\"\",\"\",BSP!D193)","v":""},null,{"$f":"BSP!G193","v":""},{"$f":"IF(BSP!H193=\"\",\"\",BSP!H193)","v":""},null,{"$f":"VS!C193","v":""},{"$f":"IF(VS!D193=\"\",\"\",VS!D193)","v":""},null,{"$f":"VS!G193","v":""},{"$f":"IF(VS!H193=\"\",\"\",VS!H193)","v":""}]
[{"$f":"PS!C194","v":""},{"$f":"IF(PS!D194=\"\",\"\",PS!D194)","v":""},null,{"$f":"PS!G194","v":""},{"$f":"IF(PS!H194=\"\",\"\",PS!H194)","v":""},null,{"$f":"OS!C194","v":""},{"$f":"IF(OS!D194=\"\",\"\",OS!D194)","v":""},null,{"$f":"OS!G194","v":""},{"$f":"IF(OS!H194=\"\",\"\",OS!H194)","v":""},null,{"$f":"SE!C194","v":""},{"$f":"IF(SE!D194=\"\",0,SE!D194)","v":0},{"$f":"IF(SE!E194=\"\",\"\",SE!E194)","v":""},null,{"$f":"SE!H194","v":""},{"$f":"IF(SE!I194=\"\",0,SE!I194)","v":0},{"$f":"IF(SE!J194=\"\",\"\",SE!J194)","v":""},null,{"$f":"BSP!C194","v":""},{"$f":"IF(BSP!D194=\"\",\"\",BSP!D194)","v":""},null,{"$f":"BSP!G194","v":""},{"$f":"IF(BSP!H194=\"\",\"\",BSP!H194)","v":""},null,{"$f":"VS!C194","v":""},{"$f":"IF(VS!D194=\"\",\"\",VS!D194)","v":""},null,{"$f":"VS!G194","v":""},{"$f":"IF(VS!H194=\"\",\"\",VS!H194)","v":""}]
[{"$f":"PS!C195","v":""},{"$f":"IF(PS!D195=\"\",\"\",PS!D195)","v":""},null,{"$f":"PS!G195","v":""},{"$f":"IF(PS!H195=\"\",\"\",PS!H195)","v":""},null,{"$f":"OS!C195","v":""},{"$f":"IF(OS!D195=\"\",\"\",OS!D195)","v":""},null,{"$f":"OS!G195","v":""},{"$f":"IF(OS!H195=\"\",\"\",OS!H195)","v":""},null,{"$f":"SE!C195","v":""},{"$f":"IF(SE!D195=\"\",0,SE!D195)","v":0},{"$f":"IF(SE!E195=\"\",\"\",SE!E195)","v":""},null,{"$f":"SE!H195","v":""},{"$f":"IF(SE!I195=\"\",0,SE!I195)","v":0},{"$f":"IF(SE!J195=\"\",\"\",SE!J195)","v":""},null,{"$f":"BSP!C195","v":""},{"$f":"IF(BSP!D195=\"\",\"\",BSP!D195)","v":""},null,{"$f":"BSP!G195","v":""},{"$f":"IF(BSP!H195=\"\",\"\",BSP!H195)","v":""},null,{"$f":"VS!C195","v":""},{"$f":"IF(VS!D195=\"\",\"\",VS!D195)","v":""},null,{"$f":"VS!G195","v":""},{"$f":"IF(VS!H195=\"\",\"\",VS!H195)","v":""}]
[{"$f":"PS!C196","v":""},{"$f":"IF(PS!D196=\"\",\"\",PS!D196)","v":""},null,{"$f":"PS!G196","v":""},{"$f":"IF(PS!H196=\"\",\"\",PS!H196)","v":""},null,{"$f":"OS!C196","v":""},{"$f":"IF(OS!D196=\"\",\"\",OS!D196)","v":""},null,{"$f":"OS!G196","v":""},{"$f":"IF(OS!H196=\"\",\"\",OS!H196)","v":""},null,{"$f":"SE!C196","v":""},{"$f":"IF(SE!D196=\"\",0,SE!D196)","v":0},{"$f":"IF(SE!E196=\"\",\"\",SE!E196)","v":""},null,{"$f":"SE!H196","v":""},{"$f":"IF(SE!I196=\"\",0,SE!I196)","v":0},{"$f":"IF(SE!J196=\"\",\"\",SE!J196)","v":""},null,{"$f":"BSP!C196","v":""},{"$f":"IF(BSP!D196=\"\",\"\",BSP!D196)","v":""},null,{"$f":"BSP!G196","v":""},{"$f":"IF(BSP!H196=\"\",\"\",BSP!H196)","v":""},null,{"$f":"VS!C196","v":""},{"$f":"IF(VS!D196=\"\",\"\",VS!D196)","v":""},null,{"$f":"VS!G196","v":""},{"$f":"IF(VS!H196=\"\",\"\",VS!H196)","v":""}]
[{"$f":"PS!C197","v":""},{"$f":"IF(PS!D197=\"\",\"\",PS!D197)","v":""},null,{"$f":"PS!G197","v":""},{"$f":"IF(PS!H197=\"\",\"\",PS!H197)","v":""},null,{"$f":"OS!C197","v":""},{"$f":"IF(OS!D197=\"\",\"\",OS!D197)","v":""},null,{"$f":"OS!G197","v":""},{"$f":"IF(OS!H197=\"\",\"\",OS!H197)","v":""},null,{"$f":"SE!C197","v":""},{"$f":"IF(SE!D197=\"\",0,SE!D197)","v":0},{"$f":"IF(SE!E197=\"\",\"\",SE!E197)","v":""},null,{"$f":"SE!H197","v":""},{"$f":"IF(SE!I197=\"\",0,SE!I197)","v":0},{"$f":"IF(SE!J197=\"\",\"\",SE!J197)","v":""},null,{"$f":"BSP!C197","v":""},{"$f":"IF(BSP!D197=\"\",\"\",BSP!D197)","v":""},null,{"$f":"BSP!G197","v":""},{"$f":"IF(BSP!H197=\"\",\"\",BSP!H197)","v":""},null,{"$f":"VS!C197","v":""},{"$f":"IF(VS!D197=\"\",\"\",VS!D197)","v":""},null,{"$f":"VS!G197","v":""},{"$f":"IF(VS!H197=\"\",\"\",VS!H197)","v":""}]
[{"$f":"PS!C198","v":""},{"$f":"IF(PS!D198=\"\",\"\",PS!D198)","v":""},null,{"$f":"PS!G198","v":""},{"$f":"IF(PS!H198=\"\",\"\",PS!H198)","v":""},null,{"$f":"OS!C198","v":""},{"$f":"IF(OS!D198=\"\",\"\",OS!D198)","v":""},null,{"$f":"OS!G198","v":""},{"$f":"IF(OS!H198=\"\",\"\",OS!H198)","v":""},null,{"$f":"SE!C198","v":""},{"$f":"IF(SE!D198=\"\",0,SE!D198)","v":0},{"$f":"IF(SE!E198=\"\",\"\",SE!E198)","v":""},null,{"$f":"SE!H198","v":""},{"$f":"IF(SE!I198=\"\",0,SE!I198)","v":0},{"$f":"IF(SE!J198=\"\",\"\",SE!J198)","v":""},null,{"$f":"BSP!C198","v":""},{"$f":"IF(BSP!D198=\"\",\"\",BSP!D198)","v":""},null,{"$f":"BSP!G198","v":""},{"$f":"IF(BSP!H198=\"\",\"\",BSP!H198)","v":""},null,{"$f":"VS!C198","v":""},{"$f":"IF(VS!D198=\"\",\"\",VS!D198)","v":""},null,{"$f":"VS!G198","v":""},{"$f":"IF(VS!H198=\"\",\"\",VS!H198)","v":""}]
[{"$f":"PS!C199","v":""},{"$f":"IF(PS!D199=\"\",\"\",PS!D199)","v":""},null,{"$f":"PS!G199","v":""},{"$f":"IF(PS!H199=\"\",\"\",PS!H199)","v":""},null,{"$f":"OS!C199","v":""},{"$f":"IF(OS!D199=\"\",\"\",OS!D199)","v":""},null,{"$f":"OS!G199","v":""},{"$f":"IF(OS!H199=\"\",\"\",OS!H199)","v":""},null,{"$f":"SE!C199","v":""},{"$f":"IF(SE!D199=\"\",0,SE!D199)","v":0},{"$f":"IF(SE!E199=\"\",\"\",SE!E199)","v":""},null,{"$f":"SE!H199","v":""},{"$f":"IF(SE!I199=\"\",0,SE!I199)","v":0},{"$f":"IF(SE!J199=\"\",\"\",SE!J199)","v":""},null,{"$f":"BSP!C199","v":""},{"$f":"IF(BSP!D199=\"\",\"\",BSP!D199)","v":""},null,{"$f":"BSP!G199","v":""},{"$f":"IF(BSP!H199=\"\",\"\",BSP!H199)","v":""},null,{"$f":"VS!C199","v":""},{"$f":"IF(VS!D199=\"\",\"\",VS!D199)","v":""},null,{"$f":"VS!G199","v":""},{"$f":"IF(VS!H199=\"\",\"\",VS!H199)","v":""}]
[{"$f":"PS!C200","v":""},{"$f":"IF(PS!D200=\"\",\"\",PS!D200)","v":""},null,{"$f":"PS!G200","v":""},{"$f":"IF(PS!H200=\"\",\"\",PS!H200)","v":""},null,{"$f":"OS!C200","v":""},{"$f":"IF(OS!D200=\"\",\"\",OS!D200)","v":""},null,{"$f":"OS!G200","v":""},{"$f":"IF(OS!H200=\"\",\"\",OS!H200)","v":""},null,{"$f":"SE!C200","v":""},{"$f":"IF(SE!D200=\"\",0,SE!D200)","v":0},{"$f":"IF(SE!E200=\"\",\"\",SE!E200)","v":""},null,{"$f":"SE!H200","v":""},{"$f":"IF(SE!I200=\"\",0,SE!I200)","v":0},{"$f":"IF(SE!J200=\"\",\"\",SE!J200)","v":""},null,{"$f":"BSP!C200","v":""},{"$f":"IF(BSP!D200=\"\",\"\",BSP!D200)","v":""},null,{"$f":"BSP!G200","v":""},{"$f":"IF(BSP!H200=\"\",\"\",BSP!H200)","v":""},null,{"$f":"VS!C200","v":""},{"$f":"IF(VS!D200=\"\",\"\",VS!D200)","v":""},null,{"$f":"VS!G200","v":""},{"$f":"IF(VS!H200=\"\",\"\",VS!H200)","v":""}]
[{"$f":"PS!C201","v":""},{"$f":"IF(PS!D201=\"\",\"\",PS!D201)","v":""},null,{"$f":"PS!G201","v":""},{"$f":"IF(PS!H201=\"\",\"\",PS!H201)","v":""},null,{"$f":"OS!C201","v":""},{"$f":"IF(OS!D201=\"\",\"\",OS!D201)","v":""},null,{"$f":"OS!G201","v":""},{"$f":"IF(OS!H201=\"\",\"\",OS!H201)","v":""},null,{"$f":"SE!C201","v":""},{"$f":"IF(SE!D201=\"\",0,SE!D201)","v":0},{"$f":"IF(SE!E201=\"\",\"\",SE!E201)","v":""},null,{"$f":"SE!H201","v":""},{"$f":"IF(SE!I201=\"\",0,SE!I201)","v":0},{"$f":"IF(SE!J201=\"\",\"\",SE!J201)","v":""},null,{"$f":"BSP!C201","v":""},{"$f":"IF(BSP!D201=\"\",\"\",BSP!D201)","v":""},null,{"$f":"BSP!G201","v":""},{"$f":"IF(BSP!H201=\"\",\"\",BSP!H201)","v":""},null,{"$f":"VS!C201","v":""},{"$f":"IF(VS!D201=\"\",\"\",VS!D201)","v":""},null,{"$f":"VS!G201","v":""},{"$f":"IF(VS!H201=\"\",\"\",VS!H201)","v":""}]
[{"$f":"PS!C202","v":""},{"$f":"IF(PS!D202=\"\",\"\",PS!D202)","v":""},null,{"$f":"PS!G202","v":""},{"$f":"IF(PS!H202=\"\",\"\",PS!H202)","v":""},null,{"$f":"OS!C202","v":""},{"$f":"IF(OS!D202=\"\",\"\",OS!D202)","v":""},null,{"$f":"OS!G202","v":""},{"$f":"IF(OS!H202=\"\",\"\",OS!H202)","v":""},null,{"$f":"SE!C202","v":""},{"$f":"IF(SE!D202=\"\",0,SE!D202)","v":0},{"$f":"IF(SE!E202=\"\",\"\",SE!E202)","v":""},null,{"$f":"SE!H202","v":""},{"$f":"IF(SE!I202=\"\",0,SE!I202)","v":0},{"$f":"IF(SE!J202=\"\",\"\",SE!J202)","v":""},null,{"$f":"BSP!C202","v":""},{"$f":"IF(BSP!D202=\"\",\"\",BSP!D202)","v":""},null,{"$f":"BSP!G202","v":""},{"$f":"IF(BSP!H202=\"\",\"\",BSP!H202)","v":""},null,{"$f":"VS!C202","v":""},{"$f":"IF(VS!D202=\"\",\"\",VS!D202)","v":""},null,{"$f":"VS!G202","v":""},{"$f":"IF(VS!H202=\"\",\"\",VS!H202)","v":""}]
[{"$f":"PS!C203","v":""},{"$f":"IF(PS!D203=\"\",\"\",PS!D203)","v":""},null,{"$f":"PS!G203","v":""},{"$f":"IF(PS!H203=\"\",\"\",PS!H203)","v":""},null,{"$f":"OS!C203","v":""},{"$f":"IF(OS!D203=\"\",\"\",OS!D203)","v":""},null,{"$f":"OS!G203","v":""},{"$f":"IF(OS!H203=\"\",\"\",OS!H203)","v":""},null,{"$f":"SE!C203","v":""},{"$f":"IF(SE!D203=\"\",0,SE!D203)","v":0},{"$f":"IF(SE!E203=\"\",\"\",SE!E203)","v":""},null,{"$f":"SE!H203","v":""},{"$f":"IF(SE!I203=\"\",0,SE!I203)","v":0},{"$f":"IF(SE!J203=\"\",\"\",SE!J203)","v":""},null,{"$f":"BSP!C203","v":""},{"$f":"IF(BSP!D203=\"\",\"\",BSP!D203)","v":""},null,{"$f":"BSP!G203","v":""},{"$f":"IF(BSP!H203=\"\",\"\",BSP!H203)","v":""},null,{"$f":"VS!C203","v":""},{"$f":"IF(VS!D203=\"\",\"\",VS!D203)","v":""},null,{"$f":"VS!G203","v":""},{"$f":"IF(VS!H203=\"\",\"\",VS!H203)","v":""}]
[{"$f":"PS!C204","v":""},{"$f":"IF(PS!D204=\"\",\"\",PS!D204)","v":""},null,{"$f":"PS!G204","v":""},{"$f":"IF(PS!H204=\"\",\"\",PS!H204)","v":""},null,{"$f":"OS!C204","v":""},{"$f":"IF(OS!D204=\"\",\"\",OS!D204)","v":""},null,{"$f":"OS!G204","v":""},{"$f":"IF(OS!H204=\"\",\"\",OS!H204)","v":""},null,{"$f":"SE!C204","v":""},{"$f":"IF(SE!D204=\"\",0,SE!D204)","v":0},{"$f":"IF(SE!E204=\"\",\"\",SE!E204)","v":""},null,{"$f":"SE!H204","v":""},{"$f":"IF(SE!I204=\"\",0,SE!I204)","v":0},{"$f":"IF(SE!J204=\"\",\"\",SE!J204)","v":""},null,{"$f":"BSP!C204","v":""},{"$f":"IF(BSP!D204=\"\",\"\",BSP!D204)","v":""},null,{"$f":"BSP!G204","v":""},{"$f":"IF(BSP!H204=\"\",\"\",BSP!H204)","v":""},null,{"$f":"VS!C204","v":""},{"$f":"IF(VS!D204=\"\",\"\",VS!D204)","v":""},null,{"$f":"VS!G204","v":""},{"$f":"IF(VS!H204=\"\",\"\",VS!H204)","v":""}]

{"sheet":"D","index":10,"n_rows":202,"n_cols":31,"rows_kept":202,"cut":false,"hidden":false,"merged":[[0,23,0,24],[0,26,0,27],[0,29,0,30],[0,12,0,14],[0,16,0,18],[0,0,0,1],[0,3,0,4],[0,6,0,7],[0,9,0,10],[0,20,0,21]]}
["Preisschießen KK",null,null,"Preisschießen LG",null,null,"Ordenschießen KK",null,null,"Ordenschießen LG",null,null,"Schnüre + Eichel schießen KK",null,null,null,"Schnüre + Eichel schießen LG",null,null,null,"Bundesorden",null,null,"Sollepokal",null,null,"Volksbankorden",null,null,"Schinkenschießen"]
["Name:","Teiler:",null,"Name:","Teiler:",null,"Name:","Teiler:",null,"Name:","Teiler:",null,"Name:","Ringe:","schl. Schuss",null,"Name:","Ringe:","schl. Schuss",null,"Name:","Teiler:",null,"Name:","Teiler:",null,"Name:","Teiler:",null,"Name:","Teiler:"]
["","",null,"","",null,"","",null,"","",null,"",0,"",null,"",0,"",null,"","",null,"","",null,"","",null,"",""]
["","",null,"","",null,"","",null,"","",null,"",0,"",null,"",0,"",null,"","",null,"","",null,"","",null,"",""]
["","",null,"","",null,"","",null,"","",null,"",0,"",null,"",0,"",null,"","",null,"","",null,"","",null,"",""]
["","",null,"","",null,"","",null,"","",null,"",0,"",null,"",0,"",null,"","",null,"","",null,"","",null,"",""]
["","",null,"","",null,"","",null,"","",null,"",0,"",null,"",0,"",null,"","",null,"","",null,"","",null,"",""]
["","",null,"","",null,"","",null,"","",null,"",0,"",null,"",0,"",null,"","",null,"","",null,"","",null,"",""]
["","",null,"","",null,"","",null,"","",null,"",0,"",null,"",0,"",null,"","",null,"","",null,"","",null,"",""]
["","",null,"","",null,"","",null,"","",null,"",0,"",null,"",0,"",null,"","",null,"","",null,"","",null,"",""]
["","",null,"","",null,"","",null,"","",null,"",0,"",null,"",0,"",null,"","",null,"","",null,"","",null,"",""]
["","",null,"","",null,"","",null,"","",null,"",0,"",null,"",0,"",null,"","",null,"","",null,"","",null,"",""]
["","",null,"","",null,"","",null,"","",null,"",0,"",null,"",0,"",null,"","",null,"","",null,"","",null,"",""]
["","",null,"","",null,"","",null,"","",null,"",0,"",null,"",0,"",null,"","",null,"","",null,"","",null,"",""]
["","",null,"","",null,"","",null,"","",null,"",0,"",null,"",0,"",null,"","",null,"","",null,"","",null,"",""]
["","",null,"","",null,"","",null,"","",null,"",0,"",null,"",0,"",null,"","",null,"","",null,"","",null,"",""]
["","",null,"","",null,"","",null,"","",null,"",0,"",null,"",0,"",null,"","",null,"","",null,"","",null,"",""]
["","",null,"","",null,"","",null,"","",null,"",0,"",null,"",0,"",null,"","",null,"","",null,"","",null,"",""]
["","",null,"","",null,"","",null,"","",null,"",0,"",null,"",0,"",null,"","",null,"","",null,"","",null,"",""]
["","",null,"","",null,"","",null,"","",null,"",0,"",null,"",0,"",null,"","",null,"","",null,"","",null,"",""]
["","",null,"","",null,"","",null,"","",null,"",0,"",null,"",0,"",null,"","",null,"","",null,"","",null,"",""]
["","",null,"","",null,"","",null,"","",null,"",0,"",null,"",0,"",null,"","",null,"","",null,"","",null,"",""]
["","",null,"","",null,"","",null,"","",null,"",0,"",null,"",0,"",null,"","",null,"","",null,"","",null,"",""]
["","",null,"","",null,"","",null,"","",null,"",0,"",null,"",0,"",null,"","",null,"","",null,"","",null,"",""]
["","",null,"","",null,"","",null,"","",null,"",0,"",null,"",0,"",null,"","",null,"","",null,"","",null,"",""]
["","",null,"","",null,"","",null,"","",null,"",0,"",null,"",0,"",null,"","",null,"","",null,"","",null,"",""]
["","",null,"","",null,"","",null,"","",null,"",0,"",null,"",0,"",null,"","",null,"","",null,"","",null,"",""]
["","",null,"","",null,"","",null,"","",null,"",0,"",null,"",0,"",null,"","",null,"","",null,"","",null,"",""]
["","",null,"","",null,"","",null,"","",null,"",0,"",null,"",0,"",null,"","",null,"","",null,"","",null,"",""]
["","",null,"","",null,"","",null,"","",null,"",0,"",null,"",0,"",null,"","",null,"","",null,"","",null,"",""]
["","",null,"","",null,"","",null,"","",null,"",0,"",null,"",0,"",null,"","",null,"","",null,"","",null,"",""]
["","",null,"","",null,"","",null,"","",null,"",0,"",null,"",0,"",null,"","",null,"","",null,"","",null,"",""]
["","",null,"","",null,"","",null,"","",null,"",0,"",null,"",0,"",null,"","",null,"","",null,"","",null,"",""]
["","",null,"","",null,"","",null,"","",null,"",0,"",null,"",0,"",null,"","",null,"","",null,"","",null,"",""]
["","",null,"","",null,"","",null,"","",null,"",0,"",null,"",0,"",null,"","",null,"","",null,"","",null,"",""]
["","",null,"","",null,"","",null,"","",null,"",0,"",null,"",0,"",null,"","",null,"","",null,"","",null,"",""]
["","",null,"","",null,"","",null,"","",null,"",0,"",null,"",0,"",null,"","",null,"","",null,"","",null,"",""]
["","",null,"","",null,"","",null,"","",null,"",0,"",null,"",0,"",null,"","",null,"","",null,"","",null,"",""]
["","",null,"","",null,"","",null,"","",null,"",0,"",null,"",0,"",null,"","",null,"","",null,"","",null,"",""]
["","",null,"","",null,"","",null,"","",null,"",0,"",null,"",0,"",null,"","",null,"","",null,"","",null,"",""]
["","",null,"","",null,"","",null,"","",null,"",0,"",null,"",0,"",null,"","",null,"","",null,"","",null,"",""]
["","",null,"","",null,"","",null,"","",null,"",0,"",null,"",0,"",null,"","",null,"","",null,"","",null,"",""]
["","",null,"","",null,"","",null,"","",null,"",0,"",null,"",0,"",null,"","",null,"","",null,"","",null,"",""]
["","",null,"","",null,"","",null,"","",null,"",0,"",null,"",0,"",null,"","",null,"","",null,"","",null,"",""]
["","",null,"","",null,"","",null,"","",null,"",0,"",null,"",0,"",null,"","",null,"","",null,"","",null,"",""]
["","",null,"","",null,"","",null,"","",null,"",0,"",null,"",0,"",null,"","",null,"","",null,"","",null,"",""]
["","",null,"","",null,"","",null,"","",null,"",0,"",null,"",0,"",null,"","",null,"","",null,"","",null,"",""]
["","",null,"","",null,"","",null,"","",null,"",0,"",null,"",0,"",null,"","",null,"","",null,"","",null,"",""]
["","",null,"","",null,"","",null,"","",null,"",0,"",null,"",0,"",null,"","",null,"","",null,"","",null,"",""]
["","",null,"","",null,"","",null,"","",null,"",0,"",null,"",0,"",null,"","",null,"","",null,"","",null,"",""]
["","",null,"","",null,"","",null,"","",null,"",0,"",null,"",0,"",null,"","",null,"","",null,"","",null,"",""]
["","",null,"","",null,"","",null,"","",null,"",0,"",null,"",0,"",null,"","",null,"","",null,"","",null,"",""]
["","",null,"","",null,"","",null,"","",null,"",0,"",null,"",0,"",null,"","",null,"","",null,"","",null,"",""]
["","",null,"","",null,"","",null,"","",null,"",0,"",null,"",0,"",null,"","",null,"","",null,"","",null,"",""]
["","",null,"","",null,"","",null,"","",null,"",0,"",null,"",0,"",null,"","",null,"","",null,"","",null,"",""]
["","",null,"","",null,"","",null,"","",null,"",0,"",null,"",0,"",null,"","",null,"","",null,"","",null,"",""]
["","",null,"","",null,"","",null,"","",null,"",0,"",null,"",0,"",null,"","",null,"","",null,"","",null,"",""]
["","",null,"","",null,"","",null,"","",null,"",0,"",null,"",0,"",null,"","",null,"","",null,"","",null,"",""]
["","",null,"","",null,"","",null,"","",null,"",0,"",null,"",0,"",null,"","",null,"","",null,"","",null,"",""]
["","",null,"","",null,"","",null,"","",null,"",0,"",null,"",0,"",null,"","",null,"","",null,"","",null,"",""]
["","",null,"","",null,"","",null,"","",null,"",0,"",null,"",0,"",null,"","",null,"","",null,"","",null,"",""]
["","",null,"","",null,"","",null,"","",null,"",0,"",null,"",0,"",null,"","",null,"","",null,"","",null,"",""]
["","",null,"","",null,"","",null,"","",null,"",0,"",null,"",0,"",null,"","",null,"","",null,"","",null,"",""]
["","",null,"","",null,"","",null,"","",null,"",0,"",null,"",0,"",null,"","",null,"","",null,"","",null,"",""]
["","",null,"","",null,"","",null,"","",null,"",0,"",null,"",0,"",null,"","",null,"","",null,"","",null,"",""]
["","",null,"","",null,"","",null,"","",null,"",0,"",null,"",0,"",null,"","",null,"","",null,"","",null,"",""]
["","",null,"","",null,"","",null,"","",null,"",0,"",null,"",0,"",null,"","",null,"","",null,"","",null,"",""]
["","",null,"","",null,"","",null,"","",null,"",0,"",null,"",0,"",null,"","",null,"","",null,"","",null,"",""]
["","",null,"","",null,"","",null,"","",null,"",0,"",null,"",0,"",null,"","",null,"","",null,"","",null,"",""]
["","",null,"","",null,"","",null,"","",null,"",0,"",null,"",0,"",null,"","",null,"","",null,"","",null,"",""]
["","",null,"","",null,"","",null,"","",null,"",0,"",null,"",0,"",null,"","",null,"","",null,"","",null,"",""]
["","",null,"","",null,"","",null,"","",null,"",0,"",null,"",0,"",null,"","",null,"","",null,"","",null,"",""]
["","",null,"","",null,"","",null,"","",null,"",0,"",null,"",0,"",null,"","",null,"","",null,"","",null,"",""]
["","",null,"","",null,"","",null,"","",null,"",0,"",null,"",0,"",null,"","",null,"","",null,"","",null,"",""]
["","",null,"","",null,"","",null,"","",null,"",0,"",null,"",0,"",null,"","",null,"","",null,"","",null,"",""]
["","",null,"","",null,"","",null,"","",null,"",0,"",null,"",0,"",null,"","",null,"","",null,"","",null,"",""]
["","",null,"","",null,"","",null,"","",null,"",0,"",null,"",0,"",null,"","",null,"","",null,"","",null,"",""]
["","",null,"","",null,"","",null,"","",null,"",0,"",null,"",0,"",null,"","",null,"","",null,"","",null,"",""]
["","",null,"","",null,"","",null,"","",null,"",0,"",null,"",0,"",null,"","",null,"","",null,"","",null,"",""]
["","",null,"","",null,"","",null,"","",null,"",0,"",null,"",0,"",null,"","",null,"","",null,"","",null,"",""]
["","",null,"","",null,"","",null,"","",null,"",0,"",null,"",0,"",null,"","",null,"","",null,"","",null,"",""]
["","",null,"","",null,"","",null,"","",null,"",0,"",null,"",0,"",null,"","",null,"","",null,"","",null,"",""]
["","",null,"","",null,"","",null,"","",null,"",0,"",null,"",0,"",null,"","",null,"","",null,"","",null,"",""]
["","",null,"","",null,"","",null,"","",null,"",0,"",null,"",0,"",null,"","",null,"","",null,"","",null,"",""]
["","",null,"","",null,"","",null,"","",null,"",0,"",null,"",0,"",null,"","",null,"","",null,"","",null,"",""]
["","",null,"","",null,"","",null,"","",null,"",0,"",null,"",0,"",null,"","",null,"","",null,"","",null,"",""]
["","",null,"","",null,"","",null,"","",null,"",0,"",null,"",0,"",null,"","",null,"","",null,"","",null,"",""]
["","",null,"","",null,"","",null,"","",null,"",0,"",null,"",0,"",null,"","",null,"","",null,"","",null,"",""]
["","",null,"","",null,"","",null,"","",null,"",0,"",null,"",0,"",null,"","",null,"","",null,"","",null,"",""]
["","",null,"","",null,"","",null,"","",null,"",0,"",null,"",0,"",null,"","",null,"","",null,"","",null,"",""]
["","",null,"","",null,"","",null,"","",null,"",0,"",null,"",0,"",null,"","",null,"","",null,"","",null,"",""]
["","",null,"","",null,"","",null,"","",null,"",0,"",null,"",0,"",null,"","",null,"","",null,"","",null,"",""]
["","",null,"","",null,"","",null,"","",null,"",0,"",null,"",0,"",null,"","",null,"","",null,"","",null,"",""]
["","",null,"","",null,"","",null,"","",null,"",0,"",null,"",0,"",null,"","",null,"","",null,"","",null,"",""]
["","",null,"","",null,"","",null,"","",null,"",0,"",null,"",0,"",null,"","",null,"","",null,"","",null,"",""]
["","",null,"","",null,"","",null,"","",null,"",0,"",null,"",0,"",null,"","",null,"","",null,"","",null,"",""]
["","",null,"","",null,"","",null,"","",null,"",0,"",null,"",0,"",null,"","",null,"","",null,"","",null,"",""]
["","",null,"","",null,"","",null,"","",null,"",0,"",null,"",0,"",null,"","",null,"","",null,"","",null,"",""]
["","",null,"","",null,"","",null,"","",null,"",0,"",null,"",0,"",null,"","",null,"","",null,"","",null,"",""]
["","",null,"","",null,"","",null,"","",null,"",0,"",null,"",0,"",null,"","",null,"","",null,"","",null,"",""]
["","",null,"","",null,"","",null,"","",null,"",0,"",null,"",0,"",null,"","",null,"","",null,"","",null,"",""]
["","",null,"","",null,"","",null,"","",null,"",0,"",null,"",0,"",null,"","",null,"","",null,"","",null,"",""]
["","",null,"","",null,"","",null,"","",null,"",0,"",null,"",0,"",null,"","",null,"","",null,"","",null,"",""]
["","",null,"","",null,"","",null,"","",null,"",0,"",null,"",0,"",null,"","",null,"","",null,"","",null,"",""]
["","",null,"","",null,"","",null,"","",null,"",0,"",null,"",0,"",null,"","",null,"","",null,"","",null,"",""]
["","",null,"","",null,"","",null,"","",null,"",0,"",null,"",0,"",null,"","",null,"","",null,"","",null,"",""]
["","",null,"","",null,"","",null,"","",null,"",0,"",null,"",0,"",null,"","",null,"","",null,"","",null,"",""]
["","",null,"","",null,"","",null,"","",null,"",0,"",null,"",0,"",null,"","",null,"","",null,"","",null,"",""]
["","",null,"","",null,"","",null,"","",null,"",0,"",null,"",0,"",null,"","",null,"","",null,"","",null,"",""]
["","",null,"","",null,"","",null,"","",null,"",0,"",null,"",0,"",null,"","",null,"","",null,"","",null,"",""]
["","",null,"","",null,"","",null,"","",null,"",0,"",null,"",0,"",null,"","",null,"","",null,"","",null,"",""]
["","",null,"","",null,"","",null,"","",null,"",0,"",null,"",0,"",null,"","",null,"","",null,"","",null,"",""]
["","",null,"","",null,"","",null,"","",null,"",0,"",null,"",0,"",null,"","",null,"","",null,"","",null,"",""]
["","",null,"","",null,"","",null,"","",null,"",0,"",null,"",0,"",null,"","",null,"","",null,"","",null,"",""]
["","",null,"","",null,"","",null,"","",null,"",0,"",null,"",0,"",null,"","",null,"","",null,"","",null,"",""]
["","",null,"","",null,"","",null,"","",null,"",0,"",null,"",0,"",null,"","",null,"","",null,"","",null,"",""]
["","",null,"","",null,"","",null,"","",null,"",0,"",null,"",0,"",null,"","",null,"","",null,"","",null,"",""]
["","",null,"","",null,"","",null,"","",null,"",0,"",null,"",0,"",null,"","",null,"","",null,"","",null,"",""]
["","",null,"","",null,"","",null,"","",null,"",0,"",null,"",0,"",null,"","",null,"","",null,"","",null,"",""]
["","",null,"","",null,"","",null,"","",null,"",0,"",null,"",0,"",null,"","",null,"","",null,"","",null,"",""]
["","",null,"","",null,"","",null,"","",null,"",0,"",null,"",0,"",null,"","",null,"","",null,"","",null,"",""]
["","",null,"","",null,"","",null,"","",null,"",0,"",null,"",0,"",null,"","",null,"","",null,"","",null,"",""]
["","",null,"","",null,"","",null,"","",null,"",0,"",null,"",0,"",null,"","",null,"","",null,"","",null,"",""]
["","",null,"","",null,"","",null,"","",null,"",0,"",null,"",0,"",null,"","",null,"","",null,"","",null,"",""]
["","",null,"","",null,"","",null,"","",null,"",0,"",null,"",0,"",null,"","",null,"","",null,"","",null,"",""]
["","",null,"","",null,"","",null,"","",null,"",0,"",null,"",0,"",null,"","",null,"","",null,"","",null,"",""]
["","",null,"","",null,"","",null,"","",null,"",0,"",null,"",0,"",null,"","",null,"","",null,"","",null,"",""]
["","",null,"","",null,"","",null,"","",null,"",0,"",null,"",0,"",null,"","",null,"","",null,"","",null,"",""]
["","",null,"","",null,"","",null,"","",null,"",0,"",null,"",0,"",null,"","",null,"","",null,"","",null,"",""]
["","",null,"","",null,"","",null,"","",null,"",0,"",null,"",0,"",null,"","",null,"","",null,"","",null,"",""]
["","",null,"","",null,"","",null,"","",null,"",0,"",null,"",0,"",null,"","",null,"","",null,"","",null,"",""]
["","",null,"","",null,"","",null,"","",null,"",0,"",null,"",0,"",null,"","",null,"","",null,"","",null,"",""]
["","",null,"","",null,"","",null,"","",null,"",0,"",null,"",0,"",null,"","",null,"","",null,"","",null,"",""]
["","",null,"","",null,"","",null,"","",null,"",0,"",null,"",0,"",null,"","",null,"","",null,"","",null,"",""]
["","",null,"","",null,"","",null,"","",null,"",0,"",null,"",0,"",null,"","",null,"","",null,"","",null,"",""]
["","",null,"","",null,"","",null,"","",null,"",0,"",null,"",0,"",null,"","",null,"","",null,"","",null,"",""]
["","",null,"","",null,"","",null,"","",null,"",0,"",null,"",0,"",null,"","",null,"","",null,"","",null,"",""]
["","",null,"","",null,"","",null,"","",null,"",0,"",null,"",0,"",null,"","",null,"","",null,"","",null,"",""]
["","",null,"","",null,"","",null,"","",null,"",0,"",null,"",0,"",null,"","",null,"","",null,"","",null,"",""]
["","",null,"","",null,"","",null,"","",null,"",0,"",null,"",0,"",null,"","",null,"","",null,"","",null,"",""]
["","",null,"","",null,"","",null,"","",null,"",0,"",null,"",0,"",null,"","",null,"","",null,"","",null,"",""]
["","",null,"","",null,"","",null,"","",null,"",0,"",null,"",0,"",null,"","",null,"","",null,"","",null,"",""]
["","",null,"","",null,"","",null,"","",null,"",0,"",null,"",0,"",null,"","",null,"","",null,"","",null,"",""]
["","",null,"","",null,"","",null,"","",null,"",0,"",null,"",0,"",null,"","",null,"","",null,"","",null,"",""]
["","",null,"","",null,"","",null,"","",null,"",0,"",null,"",0,"",null,"","",null,"","",null,"","",null,"",""]
["","",null,"","",null,"","",null,"","",null,"",0,"",null,"",0,"",null,"","",null,"","",null,"","",null,"",""]
["","",null,"","",null,"","",null,"","",null,"",0,"",null,"",0,"",null,"","",null,"","",null,"","",null,"",""]
["","",null,"","",null,"","",null,"","",null,"",0,"",null,"",0,"",null,"","",null,"","",null,"","",null,"",""]
["","",null,"","",null,"","",null,"","",null,"",0,"",null,"",0,"",null,"","",null,"","",null,"","",null,"",""]
["","",null,"","",null,"","",null,"","",null,"",0,"",null,"",0,"",null,"","",null,"","",null,"","",null,"",""]
["","",null,"","",null,"","",null,"","",null,"",0,"",null,"",0,"",null,"","",null,"","",null,"","",null,"",""]
["","",null,"","",null,"","",null,"","",null,"",0,"",null,"",0,"",null,"","",null,"","",null,"","",null,"",""]
["","",null,"","",null,"","",null,"","",null,"",0,"",null,"",0,"",null,"","",null,"","",null,"","",null,"",""]
["","",null,"","",null,"","",null,"","",null,"",0,"",null,"",0,"",null,"","",null,"","",null,"","",null,"",""]
["","",null,"","",null,"","",null,"","",null,"",0,"",null,"",0,"",null,"","",null,"","",null,"","",null,"",""]
["","",null,"","",null,"","",null,"","",null,"",0,"",null,"",0,"",null,"","",null,"","",null,"","",null,"",""]
["","",null,"","",null,"","",null,"","",null,"",0,"",null,"",0,"",null,"","",null,"","",null,"","",null,"",""]
["","",null,"","",null,"","",null,"","",null,"",0,"",null,"",0,"",null,"","",null,"","",null,"","",null,"",""]
["","",null,"","",null,"","",null,"","",null,"",0,"",null,"",0,"",null,"","",null,"","",null,"","",null,"",""]
["","",null,"","",null,"","",null,"","",null,"",0,"",null,"",0,"",null,"","",null,"","",null,"","",null,"",""]
["","",null,"","",null,"","",null,"","",null,"",0,"",null,"",0,"",null,"","",null,"","",null,"","",null,"",""]
["","",null,"","",null,"","",null,"","",null,"",0,"",null,"",0,"",null,"","",null,"","",null,"","",null,"",""]
["","",null,"","",null,"","",null,"","",null,"",0,"",null,"",0,"",null,"","",null,"","",null,"","",null,"",""]
["","",null,"","",null,"","",null,"","",null,"",0,"",null,"",0,"",null,"","",null,"","",null,"","",null,"",""]
["","",null,"","",null,"","",null,"","",null,"",0,"",null,"",0,"",null,"","",null,"","",null,"","",null,"",""]
["","",null,"","",null,"","",null,"","",null,"",0,"",null,"",0,"",null,"","",null,"","",null,"","",null,"",""]
["","",null,"","",null,"","",null,"","",null,"",0,"",null,"",0,"",null,"","",null,"","",null,"","",null,"",""]
["","",null,"","",null,"","",null,"","",null,"",0,"",null,"",0,"",null,"","",null,"","",null,"","",null,"",""]
["","",null,"","",null,"","",null,"","",null,"",0,"",null,"",0,"",null,"","",null,"","",null,"","",null,"",""]
["","",null,"","",null,"","",null,"","",null,"",0,"",null,"",0,"",null,"","",null,"","",null,"","",null,"",""]
["","",null,"","",null,"","",null,"","",null,"",0,"",null,"",0,"",null,"","",null,"","",null,"","",null,"",""]
["","",null,"","",null,"","",null,"","",null,"",0,"",null,"",0,"",null,"","",null,"","",null,"","",null,"",""]
["","",null,"","",null,"","",null,"","",null,"",0,"",null,"",0,"",null,"","",null,"","",null,"","",null,"",""]
["","",null,"","",null,"","",null,"","",null,"",0,"",null,"",0,"",null,"","",null,"","",null,"","",null,"",""]
["","",null,"","",null,"","",null,"","",null,"",0,"",null,"",0,"",null,"","",null,"","",null,"","",null,"",""]
["","",null,"","",null,"","",null,"","",null,"",0,"",null,"",0,"",null,"","",null,"","",null,"","",null,"",""]
["","",null,"","",null,"","",null,"","",null,"",0,"",null,"",0,"",null,"","",null,"","",null,"","",null,"",""]
["","",null,"","",null,"","",null,"","",null,"",0,"",null,"",0,"",null,"","",null,"","",null,"","",null,"",""]
["","",null,"","",null,"","",null,"","",null,"",0,"",null,"",0,"",null,"","",null,"","",null,"","",null,"",""]
["","",null,"","",null,"","",null,"","",null,"",0,"",null,"",0,"",null,"","",null,"","",null,"","",null,"",""]
["","",null,"","",null,"","",null,"","",null,"",0,"",null,"",0,"",null,"","",null,"","",null,"","",null,"",""]
["","",null,"","",null,"","",null,"","",null,"",0,"",null,"",0,"",null,"","",null,"","",null,"","",null,"",""]
["","",null,"","",null,"","",null,"","",null,"",0,"",null,"",0,"",null,"","",null,"","",null,"","",null,"",""]
["","",null,"","",null,"","",null,"","",null,"",0,"",null,"",0,"",null,"","",null,"","",null,"","",null,"",""]
["","",null,"","",null,"","",null,"","",null,"",0,"",null,"",0,"",null,"","",null,"","",null,"","",null,"",""]
["","",null,"","",null,"","",null,"","",null,"",0,"",null,"",0,"",null,"","",null,"","",null,"","",null,"",""]
["","",null,"","",null,"","",null,"","",null,"",0,"",null,"",0,"",null,"","",null,"","",null,"","",null,"",""]
["","",null,"","",null,"","",null,"","",null,"",0,"",null,"",0,"",null,"","",null,"","",null,"","",null,"",""]
["","",null,"","",null,"","",null,"","",null,"",0,"",null,"",0,"",null,"","",null,"","",null,"","",null,"",""]
["","",null,"","",null,"","",null,"","",null,"",0,"",null,"",0,"",null,"","",null,"","",null,"","",null,"",""]
["","",null,"","",null,"","",null,"","",null,"",0,"",null,"",0,"",null,"","",null,"","",null,"","",null,"",""]
["","",null,"","",null,"","",null,"","",null,"",0,"",null,"",0,"",null,"","",null,"","",null,"","",null,"",""]
["","",null,"","",null,"","",null,"","",null,"",0,"",null,"",0,"",null,"","",null,"","",null,"","",null,"",""]
["","",null,"","",null,"","",null,"","",null,"",0,"",null,"",0,"",null,"","",null,"","",null,"","",null,"",""]
["","",null,"","",null,"","",null,"","",null,"",0,"",null,"",0,"",null,"","",null,"","",null,"","",null,"",""]
["","",null,"","",null,"","",null,"","",null,"",0,"",null,"",0,"",null,"","",null,"","",null,"","",null,"",""]
["","",null,"","",null,"","",null,"","",null,"",0,"",null,"",0,"",null,"","",null,"","",null,"","",null,"",""]
["","",null,"","",null,"","",null,"","",null,"",0,"",null,"",0,"",null,"","",null,"","",null,"","",null,"",""]
["","",null,"","",null,"","",null,"","",null,"",0,"",null,"",0,"",null,"","",null,"","",null,"","",null,"",""]
["","",null,"","",null,"","",null,"","",null,"",0,"",null,"",0,"",null,"","",null,"","",null,"","",null,"",""]
["","",null,"","",null,"","",null,"","",null,"",0,"",null,"",0,"",null,"","",null,"","",null,"","",null,"",""]
["","",null,"","",null,"","",null,"","",null,"",0,"",null,"",0,"",null,"","",null,"","",null,"","",null,"",""]

{"sheet":"Kasse","index":11,"n_rows":25,"n_cols":4,"rows_kept":25,"cut":false,"hidden":false,"merged":[[0,0,0,3]]}
["Kassen-/ und Verkaufsübersicht"]
[]
[null,"gesamt Einnahmen Schützenfest:",{"$f":"HM!D216","v":0},"Anzahl Schützen"]
[null,"Einnahmen Preisschießen KK:",{"$f":"HM!D214","v":0},{"$f":"COUNTA(HM!B10:B209)-D6","v":0}]
[null,"Einnahmen Preisschießen LG:",{"$f":"HM!D215","v":0},"Anzahl Gäste"]
[null,"Einnahmen Munition:",{"$f":"HM!D213","v":0},{"$f":"COUNTIF(HM!X10:X209,1)","v":0}]
[null,"Einnahmen Orden KK:",{"$f":"HM!J211*HM!D242","v":0}]
[null,"Einnahmen Orden LG:",{"$f":"HM!K211*HM!D243","v":0}]
[]
[]
[null,"gelöste Scheiben:","gelöst:","Einnahmen:"]
[null,"Munition \"RWS\"",{"$f":"HM!D211","v":0},{"$f":"C12*HM!D236","v":0}]
[null,"Preisschießen KK",{"$f":"HM!E211","v":0},{"$f":"C13*HM!D237","v":0}]
[null,"Preisscheiben KK (nachgelöst)",{"$f":"HM!F211","v":0},{"$f":"C14*HM!D238","v":0}]
[null,"Preisschießen LG (bis 21 Jahre)",{"$f":"HM!G211","v":0},{"$f":"C15*HM!D241","v":0}]
[null,"Gästepreisschießen KK",{"$f":"HM!H211","v":0},{"$f":"C16*HM!D239","v":0}]
[null,"Gästepreisschießen KK (nachgelöst)",{"$f":"HM!I211","v":0},{"$f":"C17*HM!D240","v":0}]
[null,"Ordenschießen KK (min. 3 Satz)",{"$f":"HM!J211","v":0},{"$f":"C18*HM!D242","v":0}]
[null,"Ordenschießen LG (bis 21 Jahre)",{"$f":"HM!K211","v":0},{"$f":"C19*HM!D243","v":0}]
[null,"Bundesorden (5 Scheiben)",{"$f":"HM!L211","v":0},{"$f":"C20*HM!D244","v":0}]
[null,"Sollepokal (min. 3 Satz)",{"$f":"HM!M211","v":0},{"$f":"C21*HM!D245","v":0}]
[null,"Schnüre und Eicheln - KK (einmal lösbar)",{"$f":"HM!N211","v":0},{"$f":"C22*HM!D246","v":0}]
[null,"Schnüre und Eicheln - LG (einmal lösbar)",{"$f":"HM!O211","v":0},{"$f":"C23*HM!D247","v":0}]
[null,"Volksbankorden (5 Scheiben)",{"$f":"HM!P211","v":0},{"$f":"C24*HM!D248","v":0}]
[null,"Volkskönigsschießen - KK",{"$f":"HM!Q211","v":0},{"$f":"C25*HM!D249","v":0}]

{"sheet":"Info","index":12,"n_rows":1,"n_cols":1,"rows_kept":1,"cut":false,"hidden":false,"merged":[[0,0,3,8]]}
["Informationen zum \nSchießbetrieb beim Schützenfest"]