{"text_format":"1","workbook":"xlsx","n_sheets":2,"sheets":["Teilnehmer","Vogelschiessen"],"not_rendered":{"charts":0,"images":7,"macros":1,"external_links":0,"defined_names":3,"comments":0,"pivot_tables":0},"unopened":[],"bounds":{"document_bytes":16777216,"sheet_cells":100000,"rows_first":2000,"rows_last":500,"rows_between":2000,"halvings":0,"cell_chars":16384,"cell_head_chars":4096},"cells_cut":0,"cells_raw":0,"read":"whole","date_system":"1900"}

{"sheet":"Teilnehmer","index":0,"n_rows":108,"n_cols":11,"rows_kept":108,"cut":false,"hidden":false,"merged":[[0,0,0,13],[6,10,6,19],[5,8,5,11],[3,8,4,11],[1,1,1,3],[2,1,2,3],[3,1,3,3],[4,1,4,3],[7,10,7,19],[1,5,1,7],[2,5,2,7],[3,5,3,7],[4,5,4,7],[7,3,7,7],[6,3,6,7],[5,5,5,6],[5,1,5,3],[6,1,6,2],[12,3,12,7],[12,10,12,19],[13,3,13,7],[13,10,13,19],[8,10,8,19],[9,3,9,7],[9,10,9,19],[10,3,10,7],[10,10,10,19],[8,3,8,7],[11,3,11,7],[11,10,11,19],[17,3,17,7],[17,10,17,19],[18,3,18,7],[18,10,18,19],[14,10,14,19],[15,3,15,7],[15,10,15,19],[16,3,16,7],[16,10,16,19],[14,3,14,7],[21,3,21,7],[21,10,21,19],[22,3,22,7],[22,10,22,19],[19,3,19,7],[19,10,19,19],[20,3,20,7],[20,10,20,19],[25,3,25,7],[25,10,25,19],[26,3,26,7],[26,10,26,19],[23,3,23,7],[23,10,23,19],[24,3,24,7],[24,10,24,19],[29,3,29,7],[29,10,29,19],[30,3,30,7],[30,10,30,19],[27,3,27,7],[27,10,27,19],[28,3,28,7],[28,10,28,19],[33,3,33,7],[33,10,33,19],[34,3,34,7],[34,10,34,19],[31,3,31,7],[31,10,31,19],[32,3,32,7],[32,10,32,19],[37,3,37,7],[37,10,37,19],[38,3,38,7],[38,10,38,19],[35,3,35,7],[35,10,35,19],[36,3,36,7],[36,10,36,19],[41,3,41,7],[41,10,41,19],[42,3,42,7],[42,10,42,19],[39,3,39,7],[39,10,39,19],[40,3,40,7],[40,10,40,19],[45,3,45,7],[45,10,45,19],[46,3,46,7],[46,10,46,19],[43,3,43,7],[43,10,43,19],[44,3,44,7],[44,10,44,19],[49,3,49,7],[49,10,49,19],[50,3,50,7],[50,10,50,19],[47,3,47,7],[47,10,47,19],[48,3,48,7],[48,10,48,19],[53,3,53,7],[53,10,53,19],[54,3,54,7],[54,10,54,19],[51,3,51,7],[51,10,51,19],[52,3,52,7],[52,10,52,19],[57,3,57,7],[57,10,57,19],[58,3,58,7],[58,10,58,19],[55,3,55,7],[55,10,55,19],[56,3,56,7],[56,10,56,19],[61,3,61,7],[61,10,61,19],[62,3,62,7],[62,10,62,19],[59,3,59,7],[59,10,59,19],[60,3,60,7],[60,10,60,19],[65,3,65,7],[65,10,65,19],[66,3,66,7],[66,10,66,19],[63,3,63,7],[63,10,63,19],[64,3,64,7],[64,10,64,19]]}
[{"$f":"CONCATENATE(\"Vogelschiessen\",\" \",YEAR(I6))","v":"Vogelschiessen 2014"}]
[1,"Zepter",null,null,6,"Kopf"]
[2,"Reichsapfel",null,null,7,"rechter Flügel"]
[3,"Schwanz",null,null,8,"linker Flügel",null,null,"Datum:"]
[4,"rechte Kralle",null,null,9,"Rumpf"]
[5,"linke Kralle",null,null,null,null,null,null,"2014-01-16"]
["Lfd.","Code",null,"Vor-/ Nachname:",null,null,null,null,null,null,"Strichliste der Duchgänge/Einzelschüsse"]
[1,null,null,null,null,null,null,null,null,null,{"$f":"SUBSTITUTE(REPT(\"|\",J8),\"|||||\",\"|||||-\")","v":""}]
[2,null,null,null,null,null,null,null,null,null,{"$f":"SUBSTITUTE(REPT(\"|\",J9),\"|||||\",\"|||||-\")","v":""}]
[3,null,null,null,null,null,null,null,null,null,{"$f":"SUBSTITUTE(REPT(\"|\",J10),\"|||||\",\"|||||-\")","v":""}]
[4,null,null,null,null,null,null,null,null,null,{"$f":"SUBSTITUTE(REPT(\"|\",J11),\"|||||\",\"|||||-\")","v":""}]
[5,null,null,null,null,null,null,null,null,null,""]
[6,null,null,null,null,null,null,null,null,null,""]
[7,null,null,null,null,null,null,null,null,null,""]
[8,null,null,null,null,null,null,null,null,null,""]
[9,null,null,null,null,null,null,null,null,null,""]
[10,null,null,null,null,null,null,null,null,null,""]
[11,null,null,null,null,null,null,null,null,null,""]
[12,null,null,null,null,null,null,null,null,null,""]
[13,null,null,null,null,null,null,null,null,null,""]
[14,null,null,null,null,null,null,null,null,null,""]
[15,null,null,null,null,null,null,null,null,null,""]
[16,null,null,null,null,null,null,null,null,null,""]
[17,null,null,null,null,null,null,null,null,null,""]
[18,null,null,null,null,null,null,null,null,null,""]
[19,null,null,null,null,null,null,null,null,null,""]
[20,null,null,null,null,null,null,null,null,null,""]
[21,null,null,null,null,null,null,null,null,null,""]
[22,null,null,null,null,null,null,null,null,null,""]
[23,null,null,null,null,null,null,null,null,null,""]
[24,null,null,null,null,null,null,null,null,null,""]
[25,null,null,null,null,null,null,null,null,null,""]
[26,null,null,null,null,null,null,null,null,null,""]
[27,null,null,null,null,null,null,null,null,null,""]
[28,null,null,null,null,null,null,null,null,null,""]
[29,null,null,null,null,null,null,null,null,null,""]
[30,null,null,null,null,null,null,null,null,null,""]
[31,null,null,null,null,null,null,null,null,null,""]
[32,null,null,null,null,null,null,null,null,null,""]
[33,null,null,null,null,null,null,null,null,null,""]
[34,null,null,null,null,null,null,null,null,null,""]
[35,null,null,null,null,null,null,null,null,null,""]
[36,null,null,null,null,null,null,null,null,null,""]
[37,null,null,null,null,null,null,null,null,null,""]
[38,null,null,null,null,null,null,null,null,null,""]
[39,null,null,null,null,null,null,null,null,null,""]
[40,null,null,null,null,null,null,null,null,null,""]
[41,null,null,null,null,null,null,null,null,null,""]
[42,null,null,null,null,null,null,null,null,null,""]
[43,null,null,null,null,null,null,null,null,null,""]
[44,null,null,null,null,null,null,null,null,null,""]
[45,null,null,null,null,null,null,null,null,null,""]
[46,null,null,null,null,null,null,null,null,null,""]
[47,null,null,null,null,null,null,null,null,null,""]
[48,null,null,null,null,null,null,null,null,null,""]
[49,null,null,null,null,null,null,null,null,null,""]
[50,null,null,null,null,null,null,null,null,null,""]
[51,null,null,null,null,null,null,null,null,null,""]
[52,null,null,null,null,null,null,null,null,null,""]
[53,null,null,null,null,null,null,null,null,null,""]
[54,null,null,null,null,null,null,null,null,null,""]
[55,null,null,null,null,null,null,null,null,null,""]
[56,null,null,null,null,null,null,null,null,null,""]
[57,null,null,null,null,null,null,null,null,null,""]
[58,null,null,null,null,null,null,null,null,null,""]
[59,null,null,null,null,null,null,null,null,null,""]
[60,null,null,null,null,null,null,null,null,null,""]
[]
[]
[]
[]
[]
[]
[]
[]
[]
[]
[]
[]
[]
[]
[]
[]
[]
[]
[]
[]
[]
[]
[]
[]
[]
[]
[]
[]
[]
[]
[]
[]
[1]
[2]
[3]
[4]
[5]
[6]
[7]
[8]
[9]

{"sheet":"Vogelschiessen","index":1,"n_rows":43,"n_cols":10,"rows_kept":43,"cut":false,"hidden":false,"merged":[[36,2,36,3],[37,2,37,3],[42,2,42,3],[38,2,38,3],[39,2,39,3],[40,2,40,3],[41,2,41,3],[35,2,35,3],[0,0,0,3],[31,0,31,1],[31,2,31,3],[33,2,33,3],[34,2,34,3]]}
[{"$f":"CONCATENATE(\"Vogelschiessen\",\" \",YEAR(Teilnehmer!I6))","v":"Vogelschiessen 2014"}]
["Datum:",{"$f":"IF(Teilnehmer!I6=\"\",\"\",Teilnehmer!I6)","v":"2014-01-16"}]
[]
[]
[]
[]
[]
[]
[]
[]
[]
[]
[]
[]
[]
[]
[]
[]
[]
[]
[]
[]
[]
[]
[]
[]
[]
[]
[]
[]
[]
[{"$f":"CONCATENATE(\"Vogelkönig-/in\",\" \",YEAR(Teilnehmer!I6),\" =\")","v":"Vogelkönig-/in 2014 ="},null,{"$f":"IF(C43=\"\",\"\",C43)","v":""}]
[]
["Reihenfolge:","\"Vogelteil\":","Vor-/ Nachname:"]
["1.",{"$f":"Teilnehmer!B2","v":"Zepter"},{"$f":"IF(I35<>\"\",I35,IF(J35<>\"\",J35,\"\"))","v":""},null,null,null,null,1,{"$f":"IF(ISNA(VLOOKUP(Teilnehmer!A2,Teilnehmer!$B$8:$H$67,3,FALSE)),\"\",VLOOKUP(Teilnehmer!A2,Teilnehmer!$B$8:$H$67,3,FALSE))","v":""},{"$f":"IF(ISNA(VLOOKUP(Teilnehmer!A2,Teilnehmer!$C$8:$H$67,2,FALSE)),\"\",VLOOKUP(Teilnehmer!A2,Teilnehmer!$C$8:$H$67,2,FALSE))","v":""}]
["2.",{"$f":"Teilnehmer!B3","v":"Reichsapfel"},"",null,null,null,null,2,{"$f":"IF(ISNA(VLOOKUP(Teilnehmer!A3,Teilnehmer!$B$8:$H$67,3,FALSE)),\"\",VLOOKUP(Teilnehmer!A3,Teilnehmer!$B$8:$H$67,3,FALSE))","v":""},{"$f":"IF(ISNA(VLOOKUP(Teilnehmer!A3,Teilnehmer!$C$8:$H$67,2,FALSE)),\"\",VLOOKUP(Teilnehmer!A3,Teilnehmer!$C$8:$H$67,2,FALSE))","v":""}]
["3.",{"$f":"Teilnehmer!B4","v":"Schwanz"},"",null,null,null,null,3,{"$f":"IF(ISNA(VLOOKUP(Teilnehmer!A4,Teilnehmer!$B$8:$H$67,3,FALSE)),\"\",VLOOKUP(Teilnehmer!A4,Teilnehmer!$B$8:$H$67,3,FALSE))","v":""},{"$f":"IF(ISNA(VLOOKUP(Teilnehmer!A4,Teilnehmer!$C$8:$H$67,2,FALSE)),\"\",VLOOKUP(Teilnehmer!A4,Teilnehmer!$C$8:$H$67,2,FALSE))","v":""}]
["4.",{"$f":"Teilnehmer!B5","v":"rechte Kralle"},"",null,null,null,null,4,{"$f":"IF(ISNA(VLOOKUP(Teilnehmer!A5,Teilnehmer!$B$8:$H$67,3,FALSE)),\"\",VLOOKUP(Teilnehmer!A5,Teilnehmer!$B$8:$H$67,3,FALSE))","v":""},{"$f":"IF(ISNA(VLOOKUP(Teilnehmer!A5,Teilnehmer!$C$8:$H$67,2,FALSE)),\"\",VLOOKUP(Teilnehmer!A5,Teilnehmer!$C$8:$H$67,2,FALSE))","v":""}]
["5.",{"$f":"Teilnehmer!B6","v":"linke Kralle"},"",null,null,null,null,5,{"$f":"IF(ISNA(VLOOKUP(Teilnehmer!A6,Teilnehmer!$B$8:$H$67,3,FALSE)),\"\",VLOOKUP(Teilnehmer!A6,Teilnehmer!$B$8:$H$67,3,FALSE))","v":""},{"$f":"IF(ISNA(VLOOKUP(Teilnehmer!A6,Teilnehmer!$C$8:$H$67,2,FALSE)),\"\",VLOOKUP(Teilnehmer!A6,Teilnehmer!$C$8:$H$67,2,FALSE))","v":""}]
["6.",{"$f":"Teilnehmer!F2","v":"Kopf"},"",null,null,null,null,6,{"$f":"IF(ISNA(VLOOKUP(Teilnehmer!E2,Teilnehmer!$B$8:$H$67,3,FALSE)),\"\",VLOOKUP(Teilnehmer!E2,Teilnehmer!$B$8:$H$67,3,FALSE))","v":""},{"$f":"IF(ISNA(VLOOKUP(Teilnehmer!E2,Teilnehmer!$C$8:$H$67,2,FALSE)),\"\",VLOOKUP(Teilnehmer!E2,Teilnehmer!$C$8:$H$67,2,FALSE))","v":""}]
["7.",{"$f":"Teilnehmer!F3","v":"rechter Flügel"},"",null,null,null,null,7,{"$f":"IF(ISNA(VLOOKUP(Teilnehmer!E3,Teilnehmer!$B$8:$H$67,3,FALSE)),\"\",VLOOKUP(Teilnehmer!E3,Teilnehmer!$B$8:$H$67,3,FALSE))","v":""},{"$f":"IF(ISNA(VLOOKUP(Teilnehmer!E3,Teilnehmer!$C$8:$H$67,2,FALSE)),\"\",VLOOKUP(Teilnehmer!E3,Teilnehmer!$C$8:$H$67,2,FALSE))","v":""}]
["8.",{"$f":"Teilnehmer!F4","v":"linker Flügel"},"",null,null,null,null,8,{"$f":"IF(ISNA(VLOOKUP(Teilnehmer!E4,Teilnehmer!$B$8:$H$67,3,FALSE)),\"\",VLOOKUP(Teilnehmer!E4,Teilnehmer!$B$8:$H$67,3,FALSE))","v":""},{"$f":"IF(ISNA(VLOOKUP(Teilnehmer!E4,Teilnehmer!$C$8:$H$67,2,FALSE)),\"\",VLOOKUP(Teilnehmer!E4,Teilnehmer!$C$8:$H$67,2,FALSE))","v":""}]
["9.",{"$f":"Teilnehmer!F5","v":"Rumpf"},"",null,null,null,null,9,{"$f":"IF(ISNA(VLOOKUP(Teilnehmer!E5,Teilnehmer!$B$8:$H$67,3,FALSE)),\"\",VLOOKUP(Teilnehmer!E5,Teilnehmer!$B$8:$H$67,3,FALSE))","v":""},{"$f":"IF(ISNA(VLOOKUP(Teilnehmer!E5,Teilnehmer!$C$8:$H$67,2,FALSE)),\"\",VLOOKUP(Teilnehmer!E5,Teilnehmer!$C$8:$H$67,2,FALSE))","v":""}]