{"text_format":"1","workbook":"xlsx","n_sheets":28,"sheets":["Druckmenü","Stammdaten","Hauptmaske","Datensammler","Daten","Urkunde individuell","Ergebnis ohne Klassen","Urkunde-Platz 1","Urkunde-Platz 2","Urkunde-Platz 3","Ergebnis mit Klassen","K1 Urkunde-Platz 1","K1 Urkunde-Platz 2","K1 Urkunde-Platz 3","K2 Urkunde-Platz 1","K2 Urkunde-Platz 2","K2 Urkunde-Platz 3","K3 Urkunde-Platz 1","K3 Urkunde-Platz 2","K3 Urkunde-Platz 3","K4 Urkunde-Platz 1","K4 Urkunde-Platz 2","K4 Urkunde-Platz 3","K5 Urkunde-Platz 1","K5 Urkunde-Platz 2","K5 Urkunde-Platz 3","Turniervorlage (1)","Turniervorlage (2)"],"not_rendered":{"charts":0,"images":70,"macros":1,"external_links":0,"defined_names":24,"comments":3,"pivot_tables":0},"unopened":[],"bounds":{"document_bytes":16777216,"sheet_cells":100000,"rows_first":2000,"rows_last":500,"rows_between":2000,"halvings":0,"cell_chars":16384,"cell_head_chars":4096},"cells_cut":0,"cells_raw":0,"read":"whole","date_system":"1900"}

{"sheet":"Druckmenü","index":0,"n_rows":24,"n_cols":5,"rows_kept":24,"cut":false,"hidden":false,"merged":[[23,4,23,6]]}
[null,null,"Reitername","Drucken\n\"x\""]
[null,"Alle Teilnehmer   ","Hauptmaske","x"]
[null,"Gesamtergebnis nach Klassen   ","Ergebnis mit Klassen","x"]
[null,"1. Platz Urkunde Klasse 1   ","K1 Urkunde-Platz 1"]
[null,"2. Platz Urkunde Klasse 1   ","K1 Urkunde-Platz 2"]
[null,"3. Platz Urkunde Klasse 1   ","K1 Urkunde-Platz 3"]
[null,"1. Platz Urkunde Klasse 2   ","K2 Urkunde-Platz 1"]
[null,"2. Platz Urkunde Klasse 2   ","K2 Urkunde-Platz 2"]
[null,"3. Platz Urkunde Klasse 2   ","K2 Urkunde-Platz 3"]
[null,"1. Platz Urkunde Klasse 3   ","K3 Urkunde-Platz 1","x"]
[null,"2. Platz Urkunde Klasse 3   ","K3 Urkunde-Platz 2","x"]
[null,"3. Platz Urkunde Klasse 3   ","K3 Urkunde-Platz 3","x"]
[null,"1. Platz Urkunde Klasse 4   ","K4 Urkunde-Platz 1","x"]
[null,"2. Platz Urkunde Klasse 4   ","K4 Urkunde-Platz 2","x"]
[null,"3. Platz Urkunde Klasse 4   ","K4 Urkunde-Platz 3","x"]
[null,"1. Platz Urkunde Klasse 5   ","K5 Urkunde-Platz 1","x"]
[null,"2. Platz Urkunde Klasse 5   ","K5 Urkunde-Platz 2","x"]
[null,"3. Platz Urkunde Klasse 5   ","K5 Urkunde-Platz 3","x"]
[null,"Gesamtergebnis ohne Klassen   ","Ergebnis ohne Klassen"]
[null,"1. Platz Urkunde ohne Klassen   ","Urkunde-Platz 1"]
[null,"2. Platz Urkunde ohne Klassen   ","Urkunde-Platz 2"]
[null,"3. Platz Urkunde ohne Klassen   ","Urkunde-Platz 3"]
[]
[null,null,null,{"$f":"COUNTA(D2:D22)","v":11},"Seiten ausgewählt !"]

{"sheet":"Stammdaten","index":1,"n_rows":13,"n_cols":7,"rows_kept":13,"cut":false,"hidden":false,"merged":[[1,1,1,2],[5,3,7,3],[6,4,6,5],[0,0,1,0],[1,6,2,6],[5,4,5,5]]}
[{"$f":"IF(COUNTA(C4:C13)=10,\"OK\",\"NIO\")","v":"NIO"}]
[null,"      Eingabe der Stammdaten",null,null,null,null,"Beispieldaten"]
[]
[null,"Datum:  ",null,null,null,null,"2020-10-08"]
[null,"Ort:  ",null,"Max möglich",null,null,"Soderstorf"]
[null,"Anzahl der Ziele:  ",null,{"$f":"C6*C8*C12","v":0},"max. Punkte pro Durchgang",null,15]
[null,"Schuss pro Ziel:  ",null,null,{"$f":"C6*C12","v":0},null,2]
[null,"Anzahl der Durchgänge:  ",null,null,null,null,3]
[null,"Name Auswertung:  ",null,null,null,null,"Kai Müller"]
[null,"Name für Unterschrift Urkunde:  ",null,null,null,null,"Rolf Marquardt"]
[null,"Name der Veranstaltung:  ",null,null,null,null,"Dat groote Püster scheeten"]
[null,"Max. mögliche Punkte pro Ziel: ",null,null,null,null,4]
[null,"Bonuspunkte bei Prellern: ",0,null,null,null,0]

{"sheet":"Hauptmaske","index":2,"n_rows":154,"n_cols":12,"rows_kept":154,"cut":false,"hidden":false,"merged":[[2,0,2,1]]}
[]
[null,null,"Schuss pro Ziel:","Datum:"]
[{"$f":"IF(Stammdaten!A1=\"OK\",\"Stammdaten sind vollständig\",\"Bitte Stammdaten pflegen !\")","v":"Bitte Stammdaten pflegen !"},null,{"$f":"IF(Stammdaten!C7=\"\",\"\",Stammdaten!C7)","v":""},{"$f":"TODAY()","v":"2023-07-25"},null,null,"Bitte nur die \"weißen Felder\" befüllen!"]
["Lfd. \nNr.","Name:","1. Durchgang\n(Anzahl Treffer)","2. Durchgang\n(Anzahl Treffer)","3. Durchgang\n(Anzahl Treffer)","4. Durchgang\n(Anzahl Treffer)","5. Durchgang\n(Anzahl Treffer)","Bonus","Klasse","Summe:","%"]
["01.",null,null,null,null,null,null,{"$f":"IF(Stammdaten!$C$13=0,\"\",IF(I5=4,Stammdaten!$C$13,\"\"))","v":""},null,{"$f":"IF(SUM(C5:H5)=0,\"\",SUM(C5:H5))","v":""},{"$f":"IF(SUM(C5:G5)=0,\"\",SUM(C5:G5)/(Stammdaten!$C$6*Stammdaten!$C$12*Stammdaten!$C$8))","v":""},{"$f":"COUNTA(C5:G5)","v":0}]
["02.",null,null,null,null,null,null,{"$f":"IF(Stammdaten!$C$13=0,\"\",IF(I6=4,Stammdaten!$C$13,\"\"))","v":""},null,"",{"$f":"IF(SUM(C6:G6)=0,\"\",SUM(C6:G6)/(Stammdaten!$C$6*Stammdaten!$C$12*Stammdaten!$C$8))","v":""},{"$f":"COUNTA(C6:G6)","v":0}]
["03.",null,null,null,null,null,null,{"$f":"IF(Stammdaten!$C$13=0,\"\",IF(I7=4,Stammdaten!$C$13,\"\"))","v":""},null,"",{"$f":"IF(SUM(C7:G7)=0,\"\",SUM(C7:G7)/(Stammdaten!$C$6*Stammdaten!$C$12*Stammdaten!$C$8))","v":""},0]
["04.",null,null,null,null,null,null,{"$f":"IF(Stammdaten!$C$13=0,\"\",IF(I8=4,Stammdaten!$C$13,\"\"))","v":""},null,"",{"$f":"IF(SUM(C8:G8)=0,\"\",SUM(C8:G8)/(Stammdaten!$C$6*Stammdaten!$C$12*Stammdaten!$C$8))","v":""},0]
["05.",null,null,null,null,null,null,{"$f":"IF(Stammdaten!$C$13=0,\"\",IF(I9=4,Stammdaten!$C$13,\"\"))","v":""},null,"",{"$f":"IF(SUM(C9:G9)=0,\"\",SUM(C9:G9)/(Stammdaten!$C$6*Stammdaten!$C$12*Stammdaten!$C$8))","v":""},0]
["06.",null,null,null,null,null,null,{"$f":"IF(Stammdaten!$C$13=0,\"\",IF(I10=4,Stammdaten!$C$13,\"\"))","v":""},null,"",{"$f":"IF(SUM(C10:G10)=0,\"\",SUM(C10:G10)/(Stammdaten!$C$6*Stammdaten!$C$12*Stammdaten!$C$8))","v":""},0]
["07.",null,null,null,null,null,null,{"$f":"IF(Stammdaten!$C$13=0,\"\",IF(I11=4,Stammdaten!$C$13,\"\"))","v":""},null,"",{"$f":"IF(SUM(C11:G11)=0,\"\",SUM(C11:G11)/(Stammdaten!$C$6*Stammdaten!$C$12*Stammdaten!$C$8))","v":""},0]
["08.",null,null,null,null,null,null,{"$f":"IF(Stammdaten!$C$13=0,\"\",IF(I12=4,Stammdaten!$C$13,\"\"))","v":""},null,"",{"$f":"IF(SUM(C12:G12)=0,\"\",SUM(C12:G12)/(Stammdaten!$C$6*Stammdaten!$C$12*Stammdaten!$C$8))","v":""},0]
["09.",null,null,null,null,null,null,{"$f":"IF(Stammdaten!$C$13=0,\"\",IF(I13=4,Stammdaten!$C$13,\"\"))","v":""},null,"",{"$f":"IF(SUM(C13:G13)=0,\"\",SUM(C13:G13)/(Stammdaten!$C$6*Stammdaten!$C$12*Stammdaten!$C$8))","v":""},0]
["10.",null,null,null,null,null,null,{"$f":"IF(Stammdaten!$C$13=0,\"\",IF(I14=4,Stammdaten!$C$13,\"\"))","v":""},null,"",{"$f":"IF(SUM(C14:G14)=0,\"\",SUM(C14:G14)/(Stammdaten!$C$6*Stammdaten!$C$12*Stammdaten!$C$8))","v":""},0]
["11.",null,null,null,null,null,null,{"$f":"IF(Stammdaten!$C$13=0,\"\",IF(I15=4,Stammdaten!$C$13,\"\"))","v":""},null,"",{"$f":"IF(SUM(C15:G15)=0,\"\",SUM(C15:G15)/(Stammdaten!$C$6*Stammdaten!$C$12*Stammdaten!$C$8))","v":""},0]
["12.",null,null,null,null,null,null,{"$f":"IF(Stammdaten!$C$13=0,\"\",IF(I16=4,Stammdaten!$C$13,\"\"))","v":""},null,"",{"$f":"IF(SUM(C16:G16)=0,\"\",SUM(C16:G16)/(Stammdaten!$C$6*Stammdaten!$C$12*Stammdaten!$C$8))","v":""},0]
["13.",null,null,null,null,null,null,{"$f":"IF(Stammdaten!$C$13=0,\"\",IF(I17=4,Stammdaten!$C$13,\"\"))","v":""},null,"",{"$f":"IF(SUM(C17:G17)=0,\"\",SUM(C17:G17)/(Stammdaten!$C$6*Stammdaten!$C$12*Stammdaten!$C$8))","v":""},0]
["14.",null,null,null,null,null,null,{"$f":"IF(Stammdaten!$C$13=0,\"\",IF(I18=4,Stammdaten!$C$13,\"\"))","v":""},null,{"$f":"IF(SUM(C18:H18)=0,\"\",SUM(C18:H18))","v":""},{"$f":"IF(SUM(C18:G18)=0,\"\",SUM(C18:G18)/(Stammdaten!$C$6*Stammdaten!$C$12*Stammdaten!$C$8))","v":""},0]
["15.",null,null,null,null,null,null,{"$f":"IF(Stammdaten!$C$13=0,\"\",IF(I19=4,Stammdaten!$C$13,\"\"))","v":""},null,"",{"$f":"IF(SUM(C19:G19)=0,\"\",SUM(C19:G19)/(Stammdaten!$C$6*Stammdaten!$C$12*Stammdaten!$C$8))","v":""},0]
["16.",null,null,null,null,null,null,{"$f":"IF(Stammdaten!$C$13=0,\"\",IF(I20=4,Stammdaten!$C$13,\"\"))","v":""},null,"",{"$f":"IF(SUM(C20:G20)=0,\"\",SUM(C20:G20)/(Stammdaten!$C$6*Stammdaten!$C$12*Stammdaten!$C$8))","v":""},0]
["17.",null,null,null,null,null,null,{"$f":"IF(Stammdaten!$C$13=0,\"\",IF(I21=4,Stammdaten!$C$13,\"\"))","v":""},null,"",{"$f":"IF(SUM(C21:G21)=0,\"\",SUM(C21:G21)/(Stammdaten!$C$6*Stammdaten!$C$12*Stammdaten!$C$8))","v":""},0]
["18.",null,null,null,null,null,null,{"$f":"IF(Stammdaten!$C$13=0,\"\",IF(I22=4,Stammdaten!$C$13,\"\"))","v":""},null,"",{"$f":"IF(SUM(C22:G22)=0,\"\",SUM(C22:G22)/(Stammdaten!$C$6*Stammdaten!$C$12*Stammdaten!$C$8))","v":""},0]
["19.",null,null,null,null,null,null,{"$f":"IF(Stammdaten!$C$13=0,\"\",IF(I23=4,Stammdaten!$C$13,\"\"))","v":""},null,"",{"$f":"IF(SUM(C23:G23)=0,\"\",SUM(C23:G23)/(Stammdaten!$C$6*Stammdaten!$C$12*Stammdaten!$C$8))","v":""},0]
["20.",null,null,null,null,null,null,{"$f":"IF(Stammdaten!$C$13=0,\"\",IF(I24=4,Stammdaten!$C$13,\"\"))","v":""},null,"",{"$f":"IF(SUM(C24:G24)=0,\"\",SUM(C24:G24)/(Stammdaten!$C$6*Stammdaten!$C$12*Stammdaten!$C$8))","v":""},0]
["21.",null,null,null,null,null,null,{"$f":"IF(Stammdaten!$C$13=0,\"\",IF(I25=4,Stammdaten!$C$13,\"\"))","v":""},null,"",{"$f":"IF(SUM(C25:G25)=0,\"\",SUM(C25:G25)/(Stammdaten!$C$6*Stammdaten!$C$12*Stammdaten!$C$8))","v":""},0]
["22.",null,null,null,null,null,null,{"$f":"IF(Stammdaten!$C$13=0,\"\",IF(I26=4,Stammdaten!$C$13,\"\"))","v":""},null,"",{"$f":"IF(SUM(C26:G26)=0,\"\",SUM(C26:G26)/(Stammdaten!$C$6*Stammdaten!$C$12*Stammdaten!$C$8))","v":""},0]
["23.",null,null,null,null,null,null,{"$f":"IF(Stammdaten!$C$13=0,\"\",IF(I27=4,Stammdaten!$C$13,\"\"))","v":""},null,"",{"$f":"IF(SUM(C27:G27)=0,\"\",SUM(C27:G27)/(Stammdaten!$C$6*Stammdaten!$C$12*Stammdaten!$C$8))","v":""},0]
["24.",null,null,null,null,null,null,{"$f":"IF(Stammdaten!$C$13=0,\"\",IF(I28=4,Stammdaten!$C$13,\"\"))","v":""},null,"",{"$f":"IF(SUM(C28:G28)=0,\"\",SUM(C28:G28)/(Stammdaten!$C$6*Stammdaten!$C$12*Stammdaten!$C$8))","v":""},0]
["25.",null,null,null,null,null,null,{"$f":"IF(Stammdaten!$C$13=0,\"\",IF(I29=4,Stammdaten!$C$13,\"\"))","v":""},null,"",{"$f":"IF(SUM(C29:G29)=0,\"\",SUM(C29:G29)/(Stammdaten!$C$6*Stammdaten!$C$12*Stammdaten!$C$8))","v":""},0]
["26.",null,null,null,null,null,null,{"$f":"IF(Stammdaten!$C$13=0,\"\",IF(I30=4,Stammdaten!$C$13,\"\"))","v":""},null,"",{"$f":"IF(SUM(C30:G30)=0,\"\",SUM(C30:G30)/(Stammdaten!$C$6*Stammdaten!$C$12*Stammdaten!$C$8))","v":""},0]
["27.",null,null,null,null,null,null,{"$f":"IF(Stammdaten!$C$13=0,\"\",IF(I31=4,Stammdaten!$C$13,\"\"))","v":""},null,"",{"$f":"IF(SUM(C31:G31)=0,\"\",SUM(C31:G31)/(Stammdaten!$C$6*Stammdaten!$C$12*Stammdaten!$C$8))","v":""},0]
["28.",null,null,null,null,null,null,{"$f":"IF(Stammdaten!$C$13=0,\"\",IF(I32=4,Stammdaten!$C$13,\"\"))","v":""},null,"",{"$f":"IF(SUM(C32:G32)=0,\"\",SUM(C32:G32)/(Stammdaten!$C$6*Stammdaten!$C$12*Stammdaten!$C$8))","v":""},0]
["29.",null,null,null,null,null,null,{"$f":"IF(Stammdaten!$C$13=0,\"\",IF(I33=4,Stammdaten!$C$13,\"\"))","v":""},null,"",{"$f":"IF(SUM(C33:G33)=0,\"\",SUM(C33:G33)/(Stammdaten!$C$6*Stammdaten!$C$12*Stammdaten!$C$8))","v":""},0]
["30.",null,null,null,null,null,null,{"$f":"IF(Stammdaten!$C$13=0,\"\",IF(I34=4,Stammdaten!$C$13,\"\"))","v":""},null,"",{"$f":"IF(SUM(C34:G34)=0,\"\",SUM(C34:G34)/(Stammdaten!$C$6*Stammdaten!$C$12*Stammdaten!$C$8))","v":""},0]
["31.",null,null,null,null,null,null,{"$f":"IF(Stammdaten!$C$13=0,\"\",IF(I35=4,Stammdaten!$C$13,\"\"))","v":""},null,{"$f":"IF(SUM(C35:H35)=0,\"\",SUM(C35:H35))","v":""},{"$f":"IF(SUM(C35:G35)=0,\"\",SUM(C35:G35)/(Stammdaten!$C$6*Stammdaten!$C$12*Stammdaten!$C$8))","v":""}]
["32.",null,null,null,null,null,null,{"$f":"IF(Stammdaten!$C$13=0,\"\",IF(I36=4,Stammdaten!$C$13,\"\"))","v":""},null,"",{"$f":"IF(SUM(C36:G36)=0,\"\",SUM(C36:G36)/(Stammdaten!$C$6*Stammdaten!$C$12*Stammdaten!$C$8))","v":""}]
["33.",null,null,null,null,null,null,{"$f":"IF(Stammdaten!$C$13=0,\"\",IF(I37=4,Stammdaten!$C$13,\"\"))","v":""},null,"",{"$f":"IF(SUM(C37:G37)=0,\"\",SUM(C37:G37)/(Stammdaten!$C$6*Stammdaten!$C$12*Stammdaten!$C$8))","v":""}]
["34.",null,null,null,null,null,null,{"$f":"IF(Stammdaten!$C$13=0,\"\",IF(I38=4,Stammdaten!$C$13,\"\"))","v":""},null,"",{"$f":"IF(SUM(C38:G38)=0,\"\",SUM(C38:G38)/(Stammdaten!$C$6*Stammdaten!$C$12*Stammdaten!$C$8))","v":""}]
["35.",null,null,null,null,null,null,{"$f":"IF(Stammdaten!$C$13=0,\"\",IF(I39=4,Stammdaten!$C$13,\"\"))","v":""},null,"",{"$f":"IF(SUM(C39:G39)=0,\"\",SUM(C39:G39)/(Stammdaten!$C$6*Stammdaten!$C$12*Stammdaten!$C$8))","v":""}]
["36.",null,null,null,null,null,null,{"$f":"IF(Stammdaten!$C$13=0,\"\",IF(I40=4,Stammdaten!$C$13,\"\"))","v":""},null,"",{"$f":"IF(SUM(C40:G40)=0,\"\",SUM(C40:G40)/(Stammdaten!$C$6*Stammdaten!$C$12*Stammdaten!$C$8))","v":""}]
["37.",null,null,null,null,null,null,{"$f":"IF(Stammdaten!$C$13=0,\"\",IF(I41=4,Stammdaten!$C$13,\"\"))","v":""},null,"",{"$f":"IF(SUM(C41:G41)=0,\"\",SUM(C41:G41)/(Stammdaten!$C$6*Stammdaten!$C$12*Stammdaten!$C$8))","v":""}]
["38.",null,null,null,null,null,null,{"$f":"IF(Stammdaten!$C$13=0,\"\",IF(I42=4,Stammdaten!$C$13,\"\"))","v":""},null,"",{"$f":"IF(SUM(C42:G42)=0,\"\",SUM(C42:G42)/(Stammdaten!$C$6*Stammdaten!$C$12*Stammdaten!$C$8))","v":""}]
["39.",null,null,null,null,null,null,{"$f":"IF(Stammdaten!$C$13=0,\"\",IF(I43=4,Stammdaten!$C$13,\"\"))","v":""},null,"",{"$f":"IF(SUM(C43:G43)=0,\"\",SUM(C43:G43)/(Stammdaten!$C$6*Stammdaten!$C$12*Stammdaten!$C$8))","v":""}]
["40.",null,null,null,null,null,null,{"$f":"IF(Stammdaten!$C$13=0,\"\",IF(I44=4,Stammdaten!$C$13,\"\"))","v":""},null,"",{"$f":"IF(SUM(C44:G44)=0,\"\",SUM(C44:G44)/(Stammdaten!$C$6*Stammdaten!$C$12*Stammdaten!$C$8))","v":""}]
["41.",null,null,null,null,null,null,{"$f":"IF(Stammdaten!$C$13=0,\"\",IF(I45=4,Stammdaten!$C$13,\"\"))","v":""},null,"",{"$f":"IF(SUM(C45:G45)=0,\"\",SUM(C45:G45)/(Stammdaten!$C$6*Stammdaten!$C$12*Stammdaten!$C$8))","v":""}]
["42.",null,null,null,null,null,null,{"$f":"IF(Stammdaten!$C$13=0,\"\",IF(I46=4,Stammdaten!$C$13,\"\"))","v":""},null,"",{"$f":"IF(SUM(C46:G46)=0,\"\",SUM(C46:G46)/(Stammdaten!$C$6*Stammdaten!$C$12*Stammdaten!$C$8))","v":""}]
["43.",null,null,null,null,null,null,{"$f":"IF(Stammdaten!$C$13=0,\"\",IF(I47=4,Stammdaten!$C$13,\"\"))","v":""},null,"",{"$f":"IF(SUM(C47:G47)=0,\"\",SUM(C47:G47)/(Stammdaten!$C$6*Stammdaten!$C$12*Stammdaten!$C$8))","v":""}]
["44.",null,null,null,null,null,null,{"$f":"IF(Stammdaten!$C$13=0,\"\",IF(I48=4,Stammdaten!$C$13,\"\"))","v":""},null,"",{"$f":"IF(SUM(C48:G48)=0,\"\",SUM(C48:G48)/(Stammdaten!$C$6*Stammdaten!$C$12*Stammdaten!$C$8))","v":""}]
["45.",null,null,null,null,null,null,{"$f":"IF(Stammdaten!$C$13=0,\"\",IF(I49=4,Stammdaten!$C$13,\"\"))","v":""},null,"",{"$f":"IF(SUM(C49:G49)=0,\"\",SUM(C49:G49)/(Stammdaten!$C$6*Stammdaten!$C$12*Stammdaten!$C$8))","v":""}]
["46.",null,null,null,null,null,null,{"$f":"IF(Stammdaten!$C$13=0,\"\",IF(I50=4,Stammdaten!$C$13,\"\"))","v":""},null,"",{"$f":"IF(SUM(C50:G50)=0,\"\",SUM(C50:G50)/(Stammdaten!$C$6*Stammdaten!$C$12*Stammdaten!$C$8))","v":""}]
["47.",null,null,null,null,null,null,{"$f":"IF(Stammdaten!$C$13=0,\"\",IF(I51=4,Stammdaten!$C$13,\"\"))","v":""},null,"",{"$f":"IF(SUM(C51:G51)=0,\"\",SUM(C51:G51)/(Stammdaten!$C$6*Stammdaten!$C$12*Stammdaten!$C$8))","v":""}]
["48.",null,null,null,null,null,null,{"$f":"IF(Stammdaten!$C$13=0,\"\",IF(I52=4,Stammdaten!$C$13,\"\"))","v":""},null,"",{"$f":"IF(SUM(C52:G52)=0,\"\",SUM(C52:G52)/(Stammdaten!$C$6*Stammdaten!$C$12*Stammdaten!$C$8))","v":""}]
["49.",null,null,null,null,null,null,{"$f":"IF(Stammdaten!$C$13=0,\"\",IF(I53=4,Stammdaten!$C$13,\"\"))","v":""},null,"",{"$f":"IF(SUM(C53:G53)=0,\"\",SUM(C53:G53)/(Stammdaten!$C$6*Stammdaten!$C$12*Stammdaten!$C$8))","v":""}]
["50.",null,null,null,null,null,null,{"$f":"IF(Stammdaten!$C$13=0,\"\",IF(I54=4,Stammdaten!$C$13,\"\"))","v":""},null,"",{"$f":"IF(SUM(C54:G54)=0,\"\",SUM(C54:G54)/(Stammdaten!$C$6*Stammdaten!$C$12*Stammdaten!$C$8))","v":""}]
["51.",null,null,null,null,null,null,{"$f":"IF(Stammdaten!$C$13=0,\"\",IF(I55=4,Stammdaten!$C$13,\"\"))","v":""},null,"",{"$f":"IF(SUM(C55:G55)=0,\"\",SUM(C55:G55)/(Stammdaten!$C$6*Stammdaten!$C$12*Stammdaten!$C$8))","v":""}]
["52.",null,null,null,null,null,null,{"$f":"IF(Stammdaten!$C$13=0,\"\",IF(I56=4,Stammdaten!$C$13,\"\"))","v":""},null,"",{"$f":"IF(SUM(C56:G56)=0,\"\",SUM(C56:G56)/(Stammdaten!$C$6*Stammdaten!$C$12*Stammdaten!$C$8))","v":""}]
["53.",null,null,null,null,null,null,{"$f":"IF(Stammdaten!$C$13=0,\"\",IF(I57=4,Stammdaten!$C$13,\"\"))","v":""},null,"",{"$f":"IF(SUM(C57:G57)=0,\"\",SUM(C57:G57)/(Stammdaten!$C$6*Stammdaten!$C$12*Stammdaten!$C$8))","v":""}]
["54.",null,null,null,null,null,null,{"$f":"IF(Stammdaten!$C$13=0,\"\",IF(I58=4,Stammdaten!$C$13,\"\"))","v":""},null,"",{"$f":"IF(SUM(C58:G58)=0,\"\",SUM(C58:G58)/(Stammdaten!$C$6*Stammdaten!$C$12*Stammdaten!$C$8))","v":""}]
["55.",null,null,null,null,null,null,{"$f":"IF(Stammdaten!$C$13=0,\"\",IF(I59=4,Stammdaten!$C$13,\"\"))","v":""},null,"",{"$f":"IF(SUM(C59:G59)=0,\"\",SUM(C59:G59)/(Stammdaten!$C$6*Stammdaten!$C$12*Stammdaten!$C$8))","v":""}]
["56.",null,null,null,null,null,null,{"$f":"IF(Stammdaten!$C$13=0,\"\",IF(I60=4,Stammdaten!$C$13,\"\"))","v":""},null,"",{"$f":"IF(SUM(C60:G60)=0,\"\",SUM(C60:G60)/(Stammdaten!$C$6*Stammdaten!$C$12*Stammdaten!$C$8))","v":""}]
["57.",null,null,null,null,null,null,{"$f":"IF(Stammdaten!$C$13=0,\"\",IF(I61=4,Stammdaten!$C$13,\"\"))","v":""},null,"",{"$f":"IF(SUM(C61:G61)=0,\"\",SUM(C61:G61)/(Stammdaten!$C$6*Stammdaten!$C$12*Stammdaten!$C$8))","v":""}]
["58.",null,null,null,null,null,null,{"$f":"IF(Stammdaten!$C$13=0,\"\",IF(I62=4,Stammdaten!$C$13,\"\"))","v":""},null,"",{"$f":"IF(SUM(C62:G62)=0,\"\",SUM(C62:G62)/(Stammdaten!$C$6*Stammdaten!$C$12*Stammdaten!$C$8))","v":""}]
["59.",null,null,null,null,null,null,{"$f":"IF(Stammdaten!$C$13=0,\"\",IF(I63=4,Stammdaten!$C$13,\"\"))","v":""},null,"",{"$f":"IF(SUM(C63:G63)=0,\"\",SUM(C63:G63)/(Stammdaten!$C$6*Stammdaten!$C$12*Stammdaten!$C$8))","v":""}]
["60.",null,null,null,null,null,null,{"$f":"IF(Stammdaten!$C$13=0,\"\",IF(I64=4,Stammdaten!$C$13,\"\"))","v":""},null,"",{"$f":"IF(SUM(C64:G64)=0,\"\",SUM(C64:G64)/(Stammdaten!$C$6*Stammdaten!$C$12*Stammdaten!$C$8))","v":""}]
["61.",null,null,null,null,null,null,{"$f":"IF(Stammdaten!$C$13=0,\"\",IF(I65=4,Stammdaten!$C$13,\"\"))","v":""},null,"",{"$f":"IF(SUM(C65:G65)=0,\"\",SUM(C65:G65)/(Stammdaten!$C$6*Stammdaten!$C$12*Stammdaten!$C$8))","v":""}]
["62.",null,null,null,null,null,null,{"$f":"IF(Stammdaten!$C$13=0,\"\",IF(I66=4,Stammdaten!$C$13,\"\"))","v":""},null,"",{"$f":"IF(SUM(C66:G66)=0,\"\",SUM(C66:G66)/(Stammdaten!$C$6*Stammdaten!$C$12*Stammdaten!$C$8))","v":""}]
["63.",null,null,null,null,null,null,{"$f":"IF(Stammdaten!$C$13=0,\"\",IF(I67=4,Stammdaten!$C$13,\"\"))","v":""},null,"",{"$f":"IF(SUM(C67:G67)=0,\"\",SUM(C67:G67)/(Stammdaten!$C$6*Stammdaten!$C$12*Stammdaten!$C$8))","v":""}]
["64.",null,null,null,null,null,null,{"$f":"IF(Stammdaten!$C$13=0,\"\",IF(I68=4,Stammdaten!$C$13,\"\"))","v":""},null,"",{"$f":"IF(SUM(C68:G68)=0,\"\",SUM(C68:G68)/(Stammdaten!$C$6*Stammdaten!$C$12*Stammdaten!$C$8))","v":""}]
["65.",null,null,null,null,null,null,{"$f":"IF(Stammdaten!$C$13=0,\"\",IF(I69=4,Stammdaten!$C$13,\"\"))","v":""},null,"",{"$f":"IF(SUM(C69:G69)=0,\"\",SUM(C69:G69)/(Stammdaten!$C$6*Stammdaten!$C$12*Stammdaten!$C$8))","v":""}]
["66.",null,null,null,null,null,null,{"$f":"IF(Stammdaten!$C$13=0,\"\",IF(I70=4,Stammdaten!$C$13,\"\"))","v":""},null,"",{"$f":"IF(SUM(C70:G70)=0,\"\",SUM(C70:G70)/(Stammdaten!$C$6*Stammdaten!$C$12*Stammdaten!$C$8))","v":""}]
["67.",null,null,null,null,null,null,{"$f":"IF(Stammdaten!$C$13=0,\"\",IF(I71=4,Stammdaten!$C$13,\"\"))","v":""},null,"",{"$f":"IF(SUM(C71:G71)=0,\"\",SUM(C71:G71)/(Stammdaten!$C$6*Stammdaten!$C$12*Stammdaten!$C$8))","v":""}]
["68.",null,null,null,null,null,null,{"$f":"IF(Stammdaten!$C$13=0,\"\",IF(I72=4,Stammdaten!$C$13,\"\"))","v":""},null,"",{"$f":"IF(SUM(C72:G72)=0,\"\",SUM(C72:G72)/(Stammdaten!$C$6*Stammdaten!$C$12*Stammdaten!$C$8))","v":""}]
["69.",null,null,null,null,null,null,{"$f":"IF(Stammdaten!$C$13=0,\"\",IF(I73=4,Stammdaten!$C$13,\"\"))","v":""},null,"",{"$f":"IF(SUM(C73:G73)=0,\"\",SUM(C73:G73)/(Stammdaten!$C$6*Stammdaten!$C$12*Stammdaten!$C$8))","v":""}]
["70.",null,null,null,null,null,null,{"$f":"IF(Stammdaten!$C$13=0,\"\",IF(I74=4,Stammdaten!$C$13,\"\"))","v":""},null,"",{"$f":"IF(SUM(C74:G74)=0,\"\",SUM(C74:G74)/(Stammdaten!$C$6*Stammdaten!$C$12*Stammdaten!$C$8))","v":""}]
["71.",null,null,null,null,null,null,{"$f":"IF(Stammdaten!$C$13=0,\"\",IF(I75=4,Stammdaten!$C$13,\"\"))","v":""},null,"",{"$f":"IF(SUM(C75:G75)=0,\"\",SUM(C75:G75)/(Stammdaten!$C$6*Stammdaten!$C$12*Stammdaten!$C$8))","v":""}]
["72.",null,null,null,null,null,null,{"$f":"IF(Stammdaten!$C$13=0,\"\",IF(I76=4,Stammdaten!$C$13,\"\"))","v":""},null,"",{"$f":"IF(SUM(C76:G76)=0,\"\",SUM(C76:G76)/(Stammdaten!$C$6*Stammdaten!$C$12*Stammdaten!$C$8))","v":""}]
["73.",null,null,null,null,null,null,{"$f":"IF(Stammdaten!$C$13=0,\"\",IF(I77=4,Stammdaten!$C$13,\"\"))","v":""},null,"",{"$f":"IF(SUM(C77:G77)=0,\"\",SUM(C77:G77)/(Stammdaten!$C$6*Stammdaten!$C$12*Stammdaten!$C$8))","v":""}]
["74.",null,null,null,null,null,null,{"$f":"IF(Stammdaten!$C$13=0,\"\",IF(I78=4,Stammdaten!$C$13,\"\"))","v":""},null,"",{"$f":"IF(SUM(C78:G78)=0,\"\",SUM(C78:G78)/(Stammdaten!$C$6*Stammdaten!$C$12*Stammdaten!$C$8))","v":""}]
["75.",null,null,null,null,null,null,{"$f":"IF(Stammdaten!$C$13=0,\"\",IF(I79=4,Stammdaten!$C$13,\"\"))","v":""},null,"",{"$f":"IF(SUM(C79:G79)=0,\"\",SUM(C79:G79)/(Stammdaten!$C$6*Stammdaten!$C$12*Stammdaten!$C$8))","v":""}]
["76.",null,null,null,null,null,null,{"$f":"IF(Stammdaten!$C$13=0,\"\",IF(I80=4,Stammdaten!$C$13,\"\"))","v":""},null,"",{"$f":"IF(SUM(C80:G80)=0,\"\",SUM(C80:G80)/(Stammdaten!$C$6*Stammdaten!$C$12*Stammdaten!$C$8))","v":""}]
["77.",null,null,null,null,null,null,{"$f":"IF(Stammdaten!$C$13=0,\"\",IF(I81=4,Stammdaten!$C$13,\"\"))","v":""},null,"",{"$f":"IF(SUM(C81:G81)=0,\"\",SUM(C81:G81)/(Stammdaten!$C$6*Stammdaten!$C$12*Stammdaten!$C$8))","v":""}]
["78.",null,null,null,null,null,null,{"$f":"IF(Stammdaten!$C$13=0,\"\",IF(I82=4,Stammdaten!$C$13,\"\"))","v":""},null,"",{"$f":"IF(SUM(C82:G82)=0,\"\",SUM(C82:G82)/(Stammdaten!$C$6*Stammdaten!$C$12*Stammdaten!$C$8))","v":""}]
["79.",null,null,null,null,null,null,{"$f":"IF(Stammdaten!$C$13=0,\"\",IF(I83=4,Stammdaten!$C$13,\"\"))","v":""},null,"",{"$f":"IF(SUM(C83:G83)=0,\"\",SUM(C83:G83)/(Stammdaten!$C$6*Stammdaten!$C$12*Stammdaten!$C$8))","v":""}]
["80.",null,null,null,null,null,null,{"$f":"IF(Stammdaten!$C$13=0,\"\",IF(I84=4,Stammdaten!$C$13,\"\"))","v":""},null,"",{"$f":"IF(SUM(C84:G84)=0,\"\",SUM(C84:G84)/(Stammdaten!$C$6*Stammdaten!$C$12*Stammdaten!$C$8))","v":""}]
["81.",null,null,null,null,null,null,{"$f":"IF(Stammdaten!$C$13=0,\"\",IF(I85=4,Stammdaten!$C$13,\"\"))","v":""},null,"",{"$f":"IF(SUM(C85:G85)=0,\"\",SUM(C85:G85)/(Stammdaten!$C$6*Stammdaten!$C$12*Stammdaten!$C$8))","v":""}]
["82.",null,null,null,null,null,null,{"$f":"IF(Stammdaten!$C$13=0,\"\",IF(I86=4,Stammdaten!$C$13,\"\"))","v":""},null,"",{"$f":"IF(SUM(C86:G86)=0,\"\",SUM(C86:G86)/(Stammdaten!$C$6*Stammdaten!$C$12*Stammdaten!$C$8))","v":""}]
["83.",null,null,null,null,null,null,{"$f":"IF(Stammdaten!$C$13=0,\"\",IF(I87=4,Stammdaten!$C$13,\"\"))","v":""},null,"",{"$f":"IF(SUM(C87:G87)=0,\"\",SUM(C87:G87)/(Stammdaten!$C$6*Stammdaten!$C$12*Stammdaten!$C$8))","v":""}]
["84.",null,null,null,null,null,null,{"$f":"IF(Stammdaten!$C$13=0,\"\",IF(I88=4,Stammdaten!$C$13,\"\"))","v":""},null,"",{"$f":"IF(SUM(C88:G88)=0,\"\",SUM(C88:G88)/(Stammdaten!$C$6*Stammdaten!$C$12*Stammdaten!$C$8))","v":""}]
["85.",null,null,null,null,null,null,{"$f":"IF(Stammdaten!$C$13=0,\"\",IF(I89=4,Stammdaten!$C$13,\"\"))","v":""},null,"",{"$f":"IF(SUM(C89:G89)=0,\"\",SUM(C89:G89)/(Stammdaten!$C$6*Stammdaten!$C$12*Stammdaten!$C$8))","v":""}]
["86.",null,null,null,null,null,null,{"$f":"IF(Stammdaten!$C$13=0,\"\",IF(I90=4,Stammdaten!$C$13,\"\"))","v":""},null,"",{"$f":"IF(SUM(C90:G90)=0,\"\",SUM(C90:G90)/(Stammdaten!$C$6*Stammdaten!$C$12*Stammdaten!$C$8))","v":""}]
["87.",null,null,null,null,null,null,{"$f":"IF(Stammdaten!$C$13=0,\"\",IF(I91=4,Stammdaten!$C$13,\"\"))","v":""},null,"",{"$f":"IF(SUM(C91:G91)=0,\"\",SUM(C91:G91)/(Stammdaten!$C$6*Stammdaten!$C$12*Stammdaten!$C$8))","v":""}]
["88.",null,null,null,null,null,null,{"$f":"IF(Stammdaten!$C$13=0,\"\",IF(I92=4,Stammdaten!$C$13,\"\"))","v":""},null,"",{"$f":"IF(SUM(C92:G92)=0,\"\",SUM(C92:G92)/(Stammdaten!$C$6*Stammdaten!$C$12*Stammdaten!$C$8))","v":""}]
["89.",null,null,null,null,null,null,{"$f":"IF(Stammdaten!$C$13=0,\"\",IF(I93=4,Stammdaten!$C$13,\"\"))","v":""},null,"",{"$f":"IF(SUM(C93:G93)=0,\"\",SUM(C93:G93)/(Stammdaten!$C$6*Stammdaten!$C$12*Stammdaten!$C$8))","v":""}]
["90.",null,null,null,null,null,null,{"$f":"IF(Stammdaten!$C$13=0,\"\",IF(I94=4,Stammdaten!$C$13,\"\"))","v":""},null,"",{"$f":"IF(SUM(C94:G94)=0,\"\",SUM(C94:G94)/(Stammdaten!$C$6*Stammdaten!$C$12*Stammdaten!$C$8))","v":""}]
["91.",null,null,null,null,null,null,{"$f":"IF(Stammdaten!$C$13=0,\"\",IF(I95=4,Stammdaten!$C$13,\"\"))","v":""},null,"",{"$f":"IF(SUM(C95:G95)=0,\"\",SUM(C95:G95)/(Stammdaten!$C$6*Stammdaten!$C$12*Stammdaten!$C$8))","v":""}]
["92.",null,null,null,null,null,null,{"$f":"IF(Stammdaten!$C$13=0,\"\",IF(I96=4,Stammdaten!$C$13,\"\"))","v":""},null,"",{"$f":"IF(SUM(C96:G96)=0,\"\",SUM(C96:G96)/(Stammdaten!$C$6*Stammdaten!$C$12*Stammdaten!$C$8))","v":""}]
["93.",null,null,null,null,null,null,{"$f":"IF(Stammdaten!$C$13=0,\"\",IF(I97=4,Stammdaten!$C$13,\"\"))","v":""},null,"",{"$f":"IF(SUM(C97:G97)=0,\"\",SUM(C97:G97)/(Stammdaten!$C$6*Stammdaten!$C$12*Stammdaten!$C$8))","v":""}]
["94.",null,null,null,null,null,null,{"$f":"IF(Stammdaten!$C$13=0,\"\",IF(I98=4,Stammdaten!$C$13,\"\"))","v":""},null,"",{"$f":"IF(SUM(C98:G98)=0,\"\",SUM(C98:G98)/(Stammdaten!$C$6*Stammdaten!$C$12*Stammdaten!$C$8))","v":""}]
["95.",null,null,null,null,null,null,{"$f":"IF(Stammdaten!$C$13=0,\"\",IF(I99=4,Stammdaten!$C$13,\"\"))","v":""},null,{"$f":"IF(SUM(C99:H99)=0,\"\",SUM(C99:H99))","v":""},{"$f":"IF(SUM(C99:G99)=0,\"\",SUM(C99:G99)/(Stammdaten!$C$6*Stammdaten!$C$12*Stammdaten!$C$8))","v":""}]
["96.",null,null,null,null,null,null,{"$f":"IF(Stammdaten!$C$13=0,\"\",IF(I100=4,Stammdaten!$C$13,\"\"))","v":""},null,"",{"$f":"IF(SUM(C100:G100)=0,\"\",SUM(C100:G100)/(Stammdaten!$C$6*Stammdaten!$C$12*Stammdaten!$C$8))","v":""}]
["97.",null,null,null,null,null,null,{"$f":"IF(Stammdaten!$C$13=0,\"\",IF(I101=4,Stammdaten!$C$13,\"\"))","v":""},null,"",{"$f":"IF(SUM(C101:G101)=0,\"\",SUM(C101:G101)/(Stammdaten!$C$6*Stammdaten!$C$12*Stammdaten!$C$8))","v":""}]
["98.",null,null,null,null,null,null,{"$f":"IF(Stammdaten!$C$13=0,\"\",IF(I102=4,Stammdaten!$C$13,\"\"))","v":""},null,"",{"$f":"IF(SUM(C102:G102)=0,\"\",SUM(C102:G102)/(Stammdaten!$C$6*Stammdaten!$C$12*Stammdaten!$C$8))","v":""}]
["99.",null,null,null,null,null,null,{"$f":"IF(Stammdaten!$C$13=0,\"\",IF(I103=4,Stammdaten!$C$13,\"\"))","v":""},null,"",{"$f":"IF(SUM(C103:G103)=0,\"\",SUM(C103:G103)/(Stammdaten!$C$6*Stammdaten!$C$12*Stammdaten!$C$8))","v":""}]
["100.",null,null,null,null,null,null,{"$f":"IF(Stammdaten!$C$13=0,\"\",IF(I104=4,Stammdaten!$C$13,\"\"))","v":""},null,"",{"$f":"IF(SUM(C104:G104)=0,\"\",SUM(C104:G104)/(Stammdaten!$C$6*Stammdaten!$C$12*Stammdaten!$C$8))","v":""}]
["101.",null,null,null,null,null,null,{"$f":"IF(Stammdaten!$C$13=0,\"\",IF(I105=4,Stammdaten!$C$13,\"\"))","v":""},null,"",{"$f":"IF(SUM(C105:G105)=0,\"\",SUM(C105:G105)/(Stammdaten!$C$6*Stammdaten!$C$12*Stammdaten!$C$8))","v":""}]
["102.",null,null,null,null,null,null,{"$f":"IF(Stammdaten!$C$13=0,\"\",IF(I106=4,Stammdaten!$C$13,\"\"))","v":""},null,"",{"$f":"IF(SUM(C106:G106)=0,\"\",SUM(C106:G106)/(Stammdaten!$C$6*Stammdaten!$C$12*Stammdaten!$C$8))","v":""}]
["103.",null,null,null,null,null,null,{"$f":"IF(Stammdaten!$C$13=0,\"\",IF(I107=4,Stammdaten!$C$13,\"\"))","v":""},null,"",{"$f":"IF(SUM(C107:G107)=0,\"\",SUM(C107:G107)/(Stammdaten!$C$6*Stammdaten!$C$12*Stammdaten!$C$8))","v":""}]
["104.",null,null,null,null,null,null,{"$f":"IF(Stammdaten!$C$13=0,\"\",IF(I108=4,Stammdaten!$C$13,\"\"))","v":""},null,"",{"$f":"IF(SUM(C108:G108)=0,\"\",SUM(C108:G108)/(Stammdaten!$C$6*Stammdaten!$C$12*Stammdaten!$C$8))","v":""}]
["105.",null,null,null,null,null,null,{"$f":"IF(Stammdaten!$C$13=0,\"\",IF(I109=4,Stammdaten!$C$13,\"\"))","v":""},null,"",{"$f":"IF(SUM(C109:G109)=0,\"\",SUM(C109:G109)/(Stammdaten!$C$6*Stammdaten!$C$12*Stammdaten!$C$8))","v":""}]
["106.",null,null,null,null,null,null,{"$f":"IF(Stammdaten!$C$13=0,\"\",IF(I110=4,Stammdaten!$C$13,\"\"))","v":""},null,"",{"$f":"IF(SUM(C110:G110)=0,\"\",SUM(C110:G110)/(Stammdaten!$C$6*Stammdaten!$C$12*Stammdaten!$C$8))","v":""}]
["107.",null,null,null,null,null,null,{"$f":"IF(Stammdaten!$C$13=0,\"\",IF(I111=4,Stammdaten!$C$13,\"\"))","v":""},null,"",{"$f":"IF(SUM(C111:G111)=0,\"\",SUM(C111:G111)/(Stammdaten!$C$6*Stammdaten!$C$12*Stammdaten!$C$8))","v":""}]
["108.",null,null,null,null,null,null,{"$f":"IF(Stammdaten!$C$13=0,\"\",IF(I112=4,Stammdaten!$C$13,\"\"))","v":""},null,"",{"$f":"IF(SUM(C112:G112)=0,\"\",SUM(C112:G112)/(Stammdaten!$C$6*Stammdaten!$C$12*Stammdaten!$C$8))","v":""}]
["109.",null,null,null,null,null,null,{"$f":"IF(Stammdaten!$C$13=0,\"\",IF(I113=4,Stammdaten!$C$13,\"\"))","v":""},null,"",{"$f":"IF(SUM(C113:G113)=0,\"\",SUM(C113:G113)/(Stammdaten!$C$6*Stammdaten!$C$12*Stammdaten!$C$8))","v":""}]
["110.",null,null,null,null,null,null,{"$f":"IF(Stammdaten!$C$13=0,\"\",IF(I114=4,Stammdaten!$C$13,\"\"))","v":""},null,"",{"$f":"IF(SUM(C114:G114)=0,\"\",SUM(C114:G114)/(Stammdaten!$C$6*Stammdaten!$C$12*Stammdaten!$C$8))","v":""}]
["111.",null,null,null,null,null,null,{"$f":"IF(Stammdaten!$C$13=0,\"\",IF(I115=4,Stammdaten!$C$13,\"\"))","v":""},null,"",{"$f":"IF(SUM(C115:G115)=0,\"\",SUM(C115:G115)/(Stammdaten!$C$6*Stammdaten!$C$12*Stammdaten!$C$8))","v":""}]
["112.",null,null,null,null,null,null,{"$f":"IF(Stammdaten!$C$13=0,\"\",IF(I116=4,Stammdaten!$C$13,\"\"))","v":""},null,"",{"$f":"IF(SUM(C116:G116)=0,\"\",SUM(C116:G116)/(Stammdaten!$C$6*Stammdaten!$C$12*Stammdaten!$C$8))","v":""}]
["113.",null,null,null,null,null,null,{"$f":"IF(Stammdaten!$C$13=0,\"\",IF(I117=4,Stammdaten!$C$13,\"\"))","v":""},null,"",{"$f":"IF(SUM(C117:G117)=0,\"\",SUM(C117:G117)/(Stammdaten!$C$6*Stammdaten!$C$12*Stammdaten!$C$8))","v":""}]
["114.",null,null,null,null,null,null,{"$f":"IF(Stammdaten!$C$13=0,\"\",IF(I118=4,Stammdaten!$C$13,\"\"))","v":""},null,"",{"$f":"IF(SUM(C118:G118)=0,\"\",SUM(C118:G118)/(Stammdaten!$C$6*Stammdaten!$C$12*Stammdaten!$C$8))","v":""}]
["115.",null,null,null,null,null,null,{"$f":"IF(Stammdaten!$C$13=0,\"\",IF(I119=4,Stammdaten!$C$13,\"\"))","v":""},null,"",{"$f":"IF(SUM(C119:G119)=0,\"\",SUM(C119:G119)/(Stammdaten!$C$6*Stammdaten!$C$12*Stammdaten!$C$8))","v":""}]
["116.",null,null,null,null,null,null,{"$f":"IF(Stammdaten!$C$13=0,\"\",IF(I120=4,Stammdaten!$C$13,\"\"))","v":""},null,"",{"$f":"IF(SUM(C120:G120)=0,\"\",SUM(C120:G120)/(Stammdaten!$C$6*Stammdaten!$C$12*Stammdaten!$C$8))","v":""}]
["117.",null,null,null,null,null,null,{"$f":"IF(Stammdaten!$C$13=0,\"\",IF(I121=4,Stammdaten!$C$13,\"\"))","v":""},null,"",{"$f":"IF(SUM(C121:G121)=0,\"\",SUM(C121:G121)/(Stammdaten!$C$6*Stammdaten!$C$12*Stammdaten!$C$8))","v":""}]
["118.",null,null,null,null,null,null,{"$f":"IF(Stammdaten!$C$13=0,\"\",IF(I122=4,Stammdaten!$C$13,\"\"))","v":""},null,"",{"$f":"IF(SUM(C122:G122)=0,\"\",SUM(C122:G122)/(Stammdaten!$C$6*Stammdaten!$C$12*Stammdaten!$C$8))","v":""}]
["119.",null,null,null,null,null,null,{"$f":"IF(Stammdaten!$C$13=0,\"\",IF(I123=4,Stammdaten!$C$13,\"\"))","v":""},null,"",{"$f":"IF(SUM(C123:G123)=0,\"\",SUM(C123:G123)/(Stammdaten!$C$6*Stammdaten!$C$12*Stammdaten!$C$8))","v":""}]
["120.",null,null,null,null,null,null,{"$f":"IF(Stammdaten!$C$13=0,\"\",IF(I124=4,Stammdaten!$C$13,\"\"))","v":""},null,"",{"$f":"IF(SUM(C124:G124)=0,\"\",SUM(C124:G124)/(Stammdaten!$C$6*Stammdaten!$C$12*Stammdaten!$C$8))","v":""}]
["121.",null,null,null,null,null,null,{"$f":"IF(Stammdaten!$C$13=0,\"\",IF(I125=4,Stammdaten!$C$13,\"\"))","v":""},null,"",{"$f":"IF(SUM(C125:G125)=0,\"\",SUM(C125:G125)/(Stammdaten!$C$6*Stammdaten!$C$12*Stammdaten!$C$8))","v":""}]
["122.",null,null,null,null,null,null,{"$f":"IF(Stammdaten!$C$13=0,\"\",IF(I126=4,Stammdaten!$C$13,\"\"))","v":""},null,"",{"$f":"IF(SUM(C126:G126)=0,\"\",SUM(C126:G126)/(Stammdaten!$C$6*Stammdaten!$C$12*Stammdaten!$C$8))","v":""}]
["123.",null,null,null,null,null,null,{"$f":"IF(Stammdaten!$C$13=0,\"\",IF(I127=4,Stammdaten!$C$13,\"\"))","v":""},null,"",{"$f":"IF(SUM(C127:G127)=0,\"\",SUM(C127:G127)/(Stammdaten!$C$6*Stammdaten!$C$12*Stammdaten!$C$8))","v":""}]
["124.",null,null,null,null,null,null,{"$f":"IF(Stammdaten!$C$13=0,\"\",IF(I128=4,Stammdaten!$C$13,\"\"))","v":""},null,"",{"$f":"IF(SUM(C128:G128)=0,\"\",SUM(C128:G128)/(Stammdaten!$C$6*Stammdaten!$C$12*Stammdaten!$C$8))","v":""}]
["125.",null,null,null,null,null,null,{"$f":"IF(Stammdaten!$C$13=0,\"\",IF(I129=4,Stammdaten!$C$13,\"\"))","v":""},null,"",{"$f":"IF(SUM(C129:G129)=0,\"\",SUM(C129:G129)/(Stammdaten!$C$6*Stammdaten!$C$12*Stammdaten!$C$8))","v":""}]
["126.",null,null,null,null,null,null,{"$f":"IF(Stammdaten!$C$13=0,\"\",IF(I130=4,Stammdaten!$C$13,\"\"))","v":""},null,"",{"$f":"IF(SUM(C130:G130)=0,\"\",SUM(C130:G130)/(Stammdaten!$C$6*Stammdaten!$C$12*Stammdaten!$C$8))","v":""}]
["127.",null,null,null,null,null,null,{"$f":"IF(Stammdaten!$C$13=0,\"\",IF(I131=4,Stammdaten!$C$13,\"\"))","v":""},null,"",{"$f":"IF(SUM(C131:G131)=0,\"\",SUM(C131:G131)/(Stammdaten!$C$6*Stammdaten!$C$12*Stammdaten!$C$8))","v":""}]
["128.",null,null,null,null,null,null,{"$f":"IF(Stammdaten!$C$13=0,\"\",IF(I132=4,Stammdaten!$C$13,\"\"))","v":""},null,"",{"$f":"IF(SUM(C132:G132)=0,\"\",SUM(C132:G132)/(Stammdaten!$C$6*Stammdaten!$C$12*Stammdaten!$C$8))","v":""}]
["129.",null,null,null,null,null,null,{"$f":"IF(Stammdaten!$C$13=0,\"\",IF(I133=4,Stammdaten!$C$13,\"\"))","v":""},null,"",{"$f":"IF(SUM(C133:G133)=0,\"\",SUM(C133:G133)/(Stammdaten!$C$6*Stammdaten!$C$12*Stammdaten!$C$8))","v":""}]
["130.",null,null,null,null,null,null,{"$f":"IF(Stammdaten!$C$13=0,\"\",IF(I134=4,Stammdaten!$C$13,\"\"))","v":""},null,"",{"$f":"IF(SUM(C134:G134)=0,\"\",SUM(C134:G134)/(Stammdaten!$C$6*Stammdaten!$C$12*Stammdaten!$C$8))","v":""}]
["131.",null,null,null,null,null,null,{"$f":"IF(Stammdaten!$C$13=0,\"\",IF(I135=4,Stammdaten!$C$13,\"\"))","v":""},null,"",{"$f":"IF(SUM(C135:G135)=0,\"\",SUM(C135:G135)/(Stammdaten!$C$6*Stammdaten!$C$12*Stammdaten!$C$8))","v":""}]
["132.",null,null,null,null,null,null,{"$f":"IF(Stammdaten!$C$13=0,\"\",IF(I136=4,Stammdaten!$C$13,\"\"))","v":""},null,"",{"$f":"IF(SUM(C136:G136)=0,\"\",SUM(C136:G136)/(Stammdaten!$C$6*Stammdaten!$C$12*Stammdaten!$C$8))","v":""}]
["133.",null,null,null,null,null,null,{"$f":"IF(Stammdaten!$C$13=0,\"\",IF(I137=4,Stammdaten!$C$13,\"\"))","v":""},null,"",{"$f":"IF(SUM(C137:G137)=0,\"\",SUM(C137:G137)/(Stammdaten!$C$6*Stammdaten!$C$12*Stammdaten!$C$8))","v":""}]
["134.",null,null,null,null,null,null,{"$f":"IF(Stammdaten!$C$13=0,\"\",IF(I138=4,Stammdaten!$C$13,\"\"))","v":""},null,"",{"$f":"IF(SUM(C138:G138)=0,\"\",SUM(C138:G138)/(Stammdaten!$C$6*Stammdaten!$C$12*Stammdaten!$C$8))","v":""}]
["135.",null,null,null,null,null,null,{"$f":"IF(Stammdaten!$C$13=0,\"\",IF(I139=4,Stammdaten!$C$13,\"\"))","v":""},null,"",{"$f":"IF(SUM(C139:G139)=0,\"\",SUM(C139:G139)/(Stammdaten!$C$6*Stammdaten!$C$12*Stammdaten!$C$8))","v":""}]
["136.",null,null,null,null,null,null,{"$f":"IF(Stammdaten!$C$13=0,\"\",IF(I140=4,Stammdaten!$C$13,\"\"))","v":""},null,"",{"$f":"IF(SUM(C140:G140)=0,\"\",SUM(C140:G140)/(Stammdaten!$C$6*Stammdaten!$C$12*Stammdaten!$C$8))","v":""}]
["137.",null,null,null,null,null,null,{"$f":"IF(Stammdaten!$C$13=0,\"\",IF(I141=4,Stammdaten!$C$13,\"\"))","v":""},null,"",{"$f":"IF(SUM(C141:G141)=0,\"\",SUM(C141:G141)/(Stammdaten!$C$6*Stammdaten!$C$12*Stammdaten!$C$8))","v":""}]
["138.",null,null,null,null,null,null,{"$f":"IF(Stammdaten!$C$13=0,\"\",IF(I142=4,Stammdaten!$C$13,\"\"))","v":""},null,"",{"$f":"IF(SUM(C142:G142)=0,\"\",SUM(C142:G142)/(Stammdaten!$C$6*Stammdaten!$C$12*Stammdaten!$C$8))","v":""}]
["139.",null,null,null,null,null,null,{"$f":"IF(Stammdaten!$C$13=0,\"\",IF(I143=4,Stammdaten!$C$13,\"\"))","v":""},null,"",{"$f":"IF(SUM(C143:G143)=0,\"\",SUM(C143:G143)/(Stammdaten!$C$6*Stammdaten!$C$12*Stammdaten!$C$8))","v":""}]
["140.",null,null,null,null,null,null,{"$f":"IF(Stammdaten!$C$13=0,\"\",IF(I144=4,Stammdaten!$C$13,\"\"))","v":""},null,"",{"$f":"IF(SUM(C144:G144)=0,\"\",SUM(C144:G144)/(Stammdaten!$C$6*Stammdaten!$C$12*Stammdaten!$C$8))","v":""}]
["141.",null,null,null,null,null,null,{"$f":"IF(Stammdaten!$C$13=0,\"\",IF(I145=4,Stammdaten!$C$13,\"\"))","v":""},null,"",{"$f":"IF(SUM(C145:G145)=0,\"\",SUM(C145:G145)/(Stammdaten!$C$6*Stammdaten!$C$12*Stammdaten!$C$8))","v":""}]
["142.",null,null,null,null,null,null,{"$f":"IF(Stammdaten!$C$13=0,\"\",IF(I146=4,Stammdaten!$C$13,\"\"))","v":""},null,"",{"$f":"IF(SUM(C146:G146)=0,\"\",SUM(C146:G146)/(Stammdaten!$C$6*Stammdaten!$C$12*Stammdaten!$C$8))","v":""}]
["143.",null,null,null,null,null,null,{"$f":"IF(Stammdaten!$C$13=0,\"\",IF(I147=4,Stammdaten!$C$13,\"\"))","v":""},null,"",{"$f":"IF(SUM(C147:G147)=0,\"\",SUM(C147:G147)/(Stammdaten!$C$6*Stammdaten!$C$12*Stammdaten!$C$8))","v":""}]
["144.",null,null,null,null,null,null,{"$f":"IF(Stammdaten!$C$13=0,\"\",IF(I148=4,Stammdaten!$C$13,\"\"))","v":""},null,"",{"$f":"IF(SUM(C148:G148)=0,\"\",SUM(C148:G148)/(Stammdaten!$C$6*Stammdaten!$C$12*Stammdaten!$C$8))","v":""}]
["145.",null,null,null,null,null,null,{"$f":"IF(Stammdaten!$C$13=0,\"\",IF(I149=4,Stammdaten!$C$13,\"\"))","v":""},null,"",{"$f":"IF(SUM(C149:G149)=0,\"\",SUM(C149:G149)/(Stammdaten!$C$6*Stammdaten!$C$12*Stammdaten!$C$8))","v":""}]
["146.",null,null,null,null,null,null,{"$f":"IF(Stammdaten!$C$13=0,\"\",IF(I150=4,Stammdaten!$C$13,\"\"))","v":""},null,"",{"$f":"IF(SUM(C150:G150)=0,\"\",SUM(C150:G150)/(Stammdaten!$C$6*Stammdaten!$C$12*Stammdaten!$C$8))","v":""}]
["147.",null,null,null,null,null,null,{"$f":"IF(Stammdaten!$C$13=0,\"\",IF(I151=4,Stammdaten!$C$13,\"\"))","v":""},null,"",{"$f":"IF(SUM(C151:G151)=0,\"\",SUM(C151:G151)/(Stammdaten!$C$6*Stammdaten!$C$12*Stammdaten!$C$8))","v":""}]
["148.",null,null,null,null,null,null,{"$f":"IF(Stammdaten!$C$13=0,\"\",IF(I152=4,Stammdaten!$C$13,\"\"))","v":""},null,"",{"$f":"IF(SUM(C152:G152)=0,\"\",SUM(C152:G152)/(Stammdaten!$C$6*Stammdaten!$C$12*Stammdaten!$C$8))","v":""}]
["149.",null,null,null,null,null,null,{"$f":"IF(Stammdaten!$C$13=0,\"\",IF(I153=4,Stammdaten!$C$13,\"\"))","v":""},null,"",{"$f":"IF(SUM(C153:G153)=0,\"\",SUM(C153:G153)/(Stammdaten!$C$6*Stammdaten!$C$12*Stammdaten!$C$8))","v":""}]
["150.",null,null,null,null,null,null,{"$f":"IF(Stammdaten!$C$13=0,\"\",IF(I154=4,Stammdaten!$C$13,\"\"))","v":""},null,"",{"$f":"IF(SUM(C154:G154)=0,\"\",SUM(C154:G154)/(Stammdaten!$C$6*Stammdaten!$C$12*Stammdaten!$C$8))","v":""}]

{"sheet":"Datensammler","index":3,"n_rows":151,"n_cols":3,"rows_kept":151,"cut":false,"hidden":false,"merged":[]}
["Name:","Summe:","Klasse:"]
[{"$f":"IF(Hauptmaske!B5=\"\",\"\",Hauptmaske!B5)","v":""},{"$f":"IF(SUM(Hauptmaske!C5:H5)=0,0,Hauptmaske!J5)","v":0},{"$f":"IF(SUM(Hauptmaske!C5:H5)=0,0,Hauptmaske!I5)","v":0}]
[{"$f":"IF(Hauptmaske!B6=\"\",\"\",Hauptmaske!B6)","v":""},{"$f":"IF(SUM(Hauptmaske!C6:H6)=0,0,Hauptmaske!J6)","v":0},{"$f":"IF(SUM(Hauptmaske!C6:H6)=0,0,Hauptmaske!I6)","v":0}]
[{"$f":"IF(Hauptmaske!B7=\"\",\"\",Hauptmaske!B7)","v":""},{"$f":"IF(SUM(Hauptmaske!C7:H7)=0,0,Hauptmaske!J7)","v":0},{"$f":"IF(SUM(Hauptmaske!C7:H7)=0,0,Hauptmaske!I7)","v":0}]
[{"$f":"IF(Hauptmaske!B8=\"\",\"\",Hauptmaske!B8)","v":""},{"$f":"IF(SUM(Hauptmaske!C8:H8)=0,0,Hauptmaske!J8)","v":0},{"$f":"IF(SUM(Hauptmaske!C8:H8)=0,0,Hauptmaske!I8)","v":0}]
[{"$f":"IF(Hauptmaske!B9=\"\",\"\",Hauptmaske!B9)","v":""},{"$f":"IF(SUM(Hauptmaske!C9:H9)=0,0,Hauptmaske!J9)","v":0},{"$f":"IF(SUM(Hauptmaske!C9:H9)=0,0,Hauptmaske!I9)","v":0}]
[{"$f":"IF(Hauptmaske!B10=\"\",\"\",Hauptmaske!B10)","v":""},{"$f":"IF(SUM(Hauptmaske!C10:H10)=0,0,Hauptmaske!J10)","v":0},{"$f":"IF(SUM(Hauptmaske!C10:H10)=0,0,Hauptmaske!I10)","v":0}]
[{"$f":"IF(Hauptmaske!B11=\"\",\"\",Hauptmaske!B11)","v":""},{"$f":"IF(SUM(Hauptmaske!C11:H11)=0,0,Hauptmaske!J11)","v":0},{"$f":"IF(SUM(Hauptmaske!C11:H11)=0,0,Hauptmaske!I11)","v":0}]
[{"$f":"IF(Hauptmaske!B12=\"\",\"\",Hauptmaske!B12)","v":""},{"$f":"IF(SUM(Hauptmaske!C12:H12)=0,0,Hauptmaske!J12)","v":0},{"$f":"IF(SUM(Hauptmaske!C12:H12)=0,0,Hauptmaske!I12)","v":0}]
[{"$f":"IF(Hauptmaske!B13=\"\",\"\",Hauptmaske!B13)","v":""},{"$f":"IF(SUM(Hauptmaske!C13:H13)=0,0,Hauptmaske!J13)","v":0},{"$f":"IF(SUM(Hauptmaske!C13:H13)=0,0,Hauptmaske!I13)","v":0}]
[{"$f":"IF(Hauptmaske!B14=\"\",\"\",Hauptmaske!B14)","v":""},{"$f":"IF(SUM(Hauptmaske!C14:H14)=0,0,Hauptmaske!J14)","v":0},{"$f":"IF(SUM(Hauptmaske!C14:H14)=0,0,Hauptmaske!I14)","v":0}]
[{"$f":"IF(Hauptmaske!B15=\"\",\"\",Hauptmaske!B15)","v":""},{"$f":"IF(SUM(Hauptmaske!C15:H15)=0,0,Hauptmaske!J15)","v":0},{"$f":"IF(SUM(Hauptmaske!C15:H15)=0,0,Hauptmaske!I15)","v":0}]
[{"$f":"IF(Hauptmaske!B16=\"\",\"\",Hauptmaske!B16)","v":""},{"$f":"IF(SUM(Hauptmaske!C16:H16)=0,0,Hauptmaske!J16)","v":0},{"$f":"IF(SUM(Hauptmaske!C16:H16)=0,0,Hauptmaske!I16)","v":0}]
[{"$f":"IF(Hauptmaske!B17=\"\",\"\",Hauptmaske!B17)","v":""},{"$f":"IF(SUM(Hauptmaske!C17:H17)=0,0,Hauptmaske!J17)","v":0},{"$f":"IF(SUM(Hauptmaske!C17:H17)=0,0,Hauptmaske!I17)","v":0}]
[{"$f":"IF(Hauptmaske!B18=\"\",\"\",Hauptmaske!B18)","v":""},{"$f":"IF(SUM(Hauptmaske!C18:H18)=0,0,Hauptmaske!J18)","v":0},{"$f":"IF(SUM(Hauptmaske!C18:H18)=0,0,Hauptmaske!I18)","v":0}]
[{"$f":"IF(Hauptmaske!B19=\"\",\"\",Hauptmaske!B19)","v":""},{"$f":"IF(SUM(Hauptmaske!C19:H19)=0,0,Hauptmaske!J19)","v":0},{"$f":"IF(SUM(Hauptmaske!C19:H19)=0,0,Hauptmaske!I19)","v":0}]
[{"$f":"IF(Hauptmaske!B20=\"\",\"\",Hauptmaske!B20)","v":""},{"$f":"IF(SUM(Hauptmaske!C20:H20)=0,0,Hauptmaske!J20)","v":0},{"$f":"IF(SUM(Hauptmaske!C20:H20)=0,0,Hauptmaske!I20)","v":0}]
[{"$f":"IF(Hauptmaske!B21=\"\",\"\",Hauptmaske!B21)","v":""},{"$f":"IF(SUM(Hauptmaske!C21:H21)=0,0,Hauptmaske!J21)","v":0},{"$f":"IF(SUM(Hauptmaske!C21:H21)=0,0,Hauptmaske!I21)","v":0}]
[{"$f":"IF(Hauptmaske!B22=\"\",\"\",Hauptmaske!B22)","v":""},{"$f":"IF(SUM(Hauptmaske!C22:H22)=0,0,Hauptmaske!J22)","v":0},{"$f":"IF(SUM(Hauptmaske!C22:H22)=0,0,Hauptmaske!I22)","v":0}]
[{"$f":"IF(Hauptmaske!B23=\"\",\"\",Hauptmaske!B23)","v":""},{"$f":"IF(SUM(Hauptmaske!C23:H23)=0,0,Hauptmaske!J23)","v":0},{"$f":"IF(SUM(Hauptmaske!C23:H23)=0,0,Hauptmaske!I23)","v":0}]
[{"$f":"IF(Hauptmaske!B24=\"\",\"\",Hauptmaske!B24)","v":""},{"$f":"IF(SUM(Hauptmaske!C24:H24)=0,0,Hauptmaske!J24)","v":0},{"$f":"IF(SUM(Hauptmaske!C24:H24)=0,0,Hauptmaske!I24)","v":0}]
[{"$f":"IF(Hauptmaske!B25=\"\",\"\",Hauptmaske!B25)","v":""},{"$f":"IF(SUM(Hauptmaske!C25:H25)=0,0,Hauptmaske!J25)","v":0},{"$f":"IF(SUM(Hauptmaske!C25:H25)=0,0,Hauptmaske!I25)","v":0}]
[{"$f":"IF(Hauptmaske!B26=\"\",\"\",Hauptmaske!B26)","v":""},{"$f":"IF(SUM(Hauptmaske!C26:H26)=0,0,Hauptmaske!J26)","v":0},{"$f":"IF(SUM(Hauptmaske!C26:H26)=0,0,Hauptmaske!I26)","v":0}]
[{"$f":"IF(Hauptmaske!B27=\"\",\"\",Hauptmaske!B27)","v":""},{"$f":"IF(SUM(Hauptmaske!C27:H27)=0,0,Hauptmaske!J27)","v":0},{"$f":"IF(SUM(Hauptmaske!C27:H27)=0,0,Hauptmaske!I27)","v":0}]
[{"$f":"IF(Hauptmaske!B28=\"\",\"\",Hauptmaske!B28)","v":""},{"$f":"IF(SUM(Hauptmaske!C28:H28)=0,0,Hauptmaske!J28)","v":0},{"$f":"IF(SUM(Hauptmaske!C28:H28)=0,0,Hauptmaske!I28)","v":0}]
[{"$f":"IF(Hauptmaske!B29=\"\",\"\",Hauptmaske!B29)","v":""},{"$f":"IF(SUM(Hauptmaske!C29:H29)=0,0,Hauptmaske!J29)","v":0},{"$f":"IF(SUM(Hauptmaske!C29:H29)=0,0,Hauptmaske!I29)","v":0}]
[{"$f":"IF(Hauptmaske!B30=\"\",\"\",Hauptmaske!B30)","v":""},{"$f":"IF(SUM(Hauptmaske!C30:H30)=0,0,Hauptmaske!J30)","v":0},{"$f":"IF(SUM(Hauptmaske!C30:H30)=0,0,Hauptmaske!I30)","v":0}]
[{"$f":"IF(Hauptmaske!B31=\"\",\"\",Hauptmaske!B31)","v":""},{"$f":"IF(SUM(Hauptmaske!C31:H31)=0,0,Hauptmaske!J31)","v":0},{"$f":"IF(SUM(Hauptmaske!C31:H31)=0,0,Hauptmaske!I31)","v":0}]
[{"$f":"IF(Hauptmaske!B32=\"\",\"\",Hauptmaske!B32)","v":""},{"$f":"IF(SUM(Hauptmaske!C32:H32)=0,0,Hauptmaske!J32)","v":0},{"$f":"IF(SUM(Hauptmaske!C32:H32)=0,0,Hauptmaske!I32)","v":0}]
[{"$f":"IF(Hauptmaske!B33=\"\",\"\",Hauptmaske!B33)","v":""},{"$f":"IF(SUM(Hauptmaske!C33:H33)=0,0,Hauptmaske!J33)","v":0},{"$f":"IF(SUM(Hauptmaske!C33:H33)=0,0,Hauptmaske!I33)","v":0}]
[{"$f":"IF(Hauptmaske!B34=\"\",\"\",Hauptmaske!B34)","v":""},{"$f":"IF(SUM(Hauptmaske!C34:H34)=0,0,Hauptmaske!J34)","v":0},{"$f":"IF(SUM(Hauptmaske!C34:H34)=0,0,Hauptmaske!I34)","v":0}]
[{"$f":"IF(Hauptmaske!B35=\"\",\"\",Hauptmaske!B35)","v":""},{"$f":"IF(SUM(Hauptmaske!C35:H35)=0,0,Hauptmaske!J35)","v":0},{"$f":"IF(SUM(Hauptmaske!C35:H35)=0,0,Hauptmaske!I35)","v":0}]
[{"$f":"IF(Hauptmaske!B36=\"\",\"\",Hauptmaske!B36)","v":""},{"$f":"IF(SUM(Hauptmaske!C36:H36)=0,0,Hauptmaske!J36)","v":0},{"$f":"IF(SUM(Hauptmaske!C36:H36)=0,0,Hauptmaske!I36)","v":0}]
[{"$f":"IF(Hauptmaske!B37=\"\",\"\",Hauptmaske!B37)","v":""},{"$f":"IF(SUM(Hauptmaske!C37:H37)=0,0,Hauptmaske!J37)","v":0},{"$f":"IF(SUM(Hauptmaske!C37:H37)=0,0,Hauptmaske!I37)","v":0}]
[{"$f":"IF(Hauptmaske!B38=\"\",\"\",Hauptmaske!B38)","v":""},{"$f":"IF(SUM(Hauptmaske!C38:H38)=0,0,Hauptmaske!J38)","v":0},{"$f":"IF(SUM(Hauptmaske!C38:H38)=0,0,Hauptmaske!I38)","v":0}]
[{"$f":"IF(Hauptmaske!B39=\"\",\"\",Hauptmaske!B39)","v":""},{"$f":"IF(SUM(Hauptmaske!C39:H39)=0,0,Hauptmaske!J39)","v":0},{"$f":"IF(SUM(Hauptmaske!C39:H39)=0,0,Hauptmaske!I39)","v":0}]
[{"$f":"IF(Hauptmaske!B40=\"\",\"\",Hauptmaske!B40)","v":""},{"$f":"IF(SUM(Hauptmaske!C40:H40)=0,0,Hauptmaske!J40)","v":0},{"$f":"IF(SUM(Hauptmaske!C40:H40)=0,0,Hauptmaske!I40)","v":0}]
[{"$f":"IF(Hauptmaske!B41=\"\",\"\",Hauptmaske!B41)","v":""},{"$f":"IF(SUM(Hauptmaske!C41:H41)=0,0,Hauptmaske!J41)","v":0},{"$f":"IF(SUM(Hauptmaske!C41:H41)=0,0,Hauptmaske!I41)","v":0}]
[{"$f":"IF(Hauptmaske!B42=\"\",\"\",Hauptmaske!B42)","v":""},{"$f":"IF(SUM(Hauptmaske!C42:H42)=0,0,Hauptmaske!J42)","v":0},{"$f":"IF(SUM(Hauptmaske!C42:H42)=0,0,Hauptmaske!I42)","v":0}]
[{"$f":"IF(Hauptmaske!B43=\"\",\"\",Hauptmaske!B43)","v":""},{"$f":"IF(SUM(Hauptmaske!C43:H43)=0,0,Hauptmaske!J43)","v":0},{"$f":"IF(SUM(Hauptmaske!C43:H43)=0,0,Hauptmaske!I43)","v":0}]
[{"$f":"IF(Hauptmaske!B44=\"\",\"\",Hauptmaske!B44)","v":""},{"$f":"IF(SUM(Hauptmaske!C44:H44)=0,0,Hauptmaske!J44)","v":0},{"$f":"IF(SUM(Hauptmaske!C44:H44)=0,0,Hauptmaske!I44)","v":0}]
[{"$f":"IF(Hauptmaske!B45=\"\",\"\",Hauptmaske!B45)","v":""},{"$f":"IF(SUM(Hauptmaske!C45:H45)=0,0,Hauptmaske!J45)","v":0},{"$f":"IF(SUM(Hauptmaske!C45:H45)=0,0,Hauptmaske!I45)","v":0}]
[{"$f":"IF(Hauptmaske!B46=\"\",\"\",Hauptmaske!B46)","v":""},{"$f":"IF(SUM(Hauptmaske!C46:H46)=0,0,Hauptmaske!J46)","v":0},{"$f":"IF(SUM(Hauptmaske!C46:H46)=0,0,Hauptmaske!I46)","v":0}]
[{"$f":"IF(Hauptmaske!B47=\"\",\"\",Hauptmaske!B47)","v":""},{"$f":"IF(SUM(Hauptmaske!C47:H47)=0,0,Hauptmaske!J47)","v":0},{"$f":"IF(SUM(Hauptmaske!C47:H47)=0,0,Hauptmaske!I47)","v":0}]
[{"$f":"IF(Hauptmaske!B48=\"\",\"\",Hauptmaske!B48)","v":""},{"$f":"IF(SUM(Hauptmaske!C48:H48)=0,0,Hauptmaske!J48)","v":0},{"$f":"IF(SUM(Hauptmaske!C48:H48)=0,0,Hauptmaske!I48)","v":0}]
[{"$f":"IF(Hauptmaske!B49=\"\",\"\",Hauptmaske!B49)","v":""},{"$f":"IF(SUM(Hauptmaske!C49:H49)=0,0,Hauptmaske!J49)","v":0},{"$f":"IF(SUM(Hauptmaske!C49:H49)=0,0,Hauptmaske!I49)","v":0}]
[{"$f":"IF(Hauptmaske!B50=\"\",\"\",Hauptmaske!B50)","v":""},{"$f":"IF(SUM(Hauptmaske!C50:H50)=0,0,Hauptmaske!J50)","v":0},{"$f":"IF(SUM(Hauptmaske!C50:H50)=0,0,Hauptmaske!I50)","v":0}]
[{"$f":"IF(Hauptmaske!B51=\"\",\"\",Hauptmaske!B51)","v":""},{"$f":"IF(SUM(Hauptmaske!C51:H51)=0,0,Hauptmaske!J51)","v":0},{"$f":"IF(SUM(Hauptmaske!C51:H51)=0,0,Hauptmaske!I51)","v":0}]
[{"$f":"IF(Hauptmaske!B52=\"\",\"\",Hauptmaske!B52)","v":""},{"$f":"IF(SUM(Hauptmaske!C52:H52)=0,0,Hauptmaske!J52)","v":0},{"$f":"IF(SUM(Hauptmaske!C52:H52)=0,0,Hauptmaske!I52)","v":0}]
[{"$f":"IF(Hauptmaske!B53=\"\",\"\",Hauptmaske!B53)","v":""},{"$f":"IF(SUM(Hauptmaske!C53:H53)=0,0,Hauptmaske!J53)","v":0},{"$f":"IF(SUM(Hauptmaske!C53:H53)=0,0,Hauptmaske!I53)","v":0}]
[{"$f":"IF(Hauptmaske!B54=\"\",\"\",Hauptmaske!B54)","v":""},{"$f":"IF(SUM(Hauptmaske!C54:H54)=0,0,Hauptmaske!J54)","v":0},{"$f":"IF(SUM(Hauptmaske!C54:H54)=0,0,Hauptmaske!I54)","v":0}]
[{"$f":"IF(Hauptmaske!B55=\"\",\"\",Hauptmaske!B55)","v":""},{"$f":"IF(SUM(Hauptmaske!C55:H55)=0,0,Hauptmaske!J55)","v":0},{"$f":"IF(SUM(Hauptmaske!C55:H55)=0,0,Hauptmaske!I55)","v":0}]
[{"$f":"IF(Hauptmaske!B56=\"\",\"\",Hauptmaske!B56)","v":""},{"$f":"IF(SUM(Hauptmaske!C56:H56)=0,0,Hauptmaske!J56)","v":0},{"$f":"IF(SUM(Hauptmaske!C56:H56)=0,0,Hauptmaske!I56)","v":0}]
[{"$f":"IF(Hauptmaske!B57=\"\",\"\",Hauptmaske!B57)","v":""},{"$f":"IF(SUM(Hauptmaske!C57:H57)=0,0,Hauptmaske!J57)","v":0},{"$f":"IF(SUM(Hauptmaske!C57:H57)=0,0,Hauptmaske!I57)","v":0}]
[{"$f":"IF(Hauptmaske!B58=\"\",\"\",Hauptmaske!B58)","v":""},{"$f":"IF(SUM(Hauptmaske!C58:H58)=0,0,Hauptmaske!J58)","v":0},{"$f":"IF(SUM(Hauptmaske!C58:H58)=0,0,Hauptmaske!I58)","v":0}]
[{"$f":"IF(Hauptmaske!B59=\"\",\"\",Hauptmaske!B59)","v":""},{"$f":"IF(SUM(Hauptmaske!C59:H59)=0,0,Hauptmaske!J59)","v":0},{"$f":"IF(SUM(Hauptmaske!C59:H59)=0,0,Hauptmaske!I59)","v":0}]
[{"$f":"IF(Hauptmaske!B60=\"\",\"\",Hauptmaske!B60)","v":""},{"$f":"IF(SUM(Hauptmaske!C60:H60)=0,0,Hauptmaske!J60)","v":0},{"$f":"IF(SUM(Hauptmaske!C60:H60)=0,0,Hauptmaske!I60)","v":0}]
[{"$f":"IF(Hauptmaske!B61=\"\",\"\",Hauptmaske!B61)","v":""},{"$f":"IF(SUM(Hauptmaske!C61:H61)=0,0,Hauptmaske!J61)","v":0},{"$f":"IF(SUM(Hauptmaske!C61:H61)=0,0,Hauptmaske!I61)","v":0}]
[{"$f":"IF(Hauptmaske!B62=\"\",\"\",Hauptmaske!B62)","v":""},{"$f":"IF(SUM(Hauptmaske!C62:H62)=0,0,Hauptmaske!J62)","v":0},{"$f":"IF(SUM(Hauptmaske!C62:H62)=0,0,Hauptmaske!I62)","v":0}]
[{"$f":"IF(Hauptmaske!B63=\"\",\"\",Hauptmaske!B63)","v":""},{"$f":"IF(SUM(Hauptmaske!C63:H63)=0,0,Hauptmaske!J63)","v":0},{"$f":"IF(SUM(Hauptmaske!C63:H63)=0,0,Hauptmaske!I63)","v":0}]
[{"$f":"IF(Hauptmaske!B64=\"\",\"\",Hauptmaske!B64)","v":""},{"$f":"IF(SUM(Hauptmaske!C64:H64)=0,0,Hauptmaske!J64)","v":0},{"$f":"IF(SUM(Hauptmaske!C64:H64)=0,0,Hauptmaske!I64)","v":0}]
[{"$f":"IF(Hauptmaske!B65=\"\",\"\",Hauptmaske!B65)","v":""},{"$f":"IF(SUM(Hauptmaske!C65:H65)=0,0,Hauptmaske!J65)","v":0},{"$f":"IF(SUM(Hauptmaske!C65:H65)=0,0,Hauptmaske!I65)","v":0}]
[{"$f":"IF(Hauptmaske!B66=\"\",\"\",Hauptmaske!B66)","v":""},{"$f":"IF(SUM(Hauptmaske!C66:H66)=0,0,Hauptmaske!J66)","v":0},{"$f":"IF(SUM(Hauptmaske!C66:H66)=0,0,Hauptmaske!I66)","v":0}]
[{"$f":"IF(Hauptmaske!B67=\"\",\"\",Hauptmaske!B67)","v":""},{"$f":"IF(SUM(Hauptmaske!C67:H67)=0,0,Hauptmaske!J67)","v":0},{"$f":"IF(SUM(Hauptmaske!C67:H67)=0,0,Hauptmaske!I67)","v":0}]
[{"$f":"IF(Hauptmaske!B68=\"\",\"\",Hauptmaske!B68)","v":""},{"$f":"IF(SUM(Hauptmaske!C68:H68)=0,0,Hauptmaske!J68)","v":0},{"$f":"IF(SUM(Hauptmaske!C68:H68)=0,0,Hauptmaske!I68)","v":0}]
[{"$f":"IF(Hauptmaske!B69=\"\",\"\",Hauptmaske!B69)","v":""},{"$f":"IF(SUM(Hauptmaske!C69:H69)=0,0,Hauptmaske!J69)","v":0},{"$f":"IF(SUM(Hauptmaske!C69:H69)=0,0,Hauptmaske!I69)","v":0}]
[{"$f":"IF(Hauptmaske!B70=\"\",\"\",Hauptmaske!B70)","v":""},{"$f":"IF(SUM(Hauptmaske!C70:H70)=0,0,Hauptmaske!J70)","v":0},{"$f":"IF(SUM(Hauptmaske!C70:H70)=0,0,Hauptmaske!I70)","v":0}]
[{"$f":"IF(Hauptmaske!B71=\"\",\"\",Hauptmaske!B71)","v":""},{"$f":"IF(SUM(Hauptmaske!C71:H71)=0,0,Hauptmaske!J71)","v":0},{"$f":"IF(SUM(Hauptmaske!C71:H71)=0,0,Hauptmaske!I71)","v":0}]
[{"$f":"IF(Hauptmaske!B72=\"\",\"\",Hauptmaske!B72)","v":""},{"$f":"IF(SUM(Hauptmaske!C72:H72)=0,0,Hauptmaske!J72)","v":0},{"$f":"IF(SUM(Hauptmaske!C72:H72)=0,0,Hauptmaske!I72)","v":0}]
[{"$f":"IF(Hauptmaske!B73=\"\",\"\",Hauptmaske!B73)","v":""},{"$f":"IF(SUM(Hauptmaske!C73:H73)=0,0,Hauptmaske!J73)","v":0},{"$f":"IF(SUM(Hauptmaske!C73:H73)=0,0,Hauptmaske!I73)","v":0}]
[{"$f":"IF(Hauptmaske!B74=\"\",\"\",Hauptmaske!B74)","v":""},{"$f":"IF(SUM(Hauptmaske!C74:H74)=0,0,Hauptmaske!J74)","v":0},{"$f":"IF(SUM(Hauptmaske!C74:H74)=0,0,Hauptmaske!I74)","v":0}]
[{"$f":"IF(Hauptmaske!B75=\"\",\"\",Hauptmaske!B75)","v":""},{"$f":"IF(SUM(Hauptmaske!C75:H75)=0,0,Hauptmaske!J75)","v":0},{"$f":"IF(SUM(Hauptmaske!C75:H75)=0,0,Hauptmaske!I75)","v":0}]
[{"$f":"IF(Hauptmaske!B76=\"\",\"\",Hauptmaske!B76)","v":""},{"$f":"IF(SUM(Hauptmaske!C76:H76)=0,0,Hauptmaske!J76)","v":0},{"$f":"IF(SUM(Hauptmaske!C76:H76)=0,0,Hauptmaske!I76)","v":0}]
[{"$f":"IF(Hauptmaske!B77=\"\",\"\",Hauptmaske!B77)","v":""},{"$f":"IF(SUM(Hauptmaske!C77:H77)=0,0,Hauptmaske!J77)","v":0},{"$f":"IF(SUM(Hauptmaske!C77:H77)=0,0,Hauptmaske!I77)","v":0}]
[{"$f":"IF(Hauptmaske!B78=\"\",\"\",Hauptmaske!B78)","v":""},{"$f":"IF(SUM(Hauptmaske!C78:H78)=0,0,Hauptmaske!J78)","v":0},{"$f":"IF(SUM(Hauptmaske!C78:H78)=0,0,Hauptmaske!I78)","v":0}]
[{"$f":"IF(Hauptmaske!B79=\"\",\"\",Hauptmaske!B79)","v":""},{"$f":"IF(SUM(Hauptmaske!C79:H79)=0,0,Hauptmaske!J79)","v":0},{"$f":"IF(SUM(Hauptmaske!C79:H79)=0,0,Hauptmaske!I79)","v":0}]
[{"$f":"IF(Hauptmaske!B80=\"\",\"\",Hauptmaske!B80)","v":""},{"$f":"IF(SUM(Hauptmaske!C80:H80)=0,0,Hauptmaske!J80)","v":0},{"$f":"IF(SUM(Hauptmaske!C80:H80)=0,0,Hauptmaske!I80)","v":0}]
[{"$f":"IF(Hauptmaske!B81=\"\",\"\",Hauptmaske!B81)","v":""},{"$f":"IF(SUM(Hauptmaske!C81:H81)=0,0,Hauptmaske!J81)","v":0},{"$f":"IF(SUM(Hauptmaske!C81:H81)=0,0,Hauptmaske!I81)","v":0}]
[{"$f":"IF(Hauptmaske!B82=\"\",\"\",Hauptmaske!B82)","v":""},{"$f":"IF(SUM(Hauptmaske!C82:H82)=0,0,Hauptmaske!J82)","v":0},{"$f":"IF(SUM(Hauptmaske!C82:H82)=0,0,Hauptmaske!I82)","v":0}]
[{"$f":"IF(Hauptmaske!B83=\"\",\"\",Hauptmaske!B83)","v":""},{"$f":"IF(SUM(Hauptmaske!C83:H83)=0,0,Hauptmaske!J83)","v":0},{"$f":"IF(SUM(Hauptmaske!C83:H83)=0,0,Hauptmaske!I83)","v":0}]
[{"$f":"IF(Hauptmaske!B84=\"\",\"\",Hauptmaske!B84)","v":""},{"$f":"IF(SUM(Hauptmaske!C84:H84)=0,0,Hauptmaske!J84)","v":0},{"$f":"IF(SUM(Hauptmaske!C84:H84)=0,0,Hauptmaske!I84)","v":0}]
[{"$f":"IF(Hauptmaske!B85=\"\",\"\",Hauptmaske!B85)","v":""},{"$f":"IF(SUM(Hauptmaske!C85:H85)=0,0,Hauptmaske!J85)","v":0},{"$f":"IF(SUM(Hauptmaske!C85:H85)=0,0,Hauptmaske!I85)","v":0}]
[{"$f":"IF(Hauptmaske!B86=\"\",\"\",Hauptmaske!B86)","v":""},{"$f":"IF(SUM(Hauptmaske!C86:H86)=0,0,Hauptmaske!J86)","v":0},{"$f":"IF(SUM(Hauptmaske!C86:H86)=0,0,Hauptmaske!I86)","v":0}]
[{"$f":"IF(Hauptmaske!B87=\"\",\"\",Hauptmaske!B87)","v":""},{"$f":"IF(SUM(Hauptmaske!C87:H87)=0,0,Hauptmaske!J87)","v":0},{"$f":"IF(SUM(Hauptmaske!C87:H87)=0,0,Hauptmaske!I87)","v":0}]
[{"$f":"IF(Hauptmaske!B88=\"\",\"\",Hauptmaske!B88)","v":""},{"$f":"IF(SUM(Hauptmaske!C88:H88)=0,0,Hauptmaske!J88)","v":0},{"$f":"IF(SUM(Hauptmaske!C88:H88)=0,0,Hauptmaske!I88)","v":0}]
[{"$f":"IF(Hauptmaske!B89=\"\",\"\",Hauptmaske!B89)","v":""},{"$f":"IF(SUM(Hauptmaske!C89:H89)=0,0,Hauptmaske!J89)","v":0},{"$f":"IF(SUM(Hauptmaske!C89:H89)=0,0,Hauptmaske!I89)","v":0}]
[{"$f":"IF(Hauptmaske!B90=\"\",\"\",Hauptmaske!B90)","v":""},{"$f":"IF(SUM(Hauptmaske!C90:H90)=0,0,Hauptmaske!J90)","v":0},{"$f":"IF(SUM(Hauptmaske!C90:H90)=0,0,Hauptmaske!I90)","v":0}]
[{"$f":"IF(Hauptmaske!B91=\"\",\"\",Hauptmaske!B91)","v":""},{"$f":"IF(SUM(Hauptmaske!C91:H91)=0,0,Hauptmaske!J91)","v":0},{"$f":"IF(SUM(Hauptmaske!C91:H91)=0,0,Hauptmaske!I91)","v":0}]
[{"$f":"IF(Hauptmaske!B92=\"\",\"\",Hauptmaske!B92)","v":""},{"$f":"IF(SUM(Hauptmaske!C92:H92)=0,0,Hauptmaske!J92)","v":0},{"$f":"IF(SUM(Hauptmaske!C92:H92)=0,0,Hauptmaske!I92)","v":0}]
[{"$f":"IF(Hauptmaske!B93=\"\",\"\",Hauptmaske!B93)","v":""},{"$f":"IF(SUM(Hauptmaske!C93:H93)=0,0,Hauptmaske!J93)","v":0},{"$f":"IF(SUM(Hauptmaske!C93:H93)=0,0,Hauptmaske!I93)","v":0}]
[{"$f":"IF(Hauptmaske!B94=\"\",\"\",Hauptmaske!B94)","v":""},{"$f":"IF(SUM(Hauptmaske!C94:H94)=0,0,Hauptmaske!J94)","v":0},{"$f":"IF(SUM(Hauptmaske!C94:H94)=0,0,Hauptmaske!I94)","v":0}]
[{"$f":"IF(Hauptmaske!B95=\"\",\"\",Hauptmaske!B95)","v":""},{"$f":"IF(SUM(Hauptmaske!C95:H95)=0,0,Hauptmaske!J95)","v":0},{"$f":"IF(SUM(Hauptmaske!C95:H95)=0,0,Hauptmaske!I95)","v":0}]
[{"$f":"IF(Hauptmaske!B96=\"\",\"\",Hauptmaske!B96)","v":""},{"$f":"IF(SUM(Hauptmaske!C96:H96)=0,0,Hauptmaske!J96)","v":0},{"$f":"IF(SUM(Hauptmaske!C96:H96)=0,0,Hauptmaske!I96)","v":0}]
[{"$f":"IF(Hauptmaske!B97=\"\",\"\",Hauptmaske!B97)","v":""},{"$f":"IF(SUM(Hauptmaske!C97:H97)=0,0,Hauptmaske!J97)","v":0},{"$f":"IF(SUM(Hauptmaske!C97:H97)=0,0,Hauptmaske!I97)","v":0}]
[{"$f":"IF(Hauptmaske!B98=\"\",\"\",Hauptmaske!B98)","v":""},{"$f":"IF(SUM(Hauptmaske!C98:H98)=0,0,Hauptmaske!J98)","v":0},{"$f":"IF(SUM(Hauptmaske!C98:H98)=0,0,Hauptmaske!I98)","v":0}]
[{"$f":"IF(Hauptmaske!B99=\"\",\"\",Hauptmaske!B99)","v":""},{"$f":"IF(SUM(Hauptmaske!C99:H99)=0,0,Hauptmaske!J99)","v":0},{"$f":"IF(SUM(Hauptmaske!C99:H99)=0,0,Hauptmaske!I99)","v":0}]
[{"$f":"IF(Hauptmaske!B100=\"\",\"\",Hauptmaske!B100)","v":""},{"$f":"IF(SUM(Hauptmaske!C100:H100)=0,0,Hauptmaske!J100)","v":0},{"$f":"IF(SUM(Hauptmaske!C100:H100)=0,0,Hauptmaske!I100)","v":0}]
[{"$f":"IF(Hauptmaske!B101=\"\",\"\",Hauptmaske!B101)","v":""},{"$f":"IF(SUM(Hauptmaske!C101:H101)=0,0,Hauptmaske!J101)","v":0},{"$f":"IF(SUM(Hauptmaske!C101:H101)=0,0,Hauptmaske!I101)","v":0}]
[{"$f":"IF(Hauptmaske!B102=\"\",\"\",Hauptmaske!B102)","v":""},{"$f":"IF(SUM(Hauptmaske!C102:H102)=0,0,Hauptmaske!J102)","v":0},{"$f":"IF(SUM(Hauptmaske!C102:H102)=0,0,Hauptmaske!I102)","v":0}]
[{"$f":"IF(Hauptmaske!B103=\"\",\"\",Hauptmaske!B103)","v":""},{"$f":"IF(SUM(Hauptmaske!C103:H103)=0,0,Hauptmaske!J103)","v":0},{"$f":"IF(SUM(Hauptmaske!C103:H103)=0,0,Hauptmaske!I103)","v":0}]
[{"$f":"IF(Hauptmaske!B104=\"\",\"\",Hauptmaske!B104)","v":""},{"$f":"IF(SUM(Hauptmaske!C104:H104)=0,0,Hauptmaske!J104)","v":0},{"$f":"IF(SUM(Hauptmaske!C104:H104)=0,0,Hauptmaske!I104)","v":0}]
[{"$f":"IF(Hauptmaske!B105=\"\",\"\",Hauptmaske!B105)","v":""},{"$f":"IF(SUM(Hauptmaske!C105:H105)=0,0,Hauptmaske!J105)","v":0},{"$f":"IF(SUM(Hauptmaske!C105:H105)=0,0,Hauptmaske!I105)","v":0}]
[{"$f":"IF(Hauptmaske!B106=\"\",\"\",Hauptmaske!B106)","v":""},{"$f":"IF(SUM(Hauptmaske!C106:H106)=0,0,Hauptmaske!J106)","v":0},{"$f":"IF(SUM(Hauptmaske!C106:H106)=0,0,Hauptmaske!I106)","v":0}]
[{"$f":"IF(Hauptmaske!B107=\"\",\"\",Hauptmaske!B107)","v":""},{"$f":"IF(SUM(Hauptmaske!C107:H107)=0,0,Hauptmaske!J107)","v":0},{"$f":"IF(SUM(Hauptmaske!C107:H107)=0,0,Hauptmaske!I107)","v":0}]
[{"$f":"IF(Hauptmaske!B108=\"\",\"\",Hauptmaske!B108)","v":""},{"$f":"IF(SUM(Hauptmaske!C108:H108)=0,0,Hauptmaske!J108)","v":0},{"$f":"IF(SUM(Hauptmaske!C108:H108)=0,0,Hauptmaske!I108)","v":0}]
[{"$f":"IF(Hauptmaske!B109=\"\",\"\",Hauptmaske!B109)","v":""},{"$f":"IF(SUM(Hauptmaske!C109:H109)=0,0,Hauptmaske!J109)","v":0},{"$f":"IF(SUM(Hauptmaske!C109:H109)=0,0,Hauptmaske!I109)","v":0}]
[{"$f":"IF(Hauptmaske!B110=\"\",\"\",Hauptmaske!B110)","v":""},{"$f":"IF(SUM(Hauptmaske!C110:H110)=0,0,Hauptmaske!J110)","v":0},{"$f":"IF(SUM(Hauptmaske!C110:H110)=0,0,Hauptmaske!I110)","v":0}]
[{"$f":"IF(Hauptmaske!B111=\"\",\"\",Hauptmaske!B111)","v":""},{"$f":"IF(SUM(Hauptmaske!C111:H111)=0,0,Hauptmaske!J111)","v":0},{"$f":"IF(SUM(Hauptmaske!C111:H111)=0,0,Hauptmaske!I111)","v":0}]
[{"$f":"IF(Hauptmaske!B112=\"\",\"\",Hauptmaske!B112)","v":""},{"$f":"IF(SUM(Hauptmaske!C112:H112)=0,0,Hauptmaske!J112)","v":0},{"$f":"IF(SUM(Hauptmaske!C112:H112)=0,0,Hauptmaske!I112)","v":0}]
[{"$f":"IF(Hauptmaske!B113=\"\",\"\",Hauptmaske!B113)","v":""},{"$f":"IF(SUM(Hauptmaske!C113:H113)=0,0,Hauptmaske!J113)","v":0},{"$f":"IF(SUM(Hauptmaske!C113:H113)=0,0,Hauptmaske!I113)","v":0}]
[{"$f":"IF(Hauptmaske!B114=\"\",\"\",Hauptmaske!B114)","v":""},{"$f":"IF(SUM(Hauptmaske!C114:H114)=0,0,Hauptmaske!J114)","v":0},{"$f":"IF(SUM(Hauptmaske!C114:H114)=0,0,Hauptmaske!I114)","v":0}]
[{"$f":"IF(Hauptmaske!B115=\"\",\"\",Hauptmaske!B115)","v":""},{"$f":"IF(SUM(Hauptmaske!C115:H115)=0,0,Hauptmaske!J115)","v":0},{"$f":"IF(SUM(Hauptmaske!C115:H115)=0,0,Hauptmaske!I115)","v":0}]
[{"$f":"IF(Hauptmaske!B116=\"\",\"\",Hauptmaske!B116)","v":""},{"$f":"IF(SUM(Hauptmaske!C116:H116)=0,0,Hauptmaske!J116)","v":0},{"$f":"IF(SUM(Hauptmaske!C116:H116)=0,0,Hauptmaske!I116)","v":0}]
[{"$f":"IF(Hauptmaske!B117=\"\",\"\",Hauptmaske!B117)","v":""},{"$f":"IF(SUM(Hauptmaske!C117:H117)=0,0,Hauptmaske!J117)","v":0},{"$f":"IF(SUM(Hauptmaske!C117:H117)=0,0,Hauptmaske!I117)","v":0}]
[{"$f":"IF(Hauptmaske!B118=\"\",\"\",Hauptmaske!B118)","v":""},{"$f":"IF(SUM(Hauptmaske!C118:H118)=0,0,Hauptmaske!J118)","v":0},{"$f":"IF(SUM(Hauptmaske!C118:H118)=0,0,Hauptmaske!I118)","v":0}]
[{"$f":"IF(Hauptmaske!B119=\"\",\"\",Hauptmaske!B119)","v":""},{"$f":"IF(SUM(Hauptmaske!C119:H119)=0,0,Hauptmaske!J119)","v":0},{"$f":"IF(SUM(Hauptmaske!C119:H119)=0,0,Hauptmaske!I119)","v":0}]
[{"$f":"IF(Hauptmaske!B120=\"\",\"\",Hauptmaske!B120)","v":""},{"$f":"IF(SUM(Hauptmaske!C120:H120)=0,0,Hauptmaske!J120)","v":0},{"$f":"IF(SUM(Hauptmaske!C120:H120)=0,0,Hauptmaske!I120)","v":0}]
[{"$f":"IF(Hauptmaske!B121=\"\",\"\",Hauptmaske!B121)","v":""},{"$f":"IF(SUM(Hauptmaske!C121:H121)=0,0,Hauptmaske!J121)","v":0},{"$f":"IF(SUM(Hauptmaske!C121:H121)=0,0,Hauptmaske!I121)","v":0}]
[{"$f":"IF(Hauptmaske!B122=\"\",\"\",Hauptmaske!B122)","v":""},{"$f":"IF(SUM(Hauptmaske!C122:H122)=0,0,Hauptmaske!J122)","v":0},{"$f":"IF(SUM(Hauptmaske!C122:H122)=0,0,Hauptmaske!I122)","v":0}]
[{"$f":"IF(Hauptmaske!B123=\"\",\"\",Hauptmaske!B123)","v":""},{"$f":"IF(SUM(Hauptmaske!C123:H123)=0,0,Hauptmaske!J123)","v":0},{"$f":"IF(SUM(Hauptmaske!C123:H123)=0,0,Hauptmaske!I123)","v":0}]
[{"$f":"IF(Hauptmaske!B124=\"\",\"\",Hauptmaske!B124)","v":""},{"$f":"IF(SUM(Hauptmaske!C124:H124)=0,0,Hauptmaske!J124)","v":0},{"$f":"IF(SUM(Hauptmaske!C124:H124)=0,0,Hauptmaske!I124)","v":0}]
[{"$f":"IF(Hauptmaske!B125=\"\",\"\",Hauptmaske!B125)","v":""},{"$f":"IF(SUM(Hauptmaske!C125:H125)=0,0,Hauptmaske!J125)","v":0},{"$f":"IF(SUM(Hauptmaske!C125:H125)=0,0,Hauptmaske!I125)","v":0}]
[{"$f":"IF(Hauptmaske!B126=\"\",\"\",Hauptmaske!B126)","v":""},{"$f":"IF(SUM(Hauptmaske!C126:H126)=0,0,Hauptmaske!J126)","v":0},{"$f":"IF(SUM(Hauptmaske!C126:H126)=0,0,Hauptmaske!I126)","v":0}]
[{"$f":"IF(Hauptmaske!B127=\"\",\"\",Hauptmaske!B127)","v":""},{"$f":"IF(SUM(Hauptmaske!C127:H127)=0,0,Hauptmaske!J127)","v":0},{"$f":"IF(SUM(Hauptmaske!C127:H127)=0,0,Hauptmaske!I127)","v":0}]
[{"$f":"IF(Hauptmaske!B128=\"\",\"\",Hauptmaske!B128)","v":""},{"$f":"IF(SUM(Hauptmaske!C128:H128)=0,0,Hauptmaske!J128)","v":0},{"$f":"IF(SUM(Hauptmaske!C128:H128)=0,0,Hauptmaske!I128)","v":0}]
[{"$f":"IF(Hauptmaske!B129=\"\",\"\",Hauptmaske!B129)","v":""},{"$f":"IF(SUM(Hauptmaske!C129:H129)=0,0,Hauptmaske!J129)","v":0},{"$f":"IF(SUM(Hauptmaske!C129:H129)=0,0,Hauptmaske!I129)","v":0}]
[{"$f":"IF(Hauptmaske!B130=\"\",\"\",Hauptmaske!B130)","v":""},{"$f":"IF(SUM(Hauptmaske!C130:H130)=0,0,Hauptmaske!J130)","v":0},{"$f":"IF(SUM(Hauptmaske!C130:H130)=0,0,Hauptmaske!I130)","v":0}]
[{"$f":"IF(Hauptmaske!B131=\"\",\"\",Hauptmaske!B131)","v":""},{"$f":"IF(SUM(Hauptmaske!C131:H131)=0,0,Hauptmaske!J131)","v":0},{"$f":"IF(SUM(Hauptmaske!C131:H131)=0,0,Hauptmaske!I131)","v":0}]
[{"$f":"IF(Hauptmaske!B132=\"\",\"\",Hauptmaske!B132)","v":""},{"$f":"IF(SUM(Hauptmaske!C132:H132)=0,0,Hauptmaske!J132)","v":0},{"$f":"IF(SUM(Hauptmaske!C132:H132)=0,0,Hauptmaske!I132)","v":0}]
[{"$f":"IF(Hauptmaske!B133=\"\",\"\",Hauptmaske!B133)","v":""},{"$f":"IF(SUM(Hauptmaske!C133:H133)=0,0,Hauptmaske!J133)","v":0},{"$f":"IF(SUM(Hauptmaske!C133:H133)=0,0,Hauptmaske!I133)","v":0}]
[{"$f":"IF(Hauptmaske!B134=\"\",\"\",Hauptmaske!B134)","v":""},{"$f":"IF(SUM(Hauptmaske!C134:H134)=0,0,Hauptmaske!J134)","v":0},{"$f":"IF(SUM(Hauptmaske!C134:H134)=0,0,Hauptmaske!I134)","v":0}]
[{"$f":"IF(Hauptmaske!B135=\"\",\"\",Hauptmaske!B135)","v":""},{"$f":"IF(SUM(Hauptmaske!C135:H135)=0,0,Hauptmaske!J135)","v":0},{"$f":"IF(SUM(Hauptmaske!C135:H135)=0,0,Hauptmaske!I135)","v":0}]
[{"$f":"IF(Hauptmaske!B136=\"\",\"\",Hauptmaske!B136)","v":""},{"$f":"IF(SUM(Hauptmaske!C136:H136)=0,0,Hauptmaske!J136)","v":0},{"$f":"IF(SUM(Hauptmaske!C136:H136)=0,0,Hauptmaske!I136)","v":0}]
[{"$f":"IF(Hauptmaske!B137=\"\",\"\",Hauptmaske!B137)","v":""},{"$f":"IF(SUM(Hauptmaske!C137:H137)=0,0,Hauptmaske!J137)","v":0},{"$f":"IF(SUM(Hauptmaske!C137:H137)=0,0,Hauptmaske!I137)","v":0}]
[{"$f":"IF(Hauptmaske!B138=\"\",\"\",Hauptmaske!B138)","v":""},{"$f":"IF(SUM(Hauptmaske!C138:H138)=0,0,Hauptmaske!J138)","v":0},{"$f":"IF(SUM(Hauptmaske!C138:H138)=0,0,Hauptmaske!I138)","v":0}]
[{"$f":"IF(Hauptmaske!B139=\"\",\"\",Hauptmaske!B139)","v":""},{"$f":"IF(SUM(Hauptmaske!C139:H139)=0,0,Hauptmaske!J139)","v":0},{"$f":"IF(SUM(Hauptmaske!C139:H139)=0,0,Hauptmaske!I139)","v":0}]
[{"$f":"IF(Hauptmaske!B140=\"\",\"\",Hauptmaske!B140)","v":""},{"$f":"IF(SUM(Hauptmaske!C140:H140)=0,0,Hauptmaske!J140)","v":0},{"$f":"IF(SUM(Hauptmaske!C140:H140)=0,0,Hauptmaske!I140)","v":0}]
[{"$f":"IF(Hauptmaske!B141=\"\",\"\",Hauptmaske!B141)","v":""},{"$f":"IF(SUM(Hauptmaske!C141:H141)=0,0,Hauptmaske!J141)","v":0},{"$f":"IF(SUM(Hauptmaske!C141:H141)=0,0,Hauptmaske!I141)","v":0}]
[{"$f":"IF(Hauptmaske!B142=\"\",\"\",Hauptmaske!B142)","v":""},{"$f":"IF(SUM(Hauptmaske!C142:H142)=0,0,Hauptmaske!J142)","v":0},{"$f":"IF(SUM(Hauptmaske!C142:H142)=0,0,Hauptmaske!I142)","v":0}]
[{"$f":"IF(Hauptmaske!B143=\"\",\"\",Hauptmaske!B143)","v":""},{"$f":"IF(SUM(Hauptmaske!C143:H143)=0,0,Hauptmaske!J143)","v":0},{"$f":"IF(SUM(Hauptmaske!C143:H143)=0,0,Hauptmaske!I143)","v":0}]
[{"$f":"IF(Hauptmaske!B144=\"\",\"\",Hauptmaske!B144)","v":""},{"$f":"IF(SUM(Hauptmaske!C144:H144)=0,0,Hauptmaske!J144)","v":0},{"$f":"IF(SUM(Hauptmaske!C144:H144)=0,0,Hauptmaske!I144)","v":0}]
[{"$f":"IF(Hauptmaske!B145=\"\",\"\",Hauptmaske!B145)","v":""},{"$f":"IF(SUM(Hauptmaske!C145:H145)=0,0,Hauptmaske!J145)","v":0},{"$f":"IF(SUM(Hauptmaske!C145:H145)=0,0,Hauptmaske!I145)","v":0}]
[{"$f":"IF(Hauptmaske!B146=\"\",\"\",Hauptmaske!B146)","v":""},{"$f":"IF(SUM(Hauptmaske!C146:H146)=0,0,Hauptmaske!J146)","v":0},{"$f":"IF(SUM(Hauptmaske!C146:H146)=0,0,Hauptmaske!I146)","v":0}]
[{"$f":"IF(Hauptmaske!B147=\"\",\"\",Hauptmaske!B147)","v":""},{"$f":"IF(SUM(Hauptmaske!C147:H147)=0,0,Hauptmaske!J147)","v":0},{"$f":"IF(SUM(Hauptmaske!C147:H147)=0,0,Hauptmaske!I147)","v":0}]
[{"$f":"IF(Hauptmaske!B148=\"\",\"\",Hauptmaske!B148)","v":""},{"$f":"IF(SUM(Hauptmaske!C148:H148)=0,0,Hauptmaske!J148)","v":0},{"$f":"IF(SUM(Hauptmaske!C148:H148)=0,0,Hauptmaske!I148)","v":0}]
[{"$f":"IF(Hauptmaske!B149=\"\",\"\",Hauptmaske!B149)","v":""},{"$f":"IF(SUM(Hauptmaske!C149:H149)=0,0,Hauptmaske!J149)","v":0},{"$f":"IF(SUM(Hauptmaske!C149:H149)=0,0,Hauptmaske!I149)","v":0}]
[{"$f":"IF(Hauptmaske!B150=\"\",\"\",Hauptmaske!B150)","v":""},{"$f":"IF(SUM(Hauptmaske!C150:H150)=0,0,Hauptmaske!J150)","v":0},{"$f":"IF(SUM(Hauptmaske!C150:H150)=0,0,Hauptmaske!I150)","v":0}]
[{"$f":"IF(Hauptmaske!B151=\"\",\"\",Hauptmaske!B151)","v":""},{"$f":"IF(SUM(Hauptmaske!C151:H151)=0,0,Hauptmaske!J151)","v":0},{"$f":"IF(SUM(Hauptmaske!C151:H151)=0,0,Hauptmaske!I151)","v":0}]
[{"$f":"IF(Hauptmaske!B152=\"\",\"\",Hauptmaske!B152)","v":""},{"$f":"IF(SUM(Hauptmaske!C152:H152)=0,0,Hauptmaske!J152)","v":0},{"$f":"IF(SUM(Hauptmaske!C152:H152)=0,0,Hauptmaske!I152)","v":0}]
[{"$f":"IF(Hauptmaske!B153=\"\",\"\",Hauptmaske!B153)","v":""},{"$f":"IF(SUM(Hauptmaske!C153:H153)=0,0,Hauptmaske!J153)","v":0},{"$f":"IF(SUM(Hauptmaske!C153:H153)=0,0,Hauptmaske!I153)","v":0}]
[{"$f":"IF(Hauptmaske!B154=\"\",\"\",Hauptmaske!B154)","v":""},{"$f":"IF(SUM(Hauptmaske!C154:H154)=0,0,Hauptmaske!J154)","v":0},{"$f":"IF(SUM(Hauptmaske!C154:H154)=0,0,Hauptmaske!I154)","v":0}]

{"sheet":"Daten","index":4,"n_rows":151,"n_cols":25,"rows_kept":151,"cut":false,"hidden":false,"merged":[]}
["Lfd. Nr.:","Name:","Summe:","Klasse:",null,null,"Klasse - 1","Punkte:",null,"Klasse - 2","Punkte:",null,"Klasse - 3","Punkte:",null,"Klasse - 4","Punkte:",null,"Klasse - 5","Punkte:",null,"Lfd. Nr.:","Name:","Summe:"]
[1,"",0,0,null,1,{"$f":"IFERROR(INDEX($B$2:$B$151,LARGE(($D$2:$D$151=1)*(ROW($D$2:$D$151)-1),COUNTIF($D$2:$D$151,1)+1-ROW(D1))),\"\")","v":""},{"$f":"IF(G2=\"\",\"\",VLOOKUP(G2,$B$2:$C$151,2,0))","v":""},1,{"$f":"IFERROR(INDEX($B$2:$B$151,LARGE(($D$2:$D$151=2)*(ROW($D$2:$D$151)-1),COUNTIF($D$2:$D$151,2)+1-ROW(D1))),\"\")","v":""},{"$f":"IF(J2=\"\",\"\",VLOOKUP(J2,$B$2:$C$151,2,0))","v":""},1,{"$f":"IFERROR(INDEX($B$2:$B$151,LARGE(($D$2:$D$151=3)*(ROW($D$2:$D$151)-1),COUNTIF($D$2:$D$151,3)+1-ROW(D1))),\"\")","v":""},{"$f":"IF(M2=\"\",\"\",VLOOKUP(M2,$B$2:$C$151,2,0))","v":""},1,{"$f":"IFERROR(INDEX($B$2:$B$151,LARGE(($D$2:$D$151=4)*(ROW($D$2:$D$151)-1),COUNTIF($D$2:$D$151,4)+1-ROW(D1))),\"\")","v":""},{"$f":"IF(P2=\"\",\"\",VLOOKUP(P2,$B$2:$C$151,2,0))","v":""},1,{"$f":"IFERROR(INDEX($B$2:$B$151,LARGE(($D$2:$D$151=5)*(ROW($D$2:$D$151)-1),COUNTIF($D$2:$D$151,5)+1-ROW(D1))),\"\")","v":""},{"$f":"IF(S2=\"\",\"\",VLOOKUP(S2,$B$2:$C$151,2,0))","v":""},null,1,"",0,0]
[2,"",0,0,null,2,{"$f":"IFERROR(INDEX($B$2:$B$151,LARGE(($D$2:$D$151=1)*(ROW($D$2:$D$151)-1),COUNTIF($D$2:$D$151,1)+1-ROW(D2))),\"\")","v":""},{"$f":"IF(G3=\"\",\"\",VLOOKUP(G3,$B$2:$C$151,2,0))","v":""},2,{"$f":"IFERROR(INDEX($B$2:$B$151,LARGE(($D$2:$D$151=2)*(ROW($D$2:$D$151)-1),COUNTIF($D$2:$D$151,2)+1-ROW(D2))),\"\")","v":""},{"$f":"IF(J3=\"\",\"\",VLOOKUP(J3,$B$2:$C$151,2,0))","v":""},2,{"$f":"IFERROR(INDEX($B$2:$B$151,LARGE(($D$2:$D$151=3)*(ROW($D$2:$D$151)-1),COUNTIF($D$2:$D$151,3)+1-ROW(D2))),\"\")","v":""},{"$f":"IF(M3=\"\",\"\",VLOOKUP(M3,$B$2:$C$151,2,0))","v":""},2,{"$f":"IFERROR(INDEX($B$2:$B$151,LARGE(($D$2:$D$151=4)*(ROW($D$2:$D$151)-1),COUNTIF($D$2:$D$151,4)+1-ROW(D2))),\"\")","v":""},{"$f":"IF(P3=\"\",\"\",VLOOKUP(P3,$B$2:$C$151,2,0))","v":""},2,{"$f":"IFERROR(INDEX($B$2:$B$151,LARGE(($D$2:$D$151=5)*(ROW($D$2:$D$151)-1),COUNTIF($D$2:$D$151,5)+1-ROW(D2))),\"\")","v":""},{"$f":"IF(S3=\"\",\"\",VLOOKUP(S3,$B$2:$C$151,2,0))","v":""},null,2,"",0,0]
[3,"",0,0,null,3,{"$f":"IFERROR(INDEX($B$2:$B$151,LARGE(($D$2:$D$151=1)*(ROW($D$2:$D$151)-1),COUNTIF($D$2:$D$151,1)+1-ROW(D3))),\"\")","v":""},"",3,{"$f":"IFERROR(INDEX($B$2:$B$151,LARGE(($D$2:$D$151=2)*(ROW($D$2:$D$151)-1),COUNTIF($D$2:$D$151,2)+1-ROW(D3))),\"\")","v":""},"",3,{"$f":"IFERROR(INDEX($B$2:$B$151,LARGE(($D$2:$D$151=3)*(ROW($D$2:$D$151)-1),COUNTIF($D$2:$D$151,3)+1-ROW(D3))),\"\")","v":""},"",3,{"$f":"IFERROR(INDEX($B$2:$B$151,LARGE(($D$2:$D$151=4)*(ROW($D$2:$D$151)-1),COUNTIF($D$2:$D$151,4)+1-ROW(D3))),\"\")","v":""},"",3,{"$f":"IFERROR(INDEX($B$2:$B$151,LARGE(($D$2:$D$151=5)*(ROW($D$2:$D$151)-1),COUNTIF($D$2:$D$151,5)+1-ROW(D3))),\"\")","v":""},"",null,3,"",0,0]
[4,"",0,0,null,4,{"$f":"IFERROR(INDEX($B$2:$B$151,LARGE(($D$2:$D$151=1)*(ROW($D$2:$D$151)-1),COUNTIF($D$2:$D$151,1)+1-ROW(D4))),\"\")","v":""},"",4,{"$f":"IFERROR(INDEX($B$2:$B$151,LARGE(($D$2:$D$151=2)*(ROW($D$2:$D$151)-1),COUNTIF($D$2:$D$151,2)+1-ROW(D4))),\"\")","v":""},"",4,{"$f":"IFERROR(INDEX($B$2:$B$151,LARGE(($D$2:$D$151=3)*(ROW($D$2:$D$151)-1),COUNTIF($D$2:$D$151,3)+1-ROW(D4))),\"\")","v":""},"",4,{"$f":"IFERROR(INDEX($B$2:$B$151,LARGE(($D$2:$D$151=4)*(ROW($D$2:$D$151)-1),COUNTIF($D$2:$D$151,4)+1-ROW(D4))),\"\")","v":""},"",4,{"$f":"IFERROR(INDEX($B$2:$B$151,LARGE(($D$2:$D$151=5)*(ROW($D$2:$D$151)-1),COUNTIF($D$2:$D$151,5)+1-ROW(D4))),\"\")","v":""},"",null,4,"",0,0]
[5,"",0,0,null,5,{"$f":"IFERROR(INDEX($B$2:$B$151,LARGE(($D$2:$D$151=1)*(ROW($D$2:$D$151)-1),COUNTIF($D$2:$D$151,1)+1-ROW(D5))),\"\")","v":""},"",5,{"$f":"IFERROR(INDEX($B$2:$B$151,LARGE(($D$2:$D$151=2)*(ROW($D$2:$D$151)-1),COUNTIF($D$2:$D$151,2)+1-ROW(D5))),\"\")","v":""},"",5,{"$f":"IFERROR(INDEX($B$2:$B$151,LARGE(($D$2:$D$151=3)*(ROW($D$2:$D$151)-1),COUNTIF($D$2:$D$151,3)+1-ROW(D5))),\"\")","v":""},"",5,{"$f":"IFERROR(INDEX($B$2:$B$151,LARGE(($D$2:$D$151=4)*(ROW($D$2:$D$151)-1),COUNTIF($D$2:$D$151,4)+1-ROW(D5))),\"\")","v":""},"",5,{"$f":"IFERROR(INDEX($B$2:$B$151,LARGE(($D$2:$D$151=5)*(ROW($D$2:$D$151)-1),COUNTIF($D$2:$D$151,5)+1-ROW(D5))),\"\")","v":""},"",null,5,"",0,0]
[6,"",0,0,null,6,{"$f":"IFERROR(INDEX($B$2:$B$151,LARGE(($D$2:$D$151=1)*(ROW($D$2:$D$151)-1),COUNTIF($D$2:$D$151,1)+1-ROW(D6))),\"\")","v":""},"",6,{"$f":"IFERROR(INDEX($B$2:$B$151,LARGE(($D$2:$D$151=2)*(ROW($D$2:$D$151)-1),COUNTIF($D$2:$D$151,2)+1-ROW(D6))),\"\")","v":""},"",6,{"$f":"IFERROR(INDEX($B$2:$B$151,LARGE(($D$2:$D$151=3)*(ROW($D$2:$D$151)-1),COUNTIF($D$2:$D$151,3)+1-ROW(D6))),\"\")","v":""},"",6,{"$f":"IFERROR(INDEX($B$2:$B$151,LARGE(($D$2:$D$151=4)*(ROW($D$2:$D$151)-1),COUNTIF($D$2:$D$151,4)+1-ROW(D6))),\"\")","v":""},"",6,{"$f":"IFERROR(INDEX($B$2:$B$151,LARGE(($D$2:$D$151=5)*(ROW($D$2:$D$151)-1),COUNTIF($D$2:$D$151,5)+1-ROW(D6))),\"\")","v":""},"",null,6,"",0,0]
[7,"",0,0,null,7,{"$f":"IFERROR(INDEX($B$2:$B$151,LARGE(($D$2:$D$151=1)*(ROW($D$2:$D$151)-1),COUNTIF($D$2:$D$151,1)+1-ROW(D7))),\"\")","v":""},"",7,{"$f":"IFERROR(INDEX($B$2:$B$151,LARGE(($D$2:$D$151=2)*(ROW($D$2:$D$151)-1),COUNTIF($D$2:$D$151,2)+1-ROW(D7))),\"\")","v":""},"",7,{"$f":"IFERROR(INDEX($B$2:$B$151,LARGE(($D$2:$D$151=3)*(ROW($D$2:$D$151)-1),COUNTIF($D$2:$D$151,3)+1-ROW(D7))),\"\")","v":""},"",7,{"$f":"IFERROR(INDEX($B$2:$B$151,LARGE(($D$2:$D$151=4)*(ROW($D$2:$D$151)-1),COUNTIF($D$2:$D$151,4)+1-ROW(D7))),\"\")","v":""},"",7,{"$f":"IFERROR(INDEX($B$2:$B$151,LARGE(($D$2:$D$151=5)*(ROW($D$2:$D$151)-1),COUNTIF($D$2:$D$151,5)+1-ROW(D7))),\"\")","v":""},"",null,7,"",0,0]
[8,"",0,0,null,8,{"$f":"IFERROR(INDEX($B$2:$B$151,LARGE(($D$2:$D$151=1)*(ROW($D$2:$D$151)-1),COUNTIF($D$2:$D$151,1)+1-ROW(D8))),\"\")","v":""},"",8,{"$f":"IFERROR(INDEX($B$2:$B$151,LARGE(($D$2:$D$151=2)*(ROW($D$2:$D$151)-1),COUNTIF($D$2:$D$151,2)+1-ROW(D8))),\"\")","v":""},"",8,{"$f":"IFERROR(INDEX($B$2:$B$151,LARGE(($D$2:$D$151=3)*(ROW($D$2:$D$151)-1),COUNTIF($D$2:$D$151,3)+1-ROW(D8))),\"\")","v":""},"",8,{"$f":"IFERROR(INDEX($B$2:$B$151,LARGE(($D$2:$D$151=4)*(ROW($D$2:$D$151)-1),COUNTIF($D$2:$D$151,4)+1-ROW(D8))),\"\")","v":""},"",8,{"$f":"IFERROR(INDEX($B$2:$B$151,LARGE(($D$2:$D$151=5)*(ROW($D$2:$D$151)-1),COUNTIF($D$2:$D$151,5)+1-ROW(D8))),\"\")","v":""},"",null,8,"",0,0]
[9,"",0,0,null,9,{"$f":"IFERROR(INDEX($B$2:$B$151,LARGE(($D$2:$D$151=1)*(ROW($D$2:$D$151)-1),COUNTIF($D$2:$D$151,1)+1-ROW(D9))),\"\")","v":""},"",9,{"$f":"IFERROR(INDEX($B$2:$B$151,LARGE(($D$2:$D$151=2)*(ROW($D$2:$D$151)-1),COUNTIF($D$2:$D$151,2)+1-ROW(D9))),\"\")","v":""},"",9,{"$f":"IFERROR(INDEX($B$2:$B$151,LARGE(($D$2:$D$151=3)*(ROW($D$2:$D$151)-1),COUNTIF($D$2:$D$151,3)+1-ROW(D9))),\"\")","v":""},"",9,{"$f":"IFERROR(INDEX($B$2:$B$151,LARGE(($D$2:$D$151=4)*(ROW($D$2:$D$151)-1),COUNTIF($D$2:$D$151,4)+1-ROW(D9))),\"\")","v":""},"",9,{"$f":"IFERROR(INDEX($B$2:$B$151,LARGE(($D$2:$D$151=5)*(ROW($D$2:$D$151)-1),COUNTIF($D$2:$D$151,5)+1-ROW(D9))),\"\")","v":""},"",null,9,"",0,0]
[10,"",0,0,null,10,{"$f":"IFERROR(INDEX($B$2:$B$151,LARGE(($D$2:$D$151=1)*(ROW($D$2:$D$151)-1),COUNTIF($D$2:$D$151,1)+1-ROW(D10))),\"\")","v":""},"",10,{"$f":"IFERROR(INDEX($B$2:$B$151,LARGE(($D$2:$D$151=2)*(ROW($D$2:$D$151)-1),COUNTIF($D$2:$D$151,2)+1-ROW(D10))),\"\")","v":""},"",10,{"$f":"IFERROR(INDEX($B$2:$B$151,LARGE(($D$2:$D$151=3)*(ROW($D$2:$D$151)-1),COUNTIF($D$2:$D$151,3)+1-ROW(D10))),\"\")","v":""},"",10,{"$f":"IFERROR(INDEX($B$2:$B$151,LARGE(($D$2:$D$151=4)*(ROW($D$2:$D$151)-1),COUNTIF($D$2:$D$151,4)+1-ROW(D10))),\"\")","v":""},"",10,{"$f":"IFERROR(INDEX($B$2:$B$151,LARGE(($D$2:$D$151=5)*(ROW($D$2:$D$151)-1),COUNTIF($D$2:$D$151,5)+1-ROW(D10))),\"\")","v":""},"",null,10,"",0,0]
[11,"",0,0,null,11,{"$f":"IFERROR(INDEX($B$2:$B$151,LARGE(($D$2:$D$151=1)*(ROW($D$2:$D$151)-1),COUNTIF($D$2:$D$151,1)+1-ROW(D11))),\"\")","v":""},"",11,{"$f":"IFERROR(INDEX($B$2:$B$151,LARGE(($D$2:$D$151=2)*(ROW($D$2:$D$151)-1),COUNTIF($D$2:$D$151,2)+1-ROW(D11))),\"\")","v":""},"",11,{"$f":"IFERROR(INDEX($B$2:$B$151,LARGE(($D$2:$D$151=3)*(ROW($D$2:$D$151)-1),COUNTIF($D$2:$D$151,3)+1-ROW(D11))),\"\")","v":""},"",11,{"$f":"IFERROR(INDEX($B$2:$B$151,LARGE(($D$2:$D$151=4)*(ROW($D$2:$D$151)-1),COUNTIF($D$2:$D$151,4)+1-ROW(D11))),\"\")","v":""},"",11,{"$f":"IFERROR(INDEX($B$2:$B$151,LARGE(($D$2:$D$151=5)*(ROW($D$2:$D$151)-1),COUNTIF($D$2:$D$151,5)+1-ROW(D11))),\"\")","v":""},"",null,11,"",0,0]
[12,"",0,0,null,12,{"$f":"IFERROR(INDEX($B$2:$B$151,LARGE(($D$2:$D$151=1)*(ROW($D$2:$D$151)-1),COUNTIF($D$2:$D$151,1)+1-ROW(D12))),\"\")","v":""},"",12,{"$f":"IFERROR(INDEX($B$2:$B$151,LARGE(($D$2:$D$151=2)*(ROW($D$2:$D$151)-1),COUNTIF($D$2:$D$151,2)+1-ROW(D12))),\"\")","v":""},"",12,{"$f":"IFERROR(INDEX($B$2:$B$151,LARGE(($D$2:$D$151=3)*(ROW($D$2:$D$151)-1),COUNTIF($D$2:$D$151,3)+1-ROW(D12))),\"\")","v":""},"",12,{"$f":"IFERROR(INDEX($B$2:$B$151,LARGE(($D$2:$D$151=4)*(ROW($D$2:$D$151)-1),COUNTIF($D$2:$D$151,4)+1-ROW(D12))),\"\")","v":""},"",12,{"$f":"IFERROR(INDEX($B$2:$B$151,LARGE(($D$2:$D$151=5)*(ROW($D$2:$D$151)-1),COUNTIF($D$2:$D$151,5)+1-ROW(D12))),\"\")","v":""},"",null,12,"",0,0]
[13,"",0,0,null,13,{"$f":"IFERROR(INDEX($B$2:$B$151,LARGE(($D$2:$D$151=1)*(ROW($D$2:$D$151)-1),COUNTIF($D$2:$D$151,1)+1-ROW(D13))),\"\")","v":""},"",13,{"$f":"IFERROR(INDEX($B$2:$B$151,LARGE(($D$2:$D$151=2)*(ROW($D$2:$D$151)-1),COUNTIF($D$2:$D$151,2)+1-ROW(D13))),\"\")","v":""},"",13,{"$f":"IFERROR(INDEX($B$2:$B$151,LARGE(($D$2:$D$151=3)*(ROW($D$2:$D$151)-1),COUNTIF($D$2:$D$151,3)+1-ROW(D13))),\"\")","v":""},"",13,{"$f":"IFERROR(INDEX($B$2:$B$151,LARGE(($D$2:$D$151=4)*(ROW($D$2:$D$151)-1),COUNTIF($D$2:$D$151,4)+1-ROW(D13))),\"\")","v":""},"",13,{"$f":"IFERROR(INDEX($B$2:$B$151,LARGE(($D$2:$D$151=5)*(ROW($D$2:$D$151)-1),COUNTIF($D$2:$D$151,5)+1-ROW(D13))),\"\")","v":""},"",null,13,"",0,0]
[14,"",0,0,null,14,{"$f":"IFERROR(INDEX($B$2:$B$151,LARGE(($D$2:$D$151=1)*(ROW($D$2:$D$151)-1),COUNTIF($D$2:$D$151,1)+1-ROW(D14))),\"\")","v":""},"",14,{"$f":"IFERROR(INDEX($B$2:$B$151,LARGE(($D$2:$D$151=2)*(ROW($D$2:$D$151)-1),COUNTIF($D$2:$D$151,2)+1-ROW(D14))),\"\")","v":""},"",14,{"$f":"IFERROR(INDEX($B$2:$B$151,LARGE(($D$2:$D$151=3)*(ROW($D$2:$D$151)-1),COUNTIF($D$2:$D$151,3)+1-ROW(D14))),\"\")","v":""},"",14,{"$f":"IFERROR(INDEX($B$2:$B$151,LARGE(($D$2:$D$151=4)*(ROW($D$2:$D$151)-1),COUNTIF($D$2:$D$151,4)+1-ROW(D14))),\"\")","v":""},"",14,{"$f":"IFERROR(INDEX($B$2:$B$151,LARGE(($D$2:$D$151=5)*(ROW($D$2:$D$151)-1),COUNTIF($D$2:$D$151,5)+1-ROW(D14))),\"\")","v":""},"",null,14,"",0,0]
[15,"",0,0,null,15,{"$f":"IFERROR(INDEX($B$2:$B$151,LARGE(($D$2:$D$151=1)*(ROW($D$2:$D$151)-1),COUNTIF($D$2:$D$151,1)+1-ROW(D15))),\"\")","v":""},"",15,{"$f":"IFERROR(INDEX($B$2:$B$151,LARGE(($D$2:$D$151=2)*(ROW($D$2:$D$151)-1),COUNTIF($D$2:$D$151,2)+1-ROW(D15))),\"\")","v":""},"",15,{"$f":"IFERROR(INDEX($B$2:$B$151,LARGE(($D$2:$D$151=3)*(ROW($D$2:$D$151)-1),COUNTIF($D$2:$D$151,3)+1-ROW(D15))),\"\")","v":""},"",15,{"$f":"IFERROR(INDEX($B$2:$B$151,LARGE(($D$2:$D$151=4)*(ROW($D$2:$D$151)-1),COUNTIF($D$2:$D$151,4)+1-ROW(D15))),\"\")","v":""},"",15,{"$f":"IFERROR(INDEX($B$2:$B$151,LARGE(($D$2:$D$151=5)*(ROW($D$2:$D$151)-1),COUNTIF($D$2:$D$151,5)+1-ROW(D15))),\"\")","v":""},"",null,15,"",0,0]
[16,"",0,0,null,16,{"$f":"IFERROR(INDEX($B$2:$B$151,LARGE(($D$2:$D$151=1)*(ROW($D$2:$D$151)-1),COUNTIF($D$2:$D$151,1)+1-ROW(D16))),\"\")","v":""},"",16,{"$f":"IFERROR(INDEX($B$2:$B$151,LARGE(($D$2:$D$151=2)*(ROW($D$2:$D$151)-1),COUNTIF($D$2:$D$151,2)+1-ROW(D16))),\"\")","v":""},"",16,{"$f":"IFERROR(INDEX($B$2:$B$151,LARGE(($D$2:$D$151=3)*(ROW($D$2:$D$151)-1),COUNTIF($D$2:$D$151,3)+1-ROW(D16))),\"\")","v":""},"",16,{"$f":"IFERROR(INDEX($B$2:$B$151,LARGE(($D$2:$D$151=4)*(ROW($D$2:$D$151)-1),COUNTIF($D$2:$D$151,4)+1-ROW(D16))),\"\")","v":""},"",16,{"$f":"IFERROR(INDEX($B$2:$B$151,LARGE(($D$2:$D$151=5)*(ROW($D$2:$D$151)-1),COUNTIF($D$2:$D$151,5)+1-ROW(D16))),\"\")","v":""},"",null,16,"",0,0]
[17,"",0,0,null,17,{"$f":"IFERROR(INDEX($B$2:$B$151,LARGE(($D$2:$D$151=1)*(ROW($D$2:$D$151)-1),COUNTIF($D$2:$D$151,1)+1-ROW(D17))),\"\")","v":""},"",17,{"$f":"IFERROR(INDEX($B$2:$B$151,LARGE(($D$2:$D$151=2)*(ROW($D$2:$D$151)-1),COUNTIF($D$2:$D$151,2)+1-ROW(D17))),\"\")","v":""},"",17,{"$f":"IFERROR(INDEX($B$2:$B$151,LARGE(($D$2:$D$151=3)*(ROW($D$2:$D$151)-1),COUNTIF($D$2:$D$151,3)+1-ROW(D17))),\"\")","v":""},"",17,{"$f":"IFERROR(INDEX($B$2:$B$151,LARGE(($D$2:$D$151=4)*(ROW($D$2:$D$151)-1),COUNTIF($D$2:$D$151,4)+1-ROW(D17))),\"\")","v":""},"",17,{"$f":"IFERROR(INDEX($B$2:$B$151,LARGE(($D$2:$D$151=5)*(ROW($D$2:$D$151)-1),COUNTIF($D$2:$D$151,5)+1-ROW(D17))),\"\")","v":""},"",null,17,"",0,0]
[18,"",0,0,null,18,{"$f":"IFERROR(INDEX($B$2:$B$151,LARGE(($D$2:$D$151=1)*(ROW($D$2:$D$151)-1),COUNTIF($D$2:$D$151,1)+1-ROW(D18))),\"\")","v":""},"",18,{"$f":"IFERROR(INDEX($B$2:$B$151,LARGE(($D$2:$D$151=2)*(ROW($D$2:$D$151)-1),COUNTIF($D$2:$D$151,2)+1-ROW(D18))),\"\")","v":""},"",18,{"$f":"IFERROR(INDEX($B$2:$B$151,LARGE(($D$2:$D$151=3)*(ROW($D$2:$D$151)-1),COUNTIF($D$2:$D$151,3)+1-ROW(D18))),\"\")","v":""},"",18,{"$f":"IFERROR(INDEX($B$2:$B$151,LARGE(($D$2:$D$151=4)*(ROW($D$2:$D$151)-1),COUNTIF($D$2:$D$151,4)+1-ROW(D18))),\"\")","v":""},"",18,{"$f":"IFERROR(INDEX($B$2:$B$151,LARGE(($D$2:$D$151=5)*(ROW($D$2:$D$151)-1),COUNTIF($D$2:$D$151,5)+1-ROW(D18))),\"\")","v":""},"",null,18,"",0,0]
[19,"",0,0,null,19,{"$f":"IFERROR(INDEX($B$2:$B$151,LARGE(($D$2:$D$151=1)*(ROW($D$2:$D$151)-1),COUNTIF($D$2:$D$151,1)+1-ROW(D19))),\"\")","v":""},"",19,{"$f":"IFERROR(INDEX($B$2:$B$151,LARGE(($D$2:$D$151=2)*(ROW($D$2:$D$151)-1),COUNTIF($D$2:$D$151,2)+1-ROW(D19))),\"\")","v":""},"",19,{"$f":"IFERROR(INDEX($B$2:$B$151,LARGE(($D$2:$D$151=3)*(ROW($D$2:$D$151)-1),COUNTIF($D$2:$D$151,3)+1-ROW(D19))),\"\")","v":""},"",19,{"$f":"IFERROR(INDEX($B$2:$B$151,LARGE(($D$2:$D$151=4)*(ROW($D$2:$D$151)-1),COUNTIF($D$2:$D$151,4)+1-ROW(D19))),\"\")","v":""},"",19,{"$f":"IFERROR(INDEX($B$2:$B$151,LARGE(($D$2:$D$151=5)*(ROW($D$2:$D$151)-1),COUNTIF($D$2:$D$151,5)+1-ROW(D19))),\"\")","v":""},"",null,19,"",0,0]
[20,"",0,0,null,20,{"$f":"IFERROR(INDEX($B$2:$B$151,LARGE(($D$2:$D$151=1)*(ROW($D$2:$D$151)-1),COUNTIF($D$2:$D$151,1)+1-ROW(D20))),\"\")","v":""},"",20,{"$f":"IFERROR(INDEX($B$2:$B$151,LARGE(($D$2:$D$151=2)*(ROW($D$2:$D$151)-1),COUNTIF($D$2:$D$151,2)+1-ROW(D20))),\"\")","v":""},"",20,{"$f":"IFERROR(INDEX($B$2:$B$151,LARGE(($D$2:$D$151=3)*(ROW($D$2:$D$151)-1),COUNTIF($D$2:$D$151,3)+1-ROW(D20))),\"\")","v":""},"",20,{"$f":"IFERROR(INDEX($B$2:$B$151,LARGE(($D$2:$D$151=4)*(ROW($D$2:$D$151)-1),COUNTIF($D$2:$D$151,4)+1-ROW(D20))),\"\")","v":""},"",20,{"$f":"IFERROR(INDEX($B$2:$B$151,LARGE(($D$2:$D$151=5)*(ROW($D$2:$D$151)-1),COUNTIF($D$2:$D$151,5)+1-ROW(D20))),\"\")","v":""},"",null,20,"",0,0]
[21,"",0,0,null,21,{"$f":"IFERROR(INDEX($B$2:$B$151,LARGE(($D$2:$D$151=1)*(ROW($D$2:$D$151)-1),COUNTIF($D$2:$D$151,1)+1-ROW(D21))),\"\")","v":""},"",21,{"$f":"IFERROR(INDEX($B$2:$B$151,LARGE(($D$2:$D$151=2)*(ROW($D$2:$D$151)-1),COUNTIF($D$2:$D$151,2)+1-ROW(D21))),\"\")","v":""},"",21,{"$f":"IFERROR(INDEX($B$2:$B$151,LARGE(($D$2:$D$151=3)*(ROW($D$2:$D$151)-1),COUNTIF($D$2:$D$151,3)+1-ROW(D21))),\"\")","v":""},"",21,{"$f":"IFERROR(INDEX($B$2:$B$151,LARGE(($D$2:$D$151=4)*(ROW($D$2:$D$151)-1),COUNTIF($D$2:$D$151,4)+1-ROW(D21))),\"\")","v":""},"",21,{"$f":"IFERROR(INDEX($B$2:$B$151,LARGE(($D$2:$D$151=5)*(ROW($D$2:$D$151)-1),COUNTIF($D$2:$D$151,5)+1-ROW(D21))),\"\")","v":""},"",null,21,"",0,0]
[22,"",0,0,null,22,{"$f":"IFERROR(INDEX($B$2:$B$151,LARGE(($D$2:$D$151=1)*(ROW($D$2:$D$151)-1),COUNTIF($D$2:$D$151,1)+1-ROW(D22))),\"\")","v":""},"",22,{"$f":"IFERROR(INDEX($B$2:$B$151,LARGE(($D$2:$D$151=2)*(ROW($D$2:$D$151)-1),COUNTIF($D$2:$D$151,2)+1-ROW(D22))),\"\")","v":""},"",22,{"$f":"IFERROR(INDEX($B$2:$B$151,LARGE(($D$2:$D$151=3)*(ROW($D$2:$D$151)-1),COUNTIF($D$2:$D$151,3)+1-ROW(D22))),\"\")","v":""},"",22,{"$f":"IFERROR(INDEX($B$2:$B$151,LARGE(($D$2:$D$151=4)*(ROW($D$2:$D$151)-1),COUNTIF($D$2:$D$151,4)+1-ROW(D22))),\"\")","v":""},"",22,{"$f":"IFERROR(INDEX($B$2:$B$151,LARGE(($D$2:$D$151=5)*(ROW($D$2:$D$151)-1),COUNTIF($D$2:$D$151,5)+1-ROW(D22))),\"\")","v":""},"",null,22,"",0,0]
[23,"",0,0,null,23,{"$f":"IFERROR(INDEX($B$2:$B$151,LARGE(($D$2:$D$151=1)*(ROW($D$2:$D$151)-1),COUNTIF($D$2:$D$151,1)+1-ROW(D23))),\"\")","v":""},"",23,{"$f":"IFERROR(INDEX($B$2:$B$151,LARGE(($D$2:$D$151=2)*(ROW($D$2:$D$151)-1),COUNTIF($D$2:$D$151,2)+1-ROW(D23))),\"\")","v":""},"",23,{"$f":"IFERROR(INDEX($B$2:$B$151,LARGE(($D$2:$D$151=3)*(ROW($D$2:$D$151)-1),COUNTIF($D$2:$D$151,3)+1-ROW(D23))),\"\")","v":""},"",23,{"$f":"IFERROR(INDEX($B$2:$B$151,LARGE(($D$2:$D$151=4)*(ROW($D$2:$D$151)-1),COUNTIF($D$2:$D$151,4)+1-ROW(D23))),\"\")","v":""},"",23,{"$f":"IFERROR(INDEX($B$2:$B$151,LARGE(($D$2:$D$151=5)*(ROW($D$2:$D$151)-1),COUNTIF($D$2:$D$151,5)+1-ROW(D23))),\"\")","v":""},"",null,23,"",0,0]
[24,"",0,0,null,24,{"$f":"IFERROR(INDEX($B$2:$B$151,LARGE(($D$2:$D$151=1)*(ROW($D$2:$D$151)-1),COUNTIF($D$2:$D$151,1)+1-ROW(D24))),\"\")","v":""},"",24,{"$f":"IFERROR(INDEX($B$2:$B$151,LARGE(($D$2:$D$151=2)*(ROW($D$2:$D$151)-1),COUNTIF($D$2:$D$151,2)+1-ROW(D24))),\"\")","v":""},"",24,{"$f":"IFERROR(INDEX($B$2:$B$151,LARGE(($D$2:$D$151=3)*(ROW($D$2:$D$151)-1),COUNTIF($D$2:$D$151,3)+1-ROW(D24))),\"\")","v":""},"",24,{"$f":"IFERROR(INDEX($B$2:$B$151,LARGE(($D$2:$D$151=4)*(ROW($D$2:$D$151)-1),COUNTIF($D$2:$D$151,4)+1-ROW(D24))),\"\")","v":""},"",24,{"$f":"IFERROR(INDEX($B$2:$B$151,LARGE(($D$2:$D$151=5)*(ROW($D$2:$D$151)-1),COUNTIF($D$2:$D$151,5)+1-ROW(D24))),\"\")","v":""},"",null,24,"",0,0]
[25,"",0,0,null,25,{"$f":"IFERROR(INDEX($B$2:$B$151,LARGE(($D$2:$D$151=1)*(ROW($D$2:$D$151)-1),COUNTIF($D$2:$D$151,1)+1-ROW(D25))),\"\")","v":""},"",25,{"$f":"IFERROR(INDEX($B$2:$B$151,LARGE(($D$2:$D$151=2)*(ROW($D$2:$D$151)-1),COUNTIF($D$2:$D$151,2)+1-ROW(D25))),\"\")","v":""},"",25,{"$f":"IFERROR(INDEX($B$2:$B$151,LARGE(($D$2:$D$151=3)*(ROW($D$2:$D$151)-1),COUNTIF($D$2:$D$151,3)+1-ROW(D25))),\"\")","v":""},"",25,{"$f":"IFERROR(INDEX($B$2:$B$151,LARGE(($D$2:$D$151=4)*(ROW($D$2:$D$151)-1),COUNTIF($D$2:$D$151,4)+1-ROW(D25))),\"\")","v":""},"",25,{"$f":"IFERROR(INDEX($B$2:$B$151,LARGE(($D$2:$D$151=5)*(ROW($D$2:$D$151)-1),COUNTIF($D$2:$D$151,5)+1-ROW(D25))),\"\")","v":""},"",null,25,"",0,0]
[26,"",0,0,null,26,{"$f":"IFERROR(INDEX($B$2:$B$151,LARGE(($D$2:$D$151=1)*(ROW($D$2:$D$151)-1),COUNTIF($D$2:$D$151,1)+1-ROW(D26))),\"\")","v":""},"",26,{"$f":"IFERROR(INDEX($B$2:$B$151,LARGE(($D$2:$D$151=2)*(ROW($D$2:$D$151)-1),COUNTIF($D$2:$D$151,2)+1-ROW(D26))),\"\")","v":""},"",26,{"$f":"IFERROR(INDEX($B$2:$B$151,LARGE(($D$2:$D$151=3)*(ROW($D$2:$D$151)-1),COUNTIF($D$2:$D$151,3)+1-ROW(D26))),\"\")","v":""},"",26,{"$f":"IFERROR(INDEX($B$2:$B$151,LARGE(($D$2:$D$151=4)*(ROW($D$2:$D$151)-1),COUNTIF($D$2:$D$151,4)+1-ROW(D26))),\"\")","v":""},"",26,{"$f":"IFERROR(INDEX($B$2:$B$151,LARGE(($D$2:$D$151=5)*(ROW($D$2:$D$151)-1),COUNTIF($D$2:$D$151,5)+1-ROW(D26))),\"\")","v":""},"",null,26,"",0,0]
[27,"",0,0,null,27,{"$f":"IFERROR(INDEX($B$2:$B$151,LARGE(($D$2:$D$151=1)*(ROW($D$2:$D$151)-1),COUNTIF($D$2:$D$151,1)+1-ROW(D27))),\"\")","v":""},"",27,{"$f":"IFERROR(INDEX($B$2:$B$151,LARGE(($D$2:$D$151=2)*(ROW($D$2:$D$151)-1),COUNTIF($D$2:$D$151,2)+1-ROW(D27))),\"\")","v":""},"",27,{"$f":"IFERROR(INDEX($B$2:$B$151,LARGE(($D$2:$D$151=3)*(ROW($D$2:$D$151)-1),COUNTIF($D$2:$D$151,3)+1-ROW(D27))),\"\")","v":""},"",27,{"$f":"IFERROR(INDEX($B$2:$B$151,LARGE(($D$2:$D$151=4)*(ROW($D$2:$D$151)-1),COUNTIF($D$2:$D$151,4)+1-ROW(D27))),\"\")","v":""},"",27,{"$f":"IFERROR(INDEX($B$2:$B$151,LARGE(($D$2:$D$151=5)*(ROW($D$2:$D$151)-1),COUNTIF($D$2:$D$151,5)+1-ROW(D27))),\"\")","v":""},"",null,27,"",0,0]
[28,"",0,0,null,28,{"$f":"IFERROR(INDEX($B$2:$B$151,LARGE(($D$2:$D$151=1)*(ROW($D$2:$D$151)-1),COUNTIF($D$2:$D$151,1)+1-ROW(D28))),\"\")","v":""},"",28,{"$f":"IFERROR(INDEX($B$2:$B$151,LARGE(($D$2:$D$151=2)*(ROW($D$2:$D$151)-1),COUNTIF($D$2:$D$151,2)+1-ROW(D28))),\"\")","v":""},"",28,{"$f":"IFERROR(INDEX($B$2:$B$151,LARGE(($D$2:$D$151=3)*(ROW($D$2:$D$151)-1),COUNTIF($D$2:$D$151,3)+1-ROW(D28))),\"\")","v":""},"",28,{"$f":"IFERROR(INDEX($B$2:$B$151,LARGE(($D$2:$D$151=4)*(ROW($D$2:$D$151)-1),COUNTIF($D$2:$D$151,4)+1-ROW(D28))),\"\")","v":""},"",28,{"$f":"IFERROR(INDEX($B$2:$B$151,LARGE(($D$2:$D$151=5)*(ROW($D$2:$D$151)-1),COUNTIF($D$2:$D$151,5)+1-ROW(D28))),\"\")","v":""},"",null,28,"",0,0]
[29,"",0,0,null,29,{"$f":"IFERROR(INDEX($B$2:$B$151,LARGE(($D$2:$D$151=1)*(ROW($D$2:$D$151)-1),COUNTIF($D$2:$D$151,1)+1-ROW(D29))),\"\")","v":""},"",29,{"$f":"IFERROR(INDEX($B$2:$B$151,LARGE(($D$2:$D$151=2)*(ROW($D$2:$D$151)-1),COUNTIF($D$2:$D$151,2)+1-ROW(D29))),\"\")","v":""},"",29,{"$f":"IFERROR(INDEX($B$2:$B$151,LARGE(($D$2:$D$151=3)*(ROW($D$2:$D$151)-1),COUNTIF($D$2:$D$151,3)+1-ROW(D29))),\"\")","v":""},"",29,{"$f":"IFERROR(INDEX($B$2:$B$151,LARGE(($D$2:$D$151=4)*(ROW($D$2:$D$151)-1),COUNTIF($D$2:$D$151,4)+1-ROW(D29))),\"\")","v":""},"",29,{"$f":"IFERROR(INDEX($B$2:$B$151,LARGE(($D$2:$D$151=5)*(ROW($D$2:$D$151)-1),COUNTIF($D$2:$D$151,5)+1-ROW(D29))),\"\")","v":""},"",null,29,"",0,0]
[30,"",0,0,null,30,{"$f":"IFERROR(INDEX($B$2:$B$151,LARGE(($D$2:$D$151=1)*(ROW($D$2:$D$151)-1),COUNTIF($D$2:$D$151,1)+1-ROW(D30))),\"\")","v":""},"",30,{"$f":"IFERROR(INDEX($B$2:$B$151,LARGE(($D$2:$D$151=2)*(ROW($D$2:$D$151)-1),COUNTIF($D$2:$D$151,2)+1-ROW(D30))),\"\")","v":""},"",30,{"$f":"IFERROR(INDEX($B$2:$B$151,LARGE(($D$2:$D$151=3)*(ROW($D$2:$D$151)-1),COUNTIF($D$2:$D$151,3)+1-ROW(D30))),\"\")","v":""},"",30,{"$f":"IFERROR(INDEX($B$2:$B$151,LARGE(($D$2:$D$151=4)*(ROW($D$2:$D$151)-1),COUNTIF($D$2:$D$151,4)+1-ROW(D30))),\"\")","v":""},"",30,{"$f":"IFERROR(INDEX($B$2:$B$151,LARGE(($D$2:$D$151=5)*(ROW($D$2:$D$151)-1),COUNTIF($D$2:$D$151,5)+1-ROW(D30))),\"\")","v":""},"",null,30,"",0,0]
[31,"",0,0,null,31,{"$f":"IFERROR(INDEX($B$2:$B$151,LARGE(($D$2:$D$151=1)*(ROW($D$2:$D$151)-1),COUNTIF($D$2:$D$151,1)+1-ROW(D31))),\"\")","v":""},"",31,{"$f":"IFERROR(INDEX($B$2:$B$151,LARGE(($D$2:$D$151=2)*(ROW($D$2:$D$151)-1),COUNTIF($D$2:$D$151,2)+1-ROW(D31))),\"\")","v":""},"",31,{"$f":"IFERROR(INDEX($B$2:$B$151,LARGE(($D$2:$D$151=3)*(ROW($D$2:$D$151)-1),COUNTIF($D$2:$D$151,3)+1-ROW(D31))),\"\")","v":""},"",31,{"$f":"IFERROR(INDEX($B$2:$B$151,LARGE(($D$2:$D$151=4)*(ROW($D$2:$D$151)-1),COUNTIF($D$2:$D$151,4)+1-ROW(D31))),\"\")","v":""},"",31,{"$f":"IFERROR(INDEX($B$2:$B$151,LARGE(($D$2:$D$151=5)*(ROW($D$2:$D$151)-1),COUNTIF($D$2:$D$151,5)+1-ROW(D31))),\"\")","v":""},"",null,31,"",0,0]
[32,"",0,0,null,32,{"$f":"IFERROR(INDEX($B$2:$B$151,LARGE(($D$2:$D$151=1)*(ROW($D$2:$D$151)-1),COUNTIF($D$2:$D$151,1)+1-ROW(D32))),\"\")","v":""},"",32,{"$f":"IFERROR(INDEX($B$2:$B$151,LARGE(($D$2:$D$151=2)*(ROW($D$2:$D$151)-1),COUNTIF($D$2:$D$151,2)+1-ROW(D32))),\"\")","v":""},"",32,{"$f":"IFERROR(INDEX($B$2:$B$151,LARGE(($D$2:$D$151=3)*(ROW($D$2:$D$151)-1),COUNTIF($D$2:$D$151,3)+1-ROW(D32))),\"\")","v":""},"",32,{"$f":"IFERROR(INDEX($B$2:$B$151,LARGE(($D$2:$D$151=4)*(ROW($D$2:$D$151)-1),COUNTIF($D$2:$D$151,4)+1-ROW(D32))),\"\")","v":""},"",32,{"$f":"IFERROR(INDEX($B$2:$B$151,LARGE(($D$2:$D$151=5)*(ROW($D$2:$D$151)-1),COUNTIF($D$2:$D$151,5)+1-ROW(D32))),\"\")","v":""},"",null,32,"",0,0]
[33,"",0,0,null,33,{"$f":"IFERROR(INDEX($B$2:$B$151,LARGE(($D$2:$D$151=1)*(ROW($D$2:$D$151)-1),COUNTIF($D$2:$D$151,1)+1-ROW(D33))),\"\")","v":""},"",33,{"$f":"IFERROR(INDEX($B$2:$B$151,LARGE(($D$2:$D$151=2)*(ROW($D$2:$D$151)-1),COUNTIF($D$2:$D$151,2)+1-ROW(D33))),\"\")","v":""},"",33,{"$f":"IFERROR(INDEX($B$2:$B$151,LARGE(($D$2:$D$151=3)*(ROW($D$2:$D$151)-1),COUNTIF($D$2:$D$151,3)+1-ROW(D33))),\"\")","v":""},"",33,{"$f":"IFERROR(INDEX($B$2:$B$151,LARGE(($D$2:$D$151=4)*(ROW($D$2:$D$151)-1),COUNTIF($D$2:$D$151,4)+1-ROW(D33))),\"\")","v":""},"",33,{"$f":"IFERROR(INDEX($B$2:$B$151,LARGE(($D$2:$D$151=5)*(ROW($D$2:$D$151)-1),COUNTIF($D$2:$D$151,5)+1-ROW(D33))),\"\")","v":""},"",null,33,"",0,0]
[34,"",0,0,null,34,{"$f":"IFERROR(INDEX($B$2:$B$151,LARGE(($D$2:$D$151=1)*(ROW($D$2:$D$151)-1),COUNTIF($D$2:$D$151,1)+1-ROW(D34))),\"\")","v":""},"",34,{"$f":"IFERROR(INDEX($B$2:$B$151,LARGE(($D$2:$D$151=2)*(ROW($D$2:$D$151)-1),COUNTIF($D$2:$D$151,2)+1-ROW(D34))),\"\")","v":""},"",34,{"$f":"IFERROR(INDEX($B$2:$B$151,LARGE(($D$2:$D$151=3)*(ROW($D$2:$D$151)-1),COUNTIF($D$2:$D$151,3)+1-ROW(D34))),\"\")","v":""},"",34,{"$f":"IFERROR(INDEX($B$2:$B$151,LARGE(($D$2:$D$151=4)*(ROW($D$2:$D$151)-1),COUNTIF($D$2:$D$151,4)+1-ROW(D34))),\"\")","v":""},"",34,{"$f":"IFERROR(INDEX($B$2:$B$151,LARGE(($D$2:$D$151=5)*(ROW($D$2:$D$151)-1),COUNTIF($D$2:$D$151,5)+1-ROW(D34))),\"\")","v":""},"",null,34,"",0,0]
[35,"",0,0,null,35,{"$f":"IFERROR(INDEX($B$2:$B$151,LARGE(($D$2:$D$151=1)*(ROW($D$2:$D$151)-1),COUNTIF($D$2:$D$151,1)+1-ROW(D35))),\"\")","v":""},"",35,{"$f":"IFERROR(INDEX($B$2:$B$151,LARGE(($D$2:$D$151=2)*(ROW($D$2:$D$151)-1),COUNTIF($D$2:$D$151,2)+1-ROW(D35))),\"\")","v":""},"",35,{"$f":"IFERROR(INDEX($B$2:$B$151,LARGE(($D$2:$D$151=3)*(ROW($D$2:$D$151)-1),COUNTIF($D$2:$D$151,3)+1-ROW(D35))),\"\")","v":""},"",35,{"$f":"IFERROR(INDEX($B$2:$B$151,LARGE(($D$2:$D$151=4)*(ROW($D$2:$D$151)-1),COUNTIF($D$2:$D$151,4)+1-ROW(D35))),\"\")","v":""},"",35,{"$f":"IFERROR(INDEX($B$2:$B$151,LARGE(($D$2:$D$151=5)*(ROW($D$2:$D$151)-1),COUNTIF($D$2:$D$151,5)+1-ROW(D35))),\"\")","v":""},"",null,35,"",0,0]
[36,"",0,0,null,36,{"$f":"IFERROR(INDEX($B$2:$B$151,LARGE(($D$2:$D$151=1)*(ROW($D$2:$D$151)-1),COUNTIF($D$2:$D$151,1)+1-ROW(D36))),\"\")","v":""},"",36,{"$f":"IFERROR(INDEX($B$2:$B$151,LARGE(($D$2:$D$151=2)*(ROW($D$2:$D$151)-1),COUNTIF($D$2:$D$151,2)+1-ROW(D36))),\"\")","v":""},"",36,{"$f":"IFERROR(INDEX($B$2:$B$151,LARGE(($D$2:$D$151=3)*(ROW($D$2:$D$151)-1),COUNTIF($D$2:$D$151,3)+1-ROW(D36))),\"\")","v":""},"",36,{"$f":"IFERROR(INDEX($B$2:$B$151,LARGE(($D$2:$D$151=4)*(ROW($D$2:$D$151)-1),COUNTIF($D$2:$D$151,4)+1-ROW(D36))),\"\")","v":""},"",36,{"$f":"IFERROR(INDEX($B$2:$B$151,LARGE(($D$2:$D$151=5)*(ROW($D$2:$D$151)-1),COUNTIF($D$2:$D$151,5)+1-ROW(D36))),\"\")","v":""},"",null,36,"",0,0]
[37,"",0,0,null,37,{"$f":"IFERROR(INDEX($B$2:$B$151,LARGE(($D$2:$D$151=1)*(ROW($D$2:$D$151)-1),COUNTIF($D$2:$D$151,1)+1-ROW(D37))),\"\")","v":""},"",37,{"$f":"IFERROR(INDEX($B$2:$B$151,LARGE(($D$2:$D$151=2)*(ROW($D$2:$D$151)-1),COUNTIF($D$2:$D$151,2)+1-ROW(D37))),\"\")","v":""},"",37,{"$f":"IFERROR(INDEX($B$2:$B$151,LARGE(($D$2:$D$151=3)*(ROW($D$2:$D$151)-1),COUNTIF($D$2:$D$151,3)+1-ROW(D37))),\"\")","v":""},"",37,{"$f":"IFERROR(INDEX($B$2:$B$151,LARGE(($D$2:$D$151=4)*(ROW($D$2:$D$151)-1),COUNTIF($D$2:$D$151,4)+1-ROW(D37))),\"\")","v":""},"",37,{"$f":"IFERROR(INDEX($B$2:$B$151,LARGE(($D$2:$D$151=5)*(ROW($D$2:$D$151)-1),COUNTIF($D$2:$D$151,5)+1-ROW(D37))),\"\")","v":""},"",null,37,"",0,0]
[38,"",0,0,null,38,{"$f":"IFERROR(INDEX($B$2:$B$151,LARGE(($D$2:$D$151=1)*(ROW($D$2:$D$151)-1),COUNTIF($D$2:$D$151,1)+1-ROW(D38))),\"\")","v":""},"",38,{"$f":"IFERROR(INDEX($B$2:$B$151,LARGE(($D$2:$D$151=2)*(ROW($D$2:$D$151)-1),COUNTIF($D$2:$D$151,2)+1-ROW(D38))),\"\")","v":""},"",38,{"$f":"IFERROR(INDEX($B$2:$B$151,LARGE(($D$2:$D$151=3)*(ROW($D$2:$D$151)-1),COUNTIF($D$2:$D$151,3)+1-ROW(D38))),\"\")","v":""},"",38,{"$f":"IFERROR(INDEX($B$2:$B$151,LARGE(($D$2:$D$151=4)*(ROW($D$2:$D$151)-1),COUNTIF($D$2:$D$151,4)+1-ROW(D38))),\"\")","v":""},"",38,{"$f":"IFERROR(INDEX($B$2:$B$151,LARGE(($D$2:$D$151=5)*(ROW($D$2:$D$151)-1),COUNTIF($D$2:$D$151,5)+1-ROW(D38))),\"\")","v":""},"",null,38,"",0,0]
[39,"",0,0,null,39,{"$f":"IFERROR(INDEX($B$2:$B$151,LARGE(($D$2:$D$151=1)*(ROW($D$2:$D$151)-1),COUNTIF($D$2:$D$151,1)+1-ROW(D39))),\"\")","v":""},"",39,{"$f":"IFERROR(INDEX($B$2:$B$151,LARGE(($D$2:$D$151=2)*(ROW($D$2:$D$151)-1),COUNTIF($D$2:$D$151,2)+1-ROW(D39))),\"\")","v":""},"",39,{"$f":"IFERROR(INDEX($B$2:$B$151,LARGE(($D$2:$D$151=3)*(ROW($D$2:$D$151)-1),COUNTIF($D$2:$D$151,3)+1-ROW(D39))),\"\")","v":""},"",39,{"$f":"IFERROR(INDEX($B$2:$B$151,LARGE(($D$2:$D$151=4)*(ROW($D$2:$D$151)-1),COUNTIF($D$2:$D$151,4)+1-ROW(D39))),\"\")","v":""},"",39,{"$f":"IFERROR(INDEX($B$2:$B$151,LARGE(($D$2:$D$151=5)*(ROW($D$2:$D$151)-1),COUNTIF($D$2:$D$151,5)+1-ROW(D39))),\"\")","v":""},"",null,39,"",0,0]
[40,"",0,0,null,40,{"$f":"IFERROR(INDEX($B$2:$B$151,LARGE(($D$2:$D$151=1)*(ROW($D$2:$D$151)-1),COUNTIF($D$2:$D$151,1)+1-ROW(D40))),\"\")","v":""},"",40,{"$f":"IFERROR(INDEX($B$2:$B$151,LARGE(($D$2:$D$151=2)*(ROW($D$2:$D$151)-1),COUNTIF($D$2:$D$151,2)+1-ROW(D40))),\"\")","v":""},"",40,{"$f":"IFERROR(INDEX($B$2:$B$151,LARGE(($D$2:$D$151=3)*(ROW($D$2:$D$151)-1),COUNTIF($D$2:$D$151,3)+1-ROW(D40))),\"\")","v":""},"",40,{"$f":"IFERROR(INDEX($B$2:$B$151,LARGE(($D$2:$D$151=4)*(ROW($D$2:$D$151)-1),COUNTIF($D$2:$D$151,4)+1-ROW(D40))),\"\")","v":""},"",40,{"$f":"IFERROR(INDEX($B$2:$B$151,LARGE(($D$2:$D$151=5)*(ROW($D$2:$D$151)-1),COUNTIF($D$2:$D$151,5)+1-ROW(D40))),\"\")","v":""},"",null,40,"",0,0]
[41,"",0,0,null,41,{"$f":"IFERROR(INDEX($B$2:$B$151,LARGE(($D$2:$D$151=1)*(ROW($D$2:$D$151)-1),COUNTIF($D$2:$D$151,1)+1-ROW(D41))),\"\")","v":""},"",41,{"$f":"IFERROR(INDEX($B$2:$B$151,LARGE(($D$2:$D$151=2)*(ROW($D$2:$D$151)-1),COUNTIF($D$2:$D$151,2)+1-ROW(D41))),\"\")","v":""},"",41,{"$f":"IFERROR(INDEX($B$2:$B$151,LARGE(($D$2:$D$151=3)*(ROW($D$2:$D$151)-1),COUNTIF($D$2:$D$151,3)+1-ROW(D41))),\"\")","v":""},"",41,{"$f":"IFERROR(INDEX($B$2:$B$151,LARGE(($D$2:$D$151=4)*(ROW($D$2:$D$151)-1),COUNTIF($D$2:$D$151,4)+1-ROW(D41))),\"\")","v":""},"",41,{"$f":"IFERROR(INDEX($B$2:$B$151,LARGE(($D$2:$D$151=5)*(ROW($D$2:$D$151)-1),COUNTIF($D$2:$D$151,5)+1-ROW(D41))),\"\")","v":""},"",null,41,"",0,0]
[42,"",0,0,null,42,{"$f":"IFERROR(INDEX($B$2:$B$151,LARGE(($D$2:$D$151=1)*(ROW($D$2:$D$151)-1),COUNTIF($D$2:$D$151,1)+1-ROW(D42))),\"\")","v":""},"",42,{"$f":"IFERROR(INDEX($B$2:$B$151,LARGE(($D$2:$D$151=2)*(ROW($D$2:$D$151)-1),COUNTIF($D$2:$D$151,2)+1-ROW(D42))),\"\")","v":""},"",42,{"$f":"IFERROR(INDEX($B$2:$B$151,LARGE(($D$2:$D$151=3)*(ROW($D$2:$D$151)-1),COUNTIF($D$2:$D$151,3)+1-ROW(D42))),\"\")","v":""},"",42,{"$f":"IFERROR(INDEX($B$2:$B$151,LARGE(($D$2:$D$151=4)*(ROW($D$2:$D$151)-1),COUNTIF($D$2:$D$151,4)+1-ROW(D42))),\"\")","v":""},"",42,{"$f":"IFERROR(INDEX($B$2:$B$151,LARGE(($D$2:$D$151=5)*(ROW($D$2:$D$151)-1),COUNTIF($D$2:$D$151,5)+1-ROW(D42))),\"\")","v":""},"",null,42,"",0,0]
[43,"",0,0,null,43,{"$f":"IFERROR(INDEX($B$2:$B$151,LARGE(($D$2:$D$151=1)*(ROW($D$2:$D$151)-1),COUNTIF($D$2:$D$151,1)+1-ROW(D43))),\"\")","v":""},"",43,{"$f":"IFERROR(INDEX($B$2:$B$151,LARGE(($D$2:$D$151=2)*(ROW($D$2:$D$151)-1),COUNTIF($D$2:$D$151,2)+1-ROW(D43))),\"\")","v":""},"",43,{"$f":"IFERROR(INDEX($B$2:$B$151,LARGE(($D$2:$D$151=3)*(ROW($D$2:$D$151)-1),COUNTIF($D$2:$D$151,3)+1-ROW(D43))),\"\")","v":""},"",43,{"$f":"IFERROR(INDEX($B$2:$B$151,LARGE(($D$2:$D$151=4)*(ROW($D$2:$D$151)-1),COUNTIF($D$2:$D$151,4)+1-ROW(D43))),\"\")","v":""},"",43,{"$f":"IFERROR(INDEX($B$2:$B$151,LARGE(($D$2:$D$151=5)*(ROW($D$2:$D$151)-1),COUNTIF($D$2:$D$151,5)+1-ROW(D43))),\"\")","v":""},"",null,43,"",0,0]
[44,"",0,0,null,44,{"$f":"IFERROR(INDEX($B$2:$B$151,LARGE(($D$2:$D$151=1)*(ROW($D$2:$D$151)-1),COUNTIF($D$2:$D$151,1)+1-ROW(D44))),\"\")","v":""},"",44,{"$f":"IFERROR(INDEX($B$2:$B$151,LARGE(($D$2:$D$151=2)*(ROW($D$2:$D$151)-1),COUNTIF($D$2:$D$151,2)+1-ROW(D44))),\"\")","v":""},"",44,{"$f":"IFERROR(INDEX($B$2:$B$151,LARGE(($D$2:$D$151=3)*(ROW($D$2:$D$151)-1),COUNTIF($D$2:$D$151,3)+1-ROW(D44))),\"\")","v":""},"",44,{"$f":"IFERROR(INDEX($B$2:$B$151,LARGE(($D$2:$D$151=4)*(ROW($D$2:$D$151)-1),COUNTIF($D$2:$D$151,4)+1-ROW(D44))),\"\")","v":""},"",44,{"$f":"IFERROR(INDEX($B$2:$B$151,LARGE(($D$2:$D$151=5)*(ROW($D$2:$D$151)-1),COUNTIF($D$2:$D$151,5)+1-ROW(D44))),\"\")","v":""},"",null,44,"",0,0]
[45,"",0,0,null,45,{"$f":"IFERROR(INDEX($B$2:$B$151,LARGE(($D$2:$D$151=1)*(ROW($D$2:$D$151)-1),COUNTIF($D$2:$D$151,1)+1-ROW(D45))),\"\")","v":""},"",45,{"$f":"IFERROR(INDEX($B$2:$B$151,LARGE(($D$2:$D$151=2)*(ROW($D$2:$D$151)-1),COUNTIF($D$2:$D$151,2)+1-ROW(D45))),\"\")","v":""},"",45,{"$f":"IFERROR(INDEX($B$2:$B$151,LARGE(($D$2:$D$151=3)*(ROW($D$2:$D$151)-1),COUNTIF($D$2:$D$151,3)+1-ROW(D45))),\"\")","v":""},"",45,{"$f":"IFERROR(INDEX($B$2:$B$151,LARGE(($D$2:$D$151=4)*(ROW($D$2:$D$151)-1),COUNTIF($D$2:$D$151,4)+1-ROW(D45))),\"\")","v":""},"",45,{"$f":"IFERROR(INDEX($B$2:$B$151,LARGE(($D$2:$D$151=5)*(ROW($D$2:$D$151)-1),COUNTIF($D$2:$D$151,5)+1-ROW(D45))),\"\")","v":""},"",null,45,"",0,0]
[46,"",0,0,null,46,{"$f":"IFERROR(INDEX($B$2:$B$151,LARGE(($D$2:$D$151=1)*(ROW($D$2:$D$151)-1),COUNTIF($D$2:$D$151,1)+1-ROW(D46))),\"\")","v":""},"",46,{"$f":"IFERROR(INDEX($B$2:$B$151,LARGE(($D$2:$D$151=2)*(ROW($D$2:$D$151)-1),COUNTIF($D$2:$D$151,2)+1-ROW(D46))),\"\")","v":""},"",46,{"$f":"IFERROR(INDEX($B$2:$B$151,LARGE(($D$2:$D$151=3)*(ROW($D$2:$D$151)-1),COUNTIF($D$2:$D$151,3)+1-ROW(D46))),\"\")","v":""},"",46,{"$f":"IFERROR(INDEX($B$2:$B$151,LARGE(($D$2:$D$151=4)*(ROW($D$2:$D$151)-1),COUNTIF($D$2:$D$151,4)+1-ROW(D46))),\"\")","v":""},"",46,{"$f":"IFERROR(INDEX($B$2:$B$151,LARGE(($D$2:$D$151=5)*(ROW($D$2:$D$151)-1),COUNTIF($D$2:$D$151,5)+1-ROW(D46))),\"\")","v":""},"",null,46,"",0,0]
[47,"",0,0,null,47,{"$f":"IFERROR(INDEX($B$2:$B$151,LARGE(($D$2:$D$151=1)*(ROW($D$2:$D$151)-1),COUNTIF($D$2:$D$151,1)+1-ROW(D47))),\"\")","v":""},"",47,{"$f":"IFERROR(INDEX($B$2:$B$151,LARGE(($D$2:$D$151=2)*(ROW($D$2:$D$151)-1),COUNTIF($D$2:$D$151,2)+1-ROW(D47))),\"\")","v":""},"",47,{"$f":"IFERROR(INDEX($B$2:$B$151,LARGE(($D$2:$D$151=3)*(ROW($D$2:$D$151)-1),COUNTIF($D$2:$D$151,3)+1-ROW(D47))),\"\")","v":""},"",47,{"$f":"IFERROR(INDEX($B$2:$B$151,LARGE(($D$2:$D$151=4)*(ROW($D$2:$D$151)-1),COUNTIF($D$2:$D$151,4)+1-ROW(D47))),\"\")","v":""},"",47,{"$f":"IFERROR(INDEX($B$2:$B$151,LARGE(($D$2:$D$151=5)*(ROW($D$2:$D$151)-1),COUNTIF($D$2:$D$151,5)+1-ROW(D47))),\"\")","v":""},"",null,47,"",0,0]
[48,"",0,0,null,48,{"$f":"IFERROR(INDEX($B$2:$B$151,LARGE(($D$2:$D$151=1)*(ROW($D$2:$D$151)-1),COUNTIF($D$2:$D$151,1)+1-ROW(D48))),\"\")","v":""},"",48,{"$f":"IFERROR(INDEX($B$2:$B$151,LARGE(($D$2:$D$151=2)*(ROW($D$2:$D$151)-1),COUNTIF($D$2:$D$151,2)+1-ROW(D48))),\"\")","v":""},"",48,{"$f":"IFERROR(INDEX($B$2:$B$151,LARGE(($D$2:$D$151=3)*(ROW($D$2:$D$151)-1),COUNTIF($D$2:$D$151,3)+1-ROW(D48))),\"\")","v":""},"",48,{"$f":"IFERROR(INDEX($B$2:$B$151,LARGE(($D$2:$D$151=4)*(ROW($D$2:$D$151)-1),COUNTIF($D$2:$D$151,4)+1-ROW(D48))),\"\")","v":""},"",48,{"$f":"IFERROR(INDEX($B$2:$B$151,LARGE(($D$2:$D$151=5)*(ROW($D$2:$D$151)-1),COUNTIF($D$2:$D$151,5)+1-ROW(D48))),\"\")","v":""},"",null,48,"",0,0]
[49,"",0,0,null,49,{"$f":"IFERROR(INDEX($B$2:$B$151,LARGE(($D$2:$D$151=1)*(ROW($D$2:$D$151)-1),COUNTIF($D$2:$D$151,1)+1-ROW(D49))),\"\")","v":""},"",49,{"$f":"IFERROR(INDEX($B$2:$B$151,LARGE(($D$2:$D$151=2)*(ROW($D$2:$D$151)-1),COUNTIF($D$2:$D$151,2)+1-ROW(D49))),\"\")","v":""},"",49,{"$f":"IFERROR(INDEX($B$2:$B$151,LARGE(($D$2:$D$151=3)*(ROW($D$2:$D$151)-1),COUNTIF($D$2:$D$151,3)+1-ROW(D49))),\"\")","v":""},"",49,{"$f":"IFERROR(INDEX($B$2:$B$151,LARGE(($D$2:$D$151=4)*(ROW($D$2:$D$151)-1),COUNTIF($D$2:$D$151,4)+1-ROW(D49))),\"\")","v":""},"",49,{"$f":"IFERROR(INDEX($B$2:$B$151,LARGE(($D$2:$D$151=5)*(ROW($D$2:$D$151)-1),COUNTIF($D$2:$D$151,5)+1-ROW(D49))),\"\")","v":""},"",null,49,"",0,0]
[50,"",0,0,null,50,{"$f":"IFERROR(INDEX($B$2:$B$151,LARGE(($D$2:$D$151=1)*(ROW($D$2:$D$151)-1),COUNTIF($D$2:$D$151,1)+1-ROW(D50))),\"\")","v":""},"",50,{"$f":"IFERROR(INDEX($B$2:$B$151,LARGE(($D$2:$D$151=2)*(ROW($D$2:$D$151)-1),COUNTIF($D$2:$D$151,2)+1-ROW(D50))),\"\")","v":""},"",50,{"$f":"IFERROR(INDEX($B$2:$B$151,LARGE(($D$2:$D$151=3)*(ROW($D$2:$D$151)-1),COUNTIF($D$2:$D$151,3)+1-ROW(D50))),\"\")","v":""},"",50,{"$f":"IFERROR(INDEX($B$2:$B$151,LARGE(($D$2:$D$151=4)*(ROW($D$2:$D$151)-1),COUNTIF($D$2:$D$151,4)+1-ROW(D50))),\"\")","v":""},"",50,{"$f":"IFERROR(INDEX($B$2:$B$151,LARGE(($D$2:$D$151=5)*(ROW($D$2:$D$151)-1),COUNTIF($D$2:$D$151,5)+1-ROW(D50))),\"\")","v":""},"",null,50,"",0,0]
[51,"",0,0,null,51,{"$f":"IFERROR(INDEX($B$2:$B$151,LARGE(($D$2:$D$151=1)*(ROW($D$2:$D$151)-1),COUNTIF($D$2:$D$151,1)+1-ROW(D51))),\"\")","v":""},"",51,{"$f":"IFERROR(INDEX($B$2:$B$151,LARGE(($D$2:$D$151=2)*(ROW($D$2:$D$151)-1),COUNTIF($D$2:$D$151,2)+1-ROW(D51))),\"\")","v":""},"",51,{"$f":"IFERROR(INDEX($B$2:$B$151,LARGE(($D$2:$D$151=3)*(ROW($D$2:$D$151)-1),COUNTIF($D$2:$D$151,3)+1-ROW(D51))),\"\")","v":""},"",51,{"$f":"IFERROR(INDEX($B$2:$B$151,LARGE(($D$2:$D$151=4)*(ROW($D$2:$D$151)-1),COUNTIF($D$2:$D$151,4)+1-ROW(D51))),\"\")","v":""},"",51,{"$f":"IFERROR(INDEX($B$2:$B$151,LARGE(($D$2:$D$151=5)*(ROW($D$2:$D$151)-1),COUNTIF($D$2:$D$151,5)+1-ROW(D51))),\"\")","v":""},"",null,51,"",0,0]
[52,"",0,0,null,52,{"$f":"IFERROR(INDEX($B$2:$B$151,LARGE(($D$2:$D$151=1)*(ROW($D$2:$D$151)-1),COUNTIF($D$2:$D$151,1)+1-ROW(D52))),\"\")","v":""},"",52,{"$f":"IFERROR(INDEX($B$2:$B$151,LARGE(($D$2:$D$151=2)*(ROW($D$2:$D$151)-1),COUNTIF($D$2:$D$151,2)+1-ROW(D52))),\"\")","v":""},"",52,{"$f":"IFERROR(INDEX($B$2:$B$151,LARGE(($D$2:$D$151=3)*(ROW($D$2:$D$151)-1),COUNTIF($D$2:$D$151,3)+1-ROW(D52))),\"\")","v":""},"",52,{"$f":"IFERROR(INDEX($B$2:$B$151,LARGE(($D$2:$D$151=4)*(ROW($D$2:$D$151)-1),COUNTIF($D$2:$D$151,4)+1-ROW(D52))),\"\")","v":""},"",52,{"$f":"IFERROR(INDEX($B$2:$B$151,LARGE(($D$2:$D$151=5)*(ROW($D$2:$D$151)-1),COUNTIF($D$2:$D$151,5)+1-ROW(D52))),\"\")","v":""},"",null,52,"",0,0]
[53,"",0,0,null,53,{"$f":"IFERROR(INDEX($B$2:$B$151,LARGE(($D$2:$D$151=1)*(ROW($D$2:$D$151)-1),COUNTIF($D$2:$D$151,1)+1-ROW(D53))),\"\")","v":""},"",53,{"$f":"IFERROR(INDEX($B$2:$B$151,LARGE(($D$2:$D$151=2)*(ROW($D$2:$D$151)-1),COUNTIF($D$2:$D$151,2)+1-ROW(D53))),\"\")","v":""},"",53,{"$f":"IFERROR(INDEX($B$2:$B$151,LARGE(($D$2:$D$151=3)*(ROW($D$2:$D$151)-1),COUNTIF($D$2:$D$151,3)+1-ROW(D53))),\"\")","v":""},"",53,{"$f":"IFERROR(INDEX($B$2:$B$151,LARGE(($D$2:$D$151=4)*(ROW($D$2:$D$151)-1),COUNTIF($D$2:$D$151,4)+1-ROW(D53))),\"\")","v":""},"",53,{"$f":"IFERROR(INDEX($B$2:$B$151,LARGE(($D$2:$D$151=5)*(ROW($D$2:$D$151)-1),COUNTIF($D$2:$D$151,5)+1-ROW(D53))),\"\")","v":""},"",null,53,"",0,0]
[54,"",0,0,null,54,{"$f":"IFERROR(INDEX($B$2:$B$151,LARGE(($D$2:$D$151=1)*(ROW($D$2:$D$151)-1),COUNTIF($D$2:$D$151,1)+1-ROW(D54))),\"\")","v":""},"",54,{"$f":"IFERROR(INDEX($B$2:$B$151,LARGE(($D$2:$D$151=2)*(ROW($D$2:$D$151)-1),COUNTIF($D$2:$D$151,2)+1-ROW(D54))),\"\")","v":""},"",54,{"$f":"IFERROR(INDEX($B$2:$B$151,LARGE(($D$2:$D$151=3)*(ROW($D$2:$D$151)-1),COUNTIF($D$2:$D$151,3)+1-ROW(D54))),\"\")","v":""},"",54,{"$f":"IFERROR(INDEX($B$2:$B$151,LARGE(($D$2:$D$151=4)*(ROW($D$2:$D$151)-1),COUNTIF($D$2:$D$151,4)+1-ROW(D54))),\"\")","v":""},"",54,{"$f":"IFERROR(INDEX($B$2:$B$151,LARGE(($D$2:$D$151=5)*(ROW($D$2:$D$151)-1),COUNTIF($D$2:$D$151,5)+1-ROW(D54))),\"\")","v":""},"",null,54,"",0,0]
[55,"",0,0,null,55,{"$f":"IFERROR(INDEX($B$2:$B$151,LARGE(($D$2:$D$151=1)*(ROW($D$2:$D$151)-1),COUNTIF($D$2:$D$151,1)+1-ROW(D55))),\"\")","v":""},"",55,{"$f":"IFERROR(INDEX($B$2:$B$151,LARGE(($D$2:$D$151=2)*(ROW($D$2:$D$151)-1),COUNTIF($D$2:$D$151,2)+1-ROW(D55))),\"\")","v":""},"",55,{"$f":"IFERROR(INDEX($B$2:$B$151,LARGE(($D$2:$D$151=3)*(ROW($D$2:$D$151)-1),COUNTIF($D$2:$D$151,3)+1-ROW(D55))),\"\")","v":""},"",55,{"$f":"IFERROR(INDEX($B$2:$B$151,LARGE(($D$2:$D$151=4)*(ROW($D$2:$D$151)-1),COUNTIF($D$2:$D$151,4)+1-ROW(D55))),\"\")","v":""},"",55,{"$f":"IFERROR(INDEX($B$2:$B$151,LARGE(($D$2:$D$151=5)*(ROW($D$2:$D$151)-1),COUNTIF($D$2:$D$151,5)+1-ROW(D55))),\"\")","v":""},"",null,55,"",0,0]
[56,"",0,0,null,56,{"$f":"IFERROR(INDEX($B$2:$B$151,LARGE(($D$2:$D$151=1)*(ROW($D$2:$D$151)-1),COUNTIF($D$2:$D$151,1)+1-ROW(D56))),\"\")","v":""},"",56,{"$f":"IFERROR(INDEX($B$2:$B$151,LARGE(($D$2:$D$151=2)*(ROW($D$2:$D$151)-1),COUNTIF($D$2:$D$151,2)+1-ROW(D56))),\"\")","v":""},"",56,{"$f":"IFERROR(INDEX($B$2:$B$151,LARGE(($D$2:$D$151=3)*(ROW($D$2:$D$151)-1),COUNTIF($D$2:$D$151,3)+1-ROW(D56))),\"\")","v":""},"",56,{"$f":"IFERROR(INDEX($B$2:$B$151,LARGE(($D$2:$D$151=4)*(ROW($D$2:$D$151)-1),COUNTIF($D$2:$D$151,4)+1-ROW(D56))),\"\")","v":""},"",56,{"$f":"IFERROR(INDEX($B$2:$B$151,LARGE(($D$2:$D$151=5)*(ROW($D$2:$D$151)-1),COUNTIF($D$2:$D$151,5)+1-ROW(D56))),\"\")","v":""},"",null,56,"",0,0]
[57,"",0,0,null,57,{"$f":"IFERROR(INDEX($B$2:$B$151,LARGE(($D$2:$D$151=1)*(ROW($D$2:$D$151)-1),COUNTIF($D$2:$D$151,1)+1-ROW(D57))),\"\")","v":""},"",57,{"$f":"IFERROR(INDEX($B$2:$B$151,LARGE(($D$2:$D$151=2)*(ROW($D$2:$D$151)-1),COUNTIF($D$2:$D$151,2)+1-ROW(D57))),\"\")","v":""},"",57,{"$f":"IFERROR(INDEX($B$2:$B$151,LARGE(($D$2:$D$151=3)*(ROW($D$2:$D$151)-1),COUNTIF($D$2:$D$151,3)+1-ROW(D57))),\"\")","v":""},"",57,{"$f":"IFERROR(INDEX($B$2:$B$151,LARGE(($D$2:$D$151=4)*(ROW($D$2:$D$151)-1),COUNTIF($D$2:$D$151,4)+1-ROW(D57))),\"\")","v":""},"",57,{"$f":"IFERROR(INDEX($B$2:$B$151,LARGE(($D$2:$D$151=5)*(ROW($D$2:$D$151)-1),COUNTIF($D$2:$D$151,5)+1-ROW(D57))),\"\")","v":""},"",null,57,"",0,0]
[58,"",0,0,null,58,{"$f":"IFERROR(INDEX($B$2:$B$151,LARGE(($D$2:$D$151=1)*(ROW($D$2:$D$151)-1),COUNTIF($D$2:$D$151,1)+1-ROW(D58))),\"\")","v":""},"",58,{"$f":"IFERROR(INDEX($B$2:$B$151,LARGE(($D$2:$D$151=2)*(ROW($D$2:$D$151)-1),COUNTIF($D$2:$D$151,2)+1-ROW(D58))),\"\")","v":""},"",58,{"$f":"IFERROR(INDEX($B$2:$B$151,LARGE(($D$2:$D$151=3)*(ROW($D$2:$D$151)-1),COUNTIF($D$2:$D$151,3)+1-ROW(D58))),\"\")","v":""},"",58,{"$f":"IFERROR(INDEX($B$2:$B$151,LARGE(($D$2:$D$151=4)*(ROW($D$2:$D$151)-1),COUNTIF($D$2:$D$151,4)+1-ROW(D58))),\"\")","v":""},"",58,{"$f":"IFERROR(INDEX($B$2:$B$151,LARGE(($D$2:$D$151=5)*(ROW($D$2:$D$151)-1),COUNTIF($D$2:$D$151,5)+1-ROW(D58))),\"\")","v":""},"",null,58,"",0,0]
[59,"",0,0,null,59,{"$f":"IFERROR(INDEX($B$2:$B$151,LARGE(($D$2:$D$151=1)*(ROW($D$2:$D$151)-1),COUNTIF($D$2:$D$151,1)+1-ROW(D59))),\"\")","v":""},"",59,{"$f":"IFERROR(INDEX($B$2:$B$151,LARGE(($D$2:$D$151=2)*(ROW($D$2:$D$151)-1),COUNTIF($D$2:$D$151,2)+1-ROW(D59))),\"\")","v":""},"",59,{"$f":"IFERROR(INDEX($B$2:$B$151,LARGE(($D$2:$D$151=3)*(ROW($D$2:$D$151)-1),COUNTIF($D$2:$D$151,3)+1-ROW(D59))),\"\")","v":""},"",59,{"$f":"IFERROR(INDEX($B$2:$B$151,LARGE(($D$2:$D$151=4)*(ROW($D$2:$D$151)-1),COUNTIF($D$2:$D$151,4)+1-ROW(D59))),\"\")","v":""},"",59,{"$f":"IFERROR(INDEX($B$2:$B$151,LARGE(($D$2:$D$151=5)*(ROW($D$2:$D$151)-1),COUNTIF($D$2:$D$151,5)+1-ROW(D59))),\"\")","v":""},"",null,59,"",0,0]
[60,"",0,0,null,60,{"$f":"IFERROR(INDEX($B$2:$B$151,LARGE(($D$2:$D$151=1)*(ROW($D$2:$D$151)-1),COUNTIF($D$2:$D$151,1)+1-ROW(D60))),\"\")","v":""},"",60,{"$f":"IFERROR(INDEX($B$2:$B$151,LARGE(($D$2:$D$151=2)*(ROW($D$2:$D$151)-1),COUNTIF($D$2:$D$151,2)+1-ROW(D60))),\"\")","v":""},"",60,{"$f":"IFERROR(INDEX($B$2:$B$151,LARGE(($D$2:$D$151=3)*(ROW($D$2:$D$151)-1),COUNTIF($D$2:$D$151,3)+1-ROW(D60))),\"\")","v":""},"",60,{"$f":"IFERROR(INDEX($B$2:$B$151,LARGE(($D$2:$D$151=4)*(ROW($D$2:$D$151)-1),COUNTIF($D$2:$D$151,4)+1-ROW(D60))),\"\")","v":""},"",60,{"$f":"IFERROR(INDEX($B$2:$B$151,LARGE(($D$2:$D$151=5)*(ROW($D$2:$D$151)-1),COUNTIF($D$2:$D$151,5)+1-ROW(D60))),\"\")","v":""},"",null,60,"",0,0]
[61,"",0,0,null,61,{"$f":"IFERROR(INDEX($B$2:$B$151,LARGE(($D$2:$D$151=1)*(ROW($D$2:$D$151)-1),COUNTIF($D$2:$D$151,1)+1-ROW(D61))),\"\")","v":""},"",61,{"$f":"IFERROR(INDEX($B$2:$B$151,LARGE(($D$2:$D$151=2)*(ROW($D$2:$D$151)-1),COUNTIF($D$2:$D$151,2)+1-ROW(D61))),\"\")","v":""},"",61,{"$f":"IFERROR(INDEX($B$2:$B$151,LARGE(($D$2:$D$151=3)*(ROW($D$2:$D$151)-1),COUNTIF($D$2:$D$151,3)+1-ROW(D61))),\"\")","v":""},"",61,{"$f":"IFERROR(INDEX($B$2:$B$151,LARGE(($D$2:$D$151=4)*(ROW($D$2:$D$151)-1),COUNTIF($D$2:$D$151,4)+1-ROW(D61))),\"\")","v":""},"",61,{"$f":"IFERROR(INDEX($B$2:$B$151,LARGE(($D$2:$D$151=5)*(ROW($D$2:$D$151)-1),COUNTIF($D$2:$D$151,5)+1-ROW(D61))),\"\")","v":""},"",null,61,"",0,0]
[62,"",0,0,null,62,{"$f":"IFERROR(INDEX($B$2:$B$151,LARGE(($D$2:$D$151=1)*(ROW($D$2:$D$151)-1),COUNTIF($D$2:$D$151,1)+1-ROW(D62))),\"\")","v":""},"",62,{"$f":"IFERROR(INDEX($B$2:$B$151,LARGE(($D$2:$D$151=2)*(ROW($D$2:$D$151)-1),COUNTIF($D$2:$D$151,2)+1-ROW(D62))),\"\")","v":""},"",62,{"$f":"IFERROR(INDEX($B$2:$B$151,LARGE(($D$2:$D$151=3)*(ROW($D$2:$D$151)-1),COUNTIF($D$2:$D$151,3)+1-ROW(D62))),\"\")","v":""},"",62,{"$f":"IFERROR(INDEX($B$2:$B$151,LARGE(($D$2:$D$151=4)*(ROW($D$2:$D$151)-1),COUNTIF($D$2:$D$151,4)+1-ROW(D62))),\"\")","v":""},"",62,{"$f":"IFERROR(INDEX($B$2:$B$151,LARGE(($D$2:$D$151=5)*(ROW($D$2:$D$151)-1),COUNTIF($D$2:$D$151,5)+1-ROW(D62))),\"\")","v":""},"",null,62,"",0,0]
[63,"",0,0,null,63,{"$f":"IFERROR(INDEX($B$2:$B$151,LARGE(($D$2:$D$151=1)*(ROW($D$2:$D$151)-1),COUNTIF($D$2:$D$151,1)+1-ROW(D63))),\"\")","v":""},"",63,{"$f":"IFERROR(INDEX($B$2:$B$151,LARGE(($D$2:$D$151=2)*(ROW($D$2:$D$151)-1),COUNTIF($D$2:$D$151,2)+1-ROW(D63))),\"\")","v":""},"",63,{"$f":"IFERROR(INDEX($B$2:$B$151,LARGE(($D$2:$D$151=3)*(ROW($D$2:$D$151)-1),COUNTIF($D$2:$D$151,3)+1-ROW(D63))),\"\")","v":""},"",63,{"$f":"IFERROR(INDEX($B$2:$B$151,LARGE(($D$2:$D$151=4)*(ROW($D$2:$D$151)-1),COUNTIF($D$2:$D$151,4)+1-ROW(D63))),\"\")","v":""},"",63,{"$f":"IFERROR(INDEX($B$2:$B$151,LARGE(($D$2:$D$151=5)*(ROW($D$2:$D$151)-1),COUNTIF($D$2:$D$151,5)+1-ROW(D63))),\"\")","v":""},"",null,63,"",0,0]
[64,"",0,0,null,64,{"$f":"IFERROR(INDEX($B$2:$B$151,LARGE(($D$2:$D$151=1)*(ROW($D$2:$D$151)-1),COUNTIF($D$2:$D$151,1)+1-ROW(D64))),\"\")","v":""},"",64,{"$f":"IFERROR(INDEX($B$2:$B$151,LARGE(($D$2:$D$151=2)*(ROW($D$2:$D$151)-1),COUNTIF($D$2:$D$151,2)+1-ROW(D64))),\"\")","v":""},"",64,{"$f":"IFERROR(INDEX($B$2:$B$151,LARGE(($D$2:$D$151=3)*(ROW($D$2:$D$151)-1),COUNTIF($D$2:$D$151,3)+1-ROW(D64))),\"\")","v":""},"",64,{"$f":"IFERROR(INDEX($B$2:$B$151,LARGE(($D$2:$D$151=4)*(ROW($D$2:$D$151)-1),COUNTIF($D$2:$D$151,4)+1-ROW(D64))),\"\")","v":""},"",64,{"$f":"IFERROR(INDEX($B$2:$B$151,LARGE(($D$2:$D$151=5)*(ROW($D$2:$D$151)-1),COUNTIF($D$2:$D$151,5)+1-ROW(D64))),\"\")","v":""},"",null,64,"",0,0]
[65,"",0,0,null,65,{"$f":"IFERROR(INDEX($B$2:$B$151,LARGE(($D$2:$D$151=1)*(ROW($D$2:$D$151)-1),COUNTIF($D$2:$D$151,1)+1-ROW(D65))),\"\")","v":""},"",65,{"$f":"IFERROR(INDEX($B$2:$B$151,LARGE(($D$2:$D$151=2)*(ROW($D$2:$D$151)-1),COUNTIF($D$2:$D$151,2)+1-ROW(D65))),\"\")","v":""},"",65,{"$f":"IFERROR(INDEX($B$2:$B$151,LARGE(($D$2:$D$151=3)*(ROW($D$2:$D$151)-1),COUNTIF($D$2:$D$151,3)+1-ROW(D65))),\"\")","v":""},"",65,{"$f":"IFERROR(INDEX($B$2:$B$151,LARGE(($D$2:$D$151=4)*(ROW($D$2:$D$151)-1),COUNTIF($D$2:$D$151,4)+1-ROW(D65))),\"\")","v":""},"",65,{"$f":"IFERROR(INDEX($B$2:$B$151,LARGE(($D$2:$D$151=5)*(ROW($D$2:$D$151)-1),COUNTIF($D$2:$D$151,5)+1-ROW(D65))),\"\")","v":""},"",null,65,"",0,0]
[66,"",0,0,null,66,{"$f":"IFERROR(INDEX($B$2:$B$151,LARGE(($D$2:$D$151=1)*(ROW($D$2:$D$151)-1),COUNTIF($D$2:$D$151,1)+1-ROW(D66))),\"\")","v":""},{"$f":"IF(G67=\"\",\"\",VLOOKUP(G67,$B$2:$C$151,2,0))","v":""},66,{"$f":"IFERROR(INDEX($B$2:$B$151,LARGE(($D$2:$D$151=2)*(ROW($D$2:$D$151)-1),COUNTIF($D$2:$D$151,2)+1-ROW(D66))),\"\")","v":""},{"$f":"IF(J67=\"\",\"\",VLOOKUP(J67,$B$2:$C$151,2,0))","v":""},66,{"$f":"IFERROR(INDEX($B$2:$B$151,LARGE(($D$2:$D$151=3)*(ROW($D$2:$D$151)-1),COUNTIF($D$2:$D$151,3)+1-ROW(D66))),\"\")","v":""},{"$f":"IF(M67=\"\",\"\",VLOOKUP(M67,$B$2:$C$151,2,0))","v":""},66,{"$f":"IFERROR(INDEX($B$2:$B$151,LARGE(($D$2:$D$151=4)*(ROW($D$2:$D$151)-1),COUNTIF($D$2:$D$151,4)+1-ROW(D66))),\"\")","v":""},{"$f":"IF(P67=\"\",\"\",VLOOKUP(P67,$B$2:$C$151,2,0))","v":""},66,{"$f":"IFERROR(INDEX($B$2:$B$151,LARGE(($D$2:$D$151=5)*(ROW($D$2:$D$151)-1),COUNTIF($D$2:$D$151,5)+1-ROW(D66))),\"\")","v":""},{"$f":"IF(S67=\"\",\"\",VLOOKUP(S67,$B$2:$C$151,2,0))","v":""},null,66,"",0,0]
[67,"",0,0,null,67,{"$f":"IFERROR(INDEX($B$2:$B$151,LARGE(($D$2:$D$151=1)*(ROW($D$2:$D$151)-1),COUNTIF($D$2:$D$151,1)+1-ROW(D67))),\"\")","v":""},"",67,{"$f":"IFERROR(INDEX($B$2:$B$151,LARGE(($D$2:$D$151=2)*(ROW($D$2:$D$151)-1),COUNTIF($D$2:$D$151,2)+1-ROW(D67))),\"\")","v":""},"",67,{"$f":"IFERROR(INDEX($B$2:$B$151,LARGE(($D$2:$D$151=3)*(ROW($D$2:$D$151)-1),COUNTIF($D$2:$D$151,3)+1-ROW(D67))),\"\")","v":""},"",67,{"$f":"IFERROR(INDEX($B$2:$B$151,LARGE(($D$2:$D$151=4)*(ROW($D$2:$D$151)-1),COUNTIF($D$2:$D$151,4)+1-ROW(D67))),\"\")","v":""},"",67,{"$f":"IFERROR(INDEX($B$2:$B$151,LARGE(($D$2:$D$151=5)*(ROW($D$2:$D$151)-1),COUNTIF($D$2:$D$151,5)+1-ROW(D67))),\"\")","v":""},"",null,67,"",0,0]
[68,"",0,0,null,68,{"$f":"IFERROR(INDEX($B$2:$B$151,LARGE(($D$2:$D$151=1)*(ROW($D$2:$D$151)-1),COUNTIF($D$2:$D$151,1)+1-ROW(D68))),\"\")","v":""},"",68,{"$f":"IFERROR(INDEX($B$2:$B$151,LARGE(($D$2:$D$151=2)*(ROW($D$2:$D$151)-1),COUNTIF($D$2:$D$151,2)+1-ROW(D68))),\"\")","v":""},"",68,{"$f":"IFERROR(INDEX($B$2:$B$151,LARGE(($D$2:$D$151=3)*(ROW($D$2:$D$151)-1),COUNTIF($D$2:$D$151,3)+1-ROW(D68))),\"\")","v":""},"",68,{"$f":"IFERROR(INDEX($B$2:$B$151,LARGE(($D$2:$D$151=4)*(ROW($D$2:$D$151)-1),COUNTIF($D$2:$D$151,4)+1-ROW(D68))),\"\")","v":""},"",68,{"$f":"IFERROR(INDEX($B$2:$B$151,LARGE(($D$2:$D$151=5)*(ROW($D$2:$D$151)-1),COUNTIF($D$2:$D$151,5)+1-ROW(D68))),\"\")","v":""},"",null,68,"",0,0]
[69,"",0,0,null,69,{"$f":"IFERROR(INDEX($B$2:$B$151,LARGE(($D$2:$D$151=1)*(ROW($D$2:$D$151)-1),COUNTIF($D$2:$D$151,1)+1-ROW(D69))),\"\")","v":""},"",69,{"$f":"IFERROR(INDEX($B$2:$B$151,LARGE(($D$2:$D$151=2)*(ROW($D$2:$D$151)-1),COUNTIF($D$2:$D$151,2)+1-ROW(D69))),\"\")","v":""},"",69,{"$f":"IFERROR(INDEX($B$2:$B$151,LARGE(($D$2:$D$151=3)*(ROW($D$2:$D$151)-1),COUNTIF($D$2:$D$151,3)+1-ROW(D69))),\"\")","v":""},"",69,{"$f":"IFERROR(INDEX($B$2:$B$151,LARGE(($D$2:$D$151=4)*(ROW($D$2:$D$151)-1),COUNTIF($D$2:$D$151,4)+1-ROW(D69))),\"\")","v":""},"",69,{"$f":"IFERROR(INDEX($B$2:$B$151,LARGE(($D$2:$D$151=5)*(ROW($D$2:$D$151)-1),COUNTIF($D$2:$D$151,5)+1-ROW(D69))),\"\")","v":""},"",null,69,"",0,0]
[70,"",0,0,null,70,{"$f":"IFERROR(INDEX($B$2:$B$151,LARGE(($D$2:$D$151=1)*(ROW($D$2:$D$151)-1),COUNTIF($D$2:$D$151,1)+1-ROW(D70))),\"\")","v":""},"",70,{"$f":"IFERROR(INDEX($B$2:$B$151,LARGE(($D$2:$D$151=2)*(ROW($D$2:$D$151)-1),COUNTIF($D$2:$D$151,2)+1-ROW(D70))),\"\")","v":""},"",70,{"$f":"IFERROR(INDEX($B$2:$B$151,LARGE(($D$2:$D$151=3)*(ROW($D$2:$D$151)-1),COUNTIF($D$2:$D$151,3)+1-ROW(D70))),\"\")","v":""},"",70,{"$f":"IFERROR(INDEX($B$2:$B$151,LARGE(($D$2:$D$151=4)*(ROW($D$2:$D$151)-1),COUNTIF($D$2:$D$151,4)+1-ROW(D70))),\"\")","v":""},"",70,{"$f":"IFERROR(INDEX($B$2:$B$151,LARGE(($D$2:$D$151=5)*(ROW($D$2:$D$151)-1),COUNTIF($D$2:$D$151,5)+1-ROW(D70))),\"\")","v":""},"",null,70,"",0,0]
[71,"",0,0,null,71,{"$f":"IFERROR(INDEX($B$2:$B$151,LARGE(($D$2:$D$151=1)*(ROW($D$2:$D$151)-1),COUNTIF($D$2:$D$151,1)+1-ROW(D71))),\"\")","v":""},"",71,{"$f":"IFERROR(INDEX($B$2:$B$151,LARGE(($D$2:$D$151=2)*(ROW($D$2:$D$151)-1),COUNTIF($D$2:$D$151,2)+1-ROW(D71))),\"\")","v":""},"",71,{"$f":"IFERROR(INDEX($B$2:$B$151,LARGE(($D$2:$D$151=3)*(ROW($D$2:$D$151)-1),COUNTIF($D$2:$D$151,3)+1-ROW(D71))),\"\")","v":""},"",71,{"$f":"IFERROR(INDEX($B$2:$B$151,LARGE(($D$2:$D$151=4)*(ROW($D$2:$D$151)-1),COUNTIF($D$2:$D$151,4)+1-ROW(D71))),\"\")","v":""},"",71,{"$f":"IFERROR(INDEX($B$2:$B$151,LARGE(($D$2:$D$151=5)*(ROW($D$2:$D$151)-1),COUNTIF($D$2:$D$151,5)+1-ROW(D71))),\"\")","v":""},"",null,71,"",0,0]
[72,"",0,0,null,72,{"$f":"IFERROR(INDEX($B$2:$B$151,LARGE(($D$2:$D$151=1)*(ROW($D$2:$D$151)-1),COUNTIF($D$2:$D$151,1)+1-ROW(D72))),\"\")","v":""},"",72,{"$f":"IFERROR(INDEX($B$2:$B$151,LARGE(($D$2:$D$151=2)*(ROW($D$2:$D$151)-1),COUNTIF($D$2:$D$151,2)+1-ROW(D72))),\"\")","v":""},"",72,{"$f":"IFERROR(INDEX($B$2:$B$151,LARGE(($D$2:$D$151=3)*(ROW($D$2:$D$151)-1),COUNTIF($D$2:$D$151,3)+1-ROW(D72))),\"\")","v":""},"",72,{"$f":"IFERROR(INDEX($B$2:$B$151,LARGE(($D$2:$D$151=4)*(ROW($D$2:$D$151)-1),COUNTIF($D$2:$D$151,4)+1-ROW(D72))),\"\")","v":""},"",72,{"$f":"IFERROR(INDEX($B$2:$B$151,LARGE(($D$2:$D$151=5)*(ROW($D$2:$D$151)-1),COUNTIF($D$2:$D$151,5)+1-ROW(D72))),\"\")","v":""},"",null,72,"",0,0]
[73,"",0,0,null,73,{"$f":"IFERROR(INDEX($B$2:$B$151,LARGE(($D$2:$D$151=1)*(ROW($D$2:$D$151)-1),COUNTIF($D$2:$D$151,1)+1-ROW(D73))),\"\")","v":""},"",73,{"$f":"IFERROR(INDEX($B$2:$B$151,LARGE(($D$2:$D$151=2)*(ROW($D$2:$D$151)-1),COUNTIF($D$2:$D$151,2)+1-ROW(D73))),\"\")","v":""},"",73,{"$f":"IFERROR(INDEX($B$2:$B$151,LARGE(($D$2:$D$151=3)*(ROW($D$2:$D$151)-1),COUNTIF($D$2:$D$151,3)+1-ROW(D73))),\"\")","v":""},"",73,{"$f":"IFERROR(INDEX($B$2:$B$151,LARGE(($D$2:$D$151=4)*(ROW($D$2:$D$151)-1),COUNTIF($D$2:$D$151,4)+1-ROW(D73))),\"\")","v":""},"",73,{"$f":"IFERROR(INDEX($B$2:$B$151,LARGE(($D$2:$D$151=5)*(ROW($D$2:$D$151)-1),COUNTIF($D$2:$D$151,5)+1-ROW(D73))),\"\")","v":""},"",null,73,"",0,0]
[74,"",0,0,null,74,{"$f":"IFERROR(INDEX($B$2:$B$151,LARGE(($D$2:$D$151=1)*(ROW($D$2:$D$151)-1),COUNTIF($D$2:$D$151,1)+1-ROW(D74))),\"\")","v":""},"",74,{"$f":"IFERROR(INDEX($B$2:$B$151,LARGE(($D$2:$D$151=2)*(ROW($D$2:$D$151)-1),COUNTIF($D$2:$D$151,2)+1-ROW(D74))),\"\")","v":""},"",74,{"$f":"IFERROR(INDEX($B$2:$B$151,LARGE(($D$2:$D$151=3)*(ROW($D$2:$D$151)-1),COUNTIF($D$2:$D$151,3)+1-ROW(D74))),\"\")","v":""},"",74,{"$f":"IFERROR(INDEX($B$2:$B$151,LARGE(($D$2:$D$151=4)*(ROW($D$2:$D$151)-1),COUNTIF($D$2:$D$151,4)+1-ROW(D74))),\"\")","v":""},"",74,{"$f":"IFERROR(INDEX($B$2:$B$151,LARGE(($D$2:$D$151=5)*(ROW($D$2:$D$151)-1),COUNTIF($D$2:$D$151,5)+1-ROW(D74))),\"\")","v":""},"",null,74,"",0,0]
[75,"",0,0,null,75,{"$f":"IFERROR(INDEX($B$2:$B$151,LARGE(($D$2:$D$151=1)*(ROW($D$2:$D$151)-1),COUNTIF($D$2:$D$151,1)+1-ROW(D75))),\"\")","v":""},"",75,{"$f":"IFERROR(INDEX($B$2:$B$151,LARGE(($D$2:$D$151=2)*(ROW($D$2:$D$151)-1),COUNTIF($D$2:$D$151,2)+1-ROW(D75))),\"\")","v":""},"",75,{"$f":"IFERROR(INDEX($B$2:$B$151,LARGE(($D$2:$D$151=3)*(ROW($D$2:$D$151)-1),COUNTIF($D$2:$D$151,3)+1-ROW(D75))),\"\")","v":""},"",75,{"$f":"IFERROR(INDEX($B$2:$B$151,LARGE(($D$2:$D$151=4)*(ROW($D$2:$D$151)-1),COUNTIF($D$2:$D$151,4)+1-ROW(D75))),\"\")","v":""},"",75,{"$f":"IFERROR(INDEX($B$2:$B$151,LARGE(($D$2:$D$151=5)*(ROW($D$2:$D$151)-1),COUNTIF($D$2:$D$151,5)+1-ROW(D75))),\"\")","v":""},"",null,75,"",0,0]
[76,"",0,0,null,76,{"$f":"IFERROR(INDEX($B$2:$B$151,LARGE(($D$2:$D$151=1)*(ROW($D$2:$D$151)-1),COUNTIF($D$2:$D$151,1)+1-ROW(D76))),\"\")","v":""},"",76,{"$f":"IFERROR(INDEX($B$2:$B$151,LARGE(($D$2:$D$151=2)*(ROW($D$2:$D$151)-1),COUNTIF($D$2:$D$151,2)+1-ROW(D76))),\"\")","v":""},"",76,{"$f":"IFERROR(INDEX($B$2:$B$151,LARGE(($D$2:$D$151=3)*(ROW($D$2:$D$151)-1),COUNTIF($D$2:$D$151,3)+1-ROW(D76))),\"\")","v":""},"",76,{"$f":"IFERROR(INDEX($B$2:$B$151,LARGE(($D$2:$D$151=4)*(ROW($D$2:$D$151)-1),COUNTIF($D$2:$D$151,4)+1-ROW(D76))),\"\")","v":""},"",76,{"$f":"IFERROR(INDEX($B$2:$B$151,LARGE(($D$2:$D$151=5)*(ROW($D$2:$D$151)-1),COUNTIF($D$2:$D$151,5)+1-ROW(D76))),\"\")","v":""},"",null,76,"",0,0]
[77,"",0,0,null,77,{"$f":"IFERROR(INDEX($B$2:$B$151,LARGE(($D$2:$D$151=1)*(ROW($D$2:$D$151)-1),COUNTIF($D$2:$D$151,1)+1-ROW(D77))),\"\")","v":""},"",77,{"$f":"IFERROR(INDEX($B$2:$B$151,LARGE(($D$2:$D$151=2)*(ROW($D$2:$D$151)-1),COUNTIF($D$2:$D$151,2)+1-ROW(D77))),\"\")","v":""},"",77,{"$f":"IFERROR(INDEX($B$2:$B$151,LARGE(($D$2:$D$151=3)*(ROW($D$2:$D$151)-1),COUNTIF($D$2:$D$151,3)+1-ROW(D77))),\"\")","v":""},"",77,{"$f":"IFERROR(INDEX($B$2:$B$151,LARGE(($D$2:$D$151=4)*(ROW($D$2:$D$151)-1),COUNTIF($D$2:$D$151,4)+1-ROW(D77))),\"\")","v":""},"",77,{"$f":"IFERROR(INDEX($B$2:$B$151,LARGE(($D$2:$D$151=5)*(ROW($D$2:$D$151)-1),COUNTIF($D$2:$D$151,5)+1-ROW(D77))),\"\")","v":""},"",null,77,"",0,0]
[78,"",0,0,null,78,{"$f":"IFERROR(INDEX($B$2:$B$151,LARGE(($D$2:$D$151=1)*(ROW($D$2:$D$151)-1),COUNTIF($D$2:$D$151,1)+1-ROW(D78))),\"\")","v":""},"",78,{"$f":"IFERROR(INDEX($B$2:$B$151,LARGE(($D$2:$D$151=2)*(ROW($D$2:$D$151)-1),COUNTIF($D$2:$D$151,2)+1-ROW(D78))),\"\")","v":""},"",78,{"$f":"IFERROR(INDEX($B$2:$B$151,LARGE(($D$2:$D$151=3)*(ROW($D$2:$D$151)-1),COUNTIF($D$2:$D$151,3)+1-ROW(D78))),\"\")","v":""},"",78,{"$f":"IFERROR(INDEX($B$2:$B$151,LARGE(($D$2:$D$151=4)*(ROW($D$2:$D$151)-1),COUNTIF($D$2:$D$151,4)+1-ROW(D78))),\"\")","v":""},"",78,{"$f":"IFERROR(INDEX($B$2:$B$151,LARGE(($D$2:$D$151=5)*(ROW($D$2:$D$151)-1),COUNTIF($D$2:$D$151,5)+1-ROW(D78))),\"\")","v":""},"",null,78,"",0,0]
[79,"",0,0,null,79,{"$f":"IFERROR(INDEX($B$2:$B$151,LARGE(($D$2:$D$151=1)*(ROW($D$2:$D$151)-1),COUNTIF($D$2:$D$151,1)+1-ROW(D79))),\"\")","v":""},"",79,{"$f":"IFERROR(INDEX($B$2:$B$151,LARGE(($D$2:$D$151=2)*(ROW($D$2:$D$151)-1),COUNTIF($D$2:$D$151,2)+1-ROW(D79))),\"\")","v":""},"",79,{"$f":"IFERROR(INDEX($B$2:$B$151,LARGE(($D$2:$D$151=3)*(ROW($D$2:$D$151)-1),COUNTIF($D$2:$D$151,3)+1-ROW(D79))),\"\")","v":""},"",79,{"$f":"IFERROR(INDEX($B$2:$B$151,LARGE(($D$2:$D$151=4)*(ROW($D$2:$D$151)-1),COUNTIF($D$2:$D$151,4)+1-ROW(D79))),\"\")","v":""},"",79,{"$f":"IFERROR(INDEX($B$2:$B$151,LARGE(($D$2:$D$151=5)*(ROW($D$2:$D$151)-1),COUNTIF($D$2:$D$151,5)+1-ROW(D79))),\"\")","v":""},"",null,79,"",0,0]
[80,"",0,0,null,80,{"$f":"IFERROR(INDEX($B$2:$B$151,LARGE(($D$2:$D$151=1)*(ROW($D$2:$D$151)-1),COUNTIF($D$2:$D$151,1)+1-ROW(D80))),\"\")","v":""},"",80,{"$f":"IFERROR(INDEX($B$2:$B$151,LARGE(($D$2:$D$151=2)*(ROW($D$2:$D$151)-1),COUNTIF($D$2:$D$151,2)+1-ROW(D80))),\"\")","v":""},"",80,{"$f":"IFERROR(INDEX($B$2:$B$151,LARGE(($D$2:$D$151=3)*(ROW($D$2:$D$151)-1),COUNTIF($D$2:$D$151,3)+1-ROW(D80))),\"\")","v":""},"",80,{"$f":"IFERROR(INDEX($B$2:$B$151,LARGE(($D$2:$D$151=4)*(ROW($D$2:$D$151)-1),COUNTIF($D$2:$D$151,4)+1-ROW(D80))),\"\")","v":""},"",80,{"$f":"IFERROR(INDEX($B$2:$B$151,LARGE(($D$2:$D$151=5)*(ROW($D$2:$D$151)-1),COUNTIF($D$2:$D$151,5)+1-ROW(D80))),\"\")","v":""},"",null,80,"",0,0]
[81,"",0,0,null,81,{"$f":"IFERROR(INDEX($B$2:$B$151,LARGE(($D$2:$D$151=1)*(ROW($D$2:$D$151)-1),COUNTIF($D$2:$D$151,1)+1-ROW(D81))),\"\")","v":""},"",81,{"$f":"IFERROR(INDEX($B$2:$B$151,LARGE(($D$2:$D$151=2)*(ROW($D$2:$D$151)-1),COUNTIF($D$2:$D$151,2)+1-ROW(D81))),\"\")","v":""},"",81,{"$f":"IFERROR(INDEX($B$2:$B$151,LARGE(($D$2:$D$151=3)*(ROW($D$2:$D$151)-1),COUNTIF($D$2:$D$151,3)+1-ROW(D81))),\"\")","v":""},"",81,{"$f":"IFERROR(INDEX($B$2:$B$151,LARGE(($D$2:$D$151=4)*(ROW($D$2:$D$151)-1),COUNTIF($D$2:$D$151,4)+1-ROW(D81))),\"\")","v":""},"",81,{"$f":"IFERROR(INDEX($B$2:$B$151,LARGE(($D$2:$D$151=5)*(ROW($D$2:$D$151)-1),COUNTIF($D$2:$D$151,5)+1-ROW(D81))),\"\")","v":""},"",null,81,"",0,0]
[82,"",0,0,null,82,{"$f":"IFERROR(INDEX($B$2:$B$151,LARGE(($D$2:$D$151=1)*(ROW($D$2:$D$151)-1),COUNTIF($D$2:$D$151,1)+1-ROW(D82))),\"\")","v":""},"",82,{"$f":"IFERROR(INDEX($B$2:$B$151,LARGE(($D$2:$D$151=2)*(ROW($D$2:$D$151)-1),COUNTIF($D$2:$D$151,2)+1-ROW(D82))),\"\")","v":""},"",82,{"$f":"IFERROR(INDEX($B$2:$B$151,LARGE(($D$2:$D$151=3)*(ROW($D$2:$D$151)-1),COUNTIF($D$2:$D$151,3)+1-ROW(D82))),\"\")","v":""},"",82,{"$f":"IFERROR(INDEX($B$2:$B$151,LARGE(($D$2:$D$151=4)*(ROW($D$2:$D$151)-1),COUNTIF($D$2:$D$151,4)+1-ROW(D82))),\"\")","v":""},"",82,{"$f":"IFERROR(INDEX($B$2:$B$151,LARGE(($D$2:$D$151=5)*(ROW($D$2:$D$151)-1),COUNTIF($D$2:$D$151,5)+1-ROW(D82))),\"\")","v":""},"",null,82,"",0,0]
[83,"",0,0,null,83,{"$f":"IFERROR(INDEX($B$2:$B$151,LARGE(($D$2:$D$151=1)*(ROW($D$2:$D$151)-1),COUNTIF($D$2:$D$151,1)+1-ROW(D83))),\"\")","v":""},"",83,{"$f":"IFERROR(INDEX($B$2:$B$151,LARGE(($D$2:$D$151=2)*(ROW($D$2:$D$151)-1),COUNTIF($D$2:$D$151,2)+1-ROW(D83))),\"\")","v":""},"",83,{"$f":"IFERROR(INDEX($B$2:$B$151,LARGE(($D$2:$D$151=3)*(ROW($D$2:$D$151)-1),COUNTIF($D$2:$D$151,3)+1-ROW(D83))),\"\")","v":""},"",83,{"$f":"IFERROR(INDEX($B$2:$B$151,LARGE(($D$2:$D$151=4)*(ROW($D$2:$D$151)-1),COUNTIF($D$2:$D$151,4)+1-ROW(D83))),\"\")","v":""},"",83,{"$f":"IFERROR(INDEX($B$2:$B$151,LARGE(($D$2:$D$151=5)*(ROW($D$2:$D$151)-1),COUNTIF($D$2:$D$151,5)+1-ROW(D83))),\"\")","v":""},"",null,83,"",0,0]
[84,"",0,0,null,84,{"$f":"IFERROR(INDEX($B$2:$B$151,LARGE(($D$2:$D$151=1)*(ROW($D$2:$D$151)-1),COUNTIF($D$2:$D$151,1)+1-ROW(D84))),\"\")","v":""},"",84,{"$f":"IFERROR(INDEX($B$2:$B$151,LARGE(($D$2:$D$151=2)*(ROW($D$2:$D$151)-1),COUNTIF($D$2:$D$151,2)+1-ROW(D84))),\"\")","v":""},"",84,{"$f":"IFERROR(INDEX($B$2:$B$151,LARGE(($D$2:$D$151=3)*(ROW($D$2:$D$151)-1),COUNTIF($D$2:$D$151,3)+1-ROW(D84))),\"\")","v":""},"",84,{"$f":"IFERROR(INDEX($B$2:$B$151,LARGE(($D$2:$D$151=4)*(ROW($D$2:$D$151)-1),COUNTIF($D$2:$D$151,4)+1-ROW(D84))),\"\")","v":""},"",84,{"$f":"IFERROR(INDEX($B$2:$B$151,LARGE(($D$2:$D$151=5)*(ROW($D$2:$D$151)-1),COUNTIF($D$2:$D$151,5)+1-ROW(D84))),\"\")","v":""},"",null,84,"",0,0]
[85,"",0,0,null,85,{"$f":"IFERROR(INDEX($B$2:$B$151,LARGE(($D$2:$D$151=1)*(ROW($D$2:$D$151)-1),COUNTIF($D$2:$D$151,1)+1-ROW(D85))),\"\")","v":""},"",85,{"$f":"IFERROR(INDEX($B$2:$B$151,LARGE(($D$2:$D$151=2)*(ROW($D$2:$D$151)-1),COUNTIF($D$2:$D$151,2)+1-ROW(D85))),\"\")","v":""},"",85,{"$f":"IFERROR(INDEX($B$2:$B$151,LARGE(($D$2:$D$151=3)*(ROW($D$2:$D$151)-1),COUNTIF($D$2:$D$151,3)+1-ROW(D85))),\"\")","v":""},"",85,{"$f":"IFERROR(INDEX($B$2:$B$151,LARGE(($D$2:$D$151=4)*(ROW($D$2:$D$151)-1),COUNTIF($D$2:$D$151,4)+1-ROW(D85))),\"\")","v":""},"",85,{"$f":"IFERROR(INDEX($B$2:$B$151,LARGE(($D$2:$D$151=5)*(ROW($D$2:$D$151)-1),COUNTIF($D$2:$D$151,5)+1-ROW(D85))),\"\")","v":""},"",null,85,"",0,0]
[86,"",0,0,null,86,{"$f":"IFERROR(INDEX($B$2:$B$151,LARGE(($D$2:$D$151=1)*(ROW($D$2:$D$151)-1),COUNTIF($D$2:$D$151,1)+1-ROW(D86))),\"\")","v":""},"",86,{"$f":"IFERROR(INDEX($B$2:$B$151,LARGE(($D$2:$D$151=2)*(ROW($D$2:$D$151)-1),COUNTIF($D$2:$D$151,2)+1-ROW(D86))),\"\")","v":""},"",86,{"$f":"IFERROR(INDEX($B$2:$B$151,LARGE(($D$2:$D$151=3)*(ROW($D$2:$D$151)-1),COUNTIF($D$2:$D$151,3)+1-ROW(D86))),\"\")","v":""},"",86,{"$f":"IFERROR(INDEX($B$2:$B$151,LARGE(($D$2:$D$151=4)*(ROW($D$2:$D$151)-1),COUNTIF($D$2:$D$151,4)+1-ROW(D86))),\"\")","v":""},"",86,{"$f":"IFERROR(INDEX($B$2:$B$151,LARGE(($D$2:$D$151=5)*(ROW($D$2:$D$151)-1),COUNTIF($D$2:$D$151,5)+1-ROW(D86))),\"\")","v":""},"",null,86,"",0,0]
[87,"",0,0,null,87,{"$f":"IFERROR(INDEX($B$2:$B$151,LARGE(($D$2:$D$151=1)*(ROW($D$2:$D$151)-1),COUNTIF($D$2:$D$151,1)+1-ROW(D87))),\"\")","v":""},"",87,{"$f":"IFERROR(INDEX($B$2:$B$151,LARGE(($D$2:$D$151=2)*(ROW($D$2:$D$151)-1),COUNTIF($D$2:$D$151,2)+1-ROW(D87))),\"\")","v":""},"",87,{"$f":"IFERROR(INDEX($B$2:$B$151,LARGE(($D$2:$D$151=3)*(ROW($D$2:$D$151)-1),COUNTIF($D$2:$D$151,3)+1-ROW(D87))),\"\")","v":""},"",87,{"$f":"IFERROR(INDEX($B$2:$B$151,LARGE(($D$2:$D$151=4)*(ROW($D$2:$D$151)-1),COUNTIF($D$2:$D$151,4)+1-ROW(D87))),\"\")","v":""},"",87,{"$f":"IFERROR(INDEX($B$2:$B$151,LARGE(($D$2:$D$151=5)*(ROW($D$2:$D$151)-1),COUNTIF($D$2:$D$151,5)+1-ROW(D87))),\"\")","v":""},"",null,87,"",0,0]
[88,"",0,0,null,88,{"$f":"IFERROR(INDEX($B$2:$B$151,LARGE(($D$2:$D$151=1)*(ROW($D$2:$D$151)-1),COUNTIF($D$2:$D$151,1)+1-ROW(D88))),\"\")","v":""},"",88,{"$f":"IFERROR(INDEX($B$2:$B$151,LARGE(($D$2:$D$151=2)*(ROW($D$2:$D$151)-1),COUNTIF($D$2:$D$151,2)+1-ROW(D88))),\"\")","v":""},"",88,{"$f":"IFERROR(INDEX($B$2:$B$151,LARGE(($D$2:$D$151=3)*(ROW($D$2:$D$151)-1),COUNTIF($D$2:$D$151,3)+1-ROW(D88))),\"\")","v":""},"",88,{"$f":"IFERROR(INDEX($B$2:$B$151,LARGE(($D$2:$D$151=4)*(ROW($D$2:$D$151)-1),COUNTIF($D$2:$D$151,4)+1-ROW(D88))),\"\")","v":""},"",88,{"$f":"IFERROR(INDEX($B$2:$B$151,LARGE(($D$2:$D$151=5)*(ROW($D$2:$D$151)-1),COUNTIF($D$2:$D$151,5)+1-ROW(D88))),\"\")","v":""},"",null,88,"",0,0]
[89,"",0,0,null,89,{"$f":"IFERROR(INDEX($B$2:$B$151,LARGE(($D$2:$D$151=1)*(ROW($D$2:$D$151)-1),COUNTIF($D$2:$D$151,1)+1-ROW(D89))),\"\")","v":""},"",89,{"$f":"IFERROR(INDEX($B$2:$B$151,LARGE(($D$2:$D$151=2)*(ROW($D$2:$D$151)-1),COUNTIF($D$2:$D$151,2)+1-ROW(D89))),\"\")","v":""},"",89,{"$f":"IFERROR(INDEX($B$2:$B$151,LARGE(($D$2:$D$151=3)*(ROW($D$2:$D$151)-1),COUNTIF($D$2:$D$151,3)+1-ROW(D89))),\"\")","v":""},"",89,{"$f":"IFERROR(INDEX($B$2:$B$151,LARGE(($D$2:$D$151=4)*(ROW($D$2:$D$151)-1),COUNTIF($D$2:$D$151,4)+1-ROW(D89))),\"\")","v":""},"",89,{"$f":"IFERROR(INDEX($B$2:$B$151,LARGE(($D$2:$D$151=5)*(ROW($D$2:$D$151)-1),COUNTIF($D$2:$D$151,5)+1-ROW(D89))),\"\")","v":""},"",null,89,"",0,0]
[90,"",0,0,null,90,{"$f":"IFERROR(INDEX($B$2:$B$151,LARGE(($D$2:$D$151=1)*(ROW($D$2:$D$151)-1),COUNTIF($D$2:$D$151,1)+1-ROW(D90))),\"\")","v":""},"",90,{"$f":"IFERROR(INDEX($B$2:$B$151,LARGE(($D$2:$D$151=2)*(ROW($D$2:$D$151)-1),COUNTIF($D$2:$D$151,2)+1-ROW(D90))),\"\")","v":""},"",90,{"$f":"IFERROR(INDEX($B$2:$B$151,LARGE(($D$2:$D$151=3)*(ROW($D$2:$D$151)-1),COUNTIF($D$2:$D$151,3)+1-ROW(D90))),\"\")","v":""},"",90,{"$f":"IFERROR(INDEX($B$2:$B$151,LARGE(($D$2:$D$151=4)*(ROW($D$2:$D$151)-1),COUNTIF($D$2:$D$151,4)+1-ROW(D90))),\"\")","v":""},"",90,{"$f":"IFERROR(INDEX($B$2:$B$151,LARGE(($D$2:$D$151=5)*(ROW($D$2:$D$151)-1),COUNTIF($D$2:$D$151,5)+1-ROW(D90))),\"\")","v":""},"",null,90,"",0,0]
[91,"",0,0,null,91,{"$f":"IFERROR(INDEX($B$2:$B$151,LARGE(($D$2:$D$151=1)*(ROW($D$2:$D$151)-1),COUNTIF($D$2:$D$151,1)+1-ROW(D91))),\"\")","v":""},"",91,{"$f":"IFERROR(INDEX($B$2:$B$151,LARGE(($D$2:$D$151=2)*(ROW($D$2:$D$151)-1),COUNTIF($D$2:$D$151,2)+1-ROW(D91))),\"\")","v":""},"",91,{"$f":"IFERROR(INDEX($B$2:$B$151,LARGE(($D$2:$D$151=3)*(ROW($D$2:$D$151)-1),COUNTIF($D$2:$D$151,3)+1-ROW(D91))),\"\")","v":""},"",91,{"$f":"IFERROR(INDEX($B$2:$B$151,LARGE(($D$2:$D$151=4)*(ROW($D$2:$D$151)-1),COUNTIF($D$2:$D$151,4)+1-ROW(D91))),\"\")","v":""},"",91,{"$f":"IFERROR(INDEX($B$2:$B$151,LARGE(($D$2:$D$151=5)*(ROW($D$2:$D$151)-1),COUNTIF($D$2:$D$151,5)+1-ROW(D91))),\"\")","v":""},"",null,91,"",0,0]
[92,"",0,0,null,92,{"$f":"IFERROR(INDEX($B$2:$B$151,LARGE(($D$2:$D$151=1)*(ROW($D$2:$D$151)-1),COUNTIF($D$2:$D$151,1)+1-ROW(D92))),\"\")","v":""},"",92,{"$f":"IFERROR(INDEX($B$2:$B$151,LARGE(($D$2:$D$151=2)*(ROW($D$2:$D$151)-1),COUNTIF($D$2:$D$151,2)+1-ROW(D92))),\"\")","v":""},"",92,{"$f":"IFERROR(INDEX($B$2:$B$151,LARGE(($D$2:$D$151=3)*(ROW($D$2:$D$151)-1),COUNTIF($D$2:$D$151,3)+1-ROW(D92))),\"\")","v":""},"",92,{"$f":"IFERROR(INDEX($B$2:$B$151,LARGE(($D$2:$D$151=4)*(ROW($D$2:$D$151)-1),COUNTIF($D$2:$D$151,4)+1-ROW(D92))),\"\")","v":""},"",92,{"$f":"IFERROR(INDEX($B$2:$B$151,LARGE(($D$2:$D$151=5)*(ROW($D$2:$D$151)-1),COUNTIF($D$2:$D$151,5)+1-ROW(D92))),\"\")","v":""},"",null,92,"",0,0]
[93,"",0,0,null,93,{"$f":"IFERROR(INDEX($B$2:$B$151,LARGE(($D$2:$D$151=1)*(ROW($D$2:$D$151)-1),COUNTIF($D$2:$D$151,1)+1-ROW(D93))),\"\")","v":""},"",93,{"$f":"IFERROR(INDEX($B$2:$B$151,LARGE(($D$2:$D$151=2)*(ROW($D$2:$D$151)-1),COUNTIF($D$2:$D$151,2)+1-ROW(D93))),\"\")","v":""},"",93,{"$f":"IFERROR(INDEX($B$2:$B$151,LARGE(($D$2:$D$151=3)*(ROW($D$2:$D$151)-1),COUNTIF($D$2:$D$151,3)+1-ROW(D93))),\"\")","v":""},"",93,{"$f":"IFERROR(INDEX($B$2:$B$151,LARGE(($D$2:$D$151=4)*(ROW($D$2:$D$151)-1),COUNTIF($D$2:$D$151,4)+1-ROW(D93))),\"\")","v":""},"",93,{"$f":"IFERROR(INDEX($B$2:$B$151,LARGE(($D$2:$D$151=5)*(ROW($D$2:$D$151)-1),COUNTIF($D$2:$D$151,5)+1-ROW(D93))),\"\")","v":""},"",null,93,"",0,0]
[94,"",0,0,null,94,{"$f":"IFERROR(INDEX($B$2:$B$151,LARGE(($D$2:$D$151=1)*(ROW($D$2:$D$151)-1),COUNTIF($D$2:$D$151,1)+1-ROW(D94))),\"\")","v":""},"",94,{"$f":"IFERROR(INDEX($B$2:$B$151,LARGE(($D$2:$D$151=2)*(ROW($D$2:$D$151)-1),COUNTIF($D$2:$D$151,2)+1-ROW(D94))),\"\")","v":""},"",94,{"$f":"IFERROR(INDEX($B$2:$B$151,LARGE(($D$2:$D$151=3)*(ROW($D$2:$D$151)-1),COUNTIF($D$2:$D$151,3)+1-ROW(D94))),\"\")","v":""},"",94,{"$f":"IFERROR(INDEX($B$2:$B$151,LARGE(($D$2:$D$151=4)*(ROW($D$2:$D$151)-1),COUNTIF($D$2:$D$151,4)+1-ROW(D94))),\"\")","v":""},"",94,{"$f":"IFERROR(INDEX($B$2:$B$151,LARGE(($D$2:$D$151=5)*(ROW($D$2:$D$151)-1),COUNTIF($D$2:$D$151,5)+1-ROW(D94))),\"\")","v":""},"",null,94,"",0,0]
[95,"",0,0,null,95,{"$f":"IFERROR(INDEX($B$2:$B$151,LARGE(($D$2:$D$151=1)*(ROW($D$2:$D$151)-1),COUNTIF($D$2:$D$151,1)+1-ROW(D95))),\"\")","v":""},"",95,{"$f":"IFERROR(INDEX($B$2:$B$151,LARGE(($D$2:$D$151=2)*(ROW($D$2:$D$151)-1),COUNTIF($D$2:$D$151,2)+1-ROW(D95))),\"\")","v":""},"",95,{"$f":"IFERROR(INDEX($B$2:$B$151,LARGE(($D$2:$D$151=3)*(ROW($D$2:$D$151)-1),COUNTIF($D$2:$D$151,3)+1-ROW(D95))),\"\")","v":""},"",95,{"$f":"IFERROR(INDEX($B$2:$B$151,LARGE(($D$2:$D$151=4)*(ROW($D$2:$D$151)-1),COUNTIF($D$2:$D$151,4)+1-ROW(D95))),\"\")","v":""},"",95,{"$f":"IFERROR(INDEX($B$2:$B$151,LARGE(($D$2:$D$151=5)*(ROW($D$2:$D$151)-1),COUNTIF($D$2:$D$151,5)+1-ROW(D95))),\"\")","v":""},"",null,95,"",0,0]
[96,"",0,0,null,96,{"$f":"IFERROR(INDEX($B$2:$B$151,LARGE(($D$2:$D$151=1)*(ROW($D$2:$D$151)-1),COUNTIF($D$2:$D$151,1)+1-ROW(D96))),\"\")","v":""},"",96,{"$f":"IFERROR(INDEX($B$2:$B$151,LARGE(($D$2:$D$151=2)*(ROW($D$2:$D$151)-1),COUNTIF($D$2:$D$151,2)+1-ROW(D96))),\"\")","v":""},"",96,{"$f":"IFERROR(INDEX($B$2:$B$151,LARGE(($D$2:$D$151=3)*(ROW($D$2:$D$151)-1),COUNTIF($D$2:$D$151,3)+1-ROW(D96))),\"\")","v":""},"",96,{"$f":"IFERROR(INDEX($B$2:$B$151,LARGE(($D$2:$D$151=4)*(ROW($D$2:$D$151)-1),COUNTIF($D$2:$D$151,4)+1-ROW(D96))),\"\")","v":""},"",96,{"$f":"IFERROR(INDEX($B$2:$B$151,LARGE(($D$2:$D$151=5)*(ROW($D$2:$D$151)-1),COUNTIF($D$2:$D$151,5)+1-ROW(D96))),\"\")","v":""},"",null,96,"",0,0]
[97,"",0,0,null,97,{"$f":"IFERROR(INDEX($B$2:$B$151,LARGE(($D$2:$D$151=1)*(ROW($D$2:$D$151)-1),COUNTIF($D$2:$D$151,1)+1-ROW(D97))),\"\")","v":""},"",97,{"$f":"IFERROR(INDEX($B$2:$B$151,LARGE(($D$2:$D$151=2)*(ROW($D$2:$D$151)-1),COUNTIF($D$2:$D$151,2)+1-ROW(D97))),\"\")","v":""},"",97,{"$f":"IFERROR(INDEX($B$2:$B$151,LARGE(($D$2:$D$151=3)*(ROW($D$2:$D$151)-1),COUNTIF($D$2:$D$151,3)+1-ROW(D97))),\"\")","v":""},"",97,{"$f":"IFERROR(INDEX($B$2:$B$151,LARGE(($D$2:$D$151=4)*(ROW($D$2:$D$151)-1),COUNTIF($D$2:$D$151,4)+1-ROW(D97))),\"\")","v":""},"",97,{"$f":"IFERROR(INDEX($B$2:$B$151,LARGE(($D$2:$D$151=5)*(ROW($D$2:$D$151)-1),COUNTIF($D$2:$D$151,5)+1-ROW(D97))),\"\")","v":""},"",null,97,"",0,0]
[98,"",0,0,null,98,{"$f":"IFERROR(INDEX($B$2:$B$151,LARGE(($D$2:$D$151=1)*(ROW($D$2:$D$151)-1),COUNTIF($D$2:$D$151,1)+1-ROW(D98))),\"\")","v":""},"",98,{"$f":"IFERROR(INDEX($B$2:$B$151,LARGE(($D$2:$D$151=2)*(ROW($D$2:$D$151)-1),COUNTIF($D$2:$D$151,2)+1-ROW(D98))),\"\")","v":""},"",98,{"$f":"IFERROR(INDEX($B$2:$B$151,LARGE(($D$2:$D$151=3)*(ROW($D$2:$D$151)-1),COUNTIF($D$2:$D$151,3)+1-ROW(D98))),\"\")","v":""},"",98,{"$f":"IFERROR(INDEX($B$2:$B$151,LARGE(($D$2:$D$151=4)*(ROW($D$2:$D$151)-1),COUNTIF($D$2:$D$151,4)+1-ROW(D98))),\"\")","v":""},"",98,{"$f":"IFERROR(INDEX($B$2:$B$151,LARGE(($D$2:$D$151=5)*(ROW($D$2:$D$151)-1),COUNTIF($D$2:$D$151,5)+1-ROW(D98))),\"\")","v":""},"",null,98,"",0,0]
[99,"",0,0,null,99,{"$f":"IFERROR(INDEX($B$2:$B$151,LARGE(($D$2:$D$151=1)*(ROW($D$2:$D$151)-1),COUNTIF($D$2:$D$151,1)+1-ROW(D99))),\"\")","v":""},"",99,{"$f":"IFERROR(INDEX($B$2:$B$151,LARGE(($D$2:$D$151=2)*(ROW($D$2:$D$151)-1),COUNTIF($D$2:$D$151,2)+1-ROW(D99))),\"\")","v":""},"",99,{"$f":"IFERROR(INDEX($B$2:$B$151,LARGE(($D$2:$D$151=3)*(ROW($D$2:$D$151)-1),COUNTIF($D$2:$D$151,3)+1-ROW(D99))),\"\")","v":""},"",99,{"$f":"IFERROR(INDEX($B$2:$B$151,LARGE(($D$2:$D$151=4)*(ROW($D$2:$D$151)-1),COUNTIF($D$2:$D$151,4)+1-ROW(D99))),\"\")","v":""},"",99,{"$f":"IFERROR(INDEX($B$2:$B$151,LARGE(($D$2:$D$151=5)*(ROW($D$2:$D$151)-1),COUNTIF($D$2:$D$151,5)+1-ROW(D99))),\"\")","v":""},"",null,99,"",0,0]
[100,"",0,0,null,100,{"$f":"IFERROR(INDEX($B$2:$B$151,LARGE(($D$2:$D$151=1)*(ROW($D$2:$D$151)-1),COUNTIF($D$2:$D$151,1)+1-ROW(D100))),\"\")","v":""},"",100,{"$f":"IFERROR(INDEX($B$2:$B$151,LARGE(($D$2:$D$151=2)*(ROW($D$2:$D$151)-1),COUNTIF($D$2:$D$151,2)+1-ROW(D100))),\"\")","v":""},"",100,{"$f":"IFERROR(INDEX($B$2:$B$151,LARGE(($D$2:$D$151=3)*(ROW($D$2:$D$151)-1),COUNTIF($D$2:$D$151,3)+1-ROW(D100))),\"\")","v":""},"",100,{"$f":"IFERROR(INDEX($B$2:$B$151,LARGE(($D$2:$D$151=4)*(ROW($D$2:$D$151)-1),COUNTIF($D$2:$D$151,4)+1-ROW(D100))),\"\")","v":""},"",100,{"$f":"IFERROR(INDEX($B$2:$B$151,LARGE(($D$2:$D$151=5)*(ROW($D$2:$D$151)-1),COUNTIF($D$2:$D$151,5)+1-ROW(D100))),\"\")","v":""},"",null,100,"",0,0]
[101,"",0,0,null,101,{"$f":"IFERROR(INDEX($B$2:$B$151,LARGE(($D$2:$D$151=1)*(ROW($D$2:$D$151)-1),COUNTIF($D$2:$D$151,1)+1-ROW(D101))),\"\")","v":""},"",101,{"$f":"IFERROR(INDEX($B$2:$B$151,LARGE(($D$2:$D$151=2)*(ROW($D$2:$D$151)-1),COUNTIF($D$2:$D$151,2)+1-ROW(D101))),\"\")","v":""},"",101,{"$f":"IFERROR(INDEX($B$2:$B$151,LARGE(($D$2:$D$151=3)*(ROW($D$2:$D$151)-1),COUNTIF($D$2:$D$151,3)+1-ROW(D101))),\"\")","v":""},"",101,{"$f":"IFERROR(INDEX($B$2:$B$151,LARGE(($D$2:$D$151=4)*(ROW($D$2:$D$151)-1),COUNTIF($D$2:$D$151,4)+1-ROW(D101))),\"\")","v":""},"",101,{"$f":"IFERROR(INDEX($B$2:$B$151,LARGE(($D$2:$D$151=5)*(ROW($D$2:$D$151)-1),COUNTIF($D$2:$D$151,5)+1-ROW(D101))),\"\")","v":""},"",null,101,"",0,0]
[102,"",0,0,null,102,{"$f":"IFERROR(INDEX($B$2:$B$151,LARGE(($D$2:$D$151=1)*(ROW($D$2:$D$151)-1),COUNTIF($D$2:$D$151,1)+1-ROW(D102))),\"\")","v":""},"",102,{"$f":"IFERROR(INDEX($B$2:$B$151,LARGE(($D$2:$D$151=2)*(ROW($D$2:$D$151)-1),COUNTIF($D$2:$D$151,2)+1-ROW(D102))),\"\")","v":""},"",102,{"$f":"IFERROR(INDEX($B$2:$B$151,LARGE(($D$2:$D$151=3)*(ROW($D$2:$D$151)-1),COUNTIF($D$2:$D$151,3)+1-ROW(D102))),\"\")","v":""},"",102,{"$f":"IFERROR(INDEX($B$2:$B$151,LARGE(($D$2:$D$151=4)*(ROW($D$2:$D$151)-1),COUNTIF($D$2:$D$151,4)+1-ROW(D102))),\"\")","v":""},"",102,{"$f":"IFERROR(INDEX($B$2:$B$151,LARGE(($D$2:$D$151=5)*(ROW($D$2:$D$151)-1),COUNTIF($D$2:$D$151,5)+1-ROW(D102))),\"\")","v":""},"",null,102,"",0,0]
[103,"",0,0,null,103,{"$f":"IFERROR(INDEX($B$2:$B$151,LARGE(($D$2:$D$151=1)*(ROW($D$2:$D$151)-1),COUNTIF($D$2:$D$151,1)+1-ROW(D103))),\"\")","v":""},"",103,{"$f":"IFERROR(INDEX($B$2:$B$151,LARGE(($D$2:$D$151=2)*(ROW($D$2:$D$151)-1),COUNTIF($D$2:$D$151,2)+1-ROW(D103))),\"\")","v":""},"",103,{"$f":"IFERROR(INDEX($B$2:$B$151,LARGE(($D$2:$D$151=3)*(ROW($D$2:$D$151)-1),COUNTIF($D$2:$D$151,3)+1-ROW(D103))),\"\")","v":""},"",103,{"$f":"IFERROR(INDEX($B$2:$B$151,LARGE(($D$2:$D$151=4)*(ROW($D$2:$D$151)-1),COUNTIF($D$2:$D$151,4)+1-ROW(D103))),\"\")","v":""},"",103,{"$f":"IFERROR(INDEX($B$2:$B$151,LARGE(($D$2:$D$151=5)*(ROW($D$2:$D$151)-1),COUNTIF($D$2:$D$151,5)+1-ROW(D103))),\"\")","v":""},"",null,103,"",0,0]
[104,"",0,0,null,104,{"$f":"IFERROR(INDEX($B$2:$B$151,LARGE(($D$2:$D$151=1)*(ROW($D$2:$D$151)-1),COUNTIF($D$2:$D$151,1)+1-ROW(D104))),\"\")","v":""},"",104,{"$f":"IFERROR(INDEX($B$2:$B$151,LARGE(($D$2:$D$151=2)*(ROW($D$2:$D$151)-1),COUNTIF($D$2:$D$151,2)+1-ROW(D104))),\"\")","v":""},"",104,{"$f":"IFERROR(INDEX($B$2:$B$151,LARGE(($D$2:$D$151=3)*(ROW($D$2:$D$151)-1),COUNTIF($D$2:$D$151,3)+1-ROW(D104))),\"\")","v":""},"",104,{"$f":"IFERROR(INDEX($B$2:$B$151,LARGE(($D$2:$D$151=4)*(ROW($D$2:$D$151)-1),COUNTIF($D$2:$D$151,4)+1-ROW(D104))),\"\")","v":""},"",104,{"$f":"IFERROR(INDEX($B$2:$B$151,LARGE(($D$2:$D$151=5)*(ROW($D$2:$D$151)-1),COUNTIF($D$2:$D$151,5)+1-ROW(D104))),\"\")","v":""},"",null,104,"",0,0]
[105,"",0,0,null,105,{"$f":"IFERROR(INDEX($B$2:$B$151,LARGE(($D$2:$D$151=1)*(ROW($D$2:$D$151)-1),COUNTIF($D$2:$D$151,1)+1-ROW(D105))),\"\")","v":""},"",105,{"$f":"IFERROR(INDEX($B$2:$B$151,LARGE(($D$2:$D$151=2)*(ROW($D$2:$D$151)-1),COUNTIF($D$2:$D$151,2)+1-ROW(D105))),\"\")","v":""},"",105,{"$f":"IFERROR(INDEX($B$2:$B$151,LARGE(($D$2:$D$151=3)*(ROW($D$2:$D$151)-1),COUNTIF($D$2:$D$151,3)+1-ROW(D105))),\"\")","v":""},"",105,{"$f":"IFERROR(INDEX($B$2:$B$151,LARGE(($D$2:$D$151=4)*(ROW($D$2:$D$151)-1),COUNTIF($D$2:$D$151,4)+1-ROW(D105))),\"\")","v":""},"",105,{"$f":"IFERROR(INDEX($B$2:$B$151,LARGE(($D$2:$D$151=5)*(ROW($D$2:$D$151)-1),COUNTIF($D$2:$D$151,5)+1-ROW(D105))),\"\")","v":""},"",null,105,"",0,0]
[106,"",0,0,null,106,{"$f":"IFERROR(INDEX($B$2:$B$151,LARGE(($D$2:$D$151=1)*(ROW($D$2:$D$151)-1),COUNTIF($D$2:$D$151,1)+1-ROW(D106))),\"\")","v":""},"",106,{"$f":"IFERROR(INDEX($B$2:$B$151,LARGE(($D$2:$D$151=2)*(ROW($D$2:$D$151)-1),COUNTIF($D$2:$D$151,2)+1-ROW(D106))),\"\")","v":""},"",106,{"$f":"IFERROR(INDEX($B$2:$B$151,LARGE(($D$2:$D$151=3)*(ROW($D$2:$D$151)-1),COUNTIF($D$2:$D$151,3)+1-ROW(D106))),\"\")","v":""},"",106,{"$f":"IFERROR(INDEX($B$2:$B$151,LARGE(($D$2:$D$151=4)*(ROW($D$2:$D$151)-1),COUNTIF($D$2:$D$151,4)+1-ROW(D106))),\"\")","v":""},"",106,{"$f":"IFERROR(INDEX($B$2:$B$151,LARGE(($D$2:$D$151=5)*(ROW($D$2:$D$151)-1),COUNTIF($D$2:$D$151,5)+1-ROW(D106))),\"\")","v":""},"",null,106,"",0,0]
[107,"",0,0,null,107,{"$f":"IFERROR(INDEX($B$2:$B$151,LARGE(($D$2:$D$151=1)*(ROW($D$2:$D$151)-1),COUNTIF($D$2:$D$151,1)+1-ROW(D107))),\"\")","v":""},"",107,{"$f":"IFERROR(INDEX($B$2:$B$151,LARGE(($D$2:$D$151=2)*(ROW($D$2:$D$151)-1),COUNTIF($D$2:$D$151,2)+1-ROW(D107))),\"\")","v":""},"",107,{"$f":"IFERROR(INDEX($B$2:$B$151,LARGE(($D$2:$D$151=3)*(ROW($D$2:$D$151)-1),COUNTIF($D$2:$D$151,3)+1-ROW(D107))),\"\")","v":""},"",107,{"$f":"IFERROR(INDEX($B$2:$B$151,LARGE(($D$2:$D$151=4)*(ROW($D$2:$D$151)-1),COUNTIF($D$2:$D$151,4)+1-ROW(D107))),\"\")","v":""},"",107,{"$f":"IFERROR(INDEX($B$2:$B$151,LARGE(($D$2:$D$151=5)*(ROW($D$2:$D$151)-1),COUNTIF($D$2:$D$151,5)+1-ROW(D107))),\"\")","v":""},"",null,107,"",0,0]
[108,"",0,0,null,108,{"$f":"IFERROR(INDEX($B$2:$B$151,LARGE(($D$2:$D$151=1)*(ROW($D$2:$D$151)-1),COUNTIF($D$2:$D$151,1)+1-ROW(D108))),\"\")","v":""},"",108,{"$f":"IFERROR(INDEX($B$2:$B$151,LARGE(($D$2:$D$151=2)*(ROW($D$2:$D$151)-1),COUNTIF($D$2:$D$151,2)+1-ROW(D108))),\"\")","v":""},"",108,{"$f":"IFERROR(INDEX($B$2:$B$151,LARGE(($D$2:$D$151=3)*(ROW($D$2:$D$151)-1),COUNTIF($D$2:$D$151,3)+1-ROW(D108))),\"\")","v":""},"",108,{"$f":"IFERROR(INDEX($B$2:$B$151,LARGE(($D$2:$D$151=4)*(ROW($D$2:$D$151)-1),COUNTIF($D$2:$D$151,4)+1-ROW(D108))),\"\")","v":""},"",108,{"$f":"IFERROR(INDEX($B$2:$B$151,LARGE(($D$2:$D$151=5)*(ROW($D$2:$D$151)-1),COUNTIF($D$2:$D$151,5)+1-ROW(D108))),\"\")","v":""},"",null,108,"",0,0]
[109,"",0,0,null,109,{"$f":"IFERROR(INDEX($B$2:$B$151,LARGE(($D$2:$D$151=1)*(ROW($D$2:$D$151)-1),COUNTIF($D$2:$D$151,1)+1-ROW(D109))),\"\")","v":""},"",109,{"$f":"IFERROR(INDEX($B$2:$B$151,LARGE(($D$2:$D$151=2)*(ROW($D$2:$D$151)-1),COUNTIF($D$2:$D$151,2)+1-ROW(D109))),\"\")","v":""},"",109,{"$f":"IFERROR(INDEX($B$2:$B$151,LARGE(($D$2:$D$151=3)*(ROW($D$2:$D$151)-1),COUNTIF($D$2:$D$151,3)+1-ROW(D109))),\"\")","v":""},"",109,{"$f":"IFERROR(INDEX($B$2:$B$151,LARGE(($D$2:$D$151=4)*(ROW($D$2:$D$151)-1),COUNTIF($D$2:$D$151,4)+1-ROW(D109))),\"\")","v":""},"",109,{"$f":"IFERROR(INDEX($B$2:$B$151,LARGE(($D$2:$D$151=5)*(ROW($D$2:$D$151)-1),COUNTIF($D$2:$D$151,5)+1-ROW(D109))),\"\")","v":""},"",null,109,"",0,0]
[110,"",0,0,null,110,{"$f":"IFERROR(INDEX($B$2:$B$151,LARGE(($D$2:$D$151=1)*(ROW($D$2:$D$151)-1),COUNTIF($D$2:$D$151,1)+1-ROW(D110))),\"\")","v":""},"",110,{"$f":"IFERROR(INDEX($B$2:$B$151,LARGE(($D$2:$D$151=2)*(ROW($D$2:$D$151)-1),COUNTIF($D$2:$D$151,2)+1-ROW(D110))),\"\")","v":""},"",110,{"$f":"IFERROR(INDEX($B$2:$B$151,LARGE(($D$2:$D$151=3)*(ROW($D$2:$D$151)-1),COUNTIF($D$2:$D$151,3)+1-ROW(D110))),\"\")","v":""},"",110,{"$f":"IFERROR(INDEX($B$2:$B$151,LARGE(($D$2:$D$151=4)*(ROW($D$2:$D$151)-1),COUNTIF($D$2:$D$151,4)+1-ROW(D110))),\"\")","v":""},"",110,{"$f":"IFERROR(INDEX($B$2:$B$151,LARGE(($D$2:$D$151=5)*(ROW($D$2:$D$151)-1),COUNTIF($D$2:$D$151,5)+1-ROW(D110))),\"\")","v":""},"",null,110,"",0,0]
[111,"",0,0,null,111,{"$f":"IFERROR(INDEX($B$2:$B$151,LARGE(($D$2:$D$151=1)*(ROW($D$2:$D$151)-1),COUNTIF($D$2:$D$151,1)+1-ROW(D111))),\"\")","v":""},"",111,{"$f":"IFERROR(INDEX($B$2:$B$151,LARGE(($D$2:$D$151=2)*(ROW($D$2:$D$151)-1),COUNTIF($D$2:$D$151,2)+1-ROW(D111))),\"\")","v":""},"",111,{"$f":"IFERROR(INDEX($B$2:$B$151,LARGE(($D$2:$D$151=3)*(ROW($D$2:$D$151)-1),COUNTIF($D$2:$D$151,3)+1-ROW(D111))),\"\")","v":""},"",111,{"$f":"IFERROR(INDEX($B$2:$B$151,LARGE(($D$2:$D$151=4)*(ROW($D$2:$D$151)-1),COUNTIF($D$2:$D$151,4)+1-ROW(D111))),\"\")","v":""},"",111,{"$f":"IFERROR(INDEX($B$2:$B$151,LARGE(($D$2:$D$151=5)*(ROW($D$2:$D$151)-1),COUNTIF($D$2:$D$151,5)+1-ROW(D111))),\"\")","v":""},"",null,111,"",0,0]
[112,"",0,0,null,112,{"$f":"IFERROR(INDEX($B$2:$B$151,LARGE(($D$2:$D$151=1)*(ROW($D$2:$D$151)-1),COUNTIF($D$2:$D$151,1)+1-ROW(D112))),\"\")","v":""},"",112,{"$f":"IFERROR(INDEX($B$2:$B$151,LARGE(($D$2:$D$151=2)*(ROW($D$2:$D$151)-1),COUNTIF($D$2:$D$151,2)+1-ROW(D112))),\"\")","v":""},"",112,{"$f":"IFERROR(INDEX($B$2:$B$151,LARGE(($D$2:$D$151=3)*(ROW($D$2:$D$151)-1),COUNTIF($D$2:$D$151,3)+1-ROW(D112))),\"\")","v":""},"",112,{"$f":"IFERROR(INDEX($B$2:$B$151,LARGE(($D$2:$D$151=4)*(ROW($D$2:$D$151)-1),COUNTIF($D$2:$D$151,4)+1-ROW(D112))),\"\")","v":""},"",112,{"$f":"IFERROR(INDEX($B$2:$B$151,LARGE(($D$2:$D$151=5)*(ROW($D$2:$D$151)-1),COUNTIF($D$2:$D$151,5)+1-ROW(D112))),\"\")","v":""},"",null,112,"",0,0]
[113,"",0,0,null,113,{"$f":"IFERROR(INDEX($B$2:$B$151,LARGE(($D$2:$D$151=1)*(ROW($D$2:$D$151)-1),COUNTIF($D$2:$D$151,1)+1-ROW(D113))),\"\")","v":""},"",113,{"$f":"IFERROR(INDEX($B$2:$B$151,LARGE(($D$2:$D$151=2)*(ROW($D$2:$D$151)-1),COUNTIF($D$2:$D$151,2)+1-ROW(D113))),\"\")","v":""},"",113,{"$f":"IFERROR(INDEX($B$2:$B$151,LARGE(($D$2:$D$151=3)*(ROW($D$2:$D$151)-1),COUNTIF($D$2:$D$151,3)+1-ROW(D113))),\"\")","v":""},"",113,{"$f":"IFERROR(INDEX($B$2:$B$151,LARGE(($D$2:$D$151=4)*(ROW($D$2:$D$151)-1),COUNTIF($D$2:$D$151,4)+1-ROW(D113))),\"\")","v":""},"",113,{"$f":"IFERROR(INDEX($B$2:$B$151,LARGE(($D$2:$D$151=5)*(ROW($D$2:$D$151)-1),COUNTIF($D$2:$D$151,5)+1-ROW(D113))),\"\")","v":""},"",null,113,"",0,0]
[114,"",0,0,null,114,{"$f":"IFERROR(INDEX($B$2:$B$151,LARGE(($D$2:$D$151=1)*(ROW($D$2:$D$151)-1),COUNTIF($D$2:$D$151,1)+1-ROW(D114))),\"\")","v":""},"",114,{"$f":"IFERROR(INDEX($B$2:$B$151,LARGE(($D$2:$D$151=2)*(ROW($D$2:$D$151)-1),COUNTIF($D$2:$D$151,2)+1-ROW(D114))),\"\")","v":""},"",114,{"$f":"IFERROR(INDEX($B$2:$B$151,LARGE(($D$2:$D$151=3)*(ROW($D$2:$D$151)-1),COUNTIF($D$2:$D$151,3)+1-ROW(D114))),\"\")","v":""},"",114,{"$f":"IFERROR(INDEX($B$2:$B$151,LARGE(($D$2:$D$151=4)*(ROW($D$2:$D$151)-1),COUNTIF($D$2:$D$151,4)+1-ROW(D114))),\"\")","v":""},"",114,{"$f":"IFERROR(INDEX($B$2:$B$151,LARGE(($D$2:$D$151=5)*(ROW($D$2:$D$151)-1),COUNTIF($D$2:$D$151,5)+1-ROW(D114))),\"\")","v":""},"",null,114,"",0,0]
[115,"",0,0,null,115,{"$f":"IFERROR(INDEX($B$2:$B$151,LARGE(($D$2:$D$151=1)*(ROW($D$2:$D$151)-1),COUNTIF($D$2:$D$151,1)+1-ROW(D115))),\"\")","v":""},"",115,{"$f":"IFERROR(INDEX($B$2:$B$151,LARGE(($D$2:$D$151=2)*(ROW($D$2:$D$151)-1),COUNTIF($D$2:$D$151,2)+1-ROW(D115))),\"\")","v":""},"",115,{"$f":"IFERROR(INDEX($B$2:$B$151,LARGE(($D$2:$D$151=3)*(ROW($D$2:$D$151)-1),COUNTIF($D$2:$D$151,3)+1-ROW(D115))),\"\")","v":""},"",115,{"$f":"IFERROR(INDEX($B$2:$B$151,LARGE(($D$2:$D$151=4)*(ROW($D$2:$D$151)-1),COUNTIF($D$2:$D$151,4)+1-ROW(D115))),\"\")","v":""},"",115,{"$f":"IFERROR(INDEX($B$2:$B$151,LARGE(($D$2:$D$151=5)*(ROW($D$2:$D$151)-1),COUNTIF($D$2:$D$151,5)+1-ROW(D115))),\"\")","v":""},"",null,115,"",0,0]
[116,"",0,0,null,116,{"$f":"IFERROR(INDEX($B$2:$B$151,LARGE(($D$2:$D$151=1)*(ROW($D$2:$D$151)-1),COUNTIF($D$2:$D$151,1)+1-ROW(D116))),\"\")","v":""},"",116,{"$f":"IFERROR(INDEX($B$2:$B$151,LARGE(($D$2:$D$151=2)*(ROW($D$2:$D$151)-1),COUNTIF($D$2:$D$151,2)+1-ROW(D116))),\"\")","v":""},"",116,{"$f":"IFERROR(INDEX($B$2:$B$151,LARGE(($D$2:$D$151=3)*(ROW($D$2:$D$151)-1),COUNTIF($D$2:$D$151,3)+1-ROW(D116))),\"\")","v":""},"",116,{"$f":"IFERROR(INDEX($B$2:$B$151,LARGE(($D$2:$D$151=4)*(ROW($D$2:$D$151)-1),COUNTIF($D$2:$D$151,4)+1-ROW(D116))),\"\")","v":""},"",116,{"$f":"IFERROR(INDEX($B$2:$B$151,LARGE(($D$2:$D$151=5)*(ROW($D$2:$D$151)-1),COUNTIF($D$2:$D$151,5)+1-ROW(D116))),\"\")","v":""},"",null,116,"",0,0]
[117,"",0,0,null,117,{"$f":"IFERROR(INDEX($B$2:$B$151,LARGE(($D$2:$D$151=1)*(ROW($D$2:$D$151)-1),COUNTIF($D$2:$D$151,1)+1-ROW(D117))),\"\")","v":""},"",117,{"$f":"IFERROR(INDEX($B$2:$B$151,LARGE(($D$2:$D$151=2)*(ROW($D$2:$D$151)-1),COUNTIF($D$2:$D$151,2)+1-ROW(D117))),\"\")","v":""},"",117,{"$f":"IFERROR(INDEX($B$2:$B$151,LARGE(($D$2:$D$151=3)*(ROW($D$2:$D$151)-1),COUNTIF($D$2:$D$151,3)+1-ROW(D117))),\"\")","v":""},"",117,{"$f":"IFERROR(INDEX($B$2:$B$151,LARGE(($D$2:$D$151=4)*(ROW($D$2:$D$151)-1),COUNTIF($D$2:$D$151,4)+1-ROW(D117))),\"\")","v":""},"",117,{"$f":"IFERROR(INDEX($B$2:$B$151,LARGE(($D$2:$D$151=5)*(ROW($D$2:$D$151)-1),COUNTIF($D$2:$D$151,5)+1-ROW(D117))),\"\")","v":""},"",null,117,"",0,0]
[118,"",0,0,null,118,{"$f":"IFERROR(INDEX($B$2:$B$151,LARGE(($D$2:$D$151=1)*(ROW($D$2:$D$151)-1),COUNTIF($D$2:$D$151,1)+1-ROW(D118))),\"\")","v":""},"",118,{"$f":"IFERROR(INDEX($B$2:$B$151,LARGE(($D$2:$D$151=2)*(ROW($D$2:$D$151)-1),COUNTIF($D$2:$D$151,2)+1-ROW(D118))),\"\")","v":""},"",118,{"$f":"IFERROR(INDEX($B$2:$B$151,LARGE(($D$2:$D$151=3)*(ROW($D$2:$D$151)-1),COUNTIF($D$2:$D$151,3)+1-ROW(D118))),\"\")","v":""},"",118,{"$f":"IFERROR(INDEX($B$2:$B$151,LARGE(($D$2:$D$151=4)*(ROW($D$2:$D$151)-1),COUNTIF($D$2:$D$151,4)+1-ROW(D118))),\"\")","v":""},"",118,{"$f":"IFERROR(INDEX($B$2:$B$151,LARGE(($D$2:$D$151=5)*(ROW($D$2:$D$151)-1),COUNTIF($D$2:$D$151,5)+1-ROW(D118))),\"\")","v":""},"",null,118,"",0,0]
[119,"",0,0,null,119,{"$f":"IFERROR(INDEX($B$2:$B$151,LARGE(($D$2:$D$151=1)*(ROW($D$2:$D$151)-1),COUNTIF($D$2:$D$151,1)+1-ROW(D119))),\"\")","v":""},"",119,{"$f":"IFERROR(INDEX($B$2:$B$151,LARGE(($D$2:$D$151=2)*(ROW($D$2:$D$151)-1),COUNTIF($D$2:$D$151,2)+1-ROW(D119))),\"\")","v":""},"",119,{"$f":"IFERROR(INDEX($B$2:$B$151,LARGE(($D$2:$D$151=3)*(ROW($D$2:$D$151)-1),COUNTIF($D$2:$D$151,3)+1-ROW(D119))),\"\")","v":""},"",119,{"$f":"IFERROR(INDEX($B$2:$B$151,LARGE(($D$2:$D$151=4)*(ROW($D$2:$D$151)-1),COUNTIF($D$2:$D$151,4)+1-ROW(D119))),\"\")","v":""},"",119,{"$f":"IFERROR(INDEX($B$2:$B$151,LARGE(($D$2:$D$151=5)*(ROW($D$2:$D$151)-1),COUNTIF($D$2:$D$151,5)+1-ROW(D119))),\"\")","v":""},"",null,119,"",0,0]
[120,"",0,0,null,120,{"$f":"IFERROR(INDEX($B$2:$B$151,LARGE(($D$2:$D$151=1)*(ROW($D$2:$D$151)-1),COUNTIF($D$2:$D$151,1)+1-ROW(D120))),\"\")","v":""},"",120,{"$f":"IFERROR(INDEX($B$2:$B$151,LARGE(($D$2:$D$151=2)*(ROW($D$2:$D$151)-1),COUNTIF($D$2:$D$151,2)+1-ROW(D120))),\"\")","v":""},"",120,{"$f":"IFERROR(INDEX($B$2:$B$151,LARGE(($D$2:$D$151=3)*(ROW($D$2:$D$151)-1),COUNTIF($D$2:$D$151,3)+1-ROW(D120))),\"\")","v":""},"",120,{"$f":"IFERROR(INDEX($B$2:$B$151,LARGE(($D$2:$D$151=4)*(ROW($D$2:$D$151)-1),COUNTIF($D$2:$D$151,4)+1-ROW(D120))),\"\")","v":""},"",120,{"$f":"IFERROR(INDEX($B$2:$B$151,LARGE(($D$2:$D$151=5)*(ROW($D$2:$D$151)-1),COUNTIF($D$2:$D$151,5)+1-ROW(D120))),\"\")","v":""},"",null,120,"",0,0]
[121,"",0,0,null,121,{"$f":"IFERROR(INDEX($B$2:$B$151,LARGE(($D$2:$D$151=1)*(ROW($D$2:$D$151)-1),COUNTIF($D$2:$D$151,1)+1-ROW(D121))),\"\")","v":""},"",121,{"$f":"IFERROR(INDEX($B$2:$B$151,LARGE(($D$2:$D$151=2)*(ROW($D$2:$D$151)-1),COUNTIF($D$2:$D$151,2)+1-ROW(D121))),\"\")","v":""},"",121,{"$f":"IFERROR(INDEX($B$2:$B$151,LARGE(($D$2:$D$151=3)*(ROW($D$2:$D$151)-1),COUNTIF($D$2:$D$151,3)+1-ROW(D121))),\"\")","v":""},"",121,{"$f":"IFERROR(INDEX($B$2:$B$151,LARGE(($D$2:$D$151=4)*(ROW($D$2:$D$151)-1),COUNTIF($D$2:$D$151,4)+1-ROW(D121))),\"\")","v":""},"",121,{"$f":"IFERROR(INDEX($B$2:$B$151,LARGE(($D$2:$D$151=5)*(ROW($D$2:$D$151)-1),COUNTIF($D$2:$D$151,5)+1-ROW(D121))),\"\")","v":""},"",null,121,"",0,0]
[122,"",0,0,null,122,{"$f":"IFERROR(INDEX($B$2:$B$151,LARGE(($D$2:$D$151=1)*(ROW($D$2:$D$151)-1),COUNTIF($D$2:$D$151,1)+1-ROW(D122))),\"\")","v":""},"",122,{"$f":"IFERROR(INDEX($B$2:$B$151,LARGE(($D$2:$D$151=2)*(ROW($D$2:$D$151)-1),COUNTIF($D$2:$D$151,2)+1-ROW(D122))),\"\")","v":""},"",122,{"$f":"IFERROR(INDEX($B$2:$B$151,LARGE(($D$2:$D$151=3)*(ROW($D$2:$D$151)-1),COUNTIF($D$2:$D$151,3)+1-ROW(D122))),\"\")","v":""},"",122,{"$f":"IFERROR(INDEX($B$2:$B$151,LARGE(($D$2:$D$151=4)*(ROW($D$2:$D$151)-1),COUNTIF($D$2:$D$151,4)+1-ROW(D122))),\"\")","v":""},"",122,{"$f":"IFERROR(INDEX($B$2:$B$151,LARGE(($D$2:$D$151=5)*(ROW($D$2:$D$151)-1),COUNTIF($D$2:$D$151,5)+1-ROW(D122))),\"\")","v":""},"",null,122,"",0,0]
[123,"",0,0,null,123,{"$f":"IFERROR(INDEX($B$2:$B$151,LARGE(($D$2:$D$151=1)*(ROW($D$2:$D$151)-1),COUNTIF($D$2:$D$151,1)+1-ROW(D123))),\"\")","v":""},"",123,{"$f":"IFERROR(INDEX($B$2:$B$151,LARGE(($D$2:$D$151=2)*(ROW($D$2:$D$151)-1),COUNTIF($D$2:$D$151,2)+1-ROW(D123))),\"\")","v":""},"",123,{"$f":"IFERROR(INDEX($B$2:$B$151,LARGE(($D$2:$D$151=3)*(ROW($D$2:$D$151)-1),COUNTIF($D$2:$D$151,3)+1-ROW(D123))),\"\")","v":""},"",123,{"$f":"IFERROR(INDEX($B$2:$B$151,LARGE(($D$2:$D$151=4)*(ROW($D$2:$D$151)-1),COUNTIF($D$2:$D$151,4)+1-ROW(D123))),\"\")","v":""},"",123,{"$f":"IFERROR(INDEX($B$2:$B$151,LARGE(($D$2:$D$151=5)*(ROW($D$2:$D$151)-1),COUNTIF($D$2:$D$151,5)+1-ROW(D123))),\"\")","v":""},"",null,123,"",0,0]
[124,"",0,0,null,124,{"$f":"IFERROR(INDEX($B$2:$B$151,LARGE(($D$2:$D$151=1)*(ROW($D$2:$D$151)-1),COUNTIF($D$2:$D$151,1)+1-ROW(D124))),\"\")","v":""},"",124,{"$f":"IFERROR(INDEX($B$2:$B$151,LARGE(($D$2:$D$151=2)*(ROW($D$2:$D$151)-1),COUNTIF($D$2:$D$151,2)+1-ROW(D124))),\"\")","v":""},"",124,{"$f":"IFERROR(INDEX($B$2:$B$151,LARGE(($D$2:$D$151=3)*(ROW($D$2:$D$151)-1),COUNTIF($D$2:$D$151,3)+1-ROW(D124))),\"\")","v":""},"",124,{"$f":"IFERROR(INDEX($B$2:$B$151,LARGE(($D$2:$D$151=4)*(ROW($D$2:$D$151)-1),COUNTIF($D$2:$D$151,4)+1-ROW(D124))),\"\")","v":""},"",124,{"$f":"IFERROR(INDEX($B$2:$B$151,LARGE(($D$2:$D$151=5)*(ROW($D$2:$D$151)-1),COUNTIF($D$2:$D$151,5)+1-ROW(D124))),\"\")","v":""},"",null,124,"",0,0]
[125,"",0,0,null,125,{"$f":"IFERROR(INDEX($B$2:$B$151,LARGE(($D$2:$D$151=1)*(ROW($D$2:$D$151)-1),COUNTIF($D$2:$D$151,1)+1-ROW(D125))),\"\")","v":""},"",125,{"$f":"IFERROR(INDEX($B$2:$B$151,LARGE(($D$2:$D$151=2)*(ROW($D$2:$D$151)-1),COUNTIF($D$2:$D$151,2)+1-ROW(D125))),\"\")","v":""},"",125,{"$f":"IFERROR(INDEX($B$2:$B$151,LARGE(($D$2:$D$151=3)*(ROW($D$2:$D$151)-1),COUNTIF($D$2:$D$151,3)+1-ROW(D125))),\"\")","v":""},"",125,{"$f":"IFERROR(INDEX($B$2:$B$151,LARGE(($D$2:$D$151=4)*(ROW($D$2:$D$151)-1),COUNTIF($D$2:$D$151,4)+1-ROW(D125))),\"\")","v":""},"",125,{"$f":"IFERROR(INDEX($B$2:$B$151,LARGE(($D$2:$D$151=5)*(ROW($D$2:$D$151)-1),COUNTIF($D$2:$D$151,5)+1-ROW(D125))),\"\")","v":""},"",null,125,"",0,0]
[126,"",0,0,null,126,{"$f":"IFERROR(INDEX($B$2:$B$151,LARGE(($D$2:$D$151=1)*(ROW($D$2:$D$151)-1),COUNTIF($D$2:$D$151,1)+1-ROW(D126))),\"\")","v":""},"",126,{"$f":"IFERROR(INDEX($B$2:$B$151,LARGE(($D$2:$D$151=2)*(ROW($D$2:$D$151)-1),COUNTIF($D$2:$D$151,2)+1-ROW(D126))),\"\")","v":""},"",126,{"$f":"IFERROR(INDEX($B$2:$B$151,LARGE(($D$2:$D$151=3)*(ROW($D$2:$D$151)-1),COUNTIF($D$2:$D$151,3)+1-ROW(D126))),\"\")","v":""},"",126,{"$f":"IFERROR(INDEX($B$2:$B$151,LARGE(($D$2:$D$151=4)*(ROW($D$2:$D$151)-1),COUNTIF($D$2:$D$151,4)+1-ROW(D126))),\"\")","v":""},"",126,{"$f":"IFERROR(INDEX($B$2:$B$151,LARGE(($D$2:$D$151=5)*(ROW($D$2:$D$151)-1),COUNTIF($D$2:$D$151,5)+1-ROW(D126))),\"\")","v":""},"",null,126,"",0,0]
[127,"",0,0,null,127,{"$f":"IFERROR(INDEX($B$2:$B$151,LARGE(($D$2:$D$151=1)*(ROW($D$2:$D$151)-1),COUNTIF($D$2:$D$151,1)+1-ROW(D127))),\"\")","v":""},"",127,{"$f":"IFERROR(INDEX($B$2:$B$151,LARGE(($D$2:$D$151=2)*(ROW($D$2:$D$151)-1),COUNTIF($D$2:$D$151,2)+1-ROW(D127))),\"\")","v":""},"",127,{"$f":"IFERROR(INDEX($B$2:$B$151,LARGE(($D$2:$D$151=3)*(ROW($D$2:$D$151)-1),COUNTIF($D$2:$D$151,3)+1-ROW(D127))),\"\")","v":""},"",127,{"$f":"IFERROR(INDEX($B$2:$B$151,LARGE(($D$2:$D$151=4)*(ROW($D$2:$D$151)-1),COUNTIF($D$2:$D$151,4)+1-ROW(D127))),\"\")","v":""},"",127,{"$f":"IFERROR(INDEX($B$2:$B$151,LARGE(($D$2:$D$151=5)*(ROW($D$2:$D$151)-1),COUNTIF($D$2:$D$151,5)+1-ROW(D127))),\"\")","v":""},"",null,127,"",0,0]
[128,"",0,0,null,128,{"$f":"IFERROR(INDEX($B$2:$B$151,LARGE(($D$2:$D$151=1)*(ROW($D$2:$D$151)-1),COUNTIF($D$2:$D$151,1)+1-ROW(D128))),\"\")","v":""},"",128,{"$f":"IFERROR(INDEX($B$2:$B$151,LARGE(($D$2:$D$151=2)*(ROW($D$2:$D$151)-1),COUNTIF($D$2:$D$151,2)+1-ROW(D128))),\"\")","v":""},"",128,{"$f":"IFERROR(INDEX($B$2:$B$151,LARGE(($D$2:$D$151=3)*(ROW($D$2:$D$151)-1),COUNTIF($D$2:$D$151,3)+1-ROW(D128))),\"\")","v":""},"",128,{"$f":"IFERROR(INDEX($B$2:$B$151,LARGE(($D$2:$D$151=4)*(ROW($D$2:$D$151)-1),COUNTIF($D$2:$D$151,4)+1-ROW(D128))),\"\")","v":""},"",128,{"$f":"IFERROR(INDEX($B$2:$B$151,LARGE(($D$2:$D$151=5)*(ROW($D$2:$D$151)-1),COUNTIF($D$2:$D$151,5)+1-ROW(D128))),\"\")","v":""},"",null,128,"",0,0]
[129,"",0,0,null,129,{"$f":"IFERROR(INDEX($B$2:$B$151,LARGE(($D$2:$D$151=1)*(ROW($D$2:$D$151)-1),COUNTIF($D$2:$D$151,1)+1-ROW(D129))),\"\")","v":""},"",129,{"$f":"IFERROR(INDEX($B$2:$B$151,LARGE(($D$2:$D$151=2)*(ROW($D$2:$D$151)-1),COUNTIF($D$2:$D$151,2)+1-ROW(D129))),\"\")","v":""},"",129,{"$f":"IFERROR(INDEX($B$2:$B$151,LARGE(($D$2:$D$151=3)*(ROW($D$2:$D$151)-1),COUNTIF($D$2:$D$151,3)+1-ROW(D129))),\"\")","v":""},"",129,{"$f":"IFERROR(INDEX($B$2:$B$151,LARGE(($D$2:$D$151=4)*(ROW($D$2:$D$151)-1),COUNTIF($D$2:$D$151,4)+1-ROW(D129))),\"\")","v":""},"",129,{"$f":"IFERROR(INDEX($B$2:$B$151,LARGE(($D$2:$D$151=5)*(ROW($D$2:$D$151)-1),COUNTIF($D$2:$D$151,5)+1-ROW(D129))),\"\")","v":""},"",null,129,"",0,0]
[130,"",0,0,null,130,{"$f":"IFERROR(INDEX($B$2:$B$151,LARGE(($D$2:$D$151=1)*(ROW($D$2:$D$151)-1),COUNTIF($D$2:$D$151,1)+1-ROW(D130))),\"\")","v":""},{"$f":"IF(G131=\"\",\"\",VLOOKUP(G131,$B$2:$C$151,2,0))","v":""},130,{"$f":"IFERROR(INDEX($B$2:$B$151,LARGE(($D$2:$D$151=2)*(ROW($D$2:$D$151)-1),COUNTIF($D$2:$D$151,2)+1-ROW(D130))),\"\")","v":""},{"$f":"IF(J131=\"\",\"\",VLOOKUP(J131,$B$2:$C$151,2,0))","v":""},130,{"$f":"IFERROR(INDEX($B$2:$B$151,LARGE(($D$2:$D$151=3)*(ROW($D$2:$D$151)-1),COUNTIF($D$2:$D$151,3)+1-ROW(D130))),\"\")","v":""},{"$f":"IF(M131=\"\",\"\",VLOOKUP(M131,$B$2:$C$151,2,0))","v":""},130,{"$f":"IFERROR(INDEX($B$2:$B$151,LARGE(($D$2:$D$151=4)*(ROW($D$2:$D$151)-1),COUNTIF($D$2:$D$151,4)+1-ROW(D130))),\"\")","v":""},{"$f":"IF(P131=\"\",\"\",VLOOKUP(P131,$B$2:$C$151,2,0))","v":""},130,{"$f":"IFERROR(INDEX($B$2:$B$151,LARGE(($D$2:$D$151=5)*(ROW($D$2:$D$151)-1),COUNTIF($D$2:$D$151,5)+1-ROW(D130))),\"\")","v":""},{"$f":"IF(S131=\"\",\"\",VLOOKUP(S131,$B$2:$C$151,2,0))","v":""},null,130,"",0,0]
[131,"",0,0,null,131,{"$f":"IFERROR(INDEX($B$2:$B$151,LARGE(($D$2:$D$151=1)*(ROW($D$2:$D$151)-1),COUNTIF($D$2:$D$151,1)+1-ROW(D131))),\"\")","v":""},"",131,{"$f":"IFERROR(INDEX($B$2:$B$151,LARGE(($D$2:$D$151=2)*(ROW($D$2:$D$151)-1),COUNTIF($D$2:$D$151,2)+1-ROW(D131))),\"\")","v":""},"",131,{"$f":"IFERROR(INDEX($B$2:$B$151,LARGE(($D$2:$D$151=3)*(ROW($D$2:$D$151)-1),COUNTIF($D$2:$D$151,3)+1-ROW(D131))),\"\")","v":""},"",131,{"$f":"IFERROR(INDEX($B$2:$B$151,LARGE(($D$2:$D$151=4)*(ROW($D$2:$D$151)-1),COUNTIF($D$2:$D$151,4)+1-ROW(D131))),\"\")","v":""},"",131,{"$f":"IFERROR(INDEX($B$2:$B$151,LARGE(($D$2:$D$151=5)*(ROW($D$2:$D$151)-1),COUNTIF($D$2:$D$151,5)+1-ROW(D131))),\"\")","v":""},"",null,131,"",0,0]
[132,"",0,0,null,132,{"$f":"IFERROR(INDEX($B$2:$B$151,LARGE(($D$2:$D$151=1)*(ROW($D$2:$D$151)-1),COUNTIF($D$2:$D$151,1)+1-ROW(D132))),\"\")","v":""},"",132,{"$f":"IFERROR(INDEX($B$2:$B$151,LARGE(($D$2:$D$151=2)*(ROW($D$2:$D$151)-1),COUNTIF($D$2:$D$151,2)+1-ROW(D132))),\"\")","v":""},"",132,{"$f":"IFERROR(INDEX($B$2:$B$151,LARGE(($D$2:$D$151=3)*(ROW($D$2:$D$151)-1),COUNTIF($D$2:$D$151,3)+1-ROW(D132))),\"\")","v":""},"",132,{"$f":"IFERROR(INDEX($B$2:$B$151,LARGE(($D$2:$D$151=4)*(ROW($D$2:$D$151)-1),COUNTIF($D$2:$D$151,4)+1-ROW(D132))),\"\")","v":""},"",132,{"$f":"IFERROR(INDEX($B$2:$B$151,LARGE(($D$2:$D$151=5)*(ROW($D$2:$D$151)-1),COUNTIF($D$2:$D$151,5)+1-ROW(D132))),\"\")","v":""},"",null,132,"",0,0]
[133,"",0,0,null,133,{"$f":"IFERROR(INDEX($B$2:$B$151,LARGE(($D$2:$D$151=1)*(ROW($D$2:$D$151)-1),COUNTIF($D$2:$D$151,1)+1-ROW(D133))),\"\")","v":""},"",133,{"$f":"IFERROR(INDEX($B$2:$B$151,LARGE(($D$2:$D$151=2)*(ROW($D$2:$D$151)-1),COUNTIF($D$2:$D$151,2)+1-ROW(D133))),\"\")","v":""},"",133,{"$f":"IFERROR(INDEX($B$2:$B$151,LARGE(($D$2:$D$151=3)*(ROW($D$2:$D$151)-1),COUNTIF($D$2:$D$151,3)+1-ROW(D133))),\"\")","v":""},"",133,{"$f":"IFERROR(INDEX($B$2:$B$151,LARGE(($D$2:$D$151=4)*(ROW($D$2:$D$151)-1),COUNTIF($D$2:$D$151,4)+1-ROW(D133))),\"\")","v":""},"",133,{"$f":"IFERROR(INDEX($B$2:$B$151,LARGE(($D$2:$D$151=5)*(ROW($D$2:$D$151)-1),COUNTIF($D$2:$D$151,5)+1-ROW(D133))),\"\")","v":""},"",null,133,"",0,0]
[134,"",0,0,null,134,{"$f":"IFERROR(INDEX($B$2:$B$151,LARGE(($D$2:$D$151=1)*(ROW($D$2:$D$151)-1),COUNTIF($D$2:$D$151,1)+1-ROW(D134))),\"\")","v":""},"",134,{"$f":"IFERROR(INDEX($B$2:$B$151,LARGE(($D$2:$D$151=2)*(ROW($D$2:$D$151)-1),COUNTIF($D$2:$D$151,2)+1-ROW(D134))),\"\")","v":""},"",134,{"$f":"IFERROR(INDEX($B$2:$B$151,LARGE(($D$2:$D$151=3)*(ROW($D$2:$D$151)-1),COUNTIF($D$2:$D$151,3)+1-ROW(D134))),\"\")","v":""},"",134,{"$f":"IFERROR(INDEX($B$2:$B$151,LARGE(($D$2:$D$151=4)*(ROW($D$2:$D$151)-1),COUNTIF($D$2:$D$151,4)+1-ROW(D134))),\"\")","v":""},"",134,{"$f":"IFERROR(INDEX($B$2:$B$151,LARGE(($D$2:$D$151=5)*(ROW($D$2:$D$151)-1),COUNTIF($D$2:$D$151,5)+1-ROW(D134))),\"\")","v":""},"",null,134,"",0,0]
[135,"",0,0,null,135,{"$f":"IFERROR(INDEX($B$2:$B$151,LARGE(($D$2:$D$151=1)*(ROW($D$2:$D$151)-1),COUNTIF($D$2:$D$151,1)+1-ROW(D135))),\"\")","v":""},"",135,{"$f":"IFERROR(INDEX($B$2:$B$151,LARGE(($D$2:$D$151=2)*(ROW($D$2:$D$151)-1),COUNTIF($D$2:$D$151,2)+1-ROW(D135))),\"\")","v":""},"",135,{"$f":"IFERROR(INDEX($B$2:$B$151,LARGE(($D$2:$D$151=3)*(ROW($D$2:$D$151)-1),COUNTIF($D$2:$D$151,3)+1-ROW(D135))),\"\")","v":""},"",135,{"$f":"IFERROR(INDEX($B$2:$B$151,LARGE(($D$2:$D$151=4)*(ROW($D$2:$D$151)-1),COUNTIF($D$2:$D$151,4)+1-ROW(D135))),\"\")","v":""},"",135,{"$f":"IFERROR(INDEX($B$2:$B$151,LARGE(($D$2:$D$151=5)*(ROW($D$2:$D$151)-1),COUNTIF($D$2:$D$151,5)+1-ROW(D135))),\"\")","v":""},"",null,135,"",0,0]
[136,"",0,0,null,136,{"$f":"IFERROR(INDEX($B$2:$B$151,LARGE(($D$2:$D$151=1)*(ROW($D$2:$D$151)-1),COUNTIF($D$2:$D$151,1)+1-ROW(D136))),\"\")","v":""},"",136,{"$f":"IFERROR(INDEX($B$2:$B$151,LARGE(($D$2:$D$151=2)*(ROW($D$2:$D$151)-1),COUNTIF($D$2:$D$151,2)+1-ROW(D136))),\"\")","v":""},"",136,{"$f":"IFERROR(INDEX($B$2:$B$151,LARGE(($D$2:$D$151=3)*(ROW($D$2:$D$151)-1),COUNTIF($D$2:$D$151,3)+1-ROW(D136))),\"\")","v":""},"",136,{"$f":"IFERROR(INDEX($B$2:$B$151,LARGE(($D$2:$D$151=4)*(ROW($D$2:$D$151)-1),COUNTIF($D$2:$D$151,4)+1-ROW(D136))),\"\")","v":""},"",136,{"$f":"IFERROR(INDEX($B$2:$B$151,LARGE(($D$2:$D$151=5)*(ROW($D$2:$D$151)-1),COUNTIF($D$2:$D$151,5)+1-ROW(D136))),\"\")","v":""},"",null,136,"",0,0]
[137,"",0,0,null,137,{"$f":"IFERROR(INDEX($B$2:$B$151,LARGE(($D$2:$D$151=1)*(ROW($D$2:$D$151)-1),COUNTIF($D$2:$D$151,1)+1-ROW(D137))),\"\")","v":""},"",137,{"$f":"IFERROR(INDEX($B$2:$B$151,LARGE(($D$2:$D$151=2)*(ROW($D$2:$D$151)-1),COUNTIF($D$2:$D$151,2)+1-ROW(D137))),\"\")","v":""},"",137,{"$f":"IFERROR(INDEX($B$2:$B$151,LARGE(($D$2:$D$151=3)*(ROW($D$2:$D$151)-1),COUNTIF($D$2:$D$151,3)+1-ROW(D137))),\"\")","v":""},"",137,{"$f":"IFERROR(INDEX($B$2:$B$151,LARGE(($D$2:$D$151=4)*(ROW($D$2:$D$151)-1),COUNTIF($D$2:$D$151,4)+1-ROW(D137))),\"\")","v":""},"",137,{"$f":"IFERROR(INDEX($B$2:$B$151,LARGE(($D$2:$D$151=5)*(ROW($D$2:$D$151)-1),COUNTIF($D$2:$D$151,5)+1-ROW(D137))),\"\")","v":""},"",null,137,"",0,0]
[138,"",0,0,null,138,{"$f":"IFERROR(INDEX($B$2:$B$151,LARGE(($D$2:$D$151=1)*(ROW($D$2:$D$151)-1),COUNTIF($D$2:$D$151,1)+1-ROW(D138))),\"\")","v":""},"",138,{"$f":"IFERROR(INDEX($B$2:$B$151,LARGE(($D$2:$D$151=2)*(ROW($D$2:$D$151)-1),COUNTIF($D$2:$D$151,2)+1-ROW(D138))),\"\")","v":""},"",138,{"$f":"IFERROR(INDEX($B$2:$B$151,LARGE(($D$2:$D$151=3)*(ROW($D$2:$D$151)-1),COUNTIF($D$2:$D$151,3)+1-ROW(D138))),\"\")","v":""},"",138,{"$f":"IFERROR(INDEX($B$2:$B$151,LARGE(($D$2:$D$151=4)*(ROW($D$2:$D$151)-1),COUNTIF($D$2:$D$151,4)+1-ROW(D138))),\"\")","v":""},"",138,{"$f":"IFERROR(INDEX($B$2:$B$151,LARGE(($D$2:$D$151=5)*(ROW($D$2:$D$151)-1),COUNTIF($D$2:$D$151,5)+1-ROW(D138))),\"\")","v":""},"",null,138,"",0,0]
[139,"",0,0,null,139,{"$f":"IFERROR(INDEX($B$2:$B$151,LARGE(($D$2:$D$151=1)*(ROW($D$2:$D$151)-1),COUNTIF($D$2:$D$151,1)+1-ROW(D139))),\"\")","v":""},"",139,{"$f":"IFERROR(INDEX($B$2:$B$151,LARGE(($D$2:$D$151=2)*(ROW($D$2:$D$151)-1),COUNTIF($D$2:$D$151,2)+1-ROW(D139))),\"\")","v":""},"",139,{"$f":"IFERROR(INDEX($B$2:$B$151,LARGE(($D$2:$D$151=3)*(ROW($D$2:$D$151)-1),COUNTIF($D$2:$D$151,3)+1-ROW(D139))),\"\")","v":""},"",139,{"$f":"IFERROR(INDEX($B$2:$B$151,LARGE(($D$2:$D$151=4)*(ROW($D$2:$D$151)-1),COUNTIF($D$2:$D$151,4)+1-ROW(D139))),\"\")","v":""},"",139,{"$f":"IFERROR(INDEX($B$2:$B$151,LARGE(($D$2:$D$151=5)*(ROW($D$2:$D$151)-1),COUNTIF($D$2:$D$151,5)+1-ROW(D139))),\"\")","v":""},"",null,139,"",0,0]
[140,"",0,0,null,140,{"$f":"IFERROR(INDEX($B$2:$B$151,LARGE(($D$2:$D$151=1)*(ROW($D$2:$D$151)-1),COUNTIF($D$2:$D$151,1)+1-ROW(D140))),\"\")","v":""},"",140,{"$f":"IFERROR(INDEX($B$2:$B$151,LARGE(($D$2:$D$151=2)*(ROW($D$2:$D$151)-1),COUNTIF($D$2:$D$151,2)+1-ROW(D140))),\"\")","v":""},"",140,{"$f":"IFERROR(INDEX($B$2:$B$151,LARGE(($D$2:$D$151=3)*(ROW($D$2:$D$151)-1),COUNTIF($D$2:$D$151,3)+1-ROW(D140))),\"\")","v":""},"",140,{"$f":"IFERROR(INDEX($B$2:$B$151,LARGE(($D$2:$D$151=4)*(ROW($D$2:$D$151)-1),COUNTIF($D$2:$D$151,4)+1-ROW(D140))),\"\")","v":""},"",140,{"$f":"IFERROR(INDEX($B$2:$B$151,LARGE(($D$2:$D$151=5)*(ROW($D$2:$D$151)-1),COUNTIF($D$2:$D$151,5)+1-ROW(D140))),\"\")","v":""},"",null,140,"",0,0]
[141,"",0,0,null,141,{"$f":"IFERROR(INDEX($B$2:$B$151,LARGE(($D$2:$D$151=1)*(ROW($D$2:$D$151)-1),COUNTIF($D$2:$D$151,1)+1-ROW(D141))),\"\")","v":""},"",141,{"$f":"IFERROR(INDEX($B$2:$B$151,LARGE(($D$2:$D$151=2)*(ROW($D$2:$D$151)-1),COUNTIF($D$2:$D$151,2)+1-ROW(D141))),\"\")","v":""},"",141,{"$f":"IFERROR(INDEX($B$2:$B$151,LARGE(($D$2:$D$151=3)*(ROW($D$2:$D$151)-1),COUNTIF($D$2:$D$151,3)+1-ROW(D141))),\"\")","v":""},"",141,{"$f":"IFERROR(INDEX($B$2:$B$151,LARGE(($D$2:$D$151=4)*(ROW($D$2:$D$151)-1),COUNTIF($D$2:$D$151,4)+1-ROW(D141))),\"\")","v":""},"",141,{"$f":"IFERROR(INDEX($B$2:$B$151,LARGE(($D$2:$D$151=5)*(ROW($D$2:$D$151)-1),COUNTIF($D$2:$D$151,5)+1-ROW(D141))),\"\")","v":""},"",null,141,"",0,0]
[142,"",0,0,null,142,{"$f":"IFERROR(INDEX($B$2:$B$151,LARGE(($D$2:$D$151=1)*(ROW($D$2:$D$151)-1),COUNTIF($D$2:$D$151,1)+1-ROW(D142))),\"\")","v":""},"",142,{"$f":"IFERROR(INDEX($B$2:$B$151,LARGE(($D$2:$D$151=2)*(ROW($D$2:$D$151)-1),COUNTIF($D$2:$D$151,2)+1-ROW(D142))),\"\")","v":""},"",142,{"$f":"IFERROR(INDEX($B$2:$B$151,LARGE(($D$2:$D$151=3)*(ROW($D$2:$D$151)-1),COUNTIF($D$2:$D$151,3)+1-ROW(D142))),\"\")","v":""},"",142,{"$f":"IFERROR(INDEX($B$2:$B$151,LARGE(($D$2:$D$151=4)*(ROW($D$2:$D$151)-1),COUNTIF($D$2:$D$151,4)+1-ROW(D142))),\"\")","v":""},"",142,{"$f":"IFERROR(INDEX($B$2:$B$151,LARGE(($D$2:$D$151=5)*(ROW($D$2:$D$151)-1),COUNTIF($D$2:$D$151,5)+1-ROW(D142))),\"\")","v":""},"",null,142,"",0,0]
[143,"",0,0,null,143,{"$f":"IFERROR(INDEX($B$2:$B$151,LARGE(($D$2:$D$151=1)*(ROW($D$2:$D$151)-1),COUNTIF($D$2:$D$151,1)+1-ROW(D143))),\"\")","v":""},"",143,{"$f":"IFERROR(INDEX($B$2:$B$151,LARGE(($D$2:$D$151=2)*(ROW($D$2:$D$151)-1),COUNTIF($D$2:$D$151,2)+1-ROW(D143))),\"\")","v":""},"",143,{"$f":"IFERROR(INDEX($B$2:$B$151,LARGE(($D$2:$D$151=3)*(ROW($D$2:$D$151)-1),COUNTIF($D$2:$D$151,3)+1-ROW(D143))),\"\")","v":""},"",143,{"$f":"IFERROR(INDEX($B$2:$B$151,LARGE(($D$2:$D$151=4)*(ROW($D$2:$D$151)-1),COUNTIF($D$2:$D$151,4)+1-ROW(D143))),\"\")","v":""},"",143,{"$f":"IFERROR(INDEX($B$2:$B$151,LARGE(($D$2:$D$151=5)*(ROW($D$2:$D$151)-1),COUNTIF($D$2:$D$151,5)+1-ROW(D143))),\"\")","v":""},"",null,143,"",0,0]
[144,"",0,0,null,144,{"$f":"IFERROR(INDEX($B$2:$B$151,LARGE(($D$2:$D$151=1)*(ROW($D$2:$D$151)-1),COUNTIF($D$2:$D$151,1)+1-ROW(D144))),\"\")","v":""},"",144,{"$f":"IFERROR(INDEX($B$2:$B$151,LARGE(($D$2:$D$151=2)*(ROW($D$2:$D$151)-1),COUNTIF($D$2:$D$151,2)+1-ROW(D144))),\"\")","v":""},"",144,{"$f":"IFERROR(INDEX($B$2:$B$151,LARGE(($D$2:$D$151=3)*(ROW($D$2:$D$151)-1),COUNTIF($D$2:$D$151,3)+1-ROW(D144))),\"\")","v":""},"",144,{"$f":"IFERROR(INDEX($B$2:$B$151,LARGE(($D$2:$D$151=4)*(ROW($D$2:$D$151)-1),COUNTIF($D$2:$D$151,4)+1-ROW(D144))),\"\")","v":""},"",144,{"$f":"IFERROR(INDEX($B$2:$B$151,LARGE(($D$2:$D$151=5)*(ROW($D$2:$D$151)-1),COUNTIF($D$2:$D$151,5)+1-ROW(D144))),\"\")","v":""},"",null,144,"",0,0]
[145,"",0,0,null,145,{"$f":"IFERROR(INDEX($B$2:$B$151,LARGE(($D$2:$D$151=1)*(ROW($D$2:$D$151)-1),COUNTIF($D$2:$D$151,1)+1-ROW(D145))),\"\")","v":""},"",145,{"$f":"IFERROR(INDEX($B$2:$B$151,LARGE(($D$2:$D$151=2)*(ROW($D$2:$D$151)-1),COUNTIF($D$2:$D$151,2)+1-ROW(D145))),\"\")","v":""},"",145,{"$f":"IFERROR(INDEX($B$2:$B$151,LARGE(($D$2:$D$151=3)*(ROW($D$2:$D$151)-1),COUNTIF($D$2:$D$151,3)+1-ROW(D145))),\"\")","v":""},"",145,{"$f":"IFERROR(INDEX($B$2:$B$151,LARGE(($D$2:$D$151=4)*(ROW($D$2:$D$151)-1),COUNTIF($D$2:$D$151,4)+1-ROW(D145))),\"\")","v":""},"",145,{"$f":"IFERROR(INDEX($B$2:$B$151,LARGE(($D$2:$D$151=5)*(ROW($D$2:$D$151)-1),COUNTIF($D$2:$D$151,5)+1-ROW(D145))),\"\")","v":""},"",null,145,"",0,0]
[146,"",0,0,null,146,{"$f":"IFERROR(INDEX($B$2:$B$151,LARGE(($D$2:$D$151=1)*(ROW($D$2:$D$151)-1),COUNTIF($D$2:$D$151,1)+1-ROW(D146))),\"\")","v":""},"",146,{"$f":"IFERROR(INDEX($B$2:$B$151,LARGE(($D$2:$D$151=2)*(ROW($D$2:$D$151)-1),COUNTIF($D$2:$D$151,2)+1-ROW(D146))),\"\")","v":""},"",146,{"$f":"IFERROR(INDEX($B$2:$B$151,LARGE(($D$2:$D$151=3)*(ROW($D$2:$D$151)-1),COUNTIF($D$2:$D$151,3)+1-ROW(D146))),\"\")","v":""},"",146,{"$f":"IFERROR(INDEX($B$2:$B$151,LARGE(($D$2:$D$151=4)*(ROW($D$2:$D$151)-1),COUNTIF($D$2:$D$151,4)+1-ROW(D146))),\"\")","v":""},"",146,{"$f":"IFERROR(INDEX($B$2:$B$151,LARGE(($D$2:$D$151=5)*(ROW($D$2:$D$151)-1),COUNTIF($D$2:$D$151,5)+1-ROW(D146))),\"\")","v":""},"",null,146,"",0,0]
[147,"",0,0,null,147,{"$f":"IFERROR(INDEX($B$2:$B$151,LARGE(($D$2:$D$151=1)*(ROW($D$2:$D$151)-1),COUNTIF($D$2:$D$151,1)+1-ROW(D147))),\"\")","v":""},"",147,{"$f":"IFERROR(INDEX($B$2:$B$151,LARGE(($D$2:$D$151=2)*(ROW($D$2:$D$151)-1),COUNTIF($D$2:$D$151,2)+1-ROW(D147))),\"\")","v":""},"",147,{"$f":"IFERROR(INDEX($B$2:$B$151,LARGE(($D$2:$D$151=3)*(ROW($D$2:$D$151)-1),COUNTIF($D$2:$D$151,3)+1-ROW(D147))),\"\")","v":""},"",147,{"$f":"IFERROR(INDEX($B$2:$B$151,LARGE(($D$2:$D$151=4)*(ROW($D$2:$D$151)-1),COUNTIF($D$2:$D$151,4)+1-ROW(D147))),\"\")","v":""},"",147,{"$f":"IFERROR(INDEX($B$2:$B$151,LARGE(($D$2:$D$151=5)*(ROW($D$2:$D$151)-1),COUNTIF($D$2:$D$151,5)+1-ROW(D147))),\"\")","v":""},"",null,147,"",0,0]
[148,"",0,0,null,148,{"$f":"IFERROR(INDEX($B$2:$B$151,LARGE(($D$2:$D$151=1)*(ROW($D$2:$D$151)-1),COUNTIF($D$2:$D$151,1)+1-ROW(D148))),\"\")","v":""},"",148,{"$f":"IFERROR(INDEX($B$2:$B$151,LARGE(($D$2:$D$151=2)*(ROW($D$2:$D$151)-1),COUNTIF($D$2:$D$151,2)+1-ROW(D148))),\"\")","v":""},"",148,{"$f":"IFERROR(INDEX($B$2:$B$151,LARGE(($D$2:$D$151=3)*(ROW($D$2:$D$151)-1),COUNTIF($D$2:$D$151,3)+1-ROW(D148))),\"\")","v":""},"",148,{"$f":"IFERROR(INDEX($B$2:$B$151,LARGE(($D$2:$D$151=4)*(ROW($D$2:$D$151)-1),COUNTIF($D$2:$D$151,4)+1-ROW(D148))),\"\")","v":""},"",148,{"$f":"IFERROR(INDEX($B$2:$B$151,LARGE(($D$2:$D$151=5)*(ROW($D$2:$D$151)-1),COUNTIF($D$2:$D$151,5)+1-ROW(D148))),\"\")","v":""},"",null,148,"",0,0]
[149,"",0,0,null,149,{"$f":"IFERROR(INDEX($B$2:$B$151,LARGE(($D$2:$D$151=1)*(ROW($D$2:$D$151)-1),COUNTIF($D$2:$D$151,1)+1-ROW(D149))),\"\")","v":""},"",149,{"$f":"IFERROR(INDEX($B$2:$B$151,LARGE(($D$2:$D$151=2)*(ROW($D$2:$D$151)-1),COUNTIF($D$2:$D$151,2)+1-ROW(D149))),\"\")","v":""},"",149,{"$f":"IFERROR(INDEX($B$2:$B$151,LARGE(($D$2:$D$151=3)*(ROW($D$2:$D$151)-1),COUNTIF($D$2:$D$151,3)+1-ROW(D149))),\"\")","v":""},"",149,{"$f":"IFERROR(INDEX($B$2:$B$151,LARGE(($D$2:$D$151=4)*(ROW($D$2:$D$151)-1),COUNTIF($D$2:$D$151,4)+1-ROW(D149))),\"\")","v":""},"",149,{"$f":"IFERROR(INDEX($B$2:$B$151,LARGE(($D$2:$D$151=5)*(ROW($D$2:$D$151)-1),COUNTIF($D$2:$D$151,5)+1-ROW(D149))),\"\")","v":""},"",null,149,"",0,0]
[150,"",0,0,null,150,{"$f":"IFERROR(INDEX($B$2:$B$151,LARGE(($D$2:$D$151=1)*(ROW($D$2:$D$151)-1),COUNTIF($D$2:$D$151,1)+1-ROW(D150))),\"\")","v":""},"",150,{"$f":"IFERROR(INDEX($B$2:$B$151,LARGE(($D$2:$D$151=2)*(ROW($D$2:$D$151)-1),COUNTIF($D$2:$D$151,2)+1-ROW(D150))),\"\")","v":""},"",150,{"$f":"IFERROR(INDEX($B$2:$B$151,LARGE(($D$2:$D$151=3)*(ROW($D$2:$D$151)-1),COUNTIF($D$2:$D$151,3)+1-ROW(D150))),\"\")","v":""},"",150,{"$f":"IFERROR(INDEX($B$2:$B$151,LARGE(($D$2:$D$151=4)*(ROW($D$2:$D$151)-1),COUNTIF($D$2:$D$151,4)+1-ROW(D150))),\"\")","v":""},"",150,{"$f":"IFERROR(INDEX($B$2:$B$151,LARGE(($D$2:$D$151=5)*(ROW($D$2:$D$151)-1),COUNTIF($D$2:$D$151,5)+1-ROW(D150))),\"\")","v":""},"",null,150,"",0,0]

{"sheet":"Urkunde individuell","index":5,"n_rows":39,"n_cols":25,"rows_kept":39,"cut":false,"hidden":false,"merged":[[32,2,32,15],[33,2,33,15],[34,2,34,15],[37,9,37,16],[38,11,40,16],[31,1,31,7],[31,8,31,16],[15,20,16,22],[15,23,16,23],[15,24,16,28],[20,20,24,28],[25,2,25,14],[25,23,25,25],[26,2,26,15],[27,2,27,15],[28,2,28,15],[29,2,29,15],[30,2,30,15],[13,2,16,15],[8,22,9,24],[11,20,12,22],[11,23,12,23],[11,24,12,28],[13,20,14,22],[13,23,14,23],[13,24,14,28]]}
[]
[]
[]
[]
[]
[]
[]
[]
[null,null,null,null,null,null,null,null,null,null,null,null,null,null,null,null,null,null,null,null,null,null,"Bitte nur die \"gelben\" Felder befüllen"]
[]
[]
[null,null,null,null,null,null,null,null,null,null,null,null,null,null,null,null,null,null,null,null,"Klasse",null,null,null,{"$f":"IF(X12=\"\",\"\",VLOOKUP(X12,Stammdaten!$I$4:$J$8,2,0))","v":""}]
[]
[null,null,{"$f":"IF(Stammdaten!$C$11=\"\",\"\",Stammdaten!$C$11)","v":""},null,null,null,null,null,null,null,null,null,null,null,null,null,null,null,null,null,"Platz",null,null,null,{"$f":"IF(X14=\"\",\"\",IF(X12=1,VLOOKUP(X14,Daten!$F$2:$G$151,2,0),IF(X12=2,VLOOKUP(X14,Daten!$I$2:$J$151,2,0),IF(X12=3,VLOOKUP(X14,Daten!$L$2:$M$151,2,0),IF(X12=4,VLOOKUP(X14,Daten!$O$2:$P$151,2,0),IF(X12=5,VLOOKUP(X14,Daten!R2:S151,2,0)))))))","v":""}]
[]
[null,null,null,null,null,null,null,null,null,null,null,null,null,null,null,null,null,null,null,null,"Punkte",null,null,{"$f":"IF(X14=\"\",\"\",IF(X12=1,VLOOKUP(X14,Daten!$F$2:$H$151,3,0),IF(X12=2,VLOOKUP(X14,Daten!$I$2:$K$151,3,0),IF(X12=3,VLOOKUP(X14,Daten!$L$2:$N$151,3,0),IF(X12=4,VLOOKUP(X14,Daten!$O$2:$Q$151,3,0),IF(X12=5,VLOOKUP(X14,Daten!R2:T151,3,0)))))))","v":""},{"$f":"IF(X14=\"\",\"\",CONCATENATE(\"den \",X14,\". Platz in der\"))","v":""}]
[]
[]
[]
[]
[null,null,null,null,null,null,null,null,null,null,null,null,null,null,null,null,null,null,null,null,"Hier können Urkunden individuell ausgedruckt werden. \nDazu bitte die jeweilige KLASSE und den PLATZ eingeben."]
[]
[]
[]
[]
[null,null,null,null,null,null,null,null,null,null,null,null,null,null,null,null,null,null,null,null,null,null,null,"DRUCKEN"]
[]
[]
[]
[null,null,{"$f":"CONCATENATE(\"Hiermit verleiht der Schützenverein \",Stammdaten!$C$5)","v":"Hiermit verleiht der Schützenverein "}]
[null,null,{"$f":"IF(X12&X14=\"\",\"\",Y14)","v":""}]
[null,{"$f":"Y16","v":""},null,null,null,null,null,null,{"$f":"IF(X12=\"\",\"\",Y12)","v":""}]
[null,null,"mit einer Trefferleistung von"]
[null,null,{"$f":"IF(X12=\"\",\"\",X16)","v":""}]
[null,null,"diese Urkunde"]
[]
[]
[null,null,null,null,null,null,null,null,null,{"$f":"IF(Stammdaten!$C$4=\"\",\"\",CONCATENATE(Stammdaten!$C$5,\", den\",\" \",TEXT(Stammdaten!$C$4,\"TT.MM.JJJJ\")))","v":""}]
[null,null,null,null,null,null,null,null,null,null,null,{"$f":"CONCATENATE(Stammdaten!$C$10)","v":""}]

{"sheet":"Ergebnis ohne Klassen","index":6,"n_rows":167,"n_cols":8,"rows_kept":167,"cut":false,"hidden":false,"merged":[[165,1,165,4],[166,1,166,4],[159,1,159,4],[160,1,160,4],[161,1,161,4],[162,1,162,4],[163,1,163,4],[164,1,164,4],[153,1,153,4],[154,1,154,4],[155,1,155,4],[156,1,156,4],[157,1,157,4],[158,1,158,4],[147,1,147,4],[148,1,148,4],[149,1,149,4],[150,1,150,4],[151,1,151,4],[152,1,152,4],[141,1,141,4],[142,1,142,4],[143,1,143,4],[144,1,144,4],[145,1,145,4],[146,1,146,4],[135,1,135,4],[136,1,136,4],[137,1,137,4],[138,1,138,4],[139,1,139,4],[140,1,140,4],[129,1,129,4],[130,1,130,4],[131,1,131,4],[132,1,132,4],[133,1,133,4],[134,1,134,4],[123,1,123,4],[124,1,124,4],[125,1,125,4],[126,1,126,4],[127,1,127,4],[128,1,128,4],[117,1,117,4],[118,1,118,4],[119,1,119,4],[120,1,120,4],[121,1,121,4],[122,1,122,4],[111,1,111,4],[112,1,112,4],[113,1,113,4],[114,1,114,4],[115,1,115,4],[116,1,116,4],[105,1,105,4],[106,1,106,4],[107,1,107,4],[108,1,108,4],[109,1,109,4],[110,1,110,4],[99,1,99,4],[100,1,100,4],[101,1,101,4],[102,1,102,4],[103,1,103,4],[104,1,104,4],[93,1,93,4],[94,1,94,4],[95,1,95,4],[96,1,96,4],[97,1,97,4],[98,1,98,4],[87,1,87,4],[88,1,88,4],[89,1,89,4],[90,1,90,4],[91,1,91,4],[92,1,92,4],[81,1,81,4],[82,1,82,4],[83,1,83,4],[84,1,84,4],[85,1,85,4],[86,1,86,4],[75,1,75,4],[76,1,76,4],[77,1,77,4],[78,1,78,4],[79,1,79,4],[80,1,80,4],[69,1,69,4],[70,1,70,4],[71,1,71,4],[72,1,72,4],[73,1,73,4],[74,1,74,4],[63,1,63,4],[64,1,64,4],[65,1,65,4],[66,1,66,4],[67,1,67,4],[68,1,68,4],[57,1,57,4],[58,1,58,4],[59,1,59,4],[60,1,60,4],[61,1,61,4],[62,1,62,4],[51,1,51,4],[52,1,52,4],[53,1,53,4],[54,1,54,4],[55,1,55,4],[56,1,56,4],[45,1,45,4],[46,1,46,4],[47,1,47,4],[48,1,48,4],[49,1,49,4],[50,1,50,4],[39,1,39,4],[40,1,40,4],[41,1,41,4],[42,1,42,4],[43,1,43,4],[44,1,44,4],[33,1,33,4],[34,1,34,4],[35,1,35,4],[36,1,36,4],[37,1,37,4],[38,1,38,4],[30,1,30,4],[31,1,31,4],[32,1,32,4],[21,1,21,4],[22,1,22,4],[23,1,23,4],[24,1,24,4],[25,1,25,4],[26,1,26,4],[14,0,15,6],[16,1,16,4],[17,1,17,4],[18,1,18,4],[19,1,19,4],[20,1,20,4],[27,1,27,4],[28,1,28,4],[29,1,29,4]]}
[]
[]
[]
[]
[]
[]
[]
[]
[]
[]
[]
[]
[]
[]
[{"$f":"IF(Stammdaten!$C$4=\"\",\"\",CONCATENATE(TEXT(Stammdaten!$C$4,\"TT.MM.JJJJ\"),\" \",\"in \",Stammdaten!$C$5,\" \"\"\",Stammdaten!C11,\"\"\"\"))","v":""}]
[]
["Platz:","Name:",null,null,null,"Treffer:"]
[{"$f":"IF(Daten!X2,1,\"\")","v":""},{"$f":"IF(Daten!X2=0,\"\",Daten!W2)","v":""},null,null,null,{"$f":"IF(Daten!X2=0,\"\",Daten!X2)","v":""},{"$f":"IF(Daten!X2=0,\"\",\"von \"&Stammdaten!$D$6)","v":""},1]
[{"$f":"IF(F19=\"\",\"\",A18+1)","v":""},{"$f":"IF(Daten!X3=0,\"\",Daten!W3)","v":""},null,null,null,{"$f":"IF(Daten!X3=0,\"\",Daten!X3)","v":""},{"$f":"IF(Daten!X3=0,\"\",\"von \"&Stammdaten!$D$6)","v":""},2]
[{"$f":"IF(F20=\"\",\"\",A19+1)","v":""},{"$f":"IF(Daten!X4=0,\"\",Daten!W4)","v":""},null,null,null,{"$f":"IF(Daten!X4=0,\"\",Daten!X4)","v":""},{"$f":"IF(Daten!X4=0,\"\",\"von \"&Stammdaten!$D$6)","v":""},3]
["",{"$f":"IF(Daten!X5=0,\"\",Daten!W5)","v":""},null,null,null,{"$f":"IF(Daten!X5=0,\"\",Daten!X5)","v":""},{"$f":"IF(Daten!X5=0,\"\",\"von \"&Stammdaten!$D$6)","v":""},4]
["",{"$f":"IF(Daten!X6=0,\"\",Daten!W6)","v":""},null,null,null,{"$f":"IF(Daten!X6=0,\"\",Daten!X6)","v":""},{"$f":"IF(Daten!X6=0,\"\",\"von \"&Stammdaten!$D$6)","v":""},5]
["",{"$f":"IF(Daten!X7=0,\"\",Daten!W7)","v":""},null,null,null,{"$f":"IF(Daten!X7=0,\"\",Daten!X7)","v":""},{"$f":"IF(Daten!X7=0,\"\",\"von \"&Stammdaten!$D$6)","v":""},6]
["",{"$f":"IF(Daten!X8=0,\"\",Daten!W8)","v":""},null,null,null,{"$f":"IF(Daten!X8=0,\"\",Daten!X8)","v":""},{"$f":"IF(Daten!X8=0,\"\",\"von \"&Stammdaten!$D$6)","v":""},7]
["",{"$f":"IF(Daten!X9=0,\"\",Daten!W9)","v":""},null,null,null,{"$f":"IF(Daten!X9=0,\"\",Daten!X9)","v":""},{"$f":"IF(Daten!X9=0,\"\",\"von \"&Stammdaten!$D$6)","v":""},8]
["",{"$f":"IF(Daten!X10=0,\"\",Daten!W10)","v":""},null,null,null,{"$f":"IF(Daten!X10=0,\"\",Daten!X10)","v":""},{"$f":"IF(Daten!X10=0,\"\",\"von \"&Stammdaten!$D$6)","v":""},9]
["",{"$f":"IF(Daten!X11=0,\"\",Daten!W11)","v":""},null,null,null,{"$f":"IF(Daten!X11=0,\"\",Daten!X11)","v":""},{"$f":"IF(Daten!X11=0,\"\",\"von \"&Stammdaten!$D$6)","v":""},10]
["",{"$f":"IF(Daten!X12=0,\"\",Daten!W12)","v":""},null,null,null,{"$f":"IF(Daten!X12=0,\"\",Daten!X12)","v":""},{"$f":"IF(Daten!X12=0,\"\",\"von \"&Stammdaten!$D$6)","v":""},11]
["",{"$f":"IF(Daten!X13=0,\"\",Daten!W13)","v":""},null,null,null,{"$f":"IF(Daten!X13=0,\"\",Daten!X13)","v":""},{"$f":"IF(Daten!X13=0,\"\",\"von \"&Stammdaten!$D$6)","v":""},12]
["",{"$f":"IF(Daten!X14=0,\"\",Daten!W14)","v":""},null,null,null,{"$f":"IF(Daten!X14=0,\"\",Daten!X14)","v":""},{"$f":"IF(Daten!X14=0,\"\",\"von \"&Stammdaten!$D$6)","v":""},13]
["",{"$f":"IF(Daten!X15=0,\"\",Daten!W15)","v":""},null,null,null,{"$f":"IF(Daten!X15=0,\"\",Daten!X15)","v":""},{"$f":"IF(Daten!X15=0,\"\",\"von \"&Stammdaten!$D$6)","v":""},14]
["",{"$f":"IF(Daten!X16=0,\"\",Daten!W16)","v":""},null,null,null,{"$f":"IF(Daten!X16=0,\"\",Daten!X16)","v":""},{"$f":"IF(Daten!X16=0,\"\",\"von \"&Stammdaten!$D$6)","v":""},15]
["",{"$f":"IF(Daten!X17=0,\"\",Daten!W17)","v":""},null,null,null,{"$f":"IF(Daten!X17=0,\"\",Daten!X17)","v":""},{"$f":"IF(Daten!X17=0,\"\",\"von \"&Stammdaten!$D$6)","v":""},16]
["",{"$f":"IF(Daten!X18=0,\"\",Daten!W18)","v":""},null,null,null,{"$f":"IF(Daten!X18=0,\"\",Daten!X18)","v":""},{"$f":"IF(Daten!X18=0,\"\",\"von \"&Stammdaten!$D$6)","v":""},17]
["",{"$f":"IF(Daten!X19=0,\"\",Daten!W19)","v":""},null,null,null,{"$f":"IF(Daten!X19=0,\"\",Daten!X19)","v":""},{"$f":"IF(Daten!X19=0,\"\",\"von \"&Stammdaten!$D$6)","v":""},18]
["",{"$f":"IF(Daten!X20=0,\"\",Daten!W20)","v":""},null,null,null,{"$f":"IF(Daten!X20=0,\"\",Daten!X20)","v":""},{"$f":"IF(Daten!X20=0,\"\",\"von \"&Stammdaten!$D$6)","v":""},19]
["",{"$f":"IF(Daten!X21=0,\"\",Daten!W21)","v":""},null,null,null,{"$f":"IF(Daten!X21=0,\"\",Daten!X21)","v":""},{"$f":"IF(Daten!X21=0,\"\",\"von \"&Stammdaten!$D$6)","v":""},20]
["",{"$f":"IF(Daten!X22=0,\"\",Daten!W22)","v":""},null,null,null,{"$f":"IF(Daten!X22=0,\"\",Daten!X22)","v":""},{"$f":"IF(Daten!X22=0,\"\",\"von \"&Stammdaten!$D$6)","v":""},21]
["",{"$f":"IF(Daten!X23=0,\"\",Daten!W23)","v":""},null,null,null,{"$f":"IF(Daten!X23=0,\"\",Daten!X23)","v":""},{"$f":"IF(Daten!X23=0,\"\",\"von \"&Stammdaten!$D$6)","v":""},22]
["",{"$f":"IF(Daten!X24=0,\"\",Daten!W24)","v":""},null,null,null,{"$f":"IF(Daten!X24=0,\"\",Daten!X24)","v":""},{"$f":"IF(Daten!X24=0,\"\",\"von \"&Stammdaten!$D$6)","v":""},23]
["",{"$f":"IF(Daten!X25=0,\"\",Daten!W25)","v":""},null,null,null,{"$f":"IF(Daten!X25=0,\"\",Daten!X25)","v":""},{"$f":"IF(Daten!X25=0,\"\",\"von \"&Stammdaten!$D$6)","v":""},24]
["",{"$f":"IF(Daten!X26=0,\"\",Daten!W26)","v":""},null,null,null,{"$f":"IF(Daten!X26=0,\"\",Daten!X26)","v":""},{"$f":"IF(Daten!X26=0,\"\",\"von \"&Stammdaten!$D$6)","v":""},25]
["",{"$f":"IF(Daten!X27=0,\"\",Daten!W27)","v":""},null,null,null,{"$f":"IF(Daten!X27=0,\"\",Daten!X27)","v":""},{"$f":"IF(Daten!X27=0,\"\",\"von \"&Stammdaten!$D$6)","v":""},26]
["",{"$f":"IF(Daten!X28=0,\"\",Daten!W28)","v":""},null,null,null,{"$f":"IF(Daten!X28=0,\"\",Daten!X28)","v":""},{"$f":"IF(Daten!X28=0,\"\",\"von \"&Stammdaten!$D$6)","v":""},27]
["",{"$f":"IF(Daten!X29=0,\"\",Daten!W29)","v":""},null,null,null,{"$f":"IF(Daten!X29=0,\"\",Daten!X29)","v":""},{"$f":"IF(Daten!X29=0,\"\",\"von \"&Stammdaten!$D$6)","v":""},28]
["",{"$f":"IF(Daten!X30=0,\"\",Daten!W30)","v":""},null,null,null,{"$f":"IF(Daten!X30=0,\"\",Daten!X30)","v":""},{"$f":"IF(Daten!X30=0,\"\",\"von \"&Stammdaten!$D$6)","v":""},29]
["",{"$f":"IF(Daten!X31=0,\"\",Daten!W31)","v":""},null,null,null,{"$f":"IF(Daten!X31=0,\"\",Daten!X31)","v":""},{"$f":"IF(Daten!X31=0,\"\",\"von \"&Stammdaten!$D$6)","v":""},30]
["",{"$f":"IF(Daten!X32=0,\"\",Daten!W32)","v":""},null,null,null,{"$f":"IF(Daten!X32=0,\"\",Daten!X32)","v":""},{"$f":"IF(Daten!X32=0,\"\",\"von \"&Stammdaten!$D$6)","v":""},31]
["",{"$f":"IF(Daten!X33=0,\"\",Daten!W33)","v":""},null,null,null,{"$f":"IF(Daten!X33=0,\"\",Daten!X33)","v":""},{"$f":"IF(Daten!X33=0,\"\",\"von \"&Stammdaten!$D$6)","v":""},32]
["",{"$f":"IF(Daten!X34=0,\"\",Daten!W34)","v":""},null,null,null,{"$f":"IF(Daten!X34=0,\"\",Daten!X34)","v":""},{"$f":"IF(Daten!X34=0,\"\",\"von \"&Stammdaten!$D$6)","v":""},33]
["",{"$f":"IF(Daten!X35=0,\"\",Daten!W35)","v":""},null,null,null,{"$f":"IF(Daten!X35=0,\"\",Daten!X35)","v":""},{"$f":"IF(Daten!X35=0,\"\",\"von \"&Stammdaten!$D$6)","v":""},34]
["",{"$f":"IF(Daten!X36=0,\"\",Daten!W36)","v":""},null,null,null,{"$f":"IF(Daten!X36=0,\"\",Daten!X36)","v":""},{"$f":"IF(Daten!X36=0,\"\",\"von \"&Stammdaten!$D$6)","v":""},35]
["",{"$f":"IF(Daten!X37=0,\"\",Daten!W37)","v":""},null,null,null,{"$f":"IF(Daten!X37=0,\"\",Daten!X37)","v":""},{"$f":"IF(Daten!X37=0,\"\",\"von \"&Stammdaten!$D$6)","v":""},36]
["",{"$f":"IF(Daten!X38=0,\"\",Daten!W38)","v":""},null,null,null,{"$f":"IF(Daten!X38=0,\"\",Daten!X38)","v":""},{"$f":"IF(Daten!X38=0,\"\",\"von \"&Stammdaten!$D$6)","v":""},37]
["",{"$f":"IF(Daten!X39=0,\"\",Daten!W39)","v":""},null,null,null,{"$f":"IF(Daten!X39=0,\"\",Daten!X39)","v":""},{"$f":"IF(Daten!X39=0,\"\",\"von \"&Stammdaten!$D$6)","v":""},38]
["",{"$f":"IF(Daten!X40=0,\"\",Daten!W40)","v":""},null,null,null,{"$f":"IF(Daten!X40=0,\"\",Daten!X40)","v":""},{"$f":"IF(Daten!X40=0,\"\",\"von \"&Stammdaten!$D$6)","v":""},39]
["",{"$f":"IF(Daten!X41=0,\"\",Daten!W41)","v":""},null,null,null,{"$f":"IF(Daten!X41=0,\"\",Daten!X41)","v":""},{"$f":"IF(Daten!X41=0,\"\",\"von \"&Stammdaten!$D$6)","v":""},40]
["",{"$f":"IF(Daten!X42=0,\"\",Daten!W42)","v":""},null,null,null,{"$f":"IF(Daten!X42=0,\"\",Daten!X42)","v":""},{"$f":"IF(Daten!X42=0,\"\",\"von \"&Stammdaten!$D$6)","v":""},41]
["",{"$f":"IF(Daten!X43=0,\"\",Daten!W43)","v":""},null,null,null,{"$f":"IF(Daten!X43=0,\"\",Daten!X43)","v":""},{"$f":"IF(Daten!X43=0,\"\",\"von \"&Stammdaten!$D$6)","v":""},42]
["",{"$f":"IF(Daten!X44=0,\"\",Daten!W44)","v":""},null,null,null,{"$f":"IF(Daten!X44=0,\"\",Daten!X44)","v":""},{"$f":"IF(Daten!X44=0,\"\",\"von \"&Stammdaten!$D$6)","v":""},43]
["",{"$f":"IF(Daten!X45=0,\"\",Daten!W45)","v":""},null,null,null,{"$f":"IF(Daten!X45=0,\"\",Daten!X45)","v":""},{"$f":"IF(Daten!X45=0,\"\",\"von \"&Stammdaten!$D$6)","v":""},44]
["",{"$f":"IF(Daten!X46=0,\"\",Daten!W46)","v":""},null,null,null,{"$f":"IF(Daten!X46=0,\"\",Daten!X46)","v":""},{"$f":"IF(Daten!X46=0,\"\",\"von \"&Stammdaten!$D$6)","v":""},45]
["",{"$f":"IF(Daten!X47=0,\"\",Daten!W47)","v":""},null,null,null,{"$f":"IF(Daten!X47=0,\"\",Daten!X47)","v":""},{"$f":"IF(Daten!X47=0,\"\",\"von \"&Stammdaten!$D$6)","v":""},46]
["",{"$f":"IF(Daten!X48=0,\"\",Daten!W48)","v":""},null,null,null,{"$f":"IF(Daten!X48=0,\"\",Daten!X48)","v":""},{"$f":"IF(Daten!X48=0,\"\",\"von \"&Stammdaten!$D$6)","v":""},47]
["",{"$f":"IF(Daten!X49=0,\"\",Daten!W49)","v":""},null,null,null,{"$f":"IF(Daten!X49=0,\"\",Daten!X49)","v":""},{"$f":"IF(Daten!X49=0,\"\",\"von \"&Stammdaten!$D$6)","v":""},48]
["",{"$f":"IF(Daten!X50=0,\"\",Daten!W50)","v":""},null,null,null,{"$f":"IF(Daten!X50=0,\"\",Daten!X50)","v":""},{"$f":"IF(Daten!X50=0,\"\",\"von \"&Stammdaten!$D$6)","v":""},49]
["",{"$f":"IF(Daten!X51=0,\"\",Daten!W51)","v":""},null,null,null,{"$f":"IF(Daten!X51=0,\"\",Daten!X51)","v":""},{"$f":"IF(Daten!X51=0,\"\",\"von \"&Stammdaten!$D$6)","v":""},50]
["",{"$f":"IF(Daten!X52=0,\"\",Daten!W52)","v":""},null,null,null,{"$f":"IF(Daten!X52=0,\"\",Daten!X52)","v":""},{"$f":"IF(Daten!X52=0,\"\",\"von \"&Stammdaten!$D$6)","v":""},51]
["",{"$f":"IF(Daten!X53=0,\"\",Daten!W53)","v":""},null,null,null,{"$f":"IF(Daten!X53=0,\"\",Daten!X53)","v":""},{"$f":"IF(Daten!X53=0,\"\",\"von \"&Stammdaten!$D$6)","v":""},52]
["",{"$f":"IF(Daten!X54=0,\"\",Daten!W54)","v":""},null,null,null,{"$f":"IF(Daten!X54=0,\"\",Daten!X54)","v":""},{"$f":"IF(Daten!X54=0,\"\",\"von \"&Stammdaten!$D$6)","v":""},53]
["",{"$f":"IF(Daten!X55=0,\"\",Daten!W55)","v":""},null,null,null,{"$f":"IF(Daten!X55=0,\"\",Daten!X55)","v":""},{"$f":"IF(Daten!X55=0,\"\",\"von \"&Stammdaten!$D$6)","v":""},54]
["",{"$f":"IF(Daten!X56=0,\"\",Daten!W56)","v":""},null,null,null,{"$f":"IF(Daten!X56=0,\"\",Daten!X56)","v":""},{"$f":"IF(Daten!X56=0,\"\",\"von \"&Stammdaten!$D$6)","v":""},55]
["",{"$f":"IF(Daten!X57=0,\"\",Daten!W57)","v":""},null,null,null,{"$f":"IF(Daten!X57=0,\"\",Daten!X57)","v":""},{"$f":"IF(Daten!X57=0,\"\",\"von \"&Stammdaten!$D$6)","v":""},56]
["",{"$f":"IF(Daten!X58=0,\"\",Daten!W58)","v":""},null,null,null,{"$f":"IF(Daten!X58=0,\"\",Daten!X58)","v":""},{"$f":"IF(Daten!X58=0,\"\",\"von \"&Stammdaten!$D$6)","v":""},57]
["",{"$f":"IF(Daten!X59=0,\"\",Daten!W59)","v":""},null,null,null,{"$f":"IF(Daten!X59=0,\"\",Daten!X59)","v":""},{"$f":"IF(Daten!X59=0,\"\",\"von \"&Stammdaten!$D$6)","v":""},58]
["",{"$f":"IF(Daten!X60=0,\"\",Daten!W60)","v":""},null,null,null,{"$f":"IF(Daten!X60=0,\"\",Daten!X60)","v":""},{"$f":"IF(Daten!X60=0,\"\",\"von \"&Stammdaten!$D$6)","v":""},59]
["",{"$f":"IF(Daten!X61=0,\"\",Daten!W61)","v":""},null,null,null,{"$f":"IF(Daten!X61=0,\"\",Daten!X61)","v":""},{"$f":"IF(Daten!X61=0,\"\",\"von \"&Stammdaten!$D$6)","v":""},60]
["",{"$f":"IF(Daten!X62=0,\"\",Daten!W62)","v":""},null,null,null,{"$f":"IF(Daten!X62=0,\"\",Daten!X62)","v":""},{"$f":"IF(Daten!X62=0,\"\",\"von \"&Stammdaten!$D$6)","v":""},61]
["",{"$f":"IF(Daten!X63=0,\"\",Daten!W63)","v":""},null,null,null,{"$f":"IF(Daten!X63=0,\"\",Daten!X63)","v":""},{"$f":"IF(Daten!X63=0,\"\",\"von \"&Stammdaten!$D$6)","v":""},62]
["",{"$f":"IF(Daten!X64=0,\"\",Daten!W64)","v":""},null,null,null,{"$f":"IF(Daten!X64=0,\"\",Daten!X64)","v":""},{"$f":"IF(Daten!X64=0,\"\",\"von \"&Stammdaten!$D$6)","v":""},63]
["",{"$f":"IF(Daten!X65=0,\"\",Daten!W65)","v":""},null,null,null,{"$f":"IF(Daten!X65=0,\"\",Daten!X65)","v":""},{"$f":"IF(Daten!X65=0,\"\",\"von \"&Stammdaten!$D$6)","v":""},64]
["",{"$f":"IF(Daten!X66=0,\"\",Daten!W66)","v":""},null,null,null,{"$f":"IF(Daten!X66=0,\"\",Daten!X66)","v":""},{"$f":"IF(Daten!X66=0,\"\",\"von \"&Stammdaten!$D$6)","v":""},65]
["",{"$f":"IF(Daten!X67=0,\"\",Daten!W67)","v":""},null,null,null,{"$f":"IF(Daten!X67=0,\"\",Daten!X67)","v":""},{"$f":"IF(Daten!X67=0,\"\",\"von \"&Stammdaten!$D$6)","v":""},66]
[{"$f":"IF(F84=\"\",\"\",A83+1)","v":""},{"$f":"IF(Daten!X68=0,\"\",Daten!W68)","v":""},null,null,null,{"$f":"IF(Daten!X68=0,\"\",Daten!X68)","v":""},{"$f":"IF(Daten!X68=0,\"\",\"von \"&Stammdaten!$D$6)","v":""},67]
["",{"$f":"IF(Daten!X69=0,\"\",Daten!W69)","v":""},null,null,null,{"$f":"IF(Daten!X69=0,\"\",Daten!X69)","v":""},{"$f":"IF(Daten!X69=0,\"\",\"von \"&Stammdaten!$D$6)","v":""},68]
["",{"$f":"IF(Daten!X70=0,\"\",Daten!W70)","v":""},null,null,null,{"$f":"IF(Daten!X70=0,\"\",Daten!X70)","v":""},{"$f":"IF(Daten!X70=0,\"\",\"von \"&Stammdaten!$D$6)","v":""},69]
["",{"$f":"IF(Daten!X71=0,\"\",Daten!W71)","v":""},null,null,null,{"$f":"IF(Daten!X71=0,\"\",Daten!X71)","v":""},{"$f":"IF(Daten!X71=0,\"\",\"von \"&Stammdaten!$D$6)","v":""},70]
["",{"$f":"IF(Daten!X72=0,\"\",Daten!W72)","v":""},null,null,null,{"$f":"IF(Daten!X72=0,\"\",Daten!X72)","v":""},{"$f":"IF(Daten!X72=0,\"\",\"von \"&Stammdaten!$D$6)","v":""},71]
["",{"$f":"IF(Daten!X73=0,\"\",Daten!W73)","v":""},null,null,null,{"$f":"IF(Daten!X73=0,\"\",Daten!X73)","v":""},{"$f":"IF(Daten!X73=0,\"\",\"von \"&Stammdaten!$D$6)","v":""},72]
["",{"$f":"IF(Daten!X74=0,\"\",Daten!W74)","v":""},null,null,null,{"$f":"IF(Daten!X74=0,\"\",Daten!X74)","v":""},{"$f":"IF(Daten!X74=0,\"\",\"von \"&Stammdaten!$D$6)","v":""},73]
["",{"$f":"IF(Daten!X75=0,\"\",Daten!W75)","v":""},null,null,null,{"$f":"IF(Daten!X75=0,\"\",Daten!X75)","v":""},{"$f":"IF(Daten!X75=0,\"\",\"von \"&Stammdaten!$D$6)","v":""},74]
["",{"$f":"IF(Daten!X76=0,\"\",Daten!W76)","v":""},null,null,null,{"$f":"IF(Daten!X76=0,\"\",Daten!X76)","v":""},{"$f":"IF(Daten!X76=0,\"\",\"von \"&Stammdaten!$D$6)","v":""},75]
["",{"$f":"IF(Daten!X77=0,\"\",Daten!W77)","v":""},null,null,null,{"$f":"IF(Daten!X77=0,\"\",Daten!X77)","v":""},{"$f":"IF(Daten!X77=0,\"\",\"von \"&Stammdaten!$D$6)","v":""},76]
["",{"$f":"IF(Daten!X78=0,\"\",Daten!W78)","v":""},null,null,null,{"$f":"IF(Daten!X78=0,\"\",Daten!X78)","v":""},{"$f":"IF(Daten!X78=0,\"\",\"von \"&Stammdaten!$D$6)","v":""},77]
["",{"$f":"IF(Daten!X79=0,\"\",Daten!W79)","v":""},null,null,null,{"$f":"IF(Daten!X79=0,\"\",Daten!X79)","v":""},{"$f":"IF(Daten!X79=0,\"\",\"von \"&Stammdaten!$D$6)","v":""},78]
["",{"$f":"IF(Daten!X80=0,\"\",Daten!W80)","v":""},null,null,null,{"$f":"IF(Daten!X80=0,\"\",Daten!X80)","v":""},{"$f":"IF(Daten!X80=0,\"\",\"von \"&Stammdaten!$D$6)","v":""},79]
["",{"$f":"IF(Daten!X81=0,\"\",Daten!W81)","v":""},null,null,null,{"$f":"IF(Daten!X81=0,\"\",Daten!X81)","v":""},{"$f":"IF(Daten!X81=0,\"\",\"von \"&Stammdaten!$D$6)","v":""},80]
["",{"$f":"IF(Daten!X82=0,\"\",Daten!W82)","v":""},null,null,null,{"$f":"IF(Daten!X82=0,\"\",Daten!X82)","v":""},{"$f":"IF(Daten!X82=0,\"\",\"von \"&Stammdaten!$D$6)","v":""},81]
["",{"$f":"IF(Daten!X83=0,\"\",Daten!W83)","v":""},null,null,null,{"$f":"IF(Daten!X83=0,\"\",Daten!X83)","v":""},{"$f":"IF(Daten!X83=0,\"\",\"von \"&Stammdaten!$D$6)","v":""},82]
["",{"$f":"IF(Daten!X84=0,\"\",Daten!W84)","v":""},null,null,null,{"$f":"IF(Daten!X84=0,\"\",Daten!X84)","v":""},{"$f":"IF(Daten!X84=0,\"\",\"von \"&Stammdaten!$D$6)","v":""},83]
["",{"$f":"IF(Daten!X85=0,\"\",Daten!W85)","v":""},null,null,null,{"$f":"IF(Daten!X85=0,\"\",Daten!X85)","v":""},{"$f":"IF(Daten!X85=0,\"\",\"von \"&Stammdaten!$D$6)","v":""},84]
["",{"$f":"IF(Daten!X86=0,\"\",Daten!W86)","v":""},null,null,null,{"$f":"IF(Daten!X86=0,\"\",Daten!X86)","v":""},{"$f":"IF(Daten!X86=0,\"\",\"von \"&Stammdaten!$D$6)","v":""},85]
["",{"$f":"IF(Daten!X87=0,\"\",Daten!W87)","v":""},null,null,null,{"$f":"IF(Daten!X87=0,\"\",Daten!X87)","v":""},{"$f":"IF(Daten!X87=0,\"\",\"von \"&Stammdaten!$D$6)","v":""},86]
["",{"$f":"IF(Daten!X88=0,\"\",Daten!W88)","v":""},null,null,null,{"$f":"IF(Daten!X88=0,\"\",Daten!X88)","v":""},{"$f":"IF(Daten!X88=0,\"\",\"von \"&Stammdaten!$D$6)","v":""},87]
["",{"$f":"IF(Daten!X89=0,\"\",Daten!W89)","v":""},null,null,null,{"$f":"IF(Daten!X89=0,\"\",Daten!X89)","v":""},{"$f":"IF(Daten!X89=0,\"\",\"von \"&Stammdaten!$D$6)","v":""},88]
["",{"$f":"IF(Daten!X90=0,\"\",Daten!W90)","v":""},null,null,null,{"$f":"IF(Daten!X90=0,\"\",Daten!X90)","v":""},{"$f":"IF(Daten!X90=0,\"\",\"von \"&Stammdaten!$D$6)","v":""},89]
["",{"$f":"IF(Daten!X91=0,\"\",Daten!W91)","v":""},null,null,null,{"$f":"IF(Daten!X91=0,\"\",Daten!X91)","v":""},{"$f":"IF(Daten!X91=0,\"\",\"von \"&Stammdaten!$D$6)","v":""},90]
["",{"$f":"IF(Daten!X92=0,\"\",Daten!W92)","v":""},null,null,null,{"$f":"IF(Daten!X92=0,\"\",Daten!X92)","v":""},{"$f":"IF(Daten!X92=0,\"\",\"von \"&Stammdaten!$D$6)","v":""},91]
["",{"$f":"IF(Daten!X93=0,\"\",Daten!W93)","v":""},null,null,null,{"$f":"IF(Daten!X93=0,\"\",Daten!X93)","v":""},{"$f":"IF(Daten!X93=0,\"\",\"von \"&Stammdaten!$D$6)","v":""},92]
["",{"$f":"IF(Daten!X94=0,\"\",Daten!W94)","v":""},null,null,null,{"$f":"IF(Daten!X94=0,\"\",Daten!X94)","v":""},{"$f":"IF(Daten!X94=0,\"\",\"von \"&Stammdaten!$D$6)","v":""},93]
["",{"$f":"IF(Daten!X95=0,\"\",Daten!W95)","v":""},null,null,null,{"$f":"IF(Daten!X95=0,\"\",Daten!X95)","v":""},{"$f":"IF(Daten!X95=0,\"\",\"von \"&Stammdaten!$D$6)","v":""},94]
["",{"$f":"IF(Daten!X96=0,\"\",Daten!W96)","v":""},null,null,null,{"$f":"IF(Daten!X96=0,\"\",Daten!X96)","v":""},{"$f":"IF(Daten!X96=0,\"\",\"von \"&Stammdaten!$D$6)","v":""},95]
["",{"$f":"IF(Daten!X97=0,\"\",Daten!W97)","v":""},null,null,null,{"$f":"IF(Daten!X97=0,\"\",Daten!X97)","v":""},{"$f":"IF(Daten!X97=0,\"\",\"von \"&Stammdaten!$D$6)","v":""},96]
["",{"$f":"IF(Daten!X98=0,\"\",Daten!W98)","v":""},null,null,null,{"$f":"IF(Daten!X98=0,\"\",Daten!X98)","v":""},{"$f":"IF(Daten!X98=0,\"\",\"von \"&Stammdaten!$D$6)","v":""},97]
["",{"$f":"IF(Daten!X99=0,\"\",Daten!W99)","v":""},null,null,null,{"$f":"IF(Daten!X99=0,\"\",Daten!X99)","v":""},{"$f":"IF(Daten!X99=0,\"\",\"von \"&Stammdaten!$D$6)","v":""},98]
["",{"$f":"IF(Daten!X100=0,\"\",Daten!W100)","v":""},null,null,null,{"$f":"IF(Daten!X100=0,\"\",Daten!X100)","v":""},{"$f":"IF(Daten!X100=0,\"\",\"von \"&Stammdaten!$D$6)","v":""},99]
["",{"$f":"IF(Daten!X101=0,\"\",Daten!W101)","v":""},null,null,null,{"$f":"IF(Daten!X101=0,\"\",Daten!X101)","v":""},{"$f":"IF(Daten!X101=0,\"\",\"von \"&Stammdaten!$D$6)","v":""},100]
["",{"$f":"IF(Daten!X102=0,\"\",Daten!W102)","v":""},null,null,null,{"$f":"IF(Daten!X102=0,\"\",Daten!X102)","v":""},{"$f":"IF(Daten!X102=0,\"\",\"von \"&Stammdaten!$D$6)","v":""},101]
["",{"$f":"IF(Daten!X103=0,\"\",Daten!W103)","v":""},null,null,null,{"$f":"IF(Daten!X103=0,\"\",Daten!X103)","v":""},{"$f":"IF(Daten!X103=0,\"\",\"von \"&Stammdaten!$D$6)","v":""},102]
["",{"$f":"IF(Daten!X104=0,\"\",Daten!W104)","v":""},null,null,null,{"$f":"IF(Daten!X104=0,\"\",Daten!X104)","v":""},{"$f":"IF(Daten!X104=0,\"\",\"von \"&Stammdaten!$D$6)","v":""},103]
["",{"$f":"IF(Daten!X105=0,\"\",Daten!W105)","v":""},null,null,null,{"$f":"IF(Daten!X105=0,\"\",Daten!X105)","v":""},{"$f":"IF(Daten!X105=0,\"\",\"von \"&Stammdaten!$D$6)","v":""},104]
["",{"$f":"IF(Daten!X106=0,\"\",Daten!W106)","v":""},null,null,null,{"$f":"IF(Daten!X106=0,\"\",Daten!X106)","v":""},{"$f":"IF(Daten!X106=0,\"\",\"von \"&Stammdaten!$D$6)","v":""},105]
["",{"$f":"IF(Daten!X107=0,\"\",Daten!W107)","v":""},null,null,null,{"$f":"IF(Daten!X107=0,\"\",Daten!X107)","v":""},{"$f":"IF(Daten!X107=0,\"\",\"von \"&Stammdaten!$D$6)","v":""},106]
["",{"$f":"IF(Daten!X108=0,\"\",Daten!W108)","v":""},null,null,null,{"$f":"IF(Daten!X108=0,\"\",Daten!X108)","v":""},{"$f":"IF(Daten!X108=0,\"\",\"von \"&Stammdaten!$D$6)","v":""},107]
["",{"$f":"IF(Daten!X109=0,\"\",Daten!W109)","v":""},null,null,null,{"$f":"IF(Daten!X109=0,\"\",Daten!X109)","v":""},{"$f":"IF(Daten!X109=0,\"\",\"von \"&Stammdaten!$D$6)","v":""},108]
["",{"$f":"IF(Daten!X110=0,\"\",Daten!W110)","v":""},null,null,null,{"$f":"IF(Daten!X110=0,\"\",Daten!X110)","v":""},{"$f":"IF(Daten!X110=0,\"\",\"von \"&Stammdaten!$D$6)","v":""},109]
["",{"$f":"IF(Daten!X111=0,\"\",Daten!W111)","v":""},null,null,null,{"$f":"IF(Daten!X111=0,\"\",Daten!X111)","v":""},{"$f":"IF(Daten!X111=0,\"\",\"von \"&Stammdaten!$D$6)","v":""},110]
["",{"$f":"IF(Daten!X112=0,\"\",Daten!W112)","v":""},null,null,null,{"$f":"IF(Daten!X112=0,\"\",Daten!X112)","v":""},{"$f":"IF(Daten!X112=0,\"\",\"von \"&Stammdaten!$D$6)","v":""},111]
["",{"$f":"IF(Daten!X113=0,\"\",Daten!W113)","v":""},null,null,null,{"$f":"IF(Daten!X113=0,\"\",Daten!X113)","v":""},{"$f":"IF(Daten!X113=0,\"\",\"von \"&Stammdaten!$D$6)","v":""},112]
["",{"$f":"IF(Daten!X114=0,\"\",Daten!W114)","v":""},null,null,null,{"$f":"IF(Daten!X114=0,\"\",Daten!X114)","v":""},{"$f":"IF(Daten!X114=0,\"\",\"von \"&Stammdaten!$D$6)","v":""},113]
["",{"$f":"IF(Daten!X115=0,\"\",Daten!W115)","v":""},null,null,null,{"$f":"IF(Daten!X115=0,\"\",Daten!X115)","v":""},{"$f":"IF(Daten!X115=0,\"\",\"von \"&Stammdaten!$D$6)","v":""},114]
["",{"$f":"IF(Daten!X116=0,\"\",Daten!W116)","v":""},null,null,null,{"$f":"IF(Daten!X116=0,\"\",Daten!X116)","v":""},{"$f":"IF(Daten!X116=0,\"\",\"von \"&Stammdaten!$D$6)","v":""},115]
["",{"$f":"IF(Daten!X117=0,\"\",Daten!W117)","v":""},null,null,null,{"$f":"IF(Daten!X117=0,\"\",Daten!X117)","v":""},{"$f":"IF(Daten!X117=0,\"\",\"von \"&Stammdaten!$D$6)","v":""},116]
["",{"$f":"IF(Daten!X118=0,\"\",Daten!W118)","v":""},null,null,null,{"$f":"IF(Daten!X118=0,\"\",Daten!X118)","v":""},{"$f":"IF(Daten!X118=0,\"\",\"von \"&Stammdaten!$D$6)","v":""},117]
["",{"$f":"IF(Daten!X119=0,\"\",Daten!W119)","v":""},null,null,null,{"$f":"IF(Daten!X119=0,\"\",Daten!X119)","v":""},{"$f":"IF(Daten!X119=0,\"\",\"von \"&Stammdaten!$D$6)","v":""},118]
["",{"$f":"IF(Daten!X120=0,\"\",Daten!W120)","v":""},null,null,null,{"$f":"IF(Daten!X120=0,\"\",Daten!X120)","v":""},{"$f":"IF(Daten!X120=0,\"\",\"von \"&Stammdaten!$D$6)","v":""},119]
["",{"$f":"IF(Daten!X121=0,\"\",Daten!W121)","v":""},null,null,null,{"$f":"IF(Daten!X121=0,\"\",Daten!X121)","v":""},{"$f":"IF(Daten!X121=0,\"\",\"von \"&Stammdaten!$D$6)","v":""},120]
["",{"$f":"IF(Daten!X122=0,\"\",Daten!W122)","v":""},null,null,null,{"$f":"IF(Daten!X122=0,\"\",Daten!X122)","v":""},{"$f":"IF(Daten!X122=0,\"\",\"von \"&Stammdaten!$D$6)","v":""},121]
["",{"$f":"IF(Daten!X123=0,\"\",Daten!W123)","v":""},null,null,null,{"$f":"IF(Daten!X123=0,\"\",Daten!X123)","v":""},{"$f":"IF(Daten!X123=0,\"\",\"von \"&Stammdaten!$D$6)","v":""},122]
["",{"$f":"IF(Daten!X124=0,\"\",Daten!W124)","v":""},null,null,null,{"$f":"IF(Daten!X124=0,\"\",Daten!X124)","v":""},{"$f":"IF(Daten!X124=0,\"\",\"von \"&Stammdaten!$D$6)","v":""},123]
["",{"$f":"IF(Daten!X125=0,\"\",Daten!W125)","v":""},null,null,null,{"$f":"IF(Daten!X125=0,\"\",Daten!X125)","v":""},{"$f":"IF(Daten!X125=0,\"\",\"von \"&Stammdaten!$D$6)","v":""},124]
["",{"$f":"IF(Daten!X126=0,\"\",Daten!W126)","v":""},null,null,null,{"$f":"IF(Daten!X126=0,\"\",Daten!X126)","v":""},{"$f":"IF(Daten!X126=0,\"\",\"von \"&Stammdaten!$D$6)","v":""},125]
["",{"$f":"IF(Daten!X127=0,\"\",Daten!W127)","v":""},null,null,null,{"$f":"IF(Daten!X127=0,\"\",Daten!X127)","v":""},{"$f":"IF(Daten!X127=0,\"\",\"von \"&Stammdaten!$D$6)","v":""},126]
["",{"$f":"IF(Daten!X128=0,\"\",Daten!W128)","v":""},null,null,null,{"$f":"IF(Daten!X128=0,\"\",Daten!X128)","v":""},{"$f":"IF(Daten!X128=0,\"\",\"von \"&Stammdaten!$D$6)","v":""},127]
["",{"$f":"IF(Daten!X129=0,\"\",Daten!W129)","v":""},null,null,null,{"$f":"IF(Daten!X129=0,\"\",Daten!X129)","v":""},{"$f":"IF(Daten!X129=0,\"\",\"von \"&Stammdaten!$D$6)","v":""},128]
["",{"$f":"IF(Daten!X130=0,\"\",Daten!W130)","v":""},null,null,null,{"$f":"IF(Daten!X130=0,\"\",Daten!X130)","v":""},{"$f":"IF(Daten!X130=0,\"\",\"von \"&Stammdaten!$D$6)","v":""},129]
["",{"$f":"IF(Daten!X131=0,\"\",Daten!W131)","v":""},null,null,null,{"$f":"IF(Daten!X131=0,\"\",Daten!X131)","v":""},{"$f":"IF(Daten!X131=0,\"\",\"von \"&Stammdaten!$D$6)","v":""},130]
[{"$f":"IF(F148=\"\",\"\",A147+1)","v":""},{"$f":"IF(Daten!X132=0,\"\",Daten!W132)","v":""},null,null,null,{"$f":"IF(Daten!X132=0,\"\",Daten!X132)","v":""},{"$f":"IF(Daten!X132=0,\"\",\"von \"&Stammdaten!$D$6)","v":""},131]
["",{"$f":"IF(Daten!X133=0,\"\",Daten!W133)","v":""},null,null,null,{"$f":"IF(Daten!X133=0,\"\",Daten!X133)","v":""},{"$f":"IF(Daten!X133=0,\"\",\"von \"&Stammdaten!$D$6)","v":""},132]
["",{"$f":"IF(Daten!X134=0,\"\",Daten!W134)","v":""},null,null,null,{"$f":"IF(Daten!X134=0,\"\",Daten!X134)","v":""},{"$f":"IF(Daten!X134=0,\"\",\"von \"&Stammdaten!$D$6)","v":""},133]
["",{"$f":"IF(Daten!X135=0,\"\",Daten!W135)","v":""},null,null,null,{"$f":"IF(Daten!X135=0,\"\",Daten!X135)","v":""},{"$f":"IF(Daten!X135=0,\"\",\"von \"&Stammdaten!$D$6)","v":""},134]
["",{"$f":"IF(Daten!X136=0,\"\",Daten!W136)","v":""},null,null,null,{"$f":"IF(Daten!X136=0,\"\",Daten!X136)","v":""},{"$f":"IF(Daten!X136=0,\"\",\"von \"&Stammdaten!$D$6)","v":""},135]
["",{"$f":"IF(Daten!X137=0,\"\",Daten!W137)","v":""},null,null,null,{"$f":"IF(Daten!X137=0,\"\",Daten!X137)","v":""},{"$f":"IF(Daten!X137=0,\"\",\"von \"&Stammdaten!$D$6)","v":""},136]
["",{"$f":"IF(Daten!X138=0,\"\",Daten!W138)","v":""},null,null,null,{"$f":"IF(Daten!X138=0,\"\",Daten!X138)","v":""},{"$f":"IF(Daten!X138=0,\"\",\"von \"&Stammdaten!$D$6)","v":""},137]
["",{"$f":"IF(Daten!X139=0,\"\",Daten!W139)","v":""},null,null,null,{"$f":"IF(Daten!X139=0,\"\",Daten!X139)","v":""},{"$f":"IF(Daten!X139=0,\"\",\"von \"&Stammdaten!$D$6)","v":""},138]
["",{"$f":"IF(Daten!X140=0,\"\",Daten!W140)","v":""},null,null,null,{"$f":"IF(Daten!X140=0,\"\",Daten!X140)","v":""},{"$f":"IF(Daten!X140=0,\"\",\"von \"&Stammdaten!$D$6)","v":""},139]
["",{"$f":"IF(Daten!X141=0,\"\",Daten!W141)","v":""},null,null,null,{"$f":"IF(Daten!X141=0,\"\",Daten!X141)","v":""},{"$f":"IF(Daten!X141=0,\"\",\"von \"&Stammdaten!$D$6)","v":""},140]
["",{"$f":"IF(Daten!X142=0,\"\",Daten!W142)","v":""},null,null,null,{"$f":"IF(Daten!X142=0,\"\",Daten!X142)","v":""},{"$f":"IF(Daten!X142=0,\"\",\"von \"&Stammdaten!$D$6)","v":""},141]
["",{"$f":"IF(Daten!X143=0,\"\",Daten!W143)","v":""},null,null,null,{"$f":"IF(Daten!X143=0,\"\",Daten!X143)","v":""},{"$f":"IF(Daten!X143=0,\"\",\"von \"&Stammdaten!$D$6)","v":""},142]
["",{"$f":"IF(Daten!X144=0,\"\",Daten!W144)","v":""},null,null,null,{"$f":"IF(Daten!X144=0,\"\",Daten!X144)","v":""},{"$f":"IF(Daten!X144=0,\"\",\"von \"&Stammdaten!$D$6)","v":""},143]
["",{"$f":"IF(Daten!X145=0,\"\",Daten!W145)","v":""},null,null,null,{"$f":"IF(Daten!X145=0,\"\",Daten!X145)","v":""},{"$f":"IF(Daten!X145=0,\"\",\"von \"&Stammdaten!$D$6)","v":""},144]
["",{"$f":"IF(Daten!X146=0,\"\",Daten!W146)","v":""},null,null,null,{"$f":"IF(Daten!X146=0,\"\",Daten!X146)","v":""},{"$f":"IF(Daten!X146=0,\"\",\"von \"&Stammdaten!$D$6)","v":""},145]
["",{"$f":"IF(Daten!X147=0,\"\",Daten!W147)","v":""},null,null,null,{"$f":"IF(Daten!X147=0,\"\",Daten!X147)","v":""},{"$f":"IF(Daten!X147=0,\"\",\"von \"&Stammdaten!$D$6)","v":""},146]
["",{"$f":"IF(Daten!X148=0,\"\",Daten!W148)","v":""},null,null,null,{"$f":"IF(Daten!X148=0,\"\",Daten!X148)","v":""},{"$f":"IF(Daten!X148=0,\"\",\"von \"&Stammdaten!$D$6)","v":""},147]
["",{"$f":"IF(Daten!X149=0,\"\",Daten!W149)","v":""},null,null,null,{"$f":"IF(Daten!X149=0,\"\",Daten!X149)","v":""},{"$f":"IF(Daten!X149=0,\"\",\"von \"&Stammdaten!$D$6)","v":""},148]
["",{"$f":"IF(Daten!X150=0,\"\",Daten!W150)","v":""},null,null,null,{"$f":"IF(Daten!X150=0,\"\",Daten!X150)","v":""},{"$f":"IF(Daten!X150=0,\"\",\"von \"&Stammdaten!$D$6)","v":""},149]
["",{"$f":"IF(Daten!X151=0,\"\",Daten!W151)","v":""},null,null,null,{"$f":"IF(Daten!X151=0,\"\",Daten!X151)","v":""},{"$f":"IF(Daten!X151=0,\"\",\"von \"&Stammdaten!$D$6)","v":""},150]

{"sheet":"Urkunde-Platz 1","index":7,"n_rows":39,"n_cols":13,"rows_kept":39,"cut":false,"hidden":false,"merged":[[13,2,16,15],[38,12,40,16],[25,2,25,14],[26,2,26,15],[27,2,27,15],[28,2,28,15],[29,2,29,15],[30,2,30,15],[31,2,31,15],[32,2,32,15],[33,2,33,15],[34,2,34,15],[37,9,37,16]]}
[]
[]
[]
[]
[]
[]
[]
[]
[]
[]
[]
[]
[]
[null,null,{"$f":"IF(Stammdaten!$C$11=\"\",\"\",Stammdaten!$C$11)","v":""}]
[]
[]
[]
[]
[]
[]
[]
[]
[]
[]
[]
[]
[]
[]
[]
[null,null,{"$f":"CONCATENATE(\"Hiermit verleiht der Schützenverein \",Stammdaten!$C$5)","v":"Hiermit verleiht der Schützenverein "}]
[null,null,{"$f":"IF(Daten!W2=\"\",\"\",Daten!W2)","v":""}]
[null,null,"den 1. Platz"]
[null,null,"mit einer Trefferleistung von"]
[null,null,{"$f":"IF(Daten!X2=0,\"\",Daten!X2)","v":""}]
[null,null,"diese Urkunde"]
[]
[]
[null,null,null,null,null,null,null,null,null,{"$f":"IF(Stammdaten!$C$4=\"\",\"\",CONCATENATE(Stammdaten!$C$5,\", den\",\" \",TEXT(Stammdaten!$C$4,\"TT.MM.JJJJ\")))","v":""}]
[null,null,null,null,null,null,null,null,null,null,null,null,{"$f":"CONCATENATE(Stammdaten!$C$10)","v":""}]

{"sheet":"Urkunde-Platz 2","index":8,"n_rows":39,"n_cols":13,"rows_kept":39,"cut":false,"hidden":false,"merged":[[13,2,16,15],[38,12,40,16],[25,2,25,14],[26,2,26,15],[27,2,27,15],[28,2,28,15],[29,2,29,15],[30,2,30,15],[31,2,31,15],[32,2,32,15],[33,2,33,15],[34,2,34,15],[37,9,37,16]]}
[]
[]
[]
[]
[]
[]
[]
[]
[]
[]
[]
[]
[]
[null,null,{"$f":"IF(Stammdaten!$C$11=\"\",\"\",Stammdaten!$C$11)","v":""}]
[]
[]
[]
[]
[]
[]
[]
[]
[]
[]
[]
[]
[]
[]
[]
[null,null,{"$f":"CONCATENATE(\"Hiermit verleiht der Schützenverein \",Stammdaten!$C$5)","v":"Hiermit verleiht der Schützenverein "}]
[null,null,{"$f":"IF(Daten!$W$3=\"\",\"\",Daten!$W$3)","v":""}]
[null,null,"den 2. Platz"]
[null,null,"mit einer Trefferleistung von"]
[null,null,{"$f":"IF(Daten!X3=0,\"\",Daten!X3)","v":""}]
[null,null,"diese Urkunde"]
[]
[]
[null,null,null,null,null,null,null,null,null,{"$f":"IF(Stammdaten!$C$4=\"\",\"\",CONCATENATE(Stammdaten!$C$5,\", den\",\" \",TEXT(Stammdaten!$C$4,\"TT.MM.JJJJ\")))","v":""}]
[null,null,null,null,null,null,null,null,null,null,null,null,{"$f":"CONCATENATE(Stammdaten!$C$10)","v":""}]

{"sheet":"Urkunde-Platz 3","index":9,"n_rows":39,"n_cols":13,"rows_kept":39,"cut":false,"hidden":false,"merged":[[13,2,16,15],[38,12,40,16],[25,2,25,14],[26,2,26,15],[27,2,27,15],[28,2,28,15],[29,2,29,15],[30,2,30,15],[31,2,31,15],[32,2,32,15],[33,2,33,15],[34,2,34,15],[37,9,37,16]]}
[]
[]
[]
[]
[]
[]
[]
[]
[]
[]
[]
[]
[]
[null,null,{"$f":"IF(Stammdaten!$C$11=\"\",\"\",Stammdaten!$C$11)","v":""}]
[]
[]
[]
[]
[]
[]
[]
[]
[]
[]
[]
[]
[]
[]
[]
[null,null,{"$f":"CONCATENATE(\"Hiermit verleiht der Schützenverein \",Stammdaten!$C$5)","v":"Hiermit verleiht der Schützenverein "}]
[null,null,{"$f":"IF(Daten!$W$4=\"\",\"\",Daten!$W$4)","v":""}]
[null,null,"den 3. Platz"]
[null,null,"mit einer Trefferleistung von"]
[null,null,{"$f":"IF(Daten!$X$4=0,\"\",Daten!$X$4)","v":""}]
[null,null,"diese Urkunde"]
[]
[]
[null,null,null,null,null,null,null,null,null,{"$f":"IF(Stammdaten!$C$4=\"\",\"\",CONCATENATE(Stammdaten!$C$5,\", den\",\" \",TEXT(Stammdaten!$C$4,\"TT.MM.JJJJ\")))","v":""}]
[null,null,null,null,null,null,null,null,null,null,null,null,{"$f":"CONCATENATE(Stammdaten!$C$10)","v":""}]

{"sheet":"Ergebnis mit Klassen","index":10,"n_rows":167,"n_cols":9,"rows_kept":167,"cut":false,"hidden":false,"merged":[[20,2,20,5],[21,2,21,5],[22,2,22,5],[23,2,23,5],[16,2,16,5],[17,2,17,5],[18,2,18,5],[19,2,19,5],[14,0,15,7],[44,2,44,5],[45,2,45,5],[46,2,46,5],[40,2,40,5],[41,2,41,5],[42,2,42,5],[43,2,43,5],[36,2,36,5],[37,2,37,5],[38,2,38,5],[39,2,39,5],[32,2,32,5],[33,2,33,5],[34,2,34,5],[35,2,35,5],[28,2,28,5],[29,2,29,5],[30,2,30,5],[31,2,31,5],[24,2,24,5],[25,2,25,5],[26,2,26,5],[27,2,27,5],[52,2,52,5],[53,2,53,5],[54,2,54,5],[55,2,55,5],[56,2,56,5],[47,2,47,5],[48,2,48,5],[49,2,49,5],[50,2,50,5],[51,2,51,5],[62,2,62,5],[63,2,63,5],[64,2,64,5],[65,2,65,5],[66,2,66,5],[57,2,57,5],[58,2,58,5],[59,2,59,5],[60,2,60,5],[61,2,61,5],[72,2,72,5],[73,2,73,5],[74,2,74,5],[75,2,75,5],[76,2,76,5],[67,2,67,5],[68,2,68,5],[69,2,69,5],[70,2,70,5],[71,2,71,5],[82,2,82,5],[83,2,83,5],[84,2,84,5],[85,2,85,5],[86,2,86,5],[77,2,77,5],[78,2,78,5],[79,2,79,5],[80,2,80,5],[81,2,81,5],[92,2,92,5],[93,2,93,5],[94,2,94,5],[95,2,95,5],[96,2,96,5],[87,2,87,5],[88,2,88,5],[89,2,89,5],[90,2,90,5],[91,2,91,5],[102,2,102,5],[103,2,103,5],[104,2,104,5],[105,2,105,5],[106,2,106,5],[97,2,97,5],[98,2,98,5],[99,2,99,5],[100,2,100,5],[101,2,101,5],[112,2,112,5],[113,2,113,5],[114,2,114,5],[115,2,115,5],[116,2,116,5],[107,2,107,5],[108,2,108,5],[109,2,109,5],[110,2,110,5],[111,2,111,5],[122,2,122,5],[123,2,123,5],[124,2,124,5],[125,2,125,5],[126,2,126,5],[117,2,117,5],[118,2,118,5],[119,2,119,5],[120,2,120,5],[121,2,121,5],[132,2,132,5],[133,2,133,5],[134,2,134,5],[135,2,135,5],[136,2,136,5],[127,2,127,5],[128,2,128,5],[129,2,129,5],[130,2,130,5],[131,2,131,5],[142,2,142,5],[143,2,143,5],[144,2,144,5],[145,2,145,5],[146,2,146,5],[137,2,137,5],[138,2,138,5],[139,2,139,5],[140,2,140,5],[141,2,141,5],[152,2,152,5],[153,2,153,5],[154,2,154,5],[155,2,155,5],[156,2,156,5],[147,2,147,5],[148,2,148,5],[149,2,149,5],[150,2,150,5],[151,2,151,5],[162,2,162,5],[163,2,163,5],[164,2,164,5],[165,2,165,5],[166,2,166,5],[157,2,157,5],[158,2,158,5],[159,2,159,5],[160,2,160,5],[161,2,161,5]]}
[]
[]
[]
[]
[]
[]
[]
[]
[]
[]
[]
[]
[]
[]
[{"$f":"IF(Stammdaten!$C$4=\"\",\"\",CONCATENATE(TEXT(Stammdaten!$C$4,\"TT.MM.JJJJ\"),\" \",\"in \",Stammdaten!$C$5,\" \"\"\",Stammdaten!C11,\"\"\"\"))","v":""}]
[]
["Klasse:","Platz:","Name:",null,null,null,"Treffer:"]
[{"$f":"IF(Daten!D2=\"\",\"\",Daten!D2)","v":0},{"$f":"IF(A18,1,\"\")","v":""},{"$f":"IF(Daten!C2=0,\"\",Daten!B2)","v":""},null,null,null,{"$f":"IF(Daten!C2=0,\"\",Daten!C2)","v":""},{"$f":"IF(Daten!C2=0,\"\",\"von \"&Stammdaten!$D$6)","v":""},1]
[{"$f":"IF(Daten!D3=\"\",\"\",Daten!D3)","v":0},{"$f":"IF(A19=0,\"\",IF(A19<>A18,1,B18+1))","v":""},{"$f":"IF(Daten!C3=0,\"\",Daten!B3)","v":""},null,null,null,{"$f":"IF(Daten!C3=0,\"\",Daten!C3)","v":""},{"$f":"IF(Daten!C3=0,\"\",\"von \"&Stammdaten!$D$6)","v":""},2]
[{"$f":"IF(Daten!D4=\"\",\"\",Daten!D4)","v":0},{"$f":"IF(A20=0,\"\",IF(A20<>A19,1,B19+1))","v":""},{"$f":"IF(Daten!C4=0,\"\",Daten!B4)","v":""},null,null,null,{"$f":"IF(Daten!C4=0,\"\",Daten!C4)","v":""},{"$f":"IF(Daten!C4=0,\"\",\"von \"&Stammdaten!$D$6)","v":""},3]
[{"$f":"IF(Daten!D5=\"\",\"\",Daten!D5)","v":0},"",{"$f":"IF(Daten!C5=0,\"\",Daten!B5)","v":""},null,null,null,{"$f":"IF(Daten!C5=0,\"\",Daten!C5)","v":""},{"$f":"IF(Daten!C5=0,\"\",\"von \"&Stammdaten!$D$6)","v":""},4]
[{"$f":"IF(Daten!D6=\"\",\"\",Daten!D6)","v":0},"",{"$f":"IF(Daten!C6=0,\"\",Daten!B6)","v":""},null,null,null,{"$f":"IF(Daten!C6=0,\"\",Daten!C6)","v":""},{"$f":"IF(Daten!C6=0,\"\",\"von \"&Stammdaten!$D$6)","v":""},5]
[{"$f":"IF(Daten!D7=\"\",\"\",Daten!D7)","v":0},"",{"$f":"IF(Daten!C7=0,\"\",Daten!B7)","v":""},null,null,null,{"$f":"IF(Daten!C7=0,\"\",Daten!C7)","v":""},{"$f":"IF(Daten!C7=0,\"\",\"von \"&Stammdaten!$D$6)","v":""},6]
[{"$f":"IF(Daten!D8=\"\",\"\",Daten!D8)","v":0},"",{"$f":"IF(Daten!C8=0,\"\",Daten!B8)","v":""},null,null,null,{"$f":"IF(Daten!C8=0,\"\",Daten!C8)","v":""},{"$f":"IF(Daten!C8=0,\"\",\"von \"&Stammdaten!$D$6)","v":""},7]
[{"$f":"IF(Daten!D9=\"\",\"\",Daten!D9)","v":0},"",{"$f":"IF(Daten!C9=0,\"\",Daten!B9)","v":""},null,null,null,{"$f":"IF(Daten!C9=0,\"\",Daten!C9)","v":""},{"$f":"IF(Daten!C9=0,\"\",\"von \"&Stammdaten!$D$6)","v":""},8]
[{"$f":"IF(Daten!D10=\"\",\"\",Daten!D10)","v":0},"",{"$f":"IF(Daten!C10=0,\"\",Daten!B10)","v":""},null,null,null,{"$f":"IF(Daten!C10=0,\"\",Daten!C10)","v":""},{"$f":"IF(Daten!C10=0,\"\",\"von \"&Stammdaten!$D$6)","v":""},9]
[{"$f":"IF(Daten!D11=\"\",\"\",Daten!D11)","v":0},"",{"$f":"IF(Daten!C11=0,\"\",Daten!B11)","v":""},null,null,null,{"$f":"IF(Daten!C11=0,\"\",Daten!C11)","v":""},{"$f":"IF(Daten!C11=0,\"\",\"von \"&Stammdaten!$D$6)","v":""},10]
[{"$f":"IF(Daten!D12=\"\",\"\",Daten!D12)","v":0},"",{"$f":"IF(Daten!C12=0,\"\",Daten!B12)","v":""},null,null,null,{"$f":"IF(Daten!C12=0,\"\",Daten!C12)","v":""},{"$f":"IF(Daten!C12=0,\"\",\"von \"&Stammdaten!$D$6)","v":""},11]
[{"$f":"IF(Daten!D13=\"\",\"\",Daten!D13)","v":0},"",{"$f":"IF(Daten!C13=0,\"\",Daten!B13)","v":""},null,null,null,{"$f":"IF(Daten!C13=0,\"\",Daten!C13)","v":""},{"$f":"IF(Daten!C13=0,\"\",\"von \"&Stammdaten!$D$6)","v":""},12]
[{"$f":"IF(Daten!D14=\"\",\"\",Daten!D14)","v":0},"",{"$f":"IF(Daten!C14=0,\"\",Daten!B14)","v":""},null,null,null,{"$f":"IF(Daten!C14=0,\"\",Daten!C14)","v":""},{"$f":"IF(Daten!C14=0,\"\",\"von \"&Stammdaten!$D$6)","v":""},13]
[{"$f":"IF(Daten!D15=\"\",\"\",Daten!D15)","v":0},"",{"$f":"IF(Daten!C15=0,\"\",Daten!B15)","v":""},null,null,null,{"$f":"IF(Daten!C15=0,\"\",Daten!C15)","v":""},{"$f":"IF(Daten!C15=0,\"\",\"von \"&Stammdaten!$D$6)","v":""},14]
[{"$f":"IF(Daten!D16=\"\",\"\",Daten!D16)","v":0},"",{"$f":"IF(Daten!C16=0,\"\",Daten!B16)","v":""},null,null,null,{"$f":"IF(Daten!C16=0,\"\",Daten!C16)","v":""},{"$f":"IF(Daten!C16=0,\"\",\"von \"&Stammdaten!$D$6)","v":""},15]
[{"$f":"IF(Daten!D17=\"\",\"\",Daten!D17)","v":0},"",{"$f":"IF(Daten!C17=0,\"\",Daten!B17)","v":""},null,null,null,{"$f":"IF(Daten!C17=0,\"\",Daten!C17)","v":""},{"$f":"IF(Daten!C17=0,\"\",\"von \"&Stammdaten!$D$6)","v":""},16]
[{"$f":"IF(Daten!D18=\"\",\"\",Daten!D18)","v":0},"",{"$f":"IF(Daten!C18=0,\"\",Daten!B18)","v":""},null,null,null,{"$f":"IF(Daten!C18=0,\"\",Daten!C18)","v":""},{"$f":"IF(Daten!C18=0,\"\",\"von \"&Stammdaten!$D$6)","v":""},17]
[{"$f":"IF(Daten!D19=\"\",\"\",Daten!D19)","v":0},"",{"$f":"IF(Daten!C19=0,\"\",Daten!B19)","v":""},null,null,null,{"$f":"IF(Daten!C19=0,\"\",Daten!C19)","v":""},{"$f":"IF(Daten!C19=0,\"\",\"von \"&Stammdaten!$D$6)","v":""},18]
[{"$f":"IF(Daten!D20=\"\",\"\",Daten!D20)","v":0},"",{"$f":"IF(Daten!C20=0,\"\",Daten!B20)","v":""},null,null,null,{"$f":"IF(Daten!C20=0,\"\",Daten!C20)","v":""},{"$f":"IF(Daten!C20=0,\"\",\"von \"&Stammdaten!$D$6)","v":""},19]
[{"$f":"IF(Daten!D21=\"\",\"\",Daten!D21)","v":0},"",{"$f":"IF(Daten!C21=0,\"\",Daten!B21)","v":""},null,null,null,{"$f":"IF(Daten!C21=0,\"\",Daten!C21)","v":""},{"$f":"IF(Daten!C21=0,\"\",\"von \"&Stammdaten!$D$6)","v":""},20]
[{"$f":"IF(Daten!D22=\"\",\"\",Daten!D22)","v":0},"",{"$f":"IF(Daten!C22=0,\"\",Daten!B22)","v":""},null,null,null,{"$f":"IF(Daten!C22=0,\"\",Daten!C22)","v":""},{"$f":"IF(Daten!C22=0,\"\",\"von \"&Stammdaten!$D$6)","v":""},21]
[{"$f":"IF(Daten!D23=\"\",\"\",Daten!D23)","v":0},"",{"$f":"IF(Daten!C23=0,\"\",Daten!B23)","v":""},null,null,null,{"$f":"IF(Daten!C23=0,\"\",Daten!C23)","v":""},{"$f":"IF(Daten!C23=0,\"\",\"von \"&Stammdaten!$D$6)","v":""},22]
[{"$f":"IF(Daten!D24=\"\",\"\",Daten!D24)","v":0},"",{"$f":"IF(Daten!C24=0,\"\",Daten!B24)","v":""},null,null,null,{"$f":"IF(Daten!C24=0,\"\",Daten!C24)","v":""},{"$f":"IF(Daten!C24=0,\"\",\"von \"&Stammdaten!$D$6)","v":""},23]
[{"$f":"IF(Daten!D25=\"\",\"\",Daten!D25)","v":0},"",{"$f":"IF(Daten!C25=0,\"\",Daten!B25)","v":""},null,null,null,{"$f":"IF(Daten!C25=0,\"\",Daten!C25)","v":""},{"$f":"IF(Daten!C25=0,\"\",\"von \"&Stammdaten!$D$6)","v":""},24]
[{"$f":"IF(Daten!D26=\"\",\"\",Daten!D26)","v":0},"",{"$f":"IF(Daten!C26=0,\"\",Daten!B26)","v":""},null,null,null,{"$f":"IF(Daten!C26=0,\"\",Daten!C26)","v":""},{"$f":"IF(Daten!C26=0,\"\",\"von \"&Stammdaten!$D$6)","v":""},25]
[{"$f":"IF(Daten!D27=\"\",\"\",Daten!D27)","v":0},"",{"$f":"IF(Daten!C27=0,\"\",Daten!B27)","v":""},null,null,null,{"$f":"IF(Daten!C27=0,\"\",Daten!C27)","v":""},{"$f":"IF(Daten!C27=0,\"\",\"von \"&Stammdaten!$D$6)","v":""},26]
[{"$f":"IF(Daten!D28=\"\",\"\",Daten!D28)","v":0},"",{"$f":"IF(Daten!C28=0,\"\",Daten!B28)","v":""},null,null,null,{"$f":"IF(Daten!C28=0,\"\",Daten!C28)","v":""},{"$f":"IF(Daten!C28=0,\"\",\"von \"&Stammdaten!$D$6)","v":""},27]
[{"$f":"IF(Daten!D29=\"\",\"\",Daten!D29)","v":0},"",{"$f":"IF(Daten!C29=0,\"\",Daten!B29)","v":""},null,null,null,{"$f":"IF(Daten!C29=0,\"\",Daten!C29)","v":""},{"$f":"IF(Daten!C29=0,\"\",\"von \"&Stammdaten!$D$6)","v":""},28]
[{"$f":"IF(Daten!D30=\"\",\"\",Daten!D30)","v":0},"",{"$f":"IF(Daten!C30=0,\"\",Daten!B30)","v":""},null,null,null,{"$f":"IF(Daten!C30=0,\"\",Daten!C30)","v":""},{"$f":"IF(Daten!C30=0,\"\",\"von \"&Stammdaten!$D$6)","v":""},29]
[{"$f":"IF(Daten!D31=\"\",\"\",Daten!D31)","v":0},"",{"$f":"IF(Daten!C31=0,\"\",Daten!B31)","v":""},null,null,null,{"$f":"IF(Daten!C31=0,\"\",Daten!C31)","v":""},{"$f":"IF(Daten!C31=0,\"\",\"von \"&Stammdaten!$D$6)","v":""},30]
[{"$f":"IF(Daten!D32=\"\",\"\",Daten!D32)","v":0},{"$f":"IF(A48=0,\"\",IF(A48<>A47,1,B47+1))","v":""},{"$f":"IF(Daten!C32=0,\"\",Daten!B32)","v":""},null,null,null,{"$f":"IF(Daten!C32=0,\"\",Daten!C32)","v":""},{"$f":"IF(Daten!C32=0,\"\",\"von \"&Stammdaten!$D$6)","v":""},31]
[{"$f":"IF(Daten!D33=\"\",\"\",Daten!D33)","v":0},"",{"$f":"IF(Daten!C33=0,\"\",Daten!B33)","v":""},null,null,null,{"$f":"IF(Daten!C33=0,\"\",Daten!C33)","v":""},{"$f":"IF(Daten!C33=0,\"\",\"von \"&Stammdaten!$D$6)","v":""},32]
[{"$f":"IF(Daten!D34=\"\",\"\",Daten!D34)","v":0},"",{"$f":"IF(Daten!C34=0,\"\",Daten!B34)","v":""},null,null,null,{"$f":"IF(Daten!C34=0,\"\",Daten!C34)","v":""},{"$f":"IF(Daten!C34=0,\"\",\"von \"&Stammdaten!$D$6)","v":""},33]
[{"$f":"IF(Daten!D35=\"\",\"\",Daten!D35)","v":0},"",{"$f":"IF(Daten!C35=0,\"\",Daten!B35)","v":""},null,null,null,{"$f":"IF(Daten!C35=0,\"\",Daten!C35)","v":""},{"$f":"IF(Daten!C35=0,\"\",\"von \"&Stammdaten!$D$6)","v":""},34]
[{"$f":"IF(Daten!D36=\"\",\"\",Daten!D36)","v":0},"",{"$f":"IF(Daten!C36=0,\"\",Daten!B36)","v":""},null,null,null,{"$f":"IF(Daten!C36=0,\"\",Daten!C36)","v":""},{"$f":"IF(Daten!C36=0,\"\",\"von \"&Stammdaten!$D$6)","v":""},35]
[{"$f":"IF(Daten!D37=\"\",\"\",Daten!D37)","v":0},"",{"$f":"IF(Daten!C37=0,\"\",Daten!B37)","v":""},null,null,null,{"$f":"IF(Daten!C37=0,\"\",Daten!C37)","v":""},{"$f":"IF(Daten!C37=0,\"\",\"von \"&Stammdaten!$D$6)","v":""},36]
[{"$f":"IF(Daten!D38=\"\",\"\",Daten!D38)","v":0},"",{"$f":"IF(Daten!C38=0,\"\",Daten!B38)","v":""},null,null,null,{"$f":"IF(Daten!C38=0,\"\",Daten!C38)","v":""},{"$f":"IF(Daten!C38=0,\"\",\"von \"&Stammdaten!$D$6)","v":""},37]
[{"$f":"IF(Daten!D39=\"\",\"\",Daten!D39)","v":0},"",{"$f":"IF(Daten!C39=0,\"\",Daten!B39)","v":""},null,null,null,{"$f":"IF(Daten!C39=0,\"\",Daten!C39)","v":""},{"$f":"IF(Daten!C39=0,\"\",\"von \"&Stammdaten!$D$6)","v":""},38]
[{"$f":"IF(Daten!D40=\"\",\"\",Daten!D40)","v":0},"",{"$f":"IF(Daten!C40=0,\"\",Daten!B40)","v":""},null,null,null,{"$f":"IF(Daten!C40=0,\"\",Daten!C40)","v":""},{"$f":"IF(Daten!C40=0,\"\",\"von \"&Stammdaten!$D$6)","v":""},39]
[{"$f":"IF(Daten!D41=\"\",\"\",Daten!D41)","v":0},"",{"$f":"IF(Daten!C41=0,\"\",Daten!B41)","v":""},null,null,null,{"$f":"IF(Daten!C41=0,\"\",Daten!C41)","v":""},{"$f":"IF(Daten!C41=0,\"\",\"von \"&Stammdaten!$D$6)","v":""},40]
[{"$f":"IF(Daten!D42=\"\",\"\",Daten!D42)","v":0},"",{"$f":"IF(Daten!C42=0,\"\",Daten!B42)","v":""},null,null,null,{"$f":"IF(Daten!C42=0,\"\",Daten!C42)","v":""},{"$f":"IF(Daten!C42=0,\"\",\"von \"&Stammdaten!$D$6)","v":""},41]
[{"$f":"IF(Daten!D43=\"\",\"\",Daten!D43)","v":0},"",{"$f":"IF(Daten!C43=0,\"\",Daten!B43)","v":""},null,null,null,{"$f":"IF(Daten!C43=0,\"\",Daten!C43)","v":""},{"$f":"IF(Daten!C43=0,\"\",\"von \"&Stammdaten!$D$6)","v":""},42]
[{"$f":"IF(Daten!D44=\"\",\"\",Daten!D44)","v":0},"",{"$f":"IF(Daten!C44=0,\"\",Daten!B44)","v":""},null,null,null,{"$f":"IF(Daten!C44=0,\"\",Daten!C44)","v":""},{"$f":"IF(Daten!C44=0,\"\",\"von \"&Stammdaten!$D$6)","v":""},43]
[{"$f":"IF(Daten!D45=\"\",\"\",Daten!D45)","v":0},"",{"$f":"IF(Daten!C45=0,\"\",Daten!B45)","v":""},null,null,null,{"$f":"IF(Daten!C45=0,\"\",Daten!C45)","v":""},{"$f":"IF(Daten!C45=0,\"\",\"von \"&Stammdaten!$D$6)","v":""},44]
[{"$f":"IF(Daten!D46=\"\",\"\",Daten!D46)","v":0},"",{"$f":"IF(Daten!C46=0,\"\",Daten!B46)","v":""},null,null,null,{"$f":"IF(Daten!C46=0,\"\",Daten!C46)","v":""},{"$f":"IF(Daten!C46=0,\"\",\"von \"&Stammdaten!$D$6)","v":""},45]
[{"$f":"IF(Daten!D47=\"\",\"\",Daten!D47)","v":0},"",{"$f":"IF(Daten!C47=0,\"\",Daten!B47)","v":""},null,null,null,{"$f":"IF(Daten!C47=0,\"\",Daten!C47)","v":""},{"$f":"IF(Daten!C47=0,\"\",\"von \"&Stammdaten!$D$6)","v":""},46]
[{"$f":"IF(Daten!D48=\"\",\"\",Daten!D48)","v":0},"",{"$f":"IF(Daten!C48=0,\"\",Daten!B48)","v":""},null,null,null,{"$f":"IF(Daten!C48=0,\"\",Daten!C48)","v":""},{"$f":"IF(Daten!C48=0,\"\",\"von \"&Stammdaten!$D$6)","v":""},47]
[{"$f":"IF(Daten!D49=\"\",\"\",Daten!D49)","v":0},"",{"$f":"IF(Daten!C49=0,\"\",Daten!B49)","v":""},null,null,null,{"$f":"IF(Daten!C49=0,\"\",Daten!C49)","v":""},{"$f":"IF(Daten!C49=0,\"\",\"von \"&Stammdaten!$D$6)","v":""},48]
[{"$f":"IF(Daten!D50=\"\",\"\",Daten!D50)","v":0},"",{"$f":"IF(Daten!C50=0,\"\",Daten!B50)","v":""},null,null,null,{"$f":"IF(Daten!C50=0,\"\",Daten!C50)","v":""},{"$f":"IF(Daten!C50=0,\"\",\"von \"&Stammdaten!$D$6)","v":""},49]
[{"$f":"IF(Daten!D51=\"\",\"\",Daten!D51)","v":0},"",{"$f":"IF(Daten!C51=0,\"\",Daten!B51)","v":""},null,null,null,{"$f":"IF(Daten!C51=0,\"\",Daten!C51)","v":""},{"$f":"IF(Daten!C51=0,\"\",\"von \"&Stammdaten!$D$6)","v":""},50]
[{"$f":"IF(Daten!D52=\"\",\"\",Daten!D52)","v":0},"",{"$f":"IF(Daten!C52=0,\"\",Daten!B52)","v":""},null,null,null,{"$f":"IF(Daten!C52=0,\"\",Daten!C52)","v":""},{"$f":"IF(Daten!C52=0,\"\",\"von \"&Stammdaten!$D$6)","v":""},51]
[{"$f":"IF(Daten!D53=\"\",\"\",Daten!D53)","v":0},"",{"$f":"IF(Daten!C53=0,\"\",Daten!B53)","v":""},null,null,null,{"$f":"IF(Daten!C53=0,\"\",Daten!C53)","v":""},{"$f":"IF(Daten!C53=0,\"\",\"von \"&Stammdaten!$D$6)","v":""},52]
[{"$f":"IF(Daten!D54=\"\",\"\",Daten!D54)","v":0},"",{"$f":"IF(Daten!C54=0,\"\",Daten!B54)","v":""},null,null,null,{"$f":"IF(Daten!C54=0,\"\",Daten!C54)","v":""},{"$f":"IF(Daten!C54=0,\"\",\"von \"&Stammdaten!$D$6)","v":""},53]
[{"$f":"IF(Daten!D55=\"\",\"\",Daten!D55)","v":0},"",{"$f":"IF(Daten!C55=0,\"\",Daten!B55)","v":""},null,null,null,{"$f":"IF(Daten!C55=0,\"\",Daten!C55)","v":""},{"$f":"IF(Daten!C55=0,\"\",\"von \"&Stammdaten!$D$6)","v":""},54]
[{"$f":"IF(Daten!D56=\"\",\"\",Daten!D56)","v":0},"",{"$f":"IF(Daten!C56=0,\"\",Daten!B56)","v":""},null,null,null,{"$f":"IF(Daten!C56=0,\"\",Daten!C56)","v":""},{"$f":"IF(Daten!C56=0,\"\",\"von \"&Stammdaten!$D$6)","v":""},55]
[{"$f":"IF(Daten!D57=\"\",\"\",Daten!D57)","v":0},"",{"$f":"IF(Daten!C57=0,\"\",Daten!B57)","v":""},null,null,null,{"$f":"IF(Daten!C57=0,\"\",Daten!C57)","v":""},{"$f":"IF(Daten!C57=0,\"\",\"von \"&Stammdaten!$D$6)","v":""},56]
[{"$f":"IF(Daten!D58=\"\",\"\",Daten!D58)","v":0},"",{"$f":"IF(Daten!C58=0,\"\",Daten!B58)","v":""},null,null,null,{"$f":"IF(Daten!C58=0,\"\",Daten!C58)","v":""},{"$f":"IF(Daten!C58=0,\"\",\"von \"&Stammdaten!$D$6)","v":""},57]
[{"$f":"IF(Daten!D59=\"\",\"\",Daten!D59)","v":0},"",{"$f":"IF(Daten!C59=0,\"\",Daten!B59)","v":""},null,null,null,{"$f":"IF(Daten!C59=0,\"\",Daten!C59)","v":""},{"$f":"IF(Daten!C59=0,\"\",\"von \"&Stammdaten!$D$6)","v":""},58]
[{"$f":"IF(Daten!D60=\"\",\"\",Daten!D60)","v":0},"",{"$f":"IF(Daten!C60=0,\"\",Daten!B60)","v":""},null,null,null,{"$f":"IF(Daten!C60=0,\"\",Daten!C60)","v":""},{"$f":"IF(Daten!C60=0,\"\",\"von \"&Stammdaten!$D$6)","v":""},59]
[{"$f":"IF(Daten!D61=\"\",\"\",Daten!D61)","v":0},"",{"$f":"IF(Daten!C61=0,\"\",Daten!B61)","v":""},null,null,null,{"$f":"IF(Daten!C61=0,\"\",Daten!C61)","v":""},{"$f":"IF(Daten!C61=0,\"\",\"von \"&Stammdaten!$D$6)","v":""},60]
[{"$f":"IF(Daten!D62=\"\",\"\",Daten!D62)","v":0},"",{"$f":"IF(Daten!C62=0,\"\",Daten!B62)","v":""},null,null,null,{"$f":"IF(Daten!C62=0,\"\",Daten!C62)","v":""},{"$f":"IF(Daten!C62=0,\"\",\"von \"&Stammdaten!$D$6)","v":""},61]
[{"$f":"IF(Daten!D63=\"\",\"\",Daten!D63)","v":0},"",{"$f":"IF(Daten!C63=0,\"\",Daten!B63)","v":""},null,null,null,{"$f":"IF(Daten!C63=0,\"\",Daten!C63)","v":""},{"$f":"IF(Daten!C63=0,\"\",\"von \"&Stammdaten!$D$6)","v":""},62]
[{"$f":"IF(Daten!D64=\"\",\"\",Daten!D64)","v":0},"",{"$f":"IF(Daten!C64=0,\"\",Daten!B64)","v":""},null,null,null,{"$f":"IF(Daten!C64=0,\"\",Daten!C64)","v":""},{"$f":"IF(Daten!C64=0,\"\",\"von \"&Stammdaten!$D$6)","v":""},63]
[{"$f":"IF(Daten!D65=\"\",\"\",Daten!D65)","v":0},"",{"$f":"IF(Daten!C65=0,\"\",Daten!B65)","v":""},null,null,null,{"$f":"IF(Daten!C65=0,\"\",Daten!C65)","v":""},{"$f":"IF(Daten!C65=0,\"\",\"von \"&Stammdaten!$D$6)","v":""},64]
[{"$f":"IF(Daten!D66=\"\",\"\",Daten!D66)","v":0},"",{"$f":"IF(Daten!C66=0,\"\",Daten!B66)","v":""},null,null,null,{"$f":"IF(Daten!C66=0,\"\",Daten!C66)","v":""},{"$f":"IF(Daten!C66=0,\"\",\"von \"&Stammdaten!$D$6)","v":""},65]
[{"$f":"IF(Daten!D67=\"\",\"\",Daten!D67)","v":0},"",{"$f":"IF(Daten!C67=0,\"\",Daten!B67)","v":""},null,null,null,{"$f":"IF(Daten!C67=0,\"\",Daten!C67)","v":""},{"$f":"IF(Daten!C67=0,\"\",\"von \"&Stammdaten!$D$6)","v":""},66]
[{"$f":"IF(Daten!D68=\"\",\"\",Daten!D68)","v":0},"",{"$f":"IF(Daten!C68=0,\"\",Daten!B68)","v":""},null,null,null,{"$f":"IF(Daten!C68=0,\"\",Daten!C68)","v":""},{"$f":"IF(Daten!C68=0,\"\",\"von \"&Stammdaten!$D$6)","v":""},67]
[{"$f":"IF(Daten!D69=\"\",\"\",Daten!D69)","v":0},"",{"$f":"IF(Daten!C69=0,\"\",Daten!B69)","v":""},null,null,null,{"$f":"IF(Daten!C69=0,\"\",Daten!C69)","v":""},{"$f":"IF(Daten!C69=0,\"\",\"von \"&Stammdaten!$D$6)","v":""},68]
[{"$f":"IF(Daten!D70=\"\",\"\",Daten!D70)","v":0},"",{"$f":"IF(Daten!C70=0,\"\",Daten!B70)","v":""},null,null,null,{"$f":"IF(Daten!C70=0,\"\",Daten!C70)","v":""},{"$f":"IF(Daten!C70=0,\"\",\"von \"&Stammdaten!$D$6)","v":""},69]
[{"$f":"IF(Daten!D71=\"\",\"\",Daten!D71)","v":0},"",{"$f":"IF(Daten!C71=0,\"\",Daten!B71)","v":""},null,null,null,{"$f":"IF(Daten!C71=0,\"\",Daten!C71)","v":""},{"$f":"IF(Daten!C71=0,\"\",\"von \"&Stammdaten!$D$6)","v":""},70]
[{"$f":"IF(Daten!D72=\"\",\"\",Daten!D72)","v":0},"",{"$f":"IF(Daten!C72=0,\"\",Daten!B72)","v":""},null,null,null,{"$f":"IF(Daten!C72=0,\"\",Daten!C72)","v":""},{"$f":"IF(Daten!C72=0,\"\",\"von \"&Stammdaten!$D$6)","v":""},71]
[{"$f":"IF(Daten!D73=\"\",\"\",Daten!D73)","v":0},"",{"$f":"IF(Daten!C73=0,\"\",Daten!B73)","v":""},null,null,null,{"$f":"IF(Daten!C73=0,\"\",Daten!C73)","v":""},{"$f":"IF(Daten!C73=0,\"\",\"von \"&Stammdaten!$D$6)","v":""},72]
[{"$f":"IF(Daten!D74=\"\",\"\",Daten!D74)","v":0},"",{"$f":"IF(Daten!C74=0,\"\",Daten!B74)","v":""},null,null,null,{"$f":"IF(Daten!C74=0,\"\",Daten!C74)","v":""},{"$f":"IF(Daten!C74=0,\"\",\"von \"&Stammdaten!$D$6)","v":""},73]
[{"$f":"IF(Daten!D75=\"\",\"\",Daten!D75)","v":0},"",{"$f":"IF(Daten!C75=0,\"\",Daten!B75)","v":""},null,null,null,{"$f":"IF(Daten!C75=0,\"\",Daten!C75)","v":""},{"$f":"IF(Daten!C75=0,\"\",\"von \"&Stammdaten!$D$6)","v":""},74]
[{"$f":"IF(Daten!D76=\"\",\"\",Daten!D76)","v":0},"",{"$f":"IF(Daten!C76=0,\"\",Daten!B76)","v":""},null,null,null,{"$f":"IF(Daten!C76=0,\"\",Daten!C76)","v":""},{"$f":"IF(Daten!C76=0,\"\",\"von \"&Stammdaten!$D$6)","v":""},75]
[{"$f":"IF(Daten!D77=\"\",\"\",Daten!D77)","v":0},"",{"$f":"IF(Daten!C77=0,\"\",Daten!B77)","v":""},null,null,null,{"$f":"IF(Daten!C77=0,\"\",Daten!C77)","v":""},{"$f":"IF(Daten!C77=0,\"\",\"von \"&Stammdaten!$D$6)","v":""},76]
[{"$f":"IF(Daten!D78=\"\",\"\",Daten!D78)","v":0},"",{"$f":"IF(Daten!C78=0,\"\",Daten!B78)","v":""},null,null,null,{"$f":"IF(Daten!C78=0,\"\",Daten!C78)","v":""},{"$f":"IF(Daten!C78=0,\"\",\"von \"&Stammdaten!$D$6)","v":""},77]
[{"$f":"IF(Daten!D79=\"\",\"\",Daten!D79)","v":0},"",{"$f":"IF(Daten!C79=0,\"\",Daten!B79)","v":""},null,null,null,{"$f":"IF(Daten!C79=0,\"\",Daten!C79)","v":""},{"$f":"IF(Daten!C79=0,\"\",\"von \"&Stammdaten!$D$6)","v":""},78]
[{"$f":"IF(Daten!D80=\"\",\"\",Daten!D80)","v":0},"",{"$f":"IF(Daten!C80=0,\"\",Daten!B80)","v":""},null,null,null,{"$f":"IF(Daten!C80=0,\"\",Daten!C80)","v":""},{"$f":"IF(Daten!C80=0,\"\",\"von \"&Stammdaten!$D$6)","v":""},79]
[{"$f":"IF(Daten!D81=\"\",\"\",Daten!D81)","v":0},"",{"$f":"IF(Daten!C81=0,\"\",Daten!B81)","v":""},null,null,null,{"$f":"IF(Daten!C81=0,\"\",Daten!C81)","v":""},{"$f":"IF(Daten!C81=0,\"\",\"von \"&Stammdaten!$D$6)","v":""},80]
[{"$f":"IF(Daten!D82=\"\",\"\",Daten!D82)","v":0},"",{"$f":"IF(Daten!C82=0,\"\",Daten!B82)","v":""},null,null,null,{"$f":"IF(Daten!C82=0,\"\",Daten!C82)","v":""},{"$f":"IF(Daten!C82=0,\"\",\"von \"&Stammdaten!$D$6)","v":""},81]
[{"$f":"IF(Daten!D83=\"\",\"\",Daten!D83)","v":0},"",{"$f":"IF(Daten!C83=0,\"\",Daten!B83)","v":""},null,null,null,{"$f":"IF(Daten!C83=0,\"\",Daten!C83)","v":""},{"$f":"IF(Daten!C83=0,\"\",\"von \"&Stammdaten!$D$6)","v":""},82]
[{"$f":"IF(Daten!D84=\"\",\"\",Daten!D84)","v":0},"",{"$f":"IF(Daten!C84=0,\"\",Daten!B84)","v":""},null,null,null,{"$f":"IF(Daten!C84=0,\"\",Daten!C84)","v":""},{"$f":"IF(Daten!C84=0,\"\",\"von \"&Stammdaten!$D$6)","v":""},83]
[{"$f":"IF(Daten!D85=\"\",\"\",Daten!D85)","v":0},"",{"$f":"IF(Daten!C85=0,\"\",Daten!B85)","v":""},null,null,null,{"$f":"IF(Daten!C85=0,\"\",Daten!C85)","v":""},{"$f":"IF(Daten!C85=0,\"\",\"von \"&Stammdaten!$D$6)","v":""},84]
[{"$f":"IF(Daten!D86=\"\",\"\",Daten!D86)","v":0},"",{"$f":"IF(Daten!C86=0,\"\",Daten!B86)","v":""},null,null,null,{"$f":"IF(Daten!C86=0,\"\",Daten!C86)","v":""},{"$f":"IF(Daten!C86=0,\"\",\"von \"&Stammdaten!$D$6)","v":""},85]
[{"$f":"IF(Daten!D87=\"\",\"\",Daten!D87)","v":0},"",{"$f":"IF(Daten!C87=0,\"\",Daten!B87)","v":""},null,null,null,{"$f":"IF(Daten!C87=0,\"\",Daten!C87)","v":""},{"$f":"IF(Daten!C87=0,\"\",\"von \"&Stammdaten!$D$6)","v":""},86]
[{"$f":"IF(Daten!D88=\"\",\"\",Daten!D88)","v":0},"",{"$f":"IF(Daten!C88=0,\"\",Daten!B88)","v":""},null,null,null,{"$f":"IF(Daten!C88=0,\"\",Daten!C88)","v":""},{"$f":"IF(Daten!C88=0,\"\",\"von \"&Stammdaten!$D$6)","v":""},87]
[{"$f":"IF(Daten!D89=\"\",\"\",Daten!D89)","v":0},"",{"$f":"IF(Daten!C89=0,\"\",Daten!B89)","v":""},null,null,null,{"$f":"IF(Daten!C89=0,\"\",Daten!C89)","v":""},{"$f":"IF(Daten!C89=0,\"\",\"von \"&Stammdaten!$D$6)","v":""},88]
[{"$f":"IF(Daten!D90=\"\",\"\",Daten!D90)","v":0},"",{"$f":"IF(Daten!C90=0,\"\",Daten!B90)","v":""},null,null,null,{"$f":"IF(Daten!C90=0,\"\",Daten!C90)","v":""},{"$f":"IF(Daten!C90=0,\"\",\"von \"&Stammdaten!$D$6)","v":""},89]
[{"$f":"IF(Daten!D91=\"\",\"\",Daten!D91)","v":0},"",{"$f":"IF(Daten!C91=0,\"\",Daten!B91)","v":""},null,null,null,{"$f":"IF(Daten!C91=0,\"\",Daten!C91)","v":""},{"$f":"IF(Daten!C91=0,\"\",\"von \"&Stammdaten!$D$6)","v":""},90]
[{"$f":"IF(Daten!D92=\"\",\"\",Daten!D92)","v":0},"",{"$f":"IF(Daten!C92=0,\"\",Daten!B92)","v":""},null,null,null,{"$f":"IF(Daten!C92=0,\"\",Daten!C92)","v":""},{"$f":"IF(Daten!C92=0,\"\",\"von \"&Stammdaten!$D$6)","v":""},91]
[{"$f":"IF(Daten!D93=\"\",\"\",Daten!D93)","v":0},"",{"$f":"IF(Daten!C93=0,\"\",Daten!B93)","v":""},null,null,null,{"$f":"IF(Daten!C93=0,\"\",Daten!C93)","v":""},{"$f":"IF(Daten!C93=0,\"\",\"von \"&Stammdaten!$D$6)","v":""},92]
[{"$f":"IF(Daten!D94=\"\",\"\",Daten!D94)","v":0},"",{"$f":"IF(Daten!C94=0,\"\",Daten!B94)","v":""},null,null,null,{"$f":"IF(Daten!C94=0,\"\",Daten!C94)","v":""},{"$f":"IF(Daten!C94=0,\"\",\"von \"&Stammdaten!$D$6)","v":""},93]
[{"$f":"IF(Daten!D95=\"\",\"\",Daten!D95)","v":0},"",{"$f":"IF(Daten!C95=0,\"\",Daten!B95)","v":""},null,null,null,{"$f":"IF(Daten!C95=0,\"\",Daten!C95)","v":""},{"$f":"IF(Daten!C95=0,\"\",\"von \"&Stammdaten!$D$6)","v":""},94]
[{"$f":"IF(Daten!D96=\"\",\"\",Daten!D96)","v":0},{"$f":"IF(A112=0,\"\",IF(A112<>A111,1,B111+1))","v":""},{"$f":"IF(Daten!C96=0,\"\",Daten!B96)","v":""},null,null,null,{"$f":"IF(Daten!C96=0,\"\",Daten!C96)","v":""},{"$f":"IF(Daten!C96=0,\"\",\"von \"&Stammdaten!$D$6)","v":""},95]
[{"$f":"IF(Daten!D97=\"\",\"\",Daten!D97)","v":0},"",{"$f":"IF(Daten!C97=0,\"\",Daten!B97)","v":""},null,null,null,{"$f":"IF(Daten!C97=0,\"\",Daten!C97)","v":""},{"$f":"IF(Daten!C97=0,\"\",\"von \"&Stammdaten!$D$6)","v":""},96]
[{"$f":"IF(Daten!D98=\"\",\"\",Daten!D98)","v":0},"",{"$f":"IF(Daten!C98=0,\"\",Daten!B98)","v":""},null,null,null,{"$f":"IF(Daten!C98=0,\"\",Daten!C98)","v":""},{"$f":"IF(Daten!C98=0,\"\",\"von \"&Stammdaten!$D$6)","v":""},97]
[{"$f":"IF(Daten!D99=\"\",\"\",Daten!D99)","v":0},"",{"$f":"IF(Daten!C99=0,\"\",Daten!B99)","v":""},null,null,null,{"$f":"IF(Daten!C99=0,\"\",Daten!C99)","v":""},{"$f":"IF(Daten!C99=0,\"\",\"von \"&Stammdaten!$D$6)","v":""},98]
[{"$f":"IF(Daten!D100=\"\",\"\",Daten!D100)","v":0},"",{"$f":"IF(Daten!C100=0,\"\",Daten!B100)","v":""},null,null,null,{"$f":"IF(Daten!C100=0,\"\",Daten!C100)","v":""},{"$f":"IF(Daten!C100=0,\"\",\"von \"&Stammdaten!$D$6)","v":""},99]
[{"$f":"IF(Daten!D101=\"\",\"\",Daten!D101)","v":0},"",{"$f":"IF(Daten!C101=0,\"\",Daten!B101)","v":""},null,null,null,{"$f":"IF(Daten!C101=0,\"\",Daten!C101)","v":""},{"$f":"IF(Daten!C101=0,\"\",\"von \"&Stammdaten!$D$6)","v":""},100]
[{"$f":"IF(Daten!D102=\"\",\"\",Daten!D102)","v":0},"",{"$f":"IF(Daten!C102=0,\"\",Daten!B102)","v":""},null,null,null,{"$f":"IF(Daten!C102=0,\"\",Daten!C102)","v":""},{"$f":"IF(Daten!C102=0,\"\",\"von \"&Stammdaten!$D$6)","v":""},101]
[{"$f":"IF(Daten!D103=\"\",\"\",Daten!D103)","v":0},"",{"$f":"IF(Daten!C103=0,\"\",Daten!B103)","v":""},null,null,null,{"$f":"IF(Daten!C103=0,\"\",Daten!C103)","v":""},{"$f":"IF(Daten!C103=0,\"\",\"von \"&Stammdaten!$D$6)","v":""},102]
[{"$f":"IF(Daten!D104=\"\",\"\",Daten!D104)","v":0},"",{"$f":"IF(Daten!C104=0,\"\",Daten!B104)","v":""},null,null,null,{"$f":"IF(Daten!C104=0,\"\",Daten!C104)","v":""},{"$f":"IF(Daten!C104=0,\"\",\"von \"&Stammdaten!$D$6)","v":""},103]
[{"$f":"IF(Daten!D105=\"\",\"\",Daten!D105)","v":0},"",{"$f":"IF(Daten!C105=0,\"\",Daten!B105)","v":""},null,null,null,{"$f":"IF(Daten!C105=0,\"\",Daten!C105)","v":""},{"$f":"IF(Daten!C105=0,\"\",\"von \"&Stammdaten!$D$6)","v":""},104]
[{"$f":"IF(Daten!D106=\"\",\"\",Daten!D106)","v":0},"",{"$f":"IF(Daten!C106=0,\"\",Daten!B106)","v":""},null,null,null,{"$f":"IF(Daten!C106=0,\"\",Daten!C106)","v":""},{"$f":"IF(Daten!C106=0,\"\",\"von \"&Stammdaten!$D$6)","v":""},105]
[{"$f":"IF(Daten!D107=\"\",\"\",Daten!D107)","v":0},"",{"$f":"IF(Daten!C107=0,\"\",Daten!B107)","v":""},null,null,null,{"$f":"IF(Daten!C107=0,\"\",Daten!C107)","v":""},{"$f":"IF(Daten!C107=0,\"\",\"von \"&Stammdaten!$D$6)","v":""},106]
[{"$f":"IF(Daten!D108=\"\",\"\",Daten!D108)","v":0},"",{"$f":"IF(Daten!C108=0,\"\",Daten!B108)","v":""},null,null,null,{"$f":"IF(Daten!C108=0,\"\",Daten!C108)","v":""},{"$f":"IF(Daten!C108=0,\"\",\"von \"&Stammdaten!$D$6)","v":""},107]
[{"$f":"IF(Daten!D109=\"\",\"\",Daten!D109)","v":0},"",{"$f":"IF(Daten!C109=0,\"\",Daten!B109)","v":""},null,null,null,{"$f":"IF(Daten!C109=0,\"\",Daten!C109)","v":""},{"$f":"IF(Daten!C109=0,\"\",\"von \"&Stammdaten!$D$6)","v":""},108]
[{"$f":"IF(Daten!D110=\"\",\"\",Daten!D110)","v":0},"",{"$f":"IF(Daten!C110=0,\"\",Daten!B110)","v":""},null,null,null,{"$f":"IF(Daten!C110=0,\"\",Daten!C110)","v":""},{"$f":"IF(Daten!C110=0,\"\",\"von \"&Stammdaten!$D$6)","v":""},109]
[{"$f":"IF(Daten!D111=\"\",\"\",Daten!D111)","v":0},"",{"$f":"IF(Daten!C111=0,\"\",Daten!B111)","v":""},null,null,null,{"$f":"IF(Daten!C111=0,\"\",Daten!C111)","v":""},{"$f":"IF(Daten!C111=0,\"\",\"von \"&Stammdaten!$D$6)","v":""},110]
[{"$f":"IF(Daten!D112=\"\",\"\",Daten!D112)","v":0},"",{"$f":"IF(Daten!C112=0,\"\",Daten!B112)","v":""},null,null,null,{"$f":"IF(Daten!C112=0,\"\",Daten!C112)","v":""},{"$f":"IF(Daten!C112=0,\"\",\"von \"&Stammdaten!$D$6)","v":""},111]
[{"$f":"IF(Daten!D113=\"\",\"\",Daten!D113)","v":0},"",{"$f":"IF(Daten!C113=0,\"\",Daten!B113)","v":""},null,null,null,{"$f":"IF(Daten!C113=0,\"\",Daten!C113)","v":""},{"$f":"IF(Daten!C113=0,\"\",\"von \"&Stammdaten!$D$6)","v":""},112]
[{"$f":"IF(Daten!D114=\"\",\"\",Daten!D114)","v":0},"",{"$f":"IF(Daten!C114=0,\"\",Daten!B114)","v":""},null,null,null,{"$f":"IF(Daten!C114=0,\"\",Daten!C114)","v":""},{"$f":"IF(Daten!C114=0,\"\",\"von \"&Stammdaten!$D$6)","v":""},113]
[{"$f":"IF(Daten!D115=\"\",\"\",Daten!D115)","v":0},"",{"$f":"IF(Daten!C115=0,\"\",Daten!B115)","v":""},null,null,null,{"$f":"IF(Daten!C115=0,\"\",Daten!C115)","v":""},{"$f":"IF(Daten!C115=0,\"\",\"von \"&Stammdaten!$D$6)","v":""},114]
[{"$f":"IF(Daten!D116=\"\",\"\",Daten!D116)","v":0},"",{"$f":"IF(Daten!C116=0,\"\",Daten!B116)","v":""},null,null,null,{"$f":"IF(Daten!C116=0,\"\",Daten!C116)","v":""},{"$f":"IF(Daten!C116=0,\"\",\"von \"&Stammdaten!$D$6)","v":""},115]
[{"$f":"IF(Daten!D117=\"\",\"\",Daten!D117)","v":0},"",{"$f":"IF(Daten!C117=0,\"\",Daten!B117)","v":""},null,null,null,{"$f":"IF(Daten!C117=0,\"\",Daten!C117)","v":""},{"$f":"IF(Daten!C117=0,\"\",\"von \"&Stammdaten!$D$6)","v":""},116]
[{"$f":"IF(Daten!D118=\"\",\"\",Daten!D118)","v":0},"",{"$f":"IF(Daten!C118=0,\"\",Daten!B118)","v":""},null,null,null,{"$f":"IF(Daten!C118=0,\"\",Daten!C118)","v":""},{"$f":"IF(Daten!C118=0,\"\",\"von \"&Stammdaten!$D$6)","v":""},117]
[{"$f":"IF(Daten!D119=\"\",\"\",Daten!D119)","v":0},"",{"$f":"IF(Daten!C119=0,\"\",Daten!B119)","v":""},null,null,null,{"$f":"IF(Daten!C119=0,\"\",Daten!C119)","v":""},{"$f":"IF(Daten!C119=0,\"\",\"von \"&Stammdaten!$D$6)","v":""},118]
[{"$f":"IF(Daten!D120=\"\",\"\",Daten!D120)","v":0},"",{"$f":"IF(Daten!C120=0,\"\",Daten!B120)","v":""},null,null,null,{"$f":"IF(Daten!C120=0,\"\",Daten!C120)","v":""},{"$f":"IF(Daten!C120=0,\"\",\"von \"&Stammdaten!$D$6)","v":""},119]
[{"$f":"IF(Daten!D121=\"\",\"\",Daten!D121)","v":0},"",{"$f":"IF(Daten!C121=0,\"\",Daten!B121)","v":""},null,null,null,{"$f":"IF(Daten!C121=0,\"\",Daten!C121)","v":""},{"$f":"IF(Daten!C121=0,\"\",\"von \"&Stammdaten!$D$6)","v":""},120]
[{"$f":"IF(Daten!D122=\"\",\"\",Daten!D122)","v":0},"",{"$f":"IF(Daten!C122=0,\"\",Daten!B122)","v":""},null,null,null,{"$f":"IF(Daten!C122=0,\"\",Daten!C122)","v":""},{"$f":"IF(Daten!C122=0,\"\",\"von \"&Stammdaten!$D$6)","v":""},121]
[{"$f":"IF(Daten!D123=\"\",\"\",Daten!D123)","v":0},"",{"$f":"IF(Daten!C123=0,\"\",Daten!B123)","v":""},null,null,null,{"$f":"IF(Daten!C123=0,\"\",Daten!C123)","v":""},{"$f":"IF(Daten!C123=0,\"\",\"von \"&Stammdaten!$D$6)","v":""},122]
[{"$f":"IF(Daten!D124=\"\",\"\",Daten!D124)","v":0},"",{"$f":"IF(Daten!C124=0,\"\",Daten!B124)","v":""},null,null,null,{"$f":"IF(Daten!C124=0,\"\",Daten!C124)","v":""},{"$f":"IF(Daten!C124=0,\"\",\"von \"&Stammdaten!$D$6)","v":""},123]
[{"$f":"IF(Daten!D125=\"\",\"\",Daten!D125)","v":0},"",{"$f":"IF(Daten!C125=0,\"\",Daten!B125)","v":""},null,null,null,{"$f":"IF(Daten!C125=0,\"\",Daten!C125)","v":""},{"$f":"IF(Daten!C125=0,\"\",\"von \"&Stammdaten!$D$6)","v":""},124]
[{"$f":"IF(Daten!D126=\"\",\"\",Daten!D126)","v":0},"",{"$f":"IF(Daten!C126=0,\"\",Daten!B126)","v":""},null,null,null,{"$f":"IF(Daten!C126=0,\"\",Daten!C126)","v":""},{"$f":"IF(Daten!C126=0,\"\",\"von \"&Stammdaten!$D$6)","v":""},125]
[{"$f":"IF(Daten!D127=\"\",\"\",Daten!D127)","v":0},"",{"$f":"IF(Daten!C127=0,\"\",Daten!B127)","v":""},null,null,null,{"$f":"IF(Daten!C127=0,\"\",Daten!C127)","v":""},{"$f":"IF(Daten!C127=0,\"\",\"von \"&Stammdaten!$D$6)","v":""},126]
[{"$f":"IF(Daten!D128=\"\",\"\",Daten!D128)","v":0},"",{"$f":"IF(Daten!C128=0,\"\",Daten!B128)","v":""},null,null,null,{"$f":"IF(Daten!C128=0,\"\",Daten!C128)","v":""},{"$f":"IF(Daten!C128=0,\"\",\"von \"&Stammdaten!$D$6)","v":""},127]
[{"$f":"IF(Daten!D129=\"\",\"\",Daten!D129)","v":0},"",{"$f":"IF(Daten!C129=0,\"\",Daten!B129)","v":""},null,null,null,{"$f":"IF(Daten!C129=0,\"\",Daten!C129)","v":""},{"$f":"IF(Daten!C129=0,\"\",\"von \"&Stammdaten!$D$6)","v":""},128]
[{"$f":"IF(Daten!D130=\"\",\"\",Daten!D130)","v":0},"",{"$f":"IF(Daten!C130=0,\"\",Daten!B130)","v":""},null,null,null,{"$f":"IF(Daten!C130=0,\"\",Daten!C130)","v":""},{"$f":"IF(Daten!C130=0,\"\",\"von \"&Stammdaten!$D$6)","v":""},129]
[{"$f":"IF(Daten!D131=\"\",\"\",Daten!D131)","v":0},"",{"$f":"IF(Daten!C131=0,\"\",Daten!B131)","v":""},null,null,null,{"$f":"IF(Daten!C131=0,\"\",Daten!C131)","v":""},{"$f":"IF(Daten!C131=0,\"\",\"von \"&Stammdaten!$D$6)","v":""},130]
[{"$f":"IF(Daten!D132=\"\",\"\",Daten!D132)","v":0},"",{"$f":"IF(Daten!C132=0,\"\",Daten!B132)","v":""},null,null,null,{"$f":"IF(Daten!C132=0,\"\",Daten!C132)","v":""},{"$f":"IF(Daten!C132=0,\"\",\"von \"&Stammdaten!$D$6)","v":""},131]
[{"$f":"IF(Daten!D133=\"\",\"\",Daten!D133)","v":0},"",{"$f":"IF(Daten!C133=0,\"\",Daten!B133)","v":""},null,null,null,{"$f":"IF(Daten!C133=0,\"\",Daten!C133)","v":""},{"$f":"IF(Daten!C133=0,\"\",\"von \"&Stammdaten!$D$6)","v":""},132]
[{"$f":"IF(Daten!D134=\"\",\"\",Daten!D134)","v":0},"",{"$f":"IF(Daten!C134=0,\"\",Daten!B134)","v":""},null,null,null,{"$f":"IF(Daten!C134=0,\"\",Daten!C134)","v":""},{"$f":"IF(Daten!C134=0,\"\",\"von \"&Stammdaten!$D$6)","v":""},133]
[{"$f":"IF(Daten!D135=\"\",\"\",Daten!D135)","v":0},"",{"$f":"IF(Daten!C135=0,\"\",Daten!B135)","v":""},null,null,null,{"$f":"IF(Daten!C135=0,\"\",Daten!C135)","v":""},{"$f":"IF(Daten!C135=0,\"\",\"von \"&Stammdaten!$D$6)","v":""},134]
[{"$f":"IF(Daten!D136=\"\",\"\",Daten!D136)","v":0},"",{"$f":"IF(Daten!C136=0,\"\",Daten!B136)","v":""},null,null,null,{"$f":"IF(Daten!C136=0,\"\",Daten!C136)","v":""},{"$f":"IF(Daten!C136=0,\"\",\"von \"&Stammdaten!$D$6)","v":""},135]
[{"$f":"IF(Daten!D137=\"\",\"\",Daten!D137)","v":0},"",{"$f":"IF(Daten!C137=0,\"\",Daten!B137)","v":""},null,null,null,{"$f":"IF(Daten!C137=0,\"\",Daten!C137)","v":""},{"$f":"IF(Daten!C137=0,\"\",\"von \"&Stammdaten!$D$6)","v":""},136]
[{"$f":"IF(Daten!D138=\"\",\"\",Daten!D138)","v":0},"",{"$f":"IF(Daten!C138=0,\"\",Daten!B138)","v":""},null,null,null,{"$f":"IF(Daten!C138=0,\"\",Daten!C138)","v":""},{"$f":"IF(Daten!C138=0,\"\",\"von \"&Stammdaten!$D$6)","v":""},137]
[{"$f":"IF(Daten!D139=\"\",\"\",Daten!D139)","v":0},"",{"$f":"IF(Daten!C139=0,\"\",Daten!B139)","v":""},null,null,null,{"$f":"IF(Daten!C139=0,\"\",Daten!C139)","v":""},{"$f":"IF(Daten!C139=0,\"\",\"von \"&Stammdaten!$D$6)","v":""},138]
[{"$f":"IF(Daten!D140=\"\",\"\",Daten!D140)","v":0},"",{"$f":"IF(Daten!C140=0,\"\",Daten!B140)","v":""},null,null,null,{"$f":"IF(Daten!C140=0,\"\",Daten!C140)","v":""},{"$f":"IF(Daten!C140=0,\"\",\"von \"&Stammdaten!$D$6)","v":""},139]
[{"$f":"IF(Daten!D141=\"\",\"\",Daten!D141)","v":0},"",{"$f":"IF(Daten!C141=0,\"\",Daten!B141)","v":""},null,null,null,{"$f":"IF(Daten!C141=0,\"\",Daten!C141)","v":""},{"$f":"IF(Daten!C141=0,\"\",\"von \"&Stammdaten!$D$6)","v":""},140]
[{"$f":"IF(Daten!D142=\"\",\"\",Daten!D142)","v":0},"",{"$f":"IF(Daten!C142=0,\"\",Daten!B142)","v":""},null,null,null,{"$f":"IF(Daten!C142=0,\"\",Daten!C142)","v":""},{"$f":"IF(Daten!C142=0,\"\",\"von \"&Stammdaten!$D$6)","v":""},141]
[{"$f":"IF(Daten!D143=\"\",\"\",Daten!D143)","v":0},"",{"$f":"IF(Daten!C143=0,\"\",Daten!B143)","v":""},null,null,null,{"$f":"IF(Daten!C143=0,\"\",Daten!C143)","v":""},{"$f":"IF(Daten!C143=0,\"\",\"von \"&Stammdaten!$D$6)","v":""},142]
[{"$f":"IF(Daten!D144=\"\",\"\",Daten!D144)","v":0},"",{"$f":"IF(Daten!C144=0,\"\",Daten!B144)","v":""},null,null,null,{"$f":"IF(Daten!C144=0,\"\",Daten!C144)","v":""},{"$f":"IF(Daten!C144=0,\"\",\"von \"&Stammdaten!$D$6)","v":""},143]
[{"$f":"IF(Daten!D145=\"\",\"\",Daten!D145)","v":0},"",{"$f":"IF(Daten!C145=0,\"\",Daten!B145)","v":""},null,null,null,{"$f":"IF(Daten!C145=0,\"\",Daten!C145)","v":""},{"$f":"IF(Daten!C145=0,\"\",\"von \"&Stammdaten!$D$6)","v":""},144]
[{"$f":"IF(Daten!D146=\"\",\"\",Daten!D146)","v":0},"",{"$f":"IF(Daten!C146=0,\"\",Daten!B146)","v":""},null,null,null,{"$f":"IF(Daten!C146=0,\"\",Daten!C146)","v":""},{"$f":"IF(Daten!C146=0,\"\",\"von \"&Stammdaten!$D$6)","v":""},145]
[{"$f":"IF(Daten!D147=\"\",\"\",Daten!D147)","v":0},"",{"$f":"IF(Daten!C147=0,\"\",Daten!B147)","v":""},null,null,null,{"$f":"IF(Daten!C147=0,\"\",Daten!C147)","v":""},{"$f":"IF(Daten!C147=0,\"\",\"von \"&Stammdaten!$D$6)","v":""},146]
[{"$f":"IF(Daten!D148=\"\",\"\",Daten!D148)","v":0},"",{"$f":"IF(Daten!C148=0,\"\",Daten!B148)","v":""},null,null,null,{"$f":"IF(Daten!C148=0,\"\",Daten!C148)","v":""},{"$f":"IF(Daten!C148=0,\"\",\"von \"&Stammdaten!$D$6)","v":""},147]
[{"$f":"IF(Daten!D149=\"\",\"\",Daten!D149)","v":0},"",{"$f":"IF(Daten!C149=0,\"\",Daten!B149)","v":""},null,null,null,{"$f":"IF(Daten!C149=0,\"\",Daten!C149)","v":""},{"$f":"IF(Daten!C149=0,\"\",\"von \"&Stammdaten!$D$6)","v":""},148]
[{"$f":"IF(Daten!D150=\"\",\"\",Daten!D150)","v":0},"",{"$f":"IF(Daten!C150=0,\"\",Daten!B150)","v":""},null,null,null,{"$f":"IF(Daten!C150=0,\"\",Daten!C150)","v":""},{"$f":"IF(Daten!C150=0,\"\",\"von \"&Stammdaten!$D$6)","v":""},149]
[{"$f":"IF(Daten!D151=\"\",\"\",Daten!D151)","v":0},"",{"$f":"IF(Daten!C151=0,\"\",Daten!B151)","v":""},null,null,null,{"$f":"IF(Daten!C151=0,\"\",Daten!C151)","v":""},{"$f":"IF(Daten!C151=0,\"\",\"von \"&Stammdaten!$D$6)","v":""},150]

{"sheet":"K1 Urkunde-Platz 1","index":11,"n_rows":39,"n_cols":13,"rows_kept":39,"cut":false,"hidden":false,"merged":[[13,2,16,15],[38,12,40,16],[25,2,25,14],[26,2,26,15],[27,2,27,15],[28,2,28,15],[29,2,29,15],[30,2,30,15],[31,2,31,15],[32,2,32,15],[33,2,33,15],[34,2,34,15],[37,9,37,16]]}
[]
[]
[]
[]
[]
[]
[]
[]
[]
[]
[]
[]
[]
[null,null,{"$f":"IF(Stammdaten!$C$11=\"\",\"\",Stammdaten!$C$11)","v":""}]
[]
[]
[]
[]
[]
[]
[]
[]
[]
[]
[]
[]
[]
[]
[]
[null,null,{"$f":"CONCATENATE(\"Hiermit verleiht der Schützenverein \",Stammdaten!$C$5)","v":"Hiermit verleiht der Schützenverein "}]
[null,null,{"$f":"IF(Daten!$G$2=\"\",\"\",Daten!$G$2)","v":""}]
[null,null,"den 1. Platz in der Field Target Klasse 1"]
[null,null,"mit einer Trefferleistung von"]
[null,null,{"$f":"IF(Daten!$H$2=\"\",\"\",Daten!$H$2)","v":""}]
[null,null,"diese Urkunde"]
[]
[]
[null,null,null,null,null,null,null,null,null,{"$f":"IF(Stammdaten!$C$4=\"\",\"\",CONCATENATE(Stammdaten!$C$5,\", den\",\" \",TEXT(Stammdaten!$C$4,\"TT.MM.JJJJ\")))","v":""}]
[null,null,null,null,null,null,null,null,null,null,null,null,{"$f":"CONCATENATE(Stammdaten!$C$10)","v":""}]

{"sheet":"K1 Urkunde-Platz 2","index":12,"n_rows":39,"n_cols":13,"rows_kept":39,"cut":false,"hidden":false,"merged":[[13,2,16,15],[38,12,40,16],[25,2,25,14],[26,2,26,15],[27,2,27,15],[28,2,28,15],[29,2,29,15],[30,2,30,15],[31,2,31,15],[32,2,32,15],[33,2,33,15],[34,2,34,15],[37,9,37,16]]}
[]
[]
[]
[]
[]
[]
[]
[]
[]
[]
[]
[]
[]
[null,null,{"$f":"IF(Stammdaten!$C$11=\"\",\"\",Stammdaten!$C$11)","v":""}]
[]
[]
[]
[]
[]
[]
[]
[]
[]
[]
[]
[]
[]
[]
[]
[null,null,{"$f":"CONCATENATE(\"Hiermit verleiht der Schützenverein \",Stammdaten!$C$5)","v":"Hiermit verleiht der Schützenverein "}]
[null,null,{"$f":"IF(Daten!$G$3=\"\",\"\",Daten!$G$3)","v":""}]
[null,null,"den 2. Platz in der Field Target Klasse 1"]
[null,null,"mit einer Trefferleistung von"]
[null,null,{"$f":"IF(Daten!$H$3=\"\",\"\",Daten!$H$3)","v":""}]
[null,null,"diese Urkunde"]
[]
[]
[null,null,null,null,null,null,null,null,null,{"$f":"IF(Stammdaten!$C$4=\"\",\"\",CONCATENATE(Stammdaten!$C$5,\", den\",\" \",TEXT(Stammdaten!$C$4,\"TT.MM.JJJJ\")))","v":""}]
[null,null,null,null,null,null,null,null,null,null,null,null,{"$f":"CONCATENATE(Stammdaten!$C$10)","v":""}]

{"sheet":"K1 Urkunde-Platz 3","index":13,"n_rows":39,"n_cols":13,"rows_kept":39,"cut":false,"hidden":false,"merged":[[13,2,16,15],[38,12,40,16],[25,2,25,14],[26,2,26,15],[27,2,27,15],[28,2,28,15],[29,2,29,15],[30,2,30,15],[31,2,31,15],[32,2,32,15],[33,2,33,15],[34,2,34,15],[37,9,37,16]]}
[]
[]
[]
[]
[]
[]
[]
[]
[]
[]
[]
[]
[]
[null,null,{"$f":"IF(Stammdaten!$C$11=\"\",\"\",Stammdaten!$C$11)","v":""}]
[]
[]
[]
[]
[]
[]
[]
[]
[]
[]
[]
[]
[]
[]
[]
[null,null,{"$f":"CONCATENATE(\"Hiermit verleiht der Schützenverein \",Stammdaten!$C$5)","v":"Hiermit verleiht der Schützenverein "}]
[null,null,{"$f":"IF(Daten!$G$4=\"\",\"\",Daten!$G$4)","v":""}]
[null,null,"den 3. Platz in der Field Target Klasse 1"]
[null,null,"mit einer Trefferleistung von"]
[null,null,{"$f":"IF(Daten!$H$4=\"\",\"\",Daten!$H$4)","v":""}]
[null,null,"diese Urkunde"]
[]
[]
[null,null,null,null,null,null,null,null,null,{"$f":"IF(Stammdaten!$C$4=\"\",\"\",CONCATENATE(Stammdaten!$C$5,\", den\",\" \",TEXT(Stammdaten!$C$4,\"TT.MM.JJJJ\")))","v":""}]
[null,null,null,null,null,null,null,null,null,null,null,null,{"$f":"CONCATENATE(Stammdaten!$C$10)","v":""}]

{"sheet":"K2 Urkunde-Platz 1","index":14,"n_rows":39,"n_cols":13,"rows_kept":39,"cut":false,"hidden":false,"merged":[[13,2,16,15],[38,12,40,16],[25,2,25,14],[26,2,26,15],[27,2,27,15],[28,2,28,15],[29,2,29,15],[30,2,30,15],[31,2,31,15],[32,2,32,15],[33,2,33,15],[34,2,34,15],[37,9,37,16]]}
[]
[]
[]
[]
[]
[]
[]
[]
[]
[]
[]
[]
[]
[null,null,{"$f":"IF(Stammdaten!$C$11=\"\",\"\",Stammdaten!$C$11)","v":""}]
[]
[]
[]
[]
[]
[]
[]
[]
[]
[]
[]
[]
[]
[]
[]
[null,null,{"$f":"CONCATENATE(\"Hiermit verleiht der Schützenverein \",Stammdaten!$C$5)","v":"Hiermit verleiht der Schützenverein "}]
[null,null,{"$f":"IF(Daten!$J$2=\"\",\"\",Daten!$J$2)","v":""}]
[null,null,"den 1. Platz in der Field Target Klasse 2"]
[null,null,"mit einer Trefferleistung von"]
[null,null,{"$f":"IF(Daten!$K$2=\"\",\"\",Daten!$K$2)","v":""}]
[null,null,"diese Urkunde"]
[]
[]
[null,null,null,null,null,null,null,null,null,{"$f":"IF(Stammdaten!$C$4=\"\",\"\",CONCATENATE(Stammdaten!$C$5,\", den\",\" \",TEXT(Stammdaten!$C$4,\"TT.MM.JJJJ\")))","v":""}]
[null,null,null,null,null,null,null,null,null,null,null,null,{"$f":"CONCATENATE(Stammdaten!$C$10)","v":""}]

{"sheet":"K2 Urkunde-Platz 2","index":15,"n_rows":39,"n_cols":13,"rows_kept":39,"cut":false,"hidden":false,"merged":[[13,2,16,15],[38,12,40,16],[25,2,25,14],[26,2,26,15],[27,2,27,15],[28,2,28,15],[29,2,29,15],[30,2,30,15],[31,2,31,15],[32,2,32,15],[33,2,33,15],[34,2,34,15],[37,9,37,16]]}
[]
[]
[]
[]
[]
[]
[]
[]
[]
[]
[]
[]
[]
[null,null,{"$f":"IF(Stammdaten!$C$11=\"\",\"\",Stammdaten!$C$11)","v":""}]
[]
[]
[]
[]
[]
[]
[]
[]
[]
[]
[]
[]
[]
[]
[]
[null,null,{"$f":"CONCATENATE(\"Hiermit verleiht der Schützenverein \",Stammdaten!$C$5)","v":"Hiermit verleiht der Schützenverein "}]
[null,null,{"$f":"IF(Daten!$J$3=\"\",\"\",Daten!$J$3)","v":""}]
[null,null,"den 2. Platz in der Field Target Klasse 2"]
[null,null,"mit einer Trefferleistung von"]
[null,null,{"$f":"IF(Daten!$K$3=\"\",\"\",Daten!$K$3)","v":""}]
[null,null,"diese Urkunde"]
[]
[]
[null,null,null,null,null,null,null,null,null,{"$f":"IF(Stammdaten!$C$4=\"\",\"\",CONCATENATE(Stammdaten!$C$5,\", den\",\" \",TEXT(Stammdaten!$C$4,\"TT.MM.JJJJ\")))","v":""}]
[null,null,null,null,null,null,null,null,null,null,null,null,{"$f":"CONCATENATE(Stammdaten!$C$10)","v":""}]

{"sheet":"K2 Urkunde-Platz 3","index":16,"n_rows":39,"n_cols":13,"rows_kept":39,"cut":false,"hidden":false,"merged":[[13,2,16,15],[38,12,40,16],[25,2,25,14],[26,2,26,15],[27,2,27,15],[28,2,28,15],[29,2,29,15],[30,2,30,15],[31,2,31,15],[32,2,32,15],[33,2,33,15],[34,2,34,15],[37,9,37,16]]}
[]
[]
[]
[]
[]
[]
[]
[]
[]
[]
[]
[]
[]
[null,null,{"$f":"IF(Stammdaten!$C$11=\"\",\"\",Stammdaten!$C$11)","v":""}]
[]
[]
[]
[]
[]
[]
[]
[]
[]
[]
[]
[]
[]
[]
[]
[null,null,{"$f":"CONCATENATE(\"Hiermit verleiht der Schützenverein \",Stammdaten!$C$5)","v":"Hiermit verleiht der Schützenverein "}]
[null,null,{"$f":"IF(Daten!$J$4=\"\",\"\",Daten!$J$4)","v":""}]
[null,null,"den 3. Platz in der Field Target Klasse 2"]
[null,null,"mit einer Trefferleistung von"]
[null,null,{"$f":"IF(Daten!$K$4=\"\",\"\",Daten!$K$4)","v":""}]
[null,null,"diese Urkunde"]
[]
[]
[null,null,null,null,null,null,null,null,null,{"$f":"IF(Stammdaten!$C$4=\"\",\"\",CONCATENATE(Stammdaten!$C$5,\", den\",\" \",TEXT(Stammdaten!$C$4,\"TT.MM.JJJJ\")))","v":""}]
[null,null,null,null,null,null,null,null,null,null,null,null,{"$f":"CONCATENATE(Stammdaten!$C$10)","v":""}]

{"sheet":"K3 Urkunde-Platz 1","index":17,"n_rows":39,"n_cols":13,"rows_kept":39,"cut":false,"hidden":false,"merged":[[13,2,16,15],[38,12,40,16],[25,2,25,14],[26,2,26,15],[27,2,27,15],[28,2,28,15],[29,2,29,15],[30,2,30,15],[31,2,31,15],[32,2,32,15],[33,2,33,15],[34,2,34,15],[37,9,37,16]]}
[]
[]
[]
[]
[]
[]
[]
[]
[]
[]
[]
[]
[]
[null,null,{"$f":"IF(Stammdaten!$C$11=\"\",\"\",Stammdaten!$C$11)","v":""}]
[]
[]
[]
[]
[]
[]
[]
[]
[]
[]
[]
[]
[]
[]
[]
[null,null,{"$f":"CONCATENATE(\"Hiermit verleiht der Schützenverein \",Stammdaten!$C$5)","v":"Hiermit verleiht der Schützenverein "}]
[null,null,{"$f":"IF(Daten!$M$2=\"\",\"\",Daten!$M$2)","v":""}]
[null,null,"den 1. Platz in der Field Target Klasse 3"]
[null,null,"mit einer Trefferleistung von"]
[null,null,{"$f":"IF(Daten!$N$2=\"\",\"\",Daten!$N$2)","v":""}]
[null,null,"diese Urkunde"]
[]
[]
[null,null,null,null,null,null,null,null,null,{"$f":"IF(Stammdaten!$C$4=\"\",\"\",CONCATENATE(Stammdaten!$C$5,\", den\",\" \",TEXT(Stammdaten!$C$4,\"TT.MM.JJJJ\")))","v":""}]
[null,null,null,null,null,null,null,null,null,null,null,null,{"$f":"CONCATENATE(Stammdaten!$C$10)","v":""}]

{"sheet":"K3 Urkunde-Platz 2","index":18,"n_rows":39,"n_cols":13,"rows_kept":39,"cut":false,"hidden":false,"merged":[[13,2,16,15],[38,12,40,16],[25,2,25,14],[26,2,26,15],[27,2,27,15],[28,2,28,15],[29,2,29,15],[30,2,30,15],[31,2,31,15],[32,2,32,15],[33,2,33,15],[34,2,34,15],[37,9,37,16]]}
[]
[]
[]
[]
[]
[]
[]
[]
[]
[]
[]
[]
[]
[null,null,{"$f":"IF(Stammdaten!$C$11=\"\",\"\",Stammdaten!$C$11)","v":""}]
[]
[]
[]
[]
[]
[]
[]
[]
[]
[]
[]
[]
[]
[]
[]
[null,null,{"$f":"CONCATENATE(\"Hiermit verleiht der Schützenverein \",Stammdaten!$C$5)","v":"Hiermit verleiht der Schützenverein "}]
[null,null,{"$f":"IF(Daten!$M$3=\"\",\"\",Daten!$M$3)","v":""}]
[null,null,"den 2. Platz in der Field Target Klasse 3"]
[null,null,"mit einer Trefferleistung von"]
[null,null,{"$f":"IF(Daten!$N$3=\"\",\"\",Daten!$N$3)","v":""}]
[null,null,"diese Urkunde"]
[]
[]
[null,null,null,null,null,null,null,null,null,{"$f":"IF(Stammdaten!$C$4=\"\",\"\",CONCATENATE(Stammdaten!$C$5,\", den\",\" \",TEXT(Stammdaten!$C$4,\"TT.MM.JJJJ\")))","v":""}]
[null,null,null,null,null,null,null,null,null,null,null,null,{"$f":"CONCATENATE(Stammdaten!$C$10)","v":""}]

{"sheet":"K3 Urkunde-Platz 3","index":19,"n_rows":39,"n_cols":13,"rows_kept":39,"cut":false,"hidden":false,"merged":[[13,2,16,15],[38,12,40,16],[25,2,25,14],[26,2,26,15],[27,2,27,15],[28,2,28,15],[29,2,29,15],[30,2,30,15],[31,2,31,15],[32,2,32,15],[33,2,33,15],[34,2,34,15],[37,9,37,16]]}
[]
[]
[]
[]
[]
[]
[]
[]
[]
[]
[]
[]
[]
[null,null,{"$f":"IF(Stammdaten!$C$11=\"\",\"\",Stammdaten!$C$11)","v":""}]
[]
[]
[]
[]
[]
[]
[]
[]
[]
[]
[]
[]
[]
[]
[]
[null,null,{"$f":"CONCATENATE(\"Hiermit verleiht der Schützenverein \",Stammdaten!$C$5)","v":"Hiermit verleiht der Schützenverein "}]
[null,null,{"$f":"IF(Daten!$M$4=\"\",\"\",Daten!$M$4)","v":""}]
[null,null,"den 3. Platz in der Field Target Klasse 3"]
[null,null,"mit einer Trefferleistung von"]
[null,null,{"$f":"IF(Daten!$N$4=\"\",\"\",Daten!$N$4)","v":""}]
[null,null,"diese Urkunde"]
[]
[]
[null,null,null,null,null,null,null,null,null,{"$f":"IF(Stammdaten!$C$4=\"\",\"\",CONCATENATE(Stammdaten!$C$5,\", den\",\" \",TEXT(Stammdaten!$C$4,\"TT.MM.JJJJ\")))","v":""}]
[null,null,null,null,null,null,null,null,null,null,null,null,{"$f":"CONCATENATE(Stammdaten!$C$10)","v":""}]

{"sheet":"K4 Urkunde-Platz 1","index":20,"n_rows":39,"n_cols":13,"rows_kept":39,"cut":false,"hidden":false,"merged":[[13,2,16,15],[38,12,40,16],[25,2,25,14],[26,2,26,15],[27,2,27,15],[28,2,28,15],[29,2,29,15],[30,2,30,15],[31,2,31,15],[32,2,32,15],[33,2,33,15],[34,2,34,15],[37,9,37,16]]}
[]
[]
[]
[]
[]
[]
[]
[]
[]
[]
[]
[]
[]
[null,null,{"$f":"IF(Stammdaten!$C$11=\"\",\"\",Stammdaten!$C$11)","v":""}]
[]
[]
[]
[]
[]
[]
[]
[]
[]
[]
[]
[]
[]
[]
[]
[null,null,{"$f":"CONCATENATE(\"Hiermit verleiht der Schützenverein \",Stammdaten!$C$5)","v":"Hiermit verleiht der Schützenverein "}]
[null,null,{"$f":"IF(Daten!$P$2=\"\",\"\",Daten!$P$2)","v":""}]
[null,null,"den 1. Platz in der Field Target Klasse 4"]
[null,null,"mit einer Trefferleistung von"]
[null,null,{"$f":"IF(Daten!$Q$2=\"\",\"\",Daten!$Q$2)","v":""}]
[null,null,"diese Urkunde"]
[]
[]
[null,null,null,null,null,null,null,null,null,{"$f":"IF(Stammdaten!$C$4=\"\",\"\",CONCATENATE(Stammdaten!$C$5,\", den\",\" \",TEXT(Stammdaten!$C$4,\"TT.MM.JJJJ\")))","v":""}]
[null,null,null,null,null,null,null,null,null,null,null,null,{"$f":"CONCATENATE(Stammdaten!$C$10)","v":""}]

{"sheet":"K4 Urkunde-Platz 2","index":21,"n_rows":39,"n_cols":13,"rows_kept":39,"cut":false,"hidden":false,"merged":[[13,2,16,15],[38,12,40,16],[25,2,25,14],[26,2,26,15],[27,2,27,15],[28,2,28,15],[29,2,29,15],[30,2,30,15],[31,2,31,15],[32,2,32,15],[33,2,33,15],[34,2,34,15],[37,9,37,16]]}
[]
[]
[]
[]
[]
[]
[]
[]
[]
[]
[]
[]
[]
[null,null,{"$f":"IF(Stammdaten!$C$11=\"\",\"\",Stammdaten!$C$11)","v":""}]
[]
[]
[]
[]
[]
[]
[]
[]
[]
[]
[]
[]
[]
[]
[]
[null,null,{"$f":"CONCATENATE(\"Hiermit verleiht der Schützenverein \",Stammdaten!$C$5)","v":"Hiermit verleiht der Schützenverein "}]
[null,null,{"$f":"IF(Daten!$P$3=\"\",\"\",Daten!$P$3)","v":""}]
[null,null,"den 2. Platz in der Field Target Klasse 4"]
[null,null,"mit einer Trefferleistung von"]
[null,null,{"$f":"IF(Daten!$Q$3=\"\",\"\",Daten!$Q$3)","v":""}]
[null,null,"diese Urkunde"]
[]
[]
[null,null,null,null,null,null,null,null,null,{"$f":"IF(Stammdaten!$C$4=\"\",\"\",CONCATENATE(Stammdaten!$C$5,\", den\",\" \",TEXT(Stammdaten!$C$4,\"TT.MM.JJJJ\")))","v":""}]
[null,null,null,null,null,null,null,null,null,null,null,null,{"$f":"CONCATENATE(Stammdaten!$C$10)","v":""}]

{"sheet":"K4 Urkunde-Platz 3","index":22,"n_rows":39,"n_cols":13,"rows_kept":39,"cut":false,"hidden":false,"merged":[[13,2,16,15],[38,12,40,16],[25,2,25,14],[26,2,26,15],[27,2,27,15],[28,2,28,15],[29,2,29,15],[30,2,30,15],[31,2,31,15],[32,2,32,15],[33,2,33,15],[34,2,34,15],[37,9,37,16]]}
[]
[]
[]
[]
[]
[]
[]
[]
[]
[]
[]
[]
[]
[null,null,{"$f":"IF(Stammdaten!$C$11=\"\",\"\",Stammdaten!$C$11)","v":""}]
[]
[]
[]
[]
[]
[]
[]
[]
[]
[]
[]
[]
[]
[]
[]
[null,null,{"$f":"CONCATENATE(\"Hiermit verleiht der Schützenverein \",Stammdaten!$C$5)","v":"Hiermit verleiht der Schützenverein "}]
[null,null,{"$f":"IF(Daten!$P$4=\"\",\"\",Daten!$P$4)","v":""}]
[null,null,"den 3. Platz in der Field Target Klasse 4"]
[null,null,"mit einer Trefferleistung von"]
[null,null,{"$f":"IF(Daten!$Q$4=\"\",\"\",Daten!$Q$4)","v":""}]
[null,null,"diese Urkunde"]
[]
[]
[null,null,null,null,null,null,null,null,null,{"$f":"IF(Stammdaten!$C$4=\"\",\"\",CONCATENATE(Stammdaten!$C$5,\", den\",\" \",TEXT(Stammdaten!$C$4,\"TT.MM.JJJJ\")))","v":""}]
[null,null,null,null,null,null,null,null,null,null,null,null,{"$f":"CONCATENATE(Stammdaten!$C$10)","v":""}]

{"sheet":"K5 Urkunde-Platz 1","index":23,"n_rows":39,"n_cols":13,"rows_kept":39,"cut":false,"hidden":false,"merged":[[13,2,16,15],[38,12,40,16],[25,2,25,14],[26,2,26,15],[27,2,27,15],[28,2,28,15],[29,2,29,15],[30,2,30,15],[31,2,31,15],[32,2,32,15],[33,2,33,15],[34,2,34,15],[37,9,37,16]]}
[]
[]
[]
[]
[]
[]
[]
[]
[]
[]
[]
[]
[]
[null,null,{"$f":"IF(Stammdaten!$C$11=\"\",\"\",Stammdaten!$C$11)","v":""}]
[]
[]
[]
[]
[]
[]
[]
[]
[]
[]
[]
[]
[]
[]
[]
[null,null,{"$f":"CONCATENATE(\"Hiermit verleiht der Schützenverein \",Stammdaten!$C$5)","v":"Hiermit verleiht der Schützenverein "}]
[null,null,{"$f":"IF(Daten!$S$2=\"\",\"\",Daten!$S$2)","v":""}]
[null,null,"den 1. Platz in der Field Target Klasse 5"]
[null,null,"mit einer Trefferleistung von"]
[null,null,{"$f":"IF(Daten!$T$2=\"\",\"\",Daten!$T$2)","v":""}]
[null,null,"diese Urkunde"]
[]
[]
[null,null,null,null,null,null,null,null,null,{"$f":"IF(Stammdaten!$C$4=\"\",\"\",CONCATENATE(Stammdaten!$C$5,\", den\",\" \",TEXT(Stammdaten!$C$4,\"TT.MM.JJJJ\")))","v":""}]
[null,null,null,null,null,null,null,null,null,null,null,null,{"$f":"CONCATENATE(Stammdaten!$C$10)","v":""}]

{"sheet":"K5 Urkunde-Platz 2","index":24,"n_rows":39,"n_cols":13,"rows_kept":39,"cut":false,"hidden":false,"merged":[[13,2,16,15],[38,12,40,16],[25,2,25,14],[26,2,26,15],[27,2,27,15],[28,2,28,15],[29,2,29,15],[30,2,30,15],[31,2,31,15],[32,2,32,15],[33,2,33,15],[34,2,34,15],[37,9,37,16]]}
[]
[]
[]
[]
[]
[]
[]
[]
[]
[]
[]
[]
[]
[null,null,{"$f":"IF(Stammdaten!$C$11=\"\",\"\",Stammdaten!$C$11)","v":""}]
[]
[]
[]
[]
[]
[]
[]
[]
[]
[]
[]
[]
[]
[]
[]
[null,null,{"$f":"CONCATENATE(\"Hiermit verleiht der Schützenverein \",Stammdaten!$C$5)","v":"Hiermit verleiht der Schützenverein "}]
[null,null,{"$f":"IF(Daten!$S$3=\"\",\"\",Daten!$S$3)","v":""}]
[null,null,"den 2. Platz in der Field Target Klasse 5"]
[null,null,"mit einer Trefferleistung von"]
[null,null,{"$f":"IF(Daten!$T$3=\"\",\"\",Daten!$T$3)","v":""}]
[null,null,"diese Urkunde"]
[]
[]
[null,null,null,null,null,null,null,null,null,{"$f":"IF(Stammdaten!$C$4=\"\",\"\",CONCATENATE(Stammdaten!$C$5,\", den\",\" \",TEXT(Stammdaten!$C$4,\"TT.MM.JJJJ\")))","v":""}]
[null,null,null,null,null,null,null,null,null,null,null,null,{"$f":"CONCATENATE(Stammdaten!$C$10)","v":""}]

{"sheet":"K5 Urkunde-Platz 3","index":25,"n_rows":39,"n_cols":13,"rows_kept":39,"cut":false,"hidden":false,"merged":[[13,2,16,15],[38,12,40,16],[25,2,25,14],[26,2,26,15],[27,2,27,15],[28,2,28,15],[29,2,29,15],[30,2,30,15],[31,2,31,15],[32,2,32,15],[33,2,33,15],[34,2,34,15],[37,9,37,16]]}
[]
[]
[]
[]
[]
[]
[]
[]
[]
[]
[]
[]
[]
[null,null,{"$f":"IF(Stammdaten!$C$11=\"\",\"\",Stammdaten!$C$11)","v":""}]
[]
[]
[]
[]
[]
[]
[]
[]
[]
[]
[]
[]
[]
[]
[]
[null,null,{"$f":"CONCATENATE(\"Hiermit verleiht der Schützenverein \",Stammdaten!$C$5)","v":"Hiermit verleiht der Schützenverein "}]
[null,null,{"$f":"IF(Daten!$S$4=\"\",\"\",Daten!$S$4)","v":""}]
[null,null,"den 3. Platz in der Field Target Klasse 5"]
[null,null,"mit einer Trefferleistung von"]
[null,null,{"$f":"IF(Daten!$T$4=\"\",\"\",Daten!$T$4)","v":""}]
[null,null,"diese Urkunde"]
[]
[]
[null,null,null,null,null,null,null,null,null,{"$f":"IF(Stammdaten!$C$4=\"\",\"\",CONCATENATE(Stammdaten!$C$5,\", den\",\" \",TEXT(Stammdaten!$C$4,\"TT.MM.JJJJ\")))","v":""}]
[null,null,null,null,null,null,null,null,null,null,null,null,{"$f":"CONCATENATE(Stammdaten!$C$10)","v":""}]

{"sheet":"Turniervorlage (1)","index":26,"n_rows":46,"n_cols":12,"rows_kept":46,"cut":false,"hidden":false,"merged":[[47,6,47,9],[4,8,4,9],[0,0,0,12],[2,0,2,1],[4,0,4,1],[6,0,6,2],[2,8,2,9]]}
["Field-Target Turnier Ergebniserfassung"]
[]
["Name:",null,null,null,null,null,null,null,"Datum:  "]
[]
["Waffe:",null,null,null,null,null,null,null,"Klasse:  "]
[]
[]
[1,1,2,2,3,3,4,4,5,5,null,"Summe"]
[null,null,null,null,null,null,null,null,null,null,null,{"$f":"IF(A9=\"\",\"\",SUM(A9:J9))","v":""}]
[]
[6,6,7,7,8,8,9,9,10,10,null,"Summe"]
[null,null,null,null,null,null,null,null,null,null,null,{"$f":"IF(A12=\"\",\"\",SUM(A12:J12))","v":""}]
[]
[11,11,12,12,13,13,14,14,15,15,null,"Summe"]
[null,null,null,null,null,null,null,null,null,null,null,{"$f":"IF(A15=\"\",\"\",SUM(A15:J15))","v":""}]
[]
[16,16,17,17,18,18,19,19,20,20,null,"Summe"]
[null,null,null,null,null,null,null,null,null,null,null,{"$f":"IF(A18=\"\",\"\",SUM(A18:J18))","v":""}]
[]
[21,21,22,22,23,23,24,24,25,25,null,"Summe"]
[null,null,null,null,null,null,null,null,null,null,null,{"$f":"IF(A21=\"\",\"\",SUM(A21:J21))","v":""}]
[]
[26,26,27,27,28,28,29,29,30,30,null,"Summe"]
[null,null,null,null,null,null,null,null,null,null,null,{"$f":"IF(A24=\"\",\"\",SUM(A24:J24))","v":""}]
[]
[31,31,32,32,33,33,34,34,35,35,null,"Summe"]
[null,null,null,null,null,null,null,null,null,null,null,{"$f":"IF(A27=\"\",\"\",SUM(A27:J27))","v":""}]
[]
[36,36,37,37,38,38,39,39,40,40,null,"Summe"]
[null,null,null,null,null,null,null,null,null,null,null,{"$f":"IF(A30=\"\",\"\",SUM(A30:J30))","v":""}]
[]
[41,41,42,42,43,43,44,44,45,45,null,"Summe"]
[null,null,null,null,null,null,null,null,null,null,null,{"$f":"IF(A33=\"\",\"\",SUM(A33:J33))","v":""}]
[]
[46,46,47,47,48,48,49,49,50,50,null,"Summe"]
[null,null,null,null,null,null,null,null,null,null,null,{"$f":"IF(A36=\"\",\"\",SUM(A36:J36))","v":""}]
[]
[51,51,52,52,53,53,54,54,55,55,null,"Summe"]
[null,null,null,null,null,null,null,null,null,null,null,{"$f":"IF(A39=\"\",\"\",SUM(A39:J39))","v":""}]
[]
[56,56,57,57,58,58,59,59,60,60,null,"Summe"]
[null,null,null,null,null,null,null,null,null,null,null,{"$f":"IF(A42=\"\",\"\",SUM(A42:J42))","v":""}]
[]
["   2 Punkte = Ziel umgeklappt"]
["   1 Punkt = Treffer Silhouette",null,null,null,null,null,null,null,"gesamt Ergebnis:   "]
["   0 Punkte = kein Treffer"]

{"sheet":"Turniervorlage (2)","index":27,"n_rows":48,"n_cols":14,"rows_kept":48,"cut":false,"hidden":false,"merged":[[34,13,43,13],[45,8,46,11],[45,13,46,13],[49,6,49,9],[2,8,2,9],[8,13,17,13],[19,0,19,2],[19,13,20,13],[21,13,30,13],[32,0,32,2],[32,13,33,13],[0,0,0,13],[2,0,2,1],[4,0,4,1],[4,8,4,9],[6,0,6,2],[6,13,7,13]]}
["Field-Target Turnier Ergebniserfassung"]
[]
["Name:",null,null,null,null,null,null,null,"Datum:  "]
[]
["Waffe:",null,null,null,null,null,null,null,"Klasse:  "]
[]
["1. Durchgang",null,null,null,null,null,null,null,null,null,null,null,null,"1. Durchgang\ngesamt Summe"]
[1,1,2,2,3,3,4,4,5,5,null,"Summe"]
[null,null,null,null,null,null,null,null,null,null,null,{"$f":"IF(A9=\"\",\"\",SUM(A9:J9))","v":""},null,{"$f":"IF(A9=\"\",\"\",SUM(L9,L12,L15,L18))","v":""}]
[]
[6,6,7,7,8,8,9,9,10,10,null,"Summe"]
[null,null,null,null,null,null,null,null,null,null,null,{"$f":"IF(A12=\"\",\"\",SUM(A12:J12))","v":""}]
[]
[11,11,12,12,13,13,14,14,15,15,null,"Summe"]
[null,null,null,null,null,null,null,null,null,null,null,{"$f":"IF(A15=\"\",\"\",SUM(A15:J15))","v":""}]
[]
[16,16,17,17,18,18,19,19,20,20,null,"Summe"]
[null,null,null,null,null,null,null,null,null,null,null,{"$f":"IF(A18=\"\",\"\",SUM(A18:J18))","v":""}]
[]
["2. Durchgang",null,null,null,null,null,null,null,null,null,null,null,null,"2. Durchgang\ngesamt Summe"]
[1,1,2,2,3,3,4,4,5,5,null,"Summe"]
[null,null,null,null,null,null,null,null,null,null,null,{"$f":"IF(A22=\"\",\"\",SUM(A22:J22))","v":""},null,{"$f":"IF(A22=\"\",\"\",SUM(L22,L25,L28,L31))","v":""}]
[]
[6,6,7,7,8,8,9,9,10,10,null,"Summe"]
[null,null,null,null,null,null,null,null,null,null,null,{"$f":"IF(A25=\"\",\"\",SUM(A25:J25))","v":""}]
[]
[11,11,12,12,13,13,14,14,15,15,null,"Summe"]
[null,null,null,null,null,null,null,null,null,null,null,{"$f":"IF(A28=\"\",\"\",SUM(A28:J28))","v":""}]
[]
[16,16,17,17,18,18,19,19,20,20,null,"Summe"]
[null,null,null,null,null,null,null,null,null,null,null,{"$f":"IF(A31=\"\",\"\",SUM(A31:J31))","v":""}]
[]
["3. Durchgang",null,null,null,null,null,null,null,null,null,null,null,null,"3. Durchgang\ngesamt Summe"]
[1,1,2,2,3,3,4,4,5,5,null,"Summe"]
[null,null,null,null,null,null,null,null,null,null,null,{"$f":"IF(A35=\"\",\"\",SUM(A35:J35))","v":""},null,{"$f":"IF(A35=\"\",\"\",SUM(L35,L38,L41,L44))","v":""}]
[]
[6,6,7,7,8,8,9,9,10,10,null,"Summe"]
[null,null,null,null,null,null,null,null,null,null,null,{"$f":"IF(A38=\"\",\"\",SUM(A38:J38))","v":""}]
[]
[11,11,12,12,13,13,14,14,15,15,null,"Summe"]
[null,null,null,null,null,null,null,null,null,null,null,{"$f":"IF(A41=\"\",\"\",SUM(A41:J41))","v":""}]
[]
[16,16,17,17,18,18,19,19,20,20,null,"Summe"]
[null,null,null,null,null,null,null,null,null,null,null,{"$f":"IF(A44=\"\",\"\",SUM(A44:J44))","v":""}]
[]
["2 Punkte = Ziel umgeklappt",null,null,null,null,null,null,null,"gesamt Ergebnis:",null,null,null,null,{"$f":"IF(A9=\"\",\"\",SUM(N9,N22,N35))","v":""}]
["1 Punkt = Treffer Silhouette"]
["0 Punkte = kein Treffer"]